Workbook
Name essai: service2014!$O$13:$U$13
Name essai_bis: service2014!$AD$13:$AK$13
Name liste_bateau: service2014!$A$18:$A$31
Name liste_cometoc: service2014!$A$14:$A$60
Name plage: service2014!$C$13:$CQ$16

Sheet service2014
B1: Nom salle
B2: AAA
B3: BBB | D3: Nom | I3: Robert
B4: CCC | D4: Date début | I4: 42019
B5: DDD | D5: Date fin | I5: 42034
B6: EEE | D6: Nom salle | I6: AAA
B7: FFF
D9: JANVIER | AI9: FEVRIER | BK9: MARS | CP9: AVRIL | DT9: MAI | EY9: JUIN | GC9: JUILLET | HH9: AOUT
D10: 42005 | E10: 42006 | F10: 42007 | G10: 42008 | H10: 42009 | I10: 42010 | J10: 42011 | K10: 42012 | L10: 42013 | M10: 42014 | N10: 42015 | O10: 42016 | P10: 42017 | Q10: 42018 | R10: 42019 | S10: 42020 | T10: 42021 | U10: 42022 | V10: 42023 | W10: 42024 | X10: 42025 | Y10: 42026 | Z10: 42027 | AA10: 42028 | AB10: 42029 | AC10: 42030 | AD10: 42031 | AE10: 42032 | AF10: 42033 | AG10: 42034 | AH10: 42035 | AI10: 42036 | AJ10: 42037 | AK10: 42038 | AL10: 42039 | AM10: 42040 | AN10: 42041 | AO10: 42042 | AP10: 42043 | AQ10: 42044 | AR10: 42045 | AS10: 42046 | AT10: 42047 | AU10: 42048 | AV10: 42049 | AW10: 42050 | AX10: 42051 | AY10: 42052 | AZ10: 42053 | BA10: 42054 | BB10: 42055 | BC10: 42056 | BD10: 42057 | BE10: 42058 | BF10: 42059 | BG10: 42060 | BH10: 42061 | BI10: 42062 | BJ10: 42063 | BK10: 42064 | BL10: 42065 | BM10: 42066 | BN10: 42067 | BO10: 42068 | BP10: 42069 | BQ10: 42070 | BR10: 42071 | BS10: 42072 | BT10: 42073 | BU10: 42074 | BV10: 42075 | BW10: 42076 | BX10: 42077 | BY10: 42078 | BZ10: 42079 | CA10: 42080 | CB10: 42081 | CC10: 42082 | CD10: 42083 | CE10: 42084 | CF10: 42085 | CG10: 42086 | CH10: 42087 | CI10: 42088 | CJ10: 42089 | CK10: 42090 | CL10: 42091 | CM10: 42092 | CN10: 42093 | CO10: 42094 | CP10: 42095 | CQ10: 42096 | CR10: 42097 | CS10: 42098 | CT10: 42099 | CU10: 42100 | CV10: 42101 | CW10: 42102 | CX10: 42103 | CY10: 42104 | CZ10: 42105 | DA10: 42106 | DB10: 42107 | DC10: 42108 | DD10: 42109 | DE10: 42110 | DF10: 42111 | DG10: 42112 | DH10: 42113 | DI10: 42114 | DJ10: 42115 | DK10: 42116 | DL10: 42117 | DM10: 42118 | DN10: 42119 | DO10: 42120 | DP10: 42121 | DQ10: 42122 | DR10: 42123 | DS10: 42124 | DT10: 42125 | DU10: 42126 | DV10: 42127 | DW10: 42128 | DX10: 42129 | DY10: 42130 | DZ10: 42131 | EA10: 42132 | EB10: 42133 | EC10: 42134 | ED10: 42135 | EE10: 42136 | EF10: 42137 | EG10: 42138 | EH10: 42139 | EI10: 42140 | EJ10: 42141 | EK10: 42142 | EL10: 42143 | EM10: 42144 | EN10: 42145 | EO10: 42146 | EP10: 42147 | EQ10: 42148 | ER10: 42149 | ES10: 42150 | ET10: 42151 | EU10: 42152 | EV10: 42153 | EW10: 42154 | EX10: 42155 | EY10: 42156 | EZ10: 42157 | FA10: 42158 | FB10: 42159 | FC10: 42160 | FD10: 42161 | FE10: 42162 | FF10: 42163 | FG10: 42164 | FH10: 42165 | FI10: 42166 | FJ10: 42167 | FK10: 42168 | FL10: 42169 | FM10: 42170 | FN10: 42171 | FO10: 42172 | FP10: 42173 | FQ10: 42174 | FR10: 42175 | FS10: 42176 | FT10: 42177 | FU10: 42178 | FV10: 42179 | FW10: 42180 | FX10: 42181 | FY10: 42182 | FZ10: 42183 | GA10: 42184 | GB10: 42185 | GC10: 42186 | GD10: 42187 | GE10: 42188 | GF10: 42189 | GG10: 42190 | GH10: 42191 | GI10: 42192 | GJ10: 42193 | GK10: 42194 | GL10: 42195 | GM10: 42196 | GN10: 42197 | GO10: 42198 | GP10: 42199 | GQ10: 42200 | GR10: 42201 | GS10: 42202 | GT10: 42203 | GU10: 42204 | GV10: 42205 | GW10: 42206 | GX10: 42207 | GY10: 42208 | GZ10: 42209 | HA10: 42210 | HB10: 42211 | HC10: 42212 | HD10: 42213 | HE10: 42214 | HF10: 42215 | HG10: 42216 | HH10: 42217 | HI10: 42218 | HJ10: 42219 | HK10: 42220 | HL10: 42221 | HM10: 42222 | HN10: 42223 | HO10: 42224 | HP10: 42225 | HQ10: 42226 | HR10: 42227 | HS10: 42228 | HT10: 42229 | HU10: 42230 | HV10: 42231 | HW10: 42232 | HX10: 42233 | HY10: 42234 | HZ10: 42235 | IA10: 42236 | IB10: 42237 | IC10: 42238 | ID10: 42239 | IE10: 42240 | IF10: 42241 | IG10: 42242 | IH10: 42243 | II10: 42244 | IJ10: 42245 | IK10: 42246 | IL10: 42247 | IM10: 42248 | IN10: 42249 | IO10: 42250 | IP10: 42251 | IQ10: 42252 | IR10: 42253 | IS10: 42254 | IT10: 42255 | IU10: 42256 | IV10: 42257 | IW10: 42258 | IX10: 42259 | IY10: 42260 | IZ10: 42261 | JA10: 42262 | JB10: 42263 | JC10: 42264 | JD10: 42265 | JE10: 42266 | JF10: 42267 | JG10: 42268 | JH10: 42269 | JI10: 42270 | JJ10: 42271 | JK10: 42272 | JL10: 42273 | JM10: 42274 | JN10: 42275 | JO10: 42276 | JP10: 42277 | JQ10: 42278 | JR10: 42279 | JS10: 42280 | JT10: 42281 | JU10: 42282 | JV10: 42283 | JW10: 42284 | JX10: 42285 | JY10: 42286 | JZ10: 42287 | KA10: 42288 | KB10: 42289 | KC10: 42290 | KD10: 42291 | KE10: 42292 | KF10: 42293 | KG10: 42294 | KH10: 42295 | KI10: 42296 | KJ10: 42297 | KK10: 42298 | KL10: 42299 | KM10: 42300 | KN10: 42301 | KO10: 42302 | KP10: 42303 | KQ10: 42304 | KR10: 42305 | KS10: 42306 | KT10: 42307 | KU10: 42308 | KV10: 42309 | KW10: 42310 | KX10: 42311 | KY10: 42312 | KZ10: 42313 | LA10: 42314 | LB10: 42315 | LC10: 42316 | LD10: 42317 | LE10: 42318 | LF10: 42319 | LG10: 42320 | LH10: 42321 | LI10: 42322 | LJ10: 42323 | LK10: 42324 | LL10: 42325 | LM10: 42326 | LN10: 42327 | LO10: 42328 | LP10: 42329 | LQ10: 42330 | LR10: 42331 | LS10: 42332 | LT10: 42333 | LU10: 42334 | LV10: 42335 | LW10: 42336 | LX10: 42337 | LY10: 42338 | LZ10: 42339 | MA10: 42340 | MB10: 42341 | MC10: 42342 | MD10: 42343 | ME10: 42344 | MF10: 42345 | MG10: 42346 | MH10: 42347 | MI10: 42348 | MJ10: 42349 | MK10: 42350 | ML10: 42351 | MM10: 42352 | MN10: 42353 | MO10: 42354 | MP10: 42355 | MQ10: 42356 | MR10: 42357 | MS10: 42358 | MT10: 42359 | MU10: 42360 | MV10: 42361 | MW10: 42362 | MX10: 42363 | MY10: 42364 | MZ10: 42365 | NA10: 42366 | NB10: 42367 | NC10: 42368 | ND10: 42369
D11: =TEXT(D10,"jj") -> 01 | E11: =TEXT(E10,"jj") -> 02 | F11: =TEXT(F10,"jj") -> 03 | G11: =TEXT(G10,"jj") -> 04 | H11: =TEXT(H10,"jj") -> 05 | I11: =TEXT(I10,"jj") -> 06 | J11: =TEXT(J10,"jj") -> 07 | K11: =TEXT(K10,"jj") -> 08 | ... ND11: =TEXT(ND10,"jj") -> 31
D12: =UPPER((TEXT(D10,"jjj"))) -> JEU | E12: =UPPER((TEXT(E10,"jjj"))) -> VEN | F12: =UPPER((TEXT(F10,"jjj"))) -> SAM | G12: =UPPER((TEXT(G10,"jjj"))) -> DIM | H12: =UPPER((TEXT(H10,"jjj"))) -> LUN | I12: =UPPER((TEXT(I10,"jjj"))) -> MAR | J12: =UPPER((TEXT(J10,"jjj"))) -> MER | K12: =UPPER((TEXT(K10,"jjj"))) -> JEU | ... ND12: =UPPER((TEXT(ND10,"jjj"))) -> JEU
C13: Roger | R13: AAA | S13: AAA | T13: AAA | U13: AAA | V13: AAA | W13: AAA | X13: AAA | Y13: AAA | Z13: AAA | AA13: AAA | AB13: AAA | AC13: AAA | AD13: AAA | AE13: AAA | AF13: AAA | AG13: AAA
A14: O | C14: Robert
A15: S | C15: Thierry
A16: P
A17: MLD
A18: ACT
A19: ALD
A20: AQT
A21: BBP
A22: BKH
A23: CBG
A24: CBT
A25: CDG
A26: CHP
A27: CPCO
... A60: VNS

Sheet recapitulatif_donnees
B1: PERM | C1: OUVRABLE | D1: SERVICE SEMAINE | E1: SERVICE VENDREDI | F1: SERVICE WEEK END | G1: AQUITAINE | H1: NORMANDIE | I1: PROVENCE | J1: TONNERRE | K1: MISTRAL | L1: DIXMUDE | M1: LATOUCHE TREVILLE | N1: PRIMAUGUET | O1: LAMOTTE PICQUET | P1: JEAN DE VIENNE | Q1: MONTCALM | R1: FORBIN | S1: CHEVALIER PAUL | T1: CHARLES DE GAULLE | U1: CASSARD | V1: JEAN BART | W1: COURBET | X1: ACONIT | Y1: SURCOUF | Z1: LAFAYETTE | AA1: GERMINAL | AB1: VENTOSE | AC1: NIVOSE | AD1: FLOREAL | AE1: VENDEMIAIRE | AF1: PRAIRIAL | AG1: VAR | AH1: MARNE | AI1: MEUSE | AJ1: SIROCO | AK1: BEAUTEMPS BEAUPRE | AL1: LAPLACE | AM1: ETOILE | AN1: BELLE POULE | AO1: LANDIVISIAU | AP1: LANVEOC | AQ1: LANN BIHOUE | AR1: HYERES | AS1: CHERBOURG | AT1: BARKHANE | AU1: ALINDIEN | AV1: CPCO | AW1: MONGE | AX1: FDF
A2: MT PENSEC | B2: =COUNTIFS(service2014!$D13:$CO13,"P") -> 0 | C2: =COUNTIFS(service2014!$D13:$CO13,"O") -> 0 | D2: =COUNTIFS(service2014!$D13:$CO13,"S",service2014!$D$12:$CO$12,"LUN")+COUNTIFS(service2014!$D13:$CO13,"S",service2014!$D$12:$CO$12,"MAR")+COUNTIFS(service2014!$D13:$CO13,"S",service2014!$D$12:$CO$12,"MER")+COUNTIFS(service2014!$D13:$CO13,"S",service2014!$D$12:$CO$12,"JEU") -> 0 | E2: =COUNTIFS(service2014!$D13:$CO13,"S",service2014!$D$12:$CO$12,"VEN") -> 0 | F2: =COUNTIFS(service2014!$D13:$CO13,"S",service2014!$D$12:$CO$12,"SAM")+COUNTIFS(service2014!$D13:$CO13,"S",service2014!$D$12:$CO$12,"DIM") -> 0 | G2: =COUNTIFS(service2014!$D13:$CO13,"AQT") -> 0 | H2: =COUNTIFS(service2014!$D13:$CO13,"NMD") -> 0 | I2: =COUNTIFS(service2014!$D13:$CO13,"PVC") -> 0 | J2: =COUNTIFS(service2014!$D13:$CO13,"TNR") -> 0 | K2: =COUNTIFS(service2014!$D13:$CO13,"MTL") -> 0 | L2: =COUNTIFS(service2014!$D13:$CO13,"DXM") -> 0 | M2: =COUNTIFS(service2014!$D13:$CO13,"LTT") -> 0 | N2: =COUNTIFS(service2014!$D13:$CO13,"PMG") -> 0 | O2: =COUNTIFS(service2014!$D13:$CO13,"LMP") -> 0 | P2: =COUNTIFS(service2014!$D13:$CO13,"JDV") -> 0 | Q2: =COUNTIFS(service2014!$D13:$CO13,"MCL") -> 0 | R2: =COUNTIFS(service2014!$D13:$CO13,"FRB") -> 0 | S2: =COUNTIFS(service2014!$D13:$CO13,"CHP") -> 0 | T2: =COUNTIFS(service2014!$D13:$CO13,"CDG") -> 0 | U2: =COUNTIFS(service2014!$D13:$CO13,"CSD") -> 0 | V2: =COUNTIFS(service2014!$D13:$CO13,"JBT") -> 0 | W2: =COUNTIFS(service2014!$D13:$CO13,"CBT") -> 0 | X2: =COUNTIFS(service2014!$D13:$CO13,"ACT") -> 0 | Y2: =COUNTIFS(service2014!$D13:$CO13,"SCF") -> 0 | Z2: =COUNTIFS(service2014!$D13:$CO13,"LFY") -> 0 | AA2: =COUNTIFS(service2014!$D13:$CO13,"GML") -> 0 | AB2: =COUNTIFS(service2014!$D13:$CO13,"VNS") -> 0 | AC2: =COUNTIFS(service2014!$D13:$CO13,"NVS") -> 0 | AD2: =COUNTIFS(service2014!$D13:$CO13,"FLR") -> 0 | AE2: =COUNTIFS(service2014!$D13:$CO13,"VDM") -> 0 | AF2: =COUNTIFS(service2014!$D13:$CO13,"PRL") -> 0 | AG2: =COUNTIFS(service2014!$D13:$CO13,"VAR") -> 0 | AH2: =COUNTIFS(service2014!$D13:$CO13,"MRN") -> 0 | AI2: =COUNTIFS(service2014!$D13:$CO13,"MSE") -> 0 | AJ2: =COUNTIFS(service2014!$D13:$CO13,"SCO") -> 0 | AK2: =COUNTIFS(service2014!$D13:$CO13,"BBP") -> 0 | AL2: =COUNTIFS(service2014!$D13:$CO13,"LPC") -> 0 | AM2: =COUNTIFS(service2014!$D13:$CO13,"ETL") -> 0 | AN2: =COUNTIFS(service2014!$D13:$CO13,"LBP") -> 0 | AO2: =COUNTIFS(service2014!$D13:$CO13,"LDV") -> 0 | AP2: =COUNTIFS(service2014!$D13:$CO13,"LVC") -> 0 | AQ2: =COUNTIFS(service2014!$D13:$CO13,"LBH") -> 0 | AR2: =COUNTIFS(service2014!$D13:$CO13,"HYE") -> 0 | AS2: =COUNTIFS(service2014!$D13:$CO13,"CBG") -> 0 | AT2: =COUNTIFS(service2014!$D13:$CO13,"BKH") -> 0 | AU2: =COUNTIFS(service2014!$D13:$CO13,"ALD") -> 0 | AV2: =COUNTIFS(service2014!$D13:$CO13,"CPCO") -> 0 | AW2: =COUNTIFS(service2014!$D13:$CO13,"MNG") -> 0 | AX2: =COUNTIFS(service2014!$D13:$CO13,"FDF") -> 0
A3: MT ADSUAR | B3: =COUNTIFS(service2014!$D14:$CO14,"P") -> 0 | C3: =COUNTIFS(service2014!$D14:$CO14,"O") -> 0 | D3: =COUNTIFS(service2014!$D14:$CO14,"S",service2014!$D$12:$CO$12,"LUN")+COUNTIFS(service2014!$D14:$CO14,"S",service2014!$D$12:$CO$12,"MAR")+COUNTIFS(service2014!$D14:$CO14,"S",service2014!$D$12:$CO$12,"MER")+COUNTIFS(service2014!$D14:$CO14,"S",service2014!$D$12:$CO$12,"JEU") -> 0 | E3: =COUNTIFS(service2014!$D14:$CO14,"S",service2014!$D$12:$CO$12,"VEN") -> 0 | F3: =COUNTIFS(service2014!$D14:$CO14,"S",service2014!$D$12:$CO$12,"SAM")+COUNTIFS(service2014!$D14:$CO14,"S",service2014!$D$12:$CO$12,"DIM") -> 0 | G3: =COUNTIFS(service2014!$D14:$CO14,"AQT") -> 0 | H3: =COUNTIFS(service2014!$D14:$CO14,"NMD") -> 0 | I3: =COUNTIFS(service2014!$D14:$CO14,"PVC") -> 0 | J3: =COUNTIFS(service2014!$D14:$CO14,"TNR") -> 0 | K3: =COUNTIFS(service2014!$D14:$CO14,"MTL") -> 0 | L3: =COUNTIFS(service2014!$D14:$CO14,"DXM") -> 0 | M3: =COUNTIFS(service2014!$D14:$CO14,"LTT") -> 0 | N3: =COUNTIFS(service2014!$D14:$CO14,"PMG") -> 0 | O3: =COUNTIFS(service2014!$D14:$CO14,"LMP") -> 0 | P3: =COUNTIFS(service2014!$D14:$CO14,"JDV") -> 0 | Q3: =COUNTIFS(service2014!$D14:$CO14,"MCL") -> 0 | R3: =COUNTIFS(service2014!$D14:$CO14,"FRB") -> 0 | S3: =COUNTIFS(service2014!$D14:$CO14,"CHP") -> 0 | T3: =COUNTIFS(service2014!$D14:$CO14,"CDG") -> 0 | U3: =COUNTIFS(service2014!$D14:$CO14,"CSD") -> 0 | V3: =COUNTIFS(service2014!$D14:$CO14,"JBT") -> 0 | W3: =COUNTIFS(service2014!$D14:$CO14,"CBT") -> 0 | X3: =COUNTIFS(service2014!$D14:$CO14,"ACT") -> 0 | Y3: =COUNTIFS(service2014!$D14:$CO14,"SCF") -> 0 | Z3: =COUNTIFS(service2014!$D14:$CO14,"LFY") -> 0 | AA3: =COUNTIFS(service2014!$D14:$CO14,"GML") -> 0 | AB3: =COUNTIFS(service2014!$D14:$CO14,"VNS") -> 0 | AC3: =COUNTIFS(service2014!$D14:$CO14,"NVS") -> 0 | AD3: =COUNTIFS(service2014!$D14:$CO14,"FLR") -> 0 | AE3: =COUNTIFS(service2014!$D14:$CO14,"VDM") -> 0 | AF3: =COUNTIFS(service2014!$D14:$CO14,"PRL") -> 0 | AG3: =COUNTIFS(service2014!$D14:$CO14,"VAR") -> 0 | AH3: =COUNTIFS(service2014!$D14:$CO14,"MRN") -> 0 | AI3: =COUNTIFS(service2014!$D14:$CO14,"MSE") -> 0 | AJ3: =COUNTIFS(service2014!$D14:$CO14,"SCO") -> 0 | AK3: =COUNTIFS(service2014!$D14:$CO14,"BBP") -> 0 | AL3: =COUNTIFS(service2014!$D14:$CO14,"LPC") -> 0 | AM3: =COUNTIFS(service2014!$D14:$CO14,"ETL") -> 0 | AN3: =COUNTIFS(service2014!$D14:$CO14,"LBP") -> 0 | AO3: =COUNTIFS(service2014!$D14:$CO14,"LDV") -> 0 | AP3: =COUNTIFS(service2014!$D14:$CO14,"LVC") -> 0 | AQ3: =COUNTIFS(service2014!$D14:$CO14,"LBH") -> 0 | AR3: =COUNTIFS(service2014!$D14:$CO14,"HYE") -> 0 | AS3: =COUNTIFS(service2014!$D14:$CO14,"CBG") -> 0 | AT3: =COUNTIFS(service2014!$D14:$CO14,"BKH") -> 0 | AU3: =COUNTIFS(service2014!$D14:$CO14,"ALD") -> 0 | AV3: =COUNTIFS(service2014!$D14:$CO14,"CPCO") -> 0 | AW3: =COUNTIFS(service2014!$D14:$CO14,"MNG") -> 0 | AX3: =COUNTIFS(service2014!$D14:$CO14,"FDF") -> 0
A4: MT RABOUILLE | B4: =COUNTIFS(service2014!$D15:$CO15,"P") -> 0 | C4: =COUNTIFS(service2014!$D15:$CO15,"O") -> 0 | D4: =COUNTIFS(service2014!$D15:$CO15,"S",service2014!$D$12:$CO$12,"LUN")+COUNTIFS(service2014!$D15:$CO15,"S",service2014!$D$12:$CO$12,"MAR")+COUNTIFS(service2014!$D15:$CO15,"S",service2014!$D$12:$CO$12,"MER")+COUNTIFS(service2014!$D15:$CO15,"S",service2014!$D$12:$CO$12,"JEU") -> 0 | E4: =COUNTIFS(service2014!$D15:$CO15,"S",service2014!$D$12:$CO$12,"VEN") -> 0 | F4: =COUNTIFS(service2014!$D15:$CO15,"S",service2014!$D$12:$CO$12,"SAM")+COUNTIFS(service2014!$D15:$CO15,"S",service2014!$D$12:$CO$12,"DIM") -> 0 | G4: =COUNTIFS(service2014!$D15:$CO15,"AQT") -> 0 | H4: =COUNTIFS(service2014!$D15:$CO15,"NMD") -> 0 | I4: =COUNTIFS(service2014!$D15:$CO15,"PVC") -> 0 | J4: =COUNTIFS(service2014!$D15:$CO15,"TNR") -> 0 | K4: =COUNTIFS(service2014!$D15:$CO15,"MTL") -> 0 | L4: =COUNTIFS(service2014!$D15:$CO15,"DXM") -> 0 | M4: =COUNTIFS(service2014!$D15:$CO15,"LTT") -> 0 | N4: =COUNTIFS(service2014!$D15:$CO15,"PMG") -> 0 | O4: =COUNTIFS(service2014!$D15:$CO15,"LMP") -> 0 | P4: =COUNTIFS(service2014!$D15:$CO15,"JDV") -> 0 | Q4: =COUNTIFS(service2014!$D15:$CO15,"MCL") -> 0 | R4: =COUNTIFS(service2014!$D15:$CO15,"FRB") -> 0 | S4: =COUNTIFS(service2014!$D15:$CO15,"CHP") -> 0 | T4: =COUNTIFS(service2014!$D15:$CO15,"CDG") -> 0 | U4: =COUNTIFS(service2014!$D15:$CO15,"CSD") -> 0 | V4: =COUNTIFS(service2014!$D15:$CO15,"JBT") -> 0 | W4: =COUNTIFS(service2014!$D15:$CO15,"CBT") -> 0 | X4: =COUNTIFS(service2014!$D15:$CO15,"ACT") -> 0 | Y4: =COUNTIFS(service2014!$D15:$CO15,"SCF") -> 0 | Z4: =COUNTIFS(service2014!$D15:$CO15,"LFY") -> 0 | AA4: =COUNTIFS(service2014!$D15:$CO15,"GML") -> 0 | AB4: =COUNTIFS(service2014!$D15:$CO15,"VNS") -> 0 | AC4: =COUNTIFS(service2014!$D15:$CO15,"NVS") -> 0 | AD4: =COUNTIFS(service2014!$D15:$CO15,"FLR") -> 0 | AE4: =COUNTIFS(service2014!$D15:$CO15,"VDM") -> 0 | AF4: =COUNTIFS(service2014!$D15:$CO15,"PRL") -> 0 | AG4: =COUNTIFS(service2014!$D15:$CO15,"VAR") -> 0 | AH4: =COUNTIFS(service2014!$D15:$CO15,"MRN") -> 0 | AI4: =COUNTIFS(service2014!$D15:$CO15,"MSE") -> 0 | AJ4: =COUNTIFS(service2014!$D15:$CO15,"SCO") -> 0 | AK4: =COUNTIFS(service2014!$D15:$CO15,"BBP") -> 0 | AL4: =COUNTIFS(service2014!$D15:$CO15,"LPC") -> 0 | AM4: =COUNTIFS(service2014!$D15:$CO15,"ETL") -> 0 | AN4: =COUNTIFS(service2014!$D15:$CO15,"LBP") -> 0 | AO4: =COUNTIFS(service2014!$D15:$CO15,"LDV") -> 0 | AP4: =COUNTIFS(service2014!$D15:$CO15,"LVC") -> 0 | AQ4: =COUNTIFS(service2014!$D15:$CO15,"LBH") -> 0 | AR4: =COUNTIFS(service2014!$D15:$CO15,"HYE") -> 0 | AS4: =COUNTIFS(service2014!$D15:$CO15,"CBG") -> 0 | AT4: =COUNTIFS(service2014!$D15:$CO15,"BKH") -> 0 | AU4: =COUNTIFS(service2014!$D15:$CO15,"ALD") -> 0 | AV4: =COUNTIFS(service2014!$D15:$CO15,"CPCO") -> 0 | AW4: =COUNTIFS(service2014!$D15:$CO15,"MNG") -> 0 | AX4: =COUNTIFS(service2014!$D15:$CO15,"FDF") -> 0

Sheet BILAN
B2: BPC | C2: FREMM | D2: FLF | E2: FS | F2: PA | G2: FDA | H2: FAA | I2: PR | J2: TCD | K2: FASM | L2: AUTRE EMB | M2: AERO BRET | N2: AERO TOULON | O2: EM/OPEX | P2: EM/METROPOLE | Q2: EM/FDF | R2: PERMS | S2: OUVRABLE | T2: SERVICE SEMAINE | U2: SERVICE VEN | V2: SERVICE WK
A3: MT PENSEC | B3: =SUM(recapitulatif_donnees!$J2:$L2) -> 0 | C3: =SUM(recapitulatif_donnees!$G2:$I2) -> 0 | D3: =SUM(recapitulatif_donnees!W2:Z2) -> 0 | E3: =SUM(recapitulatif_donnees!AA2:AF2) -> 0 | F3: =recapitulatif_donnees!T2 -> 0 | G3: =SUM(recapitulatif_donnees!R2:S2) -> 0 | H3: =SUM(recapitulatif_donnees!U2:V2) -> 0 | I3: =SUM(recapitulatif_donnees!AG2:AI2) -> 0 | J3: =recapitulatif_donnees!AJ2 -> 0 | K3: =SUM(recapitulatif_donnees!M2:Q2) -> 0 | L3: =SUM(recapitulatif_donnees!AK2:AN2,recapitulatif_donnees!AW2) -> 0 | M3: =SUM(recapitulatif_donnees!AO2:AQ2) -> 0 | N3: =SUM(recapitulatif_donnees!AR2) -> 0 | O3: =SUM(recapitulatif_donnees!AT2:AU2) -> 0 | P3: =SUM(recapitulatif_donnees!AS2,recapitulatif_donnees!AV2) -> 0 | Q3: =recapitulatif_donnees!AX2 -> 0 | R3: =recapitulatif_donnees!B2 -> 0 | S3: =recapitulatif_donnees!C2 -> 0 | T3: =recapitulatif_donnees!D2 -> 0 | U3: =recapitulatif_donnees!E2 -> 0 | V3: =recapitulatif_donnees!F2 -> 0
A4: MT ADSUAR | B4: =SUM(recapitulatif_donnees!$J3:$L3) -> 0 | C4: =SUM(recapitulatif_donnees!$G3:$I3) -> 0 | D4: =SUM(recapitulatif_donnees!W3:Z3) -> 0 | E4: =SUM(recapitulatif_donnees!AA3:AF3) -> 0 | F4: =recapitulatif_donnees!T3 -> 0 | G4: =SUM(recapitulatif_donnees!R3:S3) -> 0 | H4: =SUM(recapitulatif_donnees!U3:V3) -> 0 | I4: =SUM(recapitulatif_donnees!AG3:AI3) -> 0 | J4: =recapitulatif_donnees!AJ3 -> 0 | K4: =SUM(recapitulatif_donnees!M3:Q3) -> 0 | L4: =SUM(recapitulatif_donnees!AK3:AN3,recapitulatif_donnees!AW3) -> 0 | M4: =SUM(recapitulatif_donnees!AO3:AQ3) -> 0 | N4: =SUM(recapitulatif_donnees!AR3) -> 0 | O4: =SUM(recapitulatif_donnees!AT3:AU3) -> 0 | P4: =SUM(recapitulatif_donnees!AS3,recapitulatif_donnees!AV3) -> 0 | Q4: =recapitulatif_donnees!AX3 -> 0 | R4: =recapitulatif_donnees!B3 -> 0 | S4: =recapitulatif_donnees!C3 -> 0 | T4: =recapitulatif_donnees!D3 -> 0 | U4: =recapitulatif_donnees!E3 -> 0 | V4: =recapitulatif_donnees!F3 -> 0
A5: MT RABOUILLE | B5: =SUM(recapitulatif_donnees!$J4:$L4) -> 0 | C5: =SUM(recapitulatif_donnees!$G4:$I4) -> 0 | D5: =SUM(recapitulatif_donnees!W4:Z4) -> 0 | E5: =SUM(recapitulatif_donnees!AA4:AF4) -> 0 | F5: =recapitulatif_donnees!T4 -> 0 | G5: =SUM(recapitulatif_donnees!R4:S4) -> 0 | H5: =SUM(recapitulatif_donnees!U4:V4) -> 0 | I5: =SUM(recapitulatif_donnees!AG4:AI4) -> 0 | J5: =recapitulatif_donnees!AJ4 -> 0 | K5: =SUM(recapitulatif_donnees!M4:Q4) -> 0 | L5: =SUM(recapitulatif_donnees!AK4:AN4,recapitulatif_donnees!AW4) -> 0 | M5: =SUM(recapitulatif_donnees!AO4:AQ4) -> 0 | N5: =SUM(recapitulatif_donnees!AR4) -> 0 | O5: =SUM(recapitulatif_donnees!AT4:AU4) -> 0 | P5: =SUM(recapitulatif_donnees!AS4,recapitulatif_donnees!AV4) -> 0 | Q5: =recapitulatif_donnees!AX4 -> 0 | R5: =recapitulatif_donnees!B4 -> 0 | S5: =recapitulatif_donnees!C4 -> 0 | T5: =recapitulatif_donnees!D4 -> 0 | U5: =recapitulatif_donnees!E4 -> 0 | V5: =recapitulatif_donnees!F4 -> 0
B11: EMB | C11: AERO | D11: OPEX | E11: EM | F11: PERMS | G11: OUVRABLE | H11: SERVICE
A12: MT PENSEC | B12: =SUM(B3:L3) -> 0 | C12: =SUM(M3:N3) -> 0 | D12: =+O3 -> 0 | E12: =SUM(P3:Q3) -> 0 | F12: =+R3 -> 0 | G12: =+S3 -> 0 | H12: =SUM(T3:V3) -> 0
A13: MT ADSUAR | B13: =SUM(B4:L4) -> 0 | C13: =SUM(M4:N4) -> 0 | D13: =+O4 -> 0 | E13: =SUM(P4:Q4) -> 0 | F13: =+R4 -> 0 | G13: =+S4 -> 0 | H13: =SUM(T4:V4) -> 0
A14: MT RABOUILLE | B14: =SUM(B5:L5) -> 0 | C14: =SUM(M5:N5) -> 0 | D14: =+O5 -> 0 | E14: =SUM(P5:Q5) -> 0 | F14: =+R5 -> 0 | G14: =+S5 -> 0 | H14: =SUM(T5:V5) -> 0
