Workbook

Sheet Feuil1
A1: Fournisseur | B1: Montant de la commande | C1: Délai de commande produits stock | D1: Date de commande | E1: Date de livraison théorique | F1: Livraison complète | G1: Délai produits non stockés | H1: Date livraison produits non stockés | I1: Date livraison réelle | J1: Délai tenu | K1: Retard
A2: PROWEAR | C2: =IF($A2="","",VLOOKUP($A2,'Délai de livraison proposé'!$A$2:$C$13,2,FALSE)) -> 3 | D2: 42331 | E2: =IF(D2="","",C2+D2) -> 42334 | F2: NON | G2: =IF($A2="","",IF(F2="oui","",VLOOKUP($A2,'Délai de livraison proposé'!$A$2:$C$13,3,FALSE))) -> 10 | H2: =IF(D2="","",IF(F2="non",G2+D2,"")) -> 42341 | I2: 42342 | J2: =IF(I2="","",IF(I2>E2,"non",IF(I2<=H2,"Oui","Non"))) -> non | K2: =IF(J2="oui","",IF(D2="","",IF(H2="",I2-E2,IF(J2="non",I2-H2,"")))) -> 1
A3: cbi | C3: =IF($A3="","",VLOOKUP($A3,'Délai de livraison proposé'!$A$2:$C$13,2,FALSE)) -> 1 | D3: 29292 | E3: =IF(D3="","",C3+D3) -> 29293 | F3: OUI | G3: =IF($A3="","",IF(F3="oui","",VLOOKUP($A3,'Délai de livraison proposé'!$A$2:$C$13,3,FALSE))) | H3: =IF(D3="","",IF(F3="non",G3+D3,"")) | I3: 29293 | J3: =IF(I3="","",IF(I3>E3,"non",IF(I3<=H3,"Oui","Non"))) -> Oui | K3: =IF(J3="oui","",IF(D3="","",IF(H3="",I3-E3,IF(J3="non",I3-H3,""))))
A4: defissport | C4: =IF($A4="","",VLOOKUP($A4,'Délai de livraison proposé'!$A$2:$C$13,2,FALSE)) -> 8 | D4: 41822 | E4: =IF(D4="","",C4+D4) -> 41830 | F4: OUI | G4: =IF($A4="","",IF(F4="oui","",VLOOKUP($A4,'Délai de livraison proposé'!$A$2:$C$13,3,FALSE))) | H4: =IF(D4="","",IF(F4="non",G4+D4,"")) | J4: =IF(I4="","",IF(I4>E4,"non",IF(I4<=H4,"Oui","Non"))) | K4: =IF(J4="oui","",IF(D4="","",IF(H4="",I4-E4,IF(J4="non",I4-H4,"")))) -> -41830
A5: cyrano2 | C5: =IF($A5="","",VLOOKUP($A5,'Délai de livraison proposé'!$A$2:$C$13,2,FALSE)) -> 2 | E5: =IF(D5="","",C5+D5) | G5: =IF($A5="","",IF(F5="oui","",VLOOKUP($A5,'Délai de livraison proposé'!$A$2:$C$13,3,FALSE))) -> 6 | H5: =IF(D5="","",IF(F5="non",G5+D5,"")) | J5: =IF(I5="","",IF(I5>E5,"non",IF(I5<=H5,"Oui","Non"))) | K5: =IF(J5="oui","",IF(D5="","",IF(H5="",I5-E5,IF(J5="non",I5-H5,""))))
A6: cyrano1 | C6: =IF($A6="","",VLOOKUP($A6,'Délai de livraison proposé'!$A$2:$C$13,2,FALSE)) -> 2 | E6: =IF(D6="","",C6+D6) | G6: =IF($A6="","",IF(F6="oui","",VLOOKUP($A6,'Délai de livraison proposé'!$A$2:$C$13,3,FALSE))) -> 10 | H6: =IF(D6="","",IF(F6="non",G6+D6,"")) | J6: =IF(I6="","",IF(I6>E6,"non",IF(I6<=H6,"Oui","Non"))) | K6: =IF(J6="oui","",IF(D6="","",IF(H6="",I6-E6,IF(J6="non",I6-H6,""))))
C7: =IF($A7="","",VLOOKUP($A7,'Délai de livraison proposé'!$A$2:$C$13,2,FALSE)) | E7: =IF(D7="","",C7+D7) | G7: =IF($A7="","",IF(F7="oui","",VLOOKUP($A7,'Délai de livraison proposé'!$A$2:$C$13,3,FALSE))) | H7: =IF(D7="","",IF(F7="non",G7+D7,"")) | J7: =IF(I7="","",IF(I7>E7,"non",IF(I7<=H7,"Oui","Non"))) | K7: =IF(J7="oui","",IF(D7="","",IF(H7="",I7-E7,IF(J7="non",I7-H7,""))))
C8: =IF($A8="","",VLOOKUP($A8,'Délai de livraison proposé'!$A$2:$C$13,2,FALSE)) | E8: =IF(D8="","",C8+D8) | G8: =IF($A8="","",IF(F8="oui","",VLOOKUP($A8,'Délai de livraison proposé'!$A$2:$C$13,3,FALSE))) | H8: =IF(D8="","",IF(F8="non",G8+D8,"")) | J8: =IF(I8="","",IF(I8>E8,"non",IF(I8<=H8,"Oui","Non"))) | K8: =IF(J8="oui","",IF(D8="","",IF(H8="",I8-E8,IF(J8="non",I8-H8,""))))
C9: =IF($A9="","",VLOOKUP($A9,'Délai de livraison proposé'!$A$2:$C$13,2,FALSE)) | E9: =IF(D9="","",C9+D9) | G9: =IF($A9="","",IF(F9="oui","",VLOOKUP($A9,'Délai de livraison proposé'!$A$2:$C$13,3,FALSE))) | H9: =IF(D9="","",IF(F9="non",G9+D9,"")) | J9: =IF(I9="","",IF(I9>E9,"non",IF(I9<=H9,"Oui","Non"))) | K9: =IF(J9="oui","",IF(D9="","",IF(H9="",I9-E9,IF(J9="non",I9-H9,""))))
C10: =IF($A10="","",VLOOKUP($A10,'Délai de livraison proposé'!$A$2:$C$13,2,FALSE)) | E10: =IF(D10="","",C10+D10) | G10: =IF($A10="","",IF(F10="oui","",VLOOKUP($A10,'Délai de livraison proposé'!$A$2:$C$13,3,FALSE))) | H10: =IF(D10="","",IF(F10="non",G10+D10,"")) | J10: =IF(I10="","",IF(I10>E10,"non",IF(I10<=H10,"Oui","Non"))) | K10: =IF(J10="oui","",IF(D10="","",IF(H10="",I10-E10,IF(J10="non",I10-H10,""))))
C11: =IF($A11="","",VLOOKUP($A11,'Délai de livraison proposé'!$A$2:$C$13,2,FALSE)) | E11: =IF(D11="","",C11+D11) | G11: =IF($A11="","",IF(F11="oui","",VLOOKUP($A11,'Délai de livraison proposé'!$A$2:$C$13,3,FALSE))) | H11: =IF(D11="","",IF(F11="non",G11+D11,"")) | J11: =IF(I11="","",IF(I11>E11,"non",IF(I11<=H11,"Oui","Non"))) | K11: =IF(J11="oui","",IF(D11="","",IF(H11="",I11-E11,IF(J11="non",I11-H11,""))))
C12: =IF($A12="","",VLOOKUP($A12,'Délai de livraison proposé'!$A$2:$C$13,2,FALSE)) | E12: =IF(D12="","",C12+D12) | G12: =IF($A12="","",IF(F12="oui","",VLOOKUP($A12,'Délai de livraison proposé'!$A$2:$C$13,3,FALSE))) | H12: =IF(D12="","",IF(F12="non",G12+D12,"")) | J12: =IF(I12="","",IF(I12>E12,"non",IF(I12<=H12,"Oui","Non"))) | K12: =IF(J12="oui","",IF(D12="","",IF(H12="",I12-E12,IF(J12="non",I12-H12,""))))
C13: =IF($A13="","",VLOOKUP($A13,'Délai de livraison proposé'!$A$2:$C$13,2,FALSE)) | E13: =IF(D13="","",C13+D13) | G13: =IF($A13="","",IF(F13="oui","",VLOOKUP($A13,'Délai de livraison proposé'!$A$2:$C$13,3,FALSE))) | H13: =IF(D13="","",IF(F13="non",G13+D13,"")) | J13: =IF(I13="","",IF(I13>E13,"non",IF(I13<=H13,"Oui","Non"))) | K13: =IF(J13="oui","",IF(D13="","",IF(H13="",I13-E13,IF(J13="non",I13-H13,""))))
C14: =IF($A14="","",VLOOKUP($A14,'Délai de livraison proposé'!$A$2:$C$13,2,FALSE)) | E14: =IF(D14="","",C14+D14) | G14: =IF($A14="","",IF(F14="oui","",VLOOKUP($A14,'Délai de livraison proposé'!$A$2:$C$13,3,FALSE))) | H14: =IF(D14="","",IF(F14="non",G14+D14,"")) | J14: =IF(I14="","",IF(I14>E14,"non",IF(I14<=H14,"Oui","Non"))) | K14: =IF(J14="oui","",IF(D14="","",IF(H14="",I14-E14,IF(J14="non",I14-H14,""))))
C15: =IF($A15="","",VLOOKUP($A15,'Délai de livraison proposé'!$A$2:$C$13,2,FALSE)) | E15: =IF(D15="","",C15+D15) | G15: =IF($A15="","",IF(F15="oui","",VLOOKUP($A15,'Délai de livraison proposé'!$A$2:$C$13,3,FALSE))) | H15: =IF(D15="","",IF(F15="non",G15+D15,"")) | J15: =IF(I15="","",IF(I15>E15,"non",IF(I15<=H15,"Oui","Non"))) | K15: =IF(H15="","",IF(J15="non",DAYS360(H15,I15),""))
C16: =IF($A16="","",VLOOKUP($A16,'Délai de livraison proposé'!$A$2:$C$13,2,FALSE)) | E16: =IF(D16="","",C16+D16) | G16: =IF($A16="","",IF(F16="oui","",VLOOKUP($A16,'Délai de livraison proposé'!$A$2:$C$13,3,FALSE))) | H16: =IF(D16="","",IF(F16="non",G16+D16,"")) | J16: =IF(I16="","",IF(I16>E16,"non",IF(I16<=H16,"Oui","Non"))) | K16: =IF(H16="","",IF(J16="non",DAYS360(H16,I16),""))
C17: =IF($A17="","",VLOOKUP($A17,'Délai de livraison proposé'!$A$2:$C$13,2,FALSE)) | E17: =IF(D17="","",C17+D17) | G17: =IF($A17="","",IF(F17="oui","",VLOOKUP($A17,'Délai de livraison proposé'!$A$2:$C$13,3,FALSE))) | H17: =IF(D17="","",IF(F17="non",G17+D17,"")) | J17: =IF(I17="","",IF(I17>E17,"non",IF(I17<=H17,"Oui","Non"))) | K17: =IF(H17="","",IF(J17="non",DAYS360(H17,I17),""))
C18: =IF($A18="","",VLOOKUP($A18,'Délai de livraison proposé'!$A$2:$C$13,2,FALSE)) | E18: =IF(D18="","",C18+D18) | G18: =IF($A18="","",IF(F18="oui","",VLOOKUP($A18,'Délai de livraison proposé'!$A$2:$C$13,3,FALSE))) | H18: =IF(D18="","",IF(F18="non",G18+D18,"")) | J18: =IF(I18="","",IF(I18>E18,"non",IF(I18<=H18,"Oui","Non"))) | K18: =IF(H18="","",IF(J18="non",DAYS360(H18,I18),""))
C19: =IF($A19="","",VLOOKUP($A19,'Délai de livraison proposé'!$A$2:$C$13,2,FALSE)) | E19: =IF(D19="","",C19+D19) | G19: =IF($A19="","",IF(F19="oui","",VLOOKUP($A19,'Délai de livraison proposé'!$A$2:$C$13,3,FALSE))) | H19: =IF(D19="","",IF(F19="non",G19+D19,"")) | J19: =IF(I19="","",IF(I19>E19,"non",IF(I19<=H19,"Oui","Non"))) | K19: =IF(H19="","",IF(J19="non",DAYS360(H19,I19),""))
C20: =IF($A20="","",VLOOKUP($A20,'Délai de livraison proposé'!$A$2:$C$13,2,FALSE)) | E20: =IF(D20="","",C20+D20) | G20: =IF($A20="","",IF(F20="oui","",VLOOKUP($A20,'Délai de livraison proposé'!$A$2:$C$13,3,FALSE))) | H20: =IF(D20="","",IF(F20="non",G20+D20,"")) | J20: =IF(I20="","",IF(I20>E20,"non",IF(I20<=H20,"Oui","Non"))) | K20: =IF(H20="","",IF(J20="non",DAYS360(H20,I20),""))
C21: =IF($A21="","",VLOOKUP($A21,'Délai de livraison proposé'!$A$2:$C$13,2,FALSE)) | E21: =IF(D21="","",C21+D21) | G21: =IF($A21="","",IF(F21="oui","",VLOOKUP($A21,'Délai de livraison proposé'!$A$2:$C$13,3,FALSE))) | H21: =IF(D21="","",IF(F21="non",G21+D21,"")) | J21: =IF(I21="","",IF(I21>E21,"non",IF(I21<=H21,"Oui","Non"))) | K21: =IF(H21="","",IF(J21="non",DAYS360(H21,I21),""))
C22: =IF($A22="","",VLOOKUP($A22,'Délai de livraison proposé'!$A$2:$C$13,2,FALSE)) | E22: =IF(D22="","",C22+D22) | G22: =IF($A22="","",IF(F22="oui","",VLOOKUP($A22,'Délai de livraison proposé'!$A$2:$C$13,3,FALSE))) | H22: =IF(D22="","",IF(F22="non",G22+D22,"")) | J22: =IF(I22="","",IF(I22>E22,"non",IF(I22<=H22,"Oui","Non"))) | K22: =IF(H22="","",IF(J22="non",DAYS360(H22,I22),""))
C23: =IF($A23="","",VLOOKUP($A23,'Délai de livraison proposé'!$A$2:$C$13,2,FALSE)) | E23: =IF(D23="","",C23+D23) | G23: =IF($A23="","",IF(F23="oui","",VLOOKUP($A23,'Délai de livraison proposé'!$A$2:$C$13,3,FALSE))) | H23: =IF(D23="","",IF(F23="non",G23+D23,"")) | J23: =IF(I23="","",IF(I23>E23,"non",IF(I23<=H23,"Oui","Non"))) | K23: =IF(H23="","",IF(J23="non",DAYS360(H23,I23),""))
C24: =IF($A24="","",VLOOKUP($A24,'Délai de livraison proposé'!$A$2:$C$13,2,FALSE)) | E24: =IF(D24="","",C24+D24) | G24: =IF($A24="","",IF(F24="oui","",VLOOKUP($A24,'Délai de livraison proposé'!$A$2:$C$13,3,FALSE))) | H24: =IF(D24="","",IF(F24="non",G24+D24,"")) | J24: =IF(I24="","",IF(I24>E24,"non",IF(I24<=H24,"Oui","Non"))) | K24: =IF(H24="","",IF(J24="non",DAYS360(H24,I24),""))
C25: =IF($A25="","",VLOOKUP($A25,'Délai de livraison proposé'!$A$2:$C$13,2,FALSE)) | E25: =IF(D25="","",C25+D25) | G25: =IF($A25="","",IF(F25="oui","",VLOOKUP($A25,'Délai de livraison proposé'!$A$2:$C$13,3,FALSE))) | H25: =IF(D25="","",IF(F25="non",G25+D25,"")) | J25: =IF(I25="","",IF(I25>E25,"non",IF(I25<=H25,"Oui","Non"))) | K25: =IF(H25="","",IF(J25="non",DAYS360(H25,I25),""))
C26: =IF($A26="","",VLOOKUP($A26,'Délai de livraison proposé'!$A$2:$C$13,2,FALSE)) | E26: =IF(D26="","",C26+D26) | G26: =IF($A26="","",IF(F26="oui","",VLOOKUP($A26,'Délai de livraison proposé'!$A$2:$C$13,3,FALSE))) | H26: =IF(D26="","",IF(F26="non",G26+D26,"")) | J26: =IF(I26="","",IF(I26>E26,"non",IF(I26<=H26,"Oui","Non"))) | K26: =IF(H26="","",IF(J26="non",DAYS360(H26,I26),""))
... C48: =IF($A48="","",VLOOKUP($A48,'Délai de livraison proposé'!$A$2:$C$13,2,FALSE)) | E48: =IF(D48="","",C48+D48) | G48: =IF($A48="","",IF(F48="oui","",VLOOKUP($A48,'Délai de livraison proposé'!$A$2:$C$13,3,FALSE))) | H48: =IF(D48="","",IF(F48="non",G48+D48,"")) | J48: =IF(I48="","",IF(I48>E48,"non",IF(I48<=H48,"Oui","Non"))) | K48: =IF(H48="","",IF(J48="non",DAYS360(H48,I48),""))

Sheet Délai de livraison proposé
A1: fournisseur | B1: délai livraison produits dispo | C1: délai de livraison porduits non dispo
A2: prowear | B2: 3 | C2: 10
A3: defissport | B3: 8 | C3: 12
A4: ateq | B4: 2 | C4: 15
A5: la victoire | B5: 1 | C5: 3
A6: cyrano1 | B6: 2 | C6: 10
A7: cyrano2 | B7: 2 | C7: 6
A8: filmolux | B8: 3 | C8: 15
A9: zolpan | B9: 2 | C9: 2
A10: aximum | B10: 1 | C10: 3
A11: cbi | B11: 1 | C11: 2
A12: sport France | B12: 3 | C12: 15
A13: defissport2 | B13: 3 | C13: 15

Sheet Feuil3
