Workbook

Sheet vêtement de travail
A1: Fournisseur | B1: Montant de la commande | C1: Délai de commande produits stock | D1: Date de commande | E1: Date de livraison théorique | F1: Livraison complète | G1: Délai produits non stockés | H1: Date livraison produits non stockés | I1: Date livraison réelle | J1: Délai tenu | K1: Retard | L1: Application des pénalités | M1: Service
A2: prowear | B2: 1500 | C2: =IF($A2="","",VLOOKUP($A2,'Délai de livraison proposé'!$A$2:$C$13,2,FALSE)) -> 3 | D2: 41255 | E2: =WORKDAY($D2,$C2,0) -> 41260 | F2: non | G2: =IF($A2="","",IF(F2="oui","",VLOOKUP($A2,'Délai de livraison proposé'!$A$2:$C$13,3,FALSE))) -> 10 | H2: =IF(D2="","",IF(F2="non",WORKDAY($D2,$G2,0),"")) -> 41269 | I2: 41272 | J2: =IF(I2="","",IF(I2>E2,"non",IF(I2<=H2,"Oui","Non"))) -> non | K2: =IF(J2="oui","",IF(D2="","",IF(H2="",I2-E2,IF(J2="non",I2-H2,"")))) -> 3 | L2: =($B2*0.05)*K2 -> 225
B3: 1500 | C3: =IF($A3="","",VLOOKUP($A3,'Délai de livraison proposé'!$A$2:$C$13,2,FALSE)) | G3: =IF($A3="","",IF(F3="oui","",VLOOKUP($A3,'Délai de livraison proposé'!$A$2:$C$13,3,FALSE))) | H3: =IF(D3="","",IF(F3="non",WORKDAY($D3,$G3,0),"")) | J3: =IF(I3="","",IF(I3>E3,"non",IF(I3<=H3,"Oui","Non"))) | K3: =IF(J3="oui","",IF(D3="","",IF(H3="",I3-E3,IF(J3="non",I3-H3,""))))
C4: =IF($A4="","",VLOOKUP($A4,'Délai de livraison proposé'!$A$2:$C$13,2,FALSE)) | G4: =IF($A4="","",IF(F4="oui","",VLOOKUP($A4,'Délai de livraison proposé'!$A$2:$C$13,3,FALSE))) | H4: =IF(D4="","",IF(F4="non",WORKDAY($D4,$G4,0),"")) | J4: =IF(I4="","",IF(I4>E4,"non",IF(I4<=H4,"Oui","Non"))) | K4: =IF(J4="oui","",IF(D4="","",IF(H4="",I4-E4,IF(J4="non",I4-H4,"")))) | L4: =($B4*0.05)*K4 -> #VALUE!
C5: =IF($A5="","",VLOOKUP($A5,'Délai de livraison proposé'!$A$2:$C$13,2,FALSE)) | G5: =IF($A5="","",IF(F5="oui","",VLOOKUP($A5,'Délai de livraison proposé'!$A$2:$C$13,3,FALSE))) | H5: =IF(D5="","",IF(F5="non",WORKDAY($D5,$G5,0),"")) | J5: =IF(I5="","",IF(I5>E5,"non",IF(I5<=H5,"Oui","Non"))) | K5: =IF(J5="oui","",IF(D5="","",IF(H5="",I5-E5,IF(J5="non",I5-H5,"")))) | L5: =($B5*0.05)*K5 -> #VALUE!
C6: =IF($A6="","",VLOOKUP($A6,'Délai de livraison proposé'!$A$2:$C$13,2,FALSE)) | G6: =IF($A6="","",IF(F6="oui","",VLOOKUP($A6,'Délai de livraison proposé'!$A$2:$C$13,3,FALSE))) | H6: =IF(D6="","",IF(F6="non",WORKDAY($D6,$G6,0),"")) | J6: =IF(I6="","",IF(I6>E6,"non",IF(I6<=H6,"Oui","Non"))) | K6: =IF(J6="oui","",IF(D6="","",IF(H6="",I6-E6,IF(J6="non",I6-H6,"")))) | L6: =($B6*0.05)*K6 -> #VALUE!
C7: =IF($A7="","",VLOOKUP($A7,'Délai de livraison proposé'!$A$2:$C$13,2,FALSE)) | G7: =IF($A7="","",IF(F7="oui","",VLOOKUP($A7,'Délai de livraison proposé'!$A$2:$C$13,3,FALSE))) | H7: =IF(D7="","",IF(F7="non",WORKDAY($D7,$G7,0),"")) | J7: =IF(I7="","",IF(I7>E7,"non",IF(I7<=H7,"Oui","Non"))) | K7: =IF(J7="oui","",IF(D7="","",IF(H7="",I7-E7,IF(J7="non",I7-H7,"")))) | L7: =($B7*0.05)*K7 -> #VALUE!
C8: =IF($A8="","",VLOOKUP($A8,'Délai de livraison proposé'!$A$2:$C$13,2,FALSE)) | G8: =IF($A8="","",IF(F8="oui","",VLOOKUP($A8,'Délai de livraison proposé'!$A$2:$C$13,3,FALSE))) | H8: =IF(D8="","",IF(F8="non",WORKDAY($D8,$G8,0),"")) | J8: =IF(I8="","",IF(I8>E8,"non",IF(I8<=H8,"Oui","Non"))) | K8: =IF(J8="oui","",IF(D8="","",IF(H8="",I8-E8,IF(J8="non",I8-H8,"")))) | L8: =($B8*0.05)*K8 -> #VALUE!
C9: =IF($A9="","",VLOOKUP($A9,'Délai de livraison proposé'!$A$2:$C$13,2,FALSE)) | G9: =IF($A9="","",IF(F9="oui","",VLOOKUP($A9,'Délai de livraison proposé'!$A$2:$C$13,3,FALSE))) | H9: =IF(D9="","",IF(F9="non",WORKDAY($D9,$G9,0),"")) | K9: =IF(J9="oui","",IF(D9="","",IF(H9="",I9-E9,IF(J9="non",I9-H9,"")))) | L9: =($B9*0.05)*K9 -> #VALUE!
C10: =IF($A10="","",VLOOKUP($A10,'Délai de livraison proposé'!$A$2:$C$13,2,FALSE)) | G10: =IF($A10="","",IF(F10="oui","",VLOOKUP($A10,'Délai de livraison proposé'!$A$2:$C$13,3,FALSE))) | H10: =IF(D10="","",IF(F10="non",WORKDAY($D10,$G10,0),"")) | J10: =IF(I10="","",IF(I10>E10,"non",IF(I10<=H10,"Oui","Non"))) | K10: =IF(J10="oui","",IF(D10="","",IF(H10="",I10-E10,IF(J10="non",I10-H10,"")))) | L10: =($B10*0.05)*K10 -> #VALUE!
C11: =IF($A11="","",VLOOKUP($A11,'Délai de livraison proposé'!$A$2:$C$13,2,FALSE)) | G11: =IF($A11="","",IF(F11="oui","",VLOOKUP($A11,'Délai de livraison proposé'!$A$2:$C$13,3,FALSE))) | H11: =IF(D11="","",IF(F11="non",WORKDAY($D11,$G11,0),"")) | J11: =IF(I11="","",IF(I11>E11,"non",IF(I11<=H11,"Oui","Non"))) | K11: =IF(J11="oui","",IF(D11="","",IF(H11="",I11-E11,IF(J11="non",I11-H11,"")))) | L11: =($B11*0.05)*K11 -> #VALUE!
C12: =IF($A12="","",VLOOKUP($A12,'Délai de livraison proposé'!$A$2:$C$13,2,FALSE)) | G12: =IF($A12="","",IF(F12="oui","",VLOOKUP($A12,'Délai de livraison proposé'!$A$2:$C$13,3,FALSE))) | H12: =IF(D12="","",IF(F12="non",WORKDAY($D12,$G12,0),"")) | J12: =IF(I12="","",IF(I12>E12,"non",IF(I12<=H12,"Oui","Non"))) | K12: =IF(J12="oui","",IF(D12="","",IF(H12="",I12-E12,IF(J12="non",I12-H12,"")))) | L12: =($B12*0.05)*K12 -> #VALUE!
C13: =IF($A13="","",VLOOKUP($A13,'Délai de livraison proposé'!$A$2:$C$13,2,FALSE)) | G13: =IF($A13="","",IF(F13="oui","",VLOOKUP($A13,'Délai de livraison proposé'!$A$2:$C$13,3,FALSE))) | H13: =IF(D13="","",IF(F13="non",WORKDAY($D13,$G13,0),"")) | J13: =IF(I13="","",IF(I13>E13,"non",IF(I13<=H13,"Oui","Non"))) | K13: =IF(J13="oui","",IF(D13="","",IF(H13="",I13-E13,IF(J13="non",I13-H13,"")))) | L13: =($B13*0.05)*K13 -> #VALUE!
C14: =IF($A14="","",VLOOKUP($A14,'Délai de livraison proposé'!$A$2:$C$13,2,FALSE)) | G14: =IF($A14="","",IF(F14="oui","",VLOOKUP($A14,'Délai de livraison proposé'!$A$2:$C$13,3,FALSE))) | H14: =IF(D14="","",IF(F14="non",WORKDAY($D14,$G14,0),"")) | J14: =IF(I14="","",IF(I14>E14,"non",IF(I14<=H14,"Oui","Non"))) | K14: =IF(J14="oui","",IF(D14="","",IF(H14="",I14-E14,IF(J14="non",I14-H14,"")))) | L14: =($B14*0.05)*K14 -> #VALUE!
C15: =IF($A15="","",VLOOKUP($A15,'Délai de livraison proposé'!$A$2:$C$13,2,FALSE)) | G15: =IF($A15="","",IF(F15="oui","",VLOOKUP($A15,'Délai de livraison proposé'!$A$2:$C$13,3,FALSE))) | H15: =IF(D15="","",IF(F15="non",WORKDAY($D15,$G15,0),"")) | J15: =IF(I15="","",IF(I15>E15,"non",IF(I15<=H15,"Oui","Non"))) | K15: =IF(J15="oui","",IF(D15="","",IF(H15="",I15-E15,IF(J15="non",I15-H15,"")))) | L15: =($B15*0.05)*K15 -> #VALUE!
C16: =IF($A16="","",VLOOKUP($A16,'Délai de livraison proposé'!$A$2:$C$13,2,FALSE)) | G16: =IF($A16="","",IF(F16="oui","",VLOOKUP($A16,'Délai de livraison proposé'!$A$2:$C$13,3,FALSE))) | H16: =IF(D16="","",IF(F16="non",WORKDAY($D16,$G16,0),"")) | J16: =IF(I16="","",IF(I16>E16,"non",IF(I16<=H16,"Oui","Non"))) | K16: =IF(J16="oui","",IF(D16="","",IF(H16="",I16-E16,IF(J16="non",I16-H16,"")))) | L16: =($B16*0.05)*K16 -> #VALUE!
C17: =IF($A17="","",VLOOKUP($A17,'Délai de livraison proposé'!$A$2:$C$13,2,FALSE)) | G17: =IF($A17="","",IF(F17="oui","",VLOOKUP($A17,'Délai de livraison proposé'!$A$2:$C$13,3,FALSE))) | H17: =IF(D17="","",IF(F17="non",WORKDAY($D17,$G17,0),"")) | J17: =IF(I17="","",IF(I17>E17,"non",IF(I17<=H17,"Oui","Non"))) | K17: =IF(J17="oui","",IF(D17="","",IF(H17="",I17-E17,IF(J17="non",I17-H17,"")))) | L17: =($B17*0.05)*K17 -> #VALUE!
C18: =IF($A18="","",VLOOKUP($A18,'Délai de livraison proposé'!$A$2:$C$13,2,FALSE)) | G18: =IF($A18="","",IF(F18="oui","",VLOOKUP($A18,'Délai de livraison proposé'!$A$2:$C$13,3,FALSE))) | H18: =IF(D18="","",IF(F18="non",WORKDAY($D18,$G18,0),"")) | J18: =IF(I18="","",IF(I18>E18,"non",IF(I18<=H18,"Oui","Non"))) | K18: =IF(J18="oui","",IF(D18="","",IF(H18="",I18-E18,IF(J18="non",I18-H18,"")))) | L18: =($B18*0.05)*K18 -> #VALUE!
C19: =IF($A19="","",VLOOKUP($A19,'Délai de livraison proposé'!$A$2:$C$13,2,FALSE)) | G19: =IF($A19="","",IF(F19="oui","",VLOOKUP($A19,'Délai de livraison proposé'!$A$2:$C$13,3,FALSE))) | H19: =IF(D19="","",IF(F19="non",WORKDAY($D19,$G19,0),"")) | J19: =IF(I19="","",IF(I19>E19,"non",IF(I19<=H19,"Oui","Non"))) | K19: =IF(J19="oui","",IF(D19="","",IF(H19="",I19-E19,IF(J19="non",I19-H19,"")))) | L19: =($B19*0.05)*K19 -> #VALUE!
C20: =IF($A20="","",VLOOKUP($A20,'Délai de livraison proposé'!$A$2:$C$13,2,FALSE)) | G20: =IF($A20="","",IF(F20="oui","",VLOOKUP($A20,'Délai de livraison proposé'!$A$2:$C$13,3,FALSE))) | H20: =IF(D20="","",IF(F20="non",WORKDAY($D20,$G20,0),"")) | J20: =IF(I20="","",IF(I20>E20,"non",IF(I20<=H20,"Oui","Non"))) | K20: =IF(J20="oui","",IF(D20="","",IF(H20="",I20-E20,IF(J20="non",I20-H20,"")))) | L20: =($B20*0.05)*K20 -> #VALUE!
C21: =IF($A21="","",VLOOKUP($A21,'Délai de livraison proposé'!$A$2:$C$13,2,FALSE)) | G21: =IF($A21="","",IF(F21="oui","",VLOOKUP($A21,'Délai de livraison proposé'!$A$2:$C$13,3,FALSE))) | H21: =IF(D21="","",IF(F21="non",WORKDAY($D21,$G21,0),"")) | J21: =IF(I21="","",IF(I21>E21,"non",IF(I21<=H21,"Oui","Non"))) | K21: =IF(J21="oui","",IF(D21="","",IF(H21="",I21-E21,IF(J21="non",I21-H21,"")))) | L21: =($B21*0.05)*K21 -> #VALUE!
... C60: =IF($A60="","",VLOOKUP($A60,'Délai de livraison proposé'!$A$2:$C$13,2,FALSE)) | G60: =IF($A60="","",IF(F60="oui","",VLOOKUP($A60,'Délai de livraison proposé'!$A$2:$C$13,3,FALSE))) | H60: =IF(D60="","",IF(F60="non",WORKDAY($D60,$G60,0),"")) | J60: =IF(I60="","",IF(I60>E60,"non",IF(I60<=H60,"Oui","Non"))) | K60: =IF(J60="oui","",IF(D60="","",IF(H60="",I60-E60,IF(J60="non",I60-H60,"")))) | L60: =($B60*0.05)*K60 -> #VALUE!

Sheet Délai de livraison proposé
A1: marché | B1: délai livraison produits dispo | C1: délai de livraison porduits non dispo
A2: prowear | B2: 3 | C2: 10
A3: defissport | B3: 8 | C3: 12
A4: ateq | B4: 2 | C4: 15
A5: la victoire | B5: 1 | C5: 3
A6: cyrano | B6: 2 | C6: 10
A7: cyrano2 | B7: 2 | C7: 6
A8: filmolux | B8: 3 | C8: 15
A9: zolpan | B9: 2 | C9: 2
A10: aximum | B10: 1 | C10: 3
A11: cbi | B11: 1 | C11: 2
A12: sport France | B12: 3 | C12: 15
A13: defissport2 | B13: 3 | C13: 15

Sheet fournitures administratives
A1: Fournisseur | B1: Montant de la commande | C1: Délai de commande produits stock | D1: Date de commande | E1: Date de livraison théorique | F1: Livraison complète | G1: Délai produits non stockés | H1: Date livraison produits non stockés | I1: Date livraison réelle | J1: Délai tenu | K1: Retard | L1: Application des pénalités | M1: Service
C2: =IF($A2="","",VLOOKUP($A2,'Délai de livraison proposé'!$A$2:$C$13,2,FALSE)) | E2: =WORKDAY($D2,$C2,0) -> #VALUE! | G2: =IF($A2="","",IF(F2="oui","",VLOOKUP($A2,'Délai de livraison proposé'!$A$2:$C$13,3,FALSE))) | H2: =IF(D2="","",IF(F2="non",WORKDAY($D2,$G2,0),"")) | J2: =IF(I2="","",IF(I2>E2,"non",IF(I2<=H2,"Oui","Non"))) | K2: =IF(J2="oui","",IF(D2="","",IF(H2="",I2-E2,IF(J2="non",I2-H2,"")))) | L2: =100*K2 -> #VALUE!
C3: =IF($A3="","",VLOOKUP($A3,'Délai de livraison proposé'!$A$2:$C$13,2,FALSE)) | E3: =WORKDAY($D3,$C3,0) -> #VALUE! | G3: =IF($A3="","",IF(F3="oui","",VLOOKUP($A3,'Délai de livraison proposé'!$A$2:$C$13,3,FALSE))) | H3: =IF(D3="","",IF(F3="non",WORKDAY($D3,$G3,0),"")) | J3: =IF(I3="","",IF(I3>E3,"non",IF(I3<=H3,"Oui","Non"))) | K3: =IF(J3="oui","",IF(D3="","",IF(H3="",I3-E3,IF(J3="non",I3-H3,""))))
C4: =IF($A4="","",VLOOKUP($A4,'Délai de livraison proposé'!$A$2:$C$13,2,FALSE)) | E4: =WORKDAY($D4,$C4,0) -> #VALUE! | G4: =IF($A4="","",IF(F4="oui","",VLOOKUP($A4,'Délai de livraison proposé'!$A$2:$C$13,3,FALSE))) | H4: =IF(D4="","",IF(F4="non",WORKDAY($D4,$G4,0),"")) | J4: =IF(I4="","",IF(I4>E4,"non",IF(I4<=H4,"Oui","Non"))) | K4: =IF(J4="oui","",IF(D4="","",IF(H4="",I4-E4,IF(J4="non",I4-H4,""))))
C5: =IF($A5="","",VLOOKUP($A5,'Délai de livraison proposé'!$A$2:$C$13,2,FALSE)) | E5: =WORKDAY($D5,$C5,0) -> #VALUE! | G5: =IF($A5="","",IF(F5="oui","",VLOOKUP($A5,'Délai de livraison proposé'!$A$2:$C$13,3,FALSE))) | H5: =IF(D5="","",IF(F5="non",WORKDAY($D5,$G5,0),"")) | J5: =IF(I5="","",IF(I5>E5,"non",IF(I5<=H5,"Oui","Non"))) | K5: =IF(J5="oui","",IF(D5="","",IF(H5="",I5-E5,IF(J5="non",I5-H5,""))))
C6: =IF($A6="","",VLOOKUP($A6,'Délai de livraison proposé'!$A$2:$C$13,2,FALSE)) | E6: =WORKDAY($D6,$C6,0) -> #VALUE! | G6: =IF($A6="","",IF(F6="oui","",VLOOKUP($A6,'Délai de livraison proposé'!$A$2:$C$13,3,FALSE))) | H6: =IF(D6="","",IF(F6="non",WORKDAY($D6,$G6,0),"")) | J6: =IF(I6="","",IF(I6>E6,"non",IF(I6<=H6,"Oui","Non"))) | K6: =IF(J6="oui","",IF(D6="","",IF(H6="",I6-E6,IF(J6="non",I6-H6,""))))
C7: =IF($A7="","",VLOOKUP($A7,'Délai de livraison proposé'!$A$2:$C$13,2,FALSE)) | E7: =WORKDAY($D7,$C7,0) -> #VALUE! | G7: =IF($A7="","",IF(F7="oui","",VLOOKUP($A7,'Délai de livraison proposé'!$A$2:$C$13,3,FALSE))) | H7: =IF(D7="","",IF(F7="non",WORKDAY($D7,$G7,0),"")) | J7: =IF(I7="","",IF(I7>E7,"non",IF(I7<=H7,"Oui","Non"))) | K7: =IF(J7="oui","",IF(D7="","",IF(H7="",I7-E7,IF(J7="non",I7-H7,""))))
C8: =IF($A8="","",VLOOKUP($A8,'Délai de livraison proposé'!$A$2:$C$13,2,FALSE)) | E8: =WORKDAY($D8,$C8,0) -> #VALUE! | G8: =IF($A8="","",IF(F8="oui","",VLOOKUP($A8,'Délai de livraison proposé'!$A$2:$C$13,3,FALSE))) | H8: =IF(D8="","",IF(F8="non",WORKDAY($D8,$G8,0),"")) | J8: =IF(I8="","",IF(I8>E8,"non",IF(I8<=H8,"Oui","Non"))) | K8: =IF(J8="oui","",IF(D8="","",IF(H8="",I8-E8,IF(J8="non",I8-H8,""))))
C9: =IF($A9="","",VLOOKUP($A9,'Délai de livraison proposé'!$A$2:$C$13,2,FALSE)) | E9: =WORKDAY($D9,$C9,0) -> #VALUE! | G9: =IF($A9="","",IF(F9="oui","",VLOOKUP($A9,'Délai de livraison proposé'!$A$2:$C$13,3,FALSE))) | H9: =IF(D9="","",IF(F9="non",WORKDAY($D9,$G9,0),"")) | K9: =IF(J9="oui","",IF(D9="","",IF(H9="",I9-E9,IF(J9="non",I9-H9,""))))
C10: =IF($A10="","",VLOOKUP($A10,'Délai de livraison proposé'!$A$2:$C$13,2,FALSE)) | E10: =WORKDAY($D10,$C10,0) -> #VALUE! | G10: =IF($A10="","",IF(F10="oui","",VLOOKUP($A10,'Délai de livraison proposé'!$A$2:$C$13,3,FALSE))) | H10: =IF(D10="","",IF(F10="non",WORKDAY($D10,$G10,0),"")) | J10: =IF(I10="","",IF(I10>E10,"non",IF(I10<=H10,"Oui","Non"))) | K10: =IF(J10="oui","",IF(D10="","",IF(H10="",I10-E10,IF(J10="non",I10-H10,""))))
C11: =IF($A11="","",VLOOKUP($A11,'Délai de livraison proposé'!$A$2:$C$13,2,FALSE)) | E11: =WORKDAY($D11,$C11,0) -> #VALUE! | G11: =IF($A11="","",IF(F11="oui","",VLOOKUP($A11,'Délai de livraison proposé'!$A$2:$C$13,3,FALSE))) | H11: =IF(D11="","",IF(F11="non",WORKDAY($D11,$G11,0),"")) | J11: =IF(I11="","",IF(I11>E11,"non",IF(I11<=H11,"Oui","Non"))) | K11: =IF(J11="oui","",IF(D11="","",IF(H11="",I11-E11,IF(J11="non",I11-H11,""))))
C12: =IF($A12="","",VLOOKUP($A12,'Délai de livraison proposé'!$A$2:$C$13,2,FALSE)) | E12: =WORKDAY($D12,$C12,0) -> #VALUE! | G12: =IF($A12="","",IF(F12="oui","",VLOOKUP($A12,'Délai de livraison proposé'!$A$2:$C$13,3,FALSE))) | H12: =IF(D12="","",IF(F12="non",WORKDAY($D12,$G12,0),"")) | J12: =IF(I12="","",IF(I12>E12,"non",IF(I12<=H12,"Oui","Non"))) | K12: =IF(J12="oui","",IF(D12="","",IF(H12="",I12-E12,IF(J12="non",I12-H12,""))))
C13: =IF($A13="","",VLOOKUP($A13,'Délai de livraison proposé'!$A$2:$C$13,2,FALSE)) | E13: =WORKDAY($D13,$C13,0) -> #VALUE! | G13: =IF($A13="","",IF(F13="oui","",VLOOKUP($A13,'Délai de livraison proposé'!$A$2:$C$13,3,FALSE))) | H13: =IF(D13="","",IF(F13="non",WORKDAY($D13,$G13,0),"")) | J13: =IF(I13="","",IF(I13>E13,"non",IF(I13<=H13,"Oui","Non"))) | K13: =IF(J13="oui","",IF(D13="","",IF(H13="",I13-E13,IF(J13="non",I13-H13,""))))
C14: =IF($A14="","",VLOOKUP($A14,'Délai de livraison proposé'!$A$2:$C$13,2,FALSE)) | E14: =WORKDAY($D14,$C14,0) -> #VALUE! | G14: =IF($A14="","",IF(F14="oui","",VLOOKUP($A14,'Délai de livraison proposé'!$A$2:$C$13,3,FALSE))) | H14: =IF(D14="","",IF(F14="non",WORKDAY($D14,$G14,0),"")) | J14: =IF(I14="","",IF(I14>E14,"non",IF(I14<=H14,"Oui","Non"))) | K14: =IF(J14="oui","",IF(D14="","",IF(H14="",I14-E14,IF(J14="non",I14-H14,""))))
C15: =IF($A15="","",VLOOKUP($A15,'Délai de livraison proposé'!$A$2:$C$13,2,FALSE)) | E15: =WORKDAY($D15,$C15,0) -> #VALUE! | G15: =IF($A15="","",IF(F15="oui","",VLOOKUP($A15,'Délai de livraison proposé'!$A$2:$C$13,3,FALSE))) | H15: =IF(D15="","",IF(F15="non",WORKDAY($D15,$G15,0),"")) | J15: =IF(I15="","",IF(I15>E15,"non",IF(I15<=H15,"Oui","Non"))) | K15: =IF(J15="oui","",IF(D15="","",IF(H15="",I15-E15,IF(J15="non",I15-H15,""))))
C16: =IF($A16="","",VLOOKUP($A16,'Délai de livraison proposé'!$A$2:$C$13,2,FALSE)) | E16: =WORKDAY($D16,$C16,0) -> #VALUE! | G16: =IF($A16="","",IF(F16="oui","",VLOOKUP($A16,'Délai de livraison proposé'!$A$2:$C$13,3,FALSE))) | H16: =IF(D16="","",IF(F16="non",WORKDAY($D16,$G16,0),"")) | J16: =IF(I16="","",IF(I16>E16,"non",IF(I16<=H16,"Oui","Non"))) | K16: =IF(J16="oui","",IF(D16="","",IF(H16="",I16-E16,IF(J16="non",I16-H16,""))))
C17: =IF($A17="","",VLOOKUP($A17,'Délai de livraison proposé'!$A$2:$C$13,2,FALSE)) | E17: =WORKDAY($D17,$C17,0) -> #VALUE! | G17: =IF($A17="","",IF(F17="oui","",VLOOKUP($A17,'Délai de livraison proposé'!$A$2:$C$13,3,FALSE))) | H17: =IF(D17="","",IF(F17="non",WORKDAY($D17,$G17,0),"")) | J17: =IF(I17="","",IF(I17>E17,"non",IF(I17<=H17,"Oui","Non"))) | K17: =IF(J17="oui","",IF(D17="","",IF(H17="",I17-E17,IF(J17="non",I17-H17,""))))
C18: =IF($A18="","",VLOOKUP($A18,'Délai de livraison proposé'!$A$2:$C$13,2,FALSE)) | E18: =WORKDAY($D18,$C18,0) -> #VALUE! | G18: =IF($A18="","",IF(F18="oui","",VLOOKUP($A18,'Délai de livraison proposé'!$A$2:$C$13,3,FALSE))) | H18: =IF(D18="","",IF(F18="non",WORKDAY($D18,$G18,0),"")) | J18: =IF(I18="","",IF(I18>E18,"non",IF(I18<=H18,"Oui","Non"))) | K18: =IF(J18="oui","",IF(D18="","",IF(H18="",I18-E18,IF(J18="non",I18-H18,""))))
C19: =IF($A19="","",VLOOKUP($A19,'Délai de livraison proposé'!$A$2:$C$13,2,FALSE)) | E19: =WORKDAY($D19,$C19,0) -> #VALUE! | G19: =IF($A19="","",IF(F19="oui","",VLOOKUP($A19,'Délai de livraison proposé'!$A$2:$C$13,3,FALSE))) | H19: =IF(D19="","",IF(F19="non",WORKDAY($D19,$G19,0),"")) | J19: =IF(I19="","",IF(I19>E19,"non",IF(I19<=H19,"Oui","Non"))) | K19: =IF(J19="oui","",IF(D19="","",IF(H19="",I19-E19,IF(J19="non",I19-H19,""))))
C20: =IF($A20="","",VLOOKUP($A20,'Délai de livraison proposé'!$A$2:$C$13,2,FALSE)) | E20: =WORKDAY($D20,$C20,0) -> #VALUE! | G20: =IF($A20="","",IF(F20="oui","",VLOOKUP($A20,'Délai de livraison proposé'!$A$2:$C$13,3,FALSE))) | H20: =IF(D20="","",IF(F20="non",WORKDAY($D20,$G20,0),"")) | J20: =IF(I20="","",IF(I20>E20,"non",IF(I20<=H20,"Oui","Non"))) | K20: =IF(J20="oui","",IF(D20="","",IF(H20="",I20-E20,IF(J20="non",I20-H20,""))))
C21: =IF($A21="","",VLOOKUP($A21,'Délai de livraison proposé'!$A$2:$C$13,2,FALSE)) | E21: =WORKDAY($D21,$C21,0) -> #VALUE! | G21: =IF($A21="","",IF(F21="oui","",VLOOKUP($A21,'Délai de livraison proposé'!$A$2:$C$13,3,FALSE))) | H21: =IF(D21="","",IF(F21="non",WORKDAY($D21,$G21,0),"")) | J21: =IF(I21="","",IF(I21>E21,"non",IF(I21<=H21,"Oui","Non"))) | K21: =IF(J21="oui","",IF(D21="","",IF(H21="",I21-E21,IF(J21="non",I21-H21,""))))
... C60: =IF($A60="","",VLOOKUP($A60,'Délai de livraison proposé'!$A$2:$C$13,2,FALSE)) | E60: =WORKDAY($D60,$C60,0) -> #VALUE! | G60: =IF($A60="","",IF(F60="oui","",VLOOKUP($A60,'Délai de livraison proposé'!$A$2:$C$13,3,FALSE))) | H60: =IF(D60="","",IF(F60="non",WORKDAY($D60,$G60,0),"")) | J60: =IF(I60="","",IF(I60>E60,"non",IF(I60<=H60,"Oui","Non"))) | K60: =IF(J60="oui","",IF(D60="","",IF(H60="",I60-E60,IF(J60="non",I60-H60,""))))

Sheet fournitures scolaires
A1: Fournisseur | B1: Montant de la commande | C1: Délai de commande produits stock | D1: Date de commande | E1: Date de livraison théorique | F1: Livraison complète | G1: Délai produits non stockés | H1: Date livraison produits non stockés | I1: Date livraison réelle | J1: Délai tenu | K1: Retard | L1: Application des pénalités | M1: Service
C2: =IF($A2="","",VLOOKUP($A2,'Délai de livraison proposé'!$A$2:$C$13,2,FALSE)) | E2: =WORKDAY($D2,$C2,0) -> #VALUE! | G2: =IF($A2="","",IF(F2="oui","",VLOOKUP($A2,'Délai de livraison proposé'!$A$2:$C$13,3,FALSE))) | H2: =IF(D2="","",IF(F2="non",WORKDAY($D2,$G2,0),"")) | J2: =IF(I2="","",IF(I2>E2,"non",IF(I2<=H2,"Oui","Non"))) | K2: =IF(J2="oui","",IF(D2="","",IF(H2="",I2-E2,IF(J2="non",I2-H2,"")))) | L2: =(0.05*B2)*K2 -> #VALUE!
C3: =IF($A3="","",VLOOKUP($A3,'Délai de livraison proposé'!$A$2:$C$13,2,FALSE)) | E3: =WORKDAY($D3,$C3,0) -> #VALUE! | G3: =IF($A3="","",IF(F3="oui","",VLOOKUP($A3,'Délai de livraison proposé'!$A$2:$C$13,3,FALSE))) | H3: =IF(D3="","",IF(F3="non",WORKDAY($D3,$G3,0),"")) | J3: =IF(I3="","",IF(I3>E3,"non",IF(I3<=H3,"Oui","Non"))) | K3: =IF(J3="oui","",IF(D3="","",IF(H3="",I3-E3,IF(J3="non",I3-H3,""))))
C4: =IF($A4="","",VLOOKUP($A4,'Délai de livraison proposé'!$A$2:$C$13,2,FALSE)) | E4: =WORKDAY($D4,$C4,0) -> #VALUE! | G4: =IF($A4="","",IF(F4="oui","",VLOOKUP($A4,'Délai de livraison proposé'!$A$2:$C$13,3,FALSE))) | H4: =IF(D4="","",IF(F4="non",WORKDAY($D4,$G4,0),"")) | J4: =IF(I4="","",IF(I4>E4,"non",IF(I4<=H4,"Oui","Non"))) | K4: =IF(J4="oui","",IF(D4="","",IF(H4="",I4-E4,IF(J4="non",I4-H4,""))))
C5: =IF($A5="","",VLOOKUP($A5,'Délai de livraison proposé'!$A$2:$C$13,2,FALSE)) | E5: =WORKDAY($D5,$C5,0) -> #VALUE! | G5: =IF($A5="","",IF(F5="oui","",VLOOKUP($A5,'Délai de livraison proposé'!$A$2:$C$13,3,FALSE))) | H5: =IF(D5="","",IF(F5="non",WORKDAY($D5,$G5,0),"")) | J5: =IF(I5="","",IF(I5>E5,"non",IF(I5<=H5,"Oui","Non"))) | K5: =IF(J5="oui","",IF(D5="","",IF(H5="",I5-E5,IF(J5="non",I5-H5,""))))
C6: =IF($A6="","",VLOOKUP($A6,'Délai de livraison proposé'!$A$2:$C$13,2,FALSE)) | E6: =WORKDAY($D6,$C6,0) -> #VALUE! | G6: =IF($A6="","",IF(F6="oui","",VLOOKUP($A6,'Délai de livraison proposé'!$A$2:$C$13,3,FALSE))) | H6: =IF(D6="","",IF(F6="non",WORKDAY($D6,$G6,0),"")) | J6: =IF(I6="","",IF(I6>E6,"non",IF(I6<=H6,"Oui","Non"))) | K6: =IF(J6="oui","",IF(D6="","",IF(H6="",I6-E6,IF(J6="non",I6-H6,""))))
C7: =IF($A7="","",VLOOKUP($A7,'Délai de livraison proposé'!$A$2:$C$13,2,FALSE)) | E7: =WORKDAY($D7,$C7,0) -> #VALUE! | G7: =IF($A7="","",IF(F7="oui","",VLOOKUP($A7,'Délai de livraison proposé'!$A$2:$C$13,3,FALSE))) | H7: =IF(D7="","",IF(F7="non",WORKDAY($D7,$G7,0),"")) | J7: =IF(I7="","",IF(I7>E7,"non",IF(I7<=H7,"Oui","Non"))) | K7: =IF(J7="oui","",IF(D7="","",IF(H7="",I7-E7,IF(J7="non",I7-H7,""))))
C8: =IF($A8="","",VLOOKUP($A8,'Délai de livraison proposé'!$A$2:$C$13,2,FALSE)) | E8: =WORKDAY($D8,$C8,0) -> #VALUE! | G8: =IF($A8="","",IF(F8="oui","",VLOOKUP($A8,'Délai de livraison proposé'!$A$2:$C$13,3,FALSE))) | H8: =IF(D8="","",IF(F8="non",WORKDAY($D8,$G8,0),"")) | J8: =IF(I8="","",IF(I8>E8,"non",IF(I8<=H8,"Oui","Non"))) | K8: =IF(J8="oui","",IF(D8="","",IF(H8="",I8-E8,IF(J8="non",I8-H8,""))))
C9: =IF($A9="","",VLOOKUP($A9,'Délai de livraison proposé'!$A$2:$C$13,2,FALSE)) | E9: =WORKDAY($D9,$C9,0) -> #VALUE! | G9: =IF($A9="","",IF(F9="oui","",VLOOKUP($A9,'Délai de livraison proposé'!$A$2:$C$13,3,FALSE))) | H9: =IF(D9="","",IF(F9="non",WORKDAY($D9,$G9,0),"")) | K9: =IF(J9="oui","",IF(D9="","",IF(H9="",I9-E9,IF(J9="non",I9-H9,""))))
C10: =IF($A10="","",VLOOKUP($A10,'Délai de livraison proposé'!$A$2:$C$13,2,FALSE)) | E10: =WORKDAY($D10,$C10,0) -> #VALUE! | G10: =IF($A10="","",IF(F10="oui","",VLOOKUP($A10,'Délai de livraison proposé'!$A$2:$C$13,3,FALSE))) | H10: =IF(D10="","",IF(F10="non",WORKDAY($D10,$G10,0),"")) | J10: =IF(I10="","",IF(I10>E10,"non",IF(I10<=H10,"Oui","Non"))) | K10: =IF(J10="oui","",IF(D10="","",IF(H10="",I10-E10,IF(J10="non",I10-H10,""))))
C11: =IF($A11="","",VLOOKUP($A11,'Délai de livraison proposé'!$A$2:$C$13,2,FALSE)) | E11: =WORKDAY($D11,$C11,0) -> #VALUE! | G11: =IF($A11="","",IF(F11="oui","",VLOOKUP($A11,'Délai de livraison proposé'!$A$2:$C$13,3,FALSE))) | H11: =IF(D11="","",IF(F11="non",WORKDAY($D11,$G11,0),"")) | J11: =IF(I11="","",IF(I11>E11,"non",IF(I11<=H11,"Oui","Non"))) | K11: =IF(J11="oui","",IF(D11="","",IF(H11="",I11-E11,IF(J11="non",I11-H11,""))))
C12: =IF($A12="","",VLOOKUP($A12,'Délai de livraison proposé'!$A$2:$C$13,2,FALSE)) | E12: =WORKDAY($D12,$C12,0) -> #VALUE! | G12: =IF($A12="","",IF(F12="oui","",VLOOKUP($A12,'Délai de livraison proposé'!$A$2:$C$13,3,FALSE))) | H12: =IF(D12="","",IF(F12="non",WORKDAY($D12,$G12,0),"")) | J12: =IF(I12="","",IF(I12>E12,"non",IF(I12<=H12,"Oui","Non"))) | K12: =IF(J12="oui","",IF(D12="","",IF(H12="",I12-E12,IF(J12="non",I12-H12,""))))
C13: =IF($A13="","",VLOOKUP($A13,'Délai de livraison proposé'!$A$2:$C$13,2,FALSE)) | E13: =WORKDAY($D13,$C13,0) -> #VALUE! | G13: =IF($A13="","",IF(F13="oui","",VLOOKUP($A13,'Délai de livraison proposé'!$A$2:$C$13,3,FALSE))) | H13: =IF(D13="","",IF(F13="non",WORKDAY($D13,$G13,0),"")) | J13: =IF(I13="","",IF(I13>E13,"non",IF(I13<=H13,"Oui","Non"))) | K13: =IF(J13="oui","",IF(D13="","",IF(H13="",I13-E13,IF(J13="non",I13-H13,""))))
C14: =IF($A14="","",VLOOKUP($A14,'Délai de livraison proposé'!$A$2:$C$13,2,FALSE)) | E14: =WORKDAY($D14,$C14,0) -> #VALUE! | G14: =IF($A14="","",IF(F14="oui","",VLOOKUP($A14,'Délai de livraison proposé'!$A$2:$C$13,3,FALSE))) | H14: =IF(D14="","",IF(F14="non",WORKDAY($D14,$G14,0),"")) | J14: =IF(I14="","",IF(I14>E14,"non",IF(I14<=H14,"Oui","Non"))) | K14: =IF(J14="oui","",IF(D14="","",IF(H14="",I14-E14,IF(J14="non",I14-H14,""))))
C15: =IF($A15="","",VLOOKUP($A15,'Délai de livraison proposé'!$A$2:$C$13,2,FALSE)) | E15: =WORKDAY($D15,$C15,0) -> #VALUE! | G15: =IF($A15="","",IF(F15="oui","",VLOOKUP($A15,'Délai de livraison proposé'!$A$2:$C$13,3,FALSE))) | H15: =IF(D15="","",IF(F15="non",WORKDAY($D15,$G15,0),"")) | J15: =IF(I15="","",IF(I15>E15,"non",IF(I15<=H15,"Oui","Non"))) | K15: =IF(J15="oui","",IF(D15="","",IF(H15="",I15-E15,IF(J15="non",I15-H15,""))))
C16: =IF($A16="","",VLOOKUP($A16,'Délai de livraison proposé'!$A$2:$C$13,2,FALSE)) | E16: =WORKDAY($D16,$C16,0) -> #VALUE! | G16: =IF($A16="","",IF(F16="oui","",VLOOKUP($A16,'Délai de livraison proposé'!$A$2:$C$13,3,FALSE))) | H16: =IF(D16="","",IF(F16="non",WORKDAY($D16,$G16,0),"")) | J16: =IF(I16="","",IF(I16>E16,"non",IF(I16<=H16,"Oui","Non"))) | K16: =IF(J16="oui","",IF(D16="","",IF(H16="",I16-E16,IF(J16="non",I16-H16,""))))
C17: =IF($A17="","",VLOOKUP($A17,'Délai de livraison proposé'!$A$2:$C$13,2,FALSE)) | E17: =WORKDAY($D17,$C17,0) -> #VALUE! | G17: =IF($A17="","",IF(F17="oui","",VLOOKUP($A17,'Délai de livraison proposé'!$A$2:$C$13,3,FALSE))) | H17: =IF(D17="","",IF(F17="non",WORKDAY($D17,$G17,0),"")) | J17: =IF(I17="","",IF(I17>E17,"non",IF(I17<=H17,"Oui","Non"))) | K17: =IF(J17="oui","",IF(D17="","",IF(H17="",I17-E17,IF(J17="non",I17-H17,""))))
C18: =IF($A18="","",VLOOKUP($A18,'Délai de livraison proposé'!$A$2:$C$13,2,FALSE)) | E18: =WORKDAY($D18,$C18,0) -> #VALUE! | G18: =IF($A18="","",IF(F18="oui","",VLOOKUP($A18,'Délai de livraison proposé'!$A$2:$C$13,3,FALSE))) | H18: =IF(D18="","",IF(F18="non",WORKDAY($D18,$G18,0),"")) | J18: =IF(I18="","",IF(I18>E18,"non",IF(I18<=H18,"Oui","Non"))) | K18: =IF(J18="oui","",IF(D18="","",IF(H18="",I18-E18,IF(J18="non",I18-H18,""))))
C19: =IF($A19="","",VLOOKUP($A19,'Délai de livraison proposé'!$A$2:$C$13,2,FALSE)) | E19: =WORKDAY($D19,$C19,0) -> #VALUE! | G19: =IF($A19="","",IF(F19="oui","",VLOOKUP($A19,'Délai de livraison proposé'!$A$2:$C$13,3,FALSE))) | H19: =IF(D19="","",IF(F19="non",WORKDAY($D19,$G19,0),"")) | J19: =IF(I19="","",IF(I19>E19,"non",IF(I19<=H19,"Oui","Non"))) | K19: =IF(J19="oui","",IF(D19="","",IF(H19="",I19-E19,IF(J19="non",I19-H19,""))))
C20: =IF($A20="","",VLOOKUP($A20,'Délai de livraison proposé'!$A$2:$C$13,2,FALSE)) | E20: =WORKDAY($D20,$C20,0) -> #VALUE! | G20: =IF($A20="","",IF(F20="oui","",VLOOKUP($A20,'Délai de livraison proposé'!$A$2:$C$13,3,FALSE))) | H20: =IF(D20="","",IF(F20="non",WORKDAY($D20,$G20,0),"")) | J20: =IF(I20="","",IF(I20>E20,"non",IF(I20<=H20,"Oui","Non"))) | K20: =IF(J20="oui","",IF(D20="","",IF(H20="",I20-E20,IF(J20="non",I20-H20,""))))
C21: =IF($A21="","",VLOOKUP($A21,'Délai de livraison proposé'!$A$2:$C$13,2,FALSE)) | E21: =WORKDAY($D21,$C21,0) -> #VALUE! | G21: =IF($A21="","",IF(F21="oui","",VLOOKUP($A21,'Délai de livraison proposé'!$A$2:$C$13,3,FALSE))) | H21: =IF(D21="","",IF(F21="non",WORKDAY($D21,$G21,0),"")) | J21: =IF(I21="","",IF(I21>E21,"non",IF(I21<=H21,"Oui","Non"))) | K21: =IF(J21="oui","",IF(D21="","",IF(H21="",I21-E21,IF(J21="non",I21-H21,""))))
... C60: =IF($A60="","",VLOOKUP($A60,'Délai de livraison proposé'!$A$2:$C$13,2,FALSE)) | E60: =WORKDAY($D60,$C60,0) -> #VALUE! | G60: =IF($A60="","",IF(F60="oui","",VLOOKUP($A60,'Délai de livraison proposé'!$A$2:$C$13,3,FALSE))) | H60: =IF(D60="","",IF(F60="non",WORKDAY($D60,$G60,0),"")) | J60: =IF(I60="","",IF(I60>E60,"non",IF(I60<=H60,"Oui","Non"))) | K60: =IF(J60="oui","",IF(D60="","",IF(H60="",I60-E60,IF(J60="non",I60-H60,""))))

Sheet menuiseries
A1: Fournisseur | B1: Montant de la commande | C1: Délai de commande produits stock | D1: Date de commande | E1: Date de livraison théorique | F1: Livraison complète | G1: Délai produits non stockés | H1: Date livraison produits non stockés | I1: Date livraison réelle | J1: Délai tenu | K1: Retard | L1: Application des pénalités | M1: Service
A2: cbi | B2: 1500 | C2: =IF($A2="","",VLOOKUP($A2,'Délai de livraison proposé'!$A$2:$C$13,2,FALSE)) -> 1 | D2: 41255 | E2: =WORKDAY($D2,$C2,0) -> 41256 | F2: non | G2: =IF($A2="","",IF(F2="oui","",VLOOKUP($A2,'Délai de livraison proposé'!$A$2:$C$13,3,FALSE))) -> 2 | H2: =IF(D2="","",IF(F2="non",WORKDAY($D2,$G2,0),"")) -> 41257 | I2: 41262 | J2: =IF(I2="","",IF(I2>E2,"non",IF(I2<=H2,"Oui","Non"))) -> non | K2: =IF(J2="oui","",IF(D2="","",IF(H2="",I2-E2,IF(J2="non",I2-H2,"")))) -> 5 | L2: =100*K2 -> 500
C3: =IF($A3="","",VLOOKUP($A3,'Délai de livraison proposé'!$A$2:$C$13,2,FALSE)) | E3: =WORKDAY($D3,$C3,0) -> #VALUE! | G3: =IF($A3="","",IF(F3="oui","",VLOOKUP($A3,'Délai de livraison proposé'!$A$2:$C$13,3,FALSE))) | H3: =IF(D3="","",IF(F3="non",WORKDAY($D3,$G3,0),"")) | J3: =IF(I3="","",IF(I3>E3,"non",IF(I3<=H3,"Oui","Non"))) | K3: =IF(J3="oui","",IF(D3="","",IF(H3="",I3-E3,IF(J3="non",I3-H3,""))))
C4: =IF($A4="","",VLOOKUP($A4,'Délai de livraison proposé'!$A$2:$C$13,2,FALSE)) | E4: =WORKDAY($D4,$C4,0) -> #VALUE! | G4: =IF($A4="","",IF(F4="oui","",VLOOKUP($A4,'Délai de livraison proposé'!$A$2:$C$13,3,FALSE))) | H4: =IF(D4="","",IF(F4="non",WORKDAY($D4,$G4,0),"")) | J4: =IF(I4="","",IF(I4>E4,"non",IF(I4<=H4,"Oui","Non"))) | K4: =IF(J4="oui","",IF(D4="","",IF(H4="",I4-E4,IF(J4="non",I4-H4,""))))
C5: =IF($A5="","",VLOOKUP($A5,'Délai de livraison proposé'!$A$2:$C$13,2,FALSE)) | E5: =WORKDAY($D5,$C5,0) -> #VALUE! | G5: =IF($A5="","",IF(F5="oui","",VLOOKUP($A5,'Délai de livraison proposé'!$A$2:$C$13,3,FALSE))) | H5: =IF(D5="","",IF(F5="non",WORKDAY($D5,$G5,0),"")) | J5: =IF(I5="","",IF(I5>E5,"non",IF(I5<=H5,"Oui","Non"))) | K5: =IF(J5="oui","",IF(D5="","",IF(H5="",I5-E5,IF(J5="non",I5-H5,""))))
C6: =IF($A6="","",VLOOKUP($A6,'Délai de livraison proposé'!$A$2:$C$13,2,FALSE)) | E6: =WORKDAY($D6,$C6,0) -> #VALUE! | G6: =IF($A6="","",IF(F6="oui","",VLOOKUP($A6,'Délai de livraison proposé'!$A$2:$C$13,3,FALSE))) | H6: =IF(D6="","",IF(F6="non",WORKDAY($D6,$G6,0),"")) | J6: =IF(I6="","",IF(I6>E6,"non",IF(I6<=H6,"Oui","Non"))) | K6: =IF(J6="oui","",IF(D6="","",IF(H6="",I6-E6,IF(J6="non",I6-H6,""))))
C7: =IF($A7="","",VLOOKUP($A7,'Délai de livraison proposé'!$A$2:$C$13,2,FALSE)) | E7: =WORKDAY($D7,$C7,0) -> #VALUE! | G7: =IF($A7="","",IF(F7="oui","",VLOOKUP($A7,'Délai de livraison proposé'!$A$2:$C$13,3,FALSE))) | H7: =IF(D7="","",IF(F7="non",WORKDAY($D7,$G7,0),"")) | J7: =IF(I7="","",IF(I7>E7,"non",IF(I7<=H7,"Oui","Non"))) | K7: =IF(J7="oui","",IF(D7="","",IF(H7="",I7-E7,IF(J7="non",I7-H7,""))))
C8: =IF($A8="","",VLOOKUP($A8,'Délai de livraison proposé'!$A$2:$C$13,2,FALSE)) | E8: =WORKDAY($D8,$C8,0) -> #VALUE! | G8: =IF($A8="","",IF(F8="oui","",VLOOKUP($A8,'Délai de livraison proposé'!$A$2:$C$13,3,FALSE))) | H8: =IF(D8="","",IF(F8="non",WORKDAY($D8,$G8,0),"")) | J8: =IF(I8="","",IF(I8>E8,"non",IF(I8<=H8,"Oui","Non"))) | K8: =IF(J8="oui","",IF(D8="","",IF(H8="",I8-E8,IF(J8="non",I8-H8,""))))
C9: =IF($A9="","",VLOOKUP($A9,'Délai de livraison proposé'!$A$2:$C$13,2,FALSE)) | E9: =WORKDAY($D9,$C9,0) -> #VALUE! | G9: =IF($A9="","",IF(F9="oui","",VLOOKUP($A9,'Délai de livraison proposé'!$A$2:$C$13,3,FALSE))) | H9: =IF(D9="","",IF(F9="non",WORKDAY($D9,$G9,0),"")) | K9: =IF(J9="oui","",IF(D9="","",IF(H9="",I9-E9,IF(J9="non",I9-H9,""))))
C10: =IF($A10="","",VLOOKUP($A10,'Délai de livraison proposé'!$A$2:$C$13,2,FALSE)) | E10: =WORKDAY($D10,$C10,0) -> #VALUE! | G10: =IF($A10="","",IF(F10="oui","",VLOOKUP($A10,'Délai de livraison proposé'!$A$2:$C$13,3,FALSE))) | H10: =IF(D10="","",IF(F10="non",WORKDAY($D10,$G10,0),"")) | J10: =IF(I10="","",IF(I10>E10,"non",IF(I10<=H10,"Oui","Non"))) | K10: =IF(J10="oui","",IF(D10="","",IF(H10="",I10-E10,IF(J10="non",I10-H10,""))))
C11: =IF($A11="","",VLOOKUP($A11,'Délai de livraison proposé'!$A$2:$C$13,2,FALSE)) | E11: =WORKDAY($D11,$C11,0) -> #VALUE! | G11: =IF($A11="","",IF(F11="oui","",VLOOKUP($A11,'Délai de livraison proposé'!$A$2:$C$13,3,FALSE))) | H11: =IF(D11="","",IF(F11="non",WORKDAY($D11,$G11,0),"")) | J11: =IF(I11="","",IF(I11>E11,"non",IF(I11<=H11,"Oui","Non"))) | K11: =IF(J11="oui","",IF(D11="","",IF(H11="",I11-E11,IF(J11="non",I11-H11,""))))
C12: =IF($A12="","",VLOOKUP($A12,'Délai de livraison proposé'!$A$2:$C$13,2,FALSE)) | E12: =WORKDAY($D12,$C12,0) -> #VALUE! | G12: =IF($A12="","",IF(F12="oui","",VLOOKUP($A12,'Délai de livraison proposé'!$A$2:$C$13,3,FALSE))) | H12: =IF(D12="","",IF(F12="non",WORKDAY($D12,$G12,0),"")) | J12: =IF(I12="","",IF(I12>E12,"non",IF(I12<=H12,"Oui","Non"))) | K12: =IF(J12="oui","",IF(D12="","",IF(H12="",I12-E12,IF(J12="non",I12-H12,""))))
C13: =IF($A13="","",VLOOKUP($A13,'Délai de livraison proposé'!$A$2:$C$13,2,FALSE)) | E13: =WORKDAY($D13,$C13,0) -> #VALUE! | G13: =IF($A13="","",IF(F13="oui","",VLOOKUP($A13,'Délai de livraison proposé'!$A$2:$C$13,3,FALSE))) | H13: =IF(D13="","",IF(F13="non",WORKDAY($D13,$G13,0),"")) | J13: =IF(I13="","",IF(I13>E13,"non",IF(I13<=H13,"Oui","Non"))) | K13: =IF(J13="oui","",IF(D13="","",IF(H13="",I13-E13,IF(J13="non",I13-H13,""))))
C14: =IF($A14="","",VLOOKUP($A14,'Délai de livraison proposé'!$A$2:$C$13,2,FALSE)) | E14: =WORKDAY($D14,$C14,0) -> #VALUE! | G14: =IF($A14="","",IF(F14="oui","",VLOOKUP($A14,'Délai de livraison proposé'!$A$2:$C$13,3,FALSE))) | H14: =IF(D14="","",IF(F14="non",WORKDAY($D14,$G14,0),"")) | J14: =IF(I14="","",IF(I14>E14,"non",IF(I14<=H14,"Oui","Non"))) | K14: =IF(J14="oui","",IF(D14="","",IF(H14="",I14-E14,IF(J14="non",I14-H14,""))))
C15: =IF($A15="","",VLOOKUP($A15,'Délai de livraison proposé'!$A$2:$C$13,2,FALSE)) | E15: =WORKDAY($D15,$C15,0) -> #VALUE! | G15: =IF($A15="","",IF(F15="oui","",VLOOKUP($A15,'Délai de livraison proposé'!$A$2:$C$13,3,FALSE))) | H15: =IF(D15="","",IF(F15="non",WORKDAY($D15,$G15,0),"")) | J15: =IF(I15="","",IF(I15>E15,"non",IF(I15<=H15,"Oui","Non"))) | K15: =IF(J15="oui","",IF(D15="","",IF(H15="",I15-E15,IF(J15="non",I15-H15,""))))
C16: =IF($A16="","",VLOOKUP($A16,'Délai de livraison proposé'!$A$2:$C$13,2,FALSE)) | E16: =WORKDAY($D16,$C16,0) -> #VALUE! | G16: =IF($A16="","",IF(F16="oui","",VLOOKUP($A16,'Délai de livraison proposé'!$A$2:$C$13,3,FALSE))) | H16: =IF(D16="","",IF(F16="non",WORKDAY($D16,$G16,0),"")) | J16: =IF(I16="","",IF(I16>E16,"non",IF(I16<=H16,"Oui","Non"))) | K16: =IF(J16="oui","",IF(D16="","",IF(H16="",I16-E16,IF(J16="non",I16-H16,""))))
C17: =IF($A17="","",VLOOKUP($A17,'Délai de livraison proposé'!$A$2:$C$13,2,FALSE)) | E17: =WORKDAY($D17,$C17,0) -> #VALUE! | G17: =IF($A17="","",IF(F17="oui","",VLOOKUP($A17,'Délai de livraison proposé'!$A$2:$C$13,3,FALSE))) | H17: =IF(D17="","",IF(F17="non",WORKDAY($D17,$G17,0),"")) | J17: =IF(I17="","",IF(I17>E17,"non",IF(I17<=H17,"Oui","Non"))) | K17: =IF(J17="oui","",IF(D17="","",IF(H17="",I17-E17,IF(J17="non",I17-H17,""))))
C18: =IF($A18="","",VLOOKUP($A18,'Délai de livraison proposé'!$A$2:$C$13,2,FALSE)) | E18: =WORKDAY($D18,$C18,0) -> #VALUE! | G18: =IF($A18="","",IF(F18="oui","",VLOOKUP($A18,'Délai de livraison proposé'!$A$2:$C$13,3,FALSE))) | H18: =IF(D18="","",IF(F18="non",WORKDAY($D18,$G18,0),"")) | J18: =IF(I18="","",IF(I18>E18,"non",IF(I18<=H18,"Oui","Non"))) | K18: =IF(J18="oui","",IF(D18="","",IF(H18="",I18-E18,IF(J18="non",I18-H18,""))))
C19: =IF($A19="","",VLOOKUP($A19,'Délai de livraison proposé'!$A$2:$C$13,2,FALSE)) | E19: =WORKDAY($D19,$C19,0) -> #VALUE! | G19: =IF($A19="","",IF(F19="oui","",VLOOKUP($A19,'Délai de livraison proposé'!$A$2:$C$13,3,FALSE))) | H19: =IF(D19="","",IF(F19="non",WORKDAY($D19,$G19,0),"")) | J19: =IF(I19="","",IF(I19>E19,"non",IF(I19<=H19,"Oui","Non"))) | K19: =IF(J19="oui","",IF(D19="","",IF(H19="",I19-E19,IF(J19="non",I19-H19,""))))
C20: =IF($A20="","",VLOOKUP($A20,'Délai de livraison proposé'!$A$2:$C$13,2,FALSE)) | E20: =WORKDAY($D20,$C20,0) -> #VALUE! | G20: =IF($A20="","",IF(F20="oui","",VLOOKUP($A20,'Délai de livraison proposé'!$A$2:$C$13,3,FALSE))) | H20: =IF(D20="","",IF(F20="non",WORKDAY($D20,$G20,0),"")) | J20: =IF(I20="","",IF(I20>E20,"non",IF(I20<=H20,"Oui","Non"))) | K20: =IF(J20="oui","",IF(D20="","",IF(H20="",I20-E20,IF(J20="non",I20-H20,""))))
C21: =IF($A21="","",VLOOKUP($A21,'Délai de livraison proposé'!$A$2:$C$13,2,FALSE)) | E21: =WORKDAY($D21,$C21,0) -> #VALUE! | G21: =IF($A21="","",IF(F21="oui","",VLOOKUP($A21,'Délai de livraison proposé'!$A$2:$C$13,3,FALSE))) | H21: =IF(D21="","",IF(F21="non",WORKDAY($D21,$G21,0),"")) | J21: =IF(I21="","",IF(I21>E21,"non",IF(I21<=H21,"Oui","Non"))) | K21: =IF(J21="oui","",IF(D21="","",IF(H21="",I21-E21,IF(J21="non",I21-H21,""))))
... C60: =IF($A60="","",VLOOKUP($A60,'Délai de livraison proposé'!$A$2:$C$13,2,FALSE)) | E60: =WORKDAY($D60,$C60,0) -> #VALUE! | G60: =IF($A60="","",IF(F60="oui","",VLOOKUP($A60,'Délai de livraison proposé'!$A$2:$C$13,3,FALSE))) | H60: =IF(D60="","",IF(F60="non",WORKDAY($D60,$G60,0),"")) | J60: =IF(I60="","",IF(I60>E60,"non",IF(I60<=H60,"Oui","Non"))) | K60: =IF(J60="oui","",IF(D60="","",IF(H60="",I60-E60,IF(J60="non",I60-H60,""))))

Sheet peintures
A1: Fournisseur | B1: Montant de la commande | C1: Délai de commande produits stock | D1: Date de commande | E1: Date de livraison théorique | F1: Livraison complète | G1: Délai produits non stockés | H1: Date livraison produits non stockés | I1: Date livraison réelle | J1: Délai tenu | K1: Retard | L1: Application des pénalités | M1: Service
C2: =IF($A2="","",VLOOKUP($A2,'Délai de livraison proposé'!$A$2:$C$13,2,FALSE)) | E2: =WORKDAY($D2,$C2,0) -> #VALUE! | G2: =IF($A2="","",IF(F2="oui","",VLOOKUP($A2,'Délai de livraison proposé'!$A$2:$C$13,3,FALSE))) | H2: =IF(D2="","",IF(F2="non",WORKDAY($D2,$G2,0),"")) | J2: =IF(I2="","",IF(I2>E2,"non",IF(I2<=H2,"Oui","Non"))) | K2: =IF(J2="oui","",IF(D2="","",IF(H2="",I2-E2,IF(J2="non",I2-H2,"")))) | L2: =100*K2 -> #VALUE!
C3: =IF($A3="","",VLOOKUP($A3,'Délai de livraison proposé'!$A$2:$C$13,2,FALSE)) | E3: =WORKDAY($D3,$C3,0) -> #VALUE! | G3: =IF($A3="","",IF(F3="oui","",VLOOKUP($A3,'Délai de livraison proposé'!$A$2:$C$13,3,FALSE))) | H3: =IF(D3="","",IF(F3="non",WORKDAY($D3,$G3,0),"")) | J3: =IF(I3="","",IF(I3>E3,"non",IF(I3<=H3,"Oui","Non"))) | K3: =IF(J3="oui","",IF(D3="","",IF(H3="",I3-E3,IF(J3="non",I3-H3,""))))
C4: =IF($A4="","",VLOOKUP($A4,'Délai de livraison proposé'!$A$2:$C$13,2,FALSE)) | E4: =WORKDAY($D4,$C4,0) -> #VALUE! | G4: =IF($A4="","",IF(F4="oui","",VLOOKUP($A4,'Délai de livraison proposé'!$A$2:$C$13,3,FALSE))) | H4: =IF(D4="","",IF(F4="non",WORKDAY($D4,$G4,0),"")) | J4: =IF(I4="","",IF(I4>E4,"non",IF(I4<=H4,"Oui","Non"))) | K4: =IF(J4="oui","",IF(D4="","",IF(H4="",I4-E4,IF(J4="non",I4-H4,""))))
C5: =IF($A5="","",VLOOKUP($A5,'Délai de livraison proposé'!$A$2:$C$13,2,FALSE)) | E5: =WORKDAY($D5,$C5,0) -> #VALUE! | G5: =IF($A5="","",IF(F5="oui","",VLOOKUP($A5,'Délai de livraison proposé'!$A$2:$C$13,3,FALSE))) | H5: =IF(D5="","",IF(F5="non",WORKDAY($D5,$G5,0),"")) | J5: =IF(I5="","",IF(I5>E5,"non",IF(I5<=H5,"Oui","Non"))) | K5: =IF(J5="oui","",IF(D5="","",IF(H5="",I5-E5,IF(J5="non",I5-H5,""))))
C6: =IF($A6="","",VLOOKUP($A6,'Délai de livraison proposé'!$A$2:$C$13,2,FALSE)) | E6: =WORKDAY($D6,$C6,0) -> #VALUE! | G6: =IF($A6="","",IF(F6="oui","",VLOOKUP($A6,'Délai de livraison proposé'!$A$2:$C$13,3,FALSE))) | H6: =IF(D6="","",IF(F6="non",WORKDAY($D6,$G6,0),"")) | J6: =IF(I6="","",IF(I6>E6,"non",IF(I6<=H6,"Oui","Non"))) | K6: =IF(J6="oui","",IF(D6="","",IF(H6="",I6-E6,IF(J6="non",I6-H6,""))))
C7: =IF($A7="","",VLOOKUP($A7,'Délai de livraison proposé'!$A$2:$C$13,2,FALSE)) | E7: =WORKDAY($D7,$C7,0) -> #VALUE! | G7: =IF($A7="","",IF(F7="oui","",VLOOKUP($A7,'Délai de livraison proposé'!$A$2:$C$13,3,FALSE))) | H7: =IF(D7="","",IF(F7="non",WORKDAY($D7,$G7,0),"")) | J7: =IF(I7="","",IF(I7>E7,"non",IF(I7<=H7,"Oui","Non"))) | K7: =IF(J7="oui","",IF(D7="","",IF(H7="",I7-E7,IF(J7="non",I7-H7,""))))
C8: =IF($A8="","",VLOOKUP($A8,'Délai de livraison proposé'!$A$2:$C$13,2,FALSE)) | E8: =WORKDAY($D8,$C8,0) -> #VALUE! | G8: =IF($A8="","",IF(F8="oui","",VLOOKUP($A8,'Délai de livraison proposé'!$A$2:$C$13,3,FALSE))) | H8: =IF(D8="","",IF(F8="non",WORKDAY($D8,$G8,0),"")) | J8: =IF(I8="","",IF(I8>E8,"non",IF(I8<=H8,"Oui","Non"))) | K8: =IF(J8="oui","",IF(D8="","",IF(H8="",I8-E8,IF(J8="non",I8-H8,""))))
C9: =IF($A9="","",VLOOKUP($A9,'Délai de livraison proposé'!$A$2:$C$13,2,FALSE)) | E9: =WORKDAY($D9,$C9,0) -> #VALUE! | G9: =IF($A9="","",IF(F9="oui","",VLOOKUP($A9,'Délai de livraison proposé'!$A$2:$C$13,3,FALSE))) | H9: =IF(D9="","",IF(F9="non",WORKDAY($D9,$G9,0),"")) | K9: =IF(J9="oui","",IF(D9="","",IF(H9="",I9-E9,IF(J9="non",I9-H9,""))))
C10: =IF($A10="","",VLOOKUP($A10,'Délai de livraison proposé'!$A$2:$C$13,2,FALSE)) | E10: =WORKDAY($D10,$C10,0) -> #VALUE! | G10: =IF($A10="","",IF(F10="oui","",VLOOKUP($A10,'Délai de livraison proposé'!$A$2:$C$13,3,FALSE))) | H10: =IF(D10="","",IF(F10="non",WORKDAY($D10,$G10,0),"")) | J10: =IF(I10="","",IF(I10>E10,"non",IF(I10<=H10,"Oui","Non"))) | K10: =IF(J10="oui","",IF(D10="","",IF(H10="",I10-E10,IF(J10="non",I10-H10,""))))
C11: =IF($A11="","",VLOOKUP($A11,'Délai de livraison proposé'!$A$2:$C$13,2,FALSE)) | E11: =WORKDAY($D11,$C11,0) -> #VALUE! | G11: =IF($A11="","",IF(F11="oui","",VLOOKUP($A11,'Délai de livraison proposé'!$A$2:$C$13,3,FALSE))) | H11: =IF(D11="","",IF(F11="non",WORKDAY($D11,$G11,0),"")) | J11: =IF(I11="","",IF(I11>E11,"non",IF(I11<=H11,"Oui","Non"))) | K11: =IF(J11="oui","",IF(D11="","",IF(H11="",I11-E11,IF(J11="non",I11-H11,""))))
C12: =IF($A12="","",VLOOKUP($A12,'Délai de livraison proposé'!$A$2:$C$13,2,FALSE)) | E12: =WORKDAY($D12,$C12,0) -> #VALUE! | G12: =IF($A12="","",IF(F12="oui","",VLOOKUP($A12,'Délai de livraison proposé'!$A$2:$C$13,3,FALSE))) | H12: =IF(D12="","",IF(F12="non",WORKDAY($D12,$G12,0),"")) | J12: =IF(I12="","",IF(I12>E12,"non",IF(I12<=H12,"Oui","Non"))) | K12: =IF(J12="oui","",IF(D12="","",IF(H12="",I12-E12,IF(J12="non",I12-H12,""))))
C13: =IF($A13="","",VLOOKUP($A13,'Délai de livraison proposé'!$A$2:$C$13,2,FALSE)) | E13: =WORKDAY($D13,$C13,0) -> #VALUE! | G13: =IF($A13="","",IF(F13="oui","",VLOOKUP($A13,'Délai de livraison proposé'!$A$2:$C$13,3,FALSE))) | H13: =IF(D13="","",IF(F13="non",WORKDAY($D13,$G13,0),"")) | J13: =IF(I13="","",IF(I13>E13,"non",IF(I13<=H13,"Oui","Non"))) | K13: =IF(J13="oui","",IF(D13="","",IF(H13="",I13-E13,IF(J13="non",I13-H13,""))))
C14: =IF($A14="","",VLOOKUP($A14,'Délai de livraison proposé'!$A$2:$C$13,2,FALSE)) | E14: =WORKDAY($D14,$C14,0) -> #VALUE! | G14: =IF($A14="","",IF(F14="oui","",VLOOKUP($A14,'Délai de livraison proposé'!$A$2:$C$13,3,FALSE))) | H14: =IF(D14="","",IF(F14="non",WORKDAY($D14,$G14,0),"")) | J14: =IF(I14="","",IF(I14>E14,"non",IF(I14<=H14,"Oui","Non"))) | K14: =IF(J14="oui","",IF(D14="","",IF(H14="",I14-E14,IF(J14="non",I14-H14,""))))
C15: =IF($A15="","",VLOOKUP($A15,'Délai de livraison proposé'!$A$2:$C$13,2,FALSE)) | E15: =WORKDAY($D15,$C15,0) -> #VALUE! | G15: =IF($A15="","",IF(F15="oui","",VLOOKUP($A15,'Délai de livraison proposé'!$A$2:$C$13,3,FALSE))) | H15: =IF(D15="","",IF(F15="non",WORKDAY($D15,$G15,0),"")) | J15: =IF(I15="","",IF(I15>E15,"non",IF(I15<=H15,"Oui","Non"))) | K15: =IF(J15="oui","",IF(D15="","",IF(H15="",I15-E15,IF(J15="non",I15-H15,""))))
C16: =IF($A16="","",VLOOKUP($A16,'Délai de livraison proposé'!$A$2:$C$13,2,FALSE)) | E16: =WORKDAY($D16,$C16,0) -> #VALUE! | G16: =IF($A16="","",IF(F16="oui","",VLOOKUP($A16,'Délai de livraison proposé'!$A$2:$C$13,3,FALSE))) | H16: =IF(D16="","",IF(F16="non",WORKDAY($D16,$G16,0),"")) | J16: =IF(I16="","",IF(I16>E16,"non",IF(I16<=H16,"Oui","Non"))) | K16: =IF(J16="oui","",IF(D16="","",IF(H16="",I16-E16,IF(J16="non",I16-H16,""))))
C17: =IF($A17="","",VLOOKUP($A17,'Délai de livraison proposé'!$A$2:$C$13,2,FALSE)) | E17: =WORKDAY($D17,$C17,0) -> #VALUE! | G17: =IF($A17="","",IF(F17="oui","",VLOOKUP($A17,'Délai de livraison proposé'!$A$2:$C$13,3,FALSE))) | H17: =IF(D17="","",IF(F17="non",WORKDAY($D17,$G17,0),"")) | J17: =IF(I17="","",IF(I17>E17,"non",IF(I17<=H17,"Oui","Non"))) | K17: =IF(J17="oui","",IF(D17="","",IF(H17="",I17-E17,IF(J17="non",I17-H17,""))))
C18: =IF($A18="","",VLOOKUP($A18,'Délai de livraison proposé'!$A$2:$C$13,2,FALSE)) | E18: =WORKDAY($D18,$C18,0) -> #VALUE! | G18: =IF($A18="","",IF(F18="oui","",VLOOKUP($A18,'Délai de livraison proposé'!$A$2:$C$13,3,FALSE))) | H18: =IF(D18="","",IF(F18="non",WORKDAY($D18,$G18,0),"")) | J18: =IF(I18="","",IF(I18>E18,"non",IF(I18<=H18,"Oui","Non"))) | K18: =IF(J18="oui","",IF(D18="","",IF(H18="",I18-E18,IF(J18="non",I18-H18,""))))
C19: =IF($A19="","",VLOOKUP($A19,'Délai de livraison proposé'!$A$2:$C$13,2,FALSE)) | E19: =WORKDAY($D19,$C19,0) -> #VALUE! | G19: =IF($A19="","",IF(F19="oui","",VLOOKUP($A19,'Délai de livraison proposé'!$A$2:$C$13,3,FALSE))) | H19: =IF(D19="","",IF(F19="non",WORKDAY($D19,$G19,0),"")) | J19: =IF(I19="","",IF(I19>E19,"non",IF(I19<=H19,"Oui","Non"))) | K19: =IF(J19="oui","",IF(D19="","",IF(H19="",I19-E19,IF(J19="non",I19-H19,""))))
C20: =IF($A20="","",VLOOKUP($A20,'Délai de livraison proposé'!$A$2:$C$13,2,FALSE)) | E20: =WORKDAY($D20,$C20,0) -> #VALUE! | G20: =IF($A20="","",IF(F20="oui","",VLOOKUP($A20,'Délai de livraison proposé'!$A$2:$C$13,3,FALSE))) | H20: =IF(D20="","",IF(F20="non",WORKDAY($D20,$G20,0),"")) | J20: =IF(I20="","",IF(I20>E20,"non",IF(I20<=H20,"Oui","Non"))) | K20: =IF(J20="oui","",IF(D20="","",IF(H20="",I20-E20,IF(J20="non",I20-H20,""))))
C21: =IF($A21="","",VLOOKUP($A21,'Délai de livraison proposé'!$A$2:$C$13,2,FALSE)) | E21: =WORKDAY($D21,$C21,0) -> #VALUE! | G21: =IF($A21="","",IF(F21="oui","",VLOOKUP($A21,'Délai de livraison proposé'!$A$2:$C$13,3,FALSE))) | H21: =IF(D21="","",IF(F21="non",WORKDAY($D21,$G21,0),"")) | J21: =IF(I21="","",IF(I21>E21,"non",IF(I21<=H21,"Oui","Non"))) | K21: =IF(J21="oui","",IF(D21="","",IF(H21="",I21-E21,IF(J21="non",I21-H21,""))))
... C60: =IF($A60="","",VLOOKUP($A60,'Délai de livraison proposé'!$A$2:$C$13,2,FALSE)) | E60: =WORKDAY($D60,$C60,0) -> #VALUE! | G60: =IF($A60="","",IF(F60="oui","",VLOOKUP($A60,'Délai de livraison proposé'!$A$2:$C$13,3,FALSE))) | H60: =IF(D60="","",IF(F60="non",WORKDAY($D60,$G60,0),"")) | J60: =IF(I60="","",IF(I60>E60,"non",IF(I60<=H60,"Oui","Non"))) | K60: =IF(J60="oui","",IF(D60="","",IF(H60="",I60-E60,IF(J60="non",I60-H60,""))))

Sheet matériel sportif
A1: Fournisseur | B1: Montant de la commande | C1: Délai de commande produits stock | D1: Date de commande | E1: Date de livraison théorique | F1: Livraison complète | G1: Délai produits non stockés | H1: Date livraison produits non stockés | I1: Date livraison réelle | J1: Délai tenu | K1: Retard | L1: Montant des pénalités applicables | M1: Service
A2: defissport | B2: 1500 | C2: =IF($A2="","",VLOOKUP($A2,'Délai de livraison proposé'!$A$2:$C$13,2,FALSE)) -> 8 | D2: 41255 | E2: =WORKDAY($D2,$C2,0) -> 41267 | F2: non | G2: =IF($A2="","",IF(F2="oui","",VLOOKUP($A2,'Délai de livraison proposé'!$A$2:$C$13,3,FALSE))) -> 12 | H2: =IF(D2="","",IF(F2="non",WORKDAY($D2,$G2,0),"")) -> 41271 | I2: 41273 | J2: =IF(I2="","",IF(I2>E2,"non",IF(I2<=H2,"Oui","Non"))) -> non | K2: =IF(J2="oui","",IF(D2="","",IF(H2="",I2-E2,IF(J2="non",WORKDAY($H2,$I2,0),"")))) -> 99054 | L2: =((B2*0.1)*0.2)*K2 -> 2971620 | M2: sport
C3: =IF($A3="","",VLOOKUP($A3,'Délai de livraison proposé'!$A$2:$C$13,2,FALSE)) | E3: =WORKDAY($D3,$C3,0) -> #VALUE! | G3: =IF($A3="","",IF(F3="oui","",VLOOKUP($A3,'Délai de livraison proposé'!$A$2:$C$13,3,FALSE))) | H3: =IF(D3="","",IF(F3="non",WORKDAY($D3,$G3,0),"")) | J3: =IF(I3="","",IF(I3>E3,"non",IF(I3<=H3,"Oui","Non"))) | K3: =IF(J3="oui","",IF(D3="","",IF(H3="",I3-E3,IF(J3="non",I3-H3,"")))) | L3: =0.1*$B3 -> 0
C4: =IF($A4="","",VLOOKUP($A4,'Délai de livraison proposé'!$A$2:$C$13,2,FALSE)) | E4: =WORKDAY($D4,$C4,0) -> #VALUE! | G4: =IF($A4="","",IF(F4="oui","",VLOOKUP($A4,'Délai de livraison proposé'!$A$2:$C$13,3,FALSE))) | H4: =IF(D4="","",IF(F4="non",WORKDAY($D4,$G4,0),"")) | J4: =IF(I4="","",IF(I4>E4,"non",IF(I4<=H4,"Oui","Non"))) | K4: =IF(J4="oui","",IF(D4="","",IF(H4="",I4-E4,IF(J4="non",I4-H4,"")))) | L4: =0.1*$B4 -> 0
C5: =IF($A5="","",VLOOKUP($A5,'Délai de livraison proposé'!$A$2:$C$13,2,FALSE)) | E5: =WORKDAY($D5,$C5,0) -> #VALUE! | G5: =IF($A5="","",IF(F5="oui","",VLOOKUP($A5,'Délai de livraison proposé'!$A$2:$C$13,3,FALSE))) | H5: =IF(D5="","",IF(F5="non",WORKDAY($D5,$G5,0),"")) | J5: =IF(I5="","",IF(I5>E5,"non",IF(I5<=H5,"Oui","Non"))) | K5: =IF(J5="oui","",IF(D5="","",IF(H5="",I5-E5,IF(J5="non",I5-H5,"")))) | L5: =0.1*$B5 -> 0
C6: =IF($A6="","",VLOOKUP($A6,'Délai de livraison proposé'!$A$2:$C$13,2,FALSE)) | E6: =WORKDAY($D6,$C6,0) -> #VALUE! | G6: =IF($A6="","",IF(F6="oui","",VLOOKUP($A6,'Délai de livraison proposé'!$A$2:$C$13,3,FALSE))) | H6: =IF(D6="","",IF(F6="non",WORKDAY($D6,$G6,0),"")) | J6: =IF(I6="","",IF(I6>E6,"non",IF(I6<=H6,"Oui","Non"))) | K6: =IF(J6="oui","",IF(D6="","",IF(H6="",I6-E6,IF(J6="non",I6-H6,"")))) | L6: =0.1*$B6 -> 0
C7: =IF($A7="","",VLOOKUP($A7,'Délai de livraison proposé'!$A$2:$C$13,2,FALSE)) | E7: =WORKDAY($D7,$C7,0) -> #VALUE! | G7: =IF($A7="","",IF(F7="oui","",VLOOKUP($A7,'Délai de livraison proposé'!$A$2:$C$13,3,FALSE))) | H7: =IF(D7="","",IF(F7="non",WORKDAY($D7,$G7,0),"")) | J7: =IF(I7="","",IF(I7>E7,"non",IF(I7<=H7,"Oui","Non"))) | K7: =IF(J7="oui","",IF(D7="","",IF(H7="",I7-E7,IF(J7="non",I7-H7,"")))) | L7: =0.1*$B7 -> 0
C8: =IF($A8="","",VLOOKUP($A8,'Délai de livraison proposé'!$A$2:$C$13,2,FALSE)) | E8: =WORKDAY($D8,$C8,0) -> #VALUE! | G8: =IF($A8="","",IF(F8="oui","",VLOOKUP($A8,'Délai de livraison proposé'!$A$2:$C$13,3,FALSE))) | H8: =IF(D8="","",IF(F8="non",WORKDAY($D8,$G8,0),"")) | J8: =IF(I8="","",IF(I8>E8,"non",IF(I8<=H8,"Oui","Non"))) | K8: =IF(J8="oui","",IF(D8="","",IF(H8="",I8-E8,IF(J8="non",I8-H8,"")))) | L8: =0.1*$B8 -> 0
C9: =IF($A9="","",VLOOKUP($A9,'Délai de livraison proposé'!$A$2:$C$13,2,FALSE)) | E9: =WORKDAY($D9,$C9,0) -> #VALUE! | G9: =IF($A9="","",IF(F9="oui","",VLOOKUP($A9,'Délai de livraison proposé'!$A$2:$C$13,3,FALSE))) | H9: =IF(D9="","",IF(F9="non",WORKDAY($D9,$G9,0),"")) | K9: =IF(J9="oui","",IF(D9="","",IF(H9="",I9-E9,IF(J9="non",I9-H9,"")))) | L9: =0.1*$B9 -> 0
C10: =IF($A10="","",VLOOKUP($A10,'Délai de livraison proposé'!$A$2:$C$13,2,FALSE)) | E10: =WORKDAY($D10,$C10,0) -> #VALUE! | G10: =IF($A10="","",IF(F10="oui","",VLOOKUP($A10,'Délai de livraison proposé'!$A$2:$C$13,3,FALSE))) | H10: =IF(D10="","",IF(F10="non",WORKDAY($D10,$G10,0),"")) | J10: =IF(I10="","",IF(I10>E10,"non",IF(I10<=H10,"Oui","Non"))) | K10: =IF(J10="oui","",IF(D10="","",IF(H10="",I10-E10,IF(J10="non",I10-H10,"")))) | L10: =0.1*$B10 -> 0
C11: =IF($A11="","",VLOOKUP($A11,'Délai de livraison proposé'!$A$2:$C$13,2,FALSE)) | E11: =WORKDAY($D11,$C11,0) -> #VALUE! | G11: =IF($A11="","",IF(F11="oui","",VLOOKUP($A11,'Délai de livraison proposé'!$A$2:$C$13,3,FALSE))) | H11: =IF(D11="","",IF(F11="non",WORKDAY($D11,$G11,0),"")) | J11: =IF(I11="","",IF(I11>E11,"non",IF(I11<=H11,"Oui","Non"))) | K11: =IF(J11="oui","",IF(D11="","",IF(H11="",I11-E11,IF(J11="non",I11-H11,"")))) | L11: =0.1*$B11 -> 0
C12: =IF($A12="","",VLOOKUP($A12,'Délai de livraison proposé'!$A$2:$C$13,2,FALSE)) | E12: =WORKDAY($D12,$C12,0) -> #VALUE! | G12: =IF($A12="","",IF(F12="oui","",VLOOKUP($A12,'Délai de livraison proposé'!$A$2:$C$13,3,FALSE))) | H12: =IF(D12="","",IF(F12="non",WORKDAY($D12,$G12,0),"")) | J12: =IF(I12="","",IF(I12>E12,"non",IF(I12<=H12,"Oui","Non"))) | K12: =IF(J12="oui","",IF(D12="","",IF(H12="",I12-E12,IF(J12="non",I12-H12,"")))) | L12: =0.1*$B12 -> 0
C13: =IF($A13="","",VLOOKUP($A13,'Délai de livraison proposé'!$A$2:$C$13,2,FALSE)) | E13: =WORKDAY($D13,$C13,0) -> #VALUE! | G13: =IF($A13="","",IF(F13="oui","",VLOOKUP($A13,'Délai de livraison proposé'!$A$2:$C$13,3,FALSE))) | H13: =IF(D13="","",IF(F13="non",WORKDAY($D13,$G13,0),"")) | J13: =IF(I13="","",IF(I13>E13,"non",IF(I13<=H13,"Oui","Non"))) | K13: =IF(J13="oui","",IF(D13="","",IF(H13="",I13-E13,IF(J13="non",I13-H13,"")))) | L13: =0.1*$B13 -> 0
C14: =IF($A14="","",VLOOKUP($A14,'Délai de livraison proposé'!$A$2:$C$13,2,FALSE)) | E14: =WORKDAY($D14,$C14,0) -> #VALUE! | G14: =IF($A14="","",IF(F14="oui","",VLOOKUP($A14,'Délai de livraison proposé'!$A$2:$C$13,3,FALSE))) | H14: =IF(D14="","",IF(F14="non",WORKDAY($D14,$G14,0),"")) | J14: =IF(I14="","",IF(I14>E14,"non",IF(I14<=H14,"Oui","Non"))) | K14: =IF(J14="oui","",IF(D14="","",IF(H14="",I14-E14,IF(J14="non",I14-H14,"")))) | L14: =0.1*$B14 -> 0
C15: =IF($A15="","",VLOOKUP($A15,'Délai de livraison proposé'!$A$2:$C$13,2,FALSE)) | E15: =WORKDAY($D15,$C15,0) -> #VALUE! | G15: =IF($A15="","",IF(F15="oui","",VLOOKUP($A15,'Délai de livraison proposé'!$A$2:$C$13,3,FALSE))) | H15: =IF(D15="","",IF(F15="non",WORKDAY($D15,$G15,0),"")) | J15: =IF(I15="","",IF(I15>E15,"non",IF(I15<=H15,"Oui","Non"))) | K15: =IF(J15="oui","",IF(D15="","",IF(H15="",I15-E15,IF(J15="non",I15-H15,"")))) | L15: =0.1*$B15 -> 0
C16: =IF($A16="","",VLOOKUP($A16,'Délai de livraison proposé'!$A$2:$C$13,2,FALSE)) | E16: =WORKDAY($D16,$C16,0) -> #VALUE! | G16: =IF($A16="","",IF(F16="oui","",VLOOKUP($A16,'Délai de livraison proposé'!$A$2:$C$13,3,FALSE))) | H16: =IF(D16="","",IF(F16="non",WORKDAY($D16,$G16,0),"")) | J16: =IF(I16="","",IF(I16>E16,"non",IF(I16<=H16,"Oui","Non"))) | K16: =IF(J16="oui","",IF(D16="","",IF(H16="",I16-E16,IF(J16="non",I16-H16,"")))) | L16: =0.1*$B16 -> 0
C17: =IF($A17="","",VLOOKUP($A17,'Délai de livraison proposé'!$A$2:$C$13,2,FALSE)) | E17: =WORKDAY($D17,$C17,0) -> #VALUE! | G17: =IF($A17="","",IF(F17="oui","",VLOOKUP($A17,'Délai de livraison proposé'!$A$2:$C$13,3,FALSE))) | H17: =IF(D17="","",IF(F17="non",WORKDAY($D17,$G17,0),"")) | J17: =IF(I17="","",IF(I17>E17,"non",IF(I17<=H17,"Oui","Non"))) | K17: =IF(J17="oui","",IF(D17="","",IF(H17="",I17-E17,IF(J17="non",I17-H17,"")))) | L17: =0.1*$B17 -> 0
C18: =IF($A18="","",VLOOKUP($A18,'Délai de livraison proposé'!$A$2:$C$13,2,FALSE)) | E18: =WORKDAY($D18,$C18,0) -> #VALUE! | G18: =IF($A18="","",IF(F18="oui","",VLOOKUP($A18,'Délai de livraison proposé'!$A$2:$C$13,3,FALSE))) | H18: =IF(D18="","",IF(F18="non",WORKDAY($D18,$G18,0),"")) | J18: =IF(I18="","",IF(I18>E18,"non",IF(I18<=H18,"Oui","Non"))) | K18: =IF(J18="oui","",IF(D18="","",IF(H18="",I18-E18,IF(J18="non",I18-H18,"")))) | L18: =0.1*$B18 -> 0
C19: =IF($A19="","",VLOOKUP($A19,'Délai de livraison proposé'!$A$2:$C$13,2,FALSE)) | E19: =WORKDAY($D19,$C19,0) -> #VALUE! | G19: =IF($A19="","",IF(F19="oui","",VLOOKUP($A19,'Délai de livraison proposé'!$A$2:$C$13,3,FALSE))) | H19: =IF(D19="","",IF(F19="non",WORKDAY($D19,$G19,0),"")) | J19: =IF(I19="","",IF(I19>E19,"non",IF(I19<=H19,"Oui","Non"))) | K19: =IF(J19="oui","",IF(D19="","",IF(H19="",I19-E19,IF(J19="non",I19-H19,"")))) | L19: =0.1*$B19 -> 0
C20: =IF($A20="","",VLOOKUP($A20,'Délai de livraison proposé'!$A$2:$C$13,2,FALSE)) | E20: =WORKDAY($D20,$C20,0) -> #VALUE! | G20: =IF($A20="","",IF(F20="oui","",VLOOKUP($A20,'Délai de livraison proposé'!$A$2:$C$13,3,FALSE))) | H20: =IF(D20="","",IF(F20="non",WORKDAY($D20,$G20,0),"")) | J20: =IF(I20="","",IF(I20>E20,"non",IF(I20<=H20,"Oui","Non"))) | K20: =IF(J20="oui","",IF(D20="","",IF(H20="",I20-E20,IF(J20="non",I20-H20,"")))) | L20: =0.1*$B20 -> 0
C21: =IF($A21="","",VLOOKUP($A21,'Délai de livraison proposé'!$A$2:$C$13,2,FALSE)) | E21: =WORKDAY($D21,$C21,0) -> #VALUE! | G21: =IF($A21="","",IF(F21="oui","",VLOOKUP($A21,'Délai de livraison proposé'!$A$2:$C$13,3,FALSE))) | H21: =IF(D21="","",IF(F21="non",WORKDAY($D21,$G21,0),"")) | J21: =IF(I21="","",IF(I21>E21,"non",IF(I21<=H21,"Oui","Non"))) | K21: =IF(J21="oui","",IF(D21="","",IF(H21="",I21-E21,IF(J21="non",I21-H21,"")))) | L21: =0.1*$B21 -> 0
... C60: =IF($A60="","",VLOOKUP($A60,'Délai de livraison proposé'!$A$2:$C$13,2,FALSE)) | E60: =WORKDAY($D60,$C60,0) -> #VALUE! | G60: =IF($A60="","",IF(F60="oui","",VLOOKUP($A60,'Délai de livraison proposé'!$A$2:$C$13,3,FALSE))) | H60: =IF(D60="","",IF(F60="non",WORKDAY($D60,$G60,0),"")) | J60: =IF(I60="","",IF(I60>E60,"non",IF(I60<=H60,"Oui","Non"))) | K60: =IF(J60="oui","",IF(D60="","",IF(H60="",I60-E60,IF(J60="non",I60-H60,"")))) | L60: =0.1*$B60 -> 0
