Workbook

Sheet Chantiers
D1: Matériel (1 | E1: Matériel (2 | F1: Matériel (3 | G1: Matériel (4 | H1: Matériel (5
A2: ="S " & _xlfn.ISOWEEKNUM(C2) -> S 1 | B2: 43468 | C2: 43468
A3: ="S " & _xlfn.ISOWEEKNUM(C3) -> S 1 | B3: 43469 | C3: 43469
A4: ="S " & _xlfn.ISOWEEKNUM(C4) -> S 1 | B4: 43470 | C4: 43470
A5: ="S " & _xlfn.ISOWEEKNUM(C5) -> S 1 | B5: 43471 | C5: 43471
A6: ="S " & _xlfn.ISOWEEKNUM(C6) -> S 2 | B6: 43472 | C6: 43472 | D6: PARIS
A7: ="S " & _xlfn.ISOWEEKNUM(C7) -> S 2 | B7: 43473 | C7: 43473 | E7: MARSEILLE | F7: LILLE
A8: ="S " & _xlfn.ISOWEEKNUM(C8) -> S 2 | B8: 43474 | C8: 43474 | F8: LILLE
A9: ="S " & _xlfn.ISOWEEKNUM(C9) -> S 2 | B9: 43475 | C9: 43475
A10: ="S " & _xlfn.ISOWEEKNUM(C10) -> S 2 | B10: 43476 | C10: 43476
A11: ="S " & _xlfn.ISOWEEKNUM(C11) -> S 2 | B11: 43477 | C11: 43477
A12: ="S " & _xlfn.ISOWEEKNUM(C12) -> S 2 | B12: 43478 | C12: 43478
A13: ="S " & _xlfn.ISOWEEKNUM(C13) -> S 3 | B13: 43479 | C13: 43479
A14: ="S " & _xlfn.ISOWEEKNUM(C14) -> S 3 | B14: 43480 | C14: 43480
A15: ="S " & _xlfn.ISOWEEKNUM(C15) -> S 3 | B15: 43481 | C15: 43481
A16: ="S " & _xlfn.ISOWEEKNUM(C16) -> S 3 | B16: 43482 | C16: 43482
A17: ="S " & _xlfn.ISOWEEKNUM(C17) -> S 3 | B17: 43483 | C17: 43483
A18: ="S " & _xlfn.ISOWEEKNUM(C18) -> S 3 | B18: 43484 | C18: 43484
A19: ="S " & _xlfn.ISOWEEKNUM(C19) -> S 3 | B19: 43485 | C19: 43485
A20: ="S " & _xlfn.ISOWEEKNUM(C20) -> S 4 | B20: 43486 | C20: 43486
... A24: ="S " & _xlfn.ISOWEEKNUM(C24) -> S 4 | B24: 43490 | C24: 43490

Sheet Planning
D1: Monsieur A | E1: Monsieur B | F1: Monsieur C | G1: Monsieur D | H1: Monsieur E
A2: 43468 | B2: =A2 -> 43468 | C2: matin
B3: =B2 -> 43468 | C3: aprem
B4: =B2 -> 43468 | C4: nuit
A5: 43469 | B5: =A5 -> 43469 | C5: matin
B6: =B5 -> 43469 | C6: aprem
B7: =B5 -> 43469 | C7: nuit
A8: 43470 | B8: =A8 -> 43470 | C8: matin
B9: =B8 -> 43470 | C9: aprem
B10: =B8 -> 43470 | C10: nuit
A11: 43471 | B11: =A11 -> 43471 | C11: matin
B12: =B11 -> 43471 | C12: aprem
B13: =B11 -> 43471 | C13: nuit
A14: 43472 | B14: =A14 -> 43472 | C14: matin | D14: PARIS | E14: PARIS
B15: =B14 -> 43472 | C15: aprem | D15: PARIS | E15: PARIS
B16: =B14 -> 43472 | C16: nuit
A17: 43473 | B17: =A17 -> 43473 | C17: matin | F17: MARSEILLE | G17: LILLE | H17: MARSEILLE
B18: =B17 -> 43473 | C18: aprem | F18: MARSEILLE | G18: LILLE | H18: MARSEILLE
B19: =B17 -> 43473 | C19: nuit | F19: MARSEILLE | H19: MARSEILLE
A20: 43474 | B20: =A20 -> 43474 | C20: matin | G20: LILLE | H20: LILLE
B21: =B20 -> 43474 | C21: aprem | G21: LILLE | H21: LILLE
B22: =B20 -> 43474 | C22: nuit

Sheet Impression
A1: =Planning!A1 -> 0 | B1: =Planning!B1 -> 0 | D1: Matériel (1 | E1: Matériel (2 | F1: Matériel (3 | G1: Matériel (4 | H1: Matériel (5 | J1: Monsieur A | K1: Monsieur B | L1: Monsieur C | M1: Monsieur D | N1: Monsieur E
A2: =Planning!A2 -> 43468 | B2: =Planning!B2 -> 43468 | D2: =Chantiers!D2 -> 0 | E2: =Chantiers!E2 -> 0 | F2: =Chantiers!F2 -> 0 | G2: =Chantiers!G2 -> 0 | H2: =Chantiers!H2 -> 0 | J2: =Planning!D2 -> 0 | K2: =Planning!E2 -> 0 | L2: =Planning!F2 -> 0 | M2: =Planning!G2 -> 0 | N2: =Planning!H2 -> 0
A3: =Planning!A3 -> 0 | B3: =Planning!B3 -> 43468 | D3: =Chantiers!D2 -> 0 | E3: =Chantiers!E2 -> 0 | F3: =Chantiers!F2 -> 0 | G3: =Chantiers!G2 -> 0 | H3: =Chantiers!H2 -> 0 | J3: =Planning!D3 -> 0 | K3: =Planning!E3 -> 0 | L3: =Planning!F3 -> 0 | M3: =Planning!G3 -> 0 | N3: =Planning!H3 -> 0
A4: =Planning!A4 -> 0 | B4: =Planning!B4 -> 43468 | D4: =Chantiers!D2 -> 0 | E4: =Chantiers!E2 -> 0 | F4: =Chantiers!F2 -> 0 | G4: =Chantiers!G2 -> 0 | H4: =Chantiers!H2 -> 0 | J4: =Planning!D4 -> 0 | K4: =Planning!E4 -> 0 | L4: =Planning!F4 -> 0 | M4: =Planning!G4 -> 0 | N4: =Planning!H4 -> 0
A5: =Planning!A5 -> 43469 | B5: =Planning!B5 -> 43469 | D5: =Chantiers!D3 -> 0 | E5: =Chantiers!E3 -> 0 | F5: =Chantiers!F3 -> 0 | G5: =Chantiers!G3 -> 0 | H5: =Chantiers!H3 -> 0 | J5: =Planning!D5 -> 0 | K5: =Planning!E5 -> 0 | L5: =Planning!F5 -> 0 | M5: =Planning!G5 -> 0 | N5: =Planning!H5 -> 0
A6: =Planning!A6 -> 0 | B6: =Planning!B6 -> 43469 | D6: =Chantiers!D3 -> 0 | E6: =Chantiers!E3 -> 0 | F6: =Chantiers!F3 -> 0 | G6: =Chantiers!G3 -> 0 | H6: =Chantiers!H3 -> 0 | J6: =Planning!D6 -> 0 | K6: =Planning!E6 -> 0 | L6: =Planning!F6 -> 0 | M6: =Planning!G6 -> 0 | N6: =Planning!H6 -> 0
A7: =Planning!A7 -> 0 | B7: =Planning!B7 -> 43469 | D7: =Chantiers!D3 -> 0 | E7: =Chantiers!E3 -> 0 | F7: =Chantiers!F3 -> 0 | G7: =Chantiers!G3 -> 0 | H7: =Chantiers!H3 -> 0 | J7: =Planning!D7 -> 0 | K7: =Planning!E7 -> 0 | L7: =Planning!F7 -> 0 | M7: =Planning!G7 -> 0 | N7: =Planning!H7 -> 0
A8: =Planning!A8 -> 43470 | B8: =Planning!B8 -> 43470 | D8: =Chantiers!D4 -> 0 | E8: =Chantiers!E4 -> 0 | F8: =Chantiers!F4 -> 0 | G8: =Chantiers!G4 -> 0 | H8: =Chantiers!H4 -> 0 | J8: =Planning!D8 -> 0 | K8: =Planning!E8 -> 0 | L8: =Planning!F8 -> 0 | M8: =Planning!G8 -> 0 | N8: =Planning!H8 -> 0
A9: =Planning!A9 -> 0 | B9: =Planning!B9 -> 43470 | D9: =Chantiers!D4 -> 0 | E9: =Chantiers!E4 -> 0 | F9: =Chantiers!F4 -> 0 | G9: =Chantiers!G4 -> 0 | H9: =Chantiers!H4 -> 0 | J9: =Planning!D9 -> 0 | K9: =Planning!E9 -> 0 | L9: =Planning!F9 -> 0 | M9: =Planning!G9 -> 0 | N9: =Planning!H9 -> 0
A10: =Planning!A10 -> 0 | B10: =Planning!B10 -> 43470 | D10: =Chantiers!D4 -> 0 | E10: =Chantiers!E4 -> 0 | F10: =Chantiers!F4 -> 0 | G10: =Chantiers!G4 -> 0 | H10: =Chantiers!H4 -> 0 | J10: =Planning!D10 -> 0 | K10: =Planning!E10 -> 0 | L10: =Planning!F10 -> 0 | M10: =Planning!G10 -> 0 | N10: =Planning!H10 -> 0
A11: =Planning!A11 -> 43471 | B11: =Planning!B11 -> 43471 | D11: =Chantiers!D5 -> 0 | E11: =Chantiers!E5 -> 0 | F11: =Chantiers!F5 -> 0 | G11: =Chantiers!G5 -> 0 | H11: =Chantiers!H5 -> 0 | J11: =Planning!D11 -> 0 | K11: =Planning!E11 -> 0 | L11: =Planning!F11 -> 0 | M11: =Planning!G11 -> 0 | N11: =Planning!H11 -> 0
A12: =Planning!A12 -> 0 | B12: =Planning!B12 -> 43471 | D12: =Chantiers!D5 -> 0 | E12: =Chantiers!E5 -> 0 | F12: =Chantiers!F5 -> 0 | G12: =Chantiers!G5 -> 0 | H12: =Chantiers!H5 -> 0 | J12: =Planning!D12 -> 0 | K12: =Planning!E12 -> 0 | L12: =Planning!F12 -> 0 | M12: =Planning!G12 -> 0 | N12: =Planning!H12 -> 0
A13: =Planning!A13 -> 0 | B13: =Planning!B13 -> 43471 | D13: =Chantiers!D5 -> 0 | E13: =Chantiers!E5 -> 0 | F13: =Chantiers!F5 -> 0 | G13: =Chantiers!G5 -> 0 | H13: =Chantiers!H5 -> 0 | J13: =Planning!D13 -> 0 | K13: =Planning!E13 -> 0 | L13: =Planning!F13 -> 0 | M13: =Planning!G13 -> 0 | N13: =Planning!H13 -> 0
A14: =Planning!A14 -> 43472 | B14: =Planning!B14 -> 43472 | D14: =Chantiers!D6 -> PARIS | E14: =Chantiers!E6 -> 0 | F14: =Chantiers!F6 -> 0 | G14: =Chantiers!G6 -> 0 | H14: =Chantiers!H6 -> 0 | J14: =Planning!D14 -> PARIS | K14: =Planning!E14 -> PARIS | L14: =Planning!F14 -> 0 | M14: =Planning!G14 -> 0 | N14: =Planning!H14 -> 0
A15: =Planning!A15 -> 0 | B15: =Planning!B15 -> 43472 | D15: =Chantiers!D6 -> PARIS | E15: =Chantiers!E6 -> 0 | F15: =Chantiers!F6 -> 0 | G15: =Chantiers!G6 -> 0 | H15: =Chantiers!H6 -> 0 | J15: =Planning!D15 -> PARIS | K15: =Planning!E15 -> PARIS | L15: =Planning!F15 -> 0 | M15: =Planning!G15 -> 0 | N15: =Planning!H15 -> 0
A16: =Planning!A16 -> 0 | B16: =Planning!B16 -> 43472 | D16: =Chantiers!D6 -> PARIS | E16: =Chantiers!E6 -> 0 | F16: =Chantiers!F6 -> 0 | G16: =Chantiers!G6 -> 0 | H16: =Chantiers!H6 -> 0 | J16: =Planning!D16 -> 0 | K16: =Planning!E16 -> 0 | L16: =Planning!F16 -> 0 | M16: =Planning!G16 -> 0 | N16: =Planning!H16 -> 0
A17: =Planning!A17 -> 43473 | B17: =Planning!B17 -> 43473 | D17: =Chantiers!D7 -> 0 | E17: =Chantiers!E7 -> MARSEILLE | F17: =Chantiers!F7 -> LILLE | G17: =Chantiers!G7 -> 0 | H17: =Chantiers!H7 -> 0 | J17: =Planning!D17 -> 0 | K17: =Planning!E17 -> 0 | L17: =Planning!F17 -> MARSEILLE | M17: =Planning!G17 -> LILLE | N17: =Planning!H17 -> MARSEILLE
A18: =Planning!A18 -> 0 | B18: =Planning!B18 -> 43473 | D18: =Chantiers!D7 -> 0 | E18: =Chantiers!E7 -> MARSEILLE | F18: =Chantiers!F7 -> LILLE | G18: =Chantiers!G7 -> 0 | H18: =Chantiers!H7 -> 0 | J18: =Planning!D18 -> 0 | K18: =Planning!E18 -> 0 | L18: =Planning!F18 -> MARSEILLE | M18: =Planning!G18 -> LILLE | N18: =Planning!H18 -> MARSEILLE
A19: =Planning!A19 -> 0 | B19: =Planning!B19 -> 43473 | D19: =Chantiers!D7 -> 0 | E19: =Chantiers!E7 -> MARSEILLE | F19: =Chantiers!F7 -> LILLE | G19: =Chantiers!G7 -> 0 | H19: =Chantiers!H7 -> 0 | J19: =Planning!D19 -> 0 | K19: =Planning!E19 -> 0 | L19: =Planning!F19 -> MARSEILLE | M19: =Planning!G19 -> 0 | N19: =Planning!H19 -> MARSEILLE
A20: =Planning!A20 -> 43474 | B20: =Planning!B20 -> 43474 | D20: =Chantiers!D8 -> 0 | E20: =Chantiers!E8 -> 0 | F20: =Chantiers!F8 -> LILLE | G20: =Chantiers!G8 -> 0 | H20: =Chantiers!H8 -> 0 | J20: =Planning!D20 -> 0 | K20: =Planning!E20 -> 0 | L20: =Planning!F20 -> 0 | M20: =Planning!G20 -> LILLE | N20: =Planning!H20 -> LILLE
A21: =Planning!A21 -> 0 | B21: =Planning!B21 -> 43474 | D21: =Chantiers!D8 -> 0 | E21: =Chantiers!E8 -> 0 | F21: =Chantiers!F8 -> LILLE | G21: =Chantiers!G8 -> 0 | H21: =Chantiers!H8 -> 0 | J21: =Planning!D21 -> 0 | K21: =Planning!E21 -> 0 | L21: =Planning!F21 -> 0 | M21: =Planning!G21 -> LILLE | N21: =Planning!H21 -> LILLE
A22: =Planning!A22 -> 0 | B22: =Planning!B22 -> 43474 | D22: =Chantiers!D8 -> 0 | E22: =Chantiers!E8 -> 0 | F22: =Chantiers!F8 -> LILLE | G22: =Chantiers!G8 -> 0 | H22: =Chantiers!H8 -> 0 | J22: =Planning!D22 -> 0 | K22: =Planning!E22 -> 0 | L22: =Planning!F22 -> 0 | M22: =Planning!G22 -> 0 | N22: =Planning!H22 -> 0
A23: =Planning!A23 -> 0 | B23: =Planning!B23 -> 0
A24: =Planning!A24 -> 0 | B24: =Planning!B24 -> 0
