Workbook

Sheet Previsionnel
A3: En volume | B3: =PROPER(TEXT(DATE(2014,9,1),"mmmm aaaa")) -> Septembre 2014 | C3: =PROPER(TEXT(DATE(2014,10,1),"mmmm aaaa")) -> Octobre 2014 | D3: =PROPER(TEXT(DATE(2014,11,1),"mmmm aaaa")) -> Novembre 2014 | E3: =PROPER(TEXT(DATE(2014,12,1),"mmmm aaaa")) -> Décembre 2014 | F3: =PROPER(TEXT(DATE(2015,1,1),"mmmm aaaa")) -> Janvier 2015 | G3: =PROPER(TEXT(DATE(2015,2,1),"mmmm aaaa")) -> Février 2015 | H3: =PROPER(TEXT(DATE(2015,3,1),"mmmm aaaa")) -> Mars 2015 | I3: =PROPER(TEXT(DATE(2015,4,1),"mmmm aaaa")) -> Avril 2015 | J3: =PROPER(TEXT(DATE(2015,5,1),"mmmm aaaa")) -> Mai 2015 | K3: =PROPER(TEXT(DATE(2015,6,1),"mmmm aaaa")) -> Juin 2015 | L3: =PROPER(TEXT(DATE(2015,7,1),"mmmm aaaa")) -> Juillet 2015 | M3: =PROPER(TEXT(DATE(2015,8,1),"mmmm aaaa")) -> Août 2015 | N3: =PROPER(TEXT(DATE(2015,9,1),"mmmm aaaa")) -> Septembre 2015 | O3: =PROPER(TEXT(DATE(2015,10,1),"mmmm aaaa")) -> Octobre 2015 | P3: =PROPER(TEXT(DATE(2015,11,1),"mmmm aaaa")) -> Novembre 2015 | Q3: =PROPER(TEXT(DATE(2015,12,1),"mmmm aaaa")) -> Décembre 2015
C4: 5641323
C5: 1355841
C6: 4651236
C7: 15678132
B8: =SUM(B4:B7) -> 0 | C8: =SUM(C4:C7) -> 27326532 | D8: =SUM(D4:D7) -> 0 | E8: =SUM(E4:E7) -> 0 | F8: =SUM(F4:F7) -> 0 | G8: =SUM(G4:G7) -> 0 | H8: =SUM(H4:H7) -> 0 | I8: =SUM(I4:I7) -> 0 | ... Q8: =SUM(Q4:Q7) -> 0
B9: =B8 -> 0 | C9: =B9+C8 -> 27326532 | D9: =C9+D8 -> 27326532 | E9: =D9+E8 -> 27326532 | F9: =IF(F8=0,"-",E9+F8) -> - | G9: =IF(G8=0,"-",F9+G8) -> - | H9: =IF(H8=0,"-",G9+H8) -> - | I9: =IF(I8=0,"-",H9+I8) -> - | J9: =IF(J8=0,"-",I9+J8) -> - | K9: =IF(K8=0,"-",J9+K8) -> - | L9: =IF(L8=0,"-",K9+L8) -> - | M9: =IF(M8=0,"-",L9+M8) -> - | ... Q9: =IF(Q8=0,"-",P9+Q8) -> -
C10: 40000000
B11: =IF(B10=0,0,A11+B10) -> 0 | C11: =IF(C10=0,0,B11+C10) -> 40000000 | D11: =IF(D10=0,0,C11+D10) -> 0 | E11: =IF(E10=0,0,D11+E10) -> 0 | F11: =IF(F10=0,0,E11+F10) -> 0 | G11: =IF(G10=0,0,F11+G10) -> 0 | H11: =IF(H10=0,0,G11+H10) -> 0 | I11: =IF(I10=0,0,H11+I10) -> 0 | ... Q11: =IF(Q10=0,0,P11+Q10) -> 0
B12: =IFERROR(B8/B10,"-") -> - | C12: =IFERROR(C8/C10,"-") -> 0.6831633 | D12: =IFERROR(D8/D10,"-") -> - | E12: =IFERROR(E8/E10,"-") -> - | F12: =IFERROR(F8/F10,"-") -> - | G12: =IFERROR(G8/G10,"-") -> - | H12: =IFERROR(H8/H10,"-") -> - | I12: =IFERROR(I8/I10,"-") -> - | ... Q12: =IFERROR(Q8/Q10,"-") -> -

Sheet Réel
A1: quantités à date d'expedition réelle - Le Réalisé | B1: lundi | C1: mardi | D1: mercredi | E1: jeudi | F1: vendredi | G1: lundi | H1: mardi | I1: mercredi | J1: jeudi | K1: vendredi | L1: lundi | M1: mardi | N1: mercredi | O1: jeudi | P1: vendredi | Q1: lundi | R1: mardi | S1: mercredi | T1: jeudi | U1: vendredi | V1: lundi | W1: mardi
B2: 41883 | C2: 41884 | D2: 41885 | E2: 41886 | F2: 41887 | G2: 41890 | H2: 41891 | I2: 41892 | J2: 41893 | K2: 41894 | L2: 41897 | M2: 41898 | N2: 41899 | O2: 41900 | P2: 41901 | Q2: 41904 | R2: 41905 | S2: 41906 | T2: 41907 | U2: 41908 | V2: 41911 | W2: 41912
B3: Nbres d'unités | C3: Nbres d'unités | D3: Nbres d'unités | E3: Nbres d'unités | F3: Nbres d'unités | G3: Nbres d'unités | H3: Nbres d'unités | I3: Nbres d'unités | J3: Nbres d'unités | K3: Nbres d'unités | L3: Nbres d'unités | M3: Nbres d'unités | N3: Nbres d'unités | O3: Nbres d'unités | P3: Nbres d'unités | Q3: Nbres d'unités | R3: Nbres d'unités | S3: Nbres d'unités | T3: Nbres d'unités | U3: Nbres d'unités | V3: Nbres d'unités | W3: Nbres d'unités
A4: Canal 1 | B4: 13582 | C4: 15348 | D4: 17114 | E4: 18880 | F4: 20646 | G4: 22412 | H4: 24178 | I4: 25944 | J4: 27710 | K4: 29476 | L4: 31242 | M4: 33008 | N4: 34774 | O4: 36540 | P4: 38306 | Q4: 40072 | R4: 41838 | S4: 43604 | T4: 45370 | U4: 47136 | V4: 48902 | W4: 50668
A5: Canal 2 | B5: 9578 | C5: 10547 | D5: 11516 | E5: 12485 | F5: 13454 | G5: 14423 | H5: 15392 | I5: 16361 | J5: 17330 | K5: 18299 | L5: 19268 | M5: 20237 | N5: 21206 | O5: 22175 | P5: 23144 | Q5: 24113 | R5: 25082 | S5: 26051 | T5: 27020 | U5: 27989 | V5: 28958 | W5: 29927
A6: Canal 3 | B6: 20154 | C6: 20657 | D6: 21160 | E6: 21663 | F6: 22166 | G6: 22669 | H6: 23172 | I6: 23675 | J6: 24178 | K6: 24681 | L6: 25184 | M6: 25687 | N6: 26190 | O6: 26693 | P6: 27196 | Q6: 27699 | R6: 28202 | S6: 28705 | T6: 29208 | U6: 29711 | V6: 30214 | W6: 30717
A7: Somme : | B7: =SUM(B4:B6) -> 43314 | C7: =SUM(C4:C6) -> 46552 | D7: =SUM(D4:D6) -> 49790 | E7: =SUM(E4:E6) -> 53028 | F7: =SUM(F4:F6) -> 56266 | G7: =SUM(G4:G6) -> 59504 | H7: =SUM(H4:H6) -> 62742 | I7: =SUM(I4:I6) -> 65980 | ... W7: =SUM(W4:W6) -> 111312

Sheet Prev.Act.Atelier(UV)
B2: Jour | C2: Total | D2: Atelier 1 | E2: Atelier 2 | F2: Atelier 3 | G2: Atelier 4 | H2: Atelier 5 | I2: Atelier 6 | J2: Atelier 7
C3: =SUM(C4,C22,C52,C82,C112) -> 5940550.4 | D3: =SUM(D4,D22,D52,D82,D112) -> 0 | E3: =SUM(E4,E22,E52,E82,E112) -> 0 | F3: =SUM(F4,F22,F52,F82,F112) -> 0 | G3: =SUM(G4,G22,G52,G82,G112) -> 0 | H3: =SUM(H4,H22,H52,H82,H112) -> 0 | I3: =SUM(I4,I22,I52,I82,I112) -> 0 | J3: =SUM(J4,J22,J52,J82,J112) -> 0
C4: =SUM(C9,C15,C21) -> 3564330.3 | D4: =D9+D15+D21 -> 0 | E4: =E9+E15+E21 -> 0 | F4: =F9+F15+F21 -> 0 | G4: =G9+G15+G21 -> 0 | H4: =H9+H15+H21 -> 0 | I4: =I9+I15+I21 -> 0 | J4: =J9+J15+J21 -> 0
A5: Canal 1 | B5: 41913 | C5: ='[1]Prev. Act. Canal'!D5 -> 245274.91
A6: Canal 2 | C6: ='[1]Prev. Act. Canal'!E5 -> 58949.609
A7: Canal 3 | C7: ='[1]Prev. Act. Canal'!F5 -> 202227.65
A8: Canal 4 | C8: ='[1]Prev. Act. Canal'!G5 -> 681657.91
A9: Total | C9: =SUM(C5:C8) -> 1188110.1
B10: 41914
A11: Canal 1 | C11: ='[1]Prev. Act. Canal'!D6 -> 245274.91
A12: Canal 2 | C12: ='[1]Prev. Act. Canal'!E6 -> 58949.609
A13: Canal 3 | C13: ='[1]Prev. Act. Canal'!F6 -> 202227.65
A14: Canal 4 | C14: ='[1]Prev. Act. Canal'!G6 -> 681657.91
A15: Total | C15: =SUM(C11:C14) -> 1188110.1
B16: 41915
A17: Canal 1 | C17: ='[1]Prev. Act. Canal'!D7 -> 245274.91
A18: Canal 2 | C18: ='[1]Prev. Act. Canal'!E7 -> 58949.609
A19: Canal 3 | C19: ='[1]Prev. Act. Canal'!F7 -> 202227.65
A20: Canal 4 | C20: ='[1]Prev. Act. Canal'!G7 -> 681657.91
A21: Total | C21: =SUM(C17:C20) -> 1188110.1
C22: =SUM(C27,C33,C39,C45,C51) -> 2376220.2 | D22: =SUM(D27,D33,D39,D45,D51) -> 0 | E22: =SUM(E27,E33,E39,E45,E51) -> 0 | F22: =SUM(F27,F33,F39,F45,F51) -> 0 | G22: =SUM(G27,G33,G39,G45,G51) -> 0 | H22: =SUM(H27,H33,H39,H45,H51) -> 0 | I22: =SUM(I27,I33,I39,I45,I51) -> 0 | J22: =SUM(J27,J33,J39,J45,J51) -> 0
A23: Canal 1 | B23: 41918 | C23: ='[1]Prev. Act. Canal'!D9 -> 245274.91
A24: Canal 2 | C24: ='[1]Prev. Act. Canal'!E9 -> 58949.609
A25: Canal 3 | C25: ='[1]Prev. Act. Canal'!F9 -> 202227.65
A26: Canal 4 | C26: ='[1]Prev. Act. Canal'!G9 -> 681657.91
A27: Total | C27: =SUM(C23:C26) -> 1188110.1
B28: 41919
A29: Canal 1 | C29: ='[1]Prev. Act. Canal'!D10 -> 245274.91
A30: Canal 2 | C30: ='[1]Prev. Act. Canal'!E10 -> 58949.609
A31: Canal 3 | C31: ='[1]Prev. Act. Canal'!F10 -> 202227.65
A32: Canal 4 | C32: ='[1]Prev. Act. Canal'!G10 -> 681657.91
A33: Total | C33: =SUM(C29:C32) -> 1188110.1
B34: 41920
B40: 41921
B46: 41922
C52: =SUM(C57,C63,C69,C75,C81) -> 0 | D52: =SUM(D57,D63,D69,D75,D81) -> 0 | E52: =SUM(E57,E63,E69,E75,E81) -> 0 | F52: =SUM(F57,F63,F69,F75,F81) -> 0 | G52: =SUM(G57,G63,G69,G75,G81) -> 0 | H52: =SUM(H57,H63,H69,H75,H81) -> 0 | I52: =SUM(I57,I63,I69,I75,I81) -> 0 | J52: =SUM(J57,J63,J69,J75,J81) -> 0
B53: 41925
B58: 41926
B64: 41927
B70: 41928
...

Sheet Prev. Act. Canal
A1: Mois | B1: Semaine | C1: Jour | D1: PREV | E1: PREV | F1: PREV | G1: PREV | L1: REEL | M1: REEL | N1: REEL | O1: REEL | P1: TOTAL PREV | Q1: TOTAL PLAN | R1: TOTAL REEL
C2: 41914 | D2: CANAL 1 | E2: CANAL 2 | F2: CANAL 3 | G2: CANAL 4 | H2: CANAL 1 | I2: CANAL 2 | J2: CANAL 3 | K2: CANAL 4 | L2: CANAL 1 | M2: CANAL 2 | N2: CANAL 3 | O2: CANAL 4
A3: =PROPER(TEXT(DATE(2014,10,1),"mmmm aaaa")) -> Octobre 2014 | D3: =SUM(D4,D8,D14,D20,D26) -> 5641323 | E3: =SUM(E4,E8,E14,E20,E26) -> 1355841 | F3: =SUM(F4,F8,F14,F20,F26) -> 4651236 | G3: =SUM(G4,G8,G14,G20,G26) -> 15678132 | H3: =SUM(H4,H8,H14,H20,H26) -> 0 | I3: =SUM(I4,I8,I14,I20,I26) -> 0 | J3: =SUM(J4,J8,J14,J20,J26) -> 0 | K3: =SUM(K4,K8,K14,K20,K26) -> 0 | ... R3: =SUM(R4,R8,R14,R20,R26) -> 80725
B4: 40 | D4: =SUM(D5:D7) -> 735824.74 | E4: =SUM(E5:E7) -> 176848.83 | F4: =SUM(F5:F7) -> 606682.96 | G4: =SUM(G5:G7) -> 2044973.7 | H4: =SUM(H5:H7) -> 0 | I4: =SUM(I5:I7) -> 0 | J4: =SUM(J5:J7) -> 0 | K4: =SUM(K5:K7) -> 0 | ... O4: =SUM(O5:O7) -> 0 | P4: =SUM(D4:G4) -> 3564330.3 | Q4: =SUM(H4:K4) -> 0 | R4: =SUM(L4:O4) -> 80725
C5: 41913 | D5: =([1]Previsionnel!$C$4/COUNT('[1]Prev. Act. Canal'!$C$5:$C$31)) -> 245274.91 | E5: =([1]Previsionnel!$C$5/COUNT('[1]Prev. Act. Canal'!$C$5:$C$31)) -> 58949.609 | F5: =([1]Previsionnel!$C$6/COUNT('[1]Prev. Act. Canal'!$C$5:$C$31))*1 -> 202227.65 | G5: =([1]Previsionnel!$C$7/COUNT('[1]Prev. Act. Canal'!$C$5:$C$31)) -> 681657.91 | L5: =[1]Réel!B4 -> 13582 | M5: =[1]Réel!B5 -> 9578 | N5: =[1]Réel!B6 -> 20154 | P5: =SUM(D5:G5) -> 1188110.1 | Q5: =SUM(H5:K5) -> 0 | R5: =SUM(L5:O5) -> 43314
C6: 41914 | D6: =([1]Previsionnel!$C$4/COUNT('[1]Prev. Act. Canal'!$C$5:$C$31)) -> 245274.91 | E6: =([1]Previsionnel!$C$5/COUNT('[1]Prev. Act. Canal'!$C$5:$C$31)) -> 58949.609 | F6: =([1]Previsionnel!$C$6/COUNT('[1]Prev. Act. Canal'!$C$5:$C$31)) -> 202227.65 | G6: =([1]Previsionnel!$C$7/COUNT('[1]Prev. Act. Canal'!$C$5:$C$31)) -> 681657.91 | L6: =[1]Réel!C4 -> 15348 | M6: =[1]Réel!C5 -> 10547 | N6: =[1]Réel!D5 -> 11516 | P6: =SUM(D6:G6) -> 1188110.1 | Q6: =SUM(H6:K6) -> 0 | R6: =SUM(L6:O6) -> 37411
C7: 41915 | D7: =([1]Previsionnel!$C$4/COUNT('[1]Prev. Act. Canal'!$C$5:$C$31)) -> 245274.91 | E7: =([1]Previsionnel!$C$5/COUNT('[1]Prev. Act. Canal'!$C$5:$C$31)) -> 58949.609 | F7: =([1]Previsionnel!$C$6/COUNT('[1]Prev. Act. Canal'!$C$5:$C$31)) -> 202227.65 | G7: =([1]Previsionnel!$C$7/COUNT('[1]Prev. Act. Canal'!$C$5:$C$31)) -> 681657.91 | P7: =SUM(D7:G7) -> 1188110.1 | Q7: =SUM(H7:K7) -> 0 | R7: =SUM(L7:O7) -> 0
B8: 41 | D8: =SUM(D9:D13) -> 1226374.6 | E8: =SUM(E9:E13) -> 294748.04 | F8: =SUM(F9:F13) -> 1011138.3 | G8: =SUM(G9:G13) -> 3408289.6 | H8: =SUM(H9:H13) -> 0 | I8: =SUM(I9:I13) -> 0 | J8: =SUM(J9:J13) -> 0 | K8: =SUM(K9:K13) -> 0 | ... O8: =SUM(O9:O13) -> 0 | P8: =SUM(D8:G8) -> 5940550.4 | Q8: =SUM(H8:K8) -> 0 | R8: =SUM(L8:O8) -> 0
C9: 41918 | D9: =([1]Previsionnel!$C$4/COUNT('[1]Prev. Act. Canal'!$C$5:$C$31)) -> 245274.91 | E9: =([1]Previsionnel!$C$5/COUNT('[1]Prev. Act. Canal'!$C$5:$C$31)) -> 58949.609 | F9: =([1]Previsionnel!$C$6/COUNT('[1]Prev. Act. Canal'!$C$5:$C$31))*1 -> 202227.65 | G9: =([1]Previsionnel!$C$7/COUNT('[1]Prev. Act. Canal'!$C$5:$C$31)) -> 681657.91 | P9: =SUM(D9:G9) -> 1188110.1 | Q9: =SUM(H9:K9) -> 0 | R9: =SUM(L9:O9) -> 0
C10: 41919 | D10: =([1]Previsionnel!$C$4/COUNT('[1]Prev. Act. Canal'!$C$5:$C$31)) -> 245274.91 | E10: =([1]Previsionnel!$C$5/COUNT('[1]Prev. Act. Canal'!$C$5:$C$31)) -> 58949.609 | F10: =([1]Previsionnel!$C$6/COUNT('[1]Prev. Act. Canal'!$C$5:$C$31)) -> 202227.65 | G10: =([1]Previsionnel!$C$7/COUNT('[1]Prev. Act. Canal'!$C$5:$C$31)) -> 681657.91 | P10: =SUM(D10:G10) -> 1188110.1 | Q10: =SUM(H10:K10) -> 0 | R10: =SUM(L10:O10) -> 0
C11: 41920 | D11: =([1]Previsionnel!$C$4/COUNT('[1]Prev. Act. Canal'!$C$5:$C$31)) -> 245274.91 | E11: =([1]Previsionnel!$C$5/COUNT('[1]Prev. Act. Canal'!$C$5:$C$31)) -> 58949.609 | F11: =([1]Previsionnel!$C$6/COUNT('[1]Prev. Act. Canal'!$C$5:$C$31)) -> 202227.65 | G11: =([1]Previsionnel!$C$7/COUNT('[1]Prev. Act. Canal'!$C$5:$C$31)) -> 681657.91 | P11: =SUM(D11:G11) -> 1188110.1 | Q11: =SUM(H11:K11) -> 0 | R11: =SUM(L11:O11) -> 0
C12: 41921 | D12: =([1]Previsionnel!$C$4/COUNT('[1]Prev. Act. Canal'!$C$5:$C$31)) -> 245274.91 | E12: =([1]Previsionnel!$C$5/COUNT('[1]Prev. Act. Canal'!$C$5:$C$31)) -> 58949.609 | F12: =([1]Previsionnel!$C$6/COUNT('[1]Prev. Act. Canal'!$C$5:$C$31)) -> 202227.65 | G12: =([1]Previsionnel!$C$7/COUNT('[1]Prev. Act. Canal'!$C$5:$C$31)) -> 681657.91 | P12: =SUM(D12:G12) -> 1188110.1 | Q12: =SUM(H12:K12) -> 0 | R12: =SUM(L12:O12) -> 0
C13: 41922 | D13: =([1]Previsionnel!$C$4/COUNT('[1]Prev. Act. Canal'!$C$5:$C$31)) -> 245274.91 | E13: =([1]Previsionnel!$C$5/COUNT('[1]Prev. Act. Canal'!$C$5:$C$31)) -> 58949.609 | F13: =([1]Previsionnel!$C$6/COUNT('[1]Prev. Act. Canal'!$C$5:$C$31)) -> 202227.65 | G13: =([1]Previsionnel!$C$7/COUNT('[1]Prev. Act. Canal'!$C$5:$C$31)) -> 681657.91 | P13: =SUM(D13:G13) -> 1188110.1 | Q13: =SUM(H13:K13) -> 0 | R13: =SUM(L13:O13) -> 0
B14: 42 | D14: =SUM(D15:D19) -> 1226374.6 | E14: =SUM(E15:E19) -> 294748.04 | F14: =SUM(F15:F19) -> 1011138.3 | G14: =SUM(G15:G19) -> 3408289.6 | H14: =SUM(H15:H19) -> 0 | I14: =SUM(I15:I19) -> 0 | J14: =SUM(J15:J19) -> 0 | K14: =SUM(K15:K19) -> 0 | ... O14: =SUM(O15:O19) -> 0 | P14: =SUM(D14:G14) -> 5940550.4 | Q14: =SUM(H14:K14) -> 0 | R14: =SUM(L14:O14) -> 0
C15: 41925 | D15: =([1]Previsionnel!$C$4/COUNT('[1]Prev. Act. Canal'!$C$5:$C$31)) -> 245274.91 | E15: =([1]Previsionnel!$C$5/COUNT('[1]Prev. Act. Canal'!$C$5:$C$31)) -> 58949.609 | F15: =([1]Previsionnel!$C$6/COUNT('[1]Prev. Act. Canal'!$C$5:$C$31)) -> 202227.65 | G15: =([1]Previsionnel!$C$7/COUNT('[1]Prev. Act. Canal'!$C$5:$C$31)) -> 681657.91 | P15: =SUM(D15:G15) -> 1188110.1 | Q15: =SUM(H15:K15) -> 0 | R15: =SUM(L15:O15) -> 0
C16: 41926 | D16: =([1]Previsionnel!$C$4/COUNT('[1]Prev. Act. Canal'!$C$5:$C$31)) -> 245274.91 | E16: =([1]Previsionnel!$C$5/COUNT('[1]Prev. Act. Canal'!$C$5:$C$31)) -> 58949.609 | F16: =([1]Previsionnel!$C$6/COUNT('[1]Prev. Act. Canal'!$C$5:$C$31)) -> 202227.65 | G16: =([1]Previsionnel!$C$7/COUNT('[1]Prev. Act. Canal'!$C$5:$C$31)) -> 681657.91 | P16: =SUM(D16:G16) -> 1188110.1 | Q16: =SUM(H16:K16) -> 0 | R16: =SUM(L16:O16) -> 0
C17: 41927 | D17: =([1]Previsionnel!$C$4/COUNT('[1]Prev. Act. Canal'!$C$5:$C$31)) -> 245274.91 | E17: =([1]Previsionnel!$C$5/COUNT('[1]Prev. Act. Canal'!$C$5:$C$31)) -> 58949.609 | F17: =([1]Previsionnel!$C$6/COUNT('[1]Prev. Act. Canal'!$C$5:$C$31)) -> 202227.65 | G17: =([1]Previsionnel!$C$7/COUNT('[1]Prev. Act. Canal'!$C$5:$C$31)) -> 681657.91 | P17: =SUM(D17:G17) -> 1188110.1 | Q17: =SUM(H17:K17) -> 0 | R17: =SUM(L17:O17) -> 0
C18: 41928 | D18: =([1]Previsionnel!$C$4/COUNT('[1]Prev. Act. Canal'!$C$5:$C$31)) -> 245274.91 | E18: =([1]Previsionnel!$C$5/COUNT('[1]Prev. Act. Canal'!$C$5:$C$31)) -> 58949.609 | F18: =([1]Previsionnel!$C$6/COUNT('[1]Prev. Act. Canal'!$C$5:$C$31)) -> 202227.65 | G18: =([1]Previsionnel!$C$7/COUNT('[1]Prev. Act. Canal'!$C$5:$C$31)) -> 681657.91 | P18: =SUM(D18:G18) -> 1188110.1 | Q18: =SUM(H18:K18) -> 0 | R18: =SUM(L18:O18) -> 0
C19: 41929 | D19: =([1]Previsionnel!$C$4/COUNT('[1]Prev. Act. Canal'!$C$5:$C$31)) -> 245274.91 | E19: =([1]Previsionnel!$C$5/COUNT('[1]Prev. Act. Canal'!$C$5:$C$31)) -> 58949.609 | F19: =([1]Previsionnel!$C$6/COUNT('[1]Prev. Act. Canal'!$C$5:$C$31)) -> 202227.65 | G19: =([1]Previsionnel!$C$7/COUNT('[1]Prev. Act. Canal'!$C$5:$C$31)) -> 681657.91 | P19: =SUM(D19:G19) -> 1188110.1 | Q19: =SUM(H19:K19) -> 0 | R19: =SUM(L19:O19) -> 0
B20: 43 | D20: =SUM(D21:D25) -> 1226374.6 | E20: =SUM(E21:E25) -> 294748.04 | F20: =SUM(F21:F25) -> 1011138.3 | G20: =SUM(G21:G25) -> 3408289.6 | H20: =SUM(H21:H25) -> 0 | I20: =SUM(I21:I25) -> 0 | J20: =SUM(J21:J25) -> 0 | K20: =SUM(K21:K25) -> 0 | ... O20: =SUM(O21:O25) -> 0 | P20: =SUM(D20:G20) -> 5940550.4 | Q20: =SUM(H20:K20) -> 0 | R20: =SUM(L20:O20) -> 0
C21: 41932 | D21: =([1]Previsionnel!$C$4/COUNT('[1]Prev. Act. Canal'!$C$5:$C$31)) -> 245274.91 | E21: =([1]Previsionnel!$C$5/COUNT('[1]Prev. Act. Canal'!$C$5:$C$31)) -> 58949.609 | F21: =([1]Previsionnel!$C$6/COUNT('[1]Prev. Act. Canal'!$C$5:$C$31)) -> 202227.65 | G21: =([1]Previsionnel!$C$7/COUNT('[1]Prev. Act. Canal'!$C$5:$C$31)) -> 681657.91 | P21: =SUM(D21:G21) -> 1188110.1 | Q21: =SUM(H21:K21) -> 0 | R21: =SUM(L21:O21) -> 0
C22: 41933 | D22: =([1]Previsionnel!$C$4/COUNT('[1]Prev. Act. Canal'!$C$5:$C$31)) -> 245274.91 | E22: =([1]Previsionnel!$C$5/COUNT('[1]Prev. Act. Canal'!$C$5:$C$31)) -> 58949.609 | F22: =([1]Previsionnel!$C$6/COUNT('[1]Prev. Act. Canal'!$C$5:$C$31)) -> 202227.65 | G22: =([1]Previsionnel!$C$7/COUNT('[1]Prev. Act. Canal'!$C$5:$C$31)) -> 681657.91 | P22: =SUM(D22:G22) -> 1188110.1 | Q22: =SUM(H22:K22) -> 0 | R22: =SUM(L22:O22) -> 0
C23: 41934 | D23: =([1]Previsionnel!$C$4/COUNT('[1]Prev. Act. Canal'!$C$5:$C$31)) -> 245274.91 | E23: =([1]Previsionnel!$C$5/COUNT('[1]Prev. Act. Canal'!$C$5:$C$31)) -> 58949.609 | F23: =([1]Previsionnel!$C$6/COUNT('[1]Prev. Act. Canal'!$C$5:$C$31)) -> 202227.65 | G23: =([1]Previsionnel!$C$7/COUNT('[1]Prev. Act. Canal'!$C$5:$C$31)) -> 681657.91 | P23: =SUM(D23:G23) -> 1188110.1 | Q23: =SUM(H23:K23) -> 0 | R23: =SUM(L23:O23) -> 0
C24: 41935 | D24: =([1]Previsionnel!$C$4/COUNT('[1]Prev. Act. Canal'!$C$5:$C$31)) -> 245274.91 | E24: =([1]Previsionnel!$C$5/COUNT('[1]Prev. Act. Canal'!$C$5:$C$31)) -> 58949.609 | F24: =([1]Previsionnel!$C$6/COUNT('[1]Prev. Act. Canal'!$C$5:$C$31)) -> 202227.65 | G24: =([1]Previsionnel!$C$7/COUNT('[1]Prev. Act. Canal'!$C$5:$C$31)) -> 681657.91 | P24: =SUM(D24:G24) -> 1188110.1 | Q24: =SUM(H24:K24) -> 0 | R24: =SUM(L24:O24) -> 0
C25: 41936 | D25: =([1]Previsionnel!$C$4/COUNT('[1]Prev. Act. Canal'!$C$5:$C$31)) -> 245274.91 | E25: =([1]Previsionnel!$C$5/COUNT('[1]Prev. Act. Canal'!$C$5:$C$31)) -> 58949.609 | F25: =([1]Previsionnel!$C$6/COUNT('[1]Prev. Act. Canal'!$C$5:$C$31)) -> 202227.65 | G25: =([1]Previsionnel!$C$7/COUNT('[1]Prev. Act. Canal'!$C$5:$C$31)) -> 681657.91 | P25: =SUM(D25:G25) -> 1188110.1 | Q25: =SUM(H25:K25) -> 0 | R25: =SUM(L25:O25) -> 0
B26: 44 | D26: =SUM(D27:D31) -> 1226374.6 | E26: =SUM(E27:E31) -> 294748.04 | F26: =SUM(F27:F31) -> 1011138.3 | G26: =SUM(G27:G31) -> 3408289.6 | H26: =SUM(H27:H31) -> 0 | I26: =SUM(I27:I31) -> 0 | J26: =SUM(J27:J31) -> 0 | K26: =SUM(K27:K31) -> 0 | ... O26: =SUM(O27:O31) -> 0 | P26: =SUM(D26:G26) -> 5940550.4 | Q26: =SUM(H26:K26) -> 0 | R26: =SUM(L26:O26) -> 0
C27: 41939 | D27: =([1]Previsionnel!$C$4/COUNT('[1]Prev. Act. Canal'!$C$5:$C$31)) -> 245274.91 | E27: =([1]Previsionnel!$C$5/COUNT('[1]Prev. Act. Canal'!$C$5:$C$31)) -> 58949.609 | F27: =([1]Previsionnel!$C$6/COUNT('[1]Prev. Act. Canal'!$C$5:$C$31)) -> 202227.65 | G27: =([1]Previsionnel!$C$7/COUNT('[1]Prev. Act. Canal'!$C$5:$C$31)) -> 681657.91 | P27: =SUM(D27:G27) -> 1188110.1 | Q27: =SUM(H27:K27) -> 0 | R27: =SUM(L27:O27) -> 0
C28: 41940 | D28: =([1]Previsionnel!$C$4/COUNT('[1]Prev. Act. Canal'!$C$5:$C$31)) -> 245274.91 | E28: =([1]Previsionnel!$C$5/COUNT('[1]Prev. Act. Canal'!$C$5:$C$31)) -> 58949.609 | F28: =([1]Previsionnel!$C$6/COUNT('[1]Prev. Act. Canal'!$C$5:$C$31)) -> 202227.65 | G28: =([1]Previsionnel!$C$7/COUNT('[1]Prev. Act. Canal'!$C$5:$C$31)) -> 681657.91 | P28: =SUM(D28:G28) -> 1188110.1 | Q28: =SUM(H28:K28) -> 0 | R28: =SUM(L28:O28) -> 0
C29: 41941 | D29: =([1]Previsionnel!$C$4/COUNT('[1]Prev. Act. Canal'!$C$5:$C$31)) -> 245274.91 | E29: =([1]Previsionnel!$C$5/COUNT('[1]Prev. Act. Canal'!$C$5:$C$31)) -> 58949.609 | F29: =([1]Previsionnel!$C$6/COUNT('[1]Prev. Act. Canal'!$C$5:$C$31)) -> 202227.65 | G29: =([1]Previsionnel!$C$7/COUNT('[1]Prev. Act. Canal'!$C$5:$C$31)) -> 681657.91 | P29: =SUM(D29:G29) -> 1188110.1 | Q29: =SUM(H29:K29) -> 0 | R29: =SUM(L29:O29) -> 0
C30: 41942 | D30: =([1]Previsionnel!$C$4/COUNT('[1]Prev. Act. Canal'!$C$5:$C$31)) -> 245274.91 | E30: =([1]Previsionnel!$C$5/COUNT('[1]Prev. Act. Canal'!$C$5:$C$31)) -> 58949.609 | F30: =([1]Previsionnel!$C$6/COUNT('[1]Prev. Act. Canal'!$C$5:$C$31)) -> 202227.65 | G30: =([1]Previsionnel!$C$7/COUNT('[1]Prev. Act. Canal'!$C$5:$C$31)) -> 681657.91 | P30: =SUM(D30:G30) -> 1188110.1 | Q30: =SUM(H30:K30) -> 0 | R30: =SUM(L30:O30) -> 0
C31: 41943 | D31: =([1]Previsionnel!$C$4/COUNT('[1]Prev. Act. Canal'!$C$5:$C$31)) -> 245274.91 | E31: =([1]Previsionnel!$C$5/COUNT('[1]Prev. Act. Canal'!$C$5:$C$31)) -> 58949.609 | F31: =([1]Previsionnel!$C$6/COUNT('[1]Prev. Act. Canal'!$C$5:$C$31)) -> 202227.65 | G31: =([1]Previsionnel!$C$7/COUNT('[1]Prev. Act. Canal'!$C$5:$C$31)) -> 681657.91 | P31: =SUM(D31:G31) -> 1188110.1 | Q31: =SUM(H31:K31) -> 0 | R31: =SUM(L31:O31) -> 0
A32: =PROPER(TEXT(DATE(2014,11,1),"mmmm aaaa")) -> Novembre 2014 | D32: =SUM(D33,D39,D45,D51) -> 0 | E32: =SUM(E33,E39,E45,E51) -> 0 | F32: =SUM(F33,F39,F45,F51) -> 0 | G32: =SUM(G33,G39,G45,G51) -> 0 | H32: =SUM(H33,H39,H45,H51) -> 0 | I32: =SUM(I33,I39,I45,I51) -> 0 | J32: =SUM(J33,J39,J45,J51) -> 0 | K32: =SUM(K33,K39,K45,K51) -> 0 | ... R32: =SUM(R33,R39,R45,R51) -> 0
B33: 45 | D33: =SUM(D34:D38) -> 0 | E33: =SUM(E34:E38) -> 0 | F33: =SUM(F34:F38) -> 0 | G33: =SUM(G34:G38) -> 0 | H33: =SUM(H34:H38) -> 0 | I33: =SUM(I34:I38) -> 0 | J33: =SUM(J34:J38) -> 0 | K33: =SUM(K34:K38) -> 0 | ... O33: =SUM(O34:O38) -> 0 | P33: =SUM(D33:G33) -> 0 | Q33: =SUM(H33:K33) -> 0 | R33: =SUM(L33:O33) -> 0
C34: 41946 | D34: =([1]Previsionnel!$D$4/COUNT($C$34:$C$56)) -> 0 | E34: =([1]Previsionnel!$D$5/COUNT($C$34:$C$56)) -> 0 | F34: =([1]Previsionnel!$D$6/COUNT($C$34:$C$56)) -> 0 | G34: =([1]Previsionnel!$D$7/COUNT($C$34:$C$56)) -> 0 | P34: =SUM(D34:G34) -> 0 | Q34: =SUM(H34:K34) -> 0 | R34: =SUM(L34:O34) -> 0
C35: 41947 | D35: =([1]Previsionnel!$D$4/COUNT($C$34:$C$56)) -> 0 | E35: =([1]Previsionnel!$D$5/COUNT($C$34:$C$56)) -> 0 | F35: =([1]Previsionnel!$D$6/COUNT($C$34:$C$56)) -> 0 | G35: =([1]Previsionnel!$D$7/COUNT($C$34:$C$56)) -> 0 | P35: =SUM(D35:G35) -> 0 | Q35: =SUM(H35:K35) -> 0 | R35: =SUM(L35:O35) -> 0
C36: 41948 | D36: =([1]Previsionnel!$D$4/COUNT($C$34:$C$56)) -> 0 | E36: =([1]Previsionnel!$D$5/COUNT($C$34:$C$56)) -> 0 | F36: =([1]Previsionnel!$D$6/COUNT($C$34:$C$56)) -> 0 | G36: =([1]Previsionnel!$D$7/COUNT($C$34:$C$56)) -> 0 | P36: =SUM(D36:G36) -> 0 | Q36: =SUM(H36:K36) -> 0 | R36: =SUM(L36:O36) -> 0
C37: 41949 | D37: =([1]Previsionnel!$D$4/COUNT($C$34:$C$56)) -> 0 | E37: =([1]Previsionnel!$D$5/COUNT($C$34:$C$56)) -> 0 | F37: =([1]Previsionnel!$D$6/COUNT($C$34:$C$56)) -> 0 | G37: =([1]Previsionnel!$D$7/COUNT($C$34:$C$56)) -> 0 | P37: =SUM(D37:G37) -> 0 | Q37: =SUM(H37:K37) -> 0 | R37: =SUM(L37:O37) -> 0
C38: 41950 | D38: =([1]Previsionnel!$D$4/COUNT($C$34:$C$56)) -> 0 | E38: =([1]Previsionnel!$D$5/COUNT($C$34:$C$56)) -> 0 | F38: =([1]Previsionnel!$D$6/COUNT($C$34:$C$56)) -> 0 | G38: =([1]Previsionnel!$D$7/COUNT($C$34:$C$56)) -> 0 | P38: =SUM(D38:G38) -> 0 | Q38: =SUM(H38:K38) -> 0 | R38: =SUM(L38:O38) -> 0
B39: 46 | D39: =SUM(D40:D44) -> 0 | E39: =SUM(E40:E44) -> 0 | F39: =SUM(F40:F44) -> 0 | G39: =SUM(G40:G44) -> 0 | H39: =SUM(H40:H44) -> 0 | I39: =SUM(I40:I44) -> 0 | J39: =SUM(J40:J44) -> 0 | K39: =SUM(K40:K44) -> 0 | ... O39: =SUM(O40:O44) -> 0 | P39: =SUM(D39:G39) -> 0 | Q39: =SUM(H39:K39) -> 0 | R39: =SUM(L39:O39) -> 0
C40: 41953 | D40: =([1]Previsionnel!$D$4/COUNT($C$34:$C$56)) -> 0 | E40: =([1]Previsionnel!$D$5/COUNT($C$34:$C$56)) -> 0 | F40: =([1]Previsionnel!$D$6/COUNT($C$34:$C$56)) -> 0 | G40: =([1]Previsionnel!$D$7/COUNT($C$34:$C$56)) -> 0 | P40: =SUM(D40:G40) -> 0 | Q40: =SUM(H40:K40) -> 0 | R40: =SUM(L40:O40) -> 0
...
