Workbook

Sheet Previsionnel
A3: En volume | B3: =PROPER(TEXT(DATE(2014,9,1),"mmmm aaaa")) -> Septembre 2014 | C3: =PROPER(TEXT(DATE(2014,10,1),"mmmm aaaa")) -> Octobre 2014 | D3: =PROPER(TEXT(DATE(2014,11,1),"mmmm aaaa")) -> Novembre 2014 | E3: =PROPER(TEXT(DATE(2014,12,1),"mmmm aaaa")) -> Décembre 2014 | F3: =PROPER(TEXT(DATE(2015,1,1),"mmmm aaaa")) -> Janvier 2015 | G3: =PROPER(TEXT(DATE(2015,2,1),"mmmm aaaa")) -> Février 2015 | H3: =PROPER(TEXT(DATE(2015,3,1),"mmmm aaaa")) -> Mars 2015 | I3: =PROPER(TEXT(DATE(2015,4,1),"mmmm aaaa")) -> Avril 2015 | J3: =PROPER(TEXT(DATE(2015,5,1),"mmmm aaaa")) -> Mai 2015 | K3: =PROPER(TEXT(DATE(2015,6,1),"mmmm aaaa")) -> Juin 2015 | L3: =PROPER(TEXT(DATE(2015,7,1),"mmmm aaaa")) -> Juillet 2015 | M3: =PROPER(TEXT(DATE(2015,8,1),"mmmm aaaa")) -> Août 2015 | N3: =PROPER(TEXT(DATE(2015,9,1),"mmmm aaaa")) -> Septembre 2015 | O3: =PROPER(TEXT(DATE(2015,10,1),"mmmm aaaa")) -> Octobre 2015 | P3: =PROPER(TEXT(DATE(2015,11,1),"mmmm aaaa")) -> Novembre 2015 | Q3: =PROPER(TEXT(DATE(2015,12,1),"mmmm aaaa")) -> Décembre 2015
C4: 5641323
C5: 1355841
C6: 4651236
C7: 15678132
B8: =SUM(B4:B7) -> 0 | C8: =SUM(C4:C7) -> 27326532 | D8: =SUM(D4:D7) -> 0 | E8: =SUM(E4:E7) -> 0 | F8: =SUM(F4:F7) -> 0 | G8: =SUM(G4:G7) -> 0 | H8: =SUM(H4:H7) -> 0 | I8: =SUM(I4:I7) -> 0 | ... Q8: =SUM(Q4:Q7) -> 0
B9: =B8 -> 0 | C9: =B9+C8 -> 27326532 | D9: =C9+D8 -> 27326532 | E9: =D9+E8 -> 27326532 | F9: =IF(F8=0,"-",E9+F8) -> - | G9: =IF(G8=0,"-",F9+G8) -> - | H9: =IF(H8=0,"-",G9+H8) -> - | I9: =IF(I8=0,"-",H9+I8) -> - | J9: =IF(J8=0,"-",I9+J8) -> - | K9: =IF(K8=0,"-",J9+K8) -> - | L9: =IF(L8=0,"-",K9+L8) -> - | M9: =IF(M8=0,"-",L9+M8) -> - | ... Q9: =IF(Q8=0,"-",P9+Q8) -> -
C10: 40000000
B11: =IF(B10=0,0,A11+B10) -> 0 | C11: =IF(C10=0,0,B11+C10) -> 40000000 | D11: =IF(D10=0,0,C11+D10) -> 0 | E11: =IF(E10=0,0,D11+E10) -> 0 | F11: =IF(F10=0,0,E11+F10) -> 0 | G11: =IF(G10=0,0,F11+G10) -> 0 | H11: =IF(H10=0,0,G11+H10) -> 0 | I11: =IF(I10=0,0,H11+I10) -> 0 | ... Q11: =IF(Q10=0,0,P11+Q10) -> 0
B12: =IFERROR(B8/B10,"-") -> - | C12: =IFERROR(C8/C10,"-") -> 0.6831633 | D12: =IFERROR(D8/D10,"-") -> - | E12: =IFERROR(E8/E10,"-") -> - | F12: =IFERROR(F8/F10,"-") -> - | G12: =IFERROR(G8/G10,"-") -> - | H12: =IFERROR(H8/H10,"-") -> - | I12: =IFERROR(I8/I10,"-") -> - | ... Q12: =IFERROR(Q8/Q10,"-") -> -

Sheet Réel
A1: quantités à date d'expedition réelle - Le Réalisé | B1: lundi | C1: mardi | D1: mercredi | E1: jeudi | F1: vendredi | G1: lundi | H1: mardi | I1: mercredi | J1: jeudi | K1: vendredi | L1: lundi | M1: mardi | N1: mercredi | O1: jeudi | P1: vendredi | Q1: lundi | R1: mardi | S1: mercredi | T1: jeudi | U1: vendredi | V1: lundi | W1: mardi
B2: 41883 | C2: 41884 | D2: 41885 | E2: 41886 | F2: 41887 | G2: 41890 | H2: 41891 | I2: 41892 | J2: 41893 | K2: 41894 | L2: 41897 | M2: 41898 | N2: 41899 | O2: 41900 | P2: 41901 | Q2: 41904 | R2: 41905 | S2: 41906 | T2: 41907 | U2: 41908 | V2: 41911 | W2: 41912
B3: Nbres d'unités | C3: Nbres d'unités | D3: Nbres d'unités | E3: Nbres d'unités | F3: Nbres d'unités | G3: Nbres d'unités | H3: Nbres d'unités | I3: Nbres d'unités | J3: Nbres d'unités | K3: Nbres d'unités | L3: Nbres d'unités | M3: Nbres d'unités | N3: Nbres d'unités | O3: Nbres d'unités | P3: Nbres d'unités | Q3: Nbres d'unités | R3: Nbres d'unités | S3: Nbres d'unités | T3: Nbres d'unités | U3: Nbres d'unités | V3: Nbres d'unités | W3: Nbres d'unités
A4: Canal 1 | B4: 13582 | C4: 15348 | D4: 17114 | E4: 18880 | F4: 20646 | G4: 22412 | H4: 24178 | I4: 25944 | J4: 27710 | K4: 29476 | L4: 31242 | M4: 33008 | N4: 34774 | O4: 36540 | P4: 38306 | Q4: 40072 | R4: 41838 | S4: 43604 | T4: 45370 | U4: 47136 | V4: 48902 | W4: 50668
A5: Canal 2 | B5: 9578 | C5: 10547 | D5: 11516 | E5: 12485 | F5: 13454 | G5: 14423 | H5: 15392 | I5: 16361 | J5: 17330 | K5: 18299 | L5: 19268 | M5: 20237 | N5: 21206 | O5: 22175 | P5: 23144 | Q5: 24113 | R5: 25082 | S5: 26051 | T5: 27020 | U5: 27989 | V5: 28958 | W5: 29927
A6: Canal 3 | B6: 20154 | C6: 20657 | D6: 21160 | E6: 21663 | F6: 22166 | G6: 22669 | H6: 23172 | I6: 23675 | J6: 24178 | K6: 24681 | L6: 25184 | M6: 25687 | N6: 26190 | O6: 26693 | P6: 27196 | Q6: 27699 | R6: 28202 | S6: 28705 | T6: 29208 | U6: 29711 | V6: 30214 | W6: 30717
A7: Somme : | B7: =SUM(B4:B6) -> 43314 | C7: =SUM(C4:C6) -> 46552 | D7: =SUM(D4:D6) -> 49790 | E7: =SUM(E4:E6) -> 53028 | F7: =SUM(F4:F6) -> 56266 | G7: =SUM(G4:G6) -> 59504 | H7: =SUM(H4:H6) -> 62742 | I7: =SUM(I4:I6) -> 65980 | ... W7: =SUM(W4:W6) -> 111312

Sheet Prev.Act.Atelier(UV)
B2: Jour | C2: Total | D2: Atelier 1 | E2: Atelier 2 | F2: Atelier 3 | G2: Atelier 4 | H2: Atelier 5 | I2: Atelier 6 | J2: Atelier 7
C3: =SUM(C4,C22,C52,C82,C112) -> 5940550.4 | D3: =SUM(D4,D22,D52,D82,D112) -> 0 | E3: =SUM(E4,E22,E52,E82,E112) -> 0 | F3: =SUM(F4,F22,F52,F82,F112) -> 0 | G3: =SUM(G4,G22,G52,G82,G112) -> 0 | H3: =SUM(H4,H22,H52,H82,H112) -> 0 | I3: =SUM(I4,I22,I52,I82,I112) -> 0 | J3: =SUM(J4,J22,J52,J82,J112) -> 0
C4: =SUM(C9,C15,C21) -> 3564330.3 | D4: =D9+D15+D21 -> 0 | E4: =E9+E15+E21 -> 0 | F4: =F9+F15+F21 -> 0 | G4: =G9+G15+G21 -> 0 | H4: =H9+H15+H21 -> 0 | I4: =I9+I15+I21 -> 0 | J4: =J9+J15+J21 -> 0
A5: Canal 1 | B5: 41913 | C5: ='[1]Prev. Act. Canal'!D5 -> 245274.91
A6: Canal 2 | C6: ='[1]Prev. Act. Canal'!E5 -> 58949.609
A7: Canal 3 | C7: ='[1]Prev. Act. Canal'!F5 -> 202227.65
A8: Canal 4 | C8: ='[1]Prev. Act. Canal'!G5 -> 681657.91
A9: Total | C9: =SUM(C5:C8) -> 1188110.1
B10: 41914
A11: Canal 1 | C11: ='[1]Prev. Act. Canal'!D6 -> 245274.91
A12: Canal 2 | C12: ='[1]Prev. Act. Canal'!E6 -> 58949.609
A13: Canal 3 | C13: ='[1]Prev. Act. Canal'!F6 -> 202227.65
A14: Canal 4 | C14: ='[1]Prev. Act. Canal'!G6 -> 681657.91
A15: Total | C15: =SUM(C11:C14) -> 1188110.1
B16: 41915
A17: Canal 1 | C17: ='[1]Prev. Act. Canal'!D7 -> 245274.91
A18: Canal 2 | C18: ='[1]Prev. Act. Canal'!E7 -> 58949.609
A19: Canal 3 | C19: ='[1]Prev. Act. Canal'!F7 -> 202227.65
A20: Canal 4 | C20: ='[1]Prev. Act. Canal'!G7 -> 681657.91
A21: Total | C21: =SUM(C17:C20) -> 1188110.1
C22: =SUM(C27,C33,C39,C45,C51) -> 2376220.2 | D22: =SUM(D27,D33,D39,D45,D51) -> 0 | E22: =SUM(E27,E33,E39,E45,E51) -> 0 | F22: =SUM(F27,F33,F39,F45,F51) -> 0 | G22: =SUM(G27,G33,G39,G45,G51) -> 0 | H22: =SUM(H27,H33,H39,H45,H51) -> 0 | I22: =SUM(I27,I33,I39,I45,I51) -> 0 | J22: =SUM(J27,J33,J39,J45,J51) -> 0
A23: Canal 1 | B23: 41918 | C23: ='[1]Prev. Act. Canal'!D9 -> 245274.91
A24: Canal 2 | C24: ='[1]Prev. Act. Canal'!E9 -> 58949.609
A25: Canal 3 | C25: ='[1]Prev. Act. Canal'!F9 -> 202227.65
A26: Canal 4 | C26: ='[1]Prev. Act. Canal'!G9 -> 681657.91
A27: Total | C27: =SUM(C23:C26) -> 1188110.1
B28: 41919
A29: Canal 1 | C29: ='[1]Prev. Act. Canal'!D10 -> 245274.91
A30: Canal 2 | C30: ='[1]Prev. Act. Canal'!E10 -> 58949.609
A31: Canal 3 | C31: ='[1]Prev. Act. Canal'!F10 -> 202227.65
A32: Canal 4 | C32: ='[1]Prev. Act. Canal'!G10 -> 681657.91
A33: Total | C33: =SUM(C29:C32) -> 1188110.1
B34: 41920
B40: 41921
B46: 41922
C52: =SUM(C57,C63,C69,C75,C81) -> 0 | D52: =SUM(D57,D63,D69,D75,D81) -> 0 | E52: =SUM(E57,E63,E69,E75,E81) -> 0 | F52: =SUM(F57,F63,F69,F75,F81) -> 0 | G52: =SUM(G57,G63,G69,G75,G81) -> 0 | H52: =SUM(H57,H63,H69,H75,H81) -> 0 | I52: =SUM(I57,I63,I69,I75,I81) -> 0 | J52: =SUM(J57,J63,J69,J75,J81) -> 0
B53: 41925
B58: 41926
B64: 41927
B70: 41928
B76: 41929
C82: =SUM(C87,C93,C99,C105,C111) -> 0 | D82: =SUM(D87,D93,D99,D105,D111) -> 0 | E82: =SUM(E87,E93,E99,E105,E111) -> 0 | F82: =SUM(F87,F93,F99,F105,F111) -> 0 | G82: =SUM(G87,G93,G99,G105,G111) -> 0 | H82: =SUM(H87,H93,H99,H105,H111) -> 0 | I82: =SUM(I87,I93,I99,I105,I111) -> 0 | J82: =SUM(J87,J93,J99,J105,J111) -> 0
B83: 41932
B88: 41933
B94: 41934
B100: 41935
B106: 41936
C112: =SUM(C117,C123,C129,C135,C141) -> 0 | D112: =SUM(D117,D123,D129,D135,D141) -> 0 | E112: =SUM(E117,E123,E129,E135,E141) -> 0 | F112: =SUM(F117,F123,F129,F135,F141) -> 0 | G112: =SUM(G117,G123,G129,G135,G141) -> 0 | H112: =SUM(H117,H123,H129,H135,H141) -> 0 | I112: =SUM(I117,I123,I129,I135,I141) -> 0 | J112: =SUM(J117,J123,J129,J135,J141) -> 0
B113: 41939
B118: 41940
B124: 41941
B130: 41942
B136: 41943
C142: =SUM(C143,C173,C203,C233) -> 0 | D142: =SUM(D143,D173,D203,D233) -> 0 | E142: =SUM(E143,E173,E203,E233) -> 0 | F142: =SUM(F143,F173,F203,F233) -> 0 | G142: =SUM(G143,G173,G203,G233) -> 0 | H142: =SUM(H143,H173,H203,H233) -> 0 | I142: =SUM(I143,I173,I203,I233) -> 0 | J142: =SUM(J143,J173,J203,J233) -> 0
C143: =SUM(C148,C154,C160,C166,C172) -> 0 | D143: =SUM(D148,D154,D160,D166,D172) -> 0 | E143: =SUM(E148,E154,E160,E166,E172) -> 0 | F143: =SUM(F148,F154,F160,F166,F172) -> 0 | G143: =SUM(G148,G154,G160,G166,G172) -> 0 | H143: =SUM(H148,H154,H160,H166,H172) -> 0 | I143: =SUM(I148,I154,I160,I166,I172) -> 0 | J143: =SUM(J148,J154,J160,J166,J172) -> 0
B144: x
B149: 41947
B155: 41948
B161: 41949
B167: 41950
C173: =SUM(C178,C184,C190,C196,C202) -> 0 | D173: =SUM(D178,D184,D190,D196,D202) -> 0 | E173: =SUM(E178,E184,E190,E196,E202) -> 0 | F173: =SUM(F178,F184,F190,F196,F202) -> 0 | G173: =SUM(G178,G184,G190,G196,G202) -> 0 | H173: =SUM(H178,H184,H190,H196,H202) -> 0 | I173: =SUM(I178,I184,I190,I196,I202) -> 0 | J173: =SUM(J178,J184,J190,J196,J202) -> 0
B174: 41953
B179: 41954
B185: 41955
B191: 41956
B197: 41957
C203: =SUM(C208,C214,C220,C226,C232) -> 0 | D203: =SUM(D208,D214,D220,D226,D232) -> 0 | E203: =SUM(E208,E214,E220,E226,E232) -> 0 | F203: =SUM(F208,F214,F220,F226,F232) -> 0 | G203: =SUM(G208,G214,G220,G226,G232) -> 0 | H203: =SUM(H208,H214,H220,H226,H232) -> 0 | I203: =SUM(I208,I214,I220,I226,I232) -> 0 | J203: =SUM(J208,J214,J220,J226,J232) -> 0
B204: 41960
B209: 41961
B215: 41962
B221: 41963
B227: 41964
C233: =SUM(C238,C244,C250,C256,C262) -> 0 | D233: =SUM(D238,D244,D250,D256,D262) -> 0 | E233: =SUM(E238,E244,E250,E256,E262) -> 0 | F233: =SUM(F238,F244,F250,F256,F262) -> 0 | G233: =SUM(G238,G244,G250,G256,G262) -> 0 | H233: =SUM(H238,H244,H250,H256,H262) -> 0 | I233: =SUM(I238,I244,I250,I256,I262) -> 0 | J233: =SUM(J238,J244,J250,J256,J262) -> 0
B234: 41967
B239: 41968
B245: 41969
B251: 41970
B257: 41971
C263: =SUM(C264,C294,C324,C354,C389,C395,C401) -> 0 | D263: =SUM(D264,D294,D324,D354,D389,D395,D401) -> 0 | E263: =SUM(E264,E294,E324,E354,E389,E395,E401) -> 0 | F263: =SUM(F264,F294,F324,F354,F389,F395,F401) -> 0 | G263: =SUM(G264,G294,G324,G354,G389,G395,G401) -> 0 | H263: =SUM(H264,H294,H324,H354,H389,H395,H401) -> 0 | I263: =SUM(I264,I294,I324,I354,I389,I395,I401) -> 0 | J263: =SUM(J264,J294,J324,J354,J389,J395,J401) -> 0
C264: =SUM(C269,C275,C281,C287,C293) -> 0 | D264: =SUM(D269,D275,D281,D287,D293) -> 0 | E264: =SUM(E269,E275,E281,E287,E293) -> 0 | F264: =SUM(F269,F275,F281,F287,F293) -> 0 | G264: =SUM(G269,G275,G281,G287,G293) -> 0 | H264: =SUM(H269,H275,H281,H287,H293) -> 0 | I264: =SUM(I269,I275,I281,I287,I293) -> 0 | J264: =SUM(J269,J275,J281,J287,J293) -> 0
B265: 41974
B270: 41975
B276: 41976
B282: 41977
B288: 41978
C294: =SUM(C299,C305,C311,C317,C323) -> 0 | D294: =SUM(D299,D305,D311,D317,D323) -> 0 | E294: =SUM(E299,E305,E311,E317,E323) -> 0 | F294: =SUM(F299,F305,F311,F317,F323) -> 0 | G294: =SUM(G299,G305,G311,G317,G323) -> 0 | H294: =SUM(H299,H305,H311,H317,H323) -> 0 | I294: =SUM(I299,I305,I311,I317,I323) -> 0 | J294: =SUM(J299,J305,J311,J317,J323) -> 0
B295: 41981
B300: 41982
B306: 41983
B312: 41984
B318: 41985
C324: =SUM(C329,C335,C341,C347,C353) -> 0 | D324: =SUM(D329,D335,D341,D347,D353) -> 0 | E324: =SUM(E329,E335,E341,E347,E353) -> 0 | F324: =SUM(F329,F335,F341,F347,F353) -> 0 | G324: =SUM(G329,G335,G341,G347,G353) -> 0 | H324: =SUM(H329,H335,H341,H347,H353) -> 0 | I324: =SUM(I329,I335,I341,I347,I353) -> 0 | J324: =SUM(J329,J335,J341,J347,J353) -> 0
B325: 41988
B330: 41989
B336: 41990
B342: 41991
B348: 41992
C354: =SUM(C359,C365,C371,C377,C383) -> 0 | D354: =SUM(D359,D365,D371,D377,D383) -> 0 | E354: =SUM(E359,E365,E371,E377,E383) -> 0 | F354: =SUM(F359,F365,F371,F377,F383) -> 0 | G354: =SUM(G359,G365,G371,G377,G383) -> 0 | H354: =SUM(H359,H365,H371,H377,H383) -> 0 | I354: =SUM(I359,I365,I371,I377,I383) -> 0 | J354: =SUM(J359,J365,J371,J377,J383) -> 0
B355: 41995
B360: 41996
...

Sheet Prev. Act. Canal
A1: Mois | B1: Semaine | C1: Jour | D1: PREV | E1: PREV | F1: PREV | G1: PREV | L1: REEL | M1: REEL | N1: REEL | O1: REEL | P1: TOTAL PREV | Q1: TOTAL PLAN | R1: TOTAL REEL
C2: 41914 | D2: CANAL 1 | E2: CANAL 2 | F2: CANAL 3 | G2: CANAL 4 | H2: CANAL 1 | I2: CANAL 2 | J2: CANAL 3 | K2: CANAL 4 | L2: CANAL 1 | M2: CANAL 2 | N2: CANAL 3 | O2: CANAL 4
A3: =PROPER(TEXT(DATE(2014,10,1),"mmmm aaaa")) -> Octobre 2014 | D3: =SUM(D4,D8,D14,D20,D26) -> 5641323 | E3: =SUM(E4,E8,E14,E20,E26) -> 1355841 | F3: =SUM(F4,F8,F14,F20,F26) -> 4651236 | G3: =SUM(G4,G8,G14,G20,G26) -> 15678132 | H3: =SUM(H4,H8,H14,H20,H26) -> 0 | I3: =SUM(I4,I8,I14,I20,I26) -> 0 | J3: =SUM(J4,J8,J14,J20,J26) -> 0 | K3: =SUM(K4,K8,K14,K20,K26) -> 0 | ... R3: =SUM(R4,R8,R14,R20,R26) -> 80725
B4: 40 | D4: =SUM(D5:D7) -> 735824.74 | E4: =SUM(E5:E7) -> 176848.83 | F4: =SUM(F5:F7) -> 606682.96 | G4: =SUM(G5:G7) -> 2044973.7 | H4: =SUM(H5:H7) -> 0 | I4: =SUM(I5:I7) -> 0 | J4: =SUM(J5:J7) -> 0 | K4: =SUM(K5:K7) -> 0 | ... O4: =SUM(O5:O7) -> 0 | P4: =SUM(D4:G4) -> 3564330.3 | Q4: =SUM(H4:K4) -> 0 | R4: =SUM(L4:O4) -> 80725
C5: 41913 | D5: =([1]Previsionnel!$C$4/COUNT('[1]Prev. Act. Canal'!$C$5:$C$31)) -> 245274.91 | E5: =([1]Previsionnel!$C$5/COUNT('[1]Prev. Act. Canal'!$C$5:$C$31)) -> 58949.609 | F5: =([1]Previsionnel!$C$6/COUNT('[1]Prev. Act. Canal'!$C$5:$C$31))*1 -> 202227.65 | G5: =([1]Previsionnel!$C$7/COUNT('[1]Prev. Act. Canal'!$C$5:$C$31)) -> 681657.91 | L5: =[1]Réel!B4 -> 13582 | M5: =[1]Réel!B5 -> 9578 | N5: =[1]Réel!B6 -> 20154 | P5: =SUM(D5:G5) -> 1188110.1 | Q5: =SUM(H5:K5) -> 0 | R5: =SUM(L5:O5) -> 43314
C6: 41914 | D6: =([1]Previsionnel!$C$4/COUNT('[1]Prev. Act. Canal'!$C$5:$C$31)) -> 245274.91 | E6: =([1]Previsionnel!$C$5/COUNT('[1]Prev. Act. Canal'!$C$5:$C$31)) -> 58949.609 | F6: =([1]Previsionnel!$C$6/COUNT('[1]Prev. Act. Canal'!$C$5:$C$31)) -> 202227.65 | G6: =([1]Previsionnel!$C$7/COUNT('[1]Prev. Act. Canal'!$C$5:$C$31)) -> 681657.91 | L6: =[1]Réel!C4 -> 15348 | M6: =[1]Réel!C5 -> 10547 | N6: =[1]Réel!D5 -> 11516 | P6: =SUM(D6:G6) -> 1188110.1 | Q6: =SUM(H6:K6) -> 0 | R6: =SUM(L6:O6) -> 37411
C7: 41915 | D7: =([1]Previsionnel!$C$4/COUNT('[1]Prev. Act. Canal'!$C$5:$C$31)) -> 245274.91 | E7: =([1]Previsionnel!$C$5/COUNT('[1]Prev. Act. Canal'!$C$5:$C$31)) -> 58949.609 | F7: =([1]Previsionnel!$C$6/COUNT('[1]Prev. Act. Canal'!$C$5:$C$31)) -> 202227.65 | G7: =([1]Previsionnel!$C$7/COUNT('[1]Prev. Act. Canal'!$C$5:$C$31)) -> 681657.91 | P7: =SUM(D7:G7) -> 1188110.1 | Q7: =SUM(H7:K7) -> 0 | R7: =SUM(L7:O7) -> 0
B8: 41 | D8: =SUM(D9:D13) -> 1226374.6 | E8: =SUM(E9:E13) -> 294748.04 | F8: =SUM(F9:F13) -> 1011138.3 | G8: =SUM(G9:G13) -> 3408289.6 | H8: =SUM(H9:H13) -> 0 | I8: =SUM(I9:I13) -> 0 | J8: =SUM(J9:J13) -> 0 | K8: =SUM(K9:K13) -> 0 | ... O8: =SUM(O9:O13) -> 0 | P8: =SUM(D8:G8) -> 5940550.4 | Q8: =SUM(H8:K8) -> 0 | R8: =SUM(L8:O8) -> 0
C9: 41918 | D9: =([1]Previsionnel!$C$4/COUNT('[1]Prev. Act. Canal'!$C$5:$C$31)) -> 245274.91 | E9: =([1]Previsionnel!$C$5/COUNT('[1]Prev. Act. Canal'!$C$5:$C$31)) -> 58949.609 | F9: =([1]Previsionnel!$C$6/COUNT('[1]Prev. Act. Canal'!$C$5:$C$31))*1 -> 202227.65 | G9: =([1]Previsionnel!$C$7/COUNT('[1]Prev. Act. Canal'!$C$5:$C$31)) -> 681657.91 | P9: =SUM(D9:G9) -> 1188110.1 | Q9: =SUM(H9:K9) -> 0 | R9: =SUM(L9:O9) -> 0
C10: 41919 | D10: =([1]Previsionnel!$C$4/COUNT('[1]Prev. Act. Canal'!$C$5:$C$31)) -> 245274.91 | E10: =([1]Previsionnel!$C$5/COUNT('[1]Prev. Act. Canal'!$C$5:$C$31)) -> 58949.609 | F10: =([1]Previsionnel!$C$6/COUNT('[1]Prev. Act. Canal'!$C$5:$C$31)) -> 202227.65 | G10: =([1]Previsionnel!$C$7/COUNT('[1]Prev. Act. Canal'!$C$5:$C$31)) -> 681657.91 | P10: =SUM(D10:G10) -> 1188110.1 | Q10: =SUM(H10:K10) -> 0 | R10: =SUM(L10:O10) -> 0
C11: 41920 | D11: =([1]Previsionnel!$C$4/COUNT('[1]Prev. Act. Canal'!$C$5:$C$31)) -> 245274.91 | E11: =([1]Previsionnel!$C$5/COUNT('[1]Prev. Act. Canal'!$C$5:$C$31)) -> 58949.609 | F11: =([1]Previsionnel!$C$6/COUNT('[1]Prev. Act. Canal'!$C$5:$C$31)) -> 202227.65 | G11: =([1]Previsionnel!$C$7/COUNT('[1]Prev. Act. Canal'!$C$5:$C$31)) -> 681657.91 | P11: =SUM(D11:G11) -> 1188110.1 | Q11: =SUM(H11:K11) -> 0 | R11: =SUM(L11:O11) -> 0
C12: 41921 | D12: =([1]Previsionnel!$C$4/COUNT('[1]Prev. Act. Canal'!$C$5:$C$31)) -> 245274.91 | E12: =([1]Previsionnel!$C$5/COUNT('[1]Prev. Act. Canal'!$C$5:$C$31)) -> 58949.609 | F12: =([1]Previsionnel!$C$6/COUNT('[1]Prev. Act. Canal'!$C$5:$C$31)) -> 202227.65 | G12: =([1]Previsionnel!$C$7/COUNT('[1]Prev. Act. Canal'!$C$5:$C$31)) -> 681657.91 | P12: =SUM(D12:G12) -> 1188110.1 | Q12: =SUM(H12:K12) -> 0 | R12: =SUM(L12:O12) -> 0
C13: 41922 | D13: =([1]Previsionnel!$C$4/COUNT('[1]Prev. Act. Canal'!$C$5:$C$31)) -> 245274.91 | E13: =([1]Previsionnel!$C$5/COUNT('[1]Prev. Act. Canal'!$C$5:$C$31)) -> 58949.609 | F13: =([1]Previsionnel!$C$6/COUNT('[1]Prev. Act. Canal'!$C$5:$C$31)) -> 202227.65 | G13: =([1]Previsionnel!$C$7/COUNT('[1]Prev. Act. Canal'!$C$5:$C$31)) -> 681657.91 | P13: =SUM(D13:G13) -> 1188110.1 | Q13: =SUM(H13:K13) -> 0 | R13: =SUM(L13:O13) -> 0
B14: 42 | D14: =SUM(D15:D19) -> 1226374.6 | E14: =SUM(E15:E19) -> 294748.04 | F14: =SUM(F15:F19) -> 1011138.3 | G14: =SUM(G15:G19) -> 3408289.6 | H14: =SUM(H15:H19) -> 0 | I14: =SUM(I15:I19) -> 0 | J14: =SUM(J15:J19) -> 0 | K14: =SUM(K15:K19) -> 0 | ... O14: =SUM(O15:O19) -> 0 | P14: =SUM(D14:G14) -> 5940550.4 | Q14: =SUM(H14:K14) -> 0 | R14: =SUM(L14:O14) -> 0
C15: 41925 | D15: =([1]Previsionnel!$C$4/COUNT('[1]Prev. Act. Canal'!$C$5:$C$31)) -> 245274.91 | E15: =([1]Previsionnel!$C$5/COUNT('[1]Prev. Act. Canal'!$C$5:$C$31)) -> 58949.609 | F15: =([1]Previsionnel!$C$6/COUNT('[1]Prev. Act. Canal'!$C$5:$C$31)) -> 202227.65 | G15: =([1]Previsionnel!$C$7/COUNT('[1]Prev. Act. Canal'!$C$5:$C$31)) -> 681657.91 | P15: =SUM(D15:G15) -> 1188110.1 | Q15: =SUM(H15:K15) -> 0 | R15: =SUM(L15:O15) -> 0
C16: 41926 | D16: =([1]Previsionnel!$C$4/COUNT('[1]Prev. Act. Canal'!$C$5:$C$31)) -> 245274.91 | E16: =([1]Previsionnel!$C$5/COUNT('[1]Prev. Act. Canal'!$C$5:$C$31)) -> 58949.609 | F16: =([1]Previsionnel!$C$6/COUNT('[1]Prev. Act. Canal'!$C$5:$C$31)) -> 202227.65 | G16: =([1]Previsionnel!$C$7/COUNT('[1]Prev. Act. Canal'!$C$5:$C$31)) -> 681657.91 | P16: =SUM(D16:G16) -> 1188110.1 | Q16: =SUM(H16:K16) -> 0 | R16: =SUM(L16:O16) -> 0
C17: 41927 | D17: =([1]Previsionnel!$C$4/COUNT('[1]Prev. Act. Canal'!$C$5:$C$31)) -> 245274.91 | E17: =([1]Previsionnel!$C$5/COUNT('[1]Prev. Act. Canal'!$C$5:$C$31)) -> 58949.609 | F17: =([1]Previsionnel!$C$6/COUNT('[1]Prev. Act. Canal'!$C$5:$C$31)) -> 202227.65 | G17: =([1]Previsionnel!$C$7/COUNT('[1]Prev. Act. Canal'!$C$5:$C$31)) -> 681657.91 | P17: =SUM(D17:G17) -> 1188110.1 | Q17: =SUM(H17:K17) -> 0 | R17: =SUM(L17:O17) -> 0
C18: 41928 | D18: =([1]Previsionnel!$C$4/COUNT('[1]Prev. Act. Canal'!$C$5:$C$31)) -> 245274.91 | E18: =([1]Previsionnel!$C$5/COUNT('[1]Prev. Act. Canal'!$C$5:$C$31)) -> 58949.609 | F18: =([1]Previsionnel!$C$6/COUNT('[1]Prev. Act. Canal'!$C$5:$C$31)) -> 202227.65 | G18: =([1]Previsionnel!$C$7/COUNT('[1]Prev. Act. Canal'!$C$5:$C$31)) -> 681657.91 | P18: =SUM(D18:G18) -> 1188110.1 | Q18: =SUM(H18:K18) -> 0 | R18: =SUM(L18:O18) -> 0
C19: 41929 | D19: =([1]Previsionnel!$C$4/COUNT('[1]Prev. Act. Canal'!$C$5:$C$31)) -> 245274.91 | E19: =([1]Previsionnel!$C$5/COUNT('[1]Prev. Act. Canal'!$C$5:$C$31)) -> 58949.609 | F19: =([1]Previsionnel!$C$6/COUNT('[1]Prev. Act. Canal'!$C$5:$C$31)) -> 202227.65 | G19: =([1]Previsionnel!$C$7/COUNT('[1]Prev. Act. Canal'!$C$5:$C$31)) -> 681657.91 | P19: =SUM(D19:G19) -> 1188110.1 | Q19: =SUM(H19:K19) -> 0 | R19: =SUM(L19:O19) -> 0
B20: 43 | D20: =SUM(D21:D25) -> 1226374.6 | E20: =SUM(E21:E25) -> 294748.04 | F20: =SUM(F21:F25) -> 1011138.3 | G20: =SUM(G21:G25) -> 3408289.6 | H20: =SUM(H21:H25) -> 0 | I20: =SUM(I21:I25) -> 0 | J20: =SUM(J21:J25) -> 0 | K20: =SUM(K21:K25) -> 0 | ... O20: =SUM(O21:O25) -> 0 | P20: =SUM(D20:G20) -> 5940550.4 | Q20: =SUM(H20:K20) -> 0 | R20: =SUM(L20:O20) -> 0
C21: 41932 | D21: =([1]Previsionnel!$C$4/COUNT('[1]Prev. Act. Canal'!$C$5:$C$31)) -> 245274.91 | E21: =([1]Previsionnel!$C$5/COUNT('[1]Prev. Act. Canal'!$C$5:$C$31)) -> 58949.609 | F21: =([1]Previsionnel!$C$6/COUNT('[1]Prev. Act. Canal'!$C$5:$C$31)) -> 202227.65 | G21: =([1]Previsionnel!$C$7/COUNT('[1]Prev. Act. Canal'!$C$5:$C$31)) -> 681657.91 | P21: =SUM(D21:G21) -> 1188110.1 | Q21: =SUM(H21:K21) -> 0 | R21: =SUM(L21:O21) -> 0
C22: 41933 | D22: =([1]Previsionnel!$C$4/COUNT('[1]Prev. Act. Canal'!$C$5:$C$31)) -> 245274.91 | E22: =([1]Previsionnel!$C$5/COUNT('[1]Prev. Act. Canal'!$C$5:$C$31)) -> 58949.609 | F22: =([1]Previsionnel!$C$6/COUNT('[1]Prev. Act. Canal'!$C$5:$C$31)) -> 202227.65 | G22: =([1]Previsionnel!$C$7/COUNT('[1]Prev. Act. Canal'!$C$5:$C$31)) -> 681657.91 | P22: =SUM(D22:G22) -> 1188110.1 | Q22: =SUM(H22:K22) -> 0 | R22: =SUM(L22:O22) -> 0
C23: 41934 | D23: =([1]Previsionnel!$C$4/COUNT('[1]Prev. Act. Canal'!$C$5:$C$31)) -> 245274.91 | E23: =([1]Previsionnel!$C$5/COUNT('[1]Prev. Act. Canal'!$C$5:$C$31)) -> 58949.609 | F23: =([1]Previsionnel!$C$6/COUNT('[1]Prev. Act. Canal'!$C$5:$C$31)) -> 202227.65 | G23: =([1]Previsionnel!$C$7/COUNT('[1]Prev. Act. Canal'!$C$5:$C$31)) -> 681657.91 | P23: =SUM(D23:G23) -> 1188110.1 | Q23: =SUM(H23:K23) -> 0 | R23: =SUM(L23:O23) -> 0
C24: 41935 | D24: =([1]Previsionnel!$C$4/COUNT('[1]Prev. Act. Canal'!$C$5:$C$31)) -> 245274.91 | E24: =([1]Previsionnel!$C$5/COUNT('[1]Prev. Act. Canal'!$C$5:$C$31)) -> 58949.609 | F24: =([1]Previsionnel!$C$6/COUNT('[1]Prev. Act. Canal'!$C$5:$C$31)) -> 202227.65 | G24: =([1]Previsionnel!$C$7/COUNT('[1]Prev. Act. Canal'!$C$5:$C$31)) -> 681657.91 | P24: =SUM(D24:G24) -> 1188110.1 | Q24: =SUM(H24:K24) -> 0 | R24: =SUM(L24:O24) -> 0
C25: 41936 | D25: =([1]Previsionnel!$C$4/COUNT('[1]Prev. Act. Canal'!$C$5:$C$31)) -> 245274.91 | E25: =([1]Previsionnel!$C$5/COUNT('[1]Prev. Act. Canal'!$C$5:$C$31)) -> 58949.609 | F25: =([1]Previsionnel!$C$6/COUNT('[1]Prev. Act. Canal'!$C$5:$C$31)) -> 202227.65 | G25: =([1]Previsionnel!$C$7/COUNT('[1]Prev. Act. Canal'!$C$5:$C$31)) -> 681657.91 | P25: =SUM(D25:G25) -> 1188110.1 | Q25: =SUM(H25:K25) -> 0 | R25: =SUM(L25:O25) -> 0
B26: 44 | D26: =SUM(D27:D31) -> 1226374.6 | E26: =SUM(E27:E31) -> 294748.04 | F26: =SUM(F27:F31) -> 1011138.3 | G26: =SUM(G27:G31) -> 3408289.6 | H26: =SUM(H27:H31) -> 0 | I26: =SUM(I27:I31) -> 0 | J26: =SUM(J27:J31) -> 0 | K26: =SUM(K27:K31) -> 0 | ... O26: =SUM(O27:O31) -> 0 | P26: =SUM(D26:G26) -> 5940550.4 | Q26: =SUM(H26:K26) -> 0 | R26: =SUM(L26:O26) -> 0
C27: 41939 | D27: =([1]Previsionnel!$C$4/COUNT('[1]Prev. Act. Canal'!$C$5:$C$31)) -> 245274.91 | E27: =([1]Previsionnel!$C$5/COUNT('[1]Prev. Act. Canal'!$C$5:$C$31)) -> 58949.609 | F27: =([1]Previsionnel!$C$6/COUNT('[1]Prev. Act. Canal'!$C$5:$C$31)) -> 202227.65 | G27: =([1]Previsionnel!$C$7/COUNT('[1]Prev. Act. Canal'!$C$5:$C$31)) -> 681657.91 | P27: =SUM(D27:G27) -> 1188110.1 | Q27: =SUM(H27:K27) -> 0 | R27: =SUM(L27:O27) -> 0
C28: 41940 | D28: =([1]Previsionnel!$C$4/COUNT('[1]Prev. Act. Canal'!$C$5:$C$31)) -> 245274.91 | E28: =([1]Previsionnel!$C$5/COUNT('[1]Prev. Act. Canal'!$C$5:$C$31)) -> 58949.609 | F28: =([1]Previsionnel!$C$6/COUNT('[1]Prev. Act. Canal'!$C$5:$C$31)) -> 202227.65 | G28: =([1]Previsionnel!$C$7/COUNT('[1]Prev. Act. Canal'!$C$5:$C$31)) -> 681657.91 | P28: =SUM(D28:G28) -> 1188110.1 | Q28: =SUM(H28:K28) -> 0 | R28: =SUM(L28:O28) -> 0
C29: 41941 | D29: =([1]Previsionnel!$C$4/COUNT('[1]Prev. Act. Canal'!$C$5:$C$31)) -> 245274.91 | E29: =([1]Previsionnel!$C$5/COUNT('[1]Prev. Act. Canal'!$C$5:$C$31)) -> 58949.609 | F29: =([1]Previsionnel!$C$6/COUNT('[1]Prev. Act. Canal'!$C$5:$C$31)) -> 202227.65 | G29: =([1]Previsionnel!$C$7/COUNT('[1]Prev. Act. Canal'!$C$5:$C$31)) -> 681657.91 | P29: =SUM(D29:G29) -> 1188110.1 | Q29: =SUM(H29:K29) -> 0 | R29: =SUM(L29:O29) -> 0
C30: 41942 | D30: =([1]Previsionnel!$C$4/COUNT('[1]Prev. Act. Canal'!$C$5:$C$31)) -> 245274.91 | E30: =([1]Previsionnel!$C$5/COUNT('[1]Prev. Act. Canal'!$C$5:$C$31)) -> 58949.609 | F30: =([1]Previsionnel!$C$6/COUNT('[1]Prev. Act. Canal'!$C$5:$C$31)) -> 202227.65 | G30: =([1]Previsionnel!$C$7/COUNT('[1]Prev. Act. Canal'!$C$5:$C$31)) -> 681657.91 | P30: =SUM(D30:G30) -> 1188110.1 | Q30: =SUM(H30:K30) -> 0 | R30: =SUM(L30:O30) -> 0
C31: 41943 | D31: =([1]Previsionnel!$C$4/COUNT('[1]Prev. Act. Canal'!$C$5:$C$31)) -> 245274.91 | E31: =([1]Previsionnel!$C$5/COUNT('[1]Prev. Act. Canal'!$C$5:$C$31)) -> 58949.609 | F31: =([1]Previsionnel!$C$6/COUNT('[1]Prev. Act. Canal'!$C$5:$C$31)) -> 202227.65 | G31: =([1]Previsionnel!$C$7/COUNT('[1]Prev. Act. Canal'!$C$5:$C$31)) -> 681657.91 | P31: =SUM(D31:G31) -> 1188110.1 | Q31: =SUM(H31:K31) -> 0 | R31: =SUM(L31:O31) -> 0
A32: =PROPER(TEXT(DATE(2014,11,1),"mmmm aaaa")) -> Novembre 2014 | D32: =SUM(D33,D39,D45,D51) -> 0 | E32: =SUM(E33,E39,E45,E51) -> 0 | F32: =SUM(F33,F39,F45,F51) -> 0 | G32: =SUM(G33,G39,G45,G51) -> 0 | H32: =SUM(H33,H39,H45,H51) -> 0 | I32: =SUM(I33,I39,I45,I51) -> 0 | J32: =SUM(J33,J39,J45,J51) -> 0 | K32: =SUM(K33,K39,K45,K51) -> 0 | ... R32: =SUM(R33,R39,R45,R51) -> 0
B33: 45 | D33: =SUM(D34:D38) -> 0 | E33: =SUM(E34:E38) -> 0 | F33: =SUM(F34:F38) -> 0 | G33: =SUM(G34:G38) -> 0 | H33: =SUM(H34:H38) -> 0 | I33: =SUM(I34:I38) -> 0 | J33: =SUM(J34:J38) -> 0 | K33: =SUM(K34:K38) -> 0 | ... O33: =SUM(O34:O38) -> 0 | P33: =SUM(D33:G33) -> 0 | Q33: =SUM(H33:K33) -> 0 | R33: =SUM(L33:O33) -> 0
C34: 41946 | D34: =([1]Previsionnel!$D$4/COUNT($C$34:$C$56)) -> 0 | E34: =([1]Previsionnel!$D$5/COUNT($C$34:$C$56)) -> 0 | F34: =([1]Previsionnel!$D$6/COUNT($C$34:$C$56)) -> 0 | G34: =([1]Previsionnel!$D$7/COUNT($C$34:$C$56)) -> 0 | P34: =SUM(D34:G34) -> 0 | Q34: =SUM(H34:K34) -> 0 | R34: =SUM(L34:O34) -> 0
C35: 41947 | D35: =([1]Previsionnel!$D$4/COUNT($C$34:$C$56)) -> 0 | E35: =([1]Previsionnel!$D$5/COUNT($C$34:$C$56)) -> 0 | F35: =([1]Previsionnel!$D$6/COUNT($C$34:$C$56)) -> 0 | G35: =([1]Previsionnel!$D$7/COUNT($C$34:$C$56)) -> 0 | P35: =SUM(D35:G35) -> 0 | Q35: =SUM(H35:K35) -> 0 | R35: =SUM(L35:O35) -> 0
C36: 41948 | D36: =([1]Previsionnel!$D$4/COUNT($C$34:$C$56)) -> 0 | E36: =([1]Previsionnel!$D$5/COUNT($C$34:$C$56)) -> 0 | F36: =([1]Previsionnel!$D$6/COUNT($C$34:$C$56)) -> 0 | G36: =([1]Previsionnel!$D$7/COUNT($C$34:$C$56)) -> 0 | P36: =SUM(D36:G36) -> 0 | Q36: =SUM(H36:K36) -> 0 | R36: =SUM(L36:O36) -> 0
C37: 41949 | D37: =([1]Previsionnel!$D$4/COUNT($C$34:$C$56)) -> 0 | E37: =([1]Previsionnel!$D$5/COUNT($C$34:$C$56)) -> 0 | F37: =([1]Previsionnel!$D$6/COUNT($C$34:$C$56)) -> 0 | G37: =([1]Previsionnel!$D$7/COUNT($C$34:$C$56)) -> 0 | P37: =SUM(D37:G37) -> 0 | Q37: =SUM(H37:K37) -> 0 | R37: =SUM(L37:O37) -> 0
C38: 41950 | D38: =([1]Previsionnel!$D$4/COUNT($C$34:$C$56)) -> 0 | E38: =([1]Previsionnel!$D$5/COUNT($C$34:$C$56)) -> 0 | F38: =([1]Previsionnel!$D$6/COUNT($C$34:$C$56)) -> 0 | G38: =([1]Previsionnel!$D$7/COUNT($C$34:$C$56)) -> 0 | P38: =SUM(D38:G38) -> 0 | Q38: =SUM(H38:K38) -> 0 | R38: =SUM(L38:O38) -> 0
B39: 46 | D39: =SUM(D40:D44) -> 0 | E39: =SUM(E40:E44) -> 0 | F39: =SUM(F40:F44) -> 0 | G39: =SUM(G40:G44) -> 0 | H39: =SUM(H40:H44) -> 0 | I39: =SUM(I40:I44) -> 0 | J39: =SUM(J40:J44) -> 0 | K39: =SUM(K40:K44) -> 0 | ... O39: =SUM(O40:O44) -> 0 | P39: =SUM(D39:G39) -> 0 | Q39: =SUM(H39:K39) -> 0 | R39: =SUM(L39:O39) -> 0
C40: 41953 | D40: =([1]Previsionnel!$D$4/COUNT($C$34:$C$56)) -> 0 | E40: =([1]Previsionnel!$D$5/COUNT($C$34:$C$56)) -> 0 | F40: =([1]Previsionnel!$D$6/COUNT($C$34:$C$56)) -> 0 | G40: =([1]Previsionnel!$D$7/COUNT($C$34:$C$56)) -> 0 | P40: =SUM(D40:G40) -> 0 | Q40: =SUM(H40:K40) -> 0 | R40: =SUM(L40:O40) -> 0
C41: 41954 | D41: =([1]Previsionnel!$D$4/COUNT($C$34:$C$56)) -> 0 | E41: =([1]Previsionnel!$D$5/COUNT($C$34:$C$56)) -> 0 | F41: =([1]Previsionnel!$D$6/COUNT($C$34:$C$56)) -> 0 | G41: =([1]Previsionnel!$D$7/COUNT($C$34:$C$56)) -> 0 | P41: =SUM(D41:G41) -> 0 | Q41: =SUM(H41:K41) -> 0 | R41: =SUM(L41:O41) -> 0
C42: 41955 | D42: =([1]Previsionnel!$D$4/COUNT($C$34:$C$56)) -> 0 | E42: =([1]Previsionnel!$D$5/COUNT($C$34:$C$56)) -> 0 | F42: =([1]Previsionnel!$D$6/COUNT($C$34:$C$56)) -> 0 | G42: =([1]Previsionnel!$D$7/COUNT($C$34:$C$56)) -> 0 | P42: =SUM(D42:G42) -> 0 | Q42: =SUM(H42:K42) -> 0 | R42: =SUM(L42:O42) -> 0
C43: 41956 | D43: =([1]Previsionnel!$D$4/COUNT($C$34:$C$56)) -> 0 | E43: =([1]Previsionnel!$D$5/COUNT($C$34:$C$56)) -> 0 | F43: =([1]Previsionnel!$D$6/COUNT($C$34:$C$56)) -> 0 | G43: =([1]Previsionnel!$D$7/COUNT($C$34:$C$56)) -> 0 | P43: =SUM(D43:G43) -> 0 | Q43: =SUM(H43:K43) -> 0 | R43: =SUM(L43:O43) -> 0
C44: 41957 | D44: =([1]Previsionnel!$D$4/COUNT($C$34:$C$56)) -> 0 | E44: =([1]Previsionnel!$D$5/COUNT($C$34:$C$56)) -> 0 | F44: =([1]Previsionnel!$D$6/COUNT($C$34:$C$56)) -> 0 | G44: =([1]Previsionnel!$D$7/COUNT($C$34:$C$56)) -> 0 | P44: =SUM(D44:G44) -> 0 | Q44: =SUM(H44:K44) -> 0 | R44: =SUM(L44:O44) -> 0
B45: 47 | D45: =SUM(D46:D50) -> 0 | E45: =SUM(E46:E50) -> 0 | F45: =SUM(F46:F50) -> 0 | G45: =SUM(G46:G50) -> 0 | H45: =SUM(H46:H50) -> 0 | I45: =SUM(I46:I50) -> 0 | J45: =SUM(J46:J50) -> 0 | K45: =SUM(K46:K50) -> 0 | ... O45: =SUM(O46:O50) -> 0 | P45: =SUM(D45:G45) -> 0 | Q45: =SUM(H45:K45) -> 0 | R45: =SUM(L45:O45) -> 0
C46: 41960 | D46: =([1]Previsionnel!$D$4/COUNT($C$34:$C$56)) -> 0 | E46: =([1]Previsionnel!$D$5/COUNT($C$34:$C$56)) -> 0 | F46: =([1]Previsionnel!$D$6/COUNT($C$34:$C$56)) -> 0 | G46: =([1]Previsionnel!$D$7/COUNT($C$34:$C$56)) -> 0 | P46: =SUM(D46:G46) -> 0 | Q46: =SUM(H46:K46) -> 0 | R46: =SUM(L46:O46) -> 0
C47: 41961 | D47: =([1]Previsionnel!$D$4/COUNT($C$34:$C$56)) -> 0 | E47: =([1]Previsionnel!$D$5/COUNT($C$34:$C$56)) -> 0 | F47: =([1]Previsionnel!$D$6/COUNT($C$34:$C$56)) -> 0 | G47: =([1]Previsionnel!$D$7/COUNT($C$34:$C$56)) -> 0 | P47: =SUM(D47:G47) -> 0 | Q47: =SUM(H47:K47) -> 0 | R47: =SUM(L47:O47) -> 0
C48: 41962 | D48: =([1]Previsionnel!$D$4/COUNT($C$34:$C$56)) -> 0 | E48: =([1]Previsionnel!$D$5/COUNT($C$34:$C$56)) -> 0 | F48: =([1]Previsionnel!$D$6/COUNT($C$34:$C$56)) -> 0 | G48: =([1]Previsionnel!$D$7/COUNT($C$34:$C$56)) -> 0 | P48: =SUM(D48:G48) -> 0 | Q48: =SUM(H48:K48) -> 0 | R48: =SUM(L48:O48) -> 0
C49: 41963 | D49: =([1]Previsionnel!$D$4/COUNT($C$34:$C$56)) -> 0 | E49: =([1]Previsionnel!$D$5/COUNT($C$34:$C$56)) -> 0 | F49: =([1]Previsionnel!$D$6/COUNT($C$34:$C$56)) -> 0 | G49: =([1]Previsionnel!$D$7/COUNT($C$34:$C$56)) -> 0 | P49: =SUM(D49:G49) -> 0 | Q49: =SUM(H49:K49) -> 0 | R49: =SUM(L49:O49) -> 0
C50: 41964 | D50: =([1]Previsionnel!$D$4/COUNT($C$34:$C$56)) -> 0 | E50: =([1]Previsionnel!$D$5/COUNT($C$34:$C$56)) -> 0 | F50: =([1]Previsionnel!$D$6/COUNT($C$34:$C$56)) -> 0 | G50: =([1]Previsionnel!$D$7/COUNT($C$34:$C$56)) -> 0 | P50: =SUM(D50:G50) -> 0 | Q50: =SUM(H50:K50) -> 0 | R50: =SUM(L50:O50) -> 0
B51: 48 | D51: =SUM(D52:D56) -> 0 | E51: =SUM(E52:E56) -> 0 | F51: =SUM(F52:F56) -> 0 | G51: =SUM(G52:G56) -> 0 | H51: =SUM(H52:H56) -> 0 | I51: =SUM(I52:I56) -> 0 | J51: =SUM(J52:J56) -> 0 | K51: =SUM(K52:K56) -> 0 | ... O51: =SUM(O52:O56) -> 0 | P51: =SUM(D51:G51) -> 0 | Q51: =SUM(H51:K51) -> 0 | R51: =SUM(L51:O51) -> 0
C52: 41967 | D52: =([1]Previsionnel!$D$4/COUNT($C$34:$C$56)) -> 0 | E52: =([1]Previsionnel!$D$5/COUNT($C$34:$C$56)) -> 0 | F52: =([1]Previsionnel!$D$6/COUNT($C$34:$C$56)) -> 0 | G52: =([1]Previsionnel!$D$7/COUNT($C$34:$C$56)) -> 0 | P52: =SUM(D52:G52) -> 0 | Q52: =SUM(H52:K52) -> 0 | R52: =SUM(L52:O52) -> 0
C53: 41968 | D53: =([1]Previsionnel!$D$4/COUNT($C$34:$C$56)) -> 0 | E53: =([1]Previsionnel!$D$5/COUNT($C$34:$C$56)) -> 0 | F53: =([1]Previsionnel!$D$6/COUNT($C$34:$C$56)) -> 0 | G53: =([1]Previsionnel!$D$7/COUNT($C$34:$C$56)) -> 0 | P53: =SUM(D53:G53) -> 0 | Q53: =SUM(H53:K53) -> 0 | R53: =SUM(L53:O53) -> 0
C54: 41969 | D54: =([1]Previsionnel!$D$4/COUNT($C$34:$C$56)) -> 0 | E54: =([1]Previsionnel!$D$5/COUNT($C$34:$C$56)) -> 0 | F54: =([1]Previsionnel!$D$6/COUNT($C$34:$C$56)) -> 0 | G54: =([1]Previsionnel!$D$7/COUNT($C$34:$C$56)) -> 0 | P54: =SUM(D54:G54) -> 0 | Q54: =SUM(H54:K54) -> 0 | R54: =SUM(L54:O54) -> 0
C55: 41970 | D55: =([1]Previsionnel!$D$4/COUNT($C$34:$C$56)) -> 0 | E55: =([1]Previsionnel!$D$5/COUNT($C$34:$C$56)) -> 0 | F55: =([1]Previsionnel!$D$6/COUNT($C$34:$C$56)) -> 0 | G55: =([1]Previsionnel!$D$7/COUNT($C$34:$C$56)) -> 0 | P55: =SUM(D55:G55) -> 0 | Q55: =SUM(H55:K55) -> 0 | R55: =SUM(L55:O55) -> 0
C56: 41971 | D56: =([1]Previsionnel!$D$4/COUNT($C$34:$C$56)) -> 0 | E56: =([1]Previsionnel!$D$5/COUNT($C$34:$C$56)) -> 0 | F56: =([1]Previsionnel!$D$6/COUNT($C$34:$C$56)) -> 0 | G56: =([1]Previsionnel!$D$7/COUNT($C$34:$C$56)) -> 0 | P56: =SUM(D56:G56) -> 0 | Q56: =SUM(H56:K56) -> 0 | R56: =SUM(L56:O56) -> 0
A57: =PROPER(TEXT(DATE(2014,12,1),"mmmm aaaa")) -> Décembre 2014 | D57: =SUM(D58,D64,D70,D76,D82)-D87-D88 -> 0 | E57: =SUM(E58,E64,E70,E76,E82)-E87-E88 -> 0 | F57: =SUM(F58,F64,F70,F76,F82)-F87-F88 -> 0 | G57: =SUM(G58,G64,G70,G76,G82)-G87-G88 -> 0 | H57: =SUM(H58,H64,H70,H76,H82)-H87-H88 -> 0 | I57: =SUM(I58,I64,I70,I76,I82)-I87-I88 -> 0 | J57: =SUM(J58,J64,J70,J76,J82)-J87-J88 -> 0 | K57: =SUM(K58,K64,K70,K76,K82)-K87-K88 -> 0 | ... R57: =SUM(R58,R64,R70,R76,R82)-R87-R88 -> 0
B58: 49 | D58: =SUM(D59:D63) -> 0 | E58: =SUM(E59:E63) -> 0 | F58: =SUM(F59:F63) -> 0 | G58: =SUM(G59:G63) -> 0 | H58: =SUM(H59:H63) -> 0 | I58: =SUM(I59:I63) -> 0 | J58: =SUM(J59:J63) -> 0 | K58: =SUM(K59:K63) -> 0 | ... O58: =SUM(O59:O63) -> 0 | P58: =SUM(D58:G58) -> 0 | Q58: =SUM(H58:K58) -> 0 | R58: =SUM(L58:O58) -> 0
C59: 41974 | D59: =([1]Previsionnel!$E$4/COUNT($C$59:$C$85)) -> 0 | E59: =([1]Previsionnel!$E$5/COUNT($C$59:$C$85)) -> 0 | F59: =([1]Previsionnel!$E$6/COUNT($C$59:$C$85)) -> 0 | G59: =([1]Previsionnel!$E$7/COUNT($C$59:$C$85)) -> 0 | P59: =SUM(D59:G59) -> 0 | Q59: =SUM(H59:K59) -> 0 | R59: =SUM(L59:O59) -> 0
C60: 41975 | D60: =([1]Previsionnel!$E$4/COUNT($C$59:$C$85)) -> 0 | E60: =([1]Previsionnel!$E$5/COUNT($C$59:$C$85)) -> 0 | F60: =([1]Previsionnel!$E$6/COUNT($C$59:$C$85)) -> 0 | G60: =([1]Previsionnel!$E$7/COUNT($C$59:$C$85)) -> 0 | P60: =SUM(D60:G60) -> 0 | Q60: =SUM(H60:K60) -> 0 | R60: =SUM(L60:O60) -> 0
C61: 41976 | D61: =([1]Previsionnel!$E$4/COUNT($C$59:$C$85)) -> 0 | E61: =([1]Previsionnel!$E$5/COUNT($C$59:$C$85)) -> 0 | F61: =([1]Previsionnel!$E$6/COUNT($C$59:$C$85)) -> 0 | G61: =([1]Previsionnel!$E$7/COUNT($C$59:$C$85)) -> 0 | P61: =SUM(D61:G61) -> 0 | Q61: =SUM(H61:K61) -> 0 | R61: =SUM(L61:O61) -> 0
C62: 41977 | D62: =([1]Previsionnel!$E$4/COUNT($C$59:$C$85)) -> 0 | E62: =([1]Previsionnel!$E$5/COUNT($C$59:$C$85)) -> 0 | F62: =([1]Previsionnel!$E$6/COUNT($C$59:$C$85)) -> 0 | G62: =([1]Previsionnel!$E$7/COUNT($C$59:$C$85)) -> 0 | P62: =SUM(D62:G62) -> 0 | Q62: =SUM(H62:K62) -> 0 | R62: =SUM(L62:O62) -> 0
C63: 41978 | D63: =([1]Previsionnel!$E$4/COUNT($C$59:$C$85)) -> 0 | E63: =([1]Previsionnel!$E$5/COUNT($C$59:$C$85)) -> 0 | F63: =([1]Previsionnel!$E$6/COUNT($C$59:$C$85)) -> 0 | G63: =([1]Previsionnel!$E$7/COUNT($C$59:$C$85)) -> 0 | P63: =SUM(D63:G63) -> 0 | Q63: =SUM(H63:K63) -> 0 | R63: =SUM(L63:O63) -> 0
B64: 50 | D64: =SUM(D65:D69) -> 0 | E64: =SUM(E65:E69) -> 0 | F64: =SUM(F65:F69) -> 0 | G64: =SUM(G65:G69) -> 0 | H64: =SUM(H65:H69) -> 0 | I64: =SUM(I65:I69) -> 0 | J64: =SUM(J65:J69) -> 0 | K64: =SUM(K65:K69) -> 0 | ... O64: =SUM(O65:O69) -> 0 | P64: =SUM(D64:G64) -> 0 | Q64: =SUM(H64:K64) -> 0 | R64: =SUM(L64:O64) -> 0
C65: 41981 | D65: =([1]Previsionnel!$E$4/COUNT($C$59:$C$85)) -> 0 | E65: =([1]Previsionnel!$E$5/COUNT($C$59:$C$85)) -> 0 | F65: =([1]Previsionnel!$E$6/COUNT($C$59:$C$85)) -> 0 | G65: =([1]Previsionnel!$E$7/COUNT($C$59:$C$85)) -> 0 | P65: =SUM(D65:G65) -> 0 | Q65: =SUM(H65:K65) -> 0 | R65: =SUM(L65:O65) -> 0
C66: 41982 | D66: =([1]Previsionnel!$E$4/COUNT($C$59:$C$85)) -> 0 | E66: =([1]Previsionnel!$E$5/COUNT($C$59:$C$85)) -> 0 | F66: =([1]Previsionnel!$E$6/COUNT($C$59:$C$85)) -> 0 | G66: =([1]Previsionnel!$E$7/COUNT($C$59:$C$85)) -> 0 | P66: =SUM(D66:G66) -> 0 | Q66: =SUM(H66:K66) -> 0 | R66: =SUM(L66:O66) -> 0
C67: 41983 | D67: =([1]Previsionnel!$E$4/COUNT($C$59:$C$85)) -> 0 | E67: =([1]Previsionnel!$E$5/COUNT($C$59:$C$85)) -> 0 | F67: =([1]Previsionnel!$E$6/COUNT($C$59:$C$85)) -> 0 | G67: =([1]Previsionnel!$E$7/COUNT($C$59:$C$85)) -> 0 | P67: =SUM(D67:G67) -> 0 | Q67: =SUM(H67:K67) -> 0 | R67: =SUM(L67:O67) -> 0
C68: 41984 | D68: =([1]Previsionnel!$E$4/COUNT($C$59:$C$85)) -> 0 | E68: =([1]Previsionnel!$E$5/COUNT($C$59:$C$85)) -> 0 | F68: =([1]Previsionnel!$E$6/COUNT($C$59:$C$85)) -> 0 | G68: =([1]Previsionnel!$E$7/COUNT($C$59:$C$85)) -> 0 | P68: =SUM(D68:G68) -> 0 | Q68: =SUM(H68:K68) -> 0 | R68: =SUM(L68:O68) -> 0
C69: 41985 | D69: =([1]Previsionnel!$E$4/COUNT($C$59:$C$85)) -> 0 | E69: =([1]Previsionnel!$E$5/COUNT($C$59:$C$85)) -> 0 | F69: =([1]Previsionnel!$E$6/COUNT($C$59:$C$85)) -> 0 | G69: =([1]Previsionnel!$E$7/COUNT($C$59:$C$85)) -> 0 | P69: =SUM(D69:G69) -> 0 | Q69: =SUM(H69:K69) -> 0 | R69: =SUM(L69:O69) -> 0
B70: 51 | D70: =SUM(D71:D75) -> 0 | E70: =SUM(E71:E75) -> 0 | F70: =SUM(F71:F75) -> 0 | G70: =SUM(G71:G75) -> 0 | H70: =SUM(H71:H75) -> 0 | I70: =SUM(I71:I75) -> 0 | J70: =SUM(J71:J75) -> 0 | K70: =SUM(K71:K75) -> 0 | ... O70: =SUM(O71:O75) -> 0 | P70: =SUM(D70:G70) -> 0 | Q70: =SUM(H70:K70) -> 0 | R70: =SUM(L70:O70) -> 0
C71: 41988 | D71: =([1]Previsionnel!$E$4/COUNT($C$59:$C$85)) -> 0 | E71: =([1]Previsionnel!$E$5/COUNT($C$59:$C$85)) -> 0 | F71: =([1]Previsionnel!$E$6/COUNT($C$59:$C$85)) -> 0 | G71: =([1]Previsionnel!$E$7/COUNT($C$59:$C$85)) -> 0 | P71: =SUM(D71:G71) -> 0 | Q71: =SUM(H71:K71) -> 0 | R71: =SUM(L71:O71) -> 0
C72: 41989 | D72: =([1]Previsionnel!$E$4/COUNT($C$59:$C$85)) -> 0 | E72: =([1]Previsionnel!$E$5/COUNT($C$59:$C$85)) -> 0 | F72: =([1]Previsionnel!$E$6/COUNT($C$59:$C$85)) -> 0 | G72: =([1]Previsionnel!$E$7/COUNT($C$59:$C$85)) -> 0 | P72: =SUM(D72:G72) -> 0 | Q72: =SUM(H72:K72) -> 0 | R72: =SUM(L72:O72) -> 0
C73: 41990 | D73: =([1]Previsionnel!$E$4/COUNT($C$59:$C$85)) -> 0 | E73: =([1]Previsionnel!$E$5/COUNT($C$59:$C$85)) -> 0 | F73: =([1]Previsionnel!$E$6/COUNT($C$59:$C$85)) -> 0 | G73: =([1]Previsionnel!$E$7/COUNT($C$59:$C$85)) -> 0 | P73: =SUM(D73:G73) -> 0 | Q73: =SUM(H73:K73) -> 0 | R73: =SUM(L73:O73) -> 0
C74: 41991 | D74: =([1]Previsionnel!$E$4/COUNT($C$59:$C$85)) -> 0 | E74: =([1]Previsionnel!$E$5/COUNT($C$59:$C$85)) -> 0 | F74: =([1]Previsionnel!$E$6/COUNT($C$59:$C$85)) -> 0 | G74: =([1]Previsionnel!$E$7/COUNT($C$59:$C$85)) -> 0 | P74: =SUM(D74:G74) -> 0 | Q74: =SUM(H74:K74) -> 0 | R74: =SUM(L74:O74) -> 0
C75: 41992 | D75: =([1]Previsionnel!$E$4/COUNT($C$59:$C$85)) -> 0 | E75: =([1]Previsionnel!$E$5/COUNT($C$59:$C$85)) -> 0 | F75: =([1]Previsionnel!$E$6/COUNT($C$59:$C$85)) -> 0 | G75: =([1]Previsionnel!$E$7/COUNT($C$59:$C$85)) -> 0 | P75: =SUM(D75:G75) -> 0 | Q75: =SUM(H75:K75) -> 0 | R75: =SUM(L75:O75) -> 0
B76: 52 | D76: =SUM(D77:D81) -> 0 | E76: =SUM(E77:E81) -> 0 | F76: =SUM(F77:F81) -> 0 | G76: =SUM(G77:G81) -> 0 | H76: =SUM(H77:H81) -> 0 | I76: =SUM(I77:I81) -> 0 | J76: =SUM(J77:J81) -> 0 | K76: =SUM(K77:K81) -> 0 | ... O76: =SUM(O77:O81) -> 0 | P76: =SUM(D76:G76) -> 0 | Q76: =SUM(H76:K76) -> 0 | R76: =SUM(L76:O76) -> 0
C77: 41995 | D77: =([1]Previsionnel!$E$4/COUNT($C$59:$C$85)) -> 0 | E77: =([1]Previsionnel!$E$5/COUNT($C$59:$C$85)) -> 0 | F77: =([1]Previsionnel!$E$6/COUNT($C$59:$C$85)) -> 0 | G77: =([1]Previsionnel!$E$7/COUNT($C$59:$C$85)) -> 0 | P77: =SUM(D77:G77) -> 0 | Q77: =SUM(H77:K77) -> 0 | R77: =SUM(L77:O77) -> 0
C78: 41996 | D78: =([1]Previsionnel!$E$4/COUNT($C$59:$C$85)) -> 0 | E78: =([1]Previsionnel!$E$5/COUNT($C$59:$C$85)) -> 0 | F78: =([1]Previsionnel!$E$6/COUNT($C$59:$C$85)) -> 0 | G78: =([1]Previsionnel!$E$7/COUNT($C$59:$C$85)) -> 0 | P78: =SUM(D78:G78) -> 0 | Q78: =SUM(H78:K78) -> 0 | R78: =SUM(L78:O78) -> 0
C79: 41997 | D79: =([1]Previsionnel!$E$4/COUNT($C$59:$C$85)) -> 0 | E79: =([1]Previsionnel!$E$5/COUNT($C$59:$C$85)) -> 0 | F79: =([1]Previsionnel!$E$6/COUNT($C$59:$C$85)) -> 0 | G79: =([1]Previsionnel!$E$7/COUNT($C$59:$C$85)) -> 0 | P79: =SUM(D79:G79) -> 0 | Q79: =SUM(H79:K79) -> 0 | R79: =SUM(L79:O79) -> 0
C80: 41998 | D80: =([1]Previsionnel!$E$4/COUNT($C$59:$C$85)) -> 0 | E80: =([1]Previsionnel!$E$5/COUNT($C$59:$C$85)) -> 0 | F80: =([1]Previsionnel!$E$6/COUNT($C$59:$C$85)) -> 0 | G80: =([1]Previsionnel!$E$7/COUNT($C$59:$C$85)) -> 0 | P80: =SUM(D80:G80) -> 0 | Q80: =SUM(H80:K80) -> 0 | R80: =SUM(L80:O80) -> 0
C81: 41999 | D81: =([1]Previsionnel!$E$4/COUNT($C$59:$C$85)) -> 0 | E81: =([1]Previsionnel!$E$5/COUNT($C$59:$C$85)) -> 0 | F81: =([1]Previsionnel!$E$6/COUNT($C$59:$C$85)) -> 0 | G81: =([1]Previsionnel!$E$7/COUNT($C$59:$C$85)) -> 0 | P81: =SUM(D81:G81) -> 0 | Q81: =SUM(H81:K81) -> 0 | R81: =SUM(L81:O81) -> 0
B82: 1 | D82: =SUM(D83:D85,D87:D88) -> 0 | E82: =SUM(E83:E85,E87:E88) -> 0 | F82: =SUM(F83:F85,F87:F88) -> 0 | G82: =SUM(G83:G85,G87:G88) -> 0 | H82: =SUM(H83:H85,H87:H88) -> 0 | I82: =SUM(I83:I85,I87:I88) -> 0 | J82: =SUM(J83:J85,J87:J88) -> 0 | K82: =SUM(K83:K85,K87:K88) -> 0 | ... P82: =SUM(P83:P85,P87:P88) -> 0 | Q82: =SUM(H82:K82) -> 0 | R82: =SUM(L82:O82) -> 0
C83: 42002 | D83: =([1]Previsionnel!$E$4/COUNT($C$59:$C$85)) -> 0 | E83: =([1]Previsionnel!$E$5/COUNT($C$59:$C$85)) -> 0 | F83: =([1]Previsionnel!$E$6/COUNT($C$59:$C$85)) -> 0 | G83: =([1]Previsionnel!$E$7/COUNT($C$59:$C$85)) -> 0 | P83: =SUM(D83:G83) -> 0 | Q83: =SUM(H83:K83) -> 0 | R83: =SUM(L83:O83) -> 0
C84: 42003 | D84: =([1]Previsionnel!$E$4/COUNT($C$59:$C$85)) -> 0 | E84: =([1]Previsionnel!$E$5/COUNT($C$59:$C$85)) -> 0 | F84: =([1]Previsionnel!$E$6/COUNT($C$59:$C$85)) -> 0 | G84: =([1]Previsionnel!$E$7/COUNT($C$59:$C$85)) -> 0 | P84: =SUM(D84:G84) -> 0 | Q84: =SUM(H84:K84) -> 0 | R84: =SUM(L84:O84) -> 0
C85: 42004 | D85: =([1]Previsionnel!$E$4/COUNT($C$59:$C$85)) -> 0 | E85: =([1]Previsionnel!$E$5/COUNT($C$59:$C$85)) -> 0 | F85: =([1]Previsionnel!$E$6/COUNT($C$59:$C$85)) -> 0 | G85: =([1]Previsionnel!$E$7/COUNT($C$59:$C$85)) -> 0 | P85: =SUM(D85:G85) -> 0 | Q85: =SUM(H85:K85) -> 0 | R85: =SUM(L85:O85) -> 0
A86: =PROPER(TEXT(DATE(2015,1,1),"mmmm aaaa")) -> Janvier 2015 | D86: =SUM(D87:D88,D89,D95,D101,D107) -> 0 | E86: =SUM(E87:E88,E89,E95,E101,E107) -> 0 | F86: =SUM(F87:F88,F89,F95,F101,F107) -> 0 | G86: =SUM(G87:G88,G89,G95,G101,G107) -> 0 | H86: =SUM(H87:H88,H89,H95,H101,H107) -> 0 | I86: =SUM(I87:I88,I89,I95,I101,I107) -> 0 | J86: =SUM(J87:J88,J89,J95,J101,J107) -> 0 | K86: =SUM(K87:K88,K89,K95,K101,K107) -> 0 | ... R86: =SUM(R87:R88,R89,R95,R101,R107) -> 0
C87: 42005 | D87: =([1]Previsionnel!$F$4/COUNT($C$87:$C$112)) -> 0 | E87: =([1]Previsionnel!$F$5/COUNT($C$87:$C$112)) -> 0 | F87: =([1]Previsionnel!$F$6/COUNT($C$87:$C$112)) -> 0 | G87: =([1]Previsionnel!$F$7/COUNT($C$87:$C$112)) -> 0 | P87: =SUM(D87:G87) -> 0 | Q87: =SUM(H87:K87) -> 0 | R87: =SUM(L87:O87) -> 0
C88: 42006 | D88: =([1]Previsionnel!$F$4/COUNT($C$87:$C$112)) -> 0 | E88: =([1]Previsionnel!$F$5/COUNT($C$87:$C$112)) -> 0 | F88: =([1]Previsionnel!$F$6/COUNT($C$87:$C$112)) -> 0 | G88: =([1]Previsionnel!$F$7/COUNT($C$87:$C$112)) -> 0 | P88: =SUM(D88:G88) -> 0 | Q88: =SUM(H88:K88) -> 0 | R88: =SUM(L88:O88) -> 0
B89: 2 | D89: =SUM(D90:D94) -> 0 | E89: =SUM(E90:E94) -> 0 | F89: =SUM(F90:F94) -> 0 | G89: =SUM(G90:G94) -> 0 | H89: =SUM(H90:H94) -> 0 | I89: =SUM(I90:I94) -> 0 | J89: =SUM(J90:J94) -> 0 | K89: =SUM(K90:K94) -> 0 | ... O89: =SUM(O90:O94) -> 0 | P89: =SUM(D89:G89) -> 0 | Q89: =SUM(H89:K89) -> 0 | R89: =SUM(L89:O89) -> 0
C90: 42009 | D90: =([1]Previsionnel!$F$4/COUNT($C$87:$C$112)) -> 0 | E90: =([1]Previsionnel!$F$5/COUNT($C$87:$C$112)) -> 0 | F90: =([1]Previsionnel!$F$6/COUNT($C$87:$C$112)) -> 0 | G90: =([1]Previsionnel!$F$7/COUNT($C$87:$C$112)) -> 0 | P90: =SUM(D90:G90) -> 0 | Q90: =SUM(H90:K90) -> 0 | R90: =SUM(L90:O90) -> 0
C91: 42010 | D91: =([1]Previsionnel!$F$4/COUNT($C$87:$C$112)) -> 0 | E91: =([1]Previsionnel!$F$5/COUNT($C$87:$C$112)) -> 0 | F91: =([1]Previsionnel!$F$6/COUNT($C$87:$C$112)) -> 0 | G91: =([1]Previsionnel!$F$7/COUNT($C$87:$C$112)) -> 0 | P91: =SUM(D91:G91) -> 0 | Q91: =SUM(H91:K91) -> 0 | R91: =SUM(L91:O91) -> 0
C92: 42011 | D92: =([1]Previsionnel!$F$4/COUNT($C$87:$C$112)) -> 0 | E92: =([1]Previsionnel!$F$5/COUNT($C$87:$C$112)) -> 0 | F92: =([1]Previsionnel!$F$6/COUNT($C$87:$C$112)) -> 0 | G92: =([1]Previsionnel!$F$7/COUNT($C$87:$C$112)) -> 0 | P92: =SUM(D92:G92) -> 0 | Q92: =SUM(H92:K92) -> 0 | R92: =SUM(L92:O92) -> 0
C93: 42012 | D93: =([1]Previsionnel!$F$4/COUNT($C$87:$C$112)) -> 0 | E93: =([1]Previsionnel!$F$5/COUNT($C$87:$C$112)) -> 0 | F93: =([1]Previsionnel!$F$6/COUNT($C$87:$C$112)) -> 0 | G93: =([1]Previsionnel!$F$7/COUNT($C$87:$C$112)) -> 0 | P93: =SUM(D93:G93) -> 0 | Q93: =SUM(H93:K93) -> 0 | R93: =SUM(L93:O93) -> 0
C94: 42013 | D94: =([1]Previsionnel!$F$4/COUNT($C$87:$C$112)) -> 0 | E94: =([1]Previsionnel!$F$5/COUNT($C$87:$C$112)) -> 0 | F94: =([1]Previsionnel!$F$6/COUNT($C$87:$C$112)) -> 0 | G94: =([1]Previsionnel!$F$7/COUNT($C$87:$C$112)) -> 0 | P94: =SUM(D94:G94) -> 0 | Q94: =SUM(H94:K94) -> 0 | R94: =SUM(L94:O94) -> 0
B95: 3 | D95: =SUM(D96:D100) -> 0 | E95: =SUM(E96:E100) -> 0 | F95: =SUM(F96:F100) -> 0 | G95: =SUM(G96:G100) -> 0 | H95: =SUM(H96:H100) -> 0 | I95: =SUM(I96:I100) -> 0 | J95: =SUM(J96:J100) -> 0 | K95: =SUM(K96:K100) -> 0 | ... O95: =SUM(O96:O100) -> 0 | P95: =SUM(D95:G95) -> 0 | Q95: =SUM(H95:K95) -> 0 | R95: =SUM(L95:O95) -> 0
C96: 42016 | D96: =([1]Previsionnel!$F$4/COUNT($C$87:$C$112)) -> 0 | E96: =([1]Previsionnel!$F$5/COUNT($C$87:$C$112)) -> 0 | F96: =([1]Previsionnel!$F$6/COUNT($C$87:$C$112)) -> 0 | G96: =([1]Previsionnel!$F$7/COUNT($C$87:$C$112)) -> 0 | P96: =SUM(D96:G96) -> 0 | Q96: =SUM(H96:K96) -> 0 | R96: =SUM(L96:O96) -> 0
C97: 42017 | D97: =([1]Previsionnel!$F$4/COUNT($C$87:$C$112)) -> 0 | E97: =([1]Previsionnel!$F$5/COUNT($C$87:$C$112)) -> 0 | F97: =([1]Previsionnel!$F$6/COUNT($C$87:$C$112)) -> 0 | G97: =([1]Previsionnel!$F$7/COUNT($C$87:$C$112)) -> 0 | P97: =SUM(D97:G97) -> 0 | Q97: =SUM(H97:K97) -> 0 | R97: =SUM(L97:O97) -> 0
C98: 42018 | D98: =([1]Previsionnel!$F$4/COUNT($C$87:$C$112)) -> 0 | E98: =([1]Previsionnel!$F$5/COUNT($C$87:$C$112)) -> 0 | F98: =([1]Previsionnel!$F$6/COUNT($C$87:$C$112)) -> 0 | G98: =([1]Previsionnel!$F$7/COUNT($C$87:$C$112)) -> 0 | P98: =SUM(D98:G98) -> 0 | Q98: =SUM(H98:K98) -> 0 | R98: =SUM(L98:O98) -> 0
C99: 42019 | D99: =([1]Previsionnel!$F$4/COUNT($C$87:$C$112)) -> 0 | E99: =([1]Previsionnel!$F$5/COUNT($C$87:$C$112)) -> 0 | F99: =([1]Previsionnel!$F$6/COUNT($C$87:$C$112)) -> 0 | G99: =([1]Previsionnel!$F$7/COUNT($C$87:$C$112)) -> 0 | P99: =SUM(D99:G99) -> 0 | Q99: =SUM(H99:K99) -> 0 | R99: =SUM(L99:O99) -> 0
C100: 42020 | D100: =([1]Previsionnel!$F$4/COUNT($C$87:$C$112)) -> 0 | E100: =([1]Previsionnel!$F$5/COUNT($C$87:$C$112)) -> 0 | F100: =([1]Previsionnel!$F$6/COUNT($C$87:$C$112)) -> 0 | G100: =([1]Previsionnel!$F$7/COUNT($C$87:$C$112)) -> 0 | P100: =SUM(D100:G100) -> 0 | Q100: =SUM(H100:K100) -> 0 | R100: =SUM(L100:O100) -> 0
...
