Workbook

Sheet randomisation et formulation
A1: RFID | B1: Group number | C1: Individual identification | D1: Formulation | F1: Group number | G1: Formulation
A2: 10203502525217 | B2: 3 | C2: 9M | D2: =IF(B2=1,$G$2,IF(B2=2,$G$3,IF(B2=3,$G$4,IF(B2=4,$G$5,IF(B2="","NA"))))) -> 3 mg/kg/day | F2: 1 | G2: 0 mg/kg/day
A3: 10203502520479 | B3: 2 | C3: 5M | D3: =IF(B3=1,$G$2,IF(B3=2,$G$3,IF(B3=3,$G$4,IF(B3=4,$G$5,IF(B3="","NA"))))) -> 1 mg/kg/day | F3: 2 | G3: 1 mg/kg/day
A4: 10203502522889 | B4: 4 | C4: 10M | D4: =IF(B4=1,$G$2,IF(B4=2,$G$3,IF(B4=3,$G$4,IF(B4=4,$G$5,IF(B4="","NA"))))) -> 10 mg/kg/day | F4: 3 | G4: 3 mg/kg/day
A5: 10203502526710 | B5: 1 | C5: 1M | D5: =IF(B5=1,$G$2,IF(B5=2,$G$3,IF(B5=3,$G$4,IF(B5=4,$G$5,IF(B5="","NA"))))) -> 0 mg/kg/day | F5: 4 | G5: 10 mg/kg/day
A6: 10203502515394 | B6: 4 | C6: 11M | D6: =IF(B6=1,$G$2,IF(B6=2,$G$3,IF(B6=3,$G$4,IF(B6=4,$G$5,IF(B6="","NA"))))) -> 10 mg/kg/day
A7: 10203502515696 | B7: 1 | C7: 3M | D7: =IF(B7=1,$G$2,IF(B7=2,$G$3,IF(B7=3,$G$4,IF(B7=4,$G$5,IF(B7="","NA"))))) -> 0 mg/kg/day
A8: 10203502528071 | D8: =IF(B8=1,$G$2,IF(B8=2,$G$3,IF(B8=3,$G$4,IF(B8=4,$G$5,IF(B8="","NA"))))) -> NA
A9: 10203502523592 | B9: 3 | C9: 8M | D9: =IF(B9=1,$G$2,IF(B9=2,$G$3,IF(B9=3,$G$4,IF(B9=4,$G$5,IF(B9="","NA"))))) -> 3 mg/kg/day
A10: 10203502529077 | B10: 1 | C10: 2M | D10: =IF(B10=1,$G$2,IF(B10=2,$G$3,IF(B10=3,$G$4,IF(B10=4,$G$5,IF(B10="","NA"))))) -> 0 mg/kg/day
A11: 10203502525454 | B11: 2 | C11: 6M | D11: =IF(B11=1,$G$2,IF(B11=2,$G$3,IF(B11=3,$G$4,IF(B11=4,$G$5,IF(B11="","NA"))))) -> 1 mg/kg/day
A12: 10203502522366 | B12: 4 | C12: 12M | D12: =IF(B12=1,$G$2,IF(B12=2,$G$3,IF(B12=3,$G$4,IF(B12=4,$G$5,IF(B12="","NA"))))) -> 10 mg/kg/day
A13: 10203502518539 | B13: 2 | C13: 4M | D13: =IF(B13=1,$G$2,IF(B13=2,$G$3,IF(B13=3,$G$4,IF(B13=4,$G$5,IF(B13="","NA"))))) -> 1 mg/kg/day
A14: 10203502515190 | B14: 3 | C14: 7M | D14: =IF(B14=1,$G$2,IF(B14=2,$G$3,IF(B14=3,$G$4,IF(B14=4,$G$5,IF(B14="","NA"))))) -> 3 mg/kg/day
A15: 10203502520134 | B15: 2 | C15: 18F | D15: =IF(B15=1,$G$2,IF(B15=2,$G$3,IF(B15=3,$G$4,IF(B15=4,$G$5,IF(B15="","NA"))))) -> 1 mg/kg/day
A16: 10203502522692 | B16: 3 | C16: 20F | D16: =IF(B16=1,$G$2,IF(B16=2,$G$3,IF(B16=3,$G$4,IF(B16=4,$G$5,IF(B16="","NA"))))) -> 3 mg/kg/day
A17: 10203502529272 | B17: 4 | C17: 23F | D17: =IF(B17=1,$G$2,IF(B17=2,$G$3,IF(B17=3,$G$4,IF(B17=4,$G$5,IF(B17="","NA"))))) -> 10 mg/kg/day
A18: 10203502517958 | B18: 3 | C18: 19F | D18: =IF(B18=1,$G$2,IF(B18=2,$G$3,IF(B18=3,$G$4,IF(B18=4,$G$5,IF(B18="","NA"))))) -> 3 mg/kg/day
A19: 10203502522901 | B19: 2 | C19: 16F | D19: =IF(B19=1,$G$2,IF(B19=2,$G$3,IF(B19=3,$G$4,IF(B19=4,$G$5,IF(B19="","NA"))))) -> 1 mg/kg/day
A20: 10203502528143 | B20: 3 | C20: 21F | D20: =IF(B20=1,$G$2,IF(B20=2,$G$3,IF(B20=3,$G$4,IF(B20=4,$G$5,IF(B20="","NA"))))) -> 3 mg/kg/day
A21: 10203502522480 | D21: =IF(B21=1,$G$2,IF(B21=2,$G$3,IF(B21=3,$G$4,IF(B21=4,$G$5,IF(B21="","NA"))))) -> NA
A22: 10203502523702 | B22: 4 | C22: 22F | D22: =IF(B22=1,$G$2,IF(B22=2,$G$3,IF(B22=3,$G$4,IF(B22=4,$G$5,IF(B22="","NA"))))) -> 10 mg/kg/day
A23: 10203502526744 | B23: 1 | C23: 13F | D23: =IF(B23=1,$G$2,IF(B23=2,$G$3,IF(B23=3,$G$4,IF(B23=4,$G$5,IF(B23="","NA"))))) -> 0 mg/kg/day
A24: 10203502518181 | B24: 4 | C24: 24F | D24: =IF(B24=1,$G$2,IF(B24=2,$G$3,IF(B24=3,$G$4,IF(B24=4,$G$5,IF(B24="","NA"))))) -> 10 mg/kg/day
A25: 10203502524245 | B25: 1 | C25: 14F | D25: =IF(B25=1,$G$2,IF(B25=2,$G$3,IF(B25=3,$G$4,IF(B25=4,$G$5,IF(B25="","NA"))))) -> 0 mg/kg/day
A26: 10203502528632 | B26: 1 | C26: 15F | D26: =IF(B26=1,$G$2,IF(B26=2,$G$3,IF(B26=3,$G$4,IF(B26=4,$G$5,IF(B26="","NA"))))) -> 0 mg/kg/day
A27: 10203502529132 | B27: 2 | C27: 17F | D27: =IF(B27=1,$G$2,IF(B27=2,$G$3,IF(B27=3,$G$4,IF(B27=4,$G$5,IF(B27="","NA"))))) -> 1 mg/kg/day

Sheet data base
A1: Group number | B1: Formulation | C1: Individual identification | D1: RFID | E1: Sexe | F1: D | G1: RR (ms) | H1: PR (ms) | I1: QT (ms) | J1: QTc (ms) | K1: T1a (mV) | L1: T2a (mV) | M1: R a (mV) | N1: S a (mV) | O1: T (mV) | P1: RS (mV)
A2: =VLOOKUP($D2,'randomisation et formulation'!$A:$D,2,FALSE) -> 3 | B2: =VLOOKUP($D2,'randomisation et formulation'!$A:$D,4,FALSE) -> 3 mg/kg/day | C2: =VLOOKUP($D2,'randomisation et formulation'!$A:$D,3,FALSE) -> 9M | D2: 10203502525217 | E2: M | F2: D-8 | G2: 663 | H2: 96 | I2: 217 | J2: 266 | K2: -0.05 | L2: 0.1 | M2: 1.42 | N2: 0 | O2: =SUM(ABS($K2),ABS($L2)) -> 0.15 | P2: =SUM(ABS($M2),ABS($N2)) -> 1.42
A3: =VLOOKUP($D3,'randomisation et formulation'!$A:$D,2,FALSE) -> 2 | B3: =VLOOKUP($D3,'randomisation et formulation'!$A:$D,4,FALSE) -> 1 mg/kg/day | C3: =VLOOKUP($D3,'randomisation et formulation'!$A:$D,3,FALSE) -> 5M | D3: 10203502520479 | E3: M | F3: D-8 | G3: 677 | H3: 96 | I3: 217 | J3: 263 | K3: -0.13 | L3: 0.05 | M3: 1.93 | N3: 0 | O3: =SUM(ABS($K3),ABS($L3)) -> 0.18 | P3: =SUM(ABS($M3),ABS($N3)) -> 1.93
A4: =VLOOKUP($D4,'randomisation et formulation'!$A:$D,2,FALSE) -> 4 | B4: =VLOOKUP($D4,'randomisation et formulation'!$A:$D,4,FALSE) -> 10 mg/kg/day | C4: =VLOOKUP($D4,'randomisation et formulation'!$A:$D,3,FALSE) -> 10M | D4: 10203502522889 | E4: M | F4: D-8 | G4: 552 | H4: 92 | I4: 226 | J4: 304 | K4: 0.38 | L4: 0 | M4: 2.24 | N4: 0 | O4: =SUM(ABS($K4),ABS($L4)) -> 0.38 | P4: =SUM(ABS($M4),ABS($N4)) -> 2.24
A5: =VLOOKUP($D5,'randomisation et formulation'!$A:$D,2,FALSE) -> 1 | B5: =VLOOKUP($D5,'randomisation et formulation'!$A:$D,4,FALSE) -> 0 mg/kg/day | C5: =VLOOKUP($D5,'randomisation et formulation'!$A:$D,3,FALSE) -> 1M | D5: 10203502526710 | E5: M | F5: D-8 | G5: 579 | H5: 80 | I5: 226 | J5: 297 | K5: 0.31 | L5: 0 | M5: 1.69 | N5: -0.13 | O5: =SUM(ABS($K5),ABS($L5)) -> 0.31 | P5: =SUM(ABS($M5),ABS($N5)) -> 1.82
A6: =VLOOKUP($D6,'randomisation et formulation'!$A:$D,2,FALSE) -> 4 | B6: =VLOOKUP($D6,'randomisation et formulation'!$A:$D,4,FALSE) -> 10 mg/kg/day | C6: =VLOOKUP($D6,'randomisation et formulation'!$A:$D,3,FALSE) -> 11M | D6: 10203502515394 | E6: M | F6: D-8 | G6: 541 | H6: 103 | I6: 238 | J6: 323 | K6: 0.14 | L6: 0 | M6: 1.92 | N6: -0.09 | O6: =SUM(ABS($K6),ABS($L6)) -> 0.14 | P6: =SUM(ABS($M6),ABS($N6)) -> 2.01
A7: =VLOOKUP($D7,'randomisation et formulation'!$A:$D,2,FALSE) -> 1 | B7: =VLOOKUP($D7,'randomisation et formulation'!$A:$D,4,FALSE) -> 0 mg/kg/day | C7: =VLOOKUP($D7,'randomisation et formulation'!$A:$D,3,FALSE) -> 3M | D7: 10203502515696 | E7: M | F7: D-8 | G7: 489 | H7: 107 | I7: 218 | J7: 311 | K7: 0.24 | L7: 0 | M7: 1.71 | N7: -0.31 | O7: =SUM(ABS($K7),ABS($L7)) -> 0.24 | P7: =SUM(ABS($M7),ABS($N7)) -> 2.02
A8: =VLOOKUP($D8,'randomisation et formulation'!$A:$D,2,FALSE) -> 0 | B8: =VLOOKUP($D8,'randomisation et formulation'!$A:$D,4,FALSE) -> NA | C8: =VLOOKUP($D8,'randomisation et formulation'!$A:$D,3,FALSE) -> 0 | D8: 10203502528071 | E8: M | F8: D-8 | G8: 566 | H8: 91 | I8: 246 | J8: 326 | K8: 0.14 | L8: 0 | M8: 3.24 | N8: 0 | O8: =SUM(ABS($K8),ABS($L8)) -> 0.14 | P8: =SUM(ABS($M8),ABS($N8)) -> 3.24
A9: =VLOOKUP($D9,'randomisation et formulation'!$A:$D,2,FALSE) -> 3 | B9: =VLOOKUP($D9,'randomisation et formulation'!$A:$D,4,FALSE) -> 3 mg/kg/day | C9: =VLOOKUP($D9,'randomisation et formulation'!$A:$D,3,FALSE) -> 8M | D9: 10203502523592 | E9: M | F9: D-8 | G9: 769 | H9: 114 | I9: 284 | J9: 323 | K9: 0.23 | L9: 0 | M9: 2.25 | N9: -0.09 | O9: =SUM(ABS($K9),ABS($L9)) -> 0.23 | P9: =SUM(ABS($M9),ABS($N9)) -> 2.34
A10: =VLOOKUP($D10,'randomisation et formulation'!$A:$D,2,FALSE) -> 1 | B10: =VLOOKUP($D10,'randomisation et formulation'!$A:$D,4,FALSE) -> 0 mg/kg/day | C10: =VLOOKUP($D10,'randomisation et formulation'!$A:$D,3,FALSE) -> 2M | D10: 10203502529077 | E10: M | F10: D-8 | G10: 459 | H10: 106 | I10: 246 | J10: 363 | K10: 0.2 | L10: 0 | M10: 1.95 | N10: -0.07 | O10: =SUM(ABS($K10),ABS($L10)) -> 0.2 | P10: =SUM(ABS($M10),ABS($N10)) -> 2.02
A11: =VLOOKUP($D11,'randomisation et formulation'!$A:$D,2,FALSE) -> 2 | B11: =VLOOKUP($D11,'randomisation et formulation'!$A:$D,4,FALSE) -> 1 mg/kg/day | C11: =VLOOKUP($D11,'randomisation et formulation'!$A:$D,3,FALSE) -> 6M | D11: 10203502525454 | E11: M | F11: D-8 | G11: 734 | H11: 81 | I11: 288 | J11: 336 | K11: 0.12 | L11: 0 | M11: 1.84 | N11: 0 | O11: =SUM(ABS($K11),ABS($L11)) -> 0.12 | P11: =SUM(ABS($M11),ABS($N11)) -> 1.84
A12: =VLOOKUP($D12,'randomisation et formulation'!$A:$D,2,FALSE) -> 4 | B12: =VLOOKUP($D12,'randomisation et formulation'!$A:$D,4,FALSE) -> 10 mg/kg/day | C12: =VLOOKUP($D12,'randomisation et formulation'!$A:$D,3,FALSE) -> 12M | D12: 10203502522366 | E12: M | F12: D-8 | G12: 688 | H12: 90 | I12: 241 | J12: 290 | K12: 0.27 | L12: 0 | M12: 1.7 | N12: -0.09 | O12: =SUM(ABS($K12),ABS($L12)) -> 0.27 | P12: =SUM(ABS($M12),ABS($N12)) -> 1.79
A13: =VLOOKUP($D13,'randomisation et formulation'!$A:$D,2,FALSE) -> 2 | B13: =VLOOKUP($D13,'randomisation et formulation'!$A:$D,4,FALSE) -> 1 mg/kg/day | C13: =VLOOKUP($D13,'randomisation et formulation'!$A:$D,3,FALSE) -> 4M | D13: 10203502518539 | E13: M | F13: D-8 | G13: 442 | H13: 104 | I13: 192 | J13: 289 | K13: -0.23 | L13: 0 | M13: 1.75 | N13: -0.13 | O13: =SUM(ABS($K13),ABS($L13)) -> 0.23 | P13: =SUM(ABS($M13),ABS($N13)) -> 1.88
... A27: =VLOOKUP($D27,'randomisation et formulation'!$A:$D,2,FALSE) -> 2 | B27: =VLOOKUP($D27,'randomisation et formulation'!$A:$D,4,FALSE) -> 1 mg/kg/day | C27: =VLOOKUP($D27,'randomisation et formulation'!$A:$D,3,FALSE) -> 17F | D27: 10203502529132 | E27: F | F27: D-9 | G27: 635 | H27: 85 | I27: 230 | J27: 288 | K27: 0.17 | L27: 0 | M27: 2.09 | N27: -0.07 | O27: =SUM(ABS($K27),ABS($L27)) -> 0.17 | P27: =SUM(ABS($M27),ABS($N27)) -> 2.16

Sheet Tabulation dynamique
A1: Sexe | B1: M
C3: D | D3: Valeurs
C4: D-8
A5: Group | B5: Individual identification | C5: RR (ms) | D5: PR (ms) | E5: QT (ms) | F5: QTc (ms) | G5: T (mV) | H5: RS (mV)
A6: 1 | B6: 1M | C6: 579 | D6: 80 | E6: 226 | F6: 297 | G6: 0.31 | H6: 1.82
B7: 2M | C7: 459 | D7: 106 | E7: 246 | F7: 363 | G7: 0.2 | H7: 2.02
B8: 3M | C8: 489 | D8: 107 | E8: 218 | F8: 311 | G8: 0.24 | H8: 2.02
A9: Nombre 1 | C9: 3 | D9: 3 | E9: 3 | F9: 3 | G9: 3 | H9: 3
A10: Moyenne 1 | C10: 509 | D10: 97.666667 | E10: 230 | F10: 323.66667 | G10: 0.25 | H10: 1.9533333
A11: Écartype 1 | C11: 62.44998 | D11: 15.30795 | E11: 14.422205 | F11: 34.77547 | G11: 0.055677644 | H11: 0.11547005
A12: 2 | B12: 4M | C12: 442 | D12: 104 | E12: 192 | F12: 289 | G12: 0.23 | H12: 1.88
B13: 5M | C13: 677 | D13: 96 | E13: 217 | F13: 263 | G13: 0.18 | H13: 1.93
B14: 6M | C14: 734 | D14: 81 | E14: 288 | F14: 336 | G14: 0.12 | H14: 1.84
A15: Nombre 2 | C15: 3 | D15: 3 | E15: 3 | F15: 3 | G15: 3 | H15: 3
A16: Moyenne 2 | C16: 617.66667 | D16: 93.666667 | E16: 232.33333 | F16: 296 | G16: 0.17666667 | H16: 1.8833333
A17: Écartype 2 | C17: 154.77834 | D17: 11.676187 | E17: 49.802945 | F17: 37 | G17: 0.055075705 | H17: 0.045092498
A18: 3 | B18: 7M | C18: 541 | D18: 103 | E18: 238 | F18: 323 | G18: 0.14 | H18: 2.01
B19: 8M | C19: 769 | D19: 114 | E19: 284 | F19: 323 | G19: 0.23 | H19: 2.34
B20: 9M | C20: 663 | D20: 96 | E20: 217 | F20: 266 | G20: 0.15 | H20: 1.42
A21: Nombre 3 | C21: 3 | D21: 3 | E21: 3 | F21: 3 | G21: 3 | H21: 3
A22: Moyenne 3 | C22: 657.66667 | D22: 104.33333 | E22: 246.33333 | F22: 304 | G22: 0.17333333 | H22: 1.9233333
A23: Écartype 3 | C23: 114.09353 | D23: 9.0737717 | E23: 34.268547 | F23: 32.908965 | G23: 0.049328829 | H23: 0.46608297
A24: 4 | B24: 10M | C24: 552 | D24: 92 | E24: 226 | F24: 304 | G24: 0.38 | H24: 2.24
B25: 11M | C25: 541 | D25: 103 | E25: 238 | F25: 323 | G25: 0.14 | H25: 2.01
B26: 12M | C26: 688 | D26: 90 | E26: 241 | F26: 290 | G26: 0.27 | H26: 1.79
A27: Nombre 4 | C27: 3 | D27: 3 | E27: 3 | F27: 3 | G27: 3 | H27: 3
A28: Moyenne 4 | C28: 593.66667 | D28: 95 | E28: 235 | F28: 305.66667 | G28: 0.26333333 | H28: 2.0133333
A29: Écartype 4 | C29: 81.879993 | D29: 7 | E29: 7.9372539 | F29: 16.563011 | G29: 0.12013881 | H29: 0.22501852

Sheet Tabulation
D3: D-8 | J3: D 15
A4: Group number | B4: Formulation | C4: Individual identification | D4: RR | E4: PR | F4: QT | G4: QTc | H4: T | I4: RS | J4: RR | K4: PR | L4: QT | M4: QTc | N4: T | O4: RS
D5: (ms) | E5: (ms) | F5: (ms) | G5: (ms) | H5: (mV) | I5: (mV) | J5: (ms) | K5: (ms) | L5: (ms) | M5: (ms) | N5: (mV) | O5: (mV)
A6: 1 | B6: mg/kg/day | C6: 1M
C7: 2M
C8: 3M
C9: 4M
C10: 5M
C11: Mean | D11: =ROUND(AVERAGE(D6:D10),1) -> #DIV/0! | E11: =AVERAGE(E6:E10) -> #DIV/0! | F11: =AVERAGE(F6:F10) -> #DIV/0! | G11: =AVERAGE(G6:G10) -> #DIV/0! | H11: =AVERAGE(H6:H10) -> #DIV/0! | I11: =AVERAGE(I6:I10) -> #DIV/0! | J11: =AVERAGE(J6:J10) -> #DIV/0! | K11: =AVERAGE(K6:K10) -> #DIV/0! | L11: =AVERAGE(L6:L10) -> #DIV/0! | ... O11: =AVERAGE(O6:O10) -> #DIV/0!
C12: SD | D12: =ROUND(STDEV(D6:D10),1) -> #DIV/0! | E12: =STDEV(E6:E10) -> #DIV/0! | F12: =STDEV(F6:F10) -> #DIV/0! | G12: =STDEV(G6:G10) -> #DIV/0! | H12: =STDEV(H6:H10) -> #DIV/0! | I12: =STDEV(I6:I10) -> #DIV/0! | J12: =STDEV(J6:J10) -> #DIV/0! | K12: =STDEV(K6:K10) -> #DIV/0! | L12: =STDEV(L6:L10) -> #DIV/0! | ... O12: =STDEV(O6:O10) -> #DIV/0!
C13: CV (%) | D13: =ROUND(((D12/D11)*100),1) -> #DIV/0! | E13: =ROUND(((E12/E11)*100),1) -> #DIV/0! | F13: =ROUND(((F12/F11)*100),1) -> #DIV/0! | G13: =ROUND(((G12/G11)*100),1) -> #DIV/0! | H13: =ROUND(((H12/H11)*100),1) -> #DIV/0! | I13: =ROUND(((I12/I11)*100),1) -> #DIV/0! | J13: =ROUND(((J12/J11)*100),1) -> #DIV/0! | K13: =ROUND(((K12/K11)*100),1) -> #DIV/0! | ... O13: =ROUND(((O12/O11)*100),1) -> #DIV/0!
C14: N | D14: =COUNT(D6:D10) -> 0 | E14: =COUNT(E6:E10) -> 0 | F14: =COUNT(F6:F10) -> 0 | G14: =COUNT(G6:G10) -> 0 | H14: =COUNT(H6:H10) -> 0 | I14: =COUNT(I6:I10) -> 0 | J14: =COUNT(J6:J10) -> 0 | K14: =COUNT(K6:K10) -> 0 | ... O14: =COUNT(O6:O10) -> 0
A15: 2 | B15: mg/kg/day | C15: 6M
C16: 7M
C17: 8M
C18: Mean | D18: =ROUND(AVERAGE(D15:D17),1) -> #DIV/0! | E18: =ROUND(AVERAGE(E15:E17),1) -> #DIV/0! | F18: =ROUND(AVERAGE(F15:F17),1) -> #DIV/0! | G18: =ROUND(AVERAGE(G15:G17),1) -> #DIV/0! | H18: =ROUND(AVERAGE(H15:H17),1) -> #DIV/0! | I18: =ROUND(AVERAGE(I15:I17),1) -> #DIV/0! | J18: =ROUND(AVERAGE(J15:J17),1) -> #DIV/0! | K18: =ROUND(AVERAGE(K15:K17),1) -> #DIV/0! | ... O18: =ROUND(AVERAGE(O15:O17),1) -> #DIV/0!
C19: SD | D19: =ROUND(STDEV(D15:D17),1) -> #DIV/0! | E19: =ROUND(STDEV(E15:E17),1) -> #DIV/0! | F19: =ROUND(STDEV(F15:F17),1) -> #DIV/0! | G19: =ROUND(STDEV(G15:G17),1) -> #DIV/0! | H19: =ROUND(STDEV(H15:H17),1) -> #DIV/0! | I19: =ROUND(STDEV(I15:I17),1) -> #DIV/0! | J19: =ROUND(STDEV(J15:J17),1) -> #DIV/0! | K19: =ROUND(STDEV(K15:K17),1) -> #DIV/0! | ... O19: =ROUND(STDEV(O15:O17),1) -> #DIV/0!
C20: CV (%) | D20: =ROUND(((D19/D18)*100),1) -> #DIV/0! | E20: =ROUND(((E19/E18)*100),1) -> #DIV/0! | F20: =ROUND(((F19/F18)*100),1) -> #DIV/0! | G20: =ROUND(((G19/G18)*100),1) -> #DIV/0! | H20: =ROUND(((H19/H18)*100),1) -> #DIV/0! | I20: =ROUND(((I19/I18)*100),1) -> #DIV/0! | J20: =ROUND(((J19/J18)*100),1) -> #DIV/0! | K20: =ROUND(((K19/K18)*100),1) -> #DIV/0! | ... O20: =ROUND(((O19/O18)*100),1) -> #DIV/0!
C21: N | D21: =COUNT(D15:D17) -> 0 | E21: =COUNT(E15:E17) -> 0 | F21: =COUNT(F15:F17) -> 0 | G21: =COUNT(G15:G17) -> 0 | H21: =COUNT(H15:H17) -> 0 | I21: =COUNT(I15:I17) -> 0 | J21: =COUNT(J15:J17) -> 0 | K21: =COUNT(K15:K17) -> 0 | ... O21: =COUNT(O15:O17) -> 0
D22: D-8 | J22: D-8
A23: Group number | B23: Formulation | C23: Individual identification | D23: RR | E23: PR | F23: QT | G23: QTc | H23: T | I23: RS | J23: RR | K23: PR | L23: QT | M23: QTc | N23: T | O23: RS
D24: (ms) | E24: (ms) | F24: (ms) | G24: (ms) | H24: (mV) | I24: (mV) | J24: (ms) | K24: (ms) | L24: (ms) | M24: (ms) | N24: (mV) | O24: (mV)
A25: 3 | B25: mg/kg/day | C25: 9M
C26: 10M
C27: 11M
C28: Mean | D28: =ROUND(AVERAGE(D25:D27),1) -> #DIV/0! | E28: =ROUND(AVERAGE(E25:E27),1) -> #DIV/0! | F28: =ROUND(AVERAGE(F25:F27),1) -> #DIV/0! | G28: =ROUND(AVERAGE(G25:G27),1) -> #DIV/0! | H28: =ROUND(AVERAGE(H25:H27),1) -> #DIV/0! | I28: =ROUND(AVERAGE(I25:I27),1) -> #DIV/0! | J28: =ROUND(AVERAGE(J25:J27),1) -> #DIV/0! | K28: =ROUND(AVERAGE(K25:K27),1) -> #DIV/0! | ... O28: =ROUND(AVERAGE(O25:O27),1) -> #DIV/0!
C29: SD | D29: =ROUND(STDEV(D25:D27),1) -> #DIV/0! | E29: =ROUND(STDEV(E25:E27),1) -> #DIV/0! | F29: =ROUND(STDEV(F25:F27),1) -> #DIV/0! | G29: =ROUND(STDEV(G25:G27),1) -> #DIV/0! | H29: =ROUND(STDEV(H25:H27),1) -> #DIV/0! | I29: =ROUND(STDEV(I25:I27),1) -> #DIV/0! | J29: =ROUND(STDEV(J25:J27),1) -> #DIV/0! | K29: =ROUND(STDEV(K25:K27),1) -> #DIV/0! | ... O29: =ROUND(STDEV(O25:O27),1) -> #DIV/0!
C30: CV (%) | D30: =ROUND(((D29/D28)*100),1) -> #DIV/0! | E30: =ROUND(((E29/E28)*100),1) -> #DIV/0! | F30: =ROUND(((F29/F28)*100),1) -> #DIV/0! | G30: =ROUND(((G29/G28)*100),1) -> #DIV/0! | H30: =ROUND(((H29/H28)*100),1) -> #DIV/0! | I30: =ROUND(((I29/I28)*100),1) -> #DIV/0! | J30: =ROUND(((J29/J28)*100),1) -> #DIV/0! | K30: =ROUND(((K29/K28)*100),1) -> #DIV/0! | ... O30: =ROUND(((O29/O28)*100),1) -> #DIV/0!
C31: N | D31: =COUNT(D25:D27) -> 0 | E31: =COUNT(E25:E27) -> 0 | F31: =COUNT(F25:F27) -> 0 | G31: =COUNT(G25:G27) -> 0 | H31: =COUNT(H25:H27) -> 0 | I31: =COUNT(I25:I27) -> 0 | J31: =COUNT(J25:J27) -> 0 | K31: =COUNT(K25:K27) -> 0 | ... O31: =COUNT(O25:O27) -> 0
A32: 4 | B32: mg/kg/day | C32: 12M
C33: 13M
C34: 14M
C35: 15M
C36: 16M
C37: Mean | D37: =ROUND(AVERAGE(D32:D36),1) -> #DIV/0! | E37: =ROUND(AVERAGE(E32:E36),1) -> #DIV/0! | F37: =ROUND(AVERAGE(F32:F36),1) -> #DIV/0! | G37: =ROUND(AVERAGE(G32:G36),1) -> #DIV/0! | H37: =ROUND(AVERAGE(H32:H36),1) -> #DIV/0! | I37: =ROUND(AVERAGE(I32:I36),1) -> #DIV/0! | J37: =ROUND(AVERAGE(J32:J36),1) -> #DIV/0! | K37: =ROUND(AVERAGE(K32:K36),1) -> #DIV/0! | ... O37: =ROUND(AVERAGE(O32:O36),1) -> #DIV/0!
C38: SD | D38: =ROUND(STDEV(D32:D36),1) -> #DIV/0! | E38: =ROUND(STDEV(E32:E36),1) -> #DIV/0! | F38: =ROUND(STDEV(F32:F36),1) -> #DIV/0! | G38: =ROUND(STDEV(G32:G36),1) -> #DIV/0! | H38: =ROUND(STDEV(H32:H36),1) -> #DIV/0! | I38: =ROUND(STDEV(I32:I36),1) -> #DIV/0! | J38: =ROUND(STDEV(J32:J36),1) -> #DIV/0! | K38: =ROUND(STDEV(K32:K36),1) -> #DIV/0! | ... O38: =ROUND(STDEV(O32:O36),1) -> #DIV/0!
C39: CV (%) | D39: =ROUND(((D38/D37)*100),1) -> #DIV/0! | E39: =ROUND(((E38/E37)*100),1) -> #DIV/0! | F39: =ROUND(((F38/F37)*100),1) -> #DIV/0! | G39: =ROUND(((G38/G37)*100),1) -> #DIV/0! | H39: =ROUND(((H38/H37)*100),1) -> #DIV/0! | I39: =ROUND(((I38/I37)*100),1) -> #DIV/0! | J39: =ROUND(((J38/J37)*100),1) -> #DIV/0! | K39: =ROUND(((K38/K37)*100),1) -> #DIV/0! | ... O39: =ROUND(((O38/O37)*100),1) -> #DIV/0!
C40: N | D40: =COUNT(D32:D36) -> 0 | E40: =COUNT(E32:E36) -> 0 | F40: =COUNT(F32:F36) -> 0 | G40: =COUNT(G32:G36) -> 0 | H40: =COUNT(H32:H36) -> 0 | I40: =COUNT(I32:I36) -> 0 | J40: =COUNT(J32:J36) -> 0 | K40: =COUNT(K32:K36) -> 0 | ... O40: =COUNT(O32:O36) -> 0
