Workbook
Name candidat: #REF!

Sheet LISTE
A3: NUM | B3: CODE | C3: PRENOM | D3: NOM | E3: SEXE | F3: CLASSE | G3: observation
A4: 1 | B4: OPB131028281 | C4: KJGKG | D4: KHJLKH | E4: M | F4: 5 | G4: ASSEZ BIEN
A5: 2 | B5: OPB131028282 | C5: ML | D5: DFGSDG | E5: F | F5: 4 | G5: PASSABLE | I5: BIEN
A6: 3 | B6: OPB131028283 | C6: LKMLJK | D6: GHJGJK | E6: F | F6: 5 | G6: ASSEZ BIEN | I6: PASSABLE
A7: 4 | B7: OPB131028284 | C7: KJGKGJ | D7: FH | E7: F | F7: 5 | G7: ASSEZ BIEN | I7: ASSEZ BIEN
A8: 5 | B8: OPB131028285 | C8: HGJHG | D8: FGHD | E8: F | F8: 4 | G8: BIEN | I8: MEDIOCRE
A9: 6 | B9: OPB131028286 | C9: GHKG | D9: HFJH | E9: M | F9: 1 | G9: ASSEZ BIEN
A10: 7 | B10: OPB131028287 | C10: KJHKLJH | D10: JHKGK | E10: M | F10: 5 | G10: ASSEZ BIEN
A11: 8 | B11: OPB131028288 | C11: KGKH | D11: AZRAR | E11: M | F11: 6 | G11: PASSABLE
A12: 9 | B12: OPB131028289 | C12: KGHK | D12: GKH | E12: M | F12: 5 | G12: ASSEZ BIEN
A13: 10 | B13: OPB131028290 | C13: TRR | D13: HK | E13: F | F13: 4 | G13: MEDIOCRE

Sheet BIEN
A2: BIEN
A4: NUM | B4: CODE | C4: PRENOM | D4: NOM | E4: SEXE | F4: CLASSE
A5: =IF(A4="","",IFERROR(MATCH(LISTE!$I$5,OFFSET(LISTE!$G$4:$G$13,N($A4),0),0)+N(A4),"")) -> 5 | B5: =IFERROR(INDEX(LISTE!B$4:B$13,$A5),"") -> OPB131028285 | C5: =IFERROR(INDEX(LISTE!C$4:C$13,$A5),"") -> HGJHG | D5: =IFERROR(INDEX(LISTE!D$4:D$13,$A5),"") -> FGHD | E5: =IFERROR(INDEX(LISTE!E$4:E$13,$A5),"") -> F | F5: =IFERROR(INDEX(LISTE!F$4:F$13,$A5),"") -> 4
A6: =IF(A5="","",IFERROR(MATCH(LISTE!$I$5,OFFSET(LISTE!$G$4:$G$13,N($A5),0),0)+N(A5),"")) | B6: =IFERROR(INDEX(LISTE!B$4:B$13,$A6),"") | C6: =IFERROR(INDEX(LISTE!C$4:C$13,$A6),"") | D6: =IFERROR(INDEX(LISTE!D$4:D$13,$A6),"") | E6: =IFERROR(INDEX(LISTE!E$4:E$13,$A6),"") | F6: =IFERROR(INDEX(LISTE!F$4:F$13,$A6),"")
A7: =IF(A6="","",IFERROR(MATCH(LISTE!$I$5,OFFSET(LISTE!$G$4:$G$13,N($A6),0),0)+N(A6),"")) | B7: =IFERROR(INDEX(LISTE!B$4:B$13,$A7),"") | C7: =IFERROR(INDEX(LISTE!C$4:C$13,$A7),"") | D7: =IFERROR(INDEX(LISTE!D$4:D$13,$A7),"") | E7: =IFERROR(INDEX(LISTE!E$4:E$13,$A7),"") | F7: =IFERROR(INDEX(LISTE!F$4:F$13,$A7),"")
A8: =IF(A7="","",IFERROR(MATCH(LISTE!$I$5,OFFSET(LISTE!$G$4:$G$13,N($A7),0),0)+N(A7),"")) | B8: =IFERROR(INDEX(LISTE!B$4:B$13,$A8),"") | C8: =IFERROR(INDEX(LISTE!C$4:C$13,$A8),"") | D8: =IFERROR(INDEX(LISTE!D$4:D$13,$A8),"") | E8: =IFERROR(INDEX(LISTE!E$4:E$13,$A8),"") | F8: =IFERROR(INDEX(LISTE!F$4:F$13,$A8),"")
A9: =IF(A8="","",IFERROR(MATCH(LISTE!$I$5,OFFSET(LISTE!$G$4:$G$13,N($A8),0),0)+N(A8),"")) | B9: =IFERROR(INDEX(LISTE!B$4:B$13,$A9),"") | C9: =IFERROR(INDEX(LISTE!C$4:C$13,$A9),"") | D9: =IFERROR(INDEX(LISTE!D$4:D$13,$A9),"") | E9: =IFERROR(INDEX(LISTE!E$4:E$13,$A9),"") | F9: =IFERROR(INDEX(LISTE!F$4:F$13,$A9),"")
A10: =IF(A9="","",IFERROR(MATCH(LISTE!$I$5,OFFSET(LISTE!$G$4:$G$13,N($A9),0),0)+N(A9),"")) | B10: =IFERROR(INDEX(LISTE!B$4:B$13,$A10),"") | C10: =IFERROR(INDEX(LISTE!C$4:C$13,$A10),"") | D10: =IFERROR(INDEX(LISTE!D$4:D$13,$A10),"") | E10: =IFERROR(INDEX(LISTE!E$4:E$13,$A10),"") | F10: =IFERROR(INDEX(LISTE!F$4:F$13,$A10),"")
A11: =IF(A10="","",IFERROR(MATCH(LISTE!$I$5,OFFSET(LISTE!$G$4:$G$13,N($A10),0),0)+N(A10),"")) | B11: =IFERROR(INDEX(LISTE!B$4:B$13,$A11),"") | C11: =IFERROR(INDEX(LISTE!C$4:C$13,$A11),"") | D11: =IFERROR(INDEX(LISTE!D$4:D$13,$A11),"") | E11: =IFERROR(INDEX(LISTE!E$4:E$13,$A11),"") | F11: =IFERROR(INDEX(LISTE!F$4:F$13,$A11),"")
A12: =IF(A11="","",IFERROR(MATCH(LISTE!$I$5,OFFSET(LISTE!$G$4:$G$13,N($A11),0),0)+N(A11),"")) | B12: =IFERROR(INDEX(LISTE!B$4:B$13,$A12),"") | C12: =IFERROR(INDEX(LISTE!C$4:C$13,$A12),"") | D12: =IFERROR(INDEX(LISTE!D$4:D$13,$A12),"") | E12: =IFERROR(INDEX(LISTE!E$4:E$13,$A12),"") | F12: =IFERROR(INDEX(LISTE!F$4:F$13,$A12),"")
A13: =IF(A12="","",IFERROR(MATCH(LISTE!$I$5,OFFSET(LISTE!$G$4:$G$13,N($A12),0),0)+N(A12),"")) | B13: =IFERROR(INDEX(LISTE!B$4:B$13,$A13),"") | C13: =IFERROR(INDEX(LISTE!C$4:C$13,$A13),"") | D13: =IFERROR(INDEX(LISTE!D$4:D$13,$A13),"") | E13: =IFERROR(INDEX(LISTE!E$4:E$13,$A13),"") | F13: =IFERROR(INDEX(LISTE!F$4:F$13,$A13),"")
A14: =IF(A13="","",IFERROR(MATCH(LISTE!$I$5,OFFSET(LISTE!$G$4:$G$13,N($A13),0),0)+N(A13),"")) | B14: =IFERROR(INDEX(LISTE!B$4:B$13,$A14),"") | C14: =IFERROR(INDEX(LISTE!C$4:C$13,$A14),"") | D14: =IFERROR(INDEX(LISTE!D$4:D$13,$A14),"") | E14: =IFERROR(INDEX(LISTE!E$4:E$13,$A14),"") | F14: =IFERROR(INDEX(LISTE!F$4:F$13,$A14),"")
A15: =IF(A14="","",IFERROR(MATCH(LISTE!$I$5,OFFSET(LISTE!$G$4:$G$13,N($A14),0),0)+N(A14),"")) | B15: =IFERROR(INDEX(LISTE!B$4:B$13,$A15),"") | C15: =IFERROR(INDEX(LISTE!C$4:C$13,$A15),"") | D15: =IFERROR(INDEX(LISTE!D$4:D$13,$A15),"") | E15: =IFERROR(INDEX(LISTE!E$4:E$13,$A15),"") | F15: =IFERROR(INDEX(LISTE!F$4:F$13,$A15),"")
A16: =IF(A15="","",IFERROR(MATCH(LISTE!$I$5,OFFSET(LISTE!$G$4:$G$13,N($A15),0),0)+N(A15),"")) | B16: =IFERROR(INDEX(LISTE!B$4:B$13,$A16),"") | C16: =IFERROR(INDEX(LISTE!C$4:C$13,$A16),"") | D16: =IFERROR(INDEX(LISTE!D$4:D$13,$A16),"") | E16: =IFERROR(INDEX(LISTE!E$4:E$13,$A16),"") | F16: =IFERROR(INDEX(LISTE!F$4:F$13,$A16),"")
A17: =IF(A16="","",IFERROR(MATCH(LISTE!$I$5,OFFSET(LISTE!$G$4:$G$13,N($A16),0),0)+N(A16),"")) | B17: =IFERROR(INDEX(LISTE!B$4:B$13,$A17),"") | C17: =IFERROR(INDEX(LISTE!C$4:C$13,$A17),"") | D17: =IFERROR(INDEX(LISTE!D$4:D$13,$A17),"") | E17: =IFERROR(INDEX(LISTE!E$4:E$13,$A17),"") | F17: =IFERROR(INDEX(LISTE!F$4:F$13,$A17),"")
A18: =IF(A17="","",IFERROR(MATCH(LISTE!$I$5,OFFSET(LISTE!$G$4:$G$13,N($A17),0),0)+N(A17),"")) | B18: =IFERROR(INDEX(LISTE!B$4:B$13,$A18),"") | C18: =IFERROR(INDEX(LISTE!C$4:C$13,$A18),"") | D18: =IFERROR(INDEX(LISTE!D$4:D$13,$A18),"") | F18: =IFERROR(INDEX(LISTE!F$4:F$13,$A18),"")
A19: =IF(A18="","",IFERROR(MATCH(LISTE!$I$5,OFFSET(LISTE!$G$4:$G$13,N($A18),0),0)+N(A18),"")) | B19: =IFERROR(INDEX(LISTE!B$4:B$13,$A19),"") | C19: =IFERROR(INDEX(LISTE!C$4:C$13,$A19),"") | D19: =IFERROR(INDEX(LISTE!D$4:D$13,$A19),"") | F19: =IFERROR(INDEX(LISTE!F$4:F$13,$A19),"")
A20: =IF(A19="","",IFERROR(MATCH(LISTE!$I$5,OFFSET(LISTE!$G$4:$G$13,N($A19),0),0)+N(A19),"")) | B20: =IFERROR(INDEX(LISTE!B$4:B$13,$A20),"") | C20: =IFERROR(INDEX(LISTE!C$4:C$13,$A20),"") | D20: =IFERROR(INDEX(LISTE!D$4:D$13,$A20),"") | F20: =IFERROR(INDEX(LISTE!F$4:F$13,$A20),"")
A21: =IF(A20="","",IFERROR(MATCH(LISTE!$I$5,OFFSET(LISTE!$G$4:$G$13,N($A20),0),0)+N(A20),"")) | B21: =IFERROR(INDEX(LISTE!B$4:B$13,$A21),"") | C21: =IFERROR(INDEX(LISTE!C$4:C$13,$A21),"") | D21: =IFERROR(INDEX(LISTE!D$4:D$13,$A21),"") | F21: =IFERROR(INDEX(LISTE!F$4:F$13,$A21),"")
A22: =IF(A21="","",IFERROR(MATCH(LISTE!$I$5,OFFSET(LISTE!$G$4:$G$13,N($A21),0),0)+N(A21),"")) | B22: =IFERROR(INDEX(LISTE!B$4:B$13,$A22),"") | C22: =IFERROR(INDEX(LISTE!C$4:C$13,$A22),"") | D22: =IFERROR(INDEX(LISTE!D$4:D$13,$A22),"") | F22: =IFERROR(INDEX(LISTE!F$4:F$13,$A22),"")
A23: =IF(A22="","",IFERROR(MATCH(LISTE!$I$5,OFFSET(LISTE!$G$4:$G$13,N($A22),0),0)+N(A22),"")) | B23: =IFERROR(INDEX(LISTE!B$4:B$13,$A23),"") | C23: =IFERROR(INDEX(LISTE!C$4:C$13,$A23),"") | D23: =IFERROR(INDEX(LISTE!D$4:D$13,$A23),"") | F23: =IFERROR(INDEX(LISTE!F$4:F$13,$A23),"")
A24: =IF(A23="","",IFERROR(MATCH(LISTE!$I$5,OFFSET(LISTE!$G$4:$G$13,N($A23),0),0)+N(A23),"")) | B24: =IFERROR(INDEX(LISTE!B$4:B$13,$A24),"") | C24: =IFERROR(INDEX(LISTE!C$4:C$13,$A24),"") | D24: =IFERROR(INDEX(LISTE!D$4:D$13,$A24),"") | F24: =IFERROR(INDEX(LISTE!F$4:F$13,$A24),"")
A25: =IF(A24="","",IFERROR(MATCH(LISTE!$I$5,OFFSET(LISTE!$G$4:$G$13,N($A24),0),0)+N(A24),"")) | B25: =IFERROR(INDEX(LISTE!B$4:B$13,$A25),"") | C25: =IFERROR(INDEX(LISTE!C$4:C$13,$A25),"") | D25: =IFERROR(INDEX(LISTE!D$4:D$13,$A25),"") | F25: =IFERROR(INDEX(LISTE!F$4:F$13,$A25),"")
A26: =IF(A25="","",IFERROR(MATCH(LISTE!$I$5,OFFSET(LISTE!$G$4:$G$13,N($A25),0),0)+N(A25),"")) | B26: =IFERROR(INDEX(LISTE!B$4:B$13,$A26),"") | C26: =IFERROR(INDEX(LISTE!C$4:C$13,$A26),"") | D26: =IFERROR(INDEX(LISTE!D$4:D$13,$A26),"") | F26: =IFERROR(INDEX(LISTE!F$4:F$13,$A26),"")
A27: =IF(A26="","",IFERROR(MATCH(LISTE!$I$5,OFFSET(LISTE!$G$4:$G$13,N($A26),0),0)+N(A26),"")) | B27: =IFERROR(INDEX(LISTE!B$4:B$13,$A27),"") | C27: =IFERROR(INDEX(LISTE!C$4:C$13,$A27),"") | D27: =IFERROR(INDEX(LISTE!D$4:D$13,$A27),"") | F27: =IFERROR(INDEX(LISTE!F$4:F$13,$A27),"")
A28: =IF(A27="","",IFERROR(MATCH(LISTE!$I$5,OFFSET(LISTE!$G$4:$G$13,N($A27),0),0)+N(A27),"")) | B28: =IFERROR(INDEX(LISTE!B$4:B$13,$A28),"") | C28: =IFERROR(INDEX(LISTE!C$4:C$13,$A28),"") | D28: =IFERROR(INDEX(LISTE!D$4:D$13,$A28),"") | F28: =IFERROR(INDEX(LISTE!F$4:F$13,$A28),"")
A29: =IF(A28="","",IFERROR(MATCH(LISTE!$I$5,OFFSET(LISTE!$G$4:$G$13,N($A28),0),0)+N(A28),"")) | B29: =IFERROR(INDEX(LISTE!B$4:B$13,$A29),"") | C29: =IFERROR(INDEX(LISTE!C$4:C$13,$A29),"") | D29: =IFERROR(INDEX(LISTE!D$4:D$13,$A29),"") | F29: =IFERROR(INDEX(LISTE!F$4:F$13,$A29),"")
... A41: =IF(A40="","",IFERROR(MATCH(LISTE!$I$5,OFFSET(LISTE!$G$4:$G$13,N($A40),0),0)+N(A40),"")) | B41: =IFERROR(INDEX(LISTE!B$4:B$13,$A41),"") | C41: =IFERROR(INDEX(LISTE!C$4:C$13,$A41),"") | D41: =IFERROR(INDEX(LISTE!D$4:D$13,$A41),"") | F41: =IFERROR(INDEX(LISTE!F$4:F$13,$A41),"")

Sheet PASSABLE
A3: NUM | B3: CODE | C3: PRENOM | D3: NOM | E3: SEXE
A4: =IF(A3="","",IFERROR(MATCH(LISTE!$I$6,OFFSET(LISTE!$G$4:$G$13,N($A3),0),0)+N(A3),"")) -> 2 | B4: =IFERROR(INDEX(LISTE!B$4:B$13,$A4),"") -> OPB131028282 | C4: =IFERROR(INDEX(LISTE!C$4:C$13,$A4),"") -> ML | D4: =IFERROR(INDEX(LISTE!D$4:D$13,$A4),"") -> DFGSDG | E4: =IFERROR(INDEX(LISTE!E$4:E$13,$A4),"") -> F
A5: =IF(A4="","",IFERROR(MATCH(LISTE!$I$6,OFFSET(LISTE!$G$4:$G$13,N($A4),0),0)+N(A4),"")) -> 8 | B5: =IFERROR(INDEX(LISTE!B$4:B$13,$A5),"") -> OPB131028288 | C5: =IFERROR(INDEX(LISTE!C$4:C$13,$A5),"") -> KGKH | D5: =IFERROR(INDEX(LISTE!D$4:D$13,$A5),"") -> AZRAR | E5: =IFERROR(INDEX(LISTE!E$4:E$13,$A5),"") -> M
A6: =IF(A5="","",IFERROR(MATCH(LISTE!$I$6,OFFSET(LISTE!$G$4:$G$13,N($A5),0),0)+N(A5),"")) | B6: =IFERROR(INDEX(LISTE!B$4:B$13,$A6),"") | C6: =IFERROR(INDEX(LISTE!C$4:C$13,$A6),"") | D6: =IFERROR(INDEX(LISTE!D$4:D$13,$A6),"") | E6: =IFERROR(INDEX(LISTE!E$4:E$13,$A6),"")
A7: =IF(A6="","",IFERROR(MATCH(LISTE!$I$6,OFFSET(LISTE!$G$4:$G$13,N($A6),0),0)+N(A6),"")) | B7: =IFERROR(INDEX(LISTE!B$4:B$13,$A7),"") | C7: =IFERROR(INDEX(LISTE!C$4:C$13,$A7),"") | D7: =IFERROR(INDEX(LISTE!D$4:D$13,$A7),"") | E7: =IFERROR(INDEX(LISTE!E$4:E$13,$A7),"")
A8: =IF(A7="","",IFERROR(MATCH(LISTE!$I$6,OFFSET(LISTE!$G$4:$G$13,N($A7),0),0)+N(A7),"")) | B8: =IFERROR(INDEX(LISTE!B$4:B$13,$A8),"") | C8: =IFERROR(INDEX(LISTE!C$4:C$13,$A8),"") | D8: =IFERROR(INDEX(LISTE!D$4:D$13,$A8),"") | E8: =IFERROR(INDEX(LISTE!E$4:E$13,$A8),"")
A9: =IF(A8="","",IFERROR(MATCH(LISTE!$I$6,OFFSET(LISTE!$G$4:$G$13,N($A8),0),0)+N(A8),"")) | B9: =IFERROR(INDEX(LISTE!B$4:B$13,$A9),"") | C9: =IFERROR(INDEX(LISTE!C$4:C$13,$A9),"") | D9: =IFERROR(INDEX(LISTE!D$4:D$13,$A9),"") | E9: =IFERROR(INDEX(LISTE!E$4:E$13,$A9),"")
A10: =IF(A9="","",IFERROR(MATCH(LISTE!$I$6,OFFSET(LISTE!$G$4:$G$13,N($A9),0),0)+N(A9),"")) | B10: =IFERROR(INDEX(LISTE!B$4:B$13,$A10),"") | C10: =IFERROR(INDEX(LISTE!C$4:C$13,$A10),"") | D10: =IFERROR(INDEX(LISTE!D$4:D$13,$A10),"") | E10: =IFERROR(INDEX(LISTE!E$4:E$13,$A10),"")
A11: =IF(A10="","",IFERROR(MATCH(LISTE!$I$6,OFFSET(LISTE!$G$4:$G$13,N($A10),0),0)+N(A10),"")) | B11: =IFERROR(INDEX(LISTE!B$4:B$13,$A11),"") | C11: =IFERROR(INDEX(LISTE!C$4:C$13,$A11),"") | D11: =IFERROR(INDEX(LISTE!D$4:D$13,$A11),"") | E11: =IFERROR(INDEX(LISTE!E$4:E$13,$A11),"")
A12: =IF(A11="","",IFERROR(MATCH(LISTE!$I$6,OFFSET(LISTE!$G$4:$G$13,N($A11),0),0)+N(A11),"")) | B12: =IFERROR(INDEX(LISTE!B$4:B$13,$A12),"") | C12: =IFERROR(INDEX(LISTE!C$4:C$13,$A12),"") | D12: =IFERROR(INDEX(LISTE!D$4:D$13,$A12),"")
A13: =IF(A12="","",IFERROR(MATCH(LISTE!$I$6,OFFSET(LISTE!$G$4:$G$13,N($A12),0),0)+N(A12),"")) | B13: =IFERROR(INDEX(LISTE!B$4:B$13,$A13),"") | C13: =IFERROR(INDEX(LISTE!C$4:C$13,$A13),"") | D13: =IFERROR(INDEX(LISTE!D$4:D$13,$A13),"")
A14: =IF(A13="","",IFERROR(MATCH(LISTE!$I$6,OFFSET(LISTE!$G$4:$G$13,N($A13),0),0)+N(A13),"")) | B14: =IFERROR(INDEX(LISTE!B$4:B$13,$A14),"") | C14: =IFERROR(INDEX(LISTE!C$4:C$13,$A14),"") | D14: =IFERROR(INDEX(LISTE!D$4:D$13,$A14),"")
A15: =IF(A14="","",IFERROR(MATCH(LISTE!$I$6,OFFSET(LISTE!$G$4:$G$13,N($A14),0),0)+N(A14),"")) | B15: =IFERROR(INDEX(LISTE!B$4:B$13,$A15),"") | C15: =IFERROR(INDEX(LISTE!C$4:C$13,$A15),"") | D15: =IFERROR(INDEX(LISTE!D$4:D$13,$A15),"")
A16: =IF(A15="","",IFERROR(MATCH(LISTE!$I$6,OFFSET(LISTE!$G$4:$G$13,N($A15),0),0)+N(A15),"")) | B16: =IFERROR(INDEX(LISTE!B$4:B$13,$A16),"") | C16: =IFERROR(INDEX(LISTE!C$4:C$13,$A16),"") | D16: =IFERROR(INDEX(LISTE!D$4:D$13,$A16),"")
A17: =IF(A16="","",IFERROR(MATCH(LISTE!$I$6,OFFSET(LISTE!$G$4:$G$13,N($A16),0),0)+N(A16),"")) | B17: =IFERROR(INDEX(LISTE!B$4:B$13,$A17),"") | C17: =IFERROR(INDEX(LISTE!C$4:C$13,$A17),"") | D17: =IFERROR(INDEX(LISTE!D$4:D$13,$A17),"")
A18: =IF(A17="","",IFERROR(MATCH(LISTE!$I$6,OFFSET(LISTE!$G$4:$G$13,N($A17),0),0)+N(A17),"")) | B18: =IFERROR(INDEX(LISTE!B$4:B$13,$A18),"") | C18: =IFERROR(INDEX(LISTE!C$4:C$13,$A18),"") | D18: =IFERROR(INDEX(LISTE!D$4:D$13,$A18),"")
A19: =IF(A18="","",IFERROR(MATCH(LISTE!$I$6,OFFSET(LISTE!$G$4:$G$13,N($A18),0),0)+N(A18),"")) | B19: =IFERROR(INDEX(LISTE!B$4:B$13,$A19),"") | C19: =IFERROR(INDEX(LISTE!C$4:C$13,$A19),"") | D19: =IFERROR(INDEX(LISTE!D$4:D$13,$A19),"")
A20: =IF(A19="","",IFERROR(MATCH(LISTE!$I$6,OFFSET(LISTE!$G$4:$G$13,N($A19),0),0)+N(A19),"")) | B20: =IFERROR(INDEX(LISTE!B$4:B$13,$A20),"") | C20: =IFERROR(INDEX(LISTE!C$4:C$13,$A20),"") | D20: =IFERROR(INDEX(LISTE!D$4:D$13,$A20),"")
A21: =IF(A20="","",IFERROR(MATCH(LISTE!$I$6,OFFSET(LISTE!$G$4:$G$13,N($A20),0),0)+N(A20),"")) | B21: =IFERROR(INDEX(LISTE!B$4:B$13,$A21),"") | C21: =IFERROR(INDEX(LISTE!C$4:C$13,$A21),"") | D21: =IFERROR(INDEX(LISTE!D$4:D$13,$A21),"")
A22: =IF(A21="","",IFERROR(MATCH(LISTE!$I$6,OFFSET(LISTE!$G$4:$G$13,N($A21),0),0)+N(A21),"")) | B22: =IFERROR(INDEX(LISTE!B$4:B$13,$A22),"") | C22: =IFERROR(INDEX(LISTE!C$4:C$13,$A22),"") | D22: =IFERROR(INDEX(LISTE!D$4:D$13,$A22),"")
A23: =IF(A22="","",IFERROR(MATCH(LISTE!$I$6,OFFSET(LISTE!$G$4:$G$13,N($A22),0),0)+N(A22),"")) | B23: =IFERROR(INDEX(LISTE!B$4:B$13,$A23),"") | C23: =IFERROR(INDEX(LISTE!C$4:C$13,$A23),"") | D23: =IFERROR(INDEX(LISTE!D$4:D$13,$A23),"")
... A40: =IF(A39="","",IFERROR(MATCH(LISTE!$I$6,OFFSET(LISTE!$G$4:$G$13,N($A39),0),0)+N(A39),"")) | B40: =IFERROR(INDEX(LISTE!B$4:B$13,$A40),"") | C40: =IFERROR(INDEX(LISTE!C$4:C$13,$A40),"") | D40: =IFERROR(INDEX(LISTE!D$4:D$13,$A40),"")

Sheet ASSEZ BIEN
A3: NUM | B3: CODE | C3: PRENOM | D3: NOM | E3: SEXE | F3: CLASSE
A4: =IF(A3="","",IFERROR(MATCH(LISTE!$I$7,OFFSET(LISTE!$G$4:$G$13,N($A3),0),0)+N(A3),"")) -> 1 | B4: =IFERROR(INDEX(LISTE!B$4:B$13,$A4),"") -> OPB131028281 | C4: =IFERROR(INDEX(LISTE!C$4:C$13,$A4),"") -> KJGKG | D4: =IFERROR(INDEX(LISTE!D$4:D$13,$A4),"") -> KHJLKH | E4: =IFERROR(INDEX(LISTE!E$4:E$13,$A4),"") -> M | F4: =IFERROR(INDEX(LISTE!F$4:F$13,$A4),"") -> 5
A5: =IF(A4="","",IFERROR(MATCH(LISTE!$I$7,OFFSET(LISTE!$G$4:$G$13,N($A4),0),0)+N(A4),"")) -> 3 | B5: =IFERROR(INDEX(LISTE!B$4:B$13,$A5),"") -> OPB131028283 | C5: =IFERROR(INDEX(LISTE!C$4:C$13,$A5),"") -> LKMLJK | D5: =IFERROR(INDEX(LISTE!D$4:D$13,$A5),"") -> GHJGJK | E5: =IFERROR(INDEX(LISTE!E$4:E$13,$A5),"") -> F | F5: =IFERROR(INDEX(LISTE!F$4:F$13,$A5),"") -> 5
A6: =IF(A5="","",IFERROR(MATCH(LISTE!$I$7,OFFSET(LISTE!$G$4:$G$13,N($A5),0),0)+N(A5),"")) -> 4 | B6: =IFERROR(INDEX(LISTE!B$4:B$13,$A6),"") -> OPB131028284 | C6: =IFERROR(INDEX(LISTE!C$4:C$13,$A6),"") -> KJGKGJ | D6: =IFERROR(INDEX(LISTE!D$4:D$13,$A6),"") -> FH | E6: =IFERROR(INDEX(LISTE!E$4:E$13,$A6),"") -> F | F6: =IFERROR(INDEX(LISTE!F$4:F$13,$A6),"") -> 5
A7: =IF(A6="","",IFERROR(MATCH(LISTE!$I$7,OFFSET(LISTE!$G$4:$G$13,N($A6),0),0)+N(A6),"")) -> 6 | B7: =IFERROR(INDEX(LISTE!B$4:B$13,$A7),"") -> OPB131028286 | C7: =IFERROR(INDEX(LISTE!C$4:C$13,$A7),"") -> GHKG | D7: =IFERROR(INDEX(LISTE!D$4:D$13,$A7),"") -> HFJH | E7: =IFERROR(INDEX(LISTE!E$4:E$13,$A7),"") -> M | F7: =IFERROR(INDEX(LISTE!F$4:F$13,$A7),"") -> 1
A8: =IF(A7="","",IFERROR(MATCH(LISTE!$I$7,OFFSET(LISTE!$G$4:$G$13,N($A7),0),0)+N(A7),"")) -> 7 | B8: =IFERROR(INDEX(LISTE!B$4:B$13,$A8),"") -> OPB131028287 | C8: =IFERROR(INDEX(LISTE!C$4:C$13,$A8),"") -> KJHKLJH | D8: =IFERROR(INDEX(LISTE!D$4:D$13,$A8),"") -> JHKGK | E8: =IFERROR(INDEX(LISTE!E$4:E$13,$A8),"") -> M | F8: =IFERROR(INDEX(LISTE!F$4:F$13,$A8),"") -> 5
A9: =IF(A8="","",IFERROR(MATCH(LISTE!$I$7,OFFSET(LISTE!$G$4:$G$13,N($A8),0),0)+N(A8),"")) -> 9 | B9: =IFERROR(INDEX(LISTE!B$4:B$13,$A9),"") -> OPB131028289 | C9: =IFERROR(INDEX(LISTE!C$4:C$13,$A9),"") -> KGHK | D9: =IFERROR(INDEX(LISTE!D$4:D$13,$A9),"") -> GKH | E9: =IFERROR(INDEX(LISTE!E$4:E$13,$A9),"") -> M | F9: =IFERROR(INDEX(LISTE!F$4:F$13,$A9),"") -> 5
A10: =IF(A9="","",IFERROR(MATCH(LISTE!$I$7,OFFSET(LISTE!$G$4:$G$13,N($A9),0),0)+N(A9),"")) | B10: =IFERROR(INDEX(LISTE!B$4:B$13,$A10),"") | C10: =IFERROR(INDEX(LISTE!C$4:C$13,$A10),"") | D10: =IFERROR(INDEX(LISTE!D$4:D$13,$A10),"") | E10: =IFERROR(INDEX(LISTE!E$4:E$13,$A10),"") | F10: =IFERROR(INDEX(LISTE!F$4:F$13,$A10),"")
A11: =IF(A10="","",IFERROR(MATCH(LISTE!$I$7,OFFSET(LISTE!$G$4:$G$13,N($A10),0),0)+N(A10),"")) | B11: =IFERROR(INDEX(LISTE!B$4:B$13,$A11),"") | C11: =IFERROR(INDEX(LISTE!C$4:C$13,$A11),"") | D11: =IFERROR(INDEX(LISTE!D$4:D$13,$A11),"") | E11: =IFERROR(INDEX(LISTE!E$4:E$13,$A11),"") | F11: =IFERROR(INDEX(LISTE!F$4:F$13,$A11),"")
A12: =IF(A11="","",IFERROR(MATCH(LISTE!$I$7,OFFSET(LISTE!$G$4:$G$13,N($A11),0),0)+N(A11),"")) | B12: =IFERROR(INDEX(LISTE!B$4:B$13,$A12),"") | C12: =IFERROR(INDEX(LISTE!C$4:C$13,$A12),"") | D12: =IFERROR(INDEX(LISTE!D$4:D$13,$A12),"") | E12: =IFERROR(INDEX(LISTE!E$4:E$13,$A12),"") | F12: =IFERROR(INDEX(LISTE!F$4:F$13,$A12),"")
A13: =IF(A12="","",IFERROR(MATCH(LISTE!$I$7,OFFSET(LISTE!$G$4:$G$13,N($A12),0),0)+N(A12),"")) | B13: =IFERROR(INDEX(LISTE!B$4:B$13,$A13),"") | C13: =IFERROR(INDEX(LISTE!C$4:C$13,$A13),"") | D13: =IFERROR(INDEX(LISTE!D$4:D$13,$A13),"") | E13: =IFERROR(INDEX(LISTE!E$4:E$13,$A13),"") | F13: =IFERROR(INDEX(LISTE!F$4:F$13,$A13),"")
A14: =IF(A13="","",IFERROR(MATCH(LISTE!$I$7,OFFSET(LISTE!$G$4:$G$13,N($A13),0),0)+N(A13),"")) | B14: =IFERROR(INDEX(LISTE!B$4:B$13,$A14),"") | C14: =IFERROR(INDEX(LISTE!C$4:C$13,$A14),"") | D14: =IFERROR(INDEX(LISTE!D$4:D$13,$A14),"") | E14: =IFERROR(INDEX(LISTE!E$4:E$13,$A14),"") | F14: =IFERROR(INDEX(LISTE!F$4:F$13,$A14),"")
A15: =IF(A14="","",IFERROR(MATCH(LISTE!$I$7,OFFSET(LISTE!$G$4:$G$13,N($A14),0),0)+N(A14),"")) | B15: =IFERROR(INDEX(LISTE!B$4:B$13,$A15),"") | C15: =IFERROR(INDEX(LISTE!C$4:C$13,$A15),"") | D15: =IFERROR(INDEX(LISTE!D$4:D$13,$A15),"") | E15: =IFERROR(INDEX(LISTE!E$4:E$13,$A15),"") | F15: =IFERROR(INDEX(LISTE!F$4:F$13,$A15),"")
... A25: =IF(A24="","",IFERROR(MATCH(LISTE!$I$7,OFFSET(LISTE!$G$4:$G$13,N($A24),0),0)+N(A24),"")) | B25: =IFERROR(INDEX(LISTE!B$4:B$13,$A25),"") | C25: =IFERROR(INDEX(LISTE!C$4:C$13,$A25),"") | D25: =IFERROR(INDEX(LISTE!D$4:D$13,$A25),"") | E25: =IFERROR(INDEX(LISTE!E$4:E$13,$A25),"") | F25: =IFERROR(INDEX(LISTE!F$4:F$13,$A25),"")
