Workbook
Name ListeAc: #REF!

Sheet Recheche Ac
A1: Anticorps recherché : | B1: ISBT | C1: Fréquence de l'Ag en % selon l'éthnie | M1: Nature de l'Ac | O1: Réactions | R1: Enzyme (Papaïne) | T1: Traitement au DTT | V1: Activation complément | W1: AutoAc | X1: Ac naturel | Y1: Allo-immunisation | Z1: Réaction transfusionnelle | AC1: MHNN
C2: Caucasiens | D2: Noirs | E2: Asiatiques | F2: Mexicains | G2: Juifs Iraniens | H2: Américains natifs | I2: Indiens d'Amerique du Sud | J2: Lettons | K2: Finlandais | L2: Arabes | M2: IgG | N2: IgM | O2: à 20°C | P2: à 37°C | Q2: en LISS - TIA | R2: Effet sur l'Ag | S2: Réaction | T2: 200mM | U2: 50mM | Z2: Risque | AA2: Délai | AB2: Type
A3: Anti-C | B3: =VLOOKUP($A3,'BD Ag-Ac'!$B$3:$AD$6,2,FALSE) -> RH2 | C3: =VLOOKUP($A3,'BD Ag-Ac'!$B$3:$AD$6,3,FALSE) -> 68 | D3: =VLOOKUP($A3,'BD Ag-Ac'!$B$3:$AD$6,4,FALSE) -> 27 | E3: =VLOOKUP($A3,'BD Ag-Ac'!$B$3:$AD$6,5,FALSE) -> 93 | F3: =VLOOKUP($A3,'BD Ag-Ac'!$B$3:$AD$6,6,FALSE) -> N.A. | G3: =VLOOKUP($A3,'BD Ag-Ac'!$B$3:$AD$6,7,FALSE) -> N.A. | H3: =VLOOKUP($A3,'BD Ag-Ac'!$B$3:$AD$6,8,FALSE) -> N.A. | I3: =VLOOKUP($A3,'BD Ag-Ac'!$B$3:$AD$6,9,FALSE) -> N.A. | J3: =VLOOKUP($A3,'BD Ag-Ac'!$B$3:$AD$6,10,FALSE) -> N.A. | K3: =VLOOKUP($A3,'BD Ag-Ac'!$B$3:$AD$6,11,FALSE) -> N.A. | L3: =VLOOKUP($A3,'BD Ag-Ac'!$B$3:$AD$6,12,FALSE) -> N.A. | M3: =VLOOKUP($A3,'BD Ag-Ac'!$B$3:$AD$6,13,FALSE) -> + | N3: =VLOOKUP($A3,'BD Ag-Ac'!$B$3:$AD$6,14,FALSE) -> Parfois | O3: =VLOOKUP($A3,'BD Ag-Ac'!$B$3:$AD$6,15,FALSE) -> Parfois | P3: =VLOOKUP($A3,'BD Ag-Ac'!$B$3:$AD$6,16,FALSE) -> + | Q3: =VLOOKUP($A3,'BD Ag-Ac'!$B$3:$AD$6,17,FALSE) -> + | R3: =VLOOKUP($A3,'BD Ag-Ac'!$B$3:$AD$6,18,FALSE) -> Résistant | S3: =VLOOKUP($A3,'BD Ag-Ac'!$B$3:$AD$6,19,FALSE) -> Renforcée +++ | T3: =VLOOKUP($A3,'BD Ag-Ac'!$B$3:$AD$6,20,FALSE) -> Résistant | U3: =VLOOKUP($A3,'BD Ag-Ac'!$B$3:$AD$6,21,FALSE) -> Résistant | V3: =VLOOKUP($A3,'BD Ag-Ac'!$B$3:$AD$6,22,FALSE) -> - | W3: =VLOOKUP($A3,'BD Ag-Ac'!$B$3:$AD$6,23,FALSE) -> Oui | X3: =VLOOKUP($A3,'BD Ag-Ac'!$B$3:$AD$6,24,FALSE) -> N.A. | Y3: =VLOOKUP($A3,'BD Ag-Ac'!$B$3:$AD$6,25,FALSE) -> + | Z3: =VLOOKUP($A3,'BD Ag-Ac'!$B$3:$AD$6,26,FALSE) -> Léger à sévère | AA3: =VLOOKUP($A3,'BD Ag-Ac'!$B$3:$AD$6,27,FALSE) -> Immédiat ou retardé | AB3: =VLOOKUP($A3,'BD Ag-Ac'!$B$3:$AD$6,28,FALSE) -> Hémoglobinurie | AC3: =VLOOKUP($A3,'BD Ag-Ac'!$B$3:$AD$6,29,FALSE) -> Légère

Sheet BD Ag-Ac
A1: Systéme | B1: Anticorps | C1: ISBT | D1: Fréquence de l'Ag en % selon l'éthnie | N1: Nature de l'Ac | P1: Réactions | S1: Enzyme (Papaïne) | U1: Traitement au DTT | W1: Activation complément | X1: AutoAc | Y1: Ac naturel | Z1: Allo-immunisation | AA1: Réaction transfusionnelle | AD1: MHNN
D2: Caucasiens | E2: Noirs | F2: Asiatiques | G2: Mexicains | H2: Juifs Iraniens | I2: Américains natifs | J2: Indiens d'Amerique du Sud | K2: Lettons | L2: Finlandais | M2: Arabes | N2: IgG | O2: IgM | P2: à 20°C | Q2: à 37°C | R2: en LISS - TIA | S2: Effet sur l'Ag | T2: Réaction | U2: 200mM | V2: 50mM | AA2: Risque | AB2: Délai | AC2: Type
A3: Rhésus | B3: Anti-C | C3: RH2 | D3: 68 | E3: 27 | F3: 93 | G3: N.A. | H3: N.A. | I3: N.A. | J3: N.A. | K3: N.A. | L3: N.A. | M3: N.A. | N3: + | O3: Parfois | P3: Parfois | Q3: + | R3: + | S3: Résistant | T3: Renforcée +++ | U3: Résistant | V3: Résistant | W3: - | X3: Oui | Y3: N.A. | Z3: + | AA3: Léger à sévère | AB3: Immédiat ou retardé | AC3: Hémoglobinurie | AD3: Légère
A4: Rhésus | B4: Anti-E | C4: RH3 | D4: 29 | E4: 22 | F4: 39 | G4: N.A. | H4: N.A. | I4: N.A. | J4: N.A. | K4: N.A. | L4: N.A. | M4: N.A. | N4: + | O4: Parfois | P4: Parfois | Q4: + | R4: + | S4: Résistant | T4: Renforcée +++ | U4: Résistant | V4: Résistant | W4: - | X4: Oui | Y4: + | Z4: + | AA4: Léger à modéré | AB4: Immédiat ou retardé | AC4: Hémoglobinurie | AD4: Légère
A5: Rhésus | B5: Anti-c | C5: RH4 | D5: 80 | E5: 98 | F5: 47 | G5: N.A. | H5: N.A. | I5: N.A. | J5: N.A. | K5: N.A. | L5: N.A. | M5: N.A. | N5: + | O5: Rare | P5: Rare | Q5: + | R5: + | S5: Résistant | T5: Renforcée +++ | U5: Résistant | V5: Résistant | W5: - | X5: Oui | Y5: N.A. | Z5: + | AA5: Léger à sévère | AB5: Immédiat ou retardé | AC5: Hémoglobinurie | AD5: Légère à sévère
A6: Rhésus | B6: Anti-e | C6: RH5 | D6: 98 | E6: 98 | F6: 96 | G6: N.A. | H6: N.A. | I6: N.A. | J6: N.A. | K6: N.A. | L6: N.A. | M6: N.A. | N6: + | O6: Rare | P6: Rare | Q6: + | R6: + | S6: Résistant | T6: Renforcée +++ | U6: Résistant | V6: Résistant | W6: - | X6: Oui (courant) | Y6: N.A. | Z6: + | AA6: Léger à modéré | AB6: Retardé | AC6: Hémoglobinurie | AD6: Rare. Si oui, légère

Sheet Tableau Ag-Ac
A1: Systéme | B1: Anticorps | C1: Fréquence de l'Ag en % | D1: Nature IgG | E1: Nature IgM | F1: Réaction à 20°C | G1: Réaction à 37°C | H1: Réaction Liss - TIA | I1: Réaction Enzyme | J1: Activation complément | K1: Ac naturel | L1: Allo-immunisation | M1: Réaction transfusionnelle hémolysante | N1: MHNN
A2: ABO | B2: Anti-A | C2: 48 | D2: Parfois | E2: + | F2: + | G2: Parfois | H2: Parfois | I2: Renforcée | J2: + | K2: + | L2: N.A. | M2: + | N2: Rare
A3: ABO | B3: Anti-B | C3: 9 | D3: Parfois | E3: + | F3: + | G3: Parfois | H3: Parfois | I3: Renforcée | J3: + | K3: + | L3: N.A. | M3: + | N3: Rare
A4: ABO | B4: Anti-A1 | C4: 38 | D4: Rare | E4: + | F4: + | G4: Rare | H4: Rare | I4: Renforcée | J4: Rare | K4: + | L4: N.A. | M4: Rare | N4: -
A5: ABO | B5: Anti-H | C5: >99.9 | D5: Rare | E5: + | F5: + | G5: Rare | H5: Rare | I5: Renforcée | J5: Rare | K5: - | L5: N.A. | M5: Rare | N5: -
A6: Rhésus | B6: Anti-D | C6: 83 | D6: + | E6: Parfois | F6: Parfois | G6: + | H6: + | I6: Renforcée | J6: - | K6: N.A. | L6: + | M6: + | N6: +
A7: Rhésus | B7: Anti-C | C7: 67 | D7: + | E7: Parfois | F7: Parfois | G7: + | H7: + | I7: Renforcée | J7: - | K7: N.A. | L7: + | M7: + | N7: +
A8: Rhésus | B8: Anti-E | C8: 31 | D8: + | E8: Parfois | F8: Parfois | G8: + | H8: + | I8: Renforcée | J8: - | K8: + | L8: + | M8: + | N8: +
A9: Rhésus | B9: Anti-c | C9: 81 | D9: + | E9: Rare | F9: Rare | G9: + | H9: + | I9: Renforcée | J9: - | K9: N.A. | L9: + | M9: + | N9: +
A10: Rhésus | B10: Anti-e | C10: 97 | D10: + | E10: Rare | F10: Rare | G10: + | H10: + | I10: Renforcée | J10: - | K10: N.A. | L10: + | M10: + | N10: +
A11: Rhésus | B11: Anti-Cw | C11: 2 | D11: + | E11: Parfois | F11: Parfois | G11: + | H11: + | I11: Renforcée | J11: - | K11: + | L11: + | M11: + | N11: +
A12: Rhésus | B12: Anti-V | C12: <1 | D12: + | E12: N.A. | F12: N.A. | G12: + | H12: + | I12: + | J12: - | K12: N.A. | L12: + | M12: + | N12: -
A13: Kell | B13: Anti-K | C13: 9 | D13: + | E13: Parfois | F13: Parfois | G13: Parfois | H13: + | I13: Variable | J13: Rare | K13: Rare | L13: + | M13: + | N13: +
A14: Kell | B14: Anti-k | C14: 99.8 | D14: + | E14: Rare | F14: Rare | G14: Rare | H14: + | I14: Rare | J14: - | K14: N.A. | L14: + | M14: + | N14: +
A15: Kell | B15: Anti-Kpa | C15: 2 | D15: + | E15: N.A. | F15: Parfois | G15: Parfois | H15: + | I15: Rare | J15: - | K15: N.A. | L15: + | M15: + | N15: +
A16: Kell | B16: Anti-Kpb | C16: >99.9 | D16: + | E16: Rare | F16: Rare | G16: Rare | H16: + | I16: Parfois | J16: - | K16: N.A. | L16: + | M16: + | N16: +
A17: Kell | B17: Anti-Jsa | C17: <0.1 | D17: + | E17: Rare | F17: Rare | G17: Parfois | H17: + | I17: Parfois | J17: - | K17: N.A. | L17: + | M17: + | N17: +
A18: Kell | B18: Anti-Jsb | C18: >99.9 | D18: + | E18: N.A. | F18: N.A. | G18: N.A. | H18: + | I18: Parfois | J18: - | K18: N.A. | L18: + | M18: + | N18: +
A19: Duffy | B19: Anti-Fya | C19: 67 | D19: + | E19: Rare | F19: N.A. | G19: Rare | H19: + | I19: Affaiblie / détruit | J19: Rare | K19: - | L19: + | M19: + | N19: Rare
A20: Duffy | B20: Anti-Fyb | C20: 81 | D20: + | E20: Rare | F20: N.A. | G20: Rare | H20: + | I20: Affaiblie / détruit | J20: Parfois | K20: - | L20: + | M20: + | N20: N.A.
A21: Luthéran | B21: Anti-Lua | C21: 7.7 | D21: + | E21: Parfois | F21: + | G21: Parfois | H21: Parfois | I21: Variable | J21: - | K21: + | L21: + | M21: Rare | N21: N.A.
A22: Luthéran | B22: Anti-Lub | C22: 99.9 | D22: Parfois | E22: + | F22: Parfois | G22: Parfois | H22: + | I22: Variable | J22: - | K22: - | L22: + | M22: + | N22: Rare
A23: Kidd | B23: Anti-Jka | C23: 73 | D23: + | E23: Parfois | F23: - | G23: - | H23: + | I23: Renforcée | J23: + | K23: - | L23: + | M23: + | N23: +
A24: Kidd | B24: Anti-Jkb | C24: 76 | D24: + | E24: Parfois | F24: - | G24: - | H24: + | I24: Renforcée | J24: + | K24: - | L24: + | M24: + | N24: +
A25: MNS | B25: Anti-M | C25: 78 | D25: + | E25: Parfois | F25: + | G25: Parfois | H25: Parfois | I25: Affaiblie / détruit | J25: - | K25: + | L25: + | M25: Rare | N25: Rare
A26: MNS | B26: Anti-N | C26: 72 | D26: Rare | E26: + | F26: + | G26: Rare | H26: Rare | I26: Affaiblie / détruit | J26: - | K26: + | L26: + | M26: Rare | N26: Rare
A27: MNS | B27: Anti-S | C27: 52 | D27: + | E27: Parfois | F27: Parfois | G27: Parfois | H27: + | I27: Affaiblie / détruit | J27: Parfois | K27: + | L27: + | M27: + | N27: +
A28: MNS | B28: Anti-s | C28: 91 | D28: + | E28: Rare | F28: - | G28: - | H28: + | I28: Affaiblie / détruit | J28: Rare | K28: Rare | L28: + | M28: + | N28: +
A29: MNS | B29: Anti-U | C29: 99.9 | D29: + | E29: - | F29: - | G29: - | H29: + | I29: + | J29: - | K29: N.A. | L29: + | M29: + | N29: +
A30: Lewis | B30: Anti-Lea | C30: 22 | D30: Rare | E30: + | F30: + | G30: Parfois | H30: Parfois | I30: Renforcée | J30: + | K30: + | L30: Parfois | M30: + | N30: -
A31: Lewis | B31: Anti-Leb | C31: 72 | D31: Rare | E31: + | F31: + | G31: Parfois | H31: Parfois | I31: Renforcée | J31: + | K31: + | L31: N.A. | M31: - | N31: -
A32: Lewis | B32: Anti-LebH | C32: N.A. | D32: Rare | E32: + | F32: + | G32: Parfois | H32: Parfois | I32: Renforcée | J32: + | K32: + | L32: N.A. | M32: - | N32: -
A33: Lewis | B33: Anti-LebL | C33: N.A. | D33: Rare | E33: + | F33: + | G33: Parfois | H33: Parfois | I33: Renforcée | J33: + | K33: + | L33: N.A. | M33: - | N33: -
A34: P | B34: Anti-P1 | C34: 79 | D34: Rare | E34: + | F34: + | G34: Parfois | H34: Parfois | I34: Renforcée | J34: Parfois | K34: + | L34: Rare | M34: Rare | N34: -
A35: P | B35: Anti-P | C35: >99.9 | D35: Parfois | E35: + | F35: + | G35: Parfois | H35: Parfois | I35: Renforcée | J35: + | K35: + | L35: N.A. | M35: + | N35: -
A36: P | B36: Anti-PP1Pk | C36: >99.9 | D36: Parfois | E36: + | F36: + | G36: Parfois | H36: Parfois | I36: Renforcée | J36: + | K36: + | L36: N.A. | M36: + | N36: +
A37: I | B37: Anti-I | C37: >99.9 | D37: Rare | E37: + | F37: + | G37: Rare | H37: Rare | I37: Renforcée | J37: + | K37: + | L37: N.A. | M37: + | N37: -
A38: I | B38: Anti-i | C38: >99.9 | D38: Rare | E38: + | F38: + | G38: Rare | H38: Rare | I38: Renforcée | J38: + | K38: + | L38: N.A. | M38: - | N38: Rare
A39: Sex Linked | B39: Anti-Xga | C39: ♂ : 65.5 ♀ : 88.7 | D39: + | E39: - | F39: Rare | G39: N.A. | H39: + | I39: Affaiblie / détruit | J39: Parfois | K39: N.A. | L39: + | M39: - | N39: -
A40: Colton | B40: Anti-Coa | C40: 99.8 | D40: + | E40: - | F40: - | G40: - | H40: Parfois | I40: Renforcée | J40: - | K40: N.A. | L40: + | M40: Rare | N40: Rare
A41: Colton | B41: Anti-Cob | C41: 8.6 | D41: + | E41: - | F41: - | G41: - | H41: Parfois | I41: Renforcée | J41: Rare | K41: N.A. | L41: + | M41: + | N41: -
A42: Diego | B42: Anti-Dia | C42: <0.1 | D42: + | E42: - | F42: Parfois | G42: - | H42: + | I42: Parfois | J42: - | K42: N.A. | L42: + | M42: + | N42: +
A43: Diego | B43: Anti-Dib | C43: >99.9 | D43: + | E43: - | F43: - | G43: - | H43: + | I43: Parfois | J43: - | K43: N.A. | L43: + | M43: + | N43: -
A44: Diego | B44: Anti-Wra | C44: <0.1 | D44: + | E44: + | F44: + | G44: Parfois | H44: + | I44: Parfois | J44: - | K44: + | L44: + | M44: + | N44: +
A45: Dombrock | B45: Anti-Doa | C45: 67 | D45: + | E45: - | F45: - | G45: N.A. | H45: + | I45: Renforcée | J45: - | K45: N.A. | L45: + | M45: + | N45: -
A46: Dombrock | B46: Anti-Dob | C46: 83 | D46: + | E46: - | F46: - | G46: N.A. | H46: + | I46: Renforcée | J46: - | K46: N.A. | L46: + | M46: + | N46: -
A47: Cartwight | B47: Anti-Yta | C47: 99.8 | D47: + | E47: - | F47: - | G47: - | H47: + | I47: Affaiblie / détruit | J47: - | K47: N.A. | L47: + | M47: + | N47: -
A48: Cartwight | B48: Anti-Ytb | C48: 8 | D48: + | E48: - | F48: - | G48: - | H48: + | I48: Affaiblie / détruit | J48: - | K48: N.A. | L48: + | M48: - | N48: -
A49: Ve | B49: Anti-Vel | C49: 99.4 | D49: + | E49: + | F49: N.A. | G49: + | H49: + | I49: + | J49: + | K49: N.A. | L49: + | M49: + | N49: -
A50: LAN | B50: Anti-LAN | C50: 99.8 | D50: + | E50: N.A. | F50: N.A. | G50: N.A. | H50: + | I50: + | J50: Parfois | K50: N.A. | L50: + | M50: + | N50: +
A51: HTLA | B51: Anti-Cha | C51: 98 | D51: + | E51: N.A. | F51: N.A. | G51: N.A. | H51: + | I51: Affaiblie / détruit | J51: - | K51: N.A. | L51: + | M51: - | N51: -
A52: HTLA | B52: Anti-Rga | C52: 97 | D52: + | E52: N.A. | F52: N.A. | G52: N.A. | H52: + | I52: Affaiblie / détruit | J52: - | K52: N.A. | L52: + | M52: - | N52: -
A53: HTLA | B53: Anti-Kna | C53: 99.8 | D53: + | E53: N.A. | F53: N.A. | G53: N.A. | H53: + | I53: Affaiblie / détruit | J53: - | K53: N.A. | L53: + | M53: - | N53: -
A54: HTLA | B54: Anti-McCa | C54: 99 | D54: + | E54: N.A. | F54: N.A. | G54: N.A. | H54: + | I54: Affaiblie / détruit | J54: - | K54: N.A. | L54: + | M54: - | N54: -
A55: HTLA | B55: Anti-Yka | C55: 95 | D55: + | E55: N.A. | F55: N.A. | G55: N.A. | H55: + | I55: Affaiblie / détruit | J55: - | K55: N.A. | L55: + | M55: - | N55: -
A56: HTLA | B56: Anti-Csa | C56: 97 | D56: + | E56: N.A. | F56: N.A. | G56: N.A. | H56: + | I56: + | J56: - | K56: N.A. | L56: + | M56: - | N56: -
... A59: HTLA | B59: Anti-Hy | C59: 99 | D59: + | E59: N.A. | F59: N.A. | G59: N.A. | H59: + | I59: Renforcée | J59: - | K59: N.A. | L59: + | M59: + | N59: Rare
