Workbook

Sheet Devis
A1: Qté | C1: Désignation | E1: Référence | F1: Prix Unitaire Net HT | G1: Prix Total Net HT
A2: =Cotation!F4 | C2: =Cotation!A4 -> =si('Feuille de données'!A9="O";'Feuille de données'!B9:F9;"") | E2: =Cotation!H4 | F2: =Cotation!R4 | G2: =IF(ISERROR(F2*A2),"",(F2*A2))
A3: =Cotation!F5 -> 0 | C3: =Cotation!A5 -> =si('Feuille de données'!A9="O";'Feuille de données'!B9:F9;"") | E3: =Cotation!H5 -> 0 | F3: =Cotation!R5 | G3: =IF(ISERROR(F3*A3),"",(F3*A3))
A4: =Cotation!F6 -> 0 | C4: =Cotation!A6 -> =si('Feuille de données'!A9='O';'Feuille de données'!B9:F9;"") | E4: =Cotation!H6 -> 0 | F4: =Cotation!R6 | G4: =IF(ISERROR(F4*A4),"",(F4*A4))
A5: =Cotation!F7 -> 0 | C5: =Cotation!A7 -> 0 | E5: =Cotation!H7 -> 0 | F5: =Cotation!R7 | G5: =IF(ISERROR(F5*A5),"",(F5*A5))
A8: =Cotation!F8 -> 0 | C8: =Cotation!A8 -> 0 | E8: =Cotation!H8 -> 0 | F8: =Cotation!R8 | G8: =IF(ISERROR(F8*A8),"",(F8*A8))
A9: =Cotation!F9 -> 0 | C9: =Cotation!A9 -> 0 | E9: =Cotation!H9 -> 0 | F9: =Cotation!R9 | G9: =IF(ISERROR(F9*A9),"",(F9*A9))
A10: =Cotation!F10 -> 0 | C10: =Cotation!A10 -> 0 | E10: =Cotation!H10 -> 0 | F10: =Cotation!R10 | G10: =IF(ISERROR(F10*A10),"",(F10*A10))
A11: =Cotation!F11 -> 0 | C11: =Cotation!A11 -> 0 | E11: =Cotation!H11 -> 0 | F11: =Cotation!R11 | G11: =IF(ISERROR(F11*A11),"",(F11*A11))
A13: =Cotation!F12 -> 0 | C13: =Cotation!A12 -> 0 | E13: =Cotation!H12 -> 0 | F13: =Cotation!R12 | G13: =IF(ISERROR(F13*A13),"",(F13*A13))
A14: =Cotation!F13 -> 0 | C14: =Cotation!A13 -> 0 | E14: =Cotation!H13 -> 0 | F14: =Cotation!R13 | G14: =IF(ISERROR(F14*A14),"",(F14*A14))
G15: =IF(ISERROR(F15*A15),"",(F15*A15)) -> 0
A16: REMISE DE 10% A EFFECTUER.
A17: 1 | C17: =Cotation!D40 -> Type de transport a renseigner +875674753453de | F17: 250 | G17: =F17*A17 -> 250
A19: Délai : | F19: Total Net HT | G19: =SUM(G2:G15)+G17 -> 250 | I19: Disponible
I20: 1 semaine

Sheet Cotation
A1: Désignation du matériel | F1: Qté | H1: Référence | L1: Stock | N1: Lieu du Stock | O1: P.U.A | Q1: CM2 | R1: P.U.V | V1: OR
V2: EX
V3: BO
A4: =si('Feuille de données'!A9="O";'Feuille de données'!B9:F9;"") | F4: =IF('Feuille de données'!A9="O",'Feuille de données'!G4:H4,"") | H4: =IF('Feuille de données'!A9="O",'Feuille de données'!I4:L4,"") | L4: =IF('Feuille de données'!A9="O",'Feuille de données'!M4:N4,"") | N4: =IF('Feuille de données'!A9="O",'Feuille de données'!O4,"") | O4: =IF('Feuille de données'!A9="O",'Feuille de données'!P4:Q4,"") | Q4: 0.65 | R4: =IF(ISERROR(O4/Q4),"",(O4/Q4)) | V4: LY
A5: =si('Feuille de données'!A9="O";'Feuille de données'!B9:F9;"") | R5: =IF(ISERROR(O5/Q5),"",(O5/Q5)) | V5: MA
A6: =si('Feuille de données'!A9='O';'Feuille de données'!B9:F9;"") | R6: =IF(ISERROR(O6/Q6),"",(O6/Q6)) | V6: MZ
R7: =IF(ISERROR(O7/Q7),"",(O7/Q7)) | V7: RO
R8: =IF(ISERROR(O8/Q8),"",(O8/Q8)) | V8: LE
R9: =IF(ISERROR(O9/Q9),"",(O9/Q9)) | V9: LM
R10: =IF(ISERROR(O10/Q10),"",(O10/Q10)) | V10: LT
R11: =IF(ISERROR(O11/Q11),"",(O11/Q11)) | V11: CH
R12: =IF(ISERROR(O12/Q12),"",(O12/Q12))
R13: =IF(ISERROR(O13/Q13),"",(O13/Q13))
R14: =IF(ISERROR(O14/Q14),"",(O14/Q14))
R15: =IF(ISERROR(O15/Q15),"",(O15/Q15))
R16: =IF(ISERROR(O16/Q16),"",(O16/Q16))
R17: =IF(ISERROR(O17/Q17),"",(O17/Q17))
R18: =IF(ISERROR(O18/Q18),"",(O18/Q18))
R19: =IF(ISERROR(O19/Q19),"",(O19/Q19))
R20: =IF(ISERROR(O20/Q20),"",(O20/Q20))
R21: =IF(ISERROR(O21/Q21),"",(O21/Q21))
R22: =IF(ISERROR(O22/Q22),"",(O22/Q22))
R23: =IF(ISERROR(O23/Q23),"",(O23/Q23))
... R38: =IF(ISERROR(O38/Q38),"",(O38/Q38))
Q39: TOTAL | R39: =IF(ISERROR(SUM(R4:T38)),"",SUM(R4:T38)) -> 0
B40: Type de transport : | D40: Type de transport a renseigner +875674753453de
B42: Rédigé par : | D42: James Pigeonneau
A44: FL0053-A

Sheet Feuille de données
A1: Verif | B1: Désignation du matériel | G1: Qté | I1: Référence | M1: Stock | O1: Lieu du Stock | P1: P.U.A | R1: CM2 | S1: P.U.V
A4: O | B4: Test designation | G4: 1 | I4: Test ref | M4: 42015 | O4: Test | P4: 121585 | R4: 0.65 | S4: =IF(ISERROR(P4/R4),"",(P4/R4)) -> 187053.85
