Workbook

Sheet Feuil1
AH1: Places | AI1: Occupées | AJ1: Libres | AL1: Nom de la réservation | AM1: Nombre | AN1: Code | AO1: =CONCATENATE("Placés: ",AO101) -> Placés: 0 | AQ1: Places
A2: Scène | AH2: =AH101 -> 217 | AI2: =AI101 -> 0 | AJ2: =AJ101 -> 217 | AN2: =CONCATENATE(LEFT(AL2,3),AM2) | AO2: =IF(COUNTIF(A:AG,AN2)>217,"",COUNTIF(A:AG,AN2))
AN3: =CONCATENATE(LEFT(AL3,3),AM3) | AO3: =IF(COUNTIF(A:AG,AN3)>217,"",COUNTIF(A:AG,AN3))
A4: A | D4: 2 | F4: 4 | H4: 6 | J4: 8 | L4: 10 | N4: 12 | P4: 13 | Q4: 1 | R4: 11 | T4: 9 | V4: =T4-2 -> 7 | X4: =V4-2 -> 5 | Z4: =X4-2 -> 3 | AB4: =Z4-2 -> 1 | AF4: =IF(MAX(D4:AC4)>0,MAX(D4:AC4),"") -> 13 | AH4: =IF(COUNT(C4:AD4)-1>0,COUNT(C4:AD4)-1,"") -> 13 | AN4: =CONCATENATE(LEFT(AL4,3),AM4) | AO4: =IF(COUNTIF(A:AG,AN4)>217,"",COUNTIF(A:AG,AN4))
AF5: =IF(MAX(D5:AC5)>0,MAX(D5:AC5),"") | AH5: =IF(COUNT(C5:AD5)-1>0,COUNT(C5:AD5)-1,"") | AI5: =IF(COUNTA(D5:AC5)=AH4,"- -",COUNTA(D5:AC5)) -> 0 | AJ5: =IF(ISERROR(AH4-AI5)=TRUE,"",AH4-AI5) -> 13 | AN5: =CONCATENATE(LEFT(AL5,3),AM5) | AO5: =IF(COUNTIF(A:AG,AN5)>217,"",COUNTIF(A:AG,AN5))
A6: B | C6: 14 | E6: 16 | G6: 18 | I6: 20 | K6: 22 | M6: 24 | O6: 26 | Q6: 27 | S6: 25 | U6: 23 | W6: 21 | Y6: 19 | AA6: 17 | AC6: 15 | AF6: =IF(MAX(D6:AC6)>0,MAX(D6:AC6),"") -> 27 | AH6: =IF(COUNT(C6:AD6)-1>0,COUNT(C6:AD6),"") -> 14 | AJ6: =IF(ISERROR(AH5-AI6)=TRUE,"",AH5-AI6) | AN6: =CONCATENATE(LEFT(AL6,3),AM6) | AO6: =IF(COUNTIF(A:AG,AN6)>217,"",COUNTIF(A:AG,AN6))
AF7: =IF(MAX(D7:AC7)>0,MAX(D7:AC7),"") | AH7: =IF(COUNT(C7:AD7)-1>0,COUNT(C7:AD7)-1,"") | AI7: =IF(COUNTA(D7:AC7)=AH6,"- -",COUNTA(D7:AC7)) -> 0 | AJ7: =IF(ISERROR(AH6-AI7)=TRUE,"",AH6-AI7) -> 14 | AN7: =CONCATENATE(LEFT(AL7,3),AM7) | AO7: =IF(COUNTIF(A:AG,AN7)>217,"",COUNTIF(A:AG,AN7))
A8: C | D8: =D4+26 -> 28 | F8: =F4+26 -> 30 | H8: =H4+26 -> 32 | J8: =J4+26 -> 34 | L8: =L4+26 -> 36 | N8: =N4+26 -> 38 | P8: 40 | Q8: 1 | R8: 39 | T8: 37 | V8: =T8-2 -> 35 | X8: =V8-2 -> 33 | Z8: =X8-2 -> 31 | AB8: =Z8-2 -> 29 | AF8: =IF(MAX(D8:AC8)>0,MAX(D8:AC8),"") -> 40 | AH8: =IF(COUNT(C8:AD8)-1>0,COUNT(C8:AD8)-1,"") -> 13 | AJ8: =IF(ISERROR(AH7-AI8)=TRUE,"",AH7-AI8) | AN8: =CONCATENATE(LEFT(AL8,3),AM8) | AO8: =IF(COUNTIF(A:AG,AN8)>217,"",COUNTIF(A:AG,AN8))
AF9: =IF(MAX(D9:AC9)>0,MAX(D9:AC9),"") | AH9: =IF(COUNT(C9:AD9)-1>0,COUNT(C9:AD9)-1,"") | AI9: =IF(COUNTA(D9:AC9)=AH8,"- -",COUNTA(D9:AC9)) -> 0 | AJ9: =IF(ISERROR(AH8-AI9)=TRUE,"",AH8-AI9) -> 13 | AN9: =CONCATENATE(LEFT(AL9,3),AM9) | AO9: =IF(COUNTIF(A:AG,AN9)>217,"",COUNTIF(A:AG,AN9))
A10: D | C10: =C6+(42-14) -> 42 | E10: =C10+2 -> 44 | G10: =E10+2 -> 46 | I10: =G10+2 -> 48 | K10: =I10+2 -> 50 | M10: =K10+2 -> 52 | O10: =M10+2 -> 54 | Q10: 53 | S10: =Q10-2 -> 51 | U10: =S10-2 -> 49 | W10: =U10-2 -> 47 | Y10: =W10-2 -> 45 | AA10: =Y10-2 -> 43 | AC10: =AA10-2 -> 41 | AF10: =IF(MAX(D10:AC10)>0,MAX(D10:AC10),"") -> 54 | AH10: =IF(COUNT(C10:AD10)-1>0,COUNT(C10:AD10),"") -> 14 | AJ10: =IF(ISERROR(AH9-AI10)=TRUE,"",AH9-AI10) | AN10: =CONCATENATE(LEFT(AL10,3),AM10) | AO10: =IF(COUNTIF(A:AG,AN10)>217,"",COUNTIF(A:AG,AN10))
AF11: =IF(MAX(D11:AC11)>0,MAX(D11:AC11),"") | AH11: =IF(COUNT(C11:AD11)-1>0,COUNT(C11:AD11)-1,"") | AI11: =IF(COUNTA(D11:AC11)=AH10,"- -",COUNTA(D11:AC11)) -> 0 | AJ11: =IF(ISERROR(AH10-AI11)=TRUE,"",AH10-AI11) -> 14 | AN11: =CONCATENATE(LEFT(AL11,3),AM11) | AO11: =IF(COUNTIF(A:AG,AN11)>217,"",COUNTIF(A:AG,AN11))
A12: E | D12: =D8+28 -> 56 | F12: =D12+2 -> 58 | H12: =F12+2 -> 60 | J12: =H12+2 -> 62 | L12: =J12+2 -> 64 | N12: =L12+2 -> 66 | P12: 67 | Q12: 1 | R12: =P12-2 -> 65 | T12: =R12-2 -> 63 | V12: =T12-2 -> 61 | X12: =V12-2 -> 59 | Z12: =X12-2 -> 57 | AB12: =Z12-2 -> 55 | AF12: =IF(MAX(D12:AC12)>0,MAX(D12:AC12),"") -> 67 | AH12: =IF(COUNT(C12:AD12)-1>0,COUNT(C12:AD12)-1,"") -> 13 | AJ12: =IF(ISERROR(AH11-AI12)=TRUE,"",AH11-AI12) | AN12: =CONCATENATE(LEFT(AL12,3),AM12) | AO12: =IF(COUNTIF(A:AG,AN12)>217,"",COUNTIF(A:AG,AN12))
AF13: =IF(MAX(D13:AC13)>0,MAX(D13:AC13),"") | AH13: =IF(COUNT(C13:AD13)-1>0,COUNT(C13:AD13)-1,"") | AI13: =IF(COUNTA(D13:AC13)=AH12,"- -",COUNTA(D13:AC13)) -> 0 | AJ13: =IF(ISERROR(AH12-AI13)=TRUE,"",AH12-AI13) -> 13 | AN13: =CONCATENATE(LEFT(AL13,3),AM13) | AO13: =IF(COUNTIF(A:AG,AN13)>217,"",COUNTIF(A:AG,AN13))
AN14: =CONCATENATE(LEFT(AL14,3),AM14) | AO14: =IF(COUNTIF(A:AG,AN14)>217,"",COUNTIF(A:AG,AN14))
A15: F | C15: 68 | E15: =C15+2 -> 70 | G15: =E15+2 -> 72 | I15: =G15+2 -> 74 | K15: =I15+2 -> 76 | M15: =K15+2 -> 78 | O15: =M15+2 -> 80 | Q15: 81 | S15: =Q15-2 -> 79 | U15: =S15-2 -> 77 | W15: =U15-2 -> 75 | Y15: =W15-2 -> 73 | AA15: =Y15-2 -> 71 | AC15: =AA15-2 -> 69 | AF15: =IF(MAX(D15:AC15)>0,MAX(D15:AC15),"") -> 81 | AH15: =IF(COUNT(C15:AD15)-1>0,COUNT(C15:AD15),"") -> 14 | AJ15: =IF(ISERROR(AH13-AI15)=TRUE,"",AH13-AI15) | AN15: =CONCATENATE(LEFT(AL15,3),AM15) | AO15: =IF(COUNTIF(A:AG,AN15)>217,"",COUNTIF(A:AG,AN15))
AF16: =IF(MAX(D16:AC16)>0,MAX(D16:AC16),"") | AH16: =IF(COUNT(C16:AD16)-1>0,COUNT(C16:AD16)-1,"") | AI16: =IF(COUNTA(D16:AC16)=AH15,"- -",COUNTA(D16:AC16)) -> 0 | AJ16: =IF(ISERROR(AH15-AI16)=TRUE,"",AH15-AI16) -> 14 | AN16: =CONCATENATE(LEFT(AL16,3),AM16) | AO16: =IF(COUNTIF(A:AG,AN16)>217,"",COUNTIF(A:AG,AN16))
A17: G | D17: 82 | F17: =D17+2 -> 84 | H17: =F17+2 -> 86 | J17: =H17+2 -> 88 | L17: =J17+2 -> 90 | N17: =L17+2 -> 92 | P17: =N17+2 -> 94 | R17: =R8+(93-39) -> 93 | T17: =T8+(93-39) -> 91 | V17: =V8+(93-39) -> 89 | X17: =X8+(93-39) -> 87 | Z17: =Z8+(93-39) -> 85 | AB17: =AB8+(93-39) -> 83 | AF17: =IF(MAX(D17:AC17)>0,MAX(D17:AC17),"") -> 94 | AH17: =IF(COUNT(C17:AD17)-1>0,COUNT(C17:AD17),"") -> 13 | AJ17: =IF(ISERROR(AH16-AI17)=TRUE,"",AH16-AI17) | AN17: =CONCATENATE(LEFT(AL17,3),AM17) | AO17: =IF(COUNTIF(A:AG,AN17)>217,"",COUNTIF(A:AG,AN17))
AF18: =IF(MAX(D18:AC18)>0,MAX(D18:AC18),"") | AH18: =IF(COUNT(C18:AD18)-1>0,COUNT(C18:AD18),"") | AI18: =IF(COUNTA(D18:AC18)=AH17,"- -",COUNTA(D18:AC18)) -> 0 | AJ18: =IF(ISERROR(AH17-AI18)=TRUE,"",AH17-AI18) -> 13 | AN18: =CONCATENATE(LEFT(AL18,3),AM18) | AO18: =IF(COUNTIF(A:AG,AN18)>217,"",COUNTIF(A:AG,AN18))
A19: H | C19: 96 | E19: =C19+2 -> 98 | G19: =E19+2 -> 100 | I19: =G19+2 -> 102 | K19: =I19+2 -> 104 | M19: =K19+2 -> 106 | O19: =M19+2 -> 108 | Q19: 107 | S19: =Q19-2 -> 105 | U19: =S19-2 -> 103 | W19: =U19-2 -> 101 | Y19: =W19-2 -> 99 | AA19: =Y19-2 -> 97 | AC19: =AA19-2 -> 95 | AF19: =IF(MAX(D19:AC19)>0,MAX(D19:AC19),"") -> 108 | AH19: =IF(COUNT(C19:AD19)-1>0,COUNT(C19:AD19),"") -> 14 | AJ19: =IF(ISERROR(AH18-AI19)=TRUE,"",AH18-AI19) | AN19: =CONCATENATE(LEFT(AL19,3),AM19) | AO19: =IF(COUNTIF(A:AG,AN19)>217,"",COUNTIF(A:AG,AN19))
AF20: =IF(MAX(D20:AC20)>0,MAX(D20:AC20),"") | AH20: =IF(COUNT(C20:AD20)-1>0,COUNT(C20:AD20),"") | AI20: =IF(COUNTA(D20:AC20)=AH19,"- -",COUNTA(D20:AC20)) -> 0 | AJ20: =IF(ISERROR(AH19-AI20)=TRUE,"",AH19-AI20) -> 14 | AN20: =CONCATENATE(LEFT(AL20,3),AM20) | AO20: =IF(COUNTIF(A:AG,AN20)>217,"",COUNTIF(A:AG,AN20))
A21: I | D21: =D17+28 -> 110 | F21: =D21+2 -> 112 | H21: =F21+2 -> 114 | J21: =H21+2 -> 116 | L21: =J21+2 -> 118 | N21: =L21+2 -> 120 | P21: =N21+1 -> 121 | Q21: 1 | R21: =P21-2 -> 119 | T21: =R21-2 -> 117 | V21: =T21-2 -> 115 | X21: =V21-2 -> 113 | Z21: =X21-2 -> 111 | AB21: =Z21-2 -> 109 | AF21: =IF(MAX(D21:AC21)>0,MAX(D21:AC21),"") -> 121 | AH21: =IF(COUNT(C21:AD21)-1>0,COUNT(C21:AD21)-1,"") -> 13 | AJ21: =IF(ISERROR(AH20-AI21)=TRUE,"",AH20-AI21) | AN21: =CONCATENATE(LEFT(AL21,3),AM21) | AO21: =IF(COUNTIF(A:AG,AN21)>217,"",COUNTIF(A:AG,AN21))
AF22: =IF(MAX(D22:AC22)>0,MAX(D22:AC22),"") | AH22: =IF(COUNT(C22:AD22)-1>0,COUNT(C22:AD22),"") | AI22: =IF(COUNTA(D22:AC22)=AH21,"- -",COUNTA(D22:AC22)) -> 0 | AJ22: =IF(ISERROR(AH21-AI22)=TRUE,"",AH21-AI22) -> 13 | AN22: =CONCATENATE(LEFT(AL22,3),AM22) | AO22: =IF(COUNTIF(A:AG,AN22)>217,"",COUNTIF(A:AG,AN22))
A23: J | C23: 122 | E23: =C23+2 -> 124 | G23: =E23+2 -> 126 | I23: =G23+2 -> 128 | K23: =I23+2 -> 130 | M23: =K23+2 -> 132 | O23: =M23+2 -> 134 | Q23: 135 | S23: =Q23-2 -> 133 | U23: =S23-2 -> 131 | W23: =U23-2 -> 129 | Y23: =W23-2 -> 127 | AA23: =Y23-2 -> 125 | AC23: =AA23-2 -> 123 | AF23: =IF(MAX(D23:AC23)>0,MAX(D23:AC23),"") -> 135 | AH23: =IF(COUNT(C23:AD23)-1>0,COUNT(C23:AD23),"") -> 14 | AJ23: =IF(ISERROR(AH22-AI23)=TRUE,"",AH22-AI23) | AN23: =CONCATENATE(LEFT(AL23,3),AM23) | AO23: =IF(COUNTIF(A:AG,AN23)>217,"",COUNTIF(A:AG,AN23))
AF24: =IF(MAX(D24:AC24)>0,MAX(D24:AC24),"") | AH24: =IF(COUNT(C24:AD24)-1>0,COUNT(C24:AD24),"") | AI24: =IF(COUNTA(D24:AC24)=AH23,"- -",COUNTA(D24:AC24)) -> 0 | AJ24: =IF(ISERROR(AH23-AI24)=TRUE,"",AH23-AI24) -> 14 | AN24: =CONCATENATE(LEFT(AL24,3),AM24) | AO24: =IF(COUNTIF(A:AG,AN24)>217,"",COUNTIF(A:AG,AN24))
A25: K | D25: 136 | F25: =D25+2 -> 138 | H25: =F25+2 -> 140 | J25: =H25+2 -> 142 | L25: =J25+2 -> 144 | N25: =L25+2 -> 146 | P25: =N25+2 -> 148 | R25: 147 | T25: =T17+(93-39) -> 145 | V25: =V17+(93-39) -> 143 | X25: =X17+(93-39) -> 141 | Z25: =Z17+(93-39) -> 139 | AB25: =AB17+(93-39) -> 137 | AF25: =IF(MAX(D25:AC25)>0,MAX(D25:AC25),"") -> 148 | AH25: =IF(COUNT(C25:AD25)-1>0,COUNT(C25:AD25),"") -> 13 | AJ25: =IF(ISERROR(AH24-AI25)=TRUE,"",AH24-AI25) | AN25: =CONCATENATE(LEFT(AL25,3),AM25) | AO25: =IF(COUNTIF(A:AG,AN25)>217,"",COUNTIF(A:AG,AN25))
AF26: =IF(MAX(D26:AC26)>0,MAX(D26:AC26),"") | AH26: =IF(COUNT(C26:AD26)-1>0,COUNT(C26:AD26),"") | AI26: =IF(COUNTA(D26:AC26)=AH25,"- -",COUNTA(D26:AC26)) -> 0 | AJ26: =IF(ISERROR(AH25-AI26)=TRUE,"",AH25-AI26) -> 13 | AN26: =CONCATENATE(LEFT(AL26,3),AM26) | AO26: =IF(COUNTIF(A:AG,AN26)>217,"",COUNTIF(A:AG,AN26))
A27: L | C27: 150 | E27: =C27+2 -> 152 | G27: =E27+2 -> 154 | I27: =G27+2 -> 156 | K27: =I27+2 -> 158 | M27: =K27+2 -> 160 | O27: =M27+2 -> 162 | Q27: 161 | S27: =Q27-2 -> 159 | U27: =S27-2 -> 157 | W27: =U27-2 -> 155 | Y27: =W27-2 -> 153 | AA27: =Y27-2 -> 151 | AC27: =AA27-2 -> 149 | AF27: =IF(MAX(D27:AC27)>0,MAX(D27:AC27),"") -> 162 | AH27: =IF(COUNT(C27:AD27)-1>0,COUNT(C27:AD27),"") -> 14 | AJ27: =IF(ISERROR(AH26-AI27)=TRUE,"",AH26-AI27) | AN27: =CONCATENATE(LEFT(AL27,3),AM27) | AO27: =IF(COUNTIF(A:AG,AN27)>217,"",COUNTIF(A:AG,AN27))
AF28: =IF(MAX(D28:AC28)>0,MAX(D28:AC28),"") | AH28: =IF(COUNT(C28:AD28)-1>0,COUNT(C28:AD28),"") | AI28: =IF(COUNTA(D28:AC28)=AH27,"- -",COUNTA(D28:AC28)) -> 0 | AJ28: =IF(ISERROR(AH27-AI28)=TRUE,"",AH27-AI28) -> 14 | AN28: =CONCATENATE(LEFT(AL28,3),AM28) | AO28: =IF(COUNTIF(A:AG,AN28)>217,"",COUNTIF(A:AG,AN28))
A29: M | D29: 164 | F29: =D29+2 -> 166 | H29: =F29+2 -> 168 | J29: =H29+2 -> 170 | L29: =J29+2 -> 172 | N29: =L29+2 -> 174 | P29: 175 | Q29: 1 | R29: =P29-2 -> 173 | T29: =R29-2 -> 171 | V29: =T29-2 -> 169 | X29: =V29-2 -> 167 | Z29: =X29-2 -> 165 | AB29: =Z29-2 -> 163 | AF29: =IF(MAX(D29:AC29)>0,MAX(D29:AC29),"") -> 175 | AH29: =IF(COUNT(C29:AD29)-1>0,COUNT(C29:AD29)-1,"") -> 13 | AJ29: =IF(ISERROR(AH28-AI29)=TRUE,"",AH28-AI29) | AN29: =CONCATENATE(LEFT(AL29,3),AM29) | AO29: =IF(COUNTIF(A:AG,AN29)>217,"",COUNTIF(A:AG,AN29))
AF30: =IF(MAX(D30:AC30)>0,MAX(D30:AC30),"") | AH30: =IF(COUNT(C30:AD30)-1>0,COUNT(C30:AD30)-1,"") | AI30: =IF(COUNTA(D30:AC30)=AH29,"- -",COUNTA(D30:AC30)) -> 0 | AJ30: =IF(ISERROR(AH29-AI30)=TRUE,"",AH29-AI30) -> 13 | AN30: =CONCATENATE(LEFT(AL30,3),AM30) | AO30: =IF(COUNTIF(A:AG,AN30)>217,"",COUNTIF(A:AG,AN30))
A31: N | E31: =AF29+1 -> 176 | G31: =E31+2 -> 178 | I31: =G31+2 -> 180 | K31: =I31+2 -> 182 | M31: =K31+2 -> 184 | O31: 186 | Q31: =O31+1 -> 187 | R31: 1 | S31: =Q31-2 -> 185 | U31: =S31-2 -> 183 | W31: =U31-2 -> 181 | Y31: =W31-2 -> 179 | AA31: =Y31-2 -> 177 | AF31: =IF(MAX(D31:AC31)>0,MAX(D31:AC31),"") -> 187 | AH31: =IF(COUNT(C31:AD31)-1>0,COUNT(C31:AD31)-1,"") -> 12 | AJ31: =IF(ISERROR(AH30-AI31)=TRUE,"",AH30-AI31) | AN31: =CONCATENATE(LEFT(AL31,3),AM31) | AO31: =IF(COUNTIF(A:AG,AN31)>217,"",COUNTIF(A:AG,AN31))
AF32: =IF(MAX(D32:AC32)>0,MAX(D32:AC32),"") | AH32: =IF(COUNT(C32:AD32)-1>0,COUNT(C32:AD32)-1,"") | AI32: =IF(COUNTA(D32:AC32)=AH31,"- -",COUNTA(D32:AC32)) -> 0 | AJ32: =IF(ISERROR(AH31-AI32)=TRUE,"",AH31-AI32) -> 12 | AN32: =CONCATENATE(LEFT(AL32,3),AM32) | AO32: =IF(COUNTIF(A:AG,AN32)>217,"",COUNTIF(A:AG,AN32))
A33: O | F33: =AF31+1 -> 188 | H33: =F33+2 -> 190 | J33: =H33+2 -> 192 | L33: =J33+2 -> 194 | N33: =L33+2 -> 196 | P33: 198 | R33: =P33-1 -> 197 | S33: 1 | T33: =R33-2 -> 195 | V33: =T33-2 -> 193 | X33: =V33-2 -> 191 | Z33: =X33-2 -> 189 | AF33: =IF(MAX(D33:AC33)>0,MAX(D33:AC33),"") -> 198 | AH33: =IF(COUNT(C33:AD33)-1>0,COUNT(C33:AD33)-1,"") -> 11 | AJ33: =IF(ISERROR(AH32-AI33)=TRUE,"",AH32-AI33) | AN33: =CONCATENATE(LEFT(AL33,3),AM33) | AO33: =IF(COUNTIF(A:AG,AN33)>217,"",COUNTIF(A:AG,AN33))
AF34: =IF(MAX(D34:AC34)>0,MAX(D34:AC34),"") | AH34: =IF(COUNT(C34:AD34)-1>0,COUNT(C34:AD34)-1,"") | AI34: =IF(COUNTA(D34:AC34)=AH33,"- -",COUNTA(D34:AC34)) -> 0 | AJ34: =IF(ISERROR(AH33-AI34)=TRUE,"",AH33-AI34) -> 11 | AN34: =CONCATENATE(LEFT(AL34,3),AM34) | AO34: =IF(COUNTIF(A:AG,AN34)>217,"",COUNTIF(A:AG,AN34))
A35: P | G35: =AF33+2 -> 200 | I35: =G35+2 -> 202 | K35: =I35+2 -> 204 | M35: =K35+2 -> 206 | O35: =M35+2 -> 208 | Q35: =O35-1 -> 207 | S35: =Q35-2 -> 205 | T35: 1 | U35: =S35-2 -> 203 | W35: =U35-2 -> 201 | Y35: =W35-2 -> 199 | AF35: =IF(MAX(D35:AC35)>0,MAX(D35:AC35),"") -> 208 | AH35: =IF(COUNT(C35:AD35)-1>0,COUNT(C35:AD35)-1,"") -> 10 | AJ35: =IF(ISERROR(AH34-AI35)=TRUE,"",AH34-AI35) | AN35: =CONCATENATE(LEFT(AL35,3),AM35) | AO35: =IF(COUNTIF(A:AG,AN35)>217,"",COUNTIF(A:AG,AN35))
AF36: =IF(MAX(D36:AC36)>0,MAX(D36:AC36),"") | AH36: =IF(COUNT(C36:AD36)-1>0,COUNT(C36:AD36)-1,"") | AI36: =IF(COUNTA(D36:AC36)=AH35,"- -",COUNTA(D36:AC36)) -> 0 | AJ36: =IF(ISERROR(AH35-AI36)=TRUE,"",AH35-AI36) -> 10 | AN36: =CONCATENATE(LEFT(AL36,3),AM36) | AO36: =IF(COUNTIF(A:AG,AN36)>217,"",COUNTIF(A:AG,AN36))
A37: Q | H37: =AF35+2 -> 210 | J37: =H37+2 -> 212 | L37: =J37+2 -> 214 | N37: =L37+2 -> 216 | P37: =N37+1 -> 217 | R37: =P37-2 -> 215 | T37: =R37-2 -> 213 | U37: 1 | V37: =T37-2 -> 211 | X37: =V37-2 -> 209 | AF37: =IF(MAX(D37:AC37)>0,MAX(D37:AC37),"") -> 217 | AH37: =IF(COUNT(C37:AD37)-1>0,COUNT(C37:AD37)-1,"") -> 9 | AJ37: =IF(ISERROR(AH36-AI37)=TRUE,"",AH36-AI37) | AN37: =CONCATENATE(LEFT(AL37,3),AM37) | AO37: =IF(COUNTIF(A:AG,AN37)>217,"",COUNTIF(A:AG,AN37))
AF38: =IF(MAX(D38:AC38)>0,MAX(D38:AC38),"") | AH38: =IF(COUNT(C38:AD38)-1>0,COUNT(C38:AD38)-1,"") | AI38: =IF(COUNTA(D38:AC38)=AH37,"- -",COUNTA(D38:AC38)) -> 0 | AJ38: =IF(ISERROR(AH37-AI38)=TRUE,"",AH37-AI38) -> 9 | AN38: =CONCATENATE(LEFT(AL38,3),AM38) | AO38: =IF(COUNTIF(A:AG,AN38)>217,"",COUNTIF(A:AG,AN38))
AN39: =CONCATENATE(LEFT(AL39,3),AM39) | AO39: =IF(COUNTIF(A:AG,AN39)>217,"",COUNTIF(A:AG,AN39))
A40: Pairs | Z40: Impairs | AN40: =CONCATENATE(LEFT(AL40,3),AM40) | AO40: =IF(COUNTIF(A:AG,AN40)>217,"",COUNTIF(A:AG,AN40))
AN41: =CONCATENATE(LEFT(AL41,3),AM41) | AO41: =IF(COUNTIF(A:AG,AN41)>217,"",COUNTIF(A:AG,AN41))
AN42: =CONCATENATE(LEFT(AL42,3),AM42) | AO42: =IF(COUNTIF(A:AG,AN42)>217,"",COUNTIF(A:AG,AN42))
AN43: =CONCATENATE(LEFT(AL43,3),AM43) | AO43: =IF(COUNTIF(A:AG,AN43)>217,"",COUNTIF(A:AG,AN43))
AN44: =CONCATENATE(LEFT(AL44,3),AM44) | AO44: =IF(COUNTIF(A:AG,AN44)>217,"",COUNTIF(A:AG,AN44))
AN45: =CONCATENATE(LEFT(AL45,3),AM45) | AO45: =IF(COUNTIF(A:AG,AN45)>217,"",COUNTIF(A:AG,AN45))
AN46: =CONCATENATE(LEFT(AL46,3),AM46) | AO46: =IF(COUNTIF(A:AG,AN46)>217,"",COUNTIF(A:AG,AN46))
AN47: =CONCATENATE(LEFT(AL47,3),AM47) | AO47: =IF(COUNTIF(A:AG,AN47)>217,"",COUNTIF(A:AG,AN47))
AN48: =CONCATENATE(LEFT(AL48,3),AM48) | AO48: =IF(COUNTIF(A:AG,AN48)>217,"",COUNTIF(A:AG,AN48))
AN49: =CONCATENATE(LEFT(AL49,3),AM49) | AO49: =IF(COUNTIF(A:AG,AN49)>217,"",COUNTIF(A:AG,AN49))
AN50: =CONCATENATE(LEFT(AL50,3),AM50) | AO50: =IF(COUNTIF(A:AG,AN50)>217,"",COUNTIF(A:AG,AN50))
AN51: =CONCATENATE(LEFT(AL51,3),AM51) | AO51: =IF(COUNTIF(A:AG,AN51)>217,"",COUNTIF(A:AG,AN51))
AN52: =CONCATENATE(LEFT(AL52,3),AM52) | AO52: =IF(COUNTIF(A:AG,AN52)>217,"",COUNTIF(A:AG,AN52))
... AN98: =CONCATENATE(LEFT(AL98,3),AM98) | AO98: =IF(COUNTIF(A:AG,AN98)>217,"",COUNTIF(A:AG,AN98))
AH100: =AH1 -> Places | AI100: =AI1 -> Occupées | AJ100: =AJ1 -> Libres | AO100: =AO1 -> Placés: 0
AH101: =SUM(AH3:AH100) -> 217 | AI101: =SUM(AI3:AI100) -> 0 | AJ101: =SUM(AJ3:AJ100) -> 217 | AO101: =SUM(AO2:AO99) -> 0

Sheet Feuil2
A1: =Feuil1!AL1 -> Nom de la réservation | B1: =Feuil1!AM1 -> Nombre | C1: =Feuil1!AN1 -> Code | D1: =Feuil1!AQ1 -> Places
A2: =Feuil1!AL2 -> 0 | B2: =Feuil1!AM2 -> 0 | C2: =Feuil1!AN2 | D2: =Feuil1!AQ2 -> 0
A3: =Feuil1!AL3 -> 0 | B3: =Feuil1!AM3 -> 0 | C3: =Feuil1!AN3 | D3: =Feuil1!AQ3 -> 0
A4: =Feuil1!AL4 -> 0 | B4: =Feuil1!AM4 -> 0 | C4: =Feuil1!AN4 | D4: =Feuil1!AQ4 -> 0
A5: =Feuil1!AL5 -> 0 | B5: =Feuil1!AM5 -> 0 | C5: =Feuil1!AN5 | D5: =Feuil1!AQ5 -> 0
A6: =Feuil1!AL6 -> 0 | B6: =Feuil1!AM6 -> 0 | C6: =Feuil1!AN6 | D6: =Feuil1!AQ6 -> 0
A7: =Feuil1!AL7 -> 0 | B7: =Feuil1!AM7 -> 0 | C7: =Feuil1!AN7 | D7: =Feuil1!AQ7 -> 0
A8: =Feuil1!AL8 -> 0 | B8: =Feuil1!AM8 -> 0 | C8: =Feuil1!AN8 | D8: =Feuil1!AQ8 -> 0
A9: =Feuil1!AL9 -> 0 | B9: =Feuil1!AM9 -> 0 | C9: =Feuil1!AN9 | D9: =Feuil1!AQ9 -> 0
A10: =Feuil1!AL10 -> 0 | B10: =Feuil1!AM10 -> 0 | C10: =Feuil1!AN10 | D10: =Feuil1!AQ10 -> 0
A11: =Feuil1!AL11 -> 0 | B11: =Feuil1!AM11 -> 0 | C11: =Feuil1!AN11 | D11: =Feuil1!AQ11 -> 0
A12: =Feuil1!AL12 -> 0 | B12: =Feuil1!AM12 -> 0 | C12: =Feuil1!AN12 | D12: =Feuil1!AQ12 -> 0
... A38: =Feuil1!AL38 -> 0 | B38: =Feuil1!AM38 -> 0 | C38: =Feuil1!AN38 | D38: =Feuil1!AQ38 -> 0
A39: =Feuil1!AL100 -> 0 | B39: =Feuil1!AM100 -> 0 | C39: =Feuil1!AN100 -> 0 | D39: =Feuil1!AQ39 -> 0
A40: =Feuil1!AL101 -> 0 | B40: =Feuil1!AM101 -> 0 | C40: =Feuil1!AN101 -> 0 | D40: =Feuil1!AQ40 -> 0
A41: =Feuil1!AL41 -> 0 | B41: =Feuil1!AM41 -> 0 | C41: =Feuil1!AN41 | D41: =Feuil1!AQ41 -> 0
A42: =Feuil1!AL42 -> 0 | B42: =Feuil1!AM42 -> 0 | C42: =Feuil1!AN42 | D42: =Feuil1!AQ42 -> 0
A43: =Feuil1!AL43 -> 0 | B43: =Feuil1!AM43 -> 0 | C43: =Feuil1!AN43 | D43: =Feuil1!AQ43 -> 0
A44: =Feuil1!AL44 -> 0 | B44: =Feuil1!AM44 -> 0 | C44: =Feuil1!AN44 | D44: =Feuil1!AQ44 -> 0
A45: =Feuil1!AL45 -> 0 | B45: =Feuil1!AM45 -> 0 | C45: =Feuil1!AN45 | D45: =Feuil1!AQ45 -> 0
A46: =Feuil1!AL46 -> 0 | B46: =Feuil1!AM46 -> 0 | C46: =Feuil1!AN46 | D46: =Feuil1!AQ46 -> 0
A47: =Feuil1!AL47 -> 0 | B47: =Feuil1!AM47 -> 0 | C47: =Feuil1!AN47 | D47: =Feuil1!AQ47 -> 0
A48: =Feuil1!AL48 -> 0 | B48: =Feuil1!AM48 -> 0 | C48: =Feuil1!AN48 | D48: =Feuil1!AQ48 -> 0
A49: =Feuil1!AL49 -> 0 | B49: =Feuil1!AM49 -> 0 | C49: =Feuil1!AN49 | D49: =Feuil1!AQ49 -> 0
A50: =Feuil1!AL50 -> 0 | B50: =Feuil1!AM50 -> 0 | C50: =Feuil1!AN50 | D50: =Feuil1!AQ50 -> 0
A51: =Feuil1!AL51 -> 0 | B51: =Feuil1!AM51 -> 0 | C51: =Feuil1!AN51 | D51: =Feuil1!AQ51 -> 0
A52: =Feuil1!AL52 -> 0 | B52: =Feuil1!AM52 -> 0 | C52: =Feuil1!AN52 | D52: =Feuil1!AQ52 -> 0
... A99: =Feuil1!AL99 -> 0 | B99: =Feuil1!AM99 -> 0 | C99: =Feuil1!AN99 -> 0 | D99: =Feuil1!AQ99 -> 0
A100: =Feuil1!#REF! -> #REF! | B100: =Feuil1!#REF! -> #REF! | C100: =Feuil1!#REF! -> #REF! | D100: =Feuil1!AQ100 -> 0
A101: =Feuil1!#REF! -> #REF! | B101: =Feuil1!#REF! -> #REF! | C101: =Feuil1!#REF! -> #REF! | D101: =Feuil1!AQ101 -> 0
A102: =Feuil1!AL102 -> 0 | B102: =Feuil1!AM102 -> 0 | C102: =Feuil1!AN102 -> 0 | D102: =Feuil1!AQ102 -> 0
A103: =Feuil1!AL103 -> 0 | B103: =Feuil1!AM103 -> 0 | C103: =Feuil1!AN103 -> 0 | D103: =Feuil1!AQ103 -> 0
A104: =Feuil1!AL104 -> 0 | B104: =Feuil1!AM104 -> 0 | C104: =Feuil1!AN104 -> 0 | D104: =Feuil1!AQ104 -> 0
A105: =Feuil1!AL105 -> 0 | B105: =Feuil1!AM105 -> 0 | C105: =Feuil1!AN105 -> 0 | D105: =Feuil1!AQ105 -> 0
A106: =Feuil1!AL106 -> 0 | B106: =Feuil1!AM106 -> 0 | C106: =Feuil1!AN106 -> 0 | D106: =Feuil1!AQ106 -> 0
A107: =Feuil1!AL107 -> 0 | B107: =Feuil1!AM107 -> 0 | C107: =Feuil1!AN107 -> 0 | D107: =Feuil1!AQ107 -> 0
A108: =Feuil1!AL108 -> 0 | B108: =Feuil1!AM108 -> 0 | C108: =Feuil1!AN108 -> 0 | D108: =Feuil1!AQ108 -> 0
A109: =Feuil1!AL109 -> 0 | B109: =Feuil1!AM109 -> 0 | C109: =Feuil1!AN109 -> 0 | D109: =Feuil1!AQ109 -> 0
A110: =Feuil1!AL110 -> 0 | B110: =Feuil1!AM110 -> 0 | C110: =Feuil1!AN110 -> 0 | D110: =Feuil1!AQ110 -> 0
A111: =Feuil1!AL111 -> 0 | B111: =Feuil1!AM111 -> 0 | C111: =Feuil1!AN111 -> 0 | D111: =Feuil1!AQ111 -> 0
A112: =Feuil1!AL112 -> 0 | B112: =Feuil1!AM112 -> 0 | C112: =Feuil1!AN112 -> 0 | D112: =Feuil1!AQ112 -> 0
A113: =Feuil1!AL113 -> 0 | B113: =Feuil1!AM113 -> 0 | C113: =Feuil1!AN113 -> 0 | D113: =Feuil1!AQ113 -> 0
... A217: =Feuil1!AL217 -> 0 | B217: =Feuil1!AM217 -> 0 | C217: =Feuil1!AN217 -> 0 | D217: =Feuil1!AQ217 -> 0
