Workbook

Sheet Feuil1
M1: réf. identique si qu'une seule sous étapes
A2: N° étape & N° sous étape & Description phase & critère 1&2&3&4 | B2: N° étape & critère 1&2 &3&4& référence | C2: référence | D2: N° étape | E2: N° sous étape | F2: Description phase | G2: critère 1 | H2: critère 2 | I2: critère 3 | J2: critère 4 | K2: Sous étape unique ? | L2: Nb de réf. Identique | M2: 1 | N2: 2 | O2: 3 | P2: 4 | Q2: 5 | R2: 6 | S2: 7 | T2: 8 | U2: 9 | V2: 10 | W2: 11 | X2: 12 | Y2: 13 | Z2: 14 | AA2: 15 | AB2: 16 | AC2: 17 | AD2: 18 | AE2: 19 | AF2: 20 | AG2: 21 | AH2: 22 | AI2: 23 | AJ2: 24 | AK2: 25 | AL2: 26 | AM2: 27 | AN2: 28 | AO2: 29 | AP2: 30 | AQ2: 31 | AR2: 32 | AS2: 33 | AT2: 34 | AU2: 35 | AV2: 36 | AW2: 37 | AX2: 38 | AY2: 39 | AZ2: 40 | BA2: 41 | BB2: 42 | BC2: 43 | BD2: 44 | BE2: 45 | BF2: 46 | BG2: 47 | BH2: 48 | BI2: 49 | BJ2: 50 | BK2: 51 | BL2: 52 | BM2: 53 | BN2: 54 | BO2: 55 | BP2: 56 | BQ2: 57 | BR2: 58 | BS2: 59 | BT2: 60 | BU2: 61 | BV2: 62 | BW2: 63 | BX2: 64 | BY2: 65 | BZ2: 66 | CA2: 67 | CB2: 68 | CC2: 69 | CD2: 70 | CE2: 71 | CF2: 72 | CG2: 73 | CH2: 74 | CI2: 75 | CJ2: 76 | CK2: 77 | CL2: 78 | CM2: 79 | CN2: 80 | CO2: 81 | CP2: 82 | CQ2: 83 | CR2: 84 | CS2: 85 | CT2: 86 | CU2: 87 | CV2: 88 | CW2: 89 | CX2: 90 | CY2: 91 | CZ2: 92 | DA2: 93 | DB2: 94 | DC2: 95 | DD2: 96 | DE2: 97 | DF2: 98 | DG2: 99 | DH2: 100
A3: =D3&E3&F3&G3&H3&I3&J3 -> 11Description de la sous étape 1 de la réf. 00000001 aba12 | B3: =D3&G3&H3&I3&J3&C3 -> 1aba1200000001 | C3: 00000001 | D3: 1 | E3: 1 | F3: Description de la sous étape 1 de la réf. 00000001 | G3: a | H3: b | I3: a | J3: 12 | K3: =IF($B3=OFFSET(INDIRECT("B"&MATCH($B3,$B:$B,0)),1,0),"FAUX","VRAI") -> FAUX | L3: =100-COUNTBLANK(M3:DH3) -> 4 | M3: =IF($A3=OFFSET(INDIRECT("A"&MATCH($A3,$A:$A,0)),Liste!A$1,0),OFFSET(INDIRECT("A"&MATCH($A3,$A:$A,0)),Liste!A$1,2),"") -> 00000001 | N3: =IF($A3=OFFSET(INDIRECT("A"&MATCH($A3,$A:$A,0)),Liste!B$1,0),OFFSET(INDIRECT("A"&MATCH($A3,$A:$A,0)),Liste!B$1,2),"") | O3: =IF($A3=OFFSET(INDIRECT("A"&MATCH($A3,$A:$A,0)),Liste!C$1,0),OFFSET(INDIRECT("A"&MATCH($A3,$A:$A,0)),Liste!C$1,2),"") -> 00000005 | P3: =IF($A3=OFFSET(INDIRECT("A"&MATCH($A3,$A:$A,0)),Liste!D$1,0),OFFSET(INDIRECT("A"&MATCH($A3,$A:$A,0)),Liste!D$1,2),"") | Q3: =IF($A3=OFFSET(INDIRECT("A"&MATCH($A3,$A:$A,0)),Liste!E$1,0),OFFSET(INDIRECT("A"&MATCH($A3,$A:$A,0)),Liste!E$1,2),"") -> 00000006 | R3: =IF($A3=OFFSET(INDIRECT("A"&MATCH($A3,$A:$A,0)),Liste!F$1,0),OFFSET(INDIRECT("A"&MATCH($A3,$A:$A,0)),Liste!F$1,2),"") -> 00000007 | S3: =IF($A3=OFFSET(INDIRECT("A"&MATCH($A3,$A:$A,0)),Liste!G$1,0),OFFSET(INDIRECT("A"&MATCH($A3,$A:$A,0)),Liste!G$1,2),"") | T3: =IF($A3=OFFSET(INDIRECT("A"&MATCH($A3,$A:$A,0)),Liste!H$1,0),OFFSET(INDIRECT("A"&MATCH($A3,$A:$A,0)),Liste!H$1,2),"") | ... DH3: =IF($A3=OFFSET(INDIRECT("A"&MATCH($A3,$A:$A,0)),Liste!CV$1,0),OFFSET(INDIRECT("A"&MATCH($A3,$A:$A,0)),Liste!CV$1,2),"")
A4: =D4&E4&F4&G4&H4&I4&J4 -> 12Description de la sous étape 2 de la réf. 00000001 aba12 | B4: =D4&G4&H4&I4&J4&C4 -> 1aba1200000001 | C4: 00000001 | D4: 1 | E4: 2 | F4: Description de la sous étape 2 de la réf. 00000001 | G4: a | H4: b | I4: a | J4: 12 | K4: =IF($B4=OFFSET(INDIRECT("B"&MATCH($B4,$B:$B,0)),1,0),"FAUX","VRAI") -> FAUX | L4: =100-COUNTBLANK(M4:DH4) -> 3 | M4: =IF($A4=OFFSET(INDIRECT("A"&MATCH($A4,$A:$A,0)),Liste!A$1,0),OFFSET(INDIRECT("A"&MATCH($A4,$A:$A,0)),Liste!A$1,2),"") -> 00000001 | N4: =IF($A4=OFFSET(INDIRECT("A"&MATCH($A4,$A:$A,0)),Liste!B$1,0),OFFSET(INDIRECT("A"&MATCH($A4,$A:$A,0)),Liste!B$1,2),"") | O4: =IF($A4=OFFSET(INDIRECT("A"&MATCH($A4,$A:$A,0)),Liste!C$1,0),OFFSET(INDIRECT("A"&MATCH($A4,$A:$A,0)),Liste!C$1,2),"") -> 00000005 | P4: =IF($A4=OFFSET(INDIRECT("A"&MATCH($A4,$A:$A,0)),Liste!D$1,0),OFFSET(INDIRECT("A"&MATCH($A4,$A:$A,0)),Liste!D$1,2),"") | Q4: =IF($A4=OFFSET(INDIRECT("A"&MATCH($A4,$A:$A,0)),Liste!E$1,0),OFFSET(INDIRECT("A"&MATCH($A4,$A:$A,0)),Liste!E$1,2),"") | R4: =IF($A4=OFFSET(INDIRECT("A"&MATCH($A4,$A:$A,0)),Liste!F$1,0),OFFSET(INDIRECT("A"&MATCH($A4,$A:$A,0)),Liste!F$1,2),"") -> 00000007 | S4: =IF($A4=OFFSET(INDIRECT("A"&MATCH($A4,$A:$A,0)),Liste!G$1,0),OFFSET(INDIRECT("A"&MATCH($A4,$A:$A,0)),Liste!G$1,2),"") | T4: =IF($A4=OFFSET(INDIRECT("A"&MATCH($A4,$A:$A,0)),Liste!H$1,0),OFFSET(INDIRECT("A"&MATCH($A4,$A:$A,0)),Liste!H$1,2),"") | ... DH4: =IF($A4=OFFSET(INDIRECT("A"&MATCH($A4,$A:$A,0)),Liste!CV$1,0),OFFSET(INDIRECT("A"&MATCH($A4,$A:$A,0)),Liste!CV$1,2),"")
A5: =D5&E5&F5&G5&H5&I5&J5 -> 11Description de la sous étape 1 de la réf. 00000001 aba12 | B5: =D5&G5&H5&I5&J5&C5 -> 1aba1200000005 | C5: 00000005 | D5: 1 | E5: 1 | F5: Description de la sous étape 1 de la réf. 00000001 | G5: a | H5: b | I5: a | J5: 12 | K5: =IF($B5=OFFSET(INDIRECT("B"&MATCH($B5,$B:$B,0)),1,0),"FAUX","VRAI") -> FAUX | L5: =100-COUNTBLANK(M5:DH5) -> 4 | M5: =IF($A5=OFFSET(INDIRECT("A"&MATCH($A5,$A:$A,0)),Liste!A$1,0),OFFSET(INDIRECT("A"&MATCH($A5,$A:$A,0)),Liste!A$1,2),"") -> 00000001 | N5: =IF($A5=OFFSET(INDIRECT("A"&MATCH($A5,$A:$A,0)),Liste!B$1,0),OFFSET(INDIRECT("A"&MATCH($A5,$A:$A,0)),Liste!B$1,2),"") | O5: =IF($A5=OFFSET(INDIRECT("A"&MATCH($A5,$A:$A,0)),Liste!C$1,0),OFFSET(INDIRECT("A"&MATCH($A5,$A:$A,0)),Liste!C$1,2),"") -> 00000005 | P5: =IF($A5=OFFSET(INDIRECT("A"&MATCH($A5,$A:$A,0)),Liste!D$1,0),OFFSET(INDIRECT("A"&MATCH($A5,$A:$A,0)),Liste!D$1,2),"") | Q5: =IF($A5=OFFSET(INDIRECT("A"&MATCH($A5,$A:$A,0)),Liste!E$1,0),OFFSET(INDIRECT("A"&MATCH($A5,$A:$A,0)),Liste!E$1,2),"") -> 00000006 | R5: =IF($A5=OFFSET(INDIRECT("A"&MATCH($A5,$A:$A,0)),Liste!F$1,0),OFFSET(INDIRECT("A"&MATCH($A5,$A:$A,0)),Liste!F$1,2),"") -> 00000007 | S5: =IF($A5=OFFSET(INDIRECT("A"&MATCH($A5,$A:$A,0)),Liste!G$1,0),OFFSET(INDIRECT("A"&MATCH($A5,$A:$A,0)),Liste!G$1,2),"") | T5: =IF($A5=OFFSET(INDIRECT("A"&MATCH($A5,$A:$A,0)),Liste!H$1,0),OFFSET(INDIRECT("A"&MATCH($A5,$A:$A,0)),Liste!H$1,2),"") | ... DH5: =IF($A5=OFFSET(INDIRECT("A"&MATCH($A5,$A:$A,0)),Liste!CV$1,0),OFFSET(INDIRECT("A"&MATCH($A5,$A:$A,0)),Liste!CV$1,2),"")
A6: =D6&E6&F6&G6&H6&I6&J6 -> 12Description de la sous étape 2 de la réf. 00000001 aba12 | B6: =D6&G6&H6&I6&J6&C6 -> 1aba1200000005 | C6: 00000005 | D6: 1 | E6: 2 | F6: Description de la sous étape 2 de la réf. 00000001 | G6: a | H6: b | I6: a | J6: 12 | K6: =IF($B6=OFFSET(INDIRECT("B"&MATCH($B6,$B:$B,0)),1,0),"FAUX","VRAI") -> FAUX | L6: =100-COUNTBLANK(M6:DH6) -> 3 | M6: =IF($A6=OFFSET(INDIRECT("A"&MATCH($A6,$A:$A,0)),Liste!A$1,0),OFFSET(INDIRECT("A"&MATCH($A6,$A:$A,0)),Liste!A$1,2),"") -> 00000001 | N6: =IF($A6=OFFSET(INDIRECT("A"&MATCH($A6,$A:$A,0)),Liste!B$1,0),OFFSET(INDIRECT("A"&MATCH($A6,$A:$A,0)),Liste!B$1,2),"") | O6: =IF($A6=OFFSET(INDIRECT("A"&MATCH($A6,$A:$A,0)),Liste!C$1,0),OFFSET(INDIRECT("A"&MATCH($A6,$A:$A,0)),Liste!C$1,2),"") -> 00000005 | P6: =IF($A6=OFFSET(INDIRECT("A"&MATCH($A6,$A:$A,0)),Liste!D$1,0),OFFSET(INDIRECT("A"&MATCH($A6,$A:$A,0)),Liste!D$1,2),"") | Q6: =IF($A6=OFFSET(INDIRECT("A"&MATCH($A6,$A:$A,0)),Liste!E$1,0),OFFSET(INDIRECT("A"&MATCH($A6,$A:$A,0)),Liste!E$1,2),"") | R6: =IF($A6=OFFSET(INDIRECT("A"&MATCH($A6,$A:$A,0)),Liste!F$1,0),OFFSET(INDIRECT("A"&MATCH($A6,$A:$A,0)),Liste!F$1,2),"") -> 00000007 | S6: =IF($A6=OFFSET(INDIRECT("A"&MATCH($A6,$A:$A,0)),Liste!G$1,0),OFFSET(INDIRECT("A"&MATCH($A6,$A:$A,0)),Liste!G$1,2),"") | T6: =IF($A6=OFFSET(INDIRECT("A"&MATCH($A6,$A:$A,0)),Liste!H$1,0),OFFSET(INDIRECT("A"&MATCH($A6,$A:$A,0)),Liste!H$1,2),"") | ... DH6: =IF($A6=OFFSET(INDIRECT("A"&MATCH($A6,$A:$A,0)),Liste!CV$1,0),OFFSET(INDIRECT("A"&MATCH($A6,$A:$A,0)),Liste!CV$1,2),"")
A7: =D7&E7&F7&G7&H7&I7&J7 -> 11Description de la sous étape 1 de la réf. 00000001 aba12 | B7: =D7&G7&H7&I7&J7&C7 -> 1aba1200000006 | C7: 00000006 | D7: 1 | E7: 1 | F7: Description de la sous étape 1 de la réf. 00000001 | G7: a | H7: b | I7: a | J7: 12 | K7: =IF($B7=OFFSET(INDIRECT("B"&MATCH($B7,$B:$B,0)),1,0),"FAUX","VRAI") -> VRAI | L7: =100-COUNTBLANK(M7:DH7) -> 4 | M7: =IF($A7=OFFSET(INDIRECT("A"&MATCH($A7,$A:$A,0)),Liste!A$1,0),OFFSET(INDIRECT("A"&MATCH($A7,$A:$A,0)),Liste!A$1,2),"") -> 00000001 | N7: =IF($A7=OFFSET(INDIRECT("A"&MATCH($A7,$A:$A,0)),Liste!B$1,0),OFFSET(INDIRECT("A"&MATCH($A7,$A:$A,0)),Liste!B$1,2),"") | O7: =IF($A7=OFFSET(INDIRECT("A"&MATCH($A7,$A:$A,0)),Liste!C$1,0),OFFSET(INDIRECT("A"&MATCH($A7,$A:$A,0)),Liste!C$1,2),"") -> 00000005 | P7: =IF($A7=OFFSET(INDIRECT("A"&MATCH($A7,$A:$A,0)),Liste!D$1,0),OFFSET(INDIRECT("A"&MATCH($A7,$A:$A,0)),Liste!D$1,2),"") | Q7: =IF($A7=OFFSET(INDIRECT("A"&MATCH($A7,$A:$A,0)),Liste!E$1,0),OFFSET(INDIRECT("A"&MATCH($A7,$A:$A,0)),Liste!E$1,2),"") -> 00000006 | R7: =IF($A7=OFFSET(INDIRECT("A"&MATCH($A7,$A:$A,0)),Liste!F$1,0),OFFSET(INDIRECT("A"&MATCH($A7,$A:$A,0)),Liste!F$1,2),"") -> 00000007 | S7: =IF($A7=OFFSET(INDIRECT("A"&MATCH($A7,$A:$A,0)),Liste!G$1,0),OFFSET(INDIRECT("A"&MATCH($A7,$A:$A,0)),Liste!G$1,2),"") | T7: =IF($A7=OFFSET(INDIRECT("A"&MATCH($A7,$A:$A,0)),Liste!H$1,0),OFFSET(INDIRECT("A"&MATCH($A7,$A:$A,0)),Liste!H$1,2),"") | ... DH7: =IF($A7=OFFSET(INDIRECT("A"&MATCH($A7,$A:$A,0)),Liste!CV$1,0),OFFSET(INDIRECT("A"&MATCH($A7,$A:$A,0)),Liste!CV$1,2),"")
A8: =D8&E8&F8&G8&H8&I8&J8 -> 11Description de la sous étape 1 de la réf. 00000001 aba12 | B8: =D8&G8&H8&I8&J8&C8 -> 1aba1200000007 | C8: 00000007 | D8: 1 | E8: 1 | F8: Description de la sous étape 1 de la réf. 00000001 | G8: a | H8: b | I8: a | J8: 12 | K8: =IF($B8=OFFSET(INDIRECT("B"&MATCH($B8,$B:$B,0)),1,0),"FAUX","VRAI") -> FAUX | L8: =100-COUNTBLANK(M8:DH8) -> 4 | M8: =IF($A8=OFFSET(INDIRECT("A"&MATCH($A8,$A:$A,0)),Liste!A$1,0),OFFSET(INDIRECT("A"&MATCH($A8,$A:$A,0)),Liste!A$1,2),"") -> 00000001 | N8: =IF($A8=OFFSET(INDIRECT("A"&MATCH($A8,$A:$A,0)),Liste!B$1,0),OFFSET(INDIRECT("A"&MATCH($A8,$A:$A,0)),Liste!B$1,2),"") | O8: =IF($A8=OFFSET(INDIRECT("A"&MATCH($A8,$A:$A,0)),Liste!C$1,0),OFFSET(INDIRECT("A"&MATCH($A8,$A:$A,0)),Liste!C$1,2),"") -> 00000005 | P8: =IF($A8=OFFSET(INDIRECT("A"&MATCH($A8,$A:$A,0)),Liste!D$1,0),OFFSET(INDIRECT("A"&MATCH($A8,$A:$A,0)),Liste!D$1,2),"") | Q8: =IF($A8=OFFSET(INDIRECT("A"&MATCH($A8,$A:$A,0)),Liste!E$1,0),OFFSET(INDIRECT("A"&MATCH($A8,$A:$A,0)),Liste!E$1,2),"") -> 00000006 | R8: =IF($A8=OFFSET(INDIRECT("A"&MATCH($A8,$A:$A,0)),Liste!F$1,0),OFFSET(INDIRECT("A"&MATCH($A8,$A:$A,0)),Liste!F$1,2),"") -> 00000007 | S8: =IF($A8=OFFSET(INDIRECT("A"&MATCH($A8,$A:$A,0)),Liste!G$1,0),OFFSET(INDIRECT("A"&MATCH($A8,$A:$A,0)),Liste!G$1,2),"") | T8: =IF($A8=OFFSET(INDIRECT("A"&MATCH($A8,$A:$A,0)),Liste!H$1,0),OFFSET(INDIRECT("A"&MATCH($A8,$A:$A,0)),Liste!H$1,2),"") | ... DH8: =IF($A8=OFFSET(INDIRECT("A"&MATCH($A8,$A:$A,0)),Liste!CV$1,0),OFFSET(INDIRECT("A"&MATCH($A8,$A:$A,0)),Liste!CV$1,2),"")
A9: =D9&E9&F9&G9&H9&I9&J9 -> 12Description de la sous étape 2 de la réf. 00000001 aba12 | B9: =D9&G9&H9&I9&J9&C9 -> 1aba1200000007 | C9: 00000007 | D9: 1 | E9: 2 | F9: Description de la sous étape 2 de la réf. 00000001 | G9: a | H9: b | I9: a | J9: 12 | K9: =IF($B9=OFFSET(INDIRECT("B"&MATCH($B9,$B:$B,0)),1,0),"FAUX","VRAI") -> FAUX | L9: =100-COUNTBLANK(M9:DH9) -> 3 | M9: =IF($A9=OFFSET(INDIRECT("A"&MATCH($A9,$A:$A,0)),Liste!A$1,0),OFFSET(INDIRECT("A"&MATCH($A9,$A:$A,0)),Liste!A$1,2),"") -> 00000001 | N9: =IF($A9=OFFSET(INDIRECT("A"&MATCH($A9,$A:$A,0)),Liste!B$1,0),OFFSET(INDIRECT("A"&MATCH($A9,$A:$A,0)),Liste!B$1,2),"") | O9: =IF($A9=OFFSET(INDIRECT("A"&MATCH($A9,$A:$A,0)),Liste!C$1,0),OFFSET(INDIRECT("A"&MATCH($A9,$A:$A,0)),Liste!C$1,2),"") -> 00000005 | P9: =IF($A9=OFFSET(INDIRECT("A"&MATCH($A9,$A:$A,0)),Liste!D$1,0),OFFSET(INDIRECT("A"&MATCH($A9,$A:$A,0)),Liste!D$1,2),"") | Q9: =IF($A9=OFFSET(INDIRECT("A"&MATCH($A9,$A:$A,0)),Liste!E$1,0),OFFSET(INDIRECT("A"&MATCH($A9,$A:$A,0)),Liste!E$1,2),"") | R9: =IF($A9=OFFSET(INDIRECT("A"&MATCH($A9,$A:$A,0)),Liste!F$1,0),OFFSET(INDIRECT("A"&MATCH($A9,$A:$A,0)),Liste!F$1,2),"") -> 00000007 | S9: =IF($A9=OFFSET(INDIRECT("A"&MATCH($A9,$A:$A,0)),Liste!G$1,0),OFFSET(INDIRECT("A"&MATCH($A9,$A:$A,0)),Liste!G$1,2),"") | T9: =IF($A9=OFFSET(INDIRECT("A"&MATCH($A9,$A:$A,0)),Liste!H$1,0),OFFSET(INDIRECT("A"&MATCH($A9,$A:$A,0)),Liste!H$1,2),"") | ... DH9: =IF($A9=OFFSET(INDIRECT("A"&MATCH($A9,$A:$A,0)),Liste!CV$1,0),OFFSET(INDIRECT("A"&MATCH($A9,$A:$A,0)),Liste!CV$1,2),"")
A10: =D10&E10&F10&G10&H10&I10&J10 -> 13Description de la sous étape 2 de la réf. 00000001 aba12 | B10: =D10&G10&H10&I10&J10&C10 -> 1aba1200000007 | C10: 00000007 | D10: 1 | E10: 3 | F10: Description de la sous étape 2 de la réf. 00000001 | G10: a | H10: b | I10: a | J10: 12 | K10: =IF($B10=OFFSET(INDIRECT("B"&MATCH($B10,$B:$B,0)),1,0),"FAUX","VRAI") -> FAUX | L10: =100-COUNTBLANK(M10:DH10) -> 1 | M10: =IF($A10=OFFSET(INDIRECT("A"&MATCH($A10,$A:$A,0)),Liste!A$1,0),OFFSET(INDIRECT("A"&MATCH($A10,$A:$A,0)),Liste!A$1,2),"") -> 00000007 | N10: =IF($A10=OFFSET(INDIRECT("A"&MATCH($A10,$A:$A,0)),Liste!B$1,0),OFFSET(INDIRECT("A"&MATCH($A10,$A:$A,0)),Liste!B$1,2),"") | O10: =IF($A10=OFFSET(INDIRECT("A"&MATCH($A10,$A:$A,0)),Liste!C$1,0),OFFSET(INDIRECT("A"&MATCH($A10,$A:$A,0)),Liste!C$1,2),"") | P10: =IF($A10=OFFSET(INDIRECT("A"&MATCH($A10,$A:$A,0)),Liste!D$1,0),OFFSET(INDIRECT("A"&MATCH($A10,$A:$A,0)),Liste!D$1,2),"") | Q10: =IF($A10=OFFSET(INDIRECT("A"&MATCH($A10,$A:$A,0)),Liste!E$1,0),OFFSET(INDIRECT("A"&MATCH($A10,$A:$A,0)),Liste!E$1,2),"") | R10: =IF($A10=OFFSET(INDIRECT("A"&MATCH($A10,$A:$A,0)),Liste!F$1,0),OFFSET(INDIRECT("A"&MATCH($A10,$A:$A,0)),Liste!F$1,2),"") | S10: =IF($A10=OFFSET(INDIRECT("A"&MATCH($A10,$A:$A,0)),Liste!G$1,0),OFFSET(INDIRECT("A"&MATCH($A10,$A:$A,0)),Liste!G$1,2),"") | T10: =IF($A10=OFFSET(INDIRECT("A"&MATCH($A10,$A:$A,0)),Liste!H$1,0),OFFSET(INDIRECT("A"&MATCH($A10,$A:$A,0)),Liste!H$1,2),"") | ... DH10: =IF($A10=OFFSET(INDIRECT("A"&MATCH($A10,$A:$A,0)),Liste!CV$1,0),OFFSET(INDIRECT("A"&MATCH($A10,$A:$A,0)),Liste!CV$1,2),"")
A11: =D11&E11&F11&G11&H11&I11&J11 -> 11Description de la sous étape 1 de la réf. 00000002 vaaa | B11: =D11&G11&H11&I11&J11&C11 -> 1vaaa00000002 | C11: 00000002 | D11: 1 | E11: 1 | F11: Description de la sous étape 1 de la réf. 00000002 | G11: v | H11: a | I11: a | J11: a | K11: =IF($B11=OFFSET(INDIRECT("B"&MATCH($B11,$B:$B,0)),1,0),"FAUX","VRAI") -> VRAI | L11: =100-COUNTBLANK(M11:DH11) -> 3 | M11: =IF($A11=OFFSET(INDIRECT("A"&MATCH($A11,$A:$A,0)),Liste!A$1,0),OFFSET(INDIRECT("A"&MATCH($A11,$A:$A,0)),Liste!A$1,2),"") -> 00000002 | N11: =IF($A11=OFFSET(INDIRECT("A"&MATCH($A11,$A:$A,0)),Liste!B$1,0),OFFSET(INDIRECT("A"&MATCH($A11,$A:$A,0)),Liste!B$1,2),"") -> 00000003 | O11: =IF($A11=OFFSET(INDIRECT("A"&MATCH($A11,$A:$A,0)),Liste!C$1,0),OFFSET(INDIRECT("A"&MATCH($A11,$A:$A,0)),Liste!C$1,2),"") -> 00000004 | P11: =IF($A11=OFFSET(INDIRECT("A"&MATCH($A11,$A:$A,0)),Liste!D$1,0),OFFSET(INDIRECT("A"&MATCH($A11,$A:$A,0)),Liste!D$1,2),"") | Q11: =IF($A11=OFFSET(INDIRECT("A"&MATCH($A11,$A:$A,0)),Liste!E$1,0),OFFSET(INDIRECT("A"&MATCH($A11,$A:$A,0)),Liste!E$1,2),"") | R11: =IF($A11=OFFSET(INDIRECT("A"&MATCH($A11,$A:$A,0)),Liste!F$1,0),OFFSET(INDIRECT("A"&MATCH($A11,$A:$A,0)),Liste!F$1,2),"") | S11: =IF($A11=OFFSET(INDIRECT("A"&MATCH($A11,$A:$A,0)),Liste!G$1,0),OFFSET(INDIRECT("A"&MATCH($A11,$A:$A,0)),Liste!G$1,2),"") | T11: =IF($A11=OFFSET(INDIRECT("A"&MATCH($A11,$A:$A,0)),Liste!H$1,0),OFFSET(INDIRECT("A"&MATCH($A11,$A:$A,0)),Liste!H$1,2),"") | ... DH11: =IF($A11=OFFSET(INDIRECT("A"&MATCH($A11,$A:$A,0)),Liste!CV$1,0),OFFSET(INDIRECT("A"&MATCH($A11,$A:$A,0)),Liste!CV$1,2),"")
A12: =D12&E12&F12&G12&H12&I12&J12 -> 11Description de la sous étape 1 de la réf. 00000002 vaaa | B12: =D12&G12&H12&I12&J12&C12 -> 1vaaa00000003 | C12: 00000003 | D12: 1 | E12: 1 | F12: Description de la sous étape 1 de la réf. 00000002 | G12: v | H12: a | I12: a | J12: a | K12: =IF($B12=OFFSET(INDIRECT("B"&MATCH($B12,$B:$B,0)),1,0),"FAUX","VRAI") -> VRAI | L12: =100-COUNTBLANK(M12:DH12) -> 3 | M12: =IF($A12=OFFSET(INDIRECT("A"&MATCH($A12,$A:$A,0)),Liste!A$1,0),OFFSET(INDIRECT("A"&MATCH($A12,$A:$A,0)),Liste!A$1,2),"") -> 00000002 | N12: =IF($A12=OFFSET(INDIRECT("A"&MATCH($A12,$A:$A,0)),Liste!B$1,0),OFFSET(INDIRECT("A"&MATCH($A12,$A:$A,0)),Liste!B$1,2),"") -> 00000003 | O12: =IF($A12=OFFSET(INDIRECT("A"&MATCH($A12,$A:$A,0)),Liste!C$1,0),OFFSET(INDIRECT("A"&MATCH($A12,$A:$A,0)),Liste!C$1,2),"") -> 00000004 | P12: =IF($A12=OFFSET(INDIRECT("A"&MATCH($A12,$A:$A,0)),Liste!D$1,0),OFFSET(INDIRECT("A"&MATCH($A12,$A:$A,0)),Liste!D$1,2),"") | Q12: =IF($A12=OFFSET(INDIRECT("A"&MATCH($A12,$A:$A,0)),Liste!E$1,0),OFFSET(INDIRECT("A"&MATCH($A12,$A:$A,0)),Liste!E$1,2),"") | R12: =IF($A12=OFFSET(INDIRECT("A"&MATCH($A12,$A:$A,0)),Liste!F$1,0),OFFSET(INDIRECT("A"&MATCH($A12,$A:$A,0)),Liste!F$1,2),"") | S12: =IF($A12=OFFSET(INDIRECT("A"&MATCH($A12,$A:$A,0)),Liste!G$1,0),OFFSET(INDIRECT("A"&MATCH($A12,$A:$A,0)),Liste!G$1,2),"") | T12: =IF($A12=OFFSET(INDIRECT("A"&MATCH($A12,$A:$A,0)),Liste!H$1,0),OFFSET(INDIRECT("A"&MATCH($A12,$A:$A,0)),Liste!H$1,2),"") | ... DH12: =IF($A12=OFFSET(INDIRECT("A"&MATCH($A12,$A:$A,0)),Liste!CV$1,0),OFFSET(INDIRECT("A"&MATCH($A12,$A:$A,0)),Liste!CV$1,2),"")
A13: =D13&E13&F13&G13&H13&I13&J13 -> 11Description de la sous étape 1 de la réf. 00000002 vaaa | B13: =D13&G13&H13&I13&J13&C13 -> 1vaaa00000004 | C13: 00000004 | D13: 1 | E13: 1 | F13: Description de la sous étape 1 de la réf. 00000002 | G13: v | H13: a | I13: a | J13: a | K13: =IF($B13=OFFSET(INDIRECT("B"&MATCH($B13,$B:$B,0)),1,0),"FAUX","VRAI") -> VRAI | L13: =100-COUNTBLANK(M13:DH13) -> 3 | M13: =IF($A13=OFFSET(INDIRECT("A"&MATCH($A13,$A:$A,0)),Liste!A$1,0),OFFSET(INDIRECT("A"&MATCH($A13,$A:$A,0)),Liste!A$1,2),"") -> 00000002 | N13: =IF($A13=OFFSET(INDIRECT("A"&MATCH($A13,$A:$A,0)),Liste!B$1,0),OFFSET(INDIRECT("A"&MATCH($A13,$A:$A,0)),Liste!B$1,2),"") -> 00000003 | O13: =IF($A13=OFFSET(INDIRECT("A"&MATCH($A13,$A:$A,0)),Liste!C$1,0),OFFSET(INDIRECT("A"&MATCH($A13,$A:$A,0)),Liste!C$1,2),"") -> 00000004 | P13: =IF($A13=OFFSET(INDIRECT("A"&MATCH($A13,$A:$A,0)),Liste!D$1,0),OFFSET(INDIRECT("A"&MATCH($A13,$A:$A,0)),Liste!D$1,2),"") | Q13: =IF($A13=OFFSET(INDIRECT("A"&MATCH($A13,$A:$A,0)),Liste!E$1,0),OFFSET(INDIRECT("A"&MATCH($A13,$A:$A,0)),Liste!E$1,2),"") | R13: =IF($A13=OFFSET(INDIRECT("A"&MATCH($A13,$A:$A,0)),Liste!F$1,0),OFFSET(INDIRECT("A"&MATCH($A13,$A:$A,0)),Liste!F$1,2),"") | S13: =IF($A13=OFFSET(INDIRECT("A"&MATCH($A13,$A:$A,0)),Liste!G$1,0),OFFSET(INDIRECT("A"&MATCH($A13,$A:$A,0)),Liste!G$1,2),"") | T13: =IF($A13=OFFSET(INDIRECT("A"&MATCH($A13,$A:$A,0)),Liste!H$1,0),OFFSET(INDIRECT("A"&MATCH($A13,$A:$A,0)),Liste!H$1,2),"") | ... DH13: =IF($A13=OFFSET(INDIRECT("A"&MATCH($A13,$A:$A,0)),Liste!CV$1,0),OFFSET(INDIRECT("A"&MATCH($A13,$A:$A,0)),Liste!CV$1,2),"")
A14: =D14&E14&F14&G14&H14&I14&J14 -> 21Description de la sous étape 1 de la réf. 00000001 bawa | B14: =D14&G14&H14&I14&J14&C14 -> 2bawa00000001 | C14: 00000001 | D14: 2 | E14: 1 | F14: Description de la sous étape 1 de la réf. 00000001 | G14: b | H14: a | I14: w | J14: a | K14: =IF($B14=OFFSET(INDIRECT("B"&MATCH($B14,$B:$B,0)),1,0),"FAUX","VRAI") -> VRAI | L14: =100-COUNTBLANK(M14:DH14) -> 1 | M14: =IF($A14=OFFSET(INDIRECT("A"&MATCH($A14,$A:$A,0)),Liste!A$1,0),OFFSET(INDIRECT("A"&MATCH($A14,$A:$A,0)),Liste!A$1,2),"") -> 00000001 | N14: =IF($A14=OFFSET(INDIRECT("A"&MATCH($A14,$A:$A,0)),Liste!B$1,0),OFFSET(INDIRECT("A"&MATCH($A14,$A:$A,0)),Liste!B$1,2),"") | O14: =IF($A14=OFFSET(INDIRECT("A"&MATCH($A14,$A:$A,0)),Liste!C$1,0),OFFSET(INDIRECT("A"&MATCH($A14,$A:$A,0)),Liste!C$1,2),"") | P14: =IF($A14=OFFSET(INDIRECT("A"&MATCH($A14,$A:$A,0)),Liste!D$1,0),OFFSET(INDIRECT("A"&MATCH($A14,$A:$A,0)),Liste!D$1,2),"") | Q14: =IF($A14=OFFSET(INDIRECT("A"&MATCH($A14,$A:$A,0)),Liste!E$1,0),OFFSET(INDIRECT("A"&MATCH($A14,$A:$A,0)),Liste!E$1,2),"") | R14: =IF($A14=OFFSET(INDIRECT("A"&MATCH($A14,$A:$A,0)),Liste!F$1,0),OFFSET(INDIRECT("A"&MATCH($A14,$A:$A,0)),Liste!F$1,2),"") | S14: =IF($A14=OFFSET(INDIRECT("A"&MATCH($A14,$A:$A,0)),Liste!G$1,0),OFFSET(INDIRECT("A"&MATCH($A14,$A:$A,0)),Liste!G$1,2),"") | T14: =IF($A14=OFFSET(INDIRECT("A"&MATCH($A14,$A:$A,0)),Liste!H$1,0),OFFSET(INDIRECT("A"&MATCH($A14,$A:$A,0)),Liste!H$1,2),"") | ... DH14: =IF($A14=OFFSET(INDIRECT("A"&MATCH($A14,$A:$A,0)),Liste!CV$1,0),OFFSET(INDIRECT("A"&MATCH($A14,$A:$A,0)),Liste!CV$1,2),"")

Sheet Liste
A1: 0 | B1: 1 | C1: 2 | D1: 3 | E1: 4 | F1: 5 | G1: 6 | H1: 7 | I1: 8 | J1: 9 | K1: 10 | L1: 11 | M1: 12 | N1: 13 | O1: 14 | P1: 15 | Q1: 16 | R1: 17 | S1: 18 | T1: 19 | U1: 20 | V1: 21 | W1: 22 | X1: 23 | Y1: 24 | Z1: 25 | AA1: 26 | AB1: 27 | AC1: 28 | AD1: 29 | AE1: 30 | AF1: 31 | AG1: 32 | AH1: 33 | AI1: 34 | AJ1: 35 | AK1: 36 | AL1: 37 | AM1: 38 | AN1: 39 | AO1: 40 | AP1: 41 | AQ1: 42 | AR1: 43 | AS1: 44 | AT1: 45 | AU1: 46 | AV1: 47 | AW1: 48 | AX1: 49 | AY1: 50 | AZ1: 51 | BA1: 52 | BB1: 53 | BC1: 54 | BD1: 55 | BE1: 56 | BF1: 57 | BG1: 58 | BH1: 59 | BI1: 60 | BJ1: 61 | BK1: 62 | BL1: 63 | BM1: 64 | BN1: 65 | BO1: 66 | BP1: 67 | BQ1: 68 | BR1: 69 | BS1: 70 | BT1: 71 | BU1: 72 | BV1: 73 | BW1: 74 | BX1: 75 | BY1: 76 | BZ1: 77 | CA1: 78 | CB1: 79 | CC1: 80 | CD1: 81 | CE1: 82 | CF1: 83 | CG1: 84 | CH1: 85 | CI1: 86 | CJ1: 87 | CK1: 88 | CL1: 89 | CM1: 90 | CN1: 91 | CO1: 92 | CP1: 93 | CQ1: 94 | CR1: 95 | CS1: 96 | CT1: 97 | CU1: 98 | CV1: 99 | CW1: 100 | CX1: 101 | CY1: 102 | CZ1: 103 | DA1: 104 | DB1: 105 | DC1: 106 | DD1: 107 | DE1: 108 | DF1: 109 | DG1: 110 | DH1: 111 | DI1: 112 | DJ1: 113 | DK1: 114 | DL1: 115 | DM1: 116 | DN1: 117 | DO1: 118 | DP1: 119 | DQ1: 120 | DR1: 121 | DS1: 122 | DT1: 123 | DU1: 124 | DV1: 125 | DW1: 126 | DX1: 127 | DY1: 128 | DZ1: 129 | EA1: 130 | EB1: 131 | EC1: 132 | ED1: 133 | EE1: 134 | EF1: 135 | EG1: 136 | EH1: 137 | EI1: 138 | EJ1: 139 | EK1: 140 | EL1: 141 | EM1: 142 | EN1: 143 | EO1: 144 | EP1: 145 | EQ1: 146 | ER1: 147 | ES1: 148 | ET1: 149 | EU1: 150 | EV1: 151 | EW1: 152 | EX1: 153 | EY1: 154 | EZ1: 155 | FA1: 156 | FB1: 157 | FC1: 158 | FD1: 159 | FE1: 160 | FF1: 161 | FG1: 162 | FH1: 163 | FI1: 164 | FJ1: 165 | FK1: 166 | FL1: 167 | FM1: 168 | FN1: 169 | FO1: 170 | FP1: 171 | FQ1: 172 | FR1: 173 | FS1: 174 | FT1: 175 | FU1: 176 | FV1: 177 | FW1: 178 | FX1: 179 | FY1: 180 | FZ1: 181 | GA1: 182 | GB1: 183 | GC1: 184 | GD1: 185 | GE1: 186 | GF1: 187 | GG1: 188 | GH1: 189 | GI1: 190 | GJ1: 191 | GK1: 192 | GL1: 193 | GM1: 194 | GN1: 195 | GO1: 196 | GP1: 197 | GQ1: 198 | GR1: 199 | GS1: 200 | GT1: 201 | GU1: 202 | GV1: 203 | GW1: 204 | GX1: 205 | GY1: 206 | GZ1: 207 | HA1: 208 | HB1: 209 | HC1: 210 | HD1: 211 | HE1: 212 | HF1: 213 | HG1: 214 | HH1: 215 | HI1: 216 | HJ1: 217 | HK1: 218 | HL1: 219 | HM1: 220 | HN1: 221 | HO1: 222 | HP1: 223 | HQ1: 224 | HR1: 225 | HS1: 226 | HT1: 227 | HU1: 228 | HV1: 229 | HW1: 230 | HX1: 231 | HY1: 232 | HZ1: 233 | IA1: 234 | IB1: 235 | IC1: 236 | ID1: 237 | IE1: 238 | IF1: 239 | IG1: 240 | IH1: 241 | II1: 242 | IJ1: 243 | IK1: 244 | IL1: 245 | IM1: 246 | IN1: 247 | IO1: 248 | IP1: 249 | IQ1: 250 | IR1: 251 | IS1: 252 | IT1: 253 | IU1: 254 | IV1: 255 | IW1: 256 | IX1: 257 | IY1: 258 | IZ1: 259 | JA1: 260 | JB1: 261 | JC1: 262 | JD1: 263 | JE1: 264 | JF1: 265 | JG1: 266 | JH1: 267 | JI1: 268 | JJ1: 269 | JK1: 270 | JL1: 271 | JM1: 272 | JN1: 273 | JO1: 274 | JP1: 275 | JQ1: 276 | JR1: 277 | JS1: 278 | JT1: 279 | JU1: 280 | JV1: 281 | JW1: 282 | JX1: 283 | JY1: 284 | JZ1: 285 | KA1: 286 | KB1: 287 | KC1: 288 | KD1: 289 | KE1: 290 | KF1: 291 | KG1: 292 | KH1: 293 | KI1: 294 | KJ1: 295 | KK1: 296 | KL1: 297 | KM1: 298 | KN1: 299 | KO1: 300 | KP1: 301 | KQ1: 302 | KR1: 303 | KS1: 304 | KT1: 305 | KU1: 306 | KV1: 307 | KW1: 308 | KX1: 309 | KY1: 310 | KZ1: 311 | LA1: 312 | LB1: 313 | LC1: 314 | LD1: 315 | LE1: 316 | LF1: 317 | LG1: 318 | LH1: 319 | LI1: 320 | LJ1: 321 | LK1: 322 | LL1: 323 | LM1: 324 | LN1: 325 | LO1: 326 | LP1: 327 | LQ1: 328 | LR1: 329 | LS1: 330 | LT1: 331 | LU1: 332 | LV1: 333 | LW1: 334 | LX1: 335 | LY1: 336 | LZ1: 337 | MA1: 338 | MB1: 339 | MC1: 340 | MD1: 341 | ME1: 342 | MF1: 343 | MG1: 344 | MH1: 345 | MI1: 346 | MJ1: 347 | MK1: 348 | ML1: 349 | MM1: 350 | MN1: 351 | MO1: 352 | MP1: 353 | MQ1: 354 | MR1: 355 | MS1: 356 | MT1: 357 | MU1: 358 | MV1: 359 | MW1: 360 | MX1: 361 | MY1: 362 | MZ1: 363 | NA1: 364 | NB1: 365 | NC1: 366 | ND1: 367 | NE1: 368 | NF1: 369 | NG1: 370 | NH1: 371 | NI1: 372 | NJ1: 373 | NK1: 374 | NL1: 375 | NM1: 376 | NN1: 377

Sheet Source
A1: référence | B1: N° étapes | C1: N° sous étapes | D1: Description phase | E1: critère 1 | F1: critère 2 | G1: critère 3 | H1: critère 4
A2: 00000001 | B2: 1 | C2: 1 | D2: Description de la sous étape 1 de la réf. 00000001 | E2: a | F2: b | G2: a | H2: 12
A3: 00000001 | B3: 1 | C3: 2 | D3: Description de la sous étape 2 de la réf. 00000001 | E3: a | F3: b | G3: a | H3: 12
A4: 00000001 | B4: 2 | C4: 1 | D4: Description de la sous étape 1 de la réf. 00000001 | E4: b | F4: a | G4: w | H4: a
A5: 00000002 | B5: 1 | C5: 1 | D5: Description de la sous étape 1 de la réf. 00000002 | E5: v | F5: a | G5: a | H5: a
A6: 00000003 | B6: 1 | C6: 1 | D6: Description de la sous étape 1 de la réf. 00000002 | E6: v | F6: a | G6: a | H6: a
A7: 00000004 | B7: 1 | C7: 1 | D7: Description de la sous étape 1 de la réf. 00000002 | E7: v | F7: a | G7: a | H7: a
A8: 00000005 | B8: 1 | C8: 1 | D8: Description de la sous étape 1 de la réf. 00000001 | E8: a | F8: b | G8: a | H8: 12
A9: 00000005 | B9: 1 | C9: 2 | D9: Description de la sous étape 2 de la réf. 00000001 | E9: a | F9: b | G9: a | H9: 12
A10: 00000006 | B10: 1 | C10: 1 | D10: Description de la sous étape 1 de la réf. 00000001 | E10: a | F10: b | G10: a | H10: 12
A11: 00000007 | B11: 1 | C11: 1 | D11: Description de la sous étape 1 de la réf. 00000001 | E11: a | F11: b | G11: a | H11: 12
A12: 00000007 | B12: 1 | C12: 2 | D12: Description de la sous étape 2 de la réf. 00000001 | E12: a | F12: b | G12: a | H12: 12
A13: 00000007 | B13: 1 | C13: 3 | D13: Description de la sous étape 2 de la réf. 00000001 | E13: a | F13: b | G13: a | H13: 12

Sheet Tableau que je souhaite obtenir
J1: réf. Parfaitement identique
A2: référence | B2: N° étape | C2: N° sous étape | D2: Description phase | E2: critère 1 | F2: critère 2 | G2: critère 3 | H2: critère 4 | I2: Nb de réf. Identique | J2: 1 | K2: 2 | L2: 3 | M2: 4
A3: 00000001 | B3: 1 | C3: 1 | D3: Description de la sous étape 1 de la réf. 00000001 | E3: a | F3: b | G3: a | H3: 12 | I3: 4 | J3: 00000001 | K3: 00000005 | L3: 00000006 | M3: 00000007
A4: 00000001 | B4: 1 | C4: 2 | D4: Description de la sous étape 2 de la réf. 00000001 | E4: a | F4: b | G4: a | H4: 12 | I4: 3 | J4: 00000001 | K4: 00000005 | L4: 00000007
A5: 00000005 | B5: 1 | C5: 1 | D5: Description de la sous étape 1 de la réf. 00000001 | E5: a | F5: b | G5: a | H5: 12 | I5: 4 | J5: 00000001 | K5: 00000005 | L5: 00000006 | M5: 00000007
A6: 00000005 | B6: 1 | C6: 2 | D6: Description de la sous étape 2 de la réf. 00000001 | E6: a | F6: b | G6: a | H6: 12 | I6: 3 | J6: 00000001 | K6: 00000005 | L6: 00000007
A7: 00000006 | B7: 1 | C7: 1 | D7: Description de la sous étape 1 de la réf. 00000001 | E7: a | F7: b | G7: a | H7: 12 | I7: 4 | J7: 00000001 | K7: 00000005 | L7: 00000006 | M7: 00000007
A8: 00000007 | B8: 1 | C8: 1 | D8: Description de la sous étape 1 de la réf. 00000001 | E8: a | F8: b | G8: a | H8: 12 | I8: 4 | J8: 00000001 | K8: 00000005 | L8: 00000006 | M8: 00000007
A9: 00000007 | B9: 1 | C9: 2 | D9: Description de la sous étape 2 de la réf. 00000001 | E9: a | F9: b | G9: a | H9: 12 | I9: 3 | J9: 00000001 | K9: 00000005 | L9: 00000007
A10: 00000007 | B10: 1 | C10: 3 | D10: Description de la sous étape 2 de la réf. 00000001 | E10: a | F10: b | G10: a | H10: 12 | I10: 1 | J10: 00000007
A11: 00000002 | B11: 1 | C11: 1 | D11: Description de la sous étape 1 de la réf. 00000002 | E11: v | F11: a | G11: a | H11: a | I11: 3 | J11: 00000002 | K11: 00000003 | L11: 00000004
A12: 00000003 | B12: 1 | C12: 1 | D12: Description de la sous étape 1 de la réf. 00000002 | E12: v | F12: a | G12: a | H12: a | I12: 3 | J12: 00000002 | K12: 00000003 | L12: 00000004
A13: 00000004 | B13: 1 | C13: 1 | D13: Description de la sous étape 1 de la réf. 00000002 | E13: v | F13: a | G13: a | H13: a | I13: 3 | J13: 00000002 | K13: 00000003 | L13: 00000004
A14: 00000001 | B14: 2 | C14: 1 | D14: Description de la sous étape 1 de la réf. 00000001 | E14: b | F14: a | G14: w | H14: a | I14: 1 | J14: 00000001
