Workbook
Name Segment_Années: #N/A

Sheet Feuil1
A1: N° Sujet | B1: Date de début | C1: Date de fin
A2: 1 | B2: 42370 | C2: 42491
A3: 2 | B3: 42370 | C3: 42370 | G3: Mois | H3: Nombre de Date de fin | I3: Nombre de Date de début | J3: Nombre de Date de début2 | N3: Mois | O3: Nombre de Date de début | P3: Nombre de Date de fin
A4: 3 | B4: 42370 | C4: 42430 | G4: <01/01/2016 | H4: 0 | I4: 0 | J4: #N/A | N4: janv | O4: 3 | P4: 3
A5: 4 | B5: 42461 | C5: 42461 | G5: janv | H5: 3 | I5: 3 | J5: #N/A | N5: févr | O5: 0 | P5: 0
A6: 5 | B6: 42491 | G6: févr | H6: 3 | I6: 3 | J6: #N/A | N6: mars | O6: 0 | P6: 0
A7: 6 | B7: 42491 | C7: 42614 | G7: mars | H7: 3 | I7: 3 | J7: #N/A | N7: avr | O7: 1 | P7: 1
A8: 7 | B8: 42614 | G8: avr | H8: 4 | I8: 4 | J8: #N/A | N8: mai | O8: 2 | P8: 1
A9: 8 | B9: 42644 | G9: mai | H9: 5 | I9: 6 | J9: #N/A | N9: juin | O9: 0 | P9: 0
A10: 9 | B10: 42675 | C10: 42705 | G10: juin | H10: 5 | I10: 6 | J10: #N/A | N10: juil | O10: 0 | P10: 0
A11: 10 | B11: 42705 | G11: juil | H11: 5 | I11: 6 | J11: #N/A | N11: août | O11: 0 | P11: 0
A12: 11 | B12: 42736 | C12: 42736 | G12: août | H12: 5 | I12: 6 | J12: #N/A | N12: sept | O12: 1 | P12: 0
A13: 12 | B13: 42826 | G13: sept | H13: 5 | I13: 7 | J13: #N/A | N13: oct | O13: 1 | P13: 0
G14: oct | H14: 5 | I14: 8 | J14: #N/A | N14: nov | O14: 1 | P14: 1
G15: nov | H15: 6 | I15: 9 | J15: #N/A | N15: déc | O15: 1 | P15: 0
G16: déc | H16: 6 | I16: 10 | J16: #N/A
G17: >31/12/2020 | H17: 6 | I17: 10 | J17: #N/A

Sheet Sujet en cours
A1: Mois | B1: Sujet en cours
A2: 42370 | B2: =COUNTIFS(Feuil1!B:B,"<="&'Sujet en cours'!A2)-COUNTIFS(Feuil1!C:C,"<="&'Sujet en cours'!A2) -> 2
A3: 42401 | B3: =COUNTIFS(Feuil1!B:B,"<="&'Sujet en cours'!A3)-COUNTIFS(Feuil1!C:C,"<="&'Sujet en cours'!A3) -> 2
A4: 42430 | B4: =COUNTIFS(Feuil1!B:B,"<="&'Sujet en cours'!A4)-COUNTIFS(Feuil1!C:C,"<="&'Sujet en cours'!A4) -> 1
A5: 42461 | B5: =COUNTIFS(Feuil1!B:B,"<="&'Sujet en cours'!A5)-COUNTIFS(Feuil1!C:C,"<="&'Sujet en cours'!A5) -> 1
A6: 42491 | B6: =COUNTIFS(Feuil1!B:B,"<="&'Sujet en cours'!A6)-COUNTIFS(Feuil1!C:C,"<="&'Sujet en cours'!A6) -> 2
A7: 42522 | B7: =COUNTIFS(Feuil1!B:B,"<="&'Sujet en cours'!A7)-COUNTIFS(Feuil1!C:C,"<="&'Sujet en cours'!A7) -> 2
A8: 42552 | B8: =COUNTIFS(Feuil1!B:B,"<="&'Sujet en cours'!A8)-COUNTIFS(Feuil1!C:C,"<="&'Sujet en cours'!A8) -> 2
A9: 42583 | B9: =COUNTIFS(Feuil1!B:B,"<="&'Sujet en cours'!A9)-COUNTIFS(Feuil1!C:C,"<="&'Sujet en cours'!A9) -> 2
A10: 42614 | B10: =COUNTIFS(Feuil1!B:B,"<="&'Sujet en cours'!A10)-COUNTIFS(Feuil1!C:C,"<="&'Sujet en cours'!A10) -> 2
A11: 42644 | B11: =COUNTIFS(Feuil1!B:B,"<="&'Sujet en cours'!A11)-COUNTIFS(Feuil1!C:C,"<="&'Sujet en cours'!A11) -> 3
A12: 42675 | B12: =COUNTIFS(Feuil1!B:B,"<="&'Sujet en cours'!A12)-COUNTIFS(Feuil1!C:C,"<="&'Sujet en cours'!A12) -> 4
A13: 42705 | B13: =COUNTIFS(Feuil1!B:B,"<="&'Sujet en cours'!A13)-COUNTIFS(Feuil1!C:C,"<="&'Sujet en cours'!A13) -> 4
... A25: 43070 | B25: =COUNTIFS(Feuil1!B:B,"<="&'Sujet en cours'!A25)-COUNTIFS(Feuil1!C:C,"<="&'Sujet en cours'!A25) -> 5
