Workbook
Name Listing_relay: Relay!$AA$1:$AA$13
Name Relay_A: Relay!$AA$1
Name Relay_B: Relay!$AA$2
Name Relay_C: Relay!$AA$3
Name Relay_D: Relay!$AA$4
Name Relay_E: Relay!$AA$5
Name Relay_F: Relay!$AA$6
Name Relay_G: Relay!$AA$7
Name Relay_H_AC: Relay!$AA$8
Name Relay_H_DC: Relay!$AA$9
Name Relay_I_AC: Relay!$AA$10
Name Relay_I_DC: Relay!$AA$11
Name Relay_J_AC: Relay!$AA$12
Name Relay_J_DC: Relay!$AA$13

Sheet Revision
A1: Fichier de calcul revision C2
A2: Historique des revisions de l'analyse de durée de vie
A4: Version | B4: Auteur | C4: Date | D4: Commentaires

Sheet Mission Profil & Synthesis

Sheet Capacitor
F2: Reminder | G2: Mission Profile
G3: Requirement of life expectancy: | K3: ='Mission Profil & Synthesis'!D9 -> 0
G4: Period 1 | H4: Number of operational day by year: | K4: ='Mission Profil & Synthesis'!D15 -> 0
H5: Number of operational hours by day: | K5: ='Mission Profil & Synthesis'!D16 -> 0
G6: Period 2 | H6: Number of operational day by year: | K6: ='Mission Profil & Synthesis'!D18 -> 0
H7: Number of operational hours by day: | K7: ='Mission Profil & Synthesis'!D19 -> 0
G8: Period 3 | H8: Number of operational day by year: | K8: ='Mission Profil & Synthesis'!D21 -> 0
H9: Number of operational hours by day: | K9: ='Mission Profil & Synthesis'!D22 -> 0
G10: ='Mission Profil & Synthesis'!C23 -> 0
G11: Tac (Temperature around component): | K11: ='Mission Profil & Synthesis'!D24 -> 0
G12: Capacitor DT° between Tac and Tc: | K12: ='Mission Profil & Synthesis'!D25 -> 0
F14: Datasheet values | I14: Project values | L14: Project results with datasheet value | N14: Project results with datasheet value and project capacitor drift acceptance
A15: Equipment | B15: Board | C15: Electronic parts reference | D15: Generic name (DTR - S4) | E15: Supplier / ref datasheet | F15: Qualification test duration (hours) | G15: Qualification test temperature (°C) | H15: Capacitor drift (%) | I15: Mean components ambient temperature [Tac] (°C) | J15: [facultative] Mean component temperature [Tc] (°C) | K15: [facultative] Project Capacitor drift acceptance (%) | L15: Operational life expectancy (hours) | M15: Life expectancy (years) | N15: Operational life expectancy (hours) | O15: Life expectancy (years)
A16: CRS V2 DTR0000205890_C | B16: Port board | C16: There is not electrolytic capacitor on this board | I16: =$K$11 -> 0 | L16: =IF(G16="","-",ROUND(F16*IF(J16="",POWER(2,(G16-I16)/10),POWER(2,(G16+$K$12-J16)/10)),0)) -> - | M16: =IF(G16="","-",IF(L16/($K$4*$K$5+$K$6*$K$7+$K$8*$K$9)>50,">50 years",ROUND(L16/($K$4*$K$5+$K$6*$K$7+$K$8*$K$9),1))) -> - | N16: =IF(OR(K16="",L16="-"),"-",ROUND(F16*K16/H16*IF(J16="",POWER(2,(G16-I16)/10),POWER(2,(G16+5-J16)/10)),0)) -> - | O16: =IF(OR(K16="",L16="-"),"-",ROUND(N16/($K$4*$K$5+$K$6*$K$7+$K$8*$K$9),1)) -> -
A17: CRS V2 DTR0000205890_C | B17: Switch board | C17: There is not electrolytic capacitor on this board | I17: =$K$11 -> 0 | L17: =IF(G17="","-",ROUND(F17*IF(J17="",POWER(2,(G17-I17)/10),POWER(2,(G17+$K$12-J17)/10)),0)) -> - | M17: =IF(G17="","-",IF(L17/($K$4*$K$5+$K$6*$K$7+$K$8*$K$9)>50,">50 years",ROUND(L17/($K$4*$K$5+$K$6*$K$7+$K$8*$K$9),1))) -> - | N17: =IF(OR(K17="",L17="-"),"-",ROUND(F17*K17/H17*IF(J17="",POWER(2,(G17-I17)/10),POWER(2,(G17+5-J17)/10)),0)) -> - | O17: =IF(OR(K17="",L17="-"),"-",ROUND(N17/($K$4*$K$5+$K$6*$K$7+$K$8*$K$9),1)) -> -
A18: CRS V2 DTR0000205890_C | B18: Management board | C18: C127 | D18: N/A | E18: DS_EDLC_100mF_5,5V (Harting reference) / FT0H104ZF | F18: 1000 | G18: 85 | H18: 0.3 | I18: =$K$11 -> 0 | L18: =IF(G18="","-",ROUND(F18*IF(J18="",POWER(2,(G18-I18)/10),POWER(2,(G18+$K$12-J18)/10)),0)) -> 362039 | M18: =IF(G18="","-",IF(L18/($K$4*$K$5+$K$6*$K$7+$K$8*$K$9)>50,">50 years",ROUND(L18/($K$4*$K$5+$K$6*$K$7+$K$8*$K$9),1))) -> #DIV/0! | N18: =IF(OR(K18="",L18="-"),"-",ROUND(F18*K18/H18*IF(J18="",POWER(2,(G18-I18)/10),POWER(2,(G18+5-J18)/10)),0)) -> - | O18: =IF(OR(K18="",L18="-"),"-",ROUND(N18/($K$4*$K$5+$K$6*$K$7+$K$8*$K$9),1)) -> -
A19: CRS V2 DTR0000205890_C | B19: PowerSupply EPLAX SB862 | C19: C117 | D19: N/A | E19: 119-018746F (Harting reference) / 16ZLH1500MEFC10X20 | F19: 10000 | G19: 105 | H19: 0.3 | I19: =$K$11 -> 0 | L19: =IF(G19="","-",ROUND(F19*IF(J19="",POWER(2,(G19-I19)/10),POWER(2,(G19+$K$12-J19)/10)),0)) -> 14481547 | M19: =IF(G19="","-",IF(L19/($K$4*$K$5+$K$6*$K$7+$K$8*$K$9)>50,">50 years",ROUND(L19/($K$4*$K$5+$K$6*$K$7+$K$8*$K$9),1))) -> #DIV/0! | N19: =IF(OR(K19="",L19="-"),"-",ROUND(F19*K19/H19*IF(J19="",POWER(2,(G19-I19)/10),POWER(2,(G19+5-J19)/10)),0)) -> - | O19: =IF(OR(K19="",L19="-"),"-",ROUND(N19/($K$4*$K$5+$K$6*$K$7+$K$8*$K$9),1)) -> -
A20: CRS V2 DTR0000205890_C | C20: C118 | D20: N/A | E20: 119-018746F (Harting reference) / 16ZLH1500MEFC10X20 | F20: 10000 | G20: 105 | H20: 0.3 | I20: =$K$11 -> 0 | L20: =IF(G20="","-",ROUND(F20*IF(J20="",POWER(2,(G20-I20)/10),POWER(2,(G20+$K$12-J20)/10)),0)) -> 14481547 | M20: =IF(G20="","-",IF(L20/($K$4*$K$5+$K$6*$K$7+$K$8*$K$9)>50,">50 years",ROUND(L20/($K$4*$K$5+$K$6*$K$7+$K$8*$K$9),1))) -> #DIV/0! | N20: =IF(OR(K20="",L20="-"),"-",ROUND(F20*K20/H20*IF(J20="",POWER(2,(G20-I20)/10),POWER(2,(G20+5-J20)/10)),0)) -> - | O20: =IF(OR(K20="",L20="-"),"-",ROUND(N20/($K$4*$K$5+$K$6*$K$7+$K$8*$K$9),1)) -> -
A21: CRS V2 DTR0000205890_C | C21: C123 | D21: N/A | E21: 119-013517L (Harting reference) / NiconLXY120µF35V | F21: 3000 | G21: 105 | H21: 0.2 | I21: =$K$11 -> 0 | L21: =IF(G21="","-",ROUND(F21*IF(J21="",POWER(2,(G21-I21)/10),POWER(2,(G21+$K$12-J21)/10)),0)) -> 4344464 | M21: =IF(G21="","-",IF(L21/($K$4*$K$5+$K$6*$K$7+$K$8*$K$9)>50,">50 years",ROUND(L21/($K$4*$K$5+$K$6*$K$7+$K$8*$K$9),1))) -> #DIV/0! | N21: =IF(OR(K21="",L21="-"),"-",ROUND(F21*K21/H21*IF(J21="",POWER(2,(G21-I21)/10),POWER(2,(G21+5-J21)/10)),0)) -> - | O21: =IF(OR(K21="",L21="-"),"-",ROUND(N21/($K$4*$K$5+$K$6*$K$7+$K$8*$K$9),1)) -> -
A22: CRS V2 DTR0000205890_C | C22: C151 | D22: N/A | E22: 119-013517L (Harting reference) / NiconLXY120µF35V | F22: 3000 | G22: 105 | H22: 0.2 | I22: =$K$11 -> 0 | L22: =IF(G22="","-",ROUND(F22*IF(J22="",POWER(2,(G22-I22)/10),POWER(2,(G22+$K$12-J22)/10)),0)) -> 4344464 | M22: =IF(G22="","-",IF(L22/($K$4*$K$5+$K$6*$K$7+$K$8*$K$9)>50,">50 years",ROUND(L22/($K$4*$K$5+$K$6*$K$7+$K$8*$K$9),1))) -> #DIV/0! | N22: =IF(OR(K22="",L22="-"),"-",ROUND(F22*K22/H22*IF(J22="",POWER(2,(G22-I22)/10),POWER(2,(G22+5-J22)/10)),0)) -> - | O22: =IF(OR(K22="",L22="-"),"-",ROUND(N22/($K$4*$K$5+$K$6*$K$7+$K$8*$K$9),1)) -> -
A23: CRS V2 DTR0000205890_C | C23: C125 | D23: N/A | E23: 119-013739J (Harting reference) / EKXG251ELL330MK20S | F23: 10000 | G23: 105 | H23: 0.2 | I23: =$K$11 -> 0 | L23: =IF(G23="","-",ROUND(F23*IF(J23="",POWER(2,(G23-I23)/10),POWER(2,(G23+$K$12-J23)/10)),0)) -> 14481547 | M23: =IF(G23="","-",IF(L23/($K$4*$K$5+$K$6*$K$7+$K$8*$K$9)>50,">50 years",ROUND(L23/($K$4*$K$5+$K$6*$K$7+$K$8*$K$9),1))) -> #DIV/0! | N23: =IF(OR(K23="",L23="-"),"-",ROUND(F23*K23/H23*IF(J23="",POWER(2,(G23-I23)/10),POWER(2,(G23+5-J23)/10)),0)) -> - | O23: =IF(OR(K23="",L23="-"),"-",ROUND(N23/($K$4*$K$5+$K$6*$K$7+$K$8*$K$9),1)) -> -
A24: CRS V2 DTR0000205890_C | C24: C126 | D24: N/A | E24: 119-013739J (Harting reference) / EKXG251ELL330MK20S | F24: 10000 | G24: 105 | H24: 0.2 | I24: =$K$11 -> 0 | L24: =IF(G24="","-",ROUND(F24*IF(J24="",POWER(2,(G24-I24)/10),POWER(2,(G24+$K$12-J24)/10)),0)) -> 14481547 | M24: =IF(G24="","-",IF(L24/($K$4*$K$5+$K$6*$K$7+$K$8*$K$9)>50,">50 years",ROUND(L24/($K$4*$K$5+$K$6*$K$7+$K$8*$K$9),1))) -> #DIV/0! | N24: =IF(OR(K24="",L24="-"),"-",ROUND(F24*K24/H24*IF(J24="",POWER(2,(G24-I24)/10),POWER(2,(G24+5-J24)/10)),0)) -> - | O24: =IF(OR(K24="",L24="-"),"-",ROUND(N24/($K$4*$K$5+$K$6*$K$7+$K$8*$K$9),1)) -> -
A25: CRS V2 DTR0000205890_C | C25: C127 | D25: N/A | E25: 119-019251C (Harting reference) / Rubycon 35ZLH1500MEFC12.5X30 | F25: 10000 | G25: 105 | H25: 0.25 | I25: =$K$11 -> 0 | L25: =IF(G25="","-",ROUND(F25*IF(J25="",POWER(2,(G25-I25)/10),POWER(2,(G25+$K$12-J25)/10)),0)) -> 14481547 | M25: =IF(G25="","-",IF(L25/($K$4*$K$5+$K$6*$K$7+$K$8*$K$9)>50,">50 years",ROUND(L25/($K$4*$K$5+$K$6*$K$7+$K$8*$K$9),1))) -> #DIV/0! | N25: =IF(OR(K25="",L25="-"),"-",ROUND(F25*K25/H25*IF(J25="",POWER(2,(G25-I25)/10),POWER(2,(G25+5-J25)/10)),0)) -> - | O25: =IF(OR(K25="",L25="-"),"-",ROUND(N25/($K$4*$K$5+$K$6*$K$7+$K$8*$K$9),1)) -> -

Sheet Connector
E2: Reminder | F2: Mission Profile
F3: Requirement of life expectancy: | I3: ='Mission Profil & Synthesis'!$D$9 -> 0
F4: Period 1 | G4: Number of operational day by year: | I4: ='Mission Profil & Synthesis'!$D$15 -> 0
G5: Number of operational hours by day: | I5: ='Mission Profil & Synthesis'!$D$16 -> 0
F6: Period 2 | G6: Number of operational day by year: | I6: ='Mission Profil & Synthesis'!$D$18 -> 0
G7: Number of operational hours by day: | I7: ='Mission Profil & Synthesis'!$D$19 -> 0
F8: Period 3 | G8: Number of operational day by year: | I8: ='Mission Profil & Synthesis'!$D$21 -> 0
G9: Number of operational hours by day: | I9: ='Mission Profil & Synthesis'!$D$22 -> 0
F11: Datasheet Value | G11: Project values
A12: Equipment | B12: Board | C12: Electronic parts reference | D12: Generic name (DTR - S4) | E12: Supplier / ref datasheet | F12: Number of mating and unmating cycles (or manufacturer value) | G12: Project values must not exceed the specified value | H12: Connector type
A13: CRS V2 DTR0000205890_C | B13: Port board | C13: X1 | D13: N/A | E13: ST_DC_THT_M12_D4-Bu_Vert | F13: 100 | G13: < 100 | H13: Train lines
A14: CRS V2 DTR0000205890_C | C14: X2 | D14: N/A | E14: ST_DC_THT_M12_D4-Bu_Vert | F14: 100 | G14: < 100 | H14: Train lines
A15: CRS V2 DTR0000205890_C | C15: X3 | D15: N/A | E15: ST_DC_THT_M12_D4-Bu_Vert | F15: 100 | G15: < 100 | H15: Train lines
A16: CRS V2 DTR0000205890_C | C16: X4 | D16: N/A | E16: ST_DC_THT_M12_D4-Bu_Vert | F16: 100 | G16: < 100 | H16: Train lines
A17: CRS V2 DTR0000205890_C | C17: X5 | D17: N/A | E17: ST_DC_THT_M12_D4-Bu_Vert | F17: 100 | G17: < 100 | H17: Train lines
A18: CRS V2 DTR0000205890_C | C18: X6 | D18: N/A | E18: ST_DC_THT_M12_D4-Bu_Vert | F18: 100 | G18: < 100 | H18: Train lines
A19: CRS V2 DTR0000205890_C | C19: X7 | D19: N/A | E19: ST_DC_THT_M12_D4-Bu_Vert | F19: 100 | G19: < 100 | H19: Train lines
A20: CRS V2 DTR0000205890_C | C20: X8 | D20: N/A | E20: ST_DC_THT_M12_D4-Bu_Vert | F20: 100 | G20: < 100 | H20: Train lines
A21: CRS V2 DTR0000205890_C | C21: X9 | D21: N/A | E21: ST_DC_THT_M12_A4-ST_Vert | F21: 100 | G21: < 100 | H21: Train lines
A22: CRS V2 DTR0000205890_C | C22: X10 | D22: N/A | E22: ST_DC_THT_DSUB-9FV_WD | F22: 200 | G22: < 100 | H22: Train lines
A23: CRS V2 DTR0000205890_C | C23: X11 | D23: N/A | E23: ST_DC_THT_DIN-2B_ML_32 | F23: 200 | G23: < 30 | H23: Internal
A24: CRS V2 DTR0000205890_C | C24: X12 | D24: N/A | E24: ST_DC_THT_DIN-2B_ML_32 | F24: 200 | G24: < 30 | H24: Internal
A25: CRS V2 DTR0000205890_C | C25: X13 | D25: N/A | E25: ST_B2B_THT_BL20-08_RM2,54 | F25: 50 | G25: < 30 | H25: Internal
... A29: CRS V2 DTR0000205890_C | C29: X17 | D29: N/A | E29: ST_B2B_THT_BL20-08_RM5,08 | F29: 50 | G29: < 30 | H29: Internal
A30: CRS V2 DTR0000205890_C | C30: X18 | D30: N/A | E30: Unknown | F30: unknown | G30: < 30 | H30: Internal
A31: CRS V2 DTR0000205890_C | C31: X19 | D31: N/A | E31: Harting: SEK18 | F31: No data from manufacturer | G31: < 30 | H31: Internal
A32: CRS V2 DTR0000205890_C | B32: Switch board | C32: X1 | D32: N/A | E32: ST_B2B_SMD_BTE-020-04-FDAK | F32: 100 | G32: < 30 | H32: Internal
A33: CRS V2 DTR0000205890_C | C33: X4 | D33: N/A | E33: ST_B2B_THT_ST368-8_PF | F33: 50 | G33: < 30 | H33: Internal
A34: CRS V2 DTR0000205890_C | B34: Management board | C34: X2 | D34: N/A | E34: ST_DC_THT_DIN-B_32 | F34: 200 | G34: < 30 | H34: Internal
A35: CRS V2 DTR0000205890_C | C35: X3 | D35: N/A | E35: ST_DC_THT_DIN-B_32 | F35: 200 | G35: < 30 | H35: Internal
A36: CRS V2 DTR0000205890_C | C36: X4 | D36: N/A | E36: ST_B2B_SMD_BSE-020-01-FDA | F36: 100 | G36: < 30 | H36: Internal
A37: CRS V2 DTR0000205890_C | B37: PowerSupply EPLAX SB862 | C37: X100 | D37: N/A | E37: Stiftl. 2x4pol st. RM5,08 L=20 S=6-Au // Idx:10 | F37: 50 | G37: < 30 | H37: Internal
A38: CRS V2 DTR0000205890_C | C38: X101 | D38: N/A | E38: Stiftl. 2x4pol st. RM2,54 L=20 S=6-Au // Idx:10 | F38: 50 | G38: < 30 | H38: Internal

Sheet Fan
G2: Reminder | H2: Mission Profile
H3: Requirement of life expectancy: | L3: ='Mission Profil & Synthesis'!$D$9 -> 0
H4: Period 1 | I4: Number of operational day by year: | L4: ='Mission Profil & Synthesis'!$D$15 -> 0
I5: Number of operational hours by day: | L5: ='Mission Profil & Synthesis'!$D$16 -> 0
H6: Period 2 | I6: Number of operational day by year: | L6: ='Mission Profil & Synthesis'!$D$18 -> 0
I7: Number of operational hours by day: | L7: ='Mission Profil & Synthesis'!$D$19 -> 0
H8: Period 3 | I8: Number of operational day by year: | L8: ='Mission Profil & Synthesis'!$D$21 -> 0
I9: Number of operational hours by day: | L9: ='Mission Profil & Synthesis'!$D$22 -> 0
H10: ='Mission Profil & Synthesis'!$C$23 -> 0
H11: Tac (Temperature around component): | L11: ='Mission Profil & Synthesis'!$D$24 -> 0
H12: CPU DT° between Tac and CPU junction temperature: | L12: ='Mission Profil & Synthesis'!$D$29 -> 0
H13: DT° between Tac and annual average outdoor temperature: | L13: ='Mission Profil & Synthesis'!$D$30 -> 0
G15: Country: | H15: ='Mission Profil & Synthesis'!G14 -> 0
G16: Temperature distribution | H16: Range of external Temperature (°C) | K16: Results (%)
H18: ='Mission Profil & Synthesis'!G17 -> 0 | I18: ='Mission Profil & Synthesis'!H17 -> 0 | J18: ='Mission Profil & Synthesis'!I17 -> 0 | K18: ='Mission Profil & Synthesis'!J17 -> 0 | L18: =L19+K18 -> 0
H19: ='Mission Profil & Synthesis'!G18 -> 0 | I19: ='Mission Profil & Synthesis'!H18 -> 0 | J19: ='Mission Profil & Synthesis'!I18 -> 0 | K19: ='Mission Profil & Synthesis'!J18 -> 0 | L19: =L20+K19 -> 0
H20: ='Mission Profil & Synthesis'!G19 -> 0 | I20: ='Mission Profil & Synthesis'!H19 -> 0 | J20: ='Mission Profil & Synthesis'!I19 -> 0 | K20: ='Mission Profil & Synthesis'!J19 -> 0 | L20: =L21+K20 -> 0
H21: ='Mission Profil & Synthesis'!G20 -> 0 | I21: ='Mission Profil & Synthesis'!H20 -> 0 | J21: ='Mission Profil & Synthesis'!I20 -> 0 | K21: ='Mission Profil & Synthesis'!J20 -> 0 | L21: =L22+K21 -> 0
H22: ='Mission Profil & Synthesis'!G21 -> 0 | I22: ='Mission Profil & Synthesis'!H21 -> 0 | J22: ='Mission Profil & Synthesis'!I21 -> 0 | K22: ='Mission Profil & Synthesis'!J21 -> 0 | L22: =L23+K22 -> 0
H23: ='Mission Profil & Synthesis'!G22 -> 0 | I23: ='Mission Profil & Synthesis'!H22 -> 0 | J23: ='Mission Profil & Synthesis'!I22 -> 0 | K23: ='Mission Profil & Synthesis'!J22 -> 0 | L23: =L24+K23 -> 0
H24: ='Mission Profil & Synthesis'!G23 -> 0 | I24: ='Mission Profil & Synthesis'!H23 -> 0 | J24: ='Mission Profil & Synthesis'!I23 -> 0 | K24: ='Mission Profil & Synthesis'!J23 -> 0 | L24: =L25+K24 -> 0
H25: ='Mission Profil & Synthesis'!G24 -> 0 | I25: ='Mission Profil & Synthesis'!H24 -> 0 | J25: ='Mission Profil & Synthesis'!I24 -> 0 | K25: ='Mission Profil & Synthesis'!J24 -> 0 | L25: =L26+K25 -> 0
H26: ='Mission Profil & Synthesis'!G25 -> 0 | I26: ='Mission Profil & Synthesis'!H25 -> 0 | J26: ='Mission Profil & Synthesis'!I25 -> 0 | K26: ='Mission Profil & Synthesis'!J25 -> 0 | L26: =L27+K26 -> 0
H27: ='Mission Profil & Synthesis'!G26 -> 0 | I27: ='Mission Profil & Synthesis'!H26 -> 0 | J27: ='Mission Profil & Synthesis'!I26 -> 0 | K27: ='Mission Profil & Synthesis'!J26 -> 0 | L27: =L28+K27 -> 0
H28: ='Mission Profil & Synthesis'!G27 -> 0 | I28: ='Mission Profil & Synthesis'!H27 -> 0 | J28: ='Mission Profil & Synthesis'!I27 -> 0 | K28: ='Mission Profil & Synthesis'!J27 -> 0 | L28: =L29+K28 -> 0
H29: ='Mission Profil & Synthesis'!G28 -> 0 | I29: ='Mission Profil & Synthesis'!H28 -> 0 | J29: ='Mission Profil & Synthesis'!I28 -> 0 | K29: ='Mission Profil & Synthesis'!J28 -> 0 | L29: =L30+K29 -> 0
H30: ='Mission Profil & Synthesis'!G29 -> 0 | I30: ='Mission Profil & Synthesis'!H29 -> 0 | J30: ='Mission Profil & Synthesis'!I29 -> 0 | K30: ='Mission Profil & Synthesis'!J29 -> 0 | L30: =L31+K30 -> 0
H31: ='Mission Profil & Synthesis'!G30 -> 0 | I31: ='Mission Profil & Synthesis'!H30 -> 0 | J31: ='Mission Profil & Synthesis'!I30 -> 0 | K31: ='Mission Profil & Synthesis'!J30 -> 0 | L31: =K31 -> 0
F33: Datasheet Value | K33: Project values
F34: Speed (tr/min) | G34: First life expectancy parameter Lower temperature | I34: Second life expectancy parameter Higher temperature | K34: Maximum fan speed used ? (tr/min) | L34: Fan regulation ? | M34: Start and stop temperature fan, around CPU (°C) | N34: =CONCATENATE("Fan operational life expectancy (hours) at ",$L$11,"°C [Tac]") -> Fan operational life expectancy (hours) at 0°C [Tac] | O34: =CONCATENATE("Fan Life expectancy (years) at ",$L$11,"°C [Tac]") -> Fan Life expectancy (years) at 0°C [Tac] | P34: % Operating fan | Q34: Speed coefficient
A35: Equipment | B35: Board | C35: Electronic parts reference | D35: Generic name (DTR - S4) | E35: Supplier / ref datasheet | G35: Temperature (°C) | H35: Life expectancy (hours) | I35: Temperature (°C) | J35: Life expectancy (hours) | M35: =CONCATENATE("Min value: ",L12+L13+J18,"°C") -> Min value: 0°C
A36: CRS V2 DTR0000205890_C | C36: There is no fan in the CRS v2

Sheet Memory (FLASH and EEPROM) 
G2: Reminder | H2: Mission Profile
H3: Requirement of life expectancy: | K3: ='Mission Profil & Synthesis'!D9 -> 0
H4: Period 1 | I4: Number of operational day by year: | K4: ='Mission Profil & Synthesis'!D15 -> 0
I5: Number of operational hours by day: | K5: ='Mission Profil & Synthesis'!D16 -> 0
H6: Period 2 | I6: Number of operational day by year: | K6: ='Mission Profil & Synthesis'!D18 -> 0
I7: Number of operational hours by day: | K7: ='Mission Profil & Synthesis'!D19 -> 0
H8: Period 3 | I8: Number of operational day by year: | K8: ='Mission Profil & Synthesis'!D21 -> 0
I9: Number of operational hours by day: | K9: ='Mission Profil & Synthesis'!D22 -> 0
F11: Datasheet Value | L11: Project values | S11: Exported constraint | T11: Project results with datasheet value
A12: Equipment | B12: Board | C12: Electronic parts reference | D12: Generic name (DTR - S4) | E12: Supplier / ref datasheet | F12: Program/Erase Cycle Endurance (typical) | G12: Data Retention by cell (years) | H12: One sector size in Byte (Octet) or Kilo Byte or Mega Byte | J12: Number all memory sector | K12: Memory size in Byte | L12: Number of using sector | M12: Writing / erasing frequency by second, minute, hour or day | O12: Size of writing data in Byte (octet) | P12: Refreshing data ? | Q12: Memory use | R12: Writing: sequential or random? | S12: =CONCATENATE("Max number use by operational day for one Byte write. For requirement of ",K3," years") -> Max number use by operational day for one Byte write. For requirement of 0 years | T12: Operational life expectancy (days) | U12: Life expectancy (years) | V12: Average memory annual use in hour by day | W12: Memory use in Byte (octet) | X12: Total number of messages can be written to the memory considered | Y12: Total number of messages can be written taking into account the endurance of the memory | Z12: Number of use (Writing or erasure cycles) by operational day for one cell
A13: CRS V2 DTR0000205890_C | B13: PowerSupply EPLAX SB862 | C13: IC105 | D13: - | E13: ON Semi: CAT24C02 | F13: 1000000 | G13: 100 | I13: Byte | K13: =IF(I13="Byte",IF(I13="Byte",CONCATENATE(ROUND(H13*J13/(1024*1024),0)," MByte or ",ROUND(H13*J13/(1024),0)," KByte or ",ROUND(H13*J13,0)," Byte",)),IF(I13="Kilo Byte",IF(I13="Kilo Byte",CONCATENATE(ROUND(H13*J13/(1024),0)," MByte or ",ROUND(H13*J13,0)," KByte",)),IF(I13="Mega Byte",IF(I13="Mega Byte",CONCATENATE(ROUND(H13*J13,0)," MByte",))))) -> 0 MByte or 0 KByte or 0 Byte | N13: by second | P13: No | Q13: Other | R13: Sequential | S13: =IF(F13="","-",TRUNC($F13/($K$3*($K$4+$K$6+$K$8)),0)) -> #DIV/0! | T13: =IF(P13="No","Data retention restriction",Y13/Z13) -> Data retention restriction | U13: =IF(IF(P13="No", MIN((Y13/Z13)/($K$4+$K$6+$K$8),G13),(Y13/Z13)/($K$4+$K$6+$K$8))>50,">50 years",IF(P13="No", MIN((Y13/Z13)/($K$4+$K$6+$K$8),G13),(Y13/Z13)/($K$4+$K$6+$K$8))) -> #DIV/0! | V13: =($K$4*$K$5+$K$6*$K$7+$K$8*$K$9)/($K$4+$K$6+$K$8) -> #DIV/0! | W13: =IF(I13="byte",H13*L13,IF(I13="kilo byte",H13*L13*1000,IF(I13="mega byte",H13*L13*1000000))) -> 0 | X13: =W13/O13 -> #DIV/0! | Y13: =X13*F13 -> #DIV/0! | Z13: =IF(N13="by year",M13/365,1)*IF(N13="by day",M13,1)*IF(N13="by hour",V13*M13,1)*IF(N13="by minute",V13*60*M13,1)*IF(N13="by second",V13*60*60*M13,1) -> #DIV/0!
A14: CRS V2 DTR0000205890_C | B14: Management board | C14: IC2 | D14: - | E14: Numonyx: NAND01GR3B2C | F14: 100000 | G14: 10 | I14: Byte | K14: =IF(I14="Byte",IF(I14="Byte",CONCATENATE(ROUND(H14*J14/(1024*1024),0)," MByte or ",ROUND(H14*J14/(1024),0)," KByte or ",ROUND(H14*J14,0)," Byte",)),IF(I14="Kilo Byte",IF(I14="Kilo Byte",CONCATENATE(ROUND(H14*J14/(1024),0)," MByte or ",ROUND(H14*J14,0)," KByte",)),IF(I14="Mega Byte",IF(I14="Mega Byte",CONCATENATE(ROUND(H14*J14,0)," MByte",))))) -> 0 MByte or 0 KByte or 0 Byte | N14: by second | P14: No | Q14: Other | R14: Sequential | S14: =IF(F14="","-",TRUNC($F14/($K$3*($K$4+$K$6+$K$8)),0)) -> #DIV/0! | T14: =IF(P14="No","Data retention restriction",Y14/Z14) -> Data retention restriction | U14: =IF(IF(P14="No", MIN((Y14/Z14)/($K$4+$K$6+$K$8),G14),(Y14/Z14)/($K$4+$K$6+$K$8))>50,">50 years",IF(P14="No", MIN((Y14/Z14)/($K$4+$K$6+$K$8),G14),(Y14/Z14)/($K$4+$K$6+$K$8))) -> #DIV/0! | V14: =($K$4*$K$5+$K$6*$K$7+$K$8*$K$9)/($K$4+$K$6+$K$8) -> #DIV/0! | W14: =IF(I14="byte",H14*L14,IF(I14="kilo byte",H14*L14*1000,IF(I14="mega byte",H14*L14*1000000))) -> 0 | X14: =W14/O14 -> #DIV/0! | Y14: =X14*F14 -> #DIV/0! | Z14: =IF(N14="by year",M14/365,1)*IF(N14="by day",M14,1)*IF(N14="by hour",V14*M14,1)*IF(N14="by minute",V14*60*M14,1)*IF(N14="by second",V14*60*60*M14,1) -> #DIV/0!
A15: CRS V2 DTR0000205890_C | C15: IC9 | D15: - | E15: ON Semi: CAT24C02 | F15: 1000000 | G15: 100 | I15: Byte | K15: =IF(I15="Byte",IF(I15="Byte",CONCATENATE(ROUND(H15*J15/(1024*1024),0)," MByte or ",ROUND(H15*J15/(1024),0)," KByte or ",ROUND(H15*J15,0)," Byte",)),IF(I15="Kilo Byte",IF(I15="Kilo Byte",CONCATENATE(ROUND(H15*J15/(1024),0)," MByte or ",ROUND(H15*J15,0)," KByte",)),IF(I15="Mega Byte",IF(I15="Mega Byte",CONCATENATE(ROUND(H15*J15,0)," MByte",))))) -> 0 MByte or 0 KByte or 0 Byte | N15: by second | P15: No | Q15: Other | R15: Sequential | S15: =IF(F15="","-",TRUNC($F15/($K$3*($K$4+$K$6+$K$8)),0)) -> #DIV/0! | T15: =IF(P15="No","Data retention restriction",Y15/Z15) -> Data retention restriction | U15: =IF(IF(P15="No", MIN((Y15/Z15)/($K$4+$K$6+$K$8),G15),(Y15/Z15)/($K$4+$K$6+$K$8))>50,">50 years",IF(P15="No", MIN((Y15/Z15)/($K$4+$K$6+$K$8),G15),(Y15/Z15)/($K$4+$K$6+$K$8))) -> #DIV/0! | V15: =($K$4*$K$5+$K$6*$K$7+$K$8*$K$9)/($K$4+$K$6+$K$8) -> #DIV/0! | W15: =IF(I15="byte",H15*L15,IF(I15="kilo byte",H15*L15*1000,IF(I15="mega byte",H15*L15*1000000))) -> 0 | X15: =W15/O15 -> #DIV/0! | Y15: =X15*F15 -> #DIV/0! | Z15: =IF(N15="by year",M15/365,1)*IF(N15="by day",M15,1)*IF(N15="by hour",V15*M15,1)*IF(N15="by minute",V15*60*M15,1)*IF(N15="by second",V15*60*60*M15,1) -> #DIV/0!
A16: CRS V2 DTR0000205890_C | C16: IC10 | D16: - | E16: Stmicro: M24512 | F16: 4000000 | G16: 200 | I16: Byte | K16: =IF(I16="Byte",IF(I16="Byte",CONCATENATE(ROUND(H16*J16/(1024*1024),0)," MByte or ",ROUND(H16*J16/(1024),0)," KByte or ",ROUND(H16*J16,0)," Byte",)),IF(I16="Kilo Byte",IF(I16="Kilo Byte",CONCATENATE(ROUND(H16*J16/(1024),0)," MByte or ",ROUND(H16*J16,0)," KByte",)),IF(I16="Mega Byte",IF(I16="Mega Byte",CONCATENATE(ROUND(H16*J16,0)," MByte",))))) -> 0 MByte or 0 KByte or 0 Byte | N16: by second | P16: No | Q16: Other | R16: Sequential | S16: =IF(F16="","-",TRUNC($F16/($K$3*($K$4+$K$6+$K$8)),0)) -> #DIV/0! | T16: =IF(P16="No","Data retention restriction",Y16/Z16) -> Data retention restriction | U16: =IF(IF(P16="No", MIN((Y16/Z16)/($K$4+$K$6+$K$8),G16),(Y16/Z16)/($K$4+$K$6+$K$8))>50,">50 years",IF(P16="No", MIN((Y16/Z16)/($K$4+$K$6+$K$8),G16),(Y16/Z16)/($K$4+$K$6+$K$8))) -> #DIV/0! | V16: =($K$4*$K$5+$K$6*$K$7+$K$8*$K$9)/($K$4+$K$6+$K$8) -> #DIV/0! | W16: =IF(I16="byte",H16*L16,IF(I16="kilo byte",H16*L16*1000,IF(I16="mega byte",H16*L16*1000000))) -> 0 | X16: =W16/O16 -> #DIV/0! | Y16: =X16*F16 -> #DIV/0! | Z16: =IF(N16="by year",M16/365,1)*IF(N16="by day",M16,1)*IF(N16="by hour",V16*M16,1)*IF(N16="by minute",V16*60*M16,1)*IF(N16="by second",V16*60*60*M16,1) -> #DIV/0!
A17: CRS V2 DTR0000205890_C | B17: Switch board | C17: IC1 | D17: - | E17: ON Semi: CAT24C02 | F17: 1000000 | G17: 100 | I17: Byte | K17: =IF(I17="Byte",IF(I17="Byte",CONCATENATE(ROUND(H17*J17/(1024*1024),0)," MByte or ",ROUND(H17*J17/(1024),0)," KByte or ",ROUND(H17*J17,0)," Byte",)),IF(I17="Kilo Byte",IF(I17="Kilo Byte",CONCATENATE(ROUND(H17*J17/(1024),0)," MByte or ",ROUND(H17*J17,0)," KByte",)),IF(I17="Mega Byte",IF(I17="Mega Byte",CONCATENATE(ROUND(H17*J17,0)," MByte",))))) -> 0 MByte or 0 KByte or 0 Byte | N17: by second | P17: No | Q17: Other | R17: Sequential | S17: =IF(F17="","-",TRUNC($F17/($K$3*($K$4+$K$6+$K$8)),0)) -> #DIV/0! | T17: =IF(P17="No","Data retention restriction",Y17/Z17) -> Data retention restriction | U17: =IF(IF(P17="No", MIN((Y17/Z17)/($K$4+$K$6+$K$8),G17),(Y17/Z17)/($K$4+$K$6+$K$8))>50,">50 years",IF(P17="No", MIN((Y17/Z17)/($K$4+$K$6+$K$8),G17),(Y17/Z17)/($K$4+$K$6+$K$8))) -> #DIV/0! | V17: =($K$4*$K$5+$K$6*$K$7+$K$8*$K$9)/($K$4+$K$6+$K$8) -> #DIV/0! | W17: =IF(I17="byte",H17*L17,IF(I17="kilo byte",H17*L17*1000,IF(I17="mega byte",H17*L17*1000000))) -> 0 | X17: =W17/O17 -> #DIV/0! | Y17: =X17*F17 -> #DIV/0! | Z17: =IF(N17="by year",M17/365,1)*IF(N17="by day",M17,1)*IF(N17="by hour",V17*M17,1)*IF(N17="by minute",V17*60*M17,1)*IF(N17="by second",V17*60*60*M17,1) -> #DIV/0!
A18: CRS V2 DTR0000205890_C | B18: Port board | C18: IC1 | D18: - | E18: ON Semi: CAT24C02 | F18: 1000000 | G18: 100 | I18: Byte | K18: =IF(I18="Byte",IF(I18="Byte",CONCATENATE(ROUND(H18*J18/(1024*1024),0)," MByte or ",ROUND(H18*J18/(1024),0)," KByte or ",ROUND(H18*J18,0)," Byte",)),IF(I18="Kilo Byte",IF(I18="Kilo Byte",CONCATENATE(ROUND(H18*J18/(1024),0)," MByte or ",ROUND(H18*J18,0)," KByte",)),IF(I18="Mega Byte",IF(I18="Mega Byte",CONCATENATE(ROUND(H18*J18,0)," MByte",))))) -> 0 MByte or 0 KByte or 0 Byte | N18: by second | P18: No | Q18: Other | R18: Sequential | S18: =IF(F18="","-",TRUNC($F18/($K$3*($K$4+$K$6+$K$8)),0)) -> #DIV/0! | T18: =IF(P18="No","Data retention restriction",Y18/Z18) -> Data retention restriction | U18: =IF(IF(P18="No", MIN((Y18/Z18)/($K$4+$K$6+$K$8),G18),(Y18/Z18)/($K$4+$K$6+$K$8))>50,">50 years",IF(P18="No", MIN((Y18/Z18)/($K$4+$K$6+$K$8),G18),(Y18/Z18)/($K$4+$K$6+$K$8))) -> #DIV/0! | V18: =($K$4*$K$5+$K$6*$K$7+$K$8*$K$9)/($K$4+$K$6+$K$8) -> #DIV/0! | W18: =IF(I18="byte",H18*L18,IF(I18="kilo byte",H18*L18*1000,IF(I18="mega byte",H18*L18*1000000))) -> 0 | X18: =W18/O18 -> #DIV/0! | Y18: =X18*F18 -> #DIV/0! | Z18: =IF(N18="by year",M18/365,1)*IF(N18="by day",M18,1)*IF(N18="by hour",V18*M18,1)*IF(N18="by minute",V18*60*M18,1)*IF(N18="by second",V18*60*60*M18,1) -> #DIV/0!

Sheet LED
F2: Reminder | G2: Mission Profile
G3: Requirement of life expectancy: | J3: ='Mission Profil & Synthesis'!D9 -> 0
G4: Period 1 | H4: Number of operational day by year: | J4: ='Mission Profil & Synthesis'!D15 -> 0
H5: Number of operational hours by day: | J5: ='Mission Profil & Synthesis'!D16 -> 0
G6: Period 2 | H6: Number of operational day by year: | J6: ='Mission Profil & Synthesis'!D18 -> 0
H7: Number of operational hours by day: | J7: ='Mission Profil & Synthesis'!D19 -> 0
G8: Period 3 | H8: Number of operational day by year: | J8: ='Mission Profil & Synthesis'!D21 -> 0
H9: Number of operational hours by day: | J9: ='Mission Profil & Synthesis'!D22 -> 0
G10: Temperature
F11: 0.85 | G11: Tac (Temperature around component): | J11: ='Mission Profil & Synthesis'!D24 -> 0
F12: 1.3 | G12: LED DT° between Tac and optocoupler junction temperature: | J12: ='Mission Profil & Synthesis'!D27 -> 0
F14: Datasheet Value | H14: Project values | K14: Project results with datasheet value
A15: Equipment | B15: Board | C15: Electronic parts reference | D15: Generic name (DTR - S4) | E15: Supplier / ref datasheet | F15: 0,85µm or 1,3µm | G15: Maximal component current (mA) | H15: Operating current (mA) | I15: Acceptable optical power drift (%) | J15: Mean junction temperature [Tac+DT°] | K15: Operational life expectancy (hours) | L15: Life expectancy (years) | M15: q0 | N15: k0 | O15: k1 | P15: k2 | Q15: k3
A16: CRS V2 DTR0000205890_C | B16: PowerSupply EPLAX SB862 | C16: D108 | D16: - | E16: 119-013866A (Harting reference) | F16: 0.85 | G16: 100 | H16: 9.1 | I16: 0.5 | J16: =$J$11+$J$12 -> 0 | K16: =IF(H16="","-",(M16*N16*O16*P16*Q16)) -> 1.4282703e+08 | L16: =IF(H16="","-",IF(K16/($J$4*$J$5+$J$6*$J$7+$J$8*$J$9)>50,">50 years",K16/($J$4*$J$5+$J$6*$J$7+$J$8*$J$9))) -> #DIV/0! | M16: =IF(F16=0.85,2.3*10^5*EXP(7000*(1/(J16+273)-1/343)),IF(F16=1.3,8.7*10^6*EXP(7000*(1/(J16+273)-1/343)),"NOK")) -> 43085495 | N16: =G16/H16 -> 10.989011 | O16: =IF(I16>0.5,POWER(7,(2*I16-1)/0.6),POWER(0.1,(1-2*I16)/0.6)) -> 1 | P16: =POWER(10,0.5*LOG10(H16)-1) -> 0.30166206 | Q16: =1 -> 1
A17: CRS V2 DTR0000205890_C | B17: Management board | C17: LED1 | D17: - | E17: ROHM: SML-211DT | F17: 0.85 | G17: 20 | H17: 6.8 | I17: 0.5 | J17: =$J$11+$J$12 -> 0 | K17: =IF(H17="","-",(M17*N17*O17*P17*Q17)) -> 33045066 | L17: =IF(H17="","-",IF(K17/($J$4*$J$5+$J$6*$J$7+$J$8*$J$9)>50,">50 years",K17/($J$4*$J$5+$J$6*$J$7+$J$8*$J$9))) -> #DIV/0! | M17: =IF(F17=0.85,2.3*10^5*EXP(7000*(1/(J17+273)-1/343)),IF(F17=1.3,8.7*10^6*EXP(7000*(1/(J17+273)-1/343)),"NOK")) -> 43085495 | N17: =G17/H17 -> 2.9411765 | O17: =IF(I17>0.5,POWER(7,(2*I17-1)/0.6),POWER(0.1,(1-2*I17)/0.6)) -> 1 | P17: =POWER(10,0.5*LOG10(H17)-1) -> 0.2607681 | Q17: =1 -> 1
A18: CRS V2 DTR0000205890_C | C18: LED2 | D18: - | E18: ROHM: SML-211DT | F18: 0.85 | G18: 20 | H18: 6.8 | I18: 0.5 | J18: =$J$11+$J$12 -> 0 | K18: =IF(H18="","-",(M18*N18*O18*P18*Q18)) -> 33045066 | L18: =IF(H18="","-",IF(K18/($J$4*$J$5+$J$6*$J$7+$J$8*$J$9)>50,">50 years",K18/($J$4*$J$5+$J$6*$J$7+$J$8*$J$9))) -> #DIV/0! | M18: =IF(F18=0.85,2.3*10^5*EXP(7000*(1/(J18+273)-1/343)),IF(F18=1.3,8.7*10^6*EXP(7000*(1/(J18+273)-1/343)),"NOK")) -> 43085495 | N18: =G18/H18 -> 2.9411765 | O18: =IF(I18>0.5,POWER(7,(2*I18-1)/0.6),POWER(0.1,(1-2*I18)/0.6)) -> 1 | P18: =POWER(10,0.5*LOG10(H18)-1) -> 0.2607681 | Q18: =1 -> 1
A19: CRS V2 DTR0000205890_C | C19: LED3 | D19: - | E19: ROHM: SML-211DT | F19: 0.85 | G19: 20 | H19: 6.8 | I19: 0.5 | J19: =$J$11+$J$12 -> 0 | K19: =IF(H19="","-",(M19*N19*O19*P19*Q19)) -> 33045066 | L19: =IF(H19="","-",IF(K19/($J$4*$J$5+$J$6*$J$7+$J$8*$J$9)>50,">50 years",K19/($J$4*$J$5+$J$6*$J$7+$J$8*$J$9))) -> #DIV/0! | M19: =IF(F19=0.85,2.3*10^5*EXP(7000*(1/(J19+273)-1/343)),IF(F19=1.3,8.7*10^6*EXP(7000*(1/(J19+273)-1/343)),"NOK")) -> 43085495 | N19: =G19/H19 -> 2.9411765 | O19: =IF(I19>0.5,POWER(7,(2*I19-1)/0.6),POWER(0.1,(1-2*I19)/0.6)) -> 1 | P19: =POWER(10,0.5*LOG10(H19)-1) -> 0.2607681 | Q19: =1 -> 1
A20: CRS V2 DTR0000205890_C | B20: Switch board | C20: There is no LED on this board | F20: 0.85 | J20: =$J$11+$J$12 -> 0 | K20: =IF(H20="","-",(M20*N20*O20*P20*Q20)) -> - | L20: =IF(H20="","-",IF(K20/($J$4*$J$5+$J$6*$J$7+$J$8*$J$9)>50,">50 years",K20/($J$4*$J$5+$J$6*$J$7+$J$8*$J$9))) -> - | M20: =IF(F20=0.85,2.3*10^5*EXP(7000*(1/(J20+273)-1/343)),IF(F20=1.3,8.7*10^6*EXP(7000*(1/(J20+273)-1/343)),"NOK")) -> 43085495 | N20: =G20/H20 -> #DIV/0! | O20: =IF(I20>0.5,POWER(7,(2*I20-1)/0.6),POWER(0.1,(1-2*I20)/0.6)) -> 0.021544347 | P20: =POWER(10,0.5*LOG10(H20)-1) -> #NUM! | Q20: =1 -> 1
A21: CRS V2 DTR0000205890_C | B21: Port board | C21: D1 to D9 | D21: - | E21: Kingbright: L-937EGW | F21: 0.85 | G21: 25 | H21: 5 | I21: 0.5 | J21: =$J$11+$J$12 -> 0 | K21: =IF(H21="","-",(M21*N21*O21*P21*Q21)) -> 48171048 | L21: =IF(H21="","-",IF(K21/($J$4*$J$5+$J$6*$J$7+$J$8*$J$9)>50,">50 years",K21/($J$4*$J$5+$J$6*$J$7+$J$8*$J$9))) -> #DIV/0! | M21: =IF(F21=0.85,2.3*10^5*EXP(7000*(1/(J21+273)-1/343)),IF(F21=1.3,8.7*10^6*EXP(7000*(1/(J21+273)-1/343)),"NOK")) -> 43085495 | N21: =G21/H21 -> 5 | O21: =IF(I21>0.5,POWER(7,(2*I21-1)/0.6),POWER(0.1,(1-2*I21)/0.6)) -> 1 | P21: =POWER(10,0.5*LOG10(H21)-1) -> 0.2236068 | Q21: =1 -> 1
A22: CRS V2 DTR0000205890_C | C22: D10 | D22: - | E22: Kingbright: L-937GYW | F22: 0.85 | G22: 25 | H22: 5 | I22: 0.5 | J22: =$J$11+$J$12 -> 0 | K22: =IF(H22="","-",(M22*N22*O22*P22*Q22)) -> 48171048 | L22: =IF(H22="","-",IF(K22/($J$4*$J$5+$J$6*$J$7+$J$8*$J$9)>50,">50 years",K22/($J$4*$J$5+$J$6*$J$7+$J$8*$J$9))) -> #DIV/0! | M22: =IF(F22=0.85,2.3*10^5*EXP(7000*(1/(J22+273)-1/343)),IF(F22=1.3,8.7*10^6*EXP(7000*(1/(J22+273)-1/343)),"NOK")) -> 43085495 | N22: =G22/H22 -> 5 | O22: =IF(I22>0.5,POWER(7,(2*I22-1)/0.6),POWER(0.1,(1-2*I22)/0.6)) -> 1 | P22: =POWER(10,0.5*LOG10(H22)-1) -> 0.2236068 | Q22: =1 -> 1
A23: CRS V2 DTR0000205890_C | C23: D11 | D23: - | E23: Kingbright: L-937GYW | F23: 0.85 | G23: 25 | H23: 5 | I23: 0.5 | J23: =$J$11+$J$12 -> 0 | K23: =IF(H23="","-",(M23*N23*O23*P23*Q23)) -> 48171048 | L23: =IF(H23="","-",IF(K23/($J$4*$J$5+$J$6*$J$7+$J$8*$J$9)>50,">50 years",K23/($J$4*$J$5+$J$6*$J$7+$J$8*$J$9))) -> #DIV/0! | M23: =IF(F23=0.85,2.3*10^5*EXP(7000*(1/(J23+273)-1/343)),IF(F23=1.3,8.7*10^6*EXP(7000*(1/(J23+273)-1/343)),"NOK")) -> 43085495 | N23: =G23/H23 -> 5 | O23: =IF(I23>0.5,POWER(7,(2*I23-1)/0.6),POWER(0.1,(1-2*I23)/0.6)) -> 1 | P23: =POWER(10,0.5*LOG10(H23)-1) -> 0.2236068 | Q23: =1 -> 1

Sheet Optocoupler
F2: Reminder | G2: Mission Profile
G3: Requirement of life expectancy: | K3: ='Mission Profil & Synthesis'!D9 -> 0
G4: Period 1 | H4: Number of operational day by year: | K4: ='Mission Profil & Synthesis'!D15 -> 0
H5: Number of operational hours by day: | K5: ='Mission Profil & Synthesis'!D16 -> 0
G6: Period 2 | H6: Number of operational day by year: | K6: ='Mission Profil & Synthesis'!D18 -> 0
H7: Number of operational hours by day: | K7: ='Mission Profil & Synthesis'!D19 -> 0
G8: Period 3 | H8: Number of operational day by year: | K8: ='Mission Profil & Synthesis'!D21 -> 0
H9: Number of operational hours by day: | K9: ='Mission Profil & Synthesis'!D22 -> 0
G10: Temperature
G11: Tac (Temperature around component): | K11: ='Mission Profil & Synthesis'!D24 -> 0
G12: Optocoupler DT° between Tac and optocoupler junction temperature: | K12: ='Mission Profil & Synthesis'!D26 -> 0
F14: Datasheet Value | I14: Project values | L14: Project results with datasheet value
A15: Equipment | B15: Board | C15: Electronic parts reference | D15: Generic name (DTR - S4) | E15: Supplier / ref datasheet | F15: Maximal component IF (mA) | G15: Measured current IF of the transfer ratio [testing conditions] (mA) | H15: Average or Typical initial CTR for Operating IF (%) | I15: Operating IF (mA) | J15: Final CTR operating (%) | K15: Mean junction temperature [Tac+DT°] | L15: Operational life expectancy (hours) | M15: Life expectancy (years) | N15: q0 | O15: k0 | P15: k1 | Q15: k2 | R15: k3
A16: CRS V2 DTR0000205890_C | B16: PowerSupply EPLAX SB862 | C16: OC101 | D16: N/A | E16: 119-018280L (Harting reference) / FOD817A | F16: 50 | G16: 5 | H16: 0.8 | I16: 5 | J16: 0.25 | K16: =$K$11+$K$12 -> 0 | L16: =IF(H16="","-",N16*O16*P16*Q16*R16) -> 3.2483412e+08 | M16: =IF(H16="","-",IF(L16/($K$4*$K$5+$K$6*$K$7+$K$8*$K$9)>50,">50 years",L16/($K$4*$K$5+$K$6*$K$7+$K$8*$K$9))) -> #DIV/0! | N16: =0.4*EXP(4640/(K16+273)) -> 9626654 | O16: =F16/I16 -> 10 | P16: =IF(J16>H16,0.02,IF(J16/H16<0.5,POWER(7,(1-2*J16/H16)/0.6),POWER(0.1,(2*J16/H16-1)/0.6))) -> 3.3743201 | Q16: =IF(I16<=G16,1,EXP(((LN(7)-LN(1))/(LN(F16)-LN(G16)))*LN(I16)+LN(7)-(((LN(7)-LN(1))/(LN(F16)-LN(G16)))*LN(F16)))) -> 1 | R16: =1 -> 1
A17: CRS V2 DTR0000205890_C | C17: OC100 | D17: N/A | E17: 119-018280L (Harting reference) / FOD817A | F17: 50 | G17: 5 | H17: 0.8 | I17: 5 | J17: 0.25 | K17: =$K$11+$K$12 -> 0 | L17: =IF(H17="","-",N17*O17*P17*Q17*R17) -> 3.2483412e+08 | M17: =IF(H17="","-",IF(L17/($K$4*$K$5+$K$6*$K$7+$K$8*$K$9)>50,">50 years",L17/($K$4*$K$5+$K$6*$K$7+$K$8*$K$9))) -> #DIV/0! | N17: =0.4*EXP(4640/(K17+273)) -> 9626654 | O17: =F17/I17 -> 10 | P17: =IF(J17>H17,0.02,IF(J17/H17<0.5,POWER(7,(1-2*J17/H17)/0.6),POWER(0.1,(2*J17/H17-1)/0.6))) -> 3.3743201 | Q17: =IF(I17<=G17,1,EXP(((LN(7)-LN(1))/(LN(F17)-LN(G17)))*LN(I17)+LN(7)-(((LN(7)-LN(1))/(LN(F17)-LN(G17)))*LN(F17)))) -> 1 | R17: =1 -> 1
A18: CRS V2 DTR0000205890_C | B18: Management board | C18: There is no optocoupler on this board | K18: =$K$11+$K$12 -> 0 | L18: =IF(H18="","-",N18*O18*P18*Q18*R18) -> - | M18: =IF(H18="","-",IF(L18/($K$4*$K$5+$K$6*$K$7+$K$8*$K$9)>50,">50 years",L18/($K$4*$K$5+$K$6*$K$7+$K$8*$K$9))) -> - | N18: =0.4*EXP(4640/(K18+273)) -> 9626654 | O18: =F18/I18 -> #DIV/0! | P18: =IF(J18>H18,0.02,IF(J18/H18<0.5,POWER(7,(1-2*J18/H18)/0.6),POWER(0.1,(2*J18/H18-1)/0.6))) -> #DIV/0! | Q18: =IF(I18<=G18,1,EXP(((LN(7)-LN(1))/(LN(F18)-LN(G18)))*LN(I18)+LN(7)-(((LN(7)-LN(1))/(LN(F18)-LN(G18)))*LN(F18)))) -> 1 | R18: =1 -> 1
A19: CRS V2 DTR0000205890_C | B19: Switch board | C19: There is no optocoupler on this board | K19: =$K$11+$K$12 -> 0 | L19: =IF(H19="","-",N19*O19*P19*Q19*R19) -> - | M19: =IF(H19="","-",IF(L19/($K$4*$K$5+$K$6*$K$7+$K$8*$K$9)>50,">50 years",L19/($K$4*$K$5+$K$6*$K$7+$K$8*$K$9))) -> - | N19: =0.4*EXP(4640/(K19+273)) -> 9626654 | O19: =F19/I19 -> #DIV/0! | P19: =IF(J19>H19,0.02,IF(J19/H19<0.5,POWER(7,(1-2*J19/H19)/0.6),POWER(0.1,(2*J19/H19-1)/0.6))) -> #DIV/0! | Q19: =IF(I19<=G19,1,EXP(((LN(7)-LN(1))/(LN(F19)-LN(G19)))*LN(I19)+LN(7)-(((LN(7)-LN(1))/(LN(F19)-LN(G19)))*LN(F19)))) -> 1 | R19: =1 -> 1
A20: CRS V2 DTR0000205890_C | B20: Port board | C20: There is no optocoupler on this board | K20: =$K$11+$K$12 -> 0 | L20: =IF(H20="","-",N20*O20*P20*Q20*R20) -> - | M20: =IF(H20="","-",IF(L20/($K$4*$K$5+$K$6*$K$7+$K$8*$K$9)>50,">50 years",L20/($K$4*$K$5+$K$6*$K$7+$K$8*$K$9))) -> - | N20: =0.4*EXP(4640/(K20+273)) -> 9626654 | O20: =F20/I20 -> #DIV/0! | P20: =IF(J20>H20,0.02,IF(J20/H20<0.5,POWER(7,(1-2*J20/H20)/0.6),POWER(0.1,(2*J20/H20-1)/0.6))) -> #DIV/0! | Q20: =IF(I20<=G20,1,EXP(((LN(7)-LN(1))/(LN(F20)-LN(G20)))*LN(I20)+LN(7)-(((LN(7)-LN(1))/(LN(F20)-LN(G20)))*LN(F20)))) -> 1 | R20: =1 -> 1

Sheet Power Transistor
F2: Reminder | G2: Mission Profile
G3: Requirement of life expectancy: | K3: ='Mission Profil & Synthesis'!D9 -> 0
G4: Period 1 | H4: Number of operational day by year: | K4: ='Mission Profil & Synthesis'!D15 -> 0
H5: Number of operational hours by day: | K5: ='Mission Profil & Synthesis'!D16 -> 0
G6: Period 2 | H6: Number of operational day by year: | K6: ='Mission Profil & Synthesis'!D18 -> 0
H7: Number of operational hours by day: | K7: ='Mission Profil & Synthesis'!D19 -> 0
G8: Period 3 | H8: Number of operational day by year: | K8: ='Mission Profil & Synthesis'!D21 -> 0
H9: Number of operational hours by day: | K9: ='Mission Profil & Synthesis'!D22 -> 0
G10: ='Mission Profil & Synthesis'!$C$23 -> 0
G11: Transistor DT° between Tac and transistor junction temperature: | K11: ='Mission Profil & Synthesis'!$D$28 -> 0
F13: Project values | H13: Under cyclic operation, the number of cycles is limited | I13: Exported constraint | J13: Project results with Project value
A14: Equipment | B14: Board | C14: Electronic parts reference | D14: Generic name (DTR - S4) | E14: Supplier / ref datasheet | F14: Junction temperature range (°C) | G14: Number of commutation over 5W for Silicon (1W for Gallium arsenide) by day | I14: Number of commutation over 5W for Silicon (1W for Gallium arsenide) by operational day | J14: Operational life expectancy (hours) | K14: Life expectancy (years)
A15: CRS V2 DTR0000205890_C | B15: PowerSupply EPLAX SB862 | C15: T100 | D15: 119-019211H | E15: Fairchild: FQD16N25C | F15: =$K$11 -> 0 | H15: =IF(F15="","-",10000000*EXP(-0.05*F15)) -> 10000000 | I15: =IF(F15="","-",TRUNC(H15/($K$3*($K$4*$K$5/24+$K$6*$K$7/24+$K$8*$K$9/24)),0)) -> #DIV/0! | J15: =IF(G15="","-",(H15/(G15/24))) -> - | K15: =IF(G15="","-",IF(J15/($K$4*$K$5+$K$6*$K$7+$K$8*$K$9)>50,">50 years",ROUND(J15/($K$4*$K$5+$K$6*$K$7+$K$8*$K$9),2))) -> -
A16: CRS V2 DTR0000205890_C | C16: T105 | D16: 119-019211H | E16: Fairchild: FQD16N25C | F16: =$K$11 -> 0 | H16: =IF(F16="","-",10000000*EXP(-0.05*F16)) -> 10000000 | I16: =IF(F16="","-",TRUNC(H16/($K$3*($K$4*$K$5/24+$K$6*$K$7/24+$K$8*$K$9/24)),0)) -> #DIV/0! | J16: =IF(G16="","-",(H16/(G16/24))) -> - | K16: =IF(G16="","-",IF(J16/($K$4*$K$5+$K$6*$K$7+$K$8*$K$9)>50,">50 years",ROUND(J16/($K$4*$K$5+$K$6*$K$7+$K$8*$K$9),2))) -> -
A17: CRS V2 DTR0000205890_C | B17: Management board | C17: T3 | D17: DS_T_Si5475 | E17: Vishay: Si5475DDC | F17: =$K$11 -> 0 | H17: =IF(F17="","-",10000000*EXP(-0.05*F17)) -> 10000000 | I17: =IF(F17="","-",TRUNC(H17/($K$3*($K$4*$K$5/24+$K$6*$K$7/24+$K$8*$K$9/24)),0)) -> #DIV/0! | J17: =IF(G17="","-",(H17/(G17/24))) -> - | K17: =IF(G17="","-",IF(J17/($K$4*$K$5+$K$6*$K$7+$K$8*$K$9)>50,">50 years",ROUND(J17/($K$4*$K$5+$K$6*$K$7+$K$8*$K$9),2))) -> -
A18: CRS V2 DTR0000205890_C | B18: Switch board | C18: There is no power transistor which commutes 5W or more on this board | F18: =$K$11 -> 0 | H18: =IF(F18="","-",10000000*EXP(-0.05*F18)) -> 10000000 | I18: =IF(F18="","-",TRUNC(H18/($K$3*($K$4*$K$5/24+$K$6*$K$7/24+$K$8*$K$9/24)),0)) -> #DIV/0! | J18: =IF(G18="","-",(H18/(G18/24))) -> - | K18: =IF(G18="","-",IF(J18/($K$4*$K$5+$K$6*$K$7+$K$8*$K$9)>50,">50 years",ROUND(J18/($K$4*$K$5+$K$6*$K$7+$K$8*$K$9),2))) -> -
A19: CRS V2 DTR0000205890_C | B19: Port board | C19: There is no power transistor which commutes 5W or more on this board | F19: =$K$11 -> 0 | H19: =IF(F19="","-",10000000*EXP(-0.05*F19)) -> 10000000 | I19: =IF(F19="","-",TRUNC(H19/($K$3*($K$4*$K$5/24+$K$6*$K$7/24+$K$8*$K$9/24)),0)) -> #DIV/0! | J19: =IF(G19="","-",(H19/(G19/24))) -> - | K19: =IF(G19="","-",IF(J19/($K$4*$K$5+$K$6*$K$7+$K$8*$K$9)>50,">50 years",ROUND(J19/($K$4*$K$5+$K$6*$K$7+$K$8*$K$9),2))) -> -

Sheet Relay
AA1: Mercury wetted reed low power / Balanced
E2: Reminder | F2: Mission Profile | AA2: Mercury wetted reed low power / Latching Balanced
F3: Requirement of life expectancy: | I3: ='Mission Profil & Synthesis'!$D$9 -> 0 | AA3: Dry reed / Balanced
F4: Period 1 | G4: Number of operational day by year: | I4: ='Mission Profil & Synthesis'!$D$15 -> 0 | AA4: Dry reed / Latching Balanced
G5: Number of operational hours by day: | I5: ='Mission Profil & Synthesis'!$D$16 -> 0 | AA5: Electromechanical-Miniature or card
F6: Period 2 | G6: Number of operational day by year: | I6: ='Mission Profil & Synthesis'!$D$18 -> 0 | AA6: Electromechanical-European type
G7: Number of operational hours by day: | I7: ='Mission Profil & Synthesis'!$D$19 -> 0 | AA7: Thermal
F8: Period 3 | G8: Number of operational day by year: | I8: ='Mission Profil & Synthesis'!$D$21 -> 0 | AA8: AC Industrial
G9: Number of operational hours by day: | I9: ='Mission Profil & Synthesis'!$D$22 -> 0 | AA9: DC Industrial
F10: Temperature | AA10: AC High voltage vacuum
F11: Tac (Temperature around component): | I11: ='Mission Profil & Synthesis'!D24 -> 0 | AA11: DC High voltage vacuum
AA12: AC Power mercury wetted
AA13: DC Power mercury wetted
F14: Datasheet Value | H14: Project values | K14: Mechanical | M14: Project results with resistive load (Values of C < 1nF and Values of L < 100µH) | O14: Project results with capacitive load (Values of C > 1nF and Values of L < 100µH) | Q14: Project results with inductive load (Values of C < 1nF and Values of L > 100µH) | S14: Project results with inductive and capacitive load (Values of C > 1nF and Values of L > 100µH)
A15: Equipment | B15: Board | C15: Electronic parts reference | D15: Generic name (DTR - S4) | E15: Supplier / ref datasheet | F15: Mechanical lifetime (cycles) | G15: Type of relay | H15: Voltage at the terminal (V) | I15: Current through the contact (A) | J15: Number of use cycles by operational hour | K15: Mechanical results for life expectancy (hours) | L15: Mechanical results for life expectancy (years) | M15: Operational life expectancy (hours) | N15: Life expectancy (years) | O15: Operational life expectancy (hours) | P15: Life expectancy (years) | Q15: Operational life expectancy (hours) | R15: Life expectancy (years) | S15: Operational life expectancy (hours) | T15: Life expectancy (years) | U15: pt | V15: qb for resistive load | W15: qb for capacitive load | X15: qb for inductive load | Y15: qb for inductive and capacitive load
A16: CRS V2 DTR0000205890_C | C16: There is no relay in the CRS v2 | G16: #DIV/0! | H16: - | I16: - | J16: - | K16: - | L16: - | M16: - | N16: - | O16: - | P16: - | Q16: =IF($J16="","-",X16*1/($U16*($J16))) -> #DIV/0! | R16: =IF($J16="","-",IF(Q16/($I$4*$I$5+$I$6*$I$7+$I$8*$I$9)>50,">50 years",ROUND(Q16/($I$4*$I$5+$I$6*$I$7+$I$8*$I$9),1))) -> #DIV/0! | S16: =IF($J16="","-",Y16*1/($U16*($J16))) -> #DIV/0! | T16: =IF($J16="","-",IF(S16/($I$4*$I$5+$I$6*$I$7+$I$8*$I$9)>50,">50 years",ROUND(S16/($I$4*$I$5+$I$6*$I$7+$I$8*$I$9),1))) -> #DIV/0! | U16: =EXP(1740*(1/303-1/(273+$I$11))) -> 0.53203175 | V16: =IF(OR(G16=Relay_A,G16=Relay_B),(200000000)/(1+(POWER($H16*$I16/25,4))),1)*IF(OR(G16=Relay_C,G16=Relay_D),(180000000)/(1+$H16/2*(POWER($I16/0.2,4))),1)*IF(OR(G16=Relay_E,G16=Relay_F,G16=Relay_G),(100000000)/(1+2*$H16*(POWER($I16/0.5,4))),1)*IF(OR(G16=Relay_H_AC,G16=Relay_I_AC,G16=Relay_J_AC),(100000000)/(1+100*(POWER($H16/220,0.5))*$I16/3),1)*IF(OR(G16=Relay_H_DC,G16=Relay_I_DC,G16=Relay_J_DC),(100000000)/(1+100*(POWER($H16/50,1.5))*(POWER($I16/2,1.3))),1) -> #DIV/0! | W16: =IF(OR(G16=Relay_A,G16=Relay_B),(200000000)/(1+(POWER($H16*($I16*20)/25,4))),1)*IF(OR(G16=Relay_C,G16=Relay_D),(180000000)/(1+$H16/2*(POWER($I16*20/0.2,4))),1)*IF(OR(G16=Relay_E,G16=Relay_F,G16=Relay_G),(100000000)/(1+2*$H16*(POWER($I16*20/0.5,4))),1)*IF(OR(G16=Relay_H_AC,G16=Relay_I_AC,G16=Relay_J_AC),(100000000)/(1+100*(POWER($H16/220,0.5))*$I16*20/3),1)*IF(OR(G16=Relay_H_DC,G16=Relay_I_DC,G16=Relay_J_DC),(100000000)/(1+100*(POWER($H16/50,1.5))*(POWER($I16*20/2,1.3))),1) -> #DIV/0! | X16: =IF(OR(G16=Relay_A,G16=Relay_B),(200000000)/(1+(POWER(($H16*10)*$I16/25,4))),1)*IF(OR(G16=Relay_C,G16=Relay_D),(180000000)/(1+$H16*10/2*(POWER($I16/0.2,4))),1)*IF(OR(G16=Relay_E,G16=Relay_F,G16=Relay_G),(100000000)/(1+2*$H16*10*(POWER($I16/0.5,4))),1)*IF(OR(G16=Relay_H_AC,G16=Relay_I_AC,G16=Relay_J_AC),(100000000)/(1+100*(POWER($H16*10/220,0.5))*$I16/3),1)*IF(OR(G16=Relay_H_DC,G16=Relay_I_DC,G16=Relay_J_DC),(100000000)/(1+100*(POWER($H16*10/50,1.5))*(POWER($I16/2,1.3))),1) -> #DIV/0! | Y16: =IF(OR(G16=Relay_A,G16=Relay_B),(200000000)/(1+(POWER(($H16*10)*($I16*20)/25,4))),1)*IF(OR(G16=Relay_C,G16=Relay_D),(180000000)/(1+$H16*10/2*(POWER($I16*20/0.2,4))),1)*IF(OR(G16=Relay_E,G16=Relay_F,G16=Relay_G),(100000000)/(1+2*$H16*10*(POWER($I16*20/0.5,4))),1)*IF(OR(G16=Relay_H_AC,G16=Relay_I_AC,G16=Relay_J_AC),(100000000)/(1+100*(POWER($H16*10/220,0.5))*$I16*20/3),1)*IF(OR(G16=Relay_H_DC,G16=Relay_I_DC,G16=Relay_J_DC),(100000000)/(1+100*(POWER($H16*10/50,1.5))*(POWER($I16*20/2,1.3))),1) -> #DIV/0!
A17: Generic name (DTR - S4) | G17: #DIV/0! | H17: - | I17: - | J17: - | K17: - | L17: - | M17: - | N17: - | O17: - | P17: - | Q17: =IF($J17="","-",X17*1/($U17*($J17))) -> #DIV/0! | R17: =IF($J17="","-",IF(Q17/($I$4*$I$5+$I$6*$I$7+$I$8*$I$9)>50,">50 years",ROUND(Q17/($I$4*$I$5+$I$6*$I$7+$I$8*$I$9),1))) -> #DIV/0! | S17: =IF($J17="","-",Y17*1/($U17*($J17))) -> #DIV/0! | T17: =IF($J17="","-",IF(S17/($I$4*$I$5+$I$6*$I$7+$I$8*$I$9)>50,">50 years",ROUND(S17/($I$4*$I$5+$I$6*$I$7+$I$8*$I$9),1))) -> #DIV/0! | U17: =EXP(1740*(1/303-1/(273+$I$11))) -> 0.53203175 | V17: =IF(OR(G17=Relay_A,G17=Relay_B),(200000000)/(1+(POWER($H17*$I17/25,4))),1)*IF(OR(G17=Relay_C,G17=Relay_D),(180000000)/(1+$H17/2*(POWER($I17/0.2,4))),1)*IF(OR(G17=Relay_E,G17=Relay_F,G17=Relay_G),(100000000)/(1+2*$H17*(POWER($I17/0.5,4))),1)*IF(OR(G17=Relay_H_AC,G17=Relay_I_AC,G17=Relay_J_AC),(100000000)/(1+100*(POWER($H17/220,0.5))*$I17/3),1)*IF(OR(G17=Relay_H_DC,G17=Relay_I_DC,G17=Relay_J_DC),(100000000)/(1+100*(POWER($H17/50,1.5))*(POWER($I17/2,1.3))),1) -> #DIV/0! | W17: =IF(OR(G17=Relay_A,G17=Relay_B),(200000000)/(1+(POWER($H17*($I17*20)/25,4))),1)*IF(OR(G17=Relay_C,G17=Relay_D),(180000000)/(1+$H17/2*(POWER($I17*20/0.2,4))),1)*IF(OR(G17=Relay_E,G17=Relay_F,G17=Relay_G),(100000000)/(1+2*$H17*(POWER($I17*20/0.5,4))),1)*IF(OR(G17=Relay_H_AC,G17=Relay_I_AC,G17=Relay_J_AC),(100000000)/(1+100*(POWER($H17/220,0.5))*$I17*20/3),1)*IF(OR(G17=Relay_H_DC,G17=Relay_I_DC,G17=Relay_J_DC),(100000000)/(1+100*(POWER($H17/50,1.5))*(POWER($I17*20/2,1.3))),1) -> #DIV/0! | X17: =IF(OR(G17=Relay_A,G17=Relay_B),(200000000)/(1+(POWER(($H17*10)*$I17/25,4))),1)*IF(OR(G17=Relay_C,G17=Relay_D),(180000000)/(1+$H17*10/2*(POWER($I17/0.2,4))),1)*IF(OR(G17=Relay_E,G17=Relay_F,G17=Relay_G),(100000000)/(1+2*$H17*10*(POWER($I17/0.5,4))),1)*IF(OR(G17=Relay_H_AC,G17=Relay_I_AC,G17=Relay_J_AC),(100000000)/(1+100*(POWER($H17*10/220,0.5))*$I17/3),1)*IF(OR(G17=Relay_H_DC,G17=Relay_I_DC,G17=Relay_J_DC),(100000000)/(1+100*(POWER($H17*10/50,1.5))*(POWER($I17/2,1.3))),1) -> #DIV/0! | Y17: =IF(OR(G17=Relay_A,G17=Relay_B),(200000000)/(1+(POWER(($H17*10)*($I17*20)/25,4))),1)*IF(OR(G17=Relay_C,G17=Relay_D),(180000000)/(1+$H17*10/2*(POWER($I17*20/0.2,4))),1)*IF(OR(G17=Relay_E,G17=Relay_F,G17=Relay_G),(100000000)/(1+2*$H17*10*(POWER($I17*20/0.5,4))),1)*IF(OR(G17=Relay_H_AC,G17=Relay_I_AC,G17=Relay_J_AC),(100000000)/(1+100*(POWER($H17*10/220,0.5))*$I17*20/3),1)*IF(OR(G17=Relay_H_DC,G17=Relay_I_DC,G17=Relay_J_DC),(100000000)/(1+100*(POWER($H17*10/50,1.5))*(POWER($I17*20/2,1.3))),1) -> #DIV/0!

Sheet Switch
E2: Reminder | F2: Mission Profile
F3: Requirement of life expectancy: | I3: ='Mission Profil & Synthesis'!$D$9 -> 0
F4: Period 1 | G4: Number of operational day by year: | I4: ='Mission Profil & Synthesis'!$D$15 -> 0
G5: Number of operational hours by day: | I5: ='Mission Profil & Synthesis'!$D$16 -> 0
F6: Period 2 | G6: Number of operational day by year: | I6: ='Mission Profil & Synthesis'!$D$18 -> 0
G7: Number of operational hours by day: | I7: ='Mission Profil & Synthesis'!$D$19 -> 0
F8: Period 3 | G8: Number of operational day by year: | I8: ='Mission Profil & Synthesis'!$D$21 -> 0
G9: Number of operational hours by day: | I9: ='Mission Profil & Synthesis'!$D$22 -> 0
F11: Datasheet Value | G11: Project values | H11: Exported constraint | I11: Project results with datasheet value
A12: Equipment | B12: Board | C12: Electronic parts reference | D12: Generic name (DTR - S4) | E12: Supplier / ref datasheet | F12: Mechanical lifetime (cycles) | G12: Number of use cycles by operational day | H12: Max number use by operational day | I12: Operational life expectancy (hours) | J12: Life expectancy (years)
A13: CRS V2 DTR0000205890_C | C13: There is no switch in the CRS v2 | H13: =IF(F13="","-",TRUNC($F13/($I$3*($I$4*$I$5/24+$I$6*$I$7/24+$I$8*$I$9/24)),0)) -> - | I13: =IF(G13="","-",(F13/(G13/24))) -> - | J13: =IF(G13="","-",IF(I13/($I$4*$I$5+$I$6*$I$7+$I$8*$I$9)>50,">50 years",(ROUND(I13/($I$4*$I$5+$I$6*$I$7+$I$8*$I$9),2)))) -> -

Sheet Creation Annexe Word
