Workbook
Name __BAC1: [1]Sheet1!$CF$18
Name __BAC2: [1]Sheet1!$CF$34
Name __BAC3: [1]Sheet1!$CF$50
Name __BAC4: [1]Sheet1!$CF$66
Name __BAC5: [1]Sheet1!$CF$82
Name __BAC6: [1]Sheet1!$CF$98
Name __BAC7: [1]Sheet1!$CF$114
Name __BAC8: [1]Sheet1!$CF$130
Name __BOX2: [1]Sheet1!$L$7
Name __BOX3: [1]Sheet1!$L$8
Name __FGS1: [1]Sheet1!$K$5:$M$31
Name __FGS2: [1]Sheet1!$K$33:$M$35
Name __lC: #REF!
Name __LW1: #REF!
Name __LW2: #REF!
Name __SAP9: #REF!
Name __STD562: [1]Sheet1!#REF!
Name __STD563: [1]Sheet1!#REF!
Name _2076: #REF!
Name _2076IU: [2]_file____D__Mes_20documents_Com!#REF!
Name _7Excel_BuiltIn_Print_Area_5_1: #REF!
Name _BAC1: [1]Sheet1!$CF$18
Name _BAC2: [1]Sheet1!$CF$34
Name _BAC3: [1]Sheet1!$CF$50
Name _BAC4: [1]Sheet1!$CF$66
Name _BAC5: [1]Sheet1!$CF$82
Name _BAC6: [1]Sheet1!$CF$98
Name _BAC7: [1]Sheet1!$CF$114
Name _BAC8: [1]Sheet1!$CF$130
Name _BOX2: [1]Sheet1!$L$7
Name _BOX3: [1]Sheet1!$L$8
Name _FGS1: [1]Sheet1!$K$5:$M$31
Name _FGS2: [1]Sheet1!$K$33:$M$35
Name _lC: #REF!
Name _Lot1: "'Lot 1'!"
Name _LW1: #REF!
Name _LW2: #REF!
Name _RC: [2]Récupéré_Feuil1!#REF!
Name _SAP9: #REF!
Name _STD562: [1]Sheet1!#REF!
Name _STD563: [1]Sheet1!#REF!
Name A00Status: '[3]PCP CONTROL'!$H$5
Name A01Status: '[3]PCP CONTROL'!$H$6
Name A02Status: '[3]PCP CONTROL'!$H$7
Name A03Status: '[3]PCP CONTROL'!$H$8
Name A04Status: '[3]PCP CONTROL'!$H$9
Name acde: #REF!
Name acde_5: #REF!
Name acde_7: #REF!
Name act: #REF!
Name Act_fermée: [4]Configuration!$O$23
Name Acteurs: [5]Configuration!$D$3:$D$8
Name Action_status: '[6]2. Actions'!#REF!
Name actions_cost: '[3]R&O Log'!$M$6:$M$14
Name actions_cost_opp: #REF!
Name actions_opp: #REF!
Name actual: #REF!
Name Actual_Hours: '[6]Resource Data'!$C$5
Name Actual_Labour: '[6]Cost Data Summary Sheet'!$C$36
Name Actual_Material: '[6]Cost Data Summary Sheet'!$C$37

Sheet EngSAP
J1: Nº pièce référence | L1: RECHC | M1: RECHD
J2: 10000524 | L2: =VLOOKUP(J2,SynthEng!$C$3:$C$16,1,0) -> 10000524 | M2: =VLOOKUP(J2,SynthEng!$D$3:$D$33,1,0) -> #N/A
J3: 10001324 | L3: =VLOOKUP(J3,SynthEng!$C$3:$C$16,1,0) -> 10001324 | M3: =VLOOKUP(J3,SynthEng!$D$3:$D$33,1,0) -> #N/A
J4: 10007380 | L4: =VLOOKUP(J4,SynthEng!$C$3:$C$16,1,0) -> 10007380 | M4: =VLOOKUP(J4,SynthEng!$D$3:$D$33,1,0) -> #N/A
J5: 10007380 | L5: =VLOOKUP(J5,SynthEng!$C$3:$C$16,1,0) -> 10007380 | M5: =VLOOKUP(J5,SynthEng!$D$3:$D$33,1,0) -> #N/A
J6: 10010401 | L6: =VLOOKUP(J6,SynthEng!$C$3:$C$16,1,0) -> 10010401 | M6: =VLOOKUP(J6,SynthEng!$D$3:$D$33,1,0) -> #N/A
J7: 10011563 | L7: =VLOOKUP(J7,SynthEng!$C$3:$C$16,1,0) -> 10011563 | M7: =VLOOKUP(J7,SynthEng!$D$3:$D$33,1,0) -> #N/A
J8: 10017380 | L8: =VLOOKUP(J8,SynthEng!$C$3:$C$16,1,0) -> 10017380 | M8: =VLOOKUP(J8,SynthEng!$D$3:$D$33,1,0) -> #N/A
J9: 10017380 | L9: =VLOOKUP(J9,SynthEng!$C$3:$C$16,1,0) -> 10017380 | M9: =VLOOKUP(J9,SynthEng!$D$3:$D$33,1,0) -> #N/A
J10: 10017380 | L10: =VLOOKUP(J10,SynthEng!$C$3:$C$16,1,0) -> 10017380 | M10: =VLOOKUP(J10,SynthEng!$D$3:$D$33,1,0) -> #N/A
J11: 10020644 | L11: =VLOOKUP(J11,SynthEng!$C$3:$C$16,1,0) -> 10020644 | M11: =VLOOKUP(J11,SynthEng!$D$3:$D$33,1,0) -> #N/A
J12: 10021881 | L12: =VLOOKUP(J12,SynthEng!$C$3:$C$16,1,0) -> 10021881 | M12: =VLOOKUP(J12,SynthEng!$D$3:$D$33,1,0) -> #N/A
J13: 10026399 | L13: =VLOOKUP(J13,SynthEng!$C$3:$C$16,1,0) -> 10026399 | M13: =VLOOKUP(J13,SynthEng!$D$3:$D$33,1,0) -> #N/A
... J39: 4500020455 | L39: =VLOOKUP(J39,SynthEng!$C$3:$C$16,1,0) -> #N/A | M39: =VLOOKUP(J39,SynthEng!$D$3:$D$33,1,0) -> #N/A
J40: S2048165 | L40: =VLOOKUP(J40,SynthEng!$C$3:$C$16,1,0) -> #N/A | M40: =VLOOKUP(J40,SynthEng!$D$3:$D$33,1,0) -> S2048165
J41: S2048197 | L41: =VLOOKUP(J41,SynthEng!$C$3:$C$16,1,0) -> #N/A | M41: =VLOOKUP(J41,SynthEng!$D$3:$D$33,1,0) -> S2048197
J42: T1196918 | L42: =VLOOKUP(J42,SynthEng!$C$3:$C$16,1,0) -> #N/A | M42: =VLOOKUP(J42,SynthEng!$D$3:$D$33,1,0) -> T1196918
J43: T1196918 | L43: =VLOOKUP(J43,SynthEng!$C$3:$C$16,1,0) -> #N/A | M43: =VLOOKUP(J43,SynthEng!$D$3:$D$33,1,0) -> T1196918
J44: T1196918 | L44: =VLOOKUP(J44,SynthEng!$C$3:$C$16,1,0) -> #N/A | M44: =VLOOKUP(J44,SynthEng!$D$3:$D$33,1,0) -> T1196918
J45: T1196918 | L45: =VLOOKUP(J45,SynthEng!$C$3:$C$16,1,0) -> #N/A | M45: =VLOOKUP(J45,SynthEng!$D$3:$D$33,1,0) -> T1196918
J46: T1196918 | L46: =VLOOKUP(J46,SynthEng!$C$3:$C$16,1,0) -> #N/A | M46: =VLOOKUP(J46,SynthEng!$D$3:$D$33,1,0) -> T1196918
J47: T1196918 | L47: =VLOOKUP(J47,SynthEng!$C$3:$C$16,1,0) -> #N/A | M47: =VLOOKUP(J47,SynthEng!$D$3:$D$33,1,0) -> T1196918
J48: T1196918 | L48: =VLOOKUP(J48,SynthEng!$C$3:$C$16,1,0) -> #N/A | M48: =VLOOKUP(J48,SynthEng!$D$3:$D$33,1,0) -> T1196918
J49: T1196918 | L49: =VLOOKUP(J49,SynthEng!$C$3:$C$16,1,0) -> #N/A | M49: =VLOOKUP(J49,SynthEng!$D$3:$D$33,1,0) -> T1196918
J50: T1204110 | L50: =VLOOKUP(J50,SynthEng!$C$3:$C$16,1,0) -> #N/A | M50: =VLOOKUP(J50,SynthEng!$D$3:$D$33,1,0) -> T1204110
J51: T1205509 | L51: =VLOOKUP(J51,SynthEng!$C$3:$C$16,1,0) -> #N/A | M51: =VLOOKUP(J51,SynthEng!$D$3:$D$33,1,0) -> T1205509
... J60: T1242971 | L60: =VLOOKUP(J60,SynthEng!$C$3:$C$16,1,0) -> #N/A | M60: =VLOOKUP(J60,SynthEng!$D$3:$D$33,1,0) -> T1242971
O66: =VLOOKUP(J2,SynthEng!$C$3:$C$16,1,FALSE) -> 10000524 | Q66: =MATCH(J2,SynthEng!$C$3:$C$16,FALSE) -> 3 | S66: =LOOKUP(J2,SynthEng!$C$3:$C$16) -> 10000524
O67: =VLOOKUP(J3,SynthEng!$C$3:$C$16,1,FALSE) -> 10001324 | Q67: =MATCH(J3,SynthEng!$C$3:$C$16,FALSE) -> 1 | S67: =LOOKUP(J3,SynthEng!$C$3:$C$16) -> 10000524
O68: =VLOOKUP(J4,SynthEng!$C$3:$C$16,1,FALSE) -> 10007380 | Q68: =MATCH(J4,SynthEng!$C$3:$C$16,FALSE) -> 6 | S68: =LOOKUP(J4,SynthEng!$C$3:$C$16) -> 10000524
O69: =VLOOKUP(J5,SynthEng!$C$3:$C$16,1,FALSE) -> 10007380 | Q69: =MATCH(J5,SynthEng!$C$3:$C$16,FALSE) -> 6 | S69: =LOOKUP(J5,SynthEng!$C$3:$C$16) -> 10000524
O70: =VLOOKUP(J6,SynthEng!$C$3:$C$16,1,FALSE) -> 10010401 | Q70: =MATCH(J6,SynthEng!$C$3:$C$16,FALSE) -> 7 | S70: =LOOKUP(J6,SynthEng!$C$3:$C$16) -> 10010401
O71: =VLOOKUP(J7,SynthEng!$C$3:$C$16,1,FALSE) -> 10011563 | Q71: =MATCH(J7,SynthEng!$C$3:$C$16,FALSE) -> 2 | S71: =LOOKUP(J7,SynthEng!$C$3:$C$16) -> 10010401
O72: =VLOOKUP(J8,SynthEng!$C$3:$C$16,1,FALSE) -> 10017380 | Q72: =MATCH(J8,SynthEng!$C$3:$C$16,FALSE) -> 8 | S72: =LOOKUP(J8,SynthEng!$C$3:$C$16) -> 10017380
O73: =VLOOKUP(J9,SynthEng!$C$3:$C$16,1,FALSE) -> 10017380 | Q73: =MATCH(J9,SynthEng!$C$3:$C$16,FALSE) -> 8 | S73: =LOOKUP(J9,SynthEng!$C$3:$C$16) -> 10017380
O74: =VLOOKUP(J10,SynthEng!$C$3:$C$16,1,FALSE) -> 10017380 | Q74: =MATCH(J10,SynthEng!$C$3:$C$16,FALSE) -> 8 | S74: =LOOKUP(J10,SynthEng!$C$3:$C$16) -> 10017380
O75: =VLOOKUP(J11,SynthEng!$C$3:$C$16,1,FALSE) -> 10020644 | Q75: =MATCH(J11,SynthEng!$C$3:$C$16,FALSE) -> 4 | S75: =LOOKUP(J11,SynthEng!$C$3:$C$16) -> 10017380
O76: =VLOOKUP(J12,SynthEng!$C$3:$C$16,1,FALSE) -> 10021881 | Q76: =MATCH(J12,SynthEng!$C$3:$C$16,FALSE) -> 9 | S76: =LOOKUP(J12,SynthEng!$C$3:$C$16) -> 10021881
O77: =VLOOKUP(J13,SynthEng!$C$3:$C$16,1,FALSE) -> 10026399 | Q77: =MATCH(J13,SynthEng!$C$3:$C$16,FALSE) -> 14 | S77: =LOOKUP(J13,SynthEng!$C$3:$C$16) -> 10021881
... O110: =VLOOKUP(J46,SynthEng!$C$3:$C$16,1,FALSE) -> #N/A | Q110: =MATCH(J46,SynthEng!$C$3:$C$16,FALSE) -> #N/A | S110: =LOOKUP(J46,SynthEng!$C$3:$C$16) -> #N/A
O111: =VLOOKUP(J47,SynthEng!$C$3:$C$16,1,FALSE) -> #N/A

Sheet SynthEng
C2: DA | D2: Cde
C3: 10001324 | D3: 4500001306
C4: 10011563 | D4: 4500001378
C5: 10000524 | D5: 4500001378
C6: 10020644 | D6: 4500001378
C7: 10034220 | D7: 4500001378
C8: 10007380 | D8: 4500003446
C9: 10010401 | D9: 4500007100
C10: 10017380 | D10: 4500011899
C11: 10021881 | D11: 4500012595
C12: 10027832 | D12: 4500016954
C13: 10033974 | D13: 4500019598
C14: 10027832 | D14: 4500019966
C15: 10026924 | D15: S2048165
C16: 10026399 | D16: S2048197
D17: T1196918
D18: T1196918
D19: T1196918
D20: T1196918
D21: T1196918
D22: T1196918
D23: T1196918
D24: T1196918
D25: T1196918
D26: T1204110
D27: T1205509
D28: T1229436
... D33: T1242971
