Workbook

Sheet DEVIS
B16: NATURE DES TRAVAUX | C16: REFECTION A NEUF DE LA TOITURE
B18: Nature des travaux | D18: Quantité / m2 | E18: Zone | F18: Prix unitaire | G18: Montant H.T.
B19: Montage & démontage de l'échafaudage (forfait) | D19: 1 | E19: FORFAIT | G19: =IF(F19="","",(D19*F19))
B20: Démontage et évacuation des tuiles | D20: 130 | E20: ZONE 1 | G20: =IF(F20="","",(D20*F20))
B21: Réalisation sous-toiture | D21: 130 | E21: ZONE 1 | F21: =IF(B21="","",(VLOOKUP(B21,'DETAIL PRESTATIONS'!$A$3:$B$31,2,0))) -> 0 | G21: =IF(F21="","",(D21*F21)) -> 0
B22: Remise en place des tuiles neuves | D22: 130 | E22: ZONE 1 | F22: =IF(B22="","",(VLOOKUP(B22,'DETAIL PRESTATIONS'!$A$3:$B$31,2,0))) -> 0 | G22: =IF(F22="","",(D22*F22)) -> 0
F23: =IF(B23="","",(VLOOKUP(B23,'DETAIL PRESTATIONS'!$A$3:$B$31,2,0))) | G23: =IF(F23="","",(D23*F23))
F24: =IF(B24="","",(VLOOKUP(B24,'DETAIL PRESTATIONS'!$A$3:$B$31,2,0))) | G24: =IF(F24="","",(D24*F24))
F25: =IF(B25="","",(VLOOKUP(B25,'DETAIL PRESTATIONS'!$A$3:$B$31,2,0))) | G25: =IF(F25="","",(D25*F25))
F26: =IF(B26="","",(VLOOKUP(B26,'DETAIL PRESTATIONS'!$A$3:$B$31,2,0))) | G26: =IF(F26="","",(D26*F26))
F27: =IF(B27="","",(VLOOKUP(B27,'DETAIL PRESTATIONS'!$A$3:$B$31,2,0))) | G27: =IF(F27="","",(D27*F27))
F28: =IF(B28="","",(VLOOKUP(B28,'DETAIL PRESTATIONS'!$A$3:$B$31,2,0))) | G28: =IF(F28="","",(D28*F28))
F29: =IF(B29="","",(VLOOKUP(B29,'DETAIL PRESTATIONS'!$A$3:$B$31,2,0))) | G29: =IF(F29="","",(D29*F29))
D30: Total hors taxes | G30: =SUM(G19:G29) -> 0
D31: TVA | F31: 0.1 | G31: =G30*F31 -> 0
D32: Total TTC | G32: =SUM(G30:G31) -> 0

Sheet DETAIL PRESTATIONS
A1: PRESTATIONS
B2: FORFAIT | C2: ZONE 1 | D2: ZONE 2 | E2: ZONE 3 | F2: ZONE 4
A3: Montage & démontage de l'échafaudage | B3: 150
A4: Démontage et évacuation des tuiles | B4: 100 | C4: 110 | D4: 120 | E4: 130 | F4: 140
A5: Réalisation sous-toiture
A6: Remise en place des tuiles neuves
A7: Démolition de la cheminée
A8: Evacuation des déblais
A9: Remise en état
