Workbook

Sheet Consignes
A3: Consignes :
A5: Si le patient bénéficie du tarif de responsabilité merci de mettre 0 sinon mettre 1
A7: En cas de changement de Grille tarifaire, il faudra juste modifie la zone de recherche

Sheet Base de donnée
A1: Nom | B1: Prénom | C1: Date de Naissance | D1: Adresse Postal | E1: N° Téléphone | F1: Adresse mail | G1: N° Sécurité social | H1: Regime Social | I1: Mutuelle | J1: Nom Mutuelle | K1: Pathologie principale | L1: Double Pathologie | M1: Code tarif | N1: Tarif de responsabilité | O1: Prix 2014 | P1: Saison 2013 | Q1: Date fin de cure 2013 | R1: Saison 2014 | S1: Date fin de cure 2014 | T1: Mois fin de cure 2014 | U1: Date de reglement Organisme | V1: Montant reglé Organisme | W1: Règlement reçu le | X1: Prise en charge Mutuelle ou quote part charge | Y1: Mois previsionnel encaissement | Z1: Montant reglé | AA1: Règlement reçu le | AB1: Saison 2015 | AC1: Date fin cure 2015 | AD1: Mois fin de cure 2015 | AE1: Date de relance
A2: Monplanet | B2: Etienne | C2: 30403 | D2: 44 bis rue barrau 31400 Toulouse | H2: CPAM | I2: 0 | J2: Harmonie Mutuelle | K2: Rhumathologie | L2: Oui | M2: 5 | N2: 1 | O2: =IF(N2=0,VLOOKUP(M2,'Grille Tarifaire '!$A$6:$E$14,4),VLOOKUP(M2,'Grille Tarifaire '!$A$6:$E$14,5)) -> 642.94 | P2: 41519 | Q2: =IF(P2="","",P2+20) -> 41539 | R2: 41883 | S2: =IF(R2="","",R2+20) -> 41903 | T2: =MONTH(S2) -> 9 | U2: =S2+'Délai de reglement '!$B$6+VLOOKUP(H2,'Délai de reglement '!$A$5:$C$9,2) -> 41909 | V2: =O2*VLOOKUP(H2,'Délai de reglement '!$A$5:$C$9,3) -> 417.911 | X2: =IFERROR(INDEX('Délai de reglement '!$B$13:$D$14,MATCH(J2,'Délai de reglement '!$A$13:$A$14,0),MATCH(H2,'Délai de reglement '!$B$12:$D$12,0)),"")+(IF(I2=0,U2,S2)) -> 41915 | Y2: =MONTH(X2) -> 10 | Z2: =+O2*'Délai de reglement '!$E$13 -> 225.029 | AB2: 42254 | AC2: =IF(AB2="","",AB2+20) -> 42274 | AD2: =MONTH(AC2) -> 9 | AE2: 42009
A3: Guillemin | B3: Marie | H3: MSA | I3: 0 | J3: Harmonie Mutuelle | K3: Phebologie | L3: Non | M3: 1 | N3: 0 | O3: =IF(N3=1,VLOOKUP(M3,'Grille Tarifaire '!$A$6:$E$14,4),VLOOKUP(M3,'Grille Tarifaire '!$A$6:$E$14,5)) -> 611.73 | P3: 41519 | Q3: =IF(P3="","",P3+20) -> 41539 | R3: 41890 | S3: =IF(R3="","",R3+20) -> 41910 | T3: =MONTH(S3) -> 9 | U3: =S3+'Délai de reglement '!$B$6+VLOOKUP(H3,'Délai de reglement '!$A$5:$C$9,2) -> 41916 | V3: =O3*VLOOKUP(H3,'Délai de reglement '!$A$5:$C$9,3) -> 397.6245 | X3: =IFERROR(INDEX('Délai de reglement '!$B$13:$D$14,MATCH(J3,'Délai de reglement '!$A$13:$A$14,0),MATCH(H3,'Délai de reglement '!$B$12:$D$12,0)),"")+(IF(I3=0,U3,S3)) -> 41926 | Y3: =MONTH(X3) -> 10 | Z3: =+O3*'Délai de reglement '!$E$13 -> 214.1055 | AB3: 42254 | AC3: =IF(AB3="","",AB3+20) -> 42274 | AD3: =MONTH(AC3) -> 9 | AE3: 42009
A4: Guillemin | B4: Hubert | H4: RSI | I4: 1 | K4: Phebologie | L4: Oui | M4: 1 | N4: 0 | O4: =IF(N4=1,VLOOKUP(M4,'Grille Tarifaire '!$A$6:$E$14,4),VLOOKUP(M4,'Grille Tarifaire '!$A$6:$E$14,5)) -> 611.73 | P4: 41524 | Q4: =IF(P4="","",P4+20) -> 41544 | R4: 41897 | S4: =IF(R4="","",R4+20) -> 41917 | T4: =MONTH(S4) -> 10 | U4: =S4+'Délai de reglement '!$B$6+VLOOKUP(H4,'Délai de reglement '!$A$5:$C$9,2) -> 41935 | V4: =O4*VLOOKUP(H4,'Délai de reglement '!$A$5:$C$9,3) -> 397.6245 | X4: =IFERROR(INDEX('Délai de reglement '!$B$13:$D$14,MATCH(J4,'Délai de reglement '!$A$13:$A$14,0),MATCH(H4,'Délai de reglement '!$B$12:$D$12,"")),"")+(IF(I4=0,U4,S4)) -> #VALUE! | Y4: =MONTH(X4) -> #VALUE! | Z4: =+O4*'Délai de reglement '!$E$13 -> 214.1055 | AB4: 42261 | AC4: =IF(AB4="","",AB4+20) -> 42281 | AD4: =MONTH(AC4) -> 10
A5: Guillemin | B5: Victor | H5: CPAM | I5: 1 | K5: Phebologie | L5: Non | M5: 1 | N5: 1 | O5: =IF(N5=1,VLOOKUP(M5,'Grille Tarifaire '!$A$6:$E$14,4),VLOOKUP(M5,'Grille Tarifaire '!$A$6:$E$14,5)) -> 589.85 | P5: 41524 | Q5: =IF(P5="","",P5+20) -> 41544 | R5: 41897 | S5: =IF(R5="","",R5+20) -> 41917 | T5: =MONTH(S5) -> 10 | U5: =S5+'Délai de reglement '!$B$6+VLOOKUP(H5,'Délai de reglement '!$A$5:$C$9,2) -> 41923 | V5: =O5*VLOOKUP(H5,'Délai de reglement '!$A$5:$C$9,3) -> 383.4025 | X5: =IFERROR(INDEX('Délai de reglement '!$B$13:$D$14,MATCH(J5,'Délai de reglement '!$A$13:$A$14,0),MATCH(H5,'Délai de reglement '!$B$12:$D$12,0)),"")+(IF(I5=0,U5,S5)) -> #VALUE! | Y5: =MONTH(X5) -> #VALUE! | Z5: =+O5*'Délai de reglement '!$E$13 -> 206.4475 | AB5: 42261 | AC5: =IF(AB5="","",AB5+20) -> 42281 | AD5: =MONTH(AC5) -> 10
A6: Dupont | B6: Marie | H6: CPAM | I6: 0 | J6: AG2R | K6: Rhumathologie | L6: Oui | M6: 5 | N6: 1 | O6: =IF(N6=1,VLOOKUP(M6,'Grille Tarifaire '!$A$6:$E$14,4),VLOOKUP(M6,'Grille Tarifaire '!$A$6:$E$14,5)) -> 619.94 | P6: 41554 | Q6: =IF(P6="","",P6+20) -> 41574 | R6: 41918 | S6: =IF(R6="","",R6+20) -> 41938 | T6: =MONTH(S6) -> 10 | U6: =S6+'Délai de reglement '!$B$6+VLOOKUP(H6,'Délai de reglement '!$A$5:$C$9,2) -> 41944 | V6: =O6*VLOOKUP(H6,'Délai de reglement '!$A$5:$C$9,3) -> 402.961 | X6: =IFERROR(INDEX('Délai de reglement '!$B$13:$D$14,MATCH(J6,'Délai de reglement '!$A$13:$A$14,0),MATCH(H6,'Délai de reglement '!$B$12:$D$12,0)),"")+(IF(I6=0,U6,S6)) -> 41951 | Y6: =MONTH(X6) -> 11 | Z6: =+O6*'Délai de reglement '!$E$13 -> 216.979 | AB6: 42268 | AC6: =IF(AB6="","",AB6+20) -> 42288 | AD6: =MONTH(AC6) -> 10
A7: Durand | B7: Jean Yves | H7: MSA | I7: 0 | J7: AG2R | K7: Rhumathologie | L7: Oui | M7: 5 | N7: 0 | O7: =IF(N7=1,VLOOKUP(M7,'Grille Tarifaire '!$A$6:$E$14,4),VLOOKUP(M7,'Grille Tarifaire '!$A$6:$E$14,5)) -> 642.94 | P7: 41554 | Q7: =IF(P7="","",P7+20) -> 41574 | R7: 41918 | S7: =IF(R7="","",R7+20) -> 41938 | T7: =MONTH(S7) -> 10 | U7: =S7+'Délai de reglement '!$B$6+VLOOKUP(H7,'Délai de reglement '!$A$5:$C$9,2) -> 41944 | V7: =O7*VLOOKUP(H7,'Délai de reglement '!$A$5:$C$9,3) -> 417.911 | X7: =IFERROR(INDEX('Délai de reglement '!$B$13:$D$14,MATCH(J7,'Délai de reglement '!$A$13:$A$14,0),MATCH(H7,'Délai de reglement '!$B$12:$D$12,0)),"")+(IF(I7=0,U7,S7)) -> 41952 | Y7: =MONTH(X7) -> 11 | Z7: =+O7*'Délai de reglement '!$E$13 -> 225.029 | AB7: 42268 | AC7: =IF(AB7="","",AB7+20) -> 42288 | AD7: =MONTH(AC7) -> 10
A8: Chezot | B8: Yvettes | H8: RSI | I8: 1 | K8: Rhumathologie | L8: Oui | M8: 5 | N8: 0 | O8: =IF(N8=1,VLOOKUP(M8,'Grille Tarifaire '!$A$6:$E$14,4),VLOOKUP(M8,'Grille Tarifaire '!$A$6:$E$14,5)) -> 642.94 | P8: 41561 | Q8: =IF(P8="","",P8+20) -> 41581 | R8: 41925 | S8: =IF(R8="","",R8+20) -> 41945 | T8: =MONTH(S8) -> 11 | U8: =S8+'Délai de reglement '!$B$6+VLOOKUP(H8,'Délai de reglement '!$A$5:$C$9,2) -> 41963 | V8: =O8*VLOOKUP(H8,'Délai de reglement '!$A$5:$C$9,3) -> 417.911 | X8: =IFERROR(INDEX('Délai de reglement '!$B$13:$D$14,MATCH(J8,'Délai de reglement '!$A$13:$A$14,0),MATCH(H8,'Délai de reglement '!$B$12:$D$12,0)),"")+(IF(I8=0,U8,S8)) -> #VALUE! | Y8: =MONTH(X8) -> #VALUE! | Z8: =+O8*'Délai de reglement '!$E$13 -> 225.029 | AB8: 42275 | AC8: =IF(AB8="","",AB8+20) -> 42295 | AD8: =MONTH(AC8) -> 10
A9: Launay | B9: Sonia | H9: CPAM | I9: 1 | K9: Rhumathologie | L9: Oui | M9: 5 | N9: 0 | O9: =IF(N9=1,VLOOKUP(M9,'Grille Tarifaire '!$A$6:$E$14,4),VLOOKUP(M9,'Grille Tarifaire '!$A$6:$E$14,5)) -> 642.94 | P9: 41561 | Q9: =IF(P9="","",P9+20) -> 41581 | R9: 41925 | S9: =IF(R9="","",R9+20) -> 41945 | T9: =MONTH(S9) -> 11 | U9: =S9+'Délai de reglement '!$B$6+VLOOKUP(H9,'Délai de reglement '!$A$5:$C$9,2) -> 41951 | V9: =O9*VLOOKUP(H9,'Délai de reglement '!$A$5:$C$9,3) -> 417.911 | X9: =IFERROR(INDEX('Délai de reglement '!$B$13:$D$14,MATCH(J9,'Délai de reglement '!$A$13:$A$14,0),MATCH(H9,'Délai de reglement '!$B$12:$D$12,0)),"")+(IF(I9=0,U9,S9)) -> #VALUE! | Y9: =MONTH(X9) -> #VALUE! | Z9: =+O9*'Délai de reglement '!$E$13 -> 225.029 | AB9: 42275 | AC9: =IF(AB9="","",AB9+20) -> 42295 | AD9: =MONTH(AC9) -> 10
A10: De Chateauvieux | B10: Pascaline | H10: CPAM | I10: 0 | J10: Harmonie Mutuelle | K10: Rhumathologie | L10: Non | M10: 5 | N10: 0 | O10: =IF(N10=1,VLOOKUP(M10,'Grille Tarifaire '!$A$6:$E$14,4),VLOOKUP(M10,'Grille Tarifaire '!$A$6:$E$14,5)) -> 642.94 | P10: 41568 | Q10: =IF(P10="","",P10+20) -> 41588 | R10: 41932 | S10: =IF(R10="","",R10+20) -> 41952 | T10: =MONTH(S10) -> 11 | U10: =S10+'Délai de reglement '!$B$6+VLOOKUP(H10,'Délai de reglement '!$A$5:$C$9,2) -> 41958 | V10: =O10*VLOOKUP(H10,'Délai de reglement '!$A$5:$C$9,3) -> 417.911 | X10: =IFERROR(INDEX('Délai de reglement '!$B$13:$D$14,MATCH(J10,'Délai de reglement '!$A$13:$A$14,0),MATCH(H10,'Délai de reglement '!$B$12:$D$12,0)),"")+(IF(I10=0,U10,S10)) -> 41964 | Y10: =MONTH(X10) -> 11 | Z10: =+O10*'Délai de reglement '!$E$13 -> 225.029 | AB10: 42282 | AC10: =IF(AB10="","",AB10+20) -> 42302 | AD10: =MONTH(AC10) -> 10
A11: Mula | B11: Mathieu | H11: RSI | I11: 0 | J11: AG2R | K11: Rhumathologie | L11: Non | M11: 5 | N11: 0 | O11: =IF(N11=1,VLOOKUP(M11,'Grille Tarifaire '!$A$6:$E$14,4),VLOOKUP(M11,'Grille Tarifaire '!$A$6:$E$14,5)) -> 642.94 | P11: 41568 | Q11: =IF(P11="","",P11+20) -> 41588 | R11: 41932 | S11: =IF(R11="","",R11+20) -> 41952 | T11: =MONTH(S11) -> 11 | U11: =S11+'Délai de reglement '!$B$6+VLOOKUP(H11,'Délai de reglement '!$A$5:$C$9,2) -> 41970 | V11: =O11*VLOOKUP(H11,'Délai de reglement '!$A$5:$C$9,3) -> 417.911 | X11: =IFERROR(INDEX('Délai de reglement '!$B$13:$D$14,MATCH(J11,'Délai de reglement '!$A$13:$A$14,0),MATCH(H11,'Délai de reglement '!$B$12:$D$12,0)),"")+(IF(I11=0,U11,S11)) -> 41976 | Y11: =MONTH(X11) -> 12 | Z11: =+O11*'Délai de reglement '!$E$13 -> 225.029 | AB11: 42282 | AC11: =IF(AB11="","",AB11+20) -> 42302 | AD11: =MONTH(AC11) -> 10
A12: de Mula | B12: Sandrine | H12: RSI | I12: 1 | K12: Phebologie | L12: Non | M12: 1 | N12: 0 | O12: =IF(N12=1,VLOOKUP(M12,'Grille Tarifaire '!$A$6:$E$14,4),VLOOKUP(M12,'Grille Tarifaire '!$A$6:$E$14,5)) -> 611.73 | P12: 41568 | Q12: =IF(P12="","",P12+20) -> 41588 | R12: 41932 | S12: =IF(R12="","",R12+20) -> 41952 | T12: =MONTH(S12) -> 11 | U12: =S12+'Délai de reglement '!$B$6+VLOOKUP(H12,'Délai de reglement '!$A$5:$C$9,2) -> 41970 | V12: =O12*VLOOKUP(H12,'Délai de reglement '!$A$5:$C$9,3) -> 397.6245 | X12: =IFERROR(INDEX('Délai de reglement '!$B$13:$D$14,MATCH(J12,'Délai de reglement '!$A$13:$A$14,0),MATCH(H12,'Délai de reglement '!$B$12:$D$12,0)),"")+(IF(I12=0,U12,S12)) -> #VALUE! | Y12: =MONTH(X12) -> #VALUE! | Z12: =+O12*'Délai de reglement '!$E$13 -> 214.1055 | AB12: 42282 | AC12: =IF(AB12="","",AB12+20) -> 42302 | AD12: =MONTH(AC12) -> 10
A13: de Vaubicourt | B13: Antoine | H13: CPAM | I13: 1 | K13: Phebologie | L13: Oui | M13: 1 | N13: 1 | O13: =IF(N13=1,VLOOKUP(M13,'Grille Tarifaire '!$A$6:$E$14,4),VLOOKUP(M13,'Grille Tarifaire '!$A$6:$E$14,5)) -> 589.85 | P13: 41575 | Q13: =IF(P13="","",P13+20) -> 41595 | R13: 41939 | S13: =IF(R13="","",R13+20) -> 41959 | T13: =MONTH(S13) -> 11 | U13: =S13+'Délai de reglement '!$B$6+VLOOKUP(H13,'Délai de reglement '!$A$5:$C$9,2) -> 41965 | V13: =O13*VLOOKUP(H13,'Délai de reglement '!$A$5:$C$9,3) -> 383.4025 | X13: =IFERROR(INDEX('Délai de reglement '!$B$13:$D$14,MATCH(J13,'Délai de reglement '!$A$13:$A$14,0),MATCH(H13,'Délai de reglement '!$B$12:$D$12,0)),"")+(IF(I13=0,U13,S13)) -> #VALUE! | Y13: =MONTH(X13) -> #VALUE! | Z13: =+O13*'Délai de reglement '!$E$13 -> 206.4475 | AB13: 42289 | AC13: =IF(AB13="","",AB13+20) -> 42309 | AD13: =MONTH(AC13) -> 11
A14: Pauchon | B14: Mathilde | H14: CPAM | I14: 0 | J14: Harmonie Mutuelle | K14: Rhumathologie | L14: Non | M14: 5 | N14: 0 | O14: =IF(N14=1,VLOOKUP(M14,'Grille Tarifaire '!$A$6:$E$14,4),VLOOKUP(M14,'Grille Tarifaire '!$A$6:$E$14,5)) -> 642.94 | P14: 41582 | Q14: =IF(P14="","",P14+20) -> 41602 | R14: 41946 | S14: =IF(R14="","",R14+20) -> 41966 | T14: =MONTH(S14) -> 11 | U14: =S14+'Délai de reglement '!$B$6+VLOOKUP(H14,'Délai de reglement '!$A$5:$C$9,2) -> 41972 | V14: =O14*VLOOKUP(H14,'Délai de reglement '!$A$5:$C$9,3) -> 417.911 | X14: =IFERROR(INDEX('Délai de reglement '!$B$13:$D$14,MATCH(J14,'Délai de reglement '!$A$13:$A$14,0),MATCH(H14,'Délai de reglement '!$B$12:$D$12,0)),"")+(IF(I14=0,U14,S14)) -> 41978 | Y14: =MONTH(X14) -> 12 | Z14: =+O14*'Délai de reglement '!$E$13 -> 225.029 | AB14: 42296 | AC14: =IF(AB14="","",AB14+20) -> 42316 | AD14: =MONTH(AC14) -> 11
A15: Weiller | B15: Jonathan | H15: CPAM | I15: 0 | J15: Harmonie Mutuelle | K15: Rhumathologie | L15: Non | M15: 5 | N15: 0 | O15: =IF(N15=1,VLOOKUP(M15,'Grille Tarifaire '!$A$6:$E$14,4),VLOOKUP(M15,'Grille Tarifaire '!$A$6:$E$14,5)) -> 642.94 | P15: 41589 | Q15: =IF(P15="","",P15+20) -> 41609 | R15: 41953 | S15: =IF(R15="","",R15+20) -> 41973 | T15: =MONTH(S15) -> 11 | U15: =S15+'Délai de reglement '!$B$6+VLOOKUP(H15,'Délai de reglement '!$A$5:$C$9,2) -> 41979 | V15: =O15*VLOOKUP(H15,'Délai de reglement '!$A$5:$C$9,3) -> 417.911 | X15: =IFERROR(INDEX('Délai de reglement '!$B$13:$D$14,MATCH(J15,'Délai de reglement '!$A$13:$A$14,0),MATCH(H15,'Délai de reglement '!$B$12:$D$12,0)),"")+(IF(I15=0,U15,S15)) -> 41985 | Y15: =MONTH(X15) -> 12 | Z15: =+O15*'Délai de reglement '!$E$13 -> 225.029 | AB15: 42303 | AC15: =IF(AB15="","",AB15+20) -> 42323 | AD15: =MONTH(AC15) -> 11
A16: de Monplanet | B16: Etienne | H16: CPAM | I16: 1 | K16: Rhumathologie | L16: Non | M16: 5 | N16: 0 | O16: =IF(N16=1,VLOOKUP(M16,'Grille Tarifaire '!$A$6:$E$14,4),VLOOKUP(M16,'Grille Tarifaire '!$A$6:$E$14,5)) -> 642.94 | Q16: =IF(P16="","",P16+20) | R16: 41708 | S16: =IF(R16="","",R16+20) -> 41728 | T16: =MONTH(S16) -> 3 | U16: =S16+'Délai de reglement '!$B$6+VLOOKUP(H16,'Délai de reglement '!$A$5:$C$9,2) -> 41734 | V16: =O16*VLOOKUP(H16,'Délai de reglement '!$A$5:$C$9,3) -> 417.911 | X16: =IFERROR(INDEX('Délai de reglement '!$B$13:$D$14,MATCH(J16,'Délai de reglement '!$A$13:$A$14,0),MATCH(H16,'Délai de reglement '!$B$12:$D$12,0)),"")+(IF(I16=0,U16,S16)) -> #VALUE! | Y16: =MONTH(X16) -> #VALUE! | Z16: =+O16*'Délai de reglement '!$E$13 -> 225.029 | AB16: 42072 | AC16: =IF(AB16="","",AB16+20) -> 42092 | AD16: =MONTH(AC16) -> 3 | AE16: 41940
A17: de Monplanet | B17: Victor | H17: CPAM | I17: 1 | K17: Rhumathologie | L17: Non | M17: 5 | N17: 0 | O17: =IF(N17=1,VLOOKUP(M17,'Grille Tarifaire '!$A$6:$E$14,4),VLOOKUP(M17,'Grille Tarifaire '!$A$6:$E$14,5)) -> 642.94 | Q17: =IF(P17="","",P17+20) | R17: 41708 | S17: =IF(R17="","",R17+20) -> 41728 | T17: =MONTH(S17) -> 3 | U17: =S17+'Délai de reglement '!$B$6+VLOOKUP(H17,'Délai de reglement '!$A$5:$C$9,2) -> 41734 | V17: =O17*VLOOKUP(H17,'Délai de reglement '!$A$5:$C$9,3) -> 417.911 | X17: =IFERROR(INDEX('Délai de reglement '!$B$13:$D$14,MATCH(J17,'Délai de reglement '!$A$13:$A$14,0),MATCH(H17,'Délai de reglement '!$B$12:$D$12,0)),"")+(IF(I17=0,U17,S17)) -> #VALUE! | Y17: =MONTH(X17) -> #VALUE! | Z17: =+O17*'Délai de reglement '!$E$13 -> 225.029 | AB17: 42072 | AC17: =IF(AB17="","",AB17+20) -> 42092 | AD17: =MONTH(AC17) -> 3 | AE17: 41940
A18: de Monplanet | B18: Hubert | H18: CPAM | I18: 0 | J18: AG2R | K18: Rhumathologie | L18: Non | M18: 5 | N18: 0 | O18: =IF(N18=1,VLOOKUP(M18,'Grille Tarifaire '!$A$6:$E$14,4),VLOOKUP(M18,'Grille Tarifaire '!$A$6:$E$14,5)) -> 642.94 | P18: 41348 | Q18: =IF(P18="","",P18+20) -> 41368 | R18: 41708 | S18: =IF(R18="","",R18+20) -> 41728 | T18: =MONTH(S18) -> 3 | U18: =S18+'Délai de reglement '!$B$6+VLOOKUP(H18,'Délai de reglement '!$A$5:$C$9,2) -> 41734 | V18: =O18*VLOOKUP(H18,'Délai de reglement '!$A$5:$C$9,3) -> 417.911 | X18: =IFERROR(INDEX('Délai de reglement '!$B$13:$D$14,MATCH(J18,'Délai de reglement '!$A$13:$A$14,0),MATCH(H18,'Délai de reglement '!$B$12:$D$12,0)),"")+(IF(I18=0,U18,S18)) -> 41741 | Y18: =MONTH(X18) -> 4 | Z18: =+O18*'Délai de reglement '!$E$13 -> 225.029 | AB18: 42072 | AC18: =IF(AB18="","",AB18+20) -> 42092 | AD18: =MONTH(AC18) -> 3 | AE18: 41940
A19: Vaubicourt | B19: Jacques | H19: CPAM | I19: 1 | K19: Rhumathologie | L19: Non | M19: 5 | N19: 0 | O19: =IF(N19=1,VLOOKUP(M19,'Grille Tarifaire '!$A$6:$E$14,4),VLOOKUP(M19,'Grille Tarifaire '!$A$6:$E$14,5)) -> 642.94 | Q19: =IF(P19="","",P19+20) | R19: 41960 | S19: =IF(R19="","",R19+20) -> 41980 | T19: =MONTH(S19) -> 12 | U19: =S19+'Délai de reglement '!$B$6+VLOOKUP(H19,'Délai de reglement '!$A$5:$C$9,2) -> 41986 | V19: =O19*VLOOKUP(H19,'Délai de reglement '!$A$5:$C$9,3) -> 417.911 | X19: =IFERROR(INDEX('Délai de reglement '!$B$13:$D$14,MATCH(J19,'Délai de reglement '!$A$13:$A$14,0),MATCH(H19,'Délai de reglement '!$B$12:$D$12,0)),"")+(IF(I19=0,U19,S19)) -> #VALUE! | Y19: =MONTH(X19) -> #VALUE! | Z19: =+O19*'Délai de reglement '!$E$13 -> 225.029
A20: de Vaubicourt | B20: Pierre | H20: CPAM | I20: 0 | J20: AG2R | K20: Rhumathologie | L20: NON | M20: 5 | N20: 0 | O20: =IF(N20=1,VLOOKUP(M20,'Grille Tarifaire '!$A$6:$E$14,4),VLOOKUP(M20,'Grille Tarifaire '!$A$6:$E$14,5)) -> 642.94 | R20: 41673 | S20: =IF(R20="","",R20+20) -> 41693 | T20: =MONTH(S20) -> 2 | U20: =S20+'Délai de reglement '!$B$6+VLOOKUP(H20,'Délai de reglement '!$A$5:$C$9,2) -> 41699 | V20: =O20*VLOOKUP(H20,'Délai de reglement '!$A$5:$C$9,3) -> 417.911 | X20: =IFERROR(INDEX('Délai de reglement '!$B$13:$D$14,MATCH(J20,'Délai de reglement '!$A$13:$A$14,0),MATCH(H20,'Délai de reglement '!$B$12:$D$12,0)),"")+(IF(I20=0,U20,S20)) -> 41706 | Y20: =MONTH(X20) -> 3 | Z20: =+O20*'Délai de reglement '!$E$13 -> 225.029
A21: de Vaubicourt | B21: Sophie | H21: CPAM | I21: 1 | K21: Rhumathologie | L21: Non | M21: 5 | N21: 0 | O21: =IF(N21=1,VLOOKUP(M21,'Grille Tarifaire '!$A$6:$E$14,4),VLOOKUP(M21,'Grille Tarifaire '!$A$6:$E$14,5)) -> 642.94 | R21: 41645 | S21: =IF(R21="","",R21+20) -> 41665 | T21: =MONTH(S21) -> 1 | U21: =S21+'Délai de reglement '!$B$6+VLOOKUP(H21,'Délai de reglement '!$A$5:$C$9,2) -> 41671 | V21: =O21*VLOOKUP(H21,'Délai de reglement '!$A$5:$C$9,3) -> 417.911 | X21: =IFERROR(INDEX('Délai de reglement '!$B$13:$D$14,MATCH(J21,'Délai de reglement '!$A$13:$A$14,0),MATCH(H21,'Délai de reglement '!$B$12:$D$12,0)),"")+(IF(I21=0,U21,S21)) -> #VALUE! | Y21: =MONTH(X21) -> #VALUE! | Z21: =+O21*'Délai de reglement '!$E$13 -> 225.029

Sheet Tableau de Bord
B1: Date d'établissement | C1: 41944
A4: Taux de fidelisation
A7: Nombre de curistes | B7: =COUNTA('Base de donnée'!S2:S3050<='Tableau de Bord'!C1) -> 1 | D7: J'aimerais compter le nombre de curiste traite jusqu'à la date d'établissement du tableau
A10: Nombre de réservation | D10: J'aimerais avoir le nombre de curiste qui sont à venir par rapport à la date d etablissement du tableau
A13: Nombre de relance
A16: Panier moyens curistes | B16: =AVERAGE('Base de donnée'!O2:O3002) -> 631.7995
A19: Consommation d eau par curiste
A22: Evolution sous traitance
A24: Masse Salariale / C.A

Sheet Grille Tarifaire 
C1: Grille tarifaire applicable selon l'avenant n°10 à la convention nationale thermale publié au J.O. du 1 Mars 2014
A6: Code tarifs | B6: Pathologie | C6: Type de soin | D6: Tarif Forfaitaire de Responsabilité | E6: Tarif Limite de Facturation
A7: 1 | B7: Phlebologie | C7: 54 soins + 18 séances Kiné | D7: =378.25+211.6 -> 589.85 | E7: =392.28+219.45 -> 611.73
A8: 2 | B8: Phlebologie | C8: 63 soins + 9 séances Kine | D8: =441.29+105.72 -> 547.01 | E8: =457.66+109.64 -> 567.3
A9: 3 | B9: Phlebologie | C9: 72 soins | D9: 472.8 | E9: 490.34
A10: 4 | B10: Phlebologie + Rhumatologie | C10: 72 soins + 36 soins | D10: =472.8+236.39 -> 709.19 | E10: =490.34+245.16 -> 735.5
A11: 5 | B11: Rhumatologie | C11: 54 soins + 18 séances Kiné | D11: =408.34+211.6 -> 619.94 | E11: =423.49+219.45 -> 642.94
A12: 6 | B12: =+B11 -> Rhumatologie | C12: 63 soins + 9 séances Kine | D12: =476.41+105.72 -> 582.13 | E12: =494.08+109.64 -> 603.72
A13: 7 | B13: Rhumatologie | C13: 72 soins | D13: 510.51 | E13: 529.45
A14: 8 | B14: Rhumatologie + Phlebologie | C14: 72 soins + 36 soins | D14: =510.52+255.25 -> 765.77 | E14: =529.45+264.72 -> 794.17

Sheet Délai de reglement 
C1: Délai de reglement
A5: Element | B5: En jours | C5: Taux de prise en charge
A6: Télétransmission dossier Organisme | B6: 3 | C6: 0.65 | E6: Télétransmission les dossiers les mardi
A7: CPAM | B7: 3 | C7: 0.65
A8: RSI | B8: 15 | C8: 0.65
A9: MSA | B9: 20 | C9: 0.65
A12: Element | B12: CPAM | C12: RSI | D12: MSA | E12: Taux prise en charge
A13: Harmonie Mutuelle | B13: 6 | C13: 8 | D13: 10 | E13: 0.35 | F13: Le jeudi de la semaine suivante le décompte de l'organisme
A14: AG2R | B14: 7 | C14: 6 | D14: 8 | E14: 0.35 | F14: Le mardi de la semaine suivante le décompte de l'organisme

Sheet Hypothese tableau de trésorerie
A1: Hypotheses :
A3: Le reglement de la CPAM intervient à J+4
A5: Le reglemnt du RSI, MSA et autre regime intervient à J+ 15
A7: Les complementaires santé pour les personnes rattaché à la CPAM regle à J+3 apres reglement de la CPAM
