Workbook
Name Maraude: OFFSET(Données!$A$1,0,0,COUNTA(Données!$A:$A),COUNTA(Données!$1:$1))

Sheet Données
A1: Date | B1: Nom | C1: Prénom | D1: Age | E1: Sexe | F1: Nationalité | G1: SDF
A2: 41883 | B2: Rouge | C2: Albert | D2: {=INDEX(Personnes!$C$1:$C$500,MATCH($B2&$C2,Personnes!$A$1:$A$500&Personnes!$B$1:$B$500,0))} -> 17 | E2: {=INDEX(Personnes!$D$1:$D$500,MATCH($B2&$C2,Personnes!$A$1:$A$500&Personnes!$B$1:$B$500,0))} -> Homme | F2: {=INDEX(Personnes!$E$1:$E$500,MATCH($B2&$C2,Personnes!$A$1:$A$500&Personnes!$B$1:$B$500,0))} -> Française | G2: Oui
A3: 41932 | B3: Jaune | C3: =INDEX(Personnes!B:B,MATCH($B3,Personnes!$A:$A,0)) -> Louis | D3: {=INDEX(Personnes!$C$1:$C$500,MATCH($B3&$C3,Personnes!$A$1:$A$500&Personnes!$B$1:$B$500,0))} -> 50 | E3: {=INDEX(Personnes!$D$1:$D$500,MATCH($B3&$C3,Personnes!$A$1:$A$500&Personnes!$B$1:$B$500,0))} -> Homme | F3: {=INDEX(Personnes!$E$1:$E$500,MATCH($B3&$C3,Personnes!$A$1:$A$500&Personnes!$B$1:$B$500,0))} -> Autre | G3: Oui
A4: 41934 | B4: Bleu | C4: =INDEX(Personnes!B:B,MATCH($B4,Personnes!$A:$A,0)) -> Martine | D4: {=INDEX(Personnes!$C$1:$C$500,MATCH($B4&$C4,Personnes!$A$1:$A$500&Personnes!$B$1:$B$500,0))} -> 45 | E4: {=INDEX(Personnes!$D$1:$D$500,MATCH($B4&$C4,Personnes!$A$1:$A$500&Personnes!$B$1:$B$500,0))} -> Femme | F4: {=INDEX(Personnes!$E$1:$E$500,MATCH($B4&$C4,Personnes!$A$1:$A$500&Personnes!$B$1:$B$500,0))} -> Française | G4: Oui
A5: 41934 | B5: Rouge | C5: =INDEX(Personnes!B:B,MATCH($B5,Personnes!$A:$A,0)) -> Albert | D5: {=INDEX(Personnes!$C$1:$C$500,MATCH($B5&$C5,Personnes!$A$1:$A$500&Personnes!$B$1:$B$500,0))} -> 17 | E5: {=INDEX(Personnes!$D$1:$D$500,MATCH($B5&$C5,Personnes!$A$1:$A$500&Personnes!$B$1:$B$500,0))} -> Homme | F5: {=INDEX(Personnes!$E$1:$E$500,MATCH($B5&$C5,Personnes!$A$1:$A$500&Personnes!$B$1:$B$500,0))} -> Française | G5: Oui
A6: 41934 | B6: Jaune | C6: =INDEX(Personnes!B:B,MATCH($B6,Personnes!$A:$A,0)) -> Louis | D6: {=INDEX(Personnes!$C$1:$C$500,MATCH($B6&$C6,Personnes!$A$1:$A$500&Personnes!$B$1:$B$500,0))} -> 50 | E6: {=INDEX(Personnes!$D$1:$D$500,MATCH($B6&$C6,Personnes!$A$1:$A$500&Personnes!$B$1:$B$500,0))} -> Homme | F6: {=INDEX(Personnes!$E$1:$E$500,MATCH($B6&$C6,Personnes!$A$1:$A$500&Personnes!$B$1:$B$500,0))} -> Autre | G6: Oui
A7: 41935 | B7: Jaune | C7: =INDEX(Personnes!B:B,MATCH($B7,Personnes!$A:$A,0)) -> Louis | D7: {=INDEX(Personnes!$C$1:$C$500,MATCH($B7&$C7,Personnes!$A$1:$A$500&Personnes!$B$1:$B$500,0))} -> 50 | E7: {=INDEX(Personnes!$D$1:$D$500,MATCH($B7&$C7,Personnes!$A$1:$A$500&Personnes!$B$1:$B$500,0))} -> Homme | F7: {=INDEX(Personnes!$E$1:$E$500,MATCH($B7&$C7,Personnes!$A$1:$A$500&Personnes!$B$1:$B$500,0))} -> Autre | G7: Oui
A8: 41936 | B8: Rouge | C8: Martin | D8: {=INDEX(Personnes!$C$1:$C$500,MATCH($B8&$C8,Personnes!$A$1:$A$500&Personnes!$B$1:$B$500,0))} -> 25 | E8: {=INDEX(Personnes!$D$1:$D$500,MATCH($B8&$C8,Personnes!$A$1:$A$500&Personnes!$B$1:$B$500,0))} -> Homme | F8: {=INDEX(Personnes!$E$1:$E$500,MATCH($B8&$C8,Personnes!$A$1:$A$500&Personnes!$B$1:$B$500,0))} -> Autre | G8: Oui
A9: 41937 | B9: Bleu | C9: Martine | D9: {=INDEX(Personnes!$C$1:$C$500,MATCH($B9&$C9,Personnes!$A$1:$A$500&Personnes!$B$1:$B$500,0))} -> 45 | E9: {=INDEX(Personnes!$D$1:$D$500,MATCH($B9&$C9,Personnes!$A$1:$A$500&Personnes!$B$1:$B$500,0))} -> Femme | F9: {=INDEX(Personnes!$E$1:$E$500,MATCH($B9&$C9,Personnes!$A$1:$A$500&Personnes!$B$1:$B$500,0))} -> Française | G9: Oui
A10: 41937 | B10: Jaune | C10: Louis | D10: {=INDEX(Personnes!$C$1:$C$500,MATCH($B10&$C10,Personnes!$A$1:$A$500&Personnes!$B$1:$B$500,0))} -> 50 | E10: {=INDEX(Personnes!$D$1:$D$500,MATCH($B10&$C10,Personnes!$A$1:$A$500&Personnes!$B$1:$B$500,0))} -> Homme | F10: {=INDEX(Personnes!$E$1:$E$500,MATCH($B10&$C10,Personnes!$A$1:$A$500&Personnes!$B$1:$B$500,0))} -> Autre | G10: Non
A11: 41938 | B11: Violet | C11: Tristan | D11: {=INDEX(Personnes!$C$1:$C$500,MATCH($B11&$C11,Personnes!$A$1:$A$500&Personnes!$B$1:$B$500,0))} -> 41 | E11: {=INDEX(Personnes!$D$1:$D$500,MATCH($B11&$C11,Personnes!$A$1:$A$500&Personnes!$B$1:$B$500,0))} -> Homme | F11: {=INDEX(Personnes!$E$1:$E$500,MATCH($B11&$C11,Personnes!$A$1:$A$500&Personnes!$B$1:$B$500,0))} -> Française | G11: Oui
A12: 41939 | B12: Jaune | C12: Louis | D12: {=INDEX(Personnes!$C$1:$C$500,MATCH($B12&$C12,Personnes!$A$1:$A$500&Personnes!$B$1:$B$500,0))} -> 50 | E12: {=INDEX(Personnes!$D$1:$D$500,MATCH($B12&$C12,Personnes!$A$1:$A$500&Personnes!$B$1:$B$500,0))} -> Homme | F12: {=INDEX(Personnes!$E$1:$E$500,MATCH($B12&$C12,Personnes!$A$1:$A$500&Personnes!$B$1:$B$500,0))} -> Autre | G12: Oui
A13: 41940 | B13: Rouge | C13: Martin | D13: {=INDEX(Personnes!$C$1:$C$500,MATCH($B13&$C13,Personnes!$A$1:$A$500&Personnes!$B$1:$B$500,0))} -> 25 | E13: {=INDEX(Personnes!$D$1:$D$500,MATCH($B13&$C13,Personnes!$A$1:$A$500&Personnes!$B$1:$B$500,0))} -> Homme | F13: {=INDEX(Personnes!$E$1:$E$500,MATCH($B13&$C13,Personnes!$A$1:$A$500&Personnes!$B$1:$B$500,0))} -> Autre | G13: Oui
A14: 41941 | B14: Jaune | C14: Louis | D14: {=INDEX(Personnes!$C$1:$C$500,MATCH($B14&$C14,Personnes!$A$1:$A$500&Personnes!$B$1:$B$500,0))} -> 50 | E14: {=INDEX(Personnes!$D$1:$D$500,MATCH($B14&$C14,Personnes!$A$1:$A$500&Personnes!$B$1:$B$500,0))} -> Homme | F14: {=INDEX(Personnes!$E$1:$E$500,MATCH($B14&$C14,Personnes!$A$1:$A$500&Personnes!$B$1:$B$500,0))} -> Autre | G14: Oui
D15: {=INDEX(Personnes!$C$1:$C$500,MATCH($B15&$C15,Personnes!$A$1:$A$500&Personnes!$B$1:$B$500,0))} -> 0 | E15: {=INDEX(Personnes!$D$1:$D$500,MATCH($B15&$C15,Personnes!$A$1:$A$500&Personnes!$B$1:$B$500,0))} -> 0 | F15: {=INDEX(Personnes!$E$1:$E$500,MATCH($B15&$C15,Personnes!$A$1:$A$500&Personnes!$B$1:$B$500,0))} -> 0
D16: {=INDEX(Personnes!$C$1:$C$500,MATCH($B16&$C16,Personnes!$A$1:$A$500&Personnes!$B$1:$B$500,0))} -> 0 | E16: {=INDEX(Personnes!$D$1:$D$500,MATCH($B16&$C16,Personnes!$A$1:$A$500&Personnes!$B$1:$B$500,0))} -> 0 | F16: {=INDEX(Personnes!$E$1:$E$500,MATCH($B16&$C16,Personnes!$A$1:$A$500&Personnes!$B$1:$B$500,0))} -> 0
D17: {=INDEX(Personnes!$C$1:$C$500,MATCH($B17&$C17,Personnes!$A$1:$A$500&Personnes!$B$1:$B$500,0))} -> 0 | E17: {=INDEX(Personnes!$D$1:$D$500,MATCH($B17&$C17,Personnes!$A$1:$A$500&Personnes!$B$1:$B$500,0))} -> 0 | F17: {=INDEX(Personnes!$E$1:$E$500,MATCH($B17&$C17,Personnes!$A$1:$A$500&Personnes!$B$1:$B$500,0))} -> 0
D18: {=INDEX(Personnes!$C$1:$C$500,MATCH($B18&$C18,Personnes!$A$1:$A$500&Personnes!$B$1:$B$500,0))} -> 0 | E18: {=INDEX(Personnes!$D$1:$D$500,MATCH($B18&$C18,Personnes!$A$1:$A$500&Personnes!$B$1:$B$500,0))} -> 0 | F18: {=INDEX(Personnes!$E$1:$E$500,MATCH($B18&$C18,Personnes!$A$1:$A$500&Personnes!$B$1:$B$500,0))} -> 0
D19: {=INDEX(Personnes!$C$1:$C$500,MATCH($B19&$C19,Personnes!$A$1:$A$500&Personnes!$B$1:$B$500,0))} -> 0 | E19: {=INDEX(Personnes!$D$1:$D$500,MATCH($B19&$C19,Personnes!$A$1:$A$500&Personnes!$B$1:$B$500,0))} -> 0 | F19: {=INDEX(Personnes!$E$1:$E$500,MATCH($B19&$C19,Personnes!$A$1:$A$500&Personnes!$B$1:$B$500,0))} -> 0
D20: {=INDEX(Personnes!$C$1:$C$500,MATCH($B20&$C20,Personnes!$A$1:$A$500&Personnes!$B$1:$B$500,0))} -> 0 | E20: {=INDEX(Personnes!$D$1:$D$500,MATCH($B20&$C20,Personnes!$A$1:$A$500&Personnes!$B$1:$B$500,0))} -> 0 | F20: {=INDEX(Personnes!$E$1:$E$500,MATCH($B20&$C20,Personnes!$A$1:$A$500&Personnes!$B$1:$B$500,0))} -> 0
D21: {=INDEX(Personnes!$C$1:$C$500,MATCH($B21&$C21,Personnes!$A$1:$A$500&Personnes!$B$1:$B$500,0))} -> 0 | E21: {=INDEX(Personnes!$D$1:$D$500,MATCH($B21&$C21,Personnes!$A$1:$A$500&Personnes!$B$1:$B$500,0))} -> 0 | F21: {=INDEX(Personnes!$E$1:$E$500,MATCH($B21&$C21,Personnes!$A$1:$A$500&Personnes!$B$1:$B$500,0))} -> 0
D22: {=INDEX(Personnes!$C$1:$C$500,MATCH($B22&$C22,Personnes!$A$1:$A$500&Personnes!$B$1:$B$500,0))} -> 0 | E22: {=INDEX(Personnes!$D$1:$D$500,MATCH($B22&$C22,Personnes!$A$1:$A$500&Personnes!$B$1:$B$500,0))} -> 0 | F22: {=INDEX(Personnes!$E$1:$E$500,MATCH($B22&$C22,Personnes!$A$1:$A$500&Personnes!$B$1:$B$500,0))} -> 0
D23: {=INDEX(Personnes!$C$1:$C$500,MATCH($B23&$C23,Personnes!$A$1:$A$500&Personnes!$B$1:$B$500,0))} -> 0 | E23: {=INDEX(Personnes!$D$1:$D$500,MATCH($B23&$C23,Personnes!$A$1:$A$500&Personnes!$B$1:$B$500,0))} -> 0 | F23: {=INDEX(Personnes!$E$1:$E$500,MATCH($B23&$C23,Personnes!$A$1:$A$500&Personnes!$B$1:$B$500,0))} -> 0
D24: {=INDEX(Personnes!$C$1:$C$500,MATCH($B24&$C24,Personnes!$A$1:$A$500&Personnes!$B$1:$B$500,0))} -> 0 | E24: {=INDEX(Personnes!$D$1:$D$500,MATCH($B24&$C24,Personnes!$A$1:$A$500&Personnes!$B$1:$B$500,0))} -> 0 | F24: {=INDEX(Personnes!$E$1:$E$500,MATCH($B24&$C24,Personnes!$A$1:$A$500&Personnes!$B$1:$B$500,0))} -> 0
D25: {=INDEX(Personnes!$C$1:$C$500,MATCH($B25&$C25,Personnes!$A$1:$A$500&Personnes!$B$1:$B$500,0))} -> 0 | E25: {=INDEX(Personnes!$D$1:$D$500,MATCH($B25&$C25,Personnes!$A$1:$A$500&Personnes!$B$1:$B$500,0))} -> 0 | F25: {=INDEX(Personnes!$E$1:$E$500,MATCH($B25&$C25,Personnes!$A$1:$A$500&Personnes!$B$1:$B$500,0))} -> 0
D26: {=INDEX(Personnes!$C$1:$C$500,MATCH($B26&$C26,Personnes!$A$1:$A$500&Personnes!$B$1:$B$500,0))} -> 0 | E26: {=INDEX(Personnes!$D$1:$D$500,MATCH($B26&$C26,Personnes!$A$1:$A$500&Personnes!$B$1:$B$500,0))} -> 0 | F26: {=INDEX(Personnes!$E$1:$E$500,MATCH($B26&$C26,Personnes!$A$1:$A$500&Personnes!$B$1:$B$500,0))} -> 0
... D101: {=INDEX(Personnes!$C$1:$C$500,MATCH($B101&$C101,Personnes!$A$1:$A$500&Personnes!$B$1:$B$500,0))} -> 0 | E101: {=INDEX(Personnes!$D$1:$D$500,MATCH($B101&$C101,Personnes!$A$1:$A$500&Personnes!$B$1:$B$500,0))} -> 0 | F101: {=INDEX(Personnes!$E$1:$E$500,MATCH($B101&$C101,Personnes!$A$1:$A$500&Personnes!$B$1:$B$500,0))} -> 0

Sheet Personnes
A1: Nom | B1: Prénom | C1: Age | D1: Sexe | E1: Nationalité
A2: Rouge | B2: Albert | C2: 17 | D2: Homme | E2: Française
A3: Jaune | B3: Louis | C3: 50 | D3: Homme | E3: Autre
A4: Bleu | B4: Martine | C4: 45 | D4: Femme | E4: Française
A5: Rouge | B5: Martin | C5: 25 | D5: Homme | E5: Autre
A6: Violet | B6: Tristan | C6: 41 | D6: Homme | E6: Française

Sheet Analyses
B4: Sexe | C4: Nombre
B5: Homme | C5: =COUNTIF(Personnes!$D$2:$D$101,Analyses!B5) -> 4
B6: Femme | C6: =COUNTIF(Personnes!$D$2:$D$101,Analyses!B6) -> 1
B16: Age | C16: Nombre
B17: 0 à 18 | C17: =COUNTIF(Personnes!$C$2:$C$101,">0")-COUNTIF(Personnes!$C$2:$C$101,">18") -> 1
B18: 18 à 21 | C18: =COUNTIF(Personnes!$C$2:$C$101,">18")-COUNTIF(Personnes!$C$2:$C$101,">21") -> 0
B19: 21 à 25 | C19: =COUNTIF(Personnes!$C$2:$C$101,">21")-COUNTIF(Personnes!$C$2:$C$101,">25") -> 1
B20: 25 à 60 | C20: =COUNTIF(Personnes!$C$2:$C$101,">25")-COUNTIF(Personnes!$C$2:$C$101,">60") -> 3
B21: 60 et plus | C21: =COUNTIF(Personnes!$C$2:$C$101,">60") -> 0
B32: Sexe | C32: Nationalité | D32: Nombre
B33: Homme | C33: Française | D33: =SUMPRODUCT((Personnes!$D$2:$D$101=Analyses!B33)*(Personnes!$E$2:$E$101=Analyses!C33)) -> 2
B34: Homme | C34: Autre | D34: =SUMPRODUCT((Personnes!$D$2:$D$101=Analyses!B34)*(Personnes!$E$2:$E$101=Analyses!C34)) -> 2
B35: Femme | C35: Française | D35: =SUMPRODUCT((Personnes!$D$2:$D$101=Analyses!B35)*(Personnes!$E$2:$E$101=Analyses!C35)) -> 1
B36: Femme | C36: Autre | D36: =SUMPRODUCT((Personnes!$D$2:$D$101=Analyses!B36)*(Personnes!$E$2:$E$101=Analyses!C36)) -> 0
B45: SDF | C45: Nombre
B46: Oui | C46: =COUNTIF(Données!$G$2:$G$101,"Oui") -> 12
B47: Non | C47: =COUNTIF(Données!$G$2:$G$101,"Non") -> 1
