Workbook
Name Civilité: '[1]Autres données '!$D$9:$D$10
Name CodeClient: '[1]Adresses factu'!$A$4:$A$135
Name Etats1: '[1]Autres données '!$A$15:$A$19
Name Interlocuteur: '[1]Autres données '!$A$3:$A$5
Name Interlocuteurs: '[1]Autres données '!$A$3:$A$4
Name Taux_de_TVA: '[1]Autres données '!$A$8:$A$11
Name Type: '[1]Autres données '!$D$15:$D$16

Sheet Factu
A1: Code Affaire | B1: Date | C1: Échéance | D1: N°mois échéance | E1: Montant HT | F1: Taux TVA | G1: Montant TVA | H1: Acompte | I1: Montant TTC
A2: ASIC1 | B2: 41670 | C2: =B2+45 -> 41715 | D2: =CHOOSE(MONTH(C2),"01","02","03","04","05","06","07","08","09","10","11","12") -> 03 | E2: 6000 | F2: 0.196 | G2: =E2*F2 -> 1176 | I2: =E2*(1+F2)-H2 -> 7176
A3: ADAR2 | B3: 41629 | C3: =B3+45 -> 41674 | D3: =CHOOSE(MONTH(C3),"01","02","03","04","05","06","07","08","09","10","11","12") -> 02 | E3: 6300 | F3: 0.196 | G3: =E3*F3 -> 1234.8 | I3: =E3*(1+F3)-H3 -> 7534.8
A4: TODD10 | B4: 41639 | C4: =B4+45 -> 41684 | D4: =CHOOSE(MONTH(C4),"01","02","03","04","05","06","07","08","09","10","11","12") -> 02 | E4: 22275 | F4: 0.196 | G4: =E4*F4 -> 4365.9 | I4: =E4*(1+F4)-H4 -> 26640.9
A5: TODD9 | B5: 41639 | C5: =B5+45 -> 41684 | D5: =CHOOSE(MONTH(C5),"01","02","03","04","05","06","07","08","09","10","11","12") -> 02 | E5: 4050 | F5: 0.196 | G5: =E5*F5 -> 793.8 | I5: =E5*(1+F5)-H5 -> 4843.8
A6: ADBG1 | B6: 41639 | C6: =B6+45 -> 41684 | D6: =CHOOSE(MONTH(C6),"01","02","03","04","05","06","07","08","09","10","11","12") -> 02 | E6: 40442.26 | F6: 0.196 | G6: =E6*F6 -> 7926.683 | I6: =E6*(1+F6)-H6 -> 48368.943
A7: IFC4 | B7: 41639 | C7: =B7+45 -> 41684 | D7: =CHOOSE(MONTH(C7),"01","02","03","04","05","06","07","08","09","10","11","12") -> 02 | E7: 1800 | F7: 0.196 | G7: =E7*F7 -> 352.8 | I7: =E7*(1+F7)-H7 -> 2152.8
A8: CGY3-1 | B8: 41639 | C8: =B8+45 -> 41684 | D8: =CHOOSE(MONTH(C8),"01","02","03","04","05","06","07","08","09","10","11","12") -> 02 | E8: 1250 | F8: 0.196 | G8: =E8*F8 -> 245 | I8: =E8*(1+F8)-H8 -> 1495
A9: CITU1 | B9: 41670 | C9: =B9+45 -> 41715 | D9: =CHOOSE(MONTH(C9),"01","02","03","04","05","06","07","08","09","10","11","12") -> 03 | E9: 30784 | F9: 0.2 | G9: =E9*F9 -> 6156.8 | I9: =E9*(1+F9)-H9 -> 36940.8
A10: EPA1 | B10: 41670 | C10: =B10+45 -> 41715 | D10: =CHOOSE(MONTH(C10),"01","02","03","04","05","06","07","08","09","10","11","12") -> 03 | E10: 26010 | F10: 0.2 | G10: =E10*F10 -> 5202 | I10: =E10*(1+F10)-H10 -> 31212
A11: ADCD2 | B11: 41666 | C11: =B11+45 -> 41711 | D11: =CHOOSE(MONTH(C11),"01","02","03","04","05","06","07","08","09","10","11","12") -> 03 | E11: 28625 | F11: 0.2 | G11: =E11*F11 -> 5725 | I11: =E11*(1+F11)-H11 -> 34350
A12: MXW1 | B12: 41670 | C12: =B12+45 -> 41715 | D12: =CHOOSE(MONTH(C12),"01","02","03","04","05","06","07","08","09","10","11","12") -> 03 | E12: 400 | F12: 0.2 | G12: =E12*F12 -> 80 | I12: =E12*(1+F12)-H12 -> 480
A13: EPPS2 | B13: 41662 | C13: =B13+45 -> 41707 | D13: =CHOOSE(MONTH(C13),"01","02","03","04","05","06","07","08","09","10","11","12") -> 03 | E13: 9500 | F13: 0.2 | G13: =E13*F13 -> 1900 | I13: =E13*(1+F13)-H13 -> 11400
... A18: CGY3-1 | B18: 41695 | C18: =B18+45 -> 41740 | D18: =CHOOSE(MONTH(C18),"01","02","03","04","05","06","07","08","09","10","11","12") -> 04 | E18: 1245.83 | F18: 0.2 | G18: =E18*F18 -> 249.166 | I18: =E18*(1+F18)-H18 -> 1494.996
A19: ADIN6 | B19: 41698 | C19: =B19+45 -> 41743 | D19: =CHOOSE(MONTH(C19),"01","02","03","04","05","06","07","08","09","10","11","12") -> 04 | E19: 8471.67 | F19: 0.2 | G19: =E19*F19 -> 1694.334 | H19: 1016.6 | I19: =E19*(1+F19)-H19 -> 9149.404
A20: VINH6 | B20: 41698 | C20: =B20+45 -> 41743 | D20: =CHOOSE(MONTH(C20),"01","02","03","04","05","06","07","08","09","10","11","12") -> 04 | E20: 50975 | F20: 0.2 | G20: =E20*F20 -> 10195 | I20: =E20*(1+F20)-H20 -> 61170
A21: SCOR1 | B21: 41698 | C21: =B21+45 -> 41743 | D21: =CHOOSE(MONTH(C21),"01","02","03","04","05","06","07","08","09","10","11","12") -> 04 | E21: 5990 | F21: 0.2 | G21: =E21*F21 -> 1198 | I21: =E21*(1+F21)-H21 -> 7188
A22: TODD9 | B22: 41662 | C22: =B22+45 -> 41707 | D22: =CHOOSE(MONTH(C22),"01","02","03","04","05","06","07","08","09","10","11","12") -> 03 | E22: 3300 | F22: 0.2 | G22: =E22*F22 -> 660 | I22: =E22*(1+F22)-H22 -> 3960
A23: IFC4 | B23: 41698 | C23: =B23+45 -> 41743 | D23: =CHOOSE(MONTH(C23),"01","02","03","04","05","06","07","08","09","10","11","12") -> 04 | E23: 1800 | F23: 0.2 | G23: =E23*F23 -> 360 | I23: =E23*(1+F23)-H23 -> 2160
A24: ADQA1 | B24: 41710 | C24: =B24+45 -> 41755 | D24: =CHOOSE(MONTH(C24),"01","02","03","04","05","06","07","08","09","10","11","12") -> 04 | E24: 19134.27 | F24: 0.2 | G24: =E24*F24 -> 3826.854 | I24: =E24*(1+F24)-H24 -> 22961.124
A25: ADAT2 | B25: 41709 | C25: =B25+45 -> 41754 | D25: =CHOOSE(MONTH(C25),"01","02","03","04","05","06","07","08","09","10","11","12") -> 04 | E25: 20690 | F25: 0.2 | G25: =E25*F25 -> 4138 | I25: =E25*(1+F25)-H25 -> 24828
A26: TJV2 | B26: 41729 | C26: =B26+45 -> 41774 | D26: =CHOOSE(MONTH(C26),"01","02","03","04","05","06","07","08","09","10","11","12") -> 05 | E26: 20880 | F26: 0.2 | G26: =E26*F26 -> 4176 | I26: =E26*(1+F26)-H26 -> 25056
A27: ABC3 | B27: 41662 | C27: =B27+45 -> 41707 | D27: =CHOOSE(MONTH(C27),"01","02","03","04","05","06","07","08","09","10","11","12") -> 03 | E27: 3125 | F27: 0.2 | G27: =E27*F27 -> 625 | I27: =E27*(1+F27)-H27 -> 3750
A28: ADTE1 | B28: 41680 | C28: =B28+45 -> 41725 | D28: =CHOOSE(MONTH(C28),"01","02","03","04","05","06","07","08","09","10","11","12") -> 03 | E28: 12450 | F28: 0.2 | G28: =E28*F28 -> 2490 | I28: =E28*(1+F28)-H28 -> 14940
A29: CGN1 | B29: 41736 | C29: =B29+45 -> 41781 | D29: =CHOOSE(MONTH(C29),"01","02","03","04","05","06","07","08","09","10","11","12") -> 05 | E29: 9235 | F29: 0.2 | G29: =E29*F29 -> 1847 | I29: =E29*(1+F29)-H29 -> 11082
A30: RATP1 | B30: 41729 | C30: =B30+45 -> 41774 | D30: =CHOOSE(MONTH(C30),"01","02","03","04","05","06","07","08","09","10","11","12") -> 05 | E30: 6569.4 | F30: 0.2 | G30: =E30*F30 -> 1313.88 | I30: =E30*(1+F30)-H30 -> 7883.28
A31: ADAT3 | B31: 41729 | C31: =B31+45 -> 41774 | D31: =CHOOSE(MONTH(C31),"01","02","03","04","05","06","07","08","09","10","11","12") -> 05 | E31: 2870 | F31: 0.2 | G31: =E31*F31 -> 574 | I31: =E31*(1+F31)-H31 -> 3444
... A40: TODD9 | B40: 41751 | C40: =B40+45 -> 41796 | D40: =CHOOSE(MONTH(C40),"01","02","03","04","05","06","07","08","09","10","11","12") -> 06 | E40: 12000 | F40: 0.2 | G40: =E40*F40 -> 2400 | I40: =E40*(1+F40)-H40 -> 14400
A41: ADIN7 | B41: 41751 | C41: =B41+45 -> 41796 | D41: =CHOOSE(MONTH(C41),"01","02","03","04","05","06","07","08","09","10","11","12") -> 06 | E41: 42750 | G41: =E41*F41 -> 0 | I41: =E41*(1+F41)-H41 -> 42750
A42: RFF1 | B42: 41771 | C42: =B42+45 -> 41816 | D42: =CHOOSE(MONTH(C42),"01","02","03","04","05","06","07","08","09","10","11","12") -> 06 | E42: 8589.6 | F42: 0.2 | G42: =E42*F42 -> 1717.92 | I42: =E42*(1+F42)-H42 -> 10307.52
A43: EPPS3 | B43: 41771 | C43: =B43+45 -> 41816 | D43: =CHOOSE(MONTH(C43),"01","02","03","04","05","06","07","08","09","10","11","12") -> 06 | E43: 35800 | F43: 0.2 | G43: =E43*F43 -> 7160 | H43: 24120 | I43: =E43*(1+F43)-H43 -> 18840
A44: ADAT3 | B44: 41790 | C44: =B44+45 -> 41835 | D44: =CHOOSE(MONTH(C44),"01","02","03","04","05","06","07","08","09","10","11","12") -> 07 | E44: 8610 | F44: 0.2 | G44: =E44*F44 -> 1722 | I44: =E44*(1+F44)-H44 -> 10332
A45: ADNP2 | B45: 41759 | C45: =B45+45 -> 41804 | D45: =CHOOSE(MONTH(C45),"01","02","03","04","05","06","07","08","09","10","11","12") -> 06 | E45: 4584.3 | F45: 0.2 | G45: =E45*F45 -> 916.86 | I45: =E45*(1+F45)-H45 -> 5501.16
A46: AREN4 | B46: 41774 | C46: =B46+45 -> 41819 | D46: =CHOOSE(MONTH(C46),"01","02","03","04","05","06","07","08","09","10","11","12") -> 06 | E46: 1644.5 | F46: 0.2 | G46: =E46*F46 -> 328.9 | I46: =E46*(1+F46)-H46 -> 1973.4
A47: TODD9 | B47: 41814 | C47: =B47+45 -> 41859 | D47: =CHOOSE(MONTH(C47),"01","02","03","04","05","06","07","08","09","10","11","12") -> 08 | E47: 13683 | F47: 0.2 | G47: =E47*F47 -> 2736.6 | I47: =E47*(1+F47)-H47 -> 16419.6
A48: TODD9 | B48: 41879 | C48: =B48+45 -> 41924 | D48: =CHOOSE(MONTH(C48),"01","02","03","04","05","06","07","08","09","10","11","12") -> 10 | E48: 2917 | F48: 0.2 | G48: =E48*F48 -> 583.4 | I48: =E48*(1+F48)-H48 -> 3500.4
A49: CGN1 | B49: 41802 | C49: =B49+45 -> 41847 | D49: =CHOOSE(MONTH(C49),"01","02","03","04","05","06","07","08","09","10","11","12") -> 07 | E49: 13610 | F49: 0.2 | G49: =E49*F49 -> 2722 | I49: =E49*(1+F49)-H49 -> 16332
A50: FNTP2 | B50: 41802 | C50: =B50+45 -> 41847 | D50: =CHOOSE(MONTH(C50),"01","02","03","04","05","06","07","08","09","10","11","12") -> 07 | E50: 16810.2 | F50: 0.2 | G50: =E50*F50 -> 3362.04 | I50: =E50*(1+F50)-H50 -> 20172.24
A51: CES MED | B51: 41808 | C51: =B51+45 -> 41853 | D51: =CHOOSE(MONTH(C51),"01","02","03","04","05","06","07","08","09","10","11","12") -> 08 | E51: 1316.31 | I51: =E51*(1+F51)-H51 -> 1316.31
A52: ALST2 | B52: 41790 | C52: =B52+45 -> 41835 | D52: =CHOOSE(MONTH(C52),"01","02","03","04","05","06","07","08","09","10","11","12") -> 07 | E52: 45067 | F52: 0.2 | G52: =E52*F52 -> 9013.4 | I52: =E52*(1+F52)-H52 -> 54080.4
...

Sheet Encaissements
A1: PREVISIONNEL DES ENCAISSEMENTS
D3: 42005 | E3: 42036 | F3: 42064 | G3: 42095 | H3: 42125 | I3: 42156 | J3: 42186 | K3: 42217 | L3: 42248 | M3: 42278 | N3: 42309 | O3: 42339
A4: Encaissements prévu | C4: =SUM(C11:C51) -> 0 | D4: =SUM(D11:D51) -> 0 | E4: =SUM(E11:E51) -> 0 | F4: =SUM(F11:F51) -> 0 | G4: =SUM(G11:G51) -> 0 | H4: =SUM(H11:H51) -> 0 | I4: =SUM(I11:I51) -> 0 | J4: =SUM(J11:J51) -> 0 | ... O4: =SUM(O11:O51) -> 0
A10: Client | B10: Cde aff | C10: RETARD 2014 | D10: =CHOOSE(MONTH(D3),"01","02","03","04","05","06","07","08","09","10","11","12") -> 01 | E10: =CHOOSE(MONTH(E3),"01","02","03","04","05","06","07","08","09","10","11","12") -> 02 | F10: =CHOOSE(MONTH(F3),"01","02","03","04","05","06","07","08","09","10","11","12") -> 03 | G10: =CHOOSE(MONTH(G3),"01","02","03","04","05","06","07","08","09","10","11","12") -> 04 | H10: =CHOOSE(MONTH(H3),"01","02","03","04","05","06","07","08","09","10","11","12") -> 05 | I10: =CHOOSE(MONTH(I3),"01","02","03","04","05","06","07","08","09","10","11","12") -> 06 | J10: =CHOOSE(MONTH(J3),"01","02","03","04","05","06","07","08","09","10","11","12") -> 07 | K10: =CHOOSE(MONTH(K3),"01","02","03","04","05","06","07","08","09","10","11","12") -> 08 | ... O10: =CHOOSE(MONTH(O3),"01","02","03","04","05","06","07","08","09","10","11","12") -> 12 | P10: SOMME
D11: =SUMIFS([1]Factures!$X$107:$X$110,[1]Factures!$J$107:$J$110,Encaissements!$B11,[1]Factures!$Q$107:$Q$110,Encaissements!D$10) -> 0 | E11: =SUMIFS([1]Factures!$X$107:$X$110,[1]Factures!$J$107:$J$110,Encaissements!$B11,[1]Factures!$Q$107:$Q$110,Encaissements!E$10) -> 0 | F11: =SUMIFS([1]Factures!$X$107:$X$110,[1]Factures!$J$107:$J$110,Encaissements!$B11,[1]Factures!$Q$107:$Q$110,Encaissements!F$10) -> 0 | G11: =SUMIFS([1]Factures!$X$107:$X$110,[1]Factures!$J$107:$J$110,Encaissements!$B11,[1]Factures!$Q$107:$Q$110,Encaissements!G$10) -> 0 | H11: =SUMIFS([1]Factures!$X$107:$X$110,[1]Factures!$J$107:$J$110,Encaissements!$B11,[1]Factures!$Q$107:$Q$110,Encaissements!H$10) -> 0 | I11: =SUMIFS([1]Factures!$X$107:$X$110,[1]Factures!$J$107:$J$110,Encaissements!$B11,[1]Factures!$Q$107:$Q$110,Encaissements!I$10) -> 0 | J11: =SUMIFS([1]Factures!$X$107:$X$110,[1]Factures!$J$107:$J$110,Encaissements!$B11,[1]Factures!$Q$107:$Q$110,Encaissements!J$10) -> 0 | K11: =SUMIFS([1]Factures!$X$107:$X$110,[1]Factures!$J$107:$J$110,Encaissements!$B11,[1]Factures!$Q$107:$Q$110,Encaissements!K$10) -> 0 | ... O11: =SUMIFS([1]Factures!$X$107:$X$110,[1]Factures!$J$107:$J$110,Encaissements!$B11,[1]Factures!$Q$107:$Q$110,Encaissements!O$10) -> 0 | P11: =SUM(C11:O11) -> 0
D12: =SUMIFS([1]Factures!$X$107:$X$110,[1]Factures!$J$107:$J$110,Encaissements!$B12,[1]Factures!$Q$107:$Q$110,Encaissements!D$10) -> 0 | E12: =SUMIFS([1]Factures!$X$107:$X$110,[1]Factures!$J$107:$J$110,Encaissements!$B12,[1]Factures!$Q$107:$Q$110,Encaissements!E$10) -> 0 | F12: =SUMIFS([1]Factures!$X$107:$X$110,[1]Factures!$J$107:$J$110,Encaissements!$B12,[1]Factures!$Q$107:$Q$110,Encaissements!F$10) -> 0 | G12: =SUMIFS([1]Factures!$X$107:$X$110,[1]Factures!$J$107:$J$110,Encaissements!$B12,[1]Factures!$Q$107:$Q$110,Encaissements!G$10) -> 0 | H12: =SUMIFS([1]Factures!$X$107:$X$110,[1]Factures!$J$107:$J$110,Encaissements!$B12,[1]Factures!$Q$107:$Q$110,Encaissements!H$10) -> 0 | I12: =SUMIFS([1]Factures!$X$107:$X$110,[1]Factures!$J$107:$J$110,Encaissements!$B12,[1]Factures!$Q$107:$Q$110,Encaissements!I$10) -> 0 | J12: =SUMIFS([1]Factures!$X$107:$X$110,[1]Factures!$J$107:$J$110,Encaissements!$B12,[1]Factures!$Q$107:$Q$110,Encaissements!J$10) -> 0 | K12: =SUMIFS([1]Factures!$X$107:$X$110,[1]Factures!$J$107:$J$110,Encaissements!$B12,[1]Factures!$Q$107:$Q$110,Encaissements!K$10) -> 0 | ... O12: =SUMIFS([1]Factures!$X$107:$X$110,[1]Factures!$J$107:$J$110,Encaissements!$B12,[1]Factures!$Q$107:$Q$110,Encaissements!O$10) -> 0 | P12: =SUM(C12:O12) -> 0
D13: =SUMIFS([1]Factures!$X$107:$X$110,[1]Factures!$J$107:$J$110,Encaissements!$B13,[1]Factures!$Q$107:$Q$110,Encaissements!D$10) -> 0 | E13: =SUMIFS([1]Factures!$X$107:$X$110,[1]Factures!$J$107:$J$110,Encaissements!$B13,[1]Factures!$Q$107:$Q$110,Encaissements!E$10) -> 0 | F13: =SUMIFS([1]Factures!$X$107:$X$110,[1]Factures!$J$107:$J$110,Encaissements!$B13,[1]Factures!$Q$107:$Q$110,Encaissements!F$10) -> 0 | G13: =SUMIFS([1]Factures!$X$107:$X$110,[1]Factures!$J$107:$J$110,Encaissements!$B13,[1]Factures!$Q$107:$Q$110,Encaissements!G$10) -> 0 | H13: =SUMIFS([1]Factures!$X$107:$X$110,[1]Factures!$J$107:$J$110,Encaissements!$B13,[1]Factures!$Q$107:$Q$110,Encaissements!H$10) -> 0 | I13: =SUMIFS([1]Factures!$X$107:$X$110,[1]Factures!$J$107:$J$110,Encaissements!$B13,[1]Factures!$Q$107:$Q$110,Encaissements!I$10) -> 0 | J13: =SUMIFS([1]Factures!$X$107:$X$110,[1]Factures!$J$107:$J$110,Encaissements!$B13,[1]Factures!$Q$107:$Q$110,Encaissements!J$10) -> 0 | K13: =SUMIFS([1]Factures!$X$107:$X$110,[1]Factures!$J$107:$J$110,Encaissements!$B13,[1]Factures!$Q$107:$Q$110,Encaissements!K$10) -> 0 | ... O13: =SUMIFS([1]Factures!$X$107:$X$110,[1]Factures!$J$107:$J$110,Encaissements!$B13,[1]Factures!$Q$107:$Q$110,Encaissements!O$10) -> 0 | P13: =SUM(C13:O13) -> 0
D14: =SUMIFS([1]Factures!$X$107:$X$110,[1]Factures!$J$107:$J$110,Encaissements!$B14,[1]Factures!$Q$107:$Q$110,Encaissements!D$10) -> 0 | E14: =SUMIFS([1]Factures!$X$107:$X$110,[1]Factures!$J$107:$J$110,Encaissements!$B14,[1]Factures!$Q$107:$Q$110,Encaissements!E$10) -> 0 | F14: =SUMIFS([1]Factures!$X$107:$X$110,[1]Factures!$J$107:$J$110,Encaissements!$B14,[1]Factures!$Q$107:$Q$110,Encaissements!F$10) -> 0 | G14: =SUMIFS([1]Factures!$X$107:$X$110,[1]Factures!$J$107:$J$110,Encaissements!$B14,[1]Factures!$Q$107:$Q$110,Encaissements!G$10) -> 0 | H14: =SUMIFS([1]Factures!$X$107:$X$110,[1]Factures!$J$107:$J$110,Encaissements!$B14,[1]Factures!$Q$107:$Q$110,Encaissements!H$10) -> 0 | I14: =SUMIFS([1]Factures!$X$107:$X$110,[1]Factures!$J$107:$J$110,Encaissements!$B14,[1]Factures!$Q$107:$Q$110,Encaissements!I$10) -> 0 | J14: =SUMIFS([1]Factures!$X$107:$X$110,[1]Factures!$J$107:$J$110,Encaissements!$B14,[1]Factures!$Q$107:$Q$110,Encaissements!J$10) -> 0 | K14: =SUMIFS([1]Factures!$X$107:$X$110,[1]Factures!$J$107:$J$110,Encaissements!$B14,[1]Factures!$Q$107:$Q$110,Encaissements!K$10) -> 0 | ... O14: =SUMIFS([1]Factures!$X$107:$X$110,[1]Factures!$J$107:$J$110,Encaissements!$B14,[1]Factures!$Q$107:$Q$110,Encaissements!O$10) -> 0 | P14: =SUM(C14:O14) -> 0
D15: =SUMIFS([1]Factures!$X$107:$X$110,[1]Factures!$J$107:$J$110,Encaissements!$B15,[1]Factures!$Q$107:$Q$110,Encaissements!D$10) -> 0 | E15: =SUMIFS([1]Factures!$X$107:$X$110,[1]Factures!$J$107:$J$110,Encaissements!$B15,[1]Factures!$Q$107:$Q$110,Encaissements!E$10) -> 0 | F15: =SUMIFS([1]Factures!$X$107:$X$110,[1]Factures!$J$107:$J$110,Encaissements!$B15,[1]Factures!$Q$107:$Q$110,Encaissements!F$10) -> 0 | G15: =SUMIFS([1]Factures!$X$107:$X$110,[1]Factures!$J$107:$J$110,Encaissements!$B15,[1]Factures!$Q$107:$Q$110,Encaissements!G$10) -> 0 | H15: =SUMIFS([1]Factures!$X$107:$X$110,[1]Factures!$J$107:$J$110,Encaissements!$B15,[1]Factures!$Q$107:$Q$110,Encaissements!H$10) -> 0 | I15: =SUMIFS([1]Factures!$X$107:$X$110,[1]Factures!$J$107:$J$110,Encaissements!$B15,[1]Factures!$Q$107:$Q$110,Encaissements!I$10) -> 0 | J15: =SUMIFS([1]Factures!$X$107:$X$110,[1]Factures!$J$107:$J$110,Encaissements!$B15,[1]Factures!$Q$107:$Q$110,Encaissements!J$10) -> 0 | K15: =SUMIFS([1]Factures!$X$107:$X$110,[1]Factures!$J$107:$J$110,Encaissements!$B15,[1]Factures!$Q$107:$Q$110,Encaissements!K$10) -> 0 | ... O15: =SUMIFS([1]Factures!$X$107:$X$110,[1]Factures!$J$107:$J$110,Encaissements!$B15,[1]Factures!$Q$107:$Q$110,Encaissements!O$10) -> 0 | P15: =SUM(C15:O15) -> 0
D16: =SUMIFS([1]Factures!$X$107:$X$110,[1]Factures!$J$107:$J$110,Encaissements!$B16,[1]Factures!$Q$107:$Q$110,Encaissements!D$10) -> 0 | E16: =SUMIFS([1]Factures!$X$107:$X$110,[1]Factures!$J$107:$J$110,Encaissements!$B16,[1]Factures!$Q$107:$Q$110,Encaissements!E$10) -> 0 | F16: =SUMIFS([1]Factures!$X$107:$X$110,[1]Factures!$J$107:$J$110,Encaissements!$B16,[1]Factures!$Q$107:$Q$110,Encaissements!F$10) -> 0 | G16: =SUMIFS([1]Factures!$X$107:$X$110,[1]Factures!$J$107:$J$110,Encaissements!$B16,[1]Factures!$Q$107:$Q$110,Encaissements!G$10) -> 0 | H16: =SUMIFS([1]Factures!$X$107:$X$110,[1]Factures!$J$107:$J$110,Encaissements!$B16,[1]Factures!$Q$107:$Q$110,Encaissements!H$10) -> 0 | I16: =SUMIFS([1]Factures!$X$107:$X$110,[1]Factures!$J$107:$J$110,Encaissements!$B16,[1]Factures!$Q$107:$Q$110,Encaissements!I$10) -> 0 | J16: =SUMIFS([1]Factures!$X$107:$X$110,[1]Factures!$J$107:$J$110,Encaissements!$B16,[1]Factures!$Q$107:$Q$110,Encaissements!J$10) -> 0 | K16: =SUMIFS([1]Factures!$X$107:$X$110,[1]Factures!$J$107:$J$110,Encaissements!$B16,[1]Factures!$Q$107:$Q$110,Encaissements!K$10) -> 0 | ... O16: =SUMIFS([1]Factures!$X$107:$X$110,[1]Factures!$J$107:$J$110,Encaissements!$B16,[1]Factures!$Q$107:$Q$110,Encaissements!O$10) -> 0 | P16: =SUM(C16:O16) -> 0
D17: =SUMIFS([1]Factures!$X$107:$X$110,[1]Factures!$J$107:$J$110,Encaissements!$B17,[1]Factures!$Q$107:$Q$110,Encaissements!D$10) -> 0 | E17: =SUMIFS([1]Factures!$X$107:$X$110,[1]Factures!$J$107:$J$110,Encaissements!$B17,[1]Factures!$Q$107:$Q$110,Encaissements!E$10) -> 0 | F17: =SUMIFS([1]Factures!$X$107:$X$110,[1]Factures!$J$107:$J$110,Encaissements!$B17,[1]Factures!$Q$107:$Q$110,Encaissements!F$10) -> 0 | G17: =SUMIFS([1]Factures!$X$107:$X$110,[1]Factures!$J$107:$J$110,Encaissements!$B17,[1]Factures!$Q$107:$Q$110,Encaissements!G$10) -> 0 | H17: =SUMIFS([1]Factures!$X$107:$X$110,[1]Factures!$J$107:$J$110,Encaissements!$B17,[1]Factures!$Q$107:$Q$110,Encaissements!H$10) -> 0 | I17: =SUMIFS([1]Factures!$X$107:$X$110,[1]Factures!$J$107:$J$110,Encaissements!$B17,[1]Factures!$Q$107:$Q$110,Encaissements!I$10) -> 0 | J17: =SUMIFS([1]Factures!$X$107:$X$110,[1]Factures!$J$107:$J$110,Encaissements!$B17,[1]Factures!$Q$107:$Q$110,Encaissements!J$10) -> 0 | K17: =SUMIFS([1]Factures!$X$107:$X$110,[1]Factures!$J$107:$J$110,Encaissements!$B17,[1]Factures!$Q$107:$Q$110,Encaissements!K$10) -> 0 | ... O17: =SUMIFS([1]Factures!$X$107:$X$110,[1]Factures!$J$107:$J$110,Encaissements!$B17,[1]Factures!$Q$107:$Q$110,Encaissements!O$10) -> 0 | P17: =SUM(C17:O17) -> 0
D18: =SUMIFS([1]Factures!$X$107:$X$110,[1]Factures!$J$107:$J$110,Encaissements!$B18,[1]Factures!$Q$107:$Q$110,Encaissements!D$10) -> 0 | E18: =SUMIFS([1]Factures!$X$107:$X$110,[1]Factures!$J$107:$J$110,Encaissements!$B18,[1]Factures!$Q$107:$Q$110,Encaissements!E$10) -> 0 | F18: =SUMIFS([1]Factures!$X$107:$X$110,[1]Factures!$J$107:$J$110,Encaissements!$B18,[1]Factures!$Q$107:$Q$110,Encaissements!F$10) -> 0 | G18: =SUMIFS([1]Factures!$X$107:$X$110,[1]Factures!$J$107:$J$110,Encaissements!$B18,[1]Factures!$Q$107:$Q$110,Encaissements!G$10) -> 0 | H18: =SUMIFS([1]Factures!$X$107:$X$110,[1]Factures!$J$107:$J$110,Encaissements!$B18,[1]Factures!$Q$107:$Q$110,Encaissements!H$10) -> 0 | I18: =SUMIFS([1]Factures!$X$107:$X$110,[1]Factures!$J$107:$J$110,Encaissements!$B18,[1]Factures!$Q$107:$Q$110,Encaissements!I$10) -> 0 | J18: =SUMIFS([1]Factures!$X$107:$X$110,[1]Factures!$J$107:$J$110,Encaissements!$B18,[1]Factures!$Q$107:$Q$110,Encaissements!J$10) -> 0 | K18: =SUMIFS([1]Factures!$X$107:$X$110,[1]Factures!$J$107:$J$110,Encaissements!$B18,[1]Factures!$Q$107:$Q$110,Encaissements!K$10) -> 0 | ... O18: =SUMIFS([1]Factures!$X$107:$X$110,[1]Factures!$J$107:$J$110,Encaissements!$B18,[1]Factures!$Q$107:$Q$110,Encaissements!O$10) -> 0 | P18: =SUM(C18:O18) -> 0
D19: =SUMIFS([1]Factures!$X$107:$X$110,[1]Factures!$J$107:$J$110,Encaissements!$B19,[1]Factures!$Q$107:$Q$110,Encaissements!D$10) -> 0 | E19: =SUMIFS([1]Factures!$X$107:$X$110,[1]Factures!$J$107:$J$110,Encaissements!$B19,[1]Factures!$Q$107:$Q$110,Encaissements!E$10) -> 0 | F19: =SUMIFS([1]Factures!$X$107:$X$110,[1]Factures!$J$107:$J$110,Encaissements!$B19,[1]Factures!$Q$107:$Q$110,Encaissements!F$10) -> 0 | G19: =SUMIFS([1]Factures!$X$107:$X$110,[1]Factures!$J$107:$J$110,Encaissements!$B19,[1]Factures!$Q$107:$Q$110,Encaissements!G$10) -> 0 | H19: =SUMIFS([1]Factures!$X$107:$X$110,[1]Factures!$J$107:$J$110,Encaissements!$B19,[1]Factures!$Q$107:$Q$110,Encaissements!H$10) -> 0 | I19: =SUMIFS([1]Factures!$X$107:$X$110,[1]Factures!$J$107:$J$110,Encaissements!$B19,[1]Factures!$Q$107:$Q$110,Encaissements!I$10) -> 0 | J19: =SUMIFS([1]Factures!$X$107:$X$110,[1]Factures!$J$107:$J$110,Encaissements!$B19,[1]Factures!$Q$107:$Q$110,Encaissements!J$10) -> 0 | K19: =SUMIFS([1]Factures!$X$107:$X$110,[1]Factures!$J$107:$J$110,Encaissements!$B19,[1]Factures!$Q$107:$Q$110,Encaissements!K$10) -> 0 | ... O19: =SUMIFS([1]Factures!$X$107:$X$110,[1]Factures!$J$107:$J$110,Encaissements!$B19,[1]Factures!$Q$107:$Q$110,Encaissements!O$10) -> 0 | P19: =SUM(C19:O19) -> 0
D20: =SUMIFS([1]Factures!$X$107:$X$110,[1]Factures!$J$107:$J$110,Encaissements!$B20,[1]Factures!$Q$107:$Q$110,Encaissements!D$10) -> 0 | E20: =SUMIFS([1]Factures!$X$107:$X$110,[1]Factures!$J$107:$J$110,Encaissements!$B20,[1]Factures!$Q$107:$Q$110,Encaissements!E$10) -> 0 | F20: =SUMIFS([1]Factures!$X$107:$X$110,[1]Factures!$J$107:$J$110,Encaissements!$B20,[1]Factures!$Q$107:$Q$110,Encaissements!F$10) -> 0 | G20: =SUMIFS([1]Factures!$X$107:$X$110,[1]Factures!$J$107:$J$110,Encaissements!$B20,[1]Factures!$Q$107:$Q$110,Encaissements!G$10) -> 0 | H20: =SUMIFS([1]Factures!$X$107:$X$110,[1]Factures!$J$107:$J$110,Encaissements!$B20,[1]Factures!$Q$107:$Q$110,Encaissements!H$10) -> 0 | I20: =SUMIFS([1]Factures!$X$107:$X$110,[1]Factures!$J$107:$J$110,Encaissements!$B20,[1]Factures!$Q$107:$Q$110,Encaissements!I$10) -> 0 | J20: =SUMIFS([1]Factures!$X$107:$X$110,[1]Factures!$J$107:$J$110,Encaissements!$B20,[1]Factures!$Q$107:$Q$110,Encaissements!J$10) -> 0 | K20: =SUMIFS([1]Factures!$X$107:$X$110,[1]Factures!$J$107:$J$110,Encaissements!$B20,[1]Factures!$Q$107:$Q$110,Encaissements!K$10) -> 0 | ... O20: =SUMIFS([1]Factures!$X$107:$X$110,[1]Factures!$J$107:$J$110,Encaissements!$B20,[1]Factures!$Q$107:$Q$110,Encaissements!O$10) -> 0 | P20: =SUM(C20:O20) -> 0
D21: =SUMIFS([1]Factures!$X$107:$X$110,[1]Factures!$J$107:$J$110,Encaissements!$B21,[1]Factures!$Q$107:$Q$110,Encaissements!D$10) -> 0 | E21: =SUMIFS([1]Factures!$X$107:$X$110,[1]Factures!$J$107:$J$110,Encaissements!$B21,[1]Factures!$Q$107:$Q$110,Encaissements!E$10) -> 0 | F21: =SUMIFS([1]Factures!$X$107:$X$110,[1]Factures!$J$107:$J$110,Encaissements!$B21,[1]Factures!$Q$107:$Q$110,Encaissements!F$10) -> 0 | G21: =SUMIFS([1]Factures!$X$107:$X$110,[1]Factures!$J$107:$J$110,Encaissements!$B21,[1]Factures!$Q$107:$Q$110,Encaissements!G$10) -> 0 | H21: =SUMIFS([1]Factures!$X$107:$X$110,[1]Factures!$J$107:$J$110,Encaissements!$B21,[1]Factures!$Q$107:$Q$110,Encaissements!H$10) -> 0 | I21: =SUMIFS([1]Factures!$X$107:$X$110,[1]Factures!$J$107:$J$110,Encaissements!$B21,[1]Factures!$Q$107:$Q$110,Encaissements!I$10) -> 0 | J21: =SUMIFS([1]Factures!$X$107:$X$110,[1]Factures!$J$107:$J$110,Encaissements!$B21,[1]Factures!$Q$107:$Q$110,Encaissements!J$10) -> 0 | K21: =SUMIFS([1]Factures!$X$107:$X$110,[1]Factures!$J$107:$J$110,Encaissements!$B21,[1]Factures!$Q$107:$Q$110,Encaissements!K$10) -> 0 | ... O21: =SUMIFS([1]Factures!$X$107:$X$110,[1]Factures!$J$107:$J$110,Encaissements!$B21,[1]Factures!$Q$107:$Q$110,Encaissements!O$10) -> 0 | P21: =SUM(C21:O21) -> 0
D22: =SUMIFS([1]Factures!$X$107:$X$110,[1]Factures!$J$107:$J$110,Encaissements!$B22,[1]Factures!$Q$107:$Q$110,Encaissements!D$10) -> 0 | E22: =SUMIFS([1]Factures!$X$107:$X$110,[1]Factures!$J$107:$J$110,Encaissements!$B22,[1]Factures!$Q$107:$Q$110,Encaissements!E$10) -> 0 | F22: =SUMIFS([1]Factures!$X$107:$X$110,[1]Factures!$J$107:$J$110,Encaissements!$B22,[1]Factures!$Q$107:$Q$110,Encaissements!F$10) -> 0 | G22: =SUMIFS([1]Factures!$X$107:$X$110,[1]Factures!$J$107:$J$110,Encaissements!$B22,[1]Factures!$Q$107:$Q$110,Encaissements!G$10) -> 0 | H22: =SUMIFS([1]Factures!$X$107:$X$110,[1]Factures!$J$107:$J$110,Encaissements!$B22,[1]Factures!$Q$107:$Q$110,Encaissements!H$10) -> 0 | I22: =SUMIFS([1]Factures!$X$107:$X$110,[1]Factures!$J$107:$J$110,Encaissements!$B22,[1]Factures!$Q$107:$Q$110,Encaissements!I$10) -> 0 | J22: =SUMIFS([1]Factures!$X$107:$X$110,[1]Factures!$J$107:$J$110,Encaissements!$B22,[1]Factures!$Q$107:$Q$110,Encaissements!J$10) -> 0 | K22: =SUMIFS([1]Factures!$X$107:$X$110,[1]Factures!$J$107:$J$110,Encaissements!$B22,[1]Factures!$Q$107:$Q$110,Encaissements!K$10) -> 0 | ... O22: =SUMIFS([1]Factures!$X$107:$X$110,[1]Factures!$J$107:$J$110,Encaissements!$B22,[1]Factures!$Q$107:$Q$110,Encaissements!O$10) -> 0 | P22: =SUM(C22:O22) -> 0
... D89: =SUMIFS([1]Factures!$X$107:$X$110,[1]Factures!$J$107:$J$110,Encaissements!$B89,[1]Factures!$Q$107:$Q$110,Encaissements!D$10) -> 0 | E89: =SUMIFS([1]Factures!$X$107:$X$110,[1]Factures!$J$107:$J$110,Encaissements!$B89,[1]Factures!$Q$107:$Q$110,Encaissements!E$10) -> 0 | F89: =SUMIFS([1]Factures!$X$107:$X$110,[1]Factures!$J$107:$J$110,Encaissements!$B89,[1]Factures!$Q$107:$Q$110,Encaissements!F$10) -> 0 | G89: =SUMIFS([1]Factures!$X$107:$X$110,[1]Factures!$J$107:$J$110,Encaissements!$B89,[1]Factures!$Q$107:$Q$110,Encaissements!G$10) -> 0 | H89: =SUMIFS([1]Factures!$X$107:$X$110,[1]Factures!$J$107:$J$110,Encaissements!$B89,[1]Factures!$Q$107:$Q$110,Encaissements!H$10) -> 0 | I89: =SUMIFS([1]Factures!$X$107:$X$110,[1]Factures!$J$107:$J$110,Encaissements!$B89,[1]Factures!$Q$107:$Q$110,Encaissements!I$10) -> 0 | J89: =SUMIFS([1]Factures!$X$107:$X$110,[1]Factures!$J$107:$J$110,Encaissements!$B89,[1]Factures!$Q$107:$Q$110,Encaissements!J$10) -> 0 | K89: =SUMIFS([1]Factures!$X$107:$X$110,[1]Factures!$J$107:$J$110,Encaissements!$B89,[1]Factures!$Q$107:$Q$110,Encaissements!K$10) -> 0 | ... O89: =SUMIFS([1]Factures!$X$107:$X$110,[1]Factures!$J$107:$J$110,Encaissements!$B89,[1]Factures!$Q$107:$Q$110,Encaissements!O$10) -> 0 | P89: =SUM(C89:O89) -> 0
C93: Tranches | D93: Nombre de Différence
C94: (vide) | D94: 22
C95: 5 - Après 2 mois | D95: 2
C96: 4 - Entre 1 et 2 mois | D96: 8
C97: 3 - Entre 10 et 30js | D97: 6
C98: 2 - Dans les 10js | D98: 5
C99: 1 - Avant échéance | D99: 11

Sheet Feuil2
