Workbook
Name Civilité: '[1]Autres données '!$D$9:$D$10
Name CodeClient: '[1]Adresses factu'!$A$4:$A$135
Name Etats1: '[1]Autres données '!$A$15:$A$19
Name Interlocuteur: '[1]Autres données '!$A$3:$A$5
Name Interlocuteurs: '[1]Autres données '!$A$3:$A$4
Name Taux_de_TVA: '[1]Autres données '!$A$8:$A$11
Name Type: '[1]Autres données '!$D$15:$D$16

Sheet Factu
A1: Code Affaire | B1: Date | C1: Échéance | D1: N°mois échéance | E1: Montant HT | F1: Taux TVA | G1: Montant TVA | H1: Acompte | I1: Montant TTC
A2: ASIC1 | B2: 41670 | C2: =B2+45 -> 41715 | D2: =CHOOSE(MONTH(C2),"01","02","03","04","05","06","07","08","09","10","11","12") -> 03 | E2: 6000 | F2: 0.196 | G2: =E2*F2 -> 1176 | I2: =E2*(1+F2)-H2 -> 7176
A3: ADAR2 | B3: 41629 | C3: =B3+45 -> 41674 | D3: =CHOOSE(MONTH(C3),"01","02","03","04","05","06","07","08","09","10","11","12") -> 02 | E3: 6300 | F3: 0.196 | G3: =E3*F3 -> 1234.8 | I3: =E3*(1+F3)-H3 -> 7534.8
A4: TODD10 | B4: 41639 | C4: =B4+45 -> 41684 | D4: =CHOOSE(MONTH(C4),"01","02","03","04","05","06","07","08","09","10","11","12") -> 02 | E4: 22275 | F4: 0.196 | G4: =E4*F4 -> 4365.9 | I4: =E4*(1+F4)-H4 -> 26640.9
A5: TODD9 | B5: 41639 | C5: =B5+45 -> 41684 | D5: =CHOOSE(MONTH(C5),"01","02","03","04","05","06","07","08","09","10","11","12") -> 02 | E5: 4050 | F5: 0.196 | G5: =E5*F5 -> 793.8 | I5: =E5*(1+F5)-H5 -> 4843.8
A6: ADBG1 | B6: 41639 | C6: =B6+45 -> 41684 | D6: =CHOOSE(MONTH(C6),"01","02","03","04","05","06","07","08","09","10","11","12") -> 02 | E6: 40442.26 | F6: 0.196 | G6: =E6*F6 -> 7926.683 | I6: =E6*(1+F6)-H6 -> 48368.943
A7: IFC4 | B7: 41639 | C7: =B7+45 -> 41684 | D7: =CHOOSE(MONTH(C7),"01","02","03","04","05","06","07","08","09","10","11","12") -> 02 | E7: 1800 | F7: 0.196 | G7: =E7*F7 -> 352.8 | I7: =E7*(1+F7)-H7 -> 2152.8
A8: CGY3-1 | B8: 41639 | C8: =B8+45 -> 41684 | D8: =CHOOSE(MONTH(C8),"01","02","03","04","05","06","07","08","09","10","11","12") -> 02 | E8: 1250 | F8: 0.196 | G8: =E8*F8 -> 245 | I8: =E8*(1+F8)-H8 -> 1495
A9: CITU1 | B9: 41670 | C9: =B9+45 -> 41715 | D9: =CHOOSE(MONTH(C9),"01","02","03","04","05","06","07","08","09","10","11","12") -> 03 | E9: 30784 | F9: 0.2 | G9: =E9*F9 -> 6156.8 | I9: =E9*(1+F9)-H9 -> 36940.8
A10: EPA1 | B10: 41670 | C10: =B10+45 -> 41715 | D10: =CHOOSE(MONTH(C10),"01","02","03","04","05","06","07","08","09","10","11","12") -> 03 | E10: 26010 | F10: 0.2 | G10: =E10*F10 -> 5202 | I10: =E10*(1+F10)-H10 -> 31212
A11: ADCD2 | B11: 41666 | C11: =B11+45 -> 41711 | D11: =CHOOSE(MONTH(C11),"01","02","03","04","05","06","07","08","09","10","11","12") -> 03 | E11: 28625 | F11: 0.2 | G11: =E11*F11 -> 5725 | I11: =E11*(1+F11)-H11 -> 34350
A12: MXW1 | B12: 41670 | C12: =B12+45 -> 41715 | D12: =CHOOSE(MONTH(C12),"01","02","03","04","05","06","07","08","09","10","11","12") -> 03 | E12: 400 | F12: 0.2 | G12: =E12*F12 -> 80 | I12: =E12*(1+F12)-H12 -> 480
A13: EPPS2 | B13: 41662 | C13: =B13+45 -> 41707 | D13: =CHOOSE(MONTH(C13),"01","02","03","04","05","06","07","08","09","10","11","12") -> 03 | E13: 9500 | F13: 0.2 | G13: =E13*F13 -> 1900 | I13: =E13*(1+F13)-H13 -> 11400
... A18: CGY3-1 | B18: 41695 | C18: =B18+45 -> 41740 | D18: =CHOOSE(MONTH(C18),"01","02","03","04","05","06","07","08","09","10","11","12") -> 04 | E18: 1245.83 | F18: 0.2 | G18: =E18*F18 -> 249.166 | I18: =E18*(1+F18)-H18 -> 1494.996
A19: ADIN6 | B19: 41698 | C19: =B19+45 -> 41743 | D19: =CHOOSE(MONTH(C19),"01","02","03","04","05","06","07","08","09","10","11","12") -> 04 | E19: 8471.67 | F19: 0.2 | G19: =E19*F19 -> 1694.334 | H19: 1016.6 | I19: =E19*(1+F19)-H19 -> 9149.404
A20: VINH6 | B20: 41698 | C20: =B20+45 -> 41743 | D20: =CHOOSE(MONTH(C20),"01","02","03","04","05","06","07","08","09","10","11","12") -> 04 | E20: 50975 | F20: 0.2 | G20: =E20*F20 -> 10195 | I20: =E20*(1+F20)-H20 -> 61170
A21: SCOR1 | B21: 41698 | C21: =B21+45 -> 41743 | D21: =CHOOSE(MONTH(C21),"01","02","03","04","05","06","07","08","09","10","11","12") -> 04 | E21: 5990 | F21: 0.2 | G21: =E21*F21 -> 1198 | I21: =E21*(1+F21)-H21 -> 7188
A22: TODD9 | B22: 41662 | C22: =B22+45 -> 41707 | D22: =CHOOSE(MONTH(C22),"01","02","03","04","05","06","07","08","09","10","11","12") -> 03 | E22: 3300 | F22: 0.2 | G22: =E22*F22 -> 660 | I22: =E22*(1+F22)-H22 -> 3960
A23: IFC4 | B23: 41698 | C23: =B23+45 -> 41743 | D23: =CHOOSE(MONTH(C23),"01","02","03","04","05","06","07","08","09","10","11","12") -> 04 | E23: 1800 | F23: 0.2 | G23: =E23*F23 -> 360 | I23: =E23*(1+F23)-H23 -> 2160
A24: ADQA1 | B24: 41710 | C24: =B24+45 -> 41755 | D24: =CHOOSE(MONTH(C24),"01","02","03","04","05","06","07","08","09","10","11","12") -> 04 | E24: 19134.27 | F24: 0.2 | G24: =E24*F24 -> 3826.854 | I24: =E24*(1+F24)-H24 -> 22961.124
A25: ADAT2 | B25: 41709 | C25: =B25+45 -> 41754 | D25: =CHOOSE(MONTH(C25),"01","02","03","04","05","06","07","08","09","10","11","12") -> 04 | E25: 20690 | F25: 0.2 | G25: =E25*F25 -> 4138 | I25: =E25*(1+F25)-H25 -> 24828
A26: TJV2 | B26: 41729 | C26: =B26+45 -> 41774 | D26: =CHOOSE(MONTH(C26),"01","02","03","04","05","06","07","08","09","10","11","12") -> 05 | E26: 20880 | F26: 0.2 | G26: =E26*F26 -> 4176 | I26: =E26*(1+F26)-H26 -> 25056
A27: ABC3 | B27: 41662 | C27: =B27+45 -> 41707 | D27: =CHOOSE(MONTH(C27),"01","02","03","04","05","06","07","08","09","10","11","12") -> 03 | E27: 3125 | F27: 0.2 | G27: =E27*F27 -> 625 | I27: =E27*(1+F27)-H27 -> 3750
A28: ADTE1 | B28: 41680 | C28: =B28+45 -> 41725 | D28: =CHOOSE(MONTH(C28),"01","02","03","04","05","06","07","08","09","10","11","12") -> 03 | E28: 12450 | F28: 0.2 | G28: =E28*F28 -> 2490 | I28: =E28*(1+F28)-H28 -> 14940
A29: CGN1 | B29: 41736 | C29: =B29+45 -> 41781 | D29: =CHOOSE(MONTH(C29),"01","02","03","04","05","06","07","08","09","10","11","12") -> 05 | E29: 9235 | F29: 0.2 | G29: =E29*F29 -> 1847 | I29: =E29*(1+F29)-H29 -> 11082
A30: RATP1 | B30: 41729 | C30: =B30+45 -> 41774 | D30: =CHOOSE(MONTH(C30),"01","02","03","04","05","06","07","08","09","10","11","12") -> 05 | E30: 6569.4 | F30: 0.2 | G30: =E30*F30 -> 1313.88 | I30: =E30*(1+F30)-H30 -> 7883.28
A31: ADAT3 | B31: 41729 | C31: =B31+45 -> 41774 | D31: =CHOOSE(MONTH(C31),"01","02","03","04","05","06","07","08","09","10","11","12") -> 05 | E31: 2870 | F31: 0.2 | G31: =E31*F31 -> 574 | I31: =E31*(1+F31)-H31 -> 3444
... A40: TODD9 | B40: 41751 | C40: =B40+45 -> 41796 | D40: =CHOOSE(MONTH(C40),"01","02","03","04","05","06","07","08","09","10","11","12") -> 06 | E40: 12000 | F40: 0.2 | G40: =E40*F40 -> 2400 | I40: =E40*(1+F40)-H40 -> 14400
A41: ADIN7 | B41: 41751 | C41: =B41+45 -> 41796 | D41: =CHOOSE(MONTH(C41),"01","02","03","04","05","06","07","08","09","10","11","12") -> 06 | E41: 42750 | G41: =E41*F41 -> 0 | I41: =E41*(1+F41)-H41 -> 42750
A42: RFF1 | B42: 41771 | C42: =B42+45 -> 41816 | D42: =CHOOSE(MONTH(C42),"01","02","03","04","05","06","07","08","09","10","11","12") -> 06 | E42: 8589.6 | F42: 0.2 | G42: =E42*F42 -> 1717.92 | I42: =E42*(1+F42)-H42 -> 10307.52
A43: EPPS3 | B43: 41771 | C43: =B43+45 -> 41816 | D43: =CHOOSE(MONTH(C43),"01","02","03","04","05","06","07","08","09","10","11","12") -> 06 | E43: 35800 | F43: 0.2 | G43: =E43*F43 -> 7160 | H43: 24120 | I43: =E43*(1+F43)-H43 -> 18840
A44: ADAT3 | B44: 41790 | C44: =B44+45 -> 41835 | D44: =CHOOSE(MONTH(C44),"01","02","03","04","05","06","07","08","09","10","11","12") -> 07 | E44: 8610 | F44: 0.2 | G44: =E44*F44 -> 1722 | I44: =E44*(1+F44)-H44 -> 10332
A45: ADNP2 | B45: 41759 | C45: =B45+45 -> 41804 | D45: =CHOOSE(MONTH(C45),"01","02","03","04","05","06","07","08","09","10","11","12") -> 06 | E45: 4584.3 | F45: 0.2 | G45: =E45*F45 -> 916.86 | I45: =E45*(1+F45)-H45 -> 5501.16
A46: AREN4 | B46: 41774 | C46: =B46+45 -> 41819 | D46: =CHOOSE(MONTH(C46),"01","02","03","04","05","06","07","08","09","10","11","12") -> 06 | E46: 1644.5 | F46: 0.2 | G46: =E46*F46 -> 328.9 | I46: =E46*(1+F46)-H46 -> 1973.4
A47: TODD9 | B47: 41814 | C47: =B47+45 -> 41859 | D47: =CHOOSE(MONTH(C47),"01","02","03","04","05","06","07","08","09","10","11","12") -> 08 | E47: 13683 | F47: 0.2 | G47: =E47*F47 -> 2736.6 | I47: =E47*(1+F47)-H47 -> 16419.6
A48: TODD9 | B48: 41879 | C48: =B48+45 -> 41924 | D48: =CHOOSE(MONTH(C48),"01","02","03","04","05","06","07","08","09","10","11","12") -> 10 | E48: 2917 | F48: 0.2 | G48: =E48*F48 -> 583.4 | I48: =E48*(1+F48)-H48 -> 3500.4
A49: CGN1 | B49: 41802 | C49: =B49+45 -> 41847 | D49: =CHOOSE(MONTH(C49),"01","02","03","04","05","06","07","08","09","10","11","12") -> 07 | E49: 13610 | F49: 0.2 | G49: =E49*F49 -> 2722 | I49: =E49*(1+F49)-H49 -> 16332
A50: FNTP2 | B50: 41802 | C50: =B50+45 -> 41847 | D50: =CHOOSE(MONTH(C50),"01","02","03","04","05","06","07","08","09","10","11","12") -> 07 | E50: 16810.2 | F50: 0.2 | G50: =E50*F50 -> 3362.04 | I50: =E50*(1+F50)-H50 -> 20172.24
A51: CES MED | B51: 41808 | C51: =B51+45 -> 41853 | D51: =CHOOSE(MONTH(C51),"01","02","03","04","05","06","07","08","09","10","11","12") -> 08 | E51: 1316.31 | I51: =E51*(1+F51)-H51 -> 1316.31
A52: ALST2 | B52: 41790 | C52: =B52+45 -> 41835 | D52: =CHOOSE(MONTH(C52),"01","02","03","04","05","06","07","08","09","10","11","12") -> 07 | E52: 45067 | F52: 0.2 | G52: =E52*F52 -> 9013.4 | I52: =E52*(1+F52)-H52 -> 54080.4
A53: SOL2-1 | B53: 41827 | C53: =B53+45 -> 41872 | D53: =CHOOSE(MONTH(C53),"01","02","03","04","05","06","07","08","09","10","11","12") -> 08 | E53: 8600 | F53: 0.2 | G53: =E53*F53 -> 1720 | I53: =E53*(1+F53)-H53 -> 10320
A54: SOL2-2 | B54: 41827 | C54: =B54+45 -> 41872 | D54: =CHOOSE(MONTH(C54),"01","02","03","04","05","06","07","08","09","10","11","12") -> 08 | E54: 950 | F54: 0.2 | G54: =E54*F54 -> 190 | I54: =E54*(1+F54)-H54 -> 1140
A55: CGN1 | B55: 41842 | C55: =B55+45 -> 41887 | D55: =CHOOSE(MONTH(C55),"01","02","03","04","05","06","07","08","09","10","11","12") -> 09 | E55: 11875 | F55: 0.2 | G55: =E55*F55 -> 2375 | I55: =E55*(1+F55)-H55 -> 14250
A56: ADAG2 | B56: 41857 | C56: =B56+45 -> 41902 | D56: =CHOOSE(MONTH(C56),"01","02","03","04","05","06","07","08","09","10","11","12") -> 09 | E56: 1495 | F56: 0.2 | G56: =E56*F56 -> 299 | I56: =E56*(1+F56)-H56 -> 1794
A57: CGY4 | B57: 41857 | C57: =B57+45 -> 41902 | D57: =CHOOSE(MONTH(C57),"01","02","03","04","05","06","07","08","09","10","11","12") -> 09 | E57: =1250+37.5 -> 1287.5 | F57: 0.2 | G57: =E57*F57 -> 257.5 | I57: =E57*(1+F57)-H57 -> 1545
A58: TODD9 | B58: 41879 | C58: =B58+45 -> 41924 | D58: =CHOOSE(MONTH(C58),"01","02","03","04","05","06","07","08","09","10","11","12") -> 10 | E58: 1500 | F58: 0.2 | G58: =E58*F58 -> 300 | I58: =E58*(1+F58)-H58 -> 1800
A59: ADOU3 | B59: 41878 | C59: =B59+45 -> 41923 | D59: =CHOOSE(MONTH(C59),"01","02","03","04","05","06","07","08","09","10","11","12") -> 10 | E59: 10770 | F59: 0.2 | G59: =E59*F59 -> 2154 | I59: =E59*(1+F59)-H59 -> 12924
A60: EPA1 | B60: 41886 | C60: =B60+45 -> 41931 | D60: =CHOOSE(MONTH(C60),"01","02","03","04","05","06","07","08","09","10","11","12") -> 10 | E60: 14465 | F60: 0.2 | G60: =E60*F60 -> 2893 | I60: =E60*(1+F60)-H60 -> 17358
A61: DRCA2 | B61: 41886 | C61: =B61+45 -> 41931 | D61: =CHOOSE(MONTH(C61),"01","02","03","04","05","06","07","08","09","10","11","12") -> 10 | E61: 7177.8 | F61: 0.2 | G61: =E61*F61 -> 1435.56 | I61: =E61*(1+F61)-H61 -> 8613.36
A62: DRCA2 | B62: 41886 | C62: =B62+45 -> 41931 | D62: =CHOOSE(MONTH(C62),"01","02","03","04","05","06","07","08","09","10","11","12") -> 10 | E62: 8333.33 | F62: 0.2 | G62: =E62*F62 -> 1666.666 | I62: =E62*(1+F62)-H62 -> 9999.996
A63: EPPS3 | B63: 41901 | C63: =B63+45 -> 41946 | D63: =CHOOSE(MONTH(C63),"01","02","03","04","05","06","07","08","09","10","11","12") -> 11 | E63: 62050 | F63: 0.2 | G63: =E63*F63 -> 12410 | H63: 35800 | I63: =E63*(1+F63)-H63 -> 38660
A64: ADAT2 | B64: 41901 | C64: =B64+45 -> 41946 | D64: =CHOOSE(MONTH(C64),"01","02","03","04","05","06","07","08","09","10","11","12") -> 11 | E64: 25862.5 | F64: 0.2 | G64: =E64*F64 -> 5172.5 | I64: =E64*(1+F64)-H64 -> 31035
A65: CGN1 | B65: 41901 | C65: =B65+45 -> 41946 | D65: =CHOOSE(MONTH(C65),"01","02","03","04","05","06","07","08","09","10","11","12") -> 11 | E65: 7370 | F65: 0.2 | G65: =E65*F65 -> 1474 | I65: =E65*(1+F65)-H65 -> 8844
A66: CG50-1 | B66: 41905 | C66: =B66+45 -> 41950 | D66: =CHOOSE(MONTH(C66),"01","02","03","04","05","06","07","08","09","10","11","12") -> 11 | E66: 8604 | F66: 0.2 | G66: =E66*F66 -> 1720.8 | I66: =E66*(1+F66)-H66 -> 10324.8
A67: ASIC1 | B67: 41906 | C67: =B67+45 -> 41951 | D67: =CHOOSE(MONTH(C67),"01","02","03","04","05","06","07","08","09","10","11","12") -> 11 | E67: 20000 | F67: 0.2 | G67: =E67*F67 -> 4000 | I67: =E67*(1+F67)-H67 -> 24000
A68: ABC3 | B68: 41922 | C68: =B68+45 -> 41967 | D68: =CHOOSE(MONTH(C68),"01","02","03","04","05","06","07","08","09","10","11","12") -> 11 | E68: 3125 | F68: 0.2 | G68: =E68*F68 -> 625 | I68: =E68*(1+F68)-H68 -> 3750
A69: ADAT3 | B69: 41922 | C69: =B69+45 -> 41967 | D69: =CHOOSE(MONTH(C69),"01","02","03","04","05","06","07","08","09","10","11","12") -> 11 | E69: 17220 | F69: 0.2 | G69: =E69*F69 -> 3444 | I69: =E69*(1+F69)-H69 -> 20664
A70: ADOU2 | B70: 41922 | C70: =B70+45 -> 41967 | D70: =CHOOSE(MONTH(C70),"01","02","03","04","05","06","07","08","09","10","11","12") -> 11 | E70: 32930 | F70: 0.2 | G70: =E70*F70 -> 6586 | I70: =E70*(1+F70)-H70 -> 39516
A71: ADQA1 | B71: 41922 | C71: =B71+45 -> 41967 | D71: =CHOOSE(MONTH(C71),"01","02","03","04","05","06","07","08","09","10","11","12") -> 11 | E71: =28200-19134.27 -> 9065.73 | F71: 0.2 | G71: =E71*F71 -> 1813.146 | I71: =E71*(1+F71)-H71 -> 10878.876
A72: FNTP2 | B72: 41922 | C72: =B72+45 -> 41967 | D72: =CHOOSE(MONTH(C72),"01","02","03","04","05","06","07","08","09","10","11","12") -> 11 | E72: 16810.2 | F72: 0.2 | G72: =E72*F72 -> 3362.04 | I72: =E72*(1+F72)-H72 -> 20172.24
A73: RATP1 | B73: 41922 | C73: =B73+45 -> 41967 | D73: =CHOOSE(MONTH(C73),"01","02","03","04","05","06","07","08","09","10","11","12") -> 11 | E73: 3284.7 | F73: 0.2 | G73: =E73*F73 -> 656.94 | I73: =E73*(1+F73)-H73 -> 3941.64
A74: TODD9 | B74: 41912 | C74: =B74+45 -> 41957 | D74: =CHOOSE(MONTH(C74),"01","02","03","04","05","06","07","08","09","10","11","12") -> 11 | E74: 1500 | F74: 0.2 | G74: =E74*F74 -> 300 | I74: =E74*(1+F74)-H74 -> 1800
A75: VINH7 | B75: 41922 | C75: =B75+45 -> 41967 | D75: =CHOOSE(MONTH(C75),"01","02","03","04","05","06","07","08","09","10","11","12") -> 11 | E75: 2000 | F75: 0.2 | G75: =E75*F75 -> 400 | I75: =E75*(1+F75)-H75 -> 2400
A76: VINH8 | B76: 41922 | C76: =B76+45 -> 41967 | D76: =CHOOSE(MONTH(C76),"01","02","03","04","05","06","07","08","09","10","11","12") -> 11 | E76: 3250 | F76: 0.2 | G76: =E76*F76 -> 650 | I76: =E76*(1+F76)-H76 -> 3900
A77: RESA1 | B77: 41922 | C77: =B77+45 -> 41967 | D77: =CHOOSE(MONTH(C77),"01","02","03","04","05","06","07","08","09","10","11","12") -> 11 | E77: 20080 | F77: 0.2 | G77: =E77*F77 -> 4016 | I77: =E77*(1+F77)-H77 -> 24096
A78: RATP1 | B78: 41946 | C78: =B78+45 -> 41991 | D78: =CHOOSE(MONTH(C78),"01","02","03","04","05","06","07","08","09","10","11","12") -> 12 | E78: 3284.7 | F78: 0.2 | G78: =E78*F78 -> 656.94 | I78: =E78*(1+F78)-H78 -> 3941.64
A79: ADRP7 | B79: 41946 | C79: =B79+45 -> 41991 | D79: =CHOOSE(MONTH(C79),"01","02","03","04","05","06","07","08","09","10","11","12") -> 12 | E79: 4265 | F79: 0.2 | G79: =E79*F79 -> 853 | I79: =E79*(1+F79)-H79 -> 5118
A80: GIBR1 | B80: 41946 | C80: =B80+45 -> 41991 | D80: =CHOOSE(MONTH(C80),"01","02","03","04","05","06","07","08","09","10","11","12") -> 12 | E80: 16667 | F80: 0.2 | G80: =E80*F80 -> 3333.4 | I80: =E80*(1+F80)-H80 -> 20000.4
A81: CITU1 | B81: 41946 | C81: =B81+45 -> 41991 | D81: =CHOOSE(MONTH(C81),"01","02","03","04","05","06","07","08","09","10","11","12") -> 12 | E81: 19240 | F81: 0.2 | G81: =E81*F81 -> 3848 | I81: =E81*(1+F81)-H81 -> 23088
A82: EPA1 | B82: 41946 | C82: =B82+45 -> 41991 | D82: =CHOOSE(MONTH(C82),"01","02","03","04","05","06","07","08","09","10","11","12") -> 12 | E82: 14465 | F82: 0.2 | G82: =E82*F82 -> 2893 | I82: =E82*(1+F82)-H82 -> 17358
A83: AREN5 | B83: 41964 | C83: =B83+45 -> 42009 | D83: =CHOOSE(MONTH(C83),"01","02","03","04","05","06","07","08","09","10","11","12") -> 01 | E83: 8175.17 | F83: 0.2 | G83: =E83*F83 -> 1635.034 | I83: =E83*(1+F83)-H83 -> 9810.204
... A105: CG50-1 | B105: 42004 | C105: =B105+45 -> 42049 | D105: =CHOOSE(MONTH(C105),"01","02","03","04","05","06","07","08","09","10","11","12") -> 02 | E105: 5736 | F105: 0.2 | G105: =E105*F105 -> 1147.2 | I105: =E105*(1+F105)-H105 -> 6883.2
A106: USH1 | B106: 42004 | C106: =B106+45 -> 42049 | D106: =CHOOSE(MONTH(C106),"01","02","03","04","05","06","07","08","09","10","11","12") -> 02 | E106: =0.3*40613 -> 12183.9 | F106: 0.2 | G106: =E106*F106 -> 2436.78 | I106: =E106*(1+F106)-H106 -> 14620.68
A107: GIBR1 | B107: 42033 | C107: =B107+45 -> 42078 | D107: =CHOOSE(MONTH(C107),"01","02","03","04","05","06","07","08","09","10","11","12") -> 03 | E107: 16667 | F107: 0.2 | G107: =E107*F107 -> 3333.4 | I107: =E107*(1+F107)-H107 -> 20000.4
A108: EPPS3-2 | B108: 42033 | C108: =B108+45 -> 42078 | D108: =CHOOSE(MONTH(C108),"01","02","03","04","05","06","07","08","09","10","11","12") -> 03 | E108: 5950 | F108: 0.2 | G108: =E108*F108 -> 1190 | I108: =E108*(1+F108)-H108 -> 7140
A109: EPPS3-3 | B109: 42053 | C109: =B109+45 -> 42098 | D109: =CHOOSE(MONTH(C109),"01","02","03","04","05","06","07","08","09","10","11","12") -> 04 | E109: 14950 | F109: 0.2 | G109: =E109*F109 -> 2990 | I109: =E109*(1+F109)-H109 -> 17940
A110: OMEX1 | B110: 42034 | C110: =B110+45 -> 42079 | D110: =CHOOSE(MONTH(C110),"01","02","03","04","05","06","07","08","09","10","11","12") -> 03 | E110: 18000 | F110: 0.2 | G110: =E110*F110 -> 3600 | I110: =E110*(1+F110)-H110 -> 21600
A111: Loc OS1 | B111: 42034 | C111: =B111+45 -> 42079 | D111: =CHOOSE(MONTH(C111),"01","02","03","04","05","06","07","08","09","10","11","12") -> 03 | E111: 400 | F111: 0.2 | G111: =E111*F111 -> 80 | I111: =E111*(1+F111)-H111 -> 480
A112: ADPE2 | B112: 42041 | C112: =B112+45 -> 42086 | D112: =CHOOSE(MONTH(C112),"01","02","03","04","05","06","07","08","09","10","11","12") -> 03 | E112: 125860 | F112: 0.2 | G112: =E112*F112 -> 25172 | H112: 37758 | I112: =E112*(1+F112)-H112 -> 113274
A113: ADAG3 ADAG4 | B113: 42062 | C113: =B113+45 -> 42107 | D113: =CHOOSE(MONTH(C113),"01","02","03","04","05","06","07","08","09","10","11","12") -> 04 | E113: 25020 | G113: =E113*F113 -> 0 | I113: =E113*(1+F113)-H113 -> 25020
A114: Loc OS1 | B114: 42062 | C114: =B114+45 -> 42107 | D114: =CHOOSE(MONTH(C114),"01","02","03","04","05","06","07","08","09","10","11","12") -> 04 | E114: 300 | F114: 0.2 | G114: =E114*F114 -> 60 | I114: =E114*(1+F114)-H114 -> 360
A115: ADRP9 | B115: 42062 | C115: =B115+45 -> 42107 | D115: =CHOOSE(MONTH(C115),"01","02","03","04","05","06","07","08","09","10","11","12") -> 04 | E115: 4120 | F115: 0.2 | G115: =E115*F115 -> 824 | I115: =E115*(1+F115)-H115 -> 4944
A116: ADRA2 | B116: 42062 | C116: =B116+45 -> 42107 | D116: =CHOOSE(MONTH(C116),"01","02","03","04","05","06","07","08","09","10","11","12") -> 04 | E116: 13973.27 | F116: 0.2 | G116: =E116*F116 -> 2794.654 | H116: 4191.98 | I116: =E116*(1+F116)-H116 -> 12575.944
A117: ASF1 | B117: 42062 | C117: =B117+45 -> 42107 | D117: =CHOOSE(MONTH(C117),"01","02","03","04","05","06","07","08","09","10","11","12") -> 04 | E117: 17544 | F117: 0.2 | G117: =E117*F117 -> 3508.8 | I117: =E117*(1+F117)-H117 -> 21052.8
A118: TODD12 | B118: 42062 | C118: =B118+45 -> 42107 | D118: =CHOOSE(MONTH(C118),"01","02","03","04","05","06","07","08","09","10","11","12") -> 04 | E118: 6500 | F118: 0.2 | G118: =E118*F118 -> 1300 | I118: =E118*(1+F118)-H118 -> 7800
A119: TODD13 | B119: 42062 | C119: =B119+45 -> 42107 | D119: =CHOOSE(MONTH(C119),"01","02","03","04","05","06","07","08","09","10","11","12") -> 04 | E119: 2625 | F119: 0.2 | G119: =E119*F119 -> 525 | I119: =E119*(1+F119)-H119 -> 3150
A120: ADRP7 | B120: 42065 | C120: =B120+45 -> 42110 | D120: =CHOOSE(MONTH(C120),"01","02","03","04","05","06","07","08","09","10","11","12") -> 04 | E120: 10662.5 | F120: 0.2 | G120: =E120*F120 -> 2132.5 | I120: =E120*(1+F120)-H120 -> 12795
A121: OECO1 | B121: 42062 | C121: =B121+45 -> 42107 | D121: =CHOOSE(MONTH(C121),"01","02","03","04","05","06","07","08","09","10","11","12") -> 04 | E121: 4150 | F121: 0.2 | G121: =E121*F121 -> 830 | I121: =E121*(1+F121)-H121 -> 4980
A122: ADQA3 | B122: 42062 | C122: =B122+45 -> 42107 | D122: =CHOOSE(MONTH(C122),"01","02","03","04","05","06","07","08","09","10","11","12") -> 04 | E122: 1804 | F122: 0.2 | G122: =E122*F122 -> 360.8 | I122: =E122*(1+F122)-H122 -> 2164.8
A123: NM1-2 | B123: 42062 | C123: =B123+45 -> 42107 | D123: =CHOOSE(MONTH(C123),"01","02","03","04","05","06","07","08","09","10","11","12") -> 04 | E123: 1813 | F123: 0.2 | G123: =E123*F123 -> 362.6 | I123: =E123*(1+F123)-H123 -> 2175.6
A124: ADQA2 | B124: 42068 | C124: =B124+45 -> 42113 | D124: =CHOOSE(MONTH(C124),"01","02","03","04","05","06","07","08","09","10","11","12") -> 04 | E124: 15301.5 | F124: 0.2 | G124: =E124*F124 -> 3060.3 | H124: 6120.6 | I124: =E124*(1+F124)-H124 -> 12241.2
A125: ADQA2 | B125: 42068 | C125: =B125+45 -> 42113 | D125: =CHOOSE(MONTH(C125),"01","02","03","04","05","06","07","08","09","10","11","12") -> 04 | E125: 15301.5 | F125: 0.2 | G125: =E125*F125 -> 3060.3 | I125: =E125*(1+F125)-H125 -> 18361.8

Sheet Encaissements
A1: PREVISIONNEL DES ENCAISSEMENTS
D3: 42005 | E3: 42036 | F3: 42064 | G3: 42095 | H3: 42125 | I3: 42156 | J3: 42186 | K3: 42217 | L3: 42248 | M3: 42278 | N3: 42309 | O3: 42339
A4: Encaissements prévu | C4: =SUM(C11:C51) -> 0 | D4: =SUM(D11:D51) -> 0 | E4: =SUM(E11:E51) -> 0 | F4: =SUM(F11:F51) -> 0 | G4: =SUM(G11:G51) -> 0 | H4: =SUM(H11:H51) -> 0 | I4: =SUM(I11:I51) -> 0 | J4: =SUM(J11:J51) -> 0 | ... O4: =SUM(O11:O51) -> 0
A10: Client | B10: Cde aff | C10: RETARD 2014 | D10: =CHOOSE(MONTH(D3),"01","02","03","04","05","06","07","08","09","10","11","12") -> 01 | E10: =CHOOSE(MONTH(E3),"01","02","03","04","05","06","07","08","09","10","11","12") -> 02 | F10: =CHOOSE(MONTH(F3),"01","02","03","04","05","06","07","08","09","10","11","12") -> 03 | G10: =CHOOSE(MONTH(G3),"01","02","03","04","05","06","07","08","09","10","11","12") -> 04 | H10: =CHOOSE(MONTH(H3),"01","02","03","04","05","06","07","08","09","10","11","12") -> 05 | I10: =CHOOSE(MONTH(I3),"01","02","03","04","05","06","07","08","09","10","11","12") -> 06 | J10: =CHOOSE(MONTH(J3),"01","02","03","04","05","06","07","08","09","10","11","12") -> 07 | K10: =CHOOSE(MONTH(K3),"01","02","03","04","05","06","07","08","09","10","11","12") -> 08 | ... O10: =CHOOSE(MONTH(O3),"01","02","03","04","05","06","07","08","09","10","11","12") -> 12 | P10: SOMME
D11: =SUMIFS([1]Factures!$X$107:$X$110,[1]Factures!$J$107:$J$110,Encaissements!$B11,[1]Factures!$Q$107:$Q$110,Encaissements!D$10) -> 0 | E11: =SUMIFS([1]Factures!$X$107:$X$110,[1]Factures!$J$107:$J$110,Encaissements!$B11,[1]Factures!$Q$107:$Q$110,Encaissements!E$10) -> 0 | F11: =SUMIFS([1]Factures!$X$107:$X$110,[1]Factures!$J$107:$J$110,Encaissements!$B11,[1]Factures!$Q$107:$Q$110,Encaissements!F$10) -> 0 | G11: =SUMIFS([1]Factures!$X$107:$X$110,[1]Factures!$J$107:$J$110,Encaissements!$B11,[1]Factures!$Q$107:$Q$110,Encaissements!G$10) -> 0 | H11: =SUMIFS([1]Factures!$X$107:$X$110,[1]Factures!$J$107:$J$110,Encaissements!$B11,[1]Factures!$Q$107:$Q$110,Encaissements!H$10) -> 0 | I11: =SUMIFS([1]Factures!$X$107:$X$110,[1]Factures!$J$107:$J$110,Encaissements!$B11,[1]Factures!$Q$107:$Q$110,Encaissements!I$10) -> 0 | J11: =SUMIFS([1]Factures!$X$107:$X$110,[1]Factures!$J$107:$J$110,Encaissements!$B11,[1]Factures!$Q$107:$Q$110,Encaissements!J$10) -> 0 | K11: =SUMIFS([1]Factures!$X$107:$X$110,[1]Factures!$J$107:$J$110,Encaissements!$B11,[1]Factures!$Q$107:$Q$110,Encaissements!K$10) -> 0 | ... O11: =SUMIFS([1]Factures!$X$107:$X$110,[1]Factures!$J$107:$J$110,Encaissements!$B11,[1]Factures!$Q$107:$Q$110,Encaissements!O$10) -> 0 | P11: =SUM(C11:O11) -> 0
D12: =SUMIFS([1]Factures!$X$107:$X$110,[1]Factures!$J$107:$J$110,Encaissements!$B12,[1]Factures!$Q$107:$Q$110,Encaissements!D$10) -> 0 | E12: =SUMIFS([1]Factures!$X$107:$X$110,[1]Factures!$J$107:$J$110,Encaissements!$B12,[1]Factures!$Q$107:$Q$110,Encaissements!E$10) -> 0 | F12: =SUMIFS([1]Factures!$X$107:$X$110,[1]Factures!$J$107:$J$110,Encaissements!$B12,[1]Factures!$Q$107:$Q$110,Encaissements!F$10) -> 0 | G12: =SUMIFS([1]Factures!$X$107:$X$110,[1]Factures!$J$107:$J$110,Encaissements!$B12,[1]Factures!$Q$107:$Q$110,Encaissements!G$10) -> 0 | H12: =SUMIFS([1]Factures!$X$107:$X$110,[1]Factures!$J$107:$J$110,Encaissements!$B12,[1]Factures!$Q$107:$Q$110,Encaissements!H$10) -> 0 | I12: =SUMIFS([1]Factures!$X$107:$X$110,[1]Factures!$J$107:$J$110,Encaissements!$B12,[1]Factures!$Q$107:$Q$110,Encaissements!I$10) -> 0 | J12: =SUMIFS([1]Factures!$X$107:$X$110,[1]Factures!$J$107:$J$110,Encaissements!$B12,[1]Factures!$Q$107:$Q$110,Encaissements!J$10) -> 0 | K12: =SUMIFS([1]Factures!$X$107:$X$110,[1]Factures!$J$107:$J$110,Encaissements!$B12,[1]Factures!$Q$107:$Q$110,Encaissements!K$10) -> 0 | ... O12: =SUMIFS([1]Factures!$X$107:$X$110,[1]Factures!$J$107:$J$110,Encaissements!$B12,[1]Factures!$Q$107:$Q$110,Encaissements!O$10) -> 0 | P12: =SUM(C12:O12) -> 0
D13: =SUMIFS([1]Factures!$X$107:$X$110,[1]Factures!$J$107:$J$110,Encaissements!$B13,[1]Factures!$Q$107:$Q$110,Encaissements!D$10) -> 0 | E13: =SUMIFS([1]Factures!$X$107:$X$110,[1]Factures!$J$107:$J$110,Encaissements!$B13,[1]Factures!$Q$107:$Q$110,Encaissements!E$10) -> 0 | F13: =SUMIFS([1]Factures!$X$107:$X$110,[1]Factures!$J$107:$J$110,Encaissements!$B13,[1]Factures!$Q$107:$Q$110,Encaissements!F$10) -> 0 | G13: =SUMIFS([1]Factures!$X$107:$X$110,[1]Factures!$J$107:$J$110,Encaissements!$B13,[1]Factures!$Q$107:$Q$110,Encaissements!G$10) -> 0 | H13: =SUMIFS([1]Factures!$X$107:$X$110,[1]Factures!$J$107:$J$110,Encaissements!$B13,[1]Factures!$Q$107:$Q$110,Encaissements!H$10) -> 0 | I13: =SUMIFS([1]Factures!$X$107:$X$110,[1]Factures!$J$107:$J$110,Encaissements!$B13,[1]Factures!$Q$107:$Q$110,Encaissements!I$10) -> 0 | J13: =SUMIFS([1]Factures!$X$107:$X$110,[1]Factures!$J$107:$J$110,Encaissements!$B13,[1]Factures!$Q$107:$Q$110,Encaissements!J$10) -> 0 | K13: =SUMIFS([1]Factures!$X$107:$X$110,[1]Factures!$J$107:$J$110,Encaissements!$B13,[1]Factures!$Q$107:$Q$110,Encaissements!K$10) -> 0 | ... O13: =SUMIFS([1]Factures!$X$107:$X$110,[1]Factures!$J$107:$J$110,Encaissements!$B13,[1]Factures!$Q$107:$Q$110,Encaissements!O$10) -> 0 | P13: =SUM(C13:O13) -> 0
D14: =SUMIFS([1]Factures!$X$107:$X$110,[1]Factures!$J$107:$J$110,Encaissements!$B14,[1]Factures!$Q$107:$Q$110,Encaissements!D$10) -> 0 | E14: =SUMIFS([1]Factures!$X$107:$X$110,[1]Factures!$J$107:$J$110,Encaissements!$B14,[1]Factures!$Q$107:$Q$110,Encaissements!E$10) -> 0 | F14: =SUMIFS([1]Factures!$X$107:$X$110,[1]Factures!$J$107:$J$110,Encaissements!$B14,[1]Factures!$Q$107:$Q$110,Encaissements!F$10) -> 0 | G14: =SUMIFS([1]Factures!$X$107:$X$110,[1]Factures!$J$107:$J$110,Encaissements!$B14,[1]Factures!$Q$107:$Q$110,Encaissements!G$10) -> 0 | H14: =SUMIFS([1]Factures!$X$107:$X$110,[1]Factures!$J$107:$J$110,Encaissements!$B14,[1]Factures!$Q$107:$Q$110,Encaissements!H$10) -> 0 | I14: =SUMIFS([1]Factures!$X$107:$X$110,[1]Factures!$J$107:$J$110,Encaissements!$B14,[1]Factures!$Q$107:$Q$110,Encaissements!I$10) -> 0 | J14: =SUMIFS([1]Factures!$X$107:$X$110,[1]Factures!$J$107:$J$110,Encaissements!$B14,[1]Factures!$Q$107:$Q$110,Encaissements!J$10) -> 0 | K14: =SUMIFS([1]Factures!$X$107:$X$110,[1]Factures!$J$107:$J$110,Encaissements!$B14,[1]Factures!$Q$107:$Q$110,Encaissements!K$10) -> 0 | ... O14: =SUMIFS([1]Factures!$X$107:$X$110,[1]Factures!$J$107:$J$110,Encaissements!$B14,[1]Factures!$Q$107:$Q$110,Encaissements!O$10) -> 0 | P14: =SUM(C14:O14) -> 0
D15: =SUMIFS([1]Factures!$X$107:$X$110,[1]Factures!$J$107:$J$110,Encaissements!$B15,[1]Factures!$Q$107:$Q$110,Encaissements!D$10) -> 0 | E15: =SUMIFS([1]Factures!$X$107:$X$110,[1]Factures!$J$107:$J$110,Encaissements!$B15,[1]Factures!$Q$107:$Q$110,Encaissements!E$10) -> 0 | F15: =SUMIFS([1]Factures!$X$107:$X$110,[1]Factures!$J$107:$J$110,Encaissements!$B15,[1]Factures!$Q$107:$Q$110,Encaissements!F$10) -> 0 | G15: =SUMIFS([1]Factures!$X$107:$X$110,[1]Factures!$J$107:$J$110,Encaissements!$B15,[1]Factures!$Q$107:$Q$110,Encaissements!G$10) -> 0 | H15: =SUMIFS([1]Factures!$X$107:$X$110,[1]Factures!$J$107:$J$110,Encaissements!$B15,[1]Factures!$Q$107:$Q$110,Encaissements!H$10) -> 0 | I15: =SUMIFS([1]Factures!$X$107:$X$110,[1]Factures!$J$107:$J$110,Encaissements!$B15,[1]Factures!$Q$107:$Q$110,Encaissements!I$10) -> 0 | J15: =SUMIFS([1]Factures!$X$107:$X$110,[1]Factures!$J$107:$J$110,Encaissements!$B15,[1]Factures!$Q$107:$Q$110,Encaissements!J$10) -> 0 | K15: =SUMIFS([1]Factures!$X$107:$X$110,[1]Factures!$J$107:$J$110,Encaissements!$B15,[1]Factures!$Q$107:$Q$110,Encaissements!K$10) -> 0 | ... O15: =SUMIFS([1]Factures!$X$107:$X$110,[1]Factures!$J$107:$J$110,Encaissements!$B15,[1]Factures!$Q$107:$Q$110,Encaissements!O$10) -> 0 | P15: =SUM(C15:O15) -> 0
D16: =SUMIFS([1]Factures!$X$107:$X$110,[1]Factures!$J$107:$J$110,Encaissements!$B16,[1]Factures!$Q$107:$Q$110,Encaissements!D$10) -> 0 | E16: =SUMIFS([1]Factures!$X$107:$X$110,[1]Factures!$J$107:$J$110,Encaissements!$B16,[1]Factures!$Q$107:$Q$110,Encaissements!E$10) -> 0 | F16: =SUMIFS([1]Factures!$X$107:$X$110,[1]Factures!$J$107:$J$110,Encaissements!$B16,[1]Factures!$Q$107:$Q$110,Encaissements!F$10) -> 0 | G16: =SUMIFS([1]Factures!$X$107:$X$110,[1]Factures!$J$107:$J$110,Encaissements!$B16,[1]Factures!$Q$107:$Q$110,Encaissements!G$10) -> 0 | H16: =SUMIFS([1]Factures!$X$107:$X$110,[1]Factures!$J$107:$J$110,Encaissements!$B16,[1]Factures!$Q$107:$Q$110,Encaissements!H$10) -> 0 | I16: =SUMIFS([1]Factures!$X$107:$X$110,[1]Factures!$J$107:$J$110,Encaissements!$B16,[1]Factures!$Q$107:$Q$110,Encaissements!I$10) -> 0 | J16: =SUMIFS([1]Factures!$X$107:$X$110,[1]Factures!$J$107:$J$110,Encaissements!$B16,[1]Factures!$Q$107:$Q$110,Encaissements!J$10) -> 0 | K16: =SUMIFS([1]Factures!$X$107:$X$110,[1]Factures!$J$107:$J$110,Encaissements!$B16,[1]Factures!$Q$107:$Q$110,Encaissements!K$10) -> 0 | ... O16: =SUMIFS([1]Factures!$X$107:$X$110,[1]Factures!$J$107:$J$110,Encaissements!$B16,[1]Factures!$Q$107:$Q$110,Encaissements!O$10) -> 0 | P16: =SUM(C16:O16) -> 0
D17: =SUMIFS([1]Factures!$X$107:$X$110,[1]Factures!$J$107:$J$110,Encaissements!$B17,[1]Factures!$Q$107:$Q$110,Encaissements!D$10) -> 0 | E17: =SUMIFS([1]Factures!$X$107:$X$110,[1]Factures!$J$107:$J$110,Encaissements!$B17,[1]Factures!$Q$107:$Q$110,Encaissements!E$10) -> 0 | F17: =SUMIFS([1]Factures!$X$107:$X$110,[1]Factures!$J$107:$J$110,Encaissements!$B17,[1]Factures!$Q$107:$Q$110,Encaissements!F$10) -> 0 | G17: =SUMIFS([1]Factures!$X$107:$X$110,[1]Factures!$J$107:$J$110,Encaissements!$B17,[1]Factures!$Q$107:$Q$110,Encaissements!G$10) -> 0 | H17: =SUMIFS([1]Factures!$X$107:$X$110,[1]Factures!$J$107:$J$110,Encaissements!$B17,[1]Factures!$Q$107:$Q$110,Encaissements!H$10) -> 0 | I17: =SUMIFS([1]Factures!$X$107:$X$110,[1]Factures!$J$107:$J$110,Encaissements!$B17,[1]Factures!$Q$107:$Q$110,Encaissements!I$10) -> 0 | J17: =SUMIFS([1]Factures!$X$107:$X$110,[1]Factures!$J$107:$J$110,Encaissements!$B17,[1]Factures!$Q$107:$Q$110,Encaissements!J$10) -> 0 | K17: =SUMIFS([1]Factures!$X$107:$X$110,[1]Factures!$J$107:$J$110,Encaissements!$B17,[1]Factures!$Q$107:$Q$110,Encaissements!K$10) -> 0 | ... O17: =SUMIFS([1]Factures!$X$107:$X$110,[1]Factures!$J$107:$J$110,Encaissements!$B17,[1]Factures!$Q$107:$Q$110,Encaissements!O$10) -> 0 | P17: =SUM(C17:O17) -> 0
D18: =SUMIFS([1]Factures!$X$107:$X$110,[1]Factures!$J$107:$J$110,Encaissements!$B18,[1]Factures!$Q$107:$Q$110,Encaissements!D$10) -> 0 | E18: =SUMIFS([1]Factures!$X$107:$X$110,[1]Factures!$J$107:$J$110,Encaissements!$B18,[1]Factures!$Q$107:$Q$110,Encaissements!E$10) -> 0 | F18: =SUMIFS([1]Factures!$X$107:$X$110,[1]Factures!$J$107:$J$110,Encaissements!$B18,[1]Factures!$Q$107:$Q$110,Encaissements!F$10) -> 0 | G18: =SUMIFS([1]Factures!$X$107:$X$110,[1]Factures!$J$107:$J$110,Encaissements!$B18,[1]Factures!$Q$107:$Q$110,Encaissements!G$10) -> 0 | H18: =SUMIFS([1]Factures!$X$107:$X$110,[1]Factures!$J$107:$J$110,Encaissements!$B18,[1]Factures!$Q$107:$Q$110,Encaissements!H$10) -> 0 | I18: =SUMIFS([1]Factures!$X$107:$X$110,[1]Factures!$J$107:$J$110,Encaissements!$B18,[1]Factures!$Q$107:$Q$110,Encaissements!I$10) -> 0 | J18: =SUMIFS([1]Factures!$X$107:$X$110,[1]Factures!$J$107:$J$110,Encaissements!$B18,[1]Factures!$Q$107:$Q$110,Encaissements!J$10) -> 0 | K18: =SUMIFS([1]Factures!$X$107:$X$110,[1]Factures!$J$107:$J$110,Encaissements!$B18,[1]Factures!$Q$107:$Q$110,Encaissements!K$10) -> 0 | ... O18: =SUMIFS([1]Factures!$X$107:$X$110,[1]Factures!$J$107:$J$110,Encaissements!$B18,[1]Factures!$Q$107:$Q$110,Encaissements!O$10) -> 0 | P18: =SUM(C18:O18) -> 0
D19: =SUMIFS([1]Factures!$X$107:$X$110,[1]Factures!$J$107:$J$110,Encaissements!$B19,[1]Factures!$Q$107:$Q$110,Encaissements!D$10) -> 0 | E19: =SUMIFS([1]Factures!$X$107:$X$110,[1]Factures!$J$107:$J$110,Encaissements!$B19,[1]Factures!$Q$107:$Q$110,Encaissements!E$10) -> 0 | F19: =SUMIFS([1]Factures!$X$107:$X$110,[1]Factures!$J$107:$J$110,Encaissements!$B19,[1]Factures!$Q$107:$Q$110,Encaissements!F$10) -> 0 | G19: =SUMIFS([1]Factures!$X$107:$X$110,[1]Factures!$J$107:$J$110,Encaissements!$B19,[1]Factures!$Q$107:$Q$110,Encaissements!G$10) -> 0 | H19: =SUMIFS([1]Factures!$X$107:$X$110,[1]Factures!$J$107:$J$110,Encaissements!$B19,[1]Factures!$Q$107:$Q$110,Encaissements!H$10) -> 0 | I19: =SUMIFS([1]Factures!$X$107:$X$110,[1]Factures!$J$107:$J$110,Encaissements!$B19,[1]Factures!$Q$107:$Q$110,Encaissements!I$10) -> 0 | J19: =SUMIFS([1]Factures!$X$107:$X$110,[1]Factures!$J$107:$J$110,Encaissements!$B19,[1]Factures!$Q$107:$Q$110,Encaissements!J$10) -> 0 | K19: =SUMIFS([1]Factures!$X$107:$X$110,[1]Factures!$J$107:$J$110,Encaissements!$B19,[1]Factures!$Q$107:$Q$110,Encaissements!K$10) -> 0 | ... O19: =SUMIFS([1]Factures!$X$107:$X$110,[1]Factures!$J$107:$J$110,Encaissements!$B19,[1]Factures!$Q$107:$Q$110,Encaissements!O$10) -> 0 | P19: =SUM(C19:O19) -> 0
D20: =SUMIFS([1]Factures!$X$107:$X$110,[1]Factures!$J$107:$J$110,Encaissements!$B20,[1]Factures!$Q$107:$Q$110,Encaissements!D$10) -> 0 | E20: =SUMIFS([1]Factures!$X$107:$X$110,[1]Factures!$J$107:$J$110,Encaissements!$B20,[1]Factures!$Q$107:$Q$110,Encaissements!E$10) -> 0 | F20: =SUMIFS([1]Factures!$X$107:$X$110,[1]Factures!$J$107:$J$110,Encaissements!$B20,[1]Factures!$Q$107:$Q$110,Encaissements!F$10) -> 0 | G20: =SUMIFS([1]Factures!$X$107:$X$110,[1]Factures!$J$107:$J$110,Encaissements!$B20,[1]Factures!$Q$107:$Q$110,Encaissements!G$10) -> 0 | H20: =SUMIFS([1]Factures!$X$107:$X$110,[1]Factures!$J$107:$J$110,Encaissements!$B20,[1]Factures!$Q$107:$Q$110,Encaissements!H$10) -> 0 | I20: =SUMIFS([1]Factures!$X$107:$X$110,[1]Factures!$J$107:$J$110,Encaissements!$B20,[1]Factures!$Q$107:$Q$110,Encaissements!I$10) -> 0 | J20: =SUMIFS([1]Factures!$X$107:$X$110,[1]Factures!$J$107:$J$110,Encaissements!$B20,[1]Factures!$Q$107:$Q$110,Encaissements!J$10) -> 0 | K20: =SUMIFS([1]Factures!$X$107:$X$110,[1]Factures!$J$107:$J$110,Encaissements!$B20,[1]Factures!$Q$107:$Q$110,Encaissements!K$10) -> 0 | ... O20: =SUMIFS([1]Factures!$X$107:$X$110,[1]Factures!$J$107:$J$110,Encaissements!$B20,[1]Factures!$Q$107:$Q$110,Encaissements!O$10) -> 0 | P20: =SUM(C20:O20) -> 0
D21: =SUMIFS([1]Factures!$X$107:$X$110,[1]Factures!$J$107:$J$110,Encaissements!$B21,[1]Factures!$Q$107:$Q$110,Encaissements!D$10) -> 0 | E21: =SUMIFS([1]Factures!$X$107:$X$110,[1]Factures!$J$107:$J$110,Encaissements!$B21,[1]Factures!$Q$107:$Q$110,Encaissements!E$10) -> 0 | F21: =SUMIFS([1]Factures!$X$107:$X$110,[1]Factures!$J$107:$J$110,Encaissements!$B21,[1]Factures!$Q$107:$Q$110,Encaissements!F$10) -> 0 | G21: =SUMIFS([1]Factures!$X$107:$X$110,[1]Factures!$J$107:$J$110,Encaissements!$B21,[1]Factures!$Q$107:$Q$110,Encaissements!G$10) -> 0 | H21: =SUMIFS([1]Factures!$X$107:$X$110,[1]Factures!$J$107:$J$110,Encaissements!$B21,[1]Factures!$Q$107:$Q$110,Encaissements!H$10) -> 0 | I21: =SUMIFS([1]Factures!$X$107:$X$110,[1]Factures!$J$107:$J$110,Encaissements!$B21,[1]Factures!$Q$107:$Q$110,Encaissements!I$10) -> 0 | J21: =SUMIFS([1]Factures!$X$107:$X$110,[1]Factures!$J$107:$J$110,Encaissements!$B21,[1]Factures!$Q$107:$Q$110,Encaissements!J$10) -> 0 | K21: =SUMIFS([1]Factures!$X$107:$X$110,[1]Factures!$J$107:$J$110,Encaissements!$B21,[1]Factures!$Q$107:$Q$110,Encaissements!K$10) -> 0 | ... O21: =SUMIFS([1]Factures!$X$107:$X$110,[1]Factures!$J$107:$J$110,Encaissements!$B21,[1]Factures!$Q$107:$Q$110,Encaissements!O$10) -> 0 | P21: =SUM(C21:O21) -> 0
D22: =SUMIFS([1]Factures!$X$107:$X$110,[1]Factures!$J$107:$J$110,Encaissements!$B22,[1]Factures!$Q$107:$Q$110,Encaissements!D$10) -> 0 | E22: =SUMIFS([1]Factures!$X$107:$X$110,[1]Factures!$J$107:$J$110,Encaissements!$B22,[1]Factures!$Q$107:$Q$110,Encaissements!E$10) -> 0 | F22: =SUMIFS([1]Factures!$X$107:$X$110,[1]Factures!$J$107:$J$110,Encaissements!$B22,[1]Factures!$Q$107:$Q$110,Encaissements!F$10) -> 0 | G22: =SUMIFS([1]Factures!$X$107:$X$110,[1]Factures!$J$107:$J$110,Encaissements!$B22,[1]Factures!$Q$107:$Q$110,Encaissements!G$10) -> 0 | H22: =SUMIFS([1]Factures!$X$107:$X$110,[1]Factures!$J$107:$J$110,Encaissements!$B22,[1]Factures!$Q$107:$Q$110,Encaissements!H$10) -> 0 | I22: =SUMIFS([1]Factures!$X$107:$X$110,[1]Factures!$J$107:$J$110,Encaissements!$B22,[1]Factures!$Q$107:$Q$110,Encaissements!I$10) -> 0 | J22: =SUMIFS([1]Factures!$X$107:$X$110,[1]Factures!$J$107:$J$110,Encaissements!$B22,[1]Factures!$Q$107:$Q$110,Encaissements!J$10) -> 0 | K22: =SUMIFS([1]Factures!$X$107:$X$110,[1]Factures!$J$107:$J$110,Encaissements!$B22,[1]Factures!$Q$107:$Q$110,Encaissements!K$10) -> 0 | ... O22: =SUMIFS([1]Factures!$X$107:$X$110,[1]Factures!$J$107:$J$110,Encaissements!$B22,[1]Factures!$Q$107:$Q$110,Encaissements!O$10) -> 0 | P22: =SUM(C22:O22) -> 0
... D89: =SUMIFS([1]Factures!$X$107:$X$110,[1]Factures!$J$107:$J$110,Encaissements!$B89,[1]Factures!$Q$107:$Q$110,Encaissements!D$10) -> 0 | E89: =SUMIFS([1]Factures!$X$107:$X$110,[1]Factures!$J$107:$J$110,Encaissements!$B89,[1]Factures!$Q$107:$Q$110,Encaissements!E$10) -> 0 | F89: =SUMIFS([1]Factures!$X$107:$X$110,[1]Factures!$J$107:$J$110,Encaissements!$B89,[1]Factures!$Q$107:$Q$110,Encaissements!F$10) -> 0 | G89: =SUMIFS([1]Factures!$X$107:$X$110,[1]Factures!$J$107:$J$110,Encaissements!$B89,[1]Factures!$Q$107:$Q$110,Encaissements!G$10) -> 0 | H89: =SUMIFS([1]Factures!$X$107:$X$110,[1]Factures!$J$107:$J$110,Encaissements!$B89,[1]Factures!$Q$107:$Q$110,Encaissements!H$10) -> 0 | I89: =SUMIFS([1]Factures!$X$107:$X$110,[1]Factures!$J$107:$J$110,Encaissements!$B89,[1]Factures!$Q$107:$Q$110,Encaissements!I$10) -> 0 | J89: =SUMIFS([1]Factures!$X$107:$X$110,[1]Factures!$J$107:$J$110,Encaissements!$B89,[1]Factures!$Q$107:$Q$110,Encaissements!J$10) -> 0 | K89: =SUMIFS([1]Factures!$X$107:$X$110,[1]Factures!$J$107:$J$110,Encaissements!$B89,[1]Factures!$Q$107:$Q$110,Encaissements!K$10) -> 0 | ... O89: =SUMIFS([1]Factures!$X$107:$X$110,[1]Factures!$J$107:$J$110,Encaissements!$B89,[1]Factures!$Q$107:$Q$110,Encaissements!O$10) -> 0 | P89: =SUM(C89:O89) -> 0
C93: Tranches | D93: Nombre de Différence
C94: (vide) | D94: 22
C95: 5 - Après 2 mois | D95: 2
C96: 4 - Entre 1 et 2 mois | D96: 8
C97: 3 - Entre 10 et 30js | D97: 6
C98: 2 - Dans les 10js | D98: 5
C99: 1 - Avant échéance | D99: 11

Sheet Feuil2
