Workbook

Sheet DB
A1: date | B1: Machine | C1: Equipe | D1: Qté bonne | E1: Qté perte
A2: 42527 | B2: Machine 1 | C2: AM | D2: 10000 | E2: 2000
A3: 42527 | B3: Machine 1 | C3: MA | D3: 11000 | E3: 1000
A4: 42527 | B4: Machine 1 | C4: NU | D4: 12000 | E4: 3000
A5: 42530 | B5: Machine 1 | C5: AM | D5: 13000 | E5: 3500
A6: 42530 | B6: Machine 1 | C6: MA | D6: 10000 | E6: 2000
A7: 42530 | B7: Machine 1 | C7: NU | D7: 11000 | E7: 1000
A8: 42527 | B8: Machine 2 | C8: AM | D8: 13000 | E8: 3500
A9: 42527 | B9: Machine 2 | C9: MA | D9: 10000 | E9: 2000
A10: 42527 | B10: Machine 2 | C10: NU | D10: 11000 | E10: 1000
A11: 42530 | B11: Machine 2 | C11: AM | D11: 12000 | E11: 3000
A12: 42530 | B12: Machine 2 | C12: MA | D12: 13000 | E12: 3500
A13: 42530 | B13: Machine 2 | C13: NU | D13: 10000 | E13: 2000
... A37: 42538 | B37: Machine 3 | C37: AM | D37: 13000 | E37: 3500

Sheet TCD
A3: Machine | B3: date | C3: Equipe | D3: Somme de Qté bonne | E3: Somme de Qté perte
A4: Machine 1 | B4: 42527 | C4: AM | D4: 10000 | E4: 2000
C5: MA | D5: 11000 | E5: 1000
C6: NU | D6: 12000 | E6: 3000
B7: Total 06/06/2016 | D7: 33000 | E7: 6000
B8: 42530 | C8: AM | D8: 13000 | E8: 3500
C9: MA | D9: 10000 | E9: 2000
C10: NU | D10: 11000 | E10: 1000
B11: Total 09/06/2016 | D11: 34000 | E11: 6500
B12: 42533 | C12: AM | D12: 10000 | E12: 2000
C13: MA | D13: 11000 | E13: 1000
C14: NU | D14: 12000 | E14: 3000
B15: Total 12/06/2016 | D15: 33000 | E15: 6000
A16: Total Machine 1 | D16: 100000 | E16: 18500
A17: Machine 2 | B17: 42527 | C17: AM | D17: 13000 | E17: 3500
C18: MA | D18: 10000 | E18: 2000
C19: NU | D19: 11000 | E19: 1000
B20: Total 06/06/2016 | D20: 34000 | E20: 6500
B21: 42530 | C21: AM | D21: 12000 | E21: 3000
C22: MA | D22: 13000 | E22: 3500
C23: NU | D23: 10000 | E23: 2000
B24: Total 09/06/2016 | D24: 35000 | E24: 8500
A25: Total Machine 2 | D25: 69000 | E25: 15000
A26: Machine 3 | B26: 42527 | C26: AM | D26: 12000 | E26: 3000
C27: MA | D27: 13000 | E27: 3500
C28: NU | D28: 10000 | E28: 2000
B29: Total 06/06/2016 | D29: 35000 | E29: 8500
B30: 42530 | C30: AM | D30: 11000 | E30: 1000
C31: MA | D31: 12000 | E31: 3000
C32: NU | D32: 13000 | E32: 3500
B33: Total 09/06/2016 | D33: 36000 | E33: 7500
A34: Total Machine 3 | D34: 71000 | E34: 16000
A35: Total général | D35: 240000 | E35: 49500

Sheet tableau dissocié
A1: SEMAINE 20 | H1: SEMAINE 20 | O1: SEMAINE 20
A3: =[1]Perte!O8 -> DESI_MACH | B3: =[1]Perte!P8 -> DATE_CALE | C3: =[1]Perte!Q8 -> CODE_EQUI | D3: =[1]Perte!R8 -> QBONP | E3: =[1]Perte!S8 -> Perte P | F3: =[1]Perte!T8 -> Tx Perte | H3: DESI_MACH | I3: DATE_CALE | J3: CODE_EQUI | K3: QBONP | L3: PERTE P | M3: TX PERTE | O3: DESI_MACH | P3: DATE_CALE | Q3: CODE_EQUI | R3: QBONP | S3: PERTE P | T3: TX PERTE
A4: =TCD!A4 -> Machine 1 | B4: =TCD!B4 -> 42527 | C4: =TCD!C4 -> AM | D4: =GETPIVOTDATA("Somme de Qté bonne",TCD!$A$3,"date",DATE(2016,6,6),"Machine","Machine 1","Equipe","AM") -> 10000 | E4: =GETPIVOTDATA("Somme de Qté perte",TCD!$A$3,"date",DATE(2016,6,6),"Machine","Machine 1","Equipe","AM") -> 2000 | F4: =E4/D4 -> 0.2 | H4: =#REF! -> #REF! | I4: =[1]Perte!P25 -> 42527 | J4: =C4 -> AM | K4: =GETPIVOTDATA(" QBONP",[1]Perte!$N$7,"DESI_MACH","Roto16","Colonne2","Sacs Croissants","DATE_CALE",DATE(2016,5,23),"CODE_EQUI","AM") -> #REF! | L4: =GETPIVOTDATA(" PERTE P",[1]Perte!$N$7,"DESI_MACH","Roto16","Colonne2","Sacs Croissants","DATE_CALE",DATE(2016,5,23),"CODE_EQUI","AM") -> #REF! | M4: =L4/K4 -> #REF! | O4: =#REF! -> #REF! | P4: =I4 -> 42527 | Q4: =J4 -> AM | R4: =GETPIVOTDATA(" QBONP",[1]Perte!$N$7,"DESI_MACH","Roto17","Colonne2","Sacs Croissants","DATE_CALE",DATE(2016,5,23),"CODE_EQUI","AM") -> #REF! | S4: =GETPIVOTDATA(" Perte P",[1]Perte!$N$7,"DESI_MACH","Roto17","Colonne2","Sacs Croissants","DATE_CALE",DATE(2016,5,23),"CODE_EQUI","AM") -> #REF! | T4: =S4/R4 -> #REF!
C5: =TCD!C5 -> MA | D5: =GETPIVOTDATA("Somme de Qté bonne",TCD!$A$3,"date",DATE(2016,6,6),"Machine","Machine 1","Equipe","MA") -> 11000 | E5: =GETPIVOTDATA("Somme de Qté perte",TCD!$A$3,"date",DATE(2016,6,6),"Machine","Machine 1","Equipe","MA") -> 1000 | F5: =E5/D5 -> 0.090909091 | J5: =C5 -> MA | K5: =GETPIVOTDATA(" QBONP",[1]Perte!$N$7,"DESI_MACH","Roto16","Colonne2","Sacs Croissants","DATE_CALE",DATE(2016,5,23),"CODE_EQUI","MA") -> #REF! | L5: =GETPIVOTDATA(" PERTE P",[1]Perte!$N$7,"DESI_MACH","Roto16","Colonne2","Sacs Croissants","DATE_CALE",DATE(2016,5,23),"CODE_EQUI","MA") -> #REF! | M5: =L5/K5 -> #REF! | Q5: =J5 -> MA | R5: =GETPIVOTDATA(" QBONP",[1]Perte!$N$7,"DESI_MACH","Roto17","Colonne2","Sacs Croissants","DATE_CALE",DATE(2016,5,23),"CODE_EQUI","MA") -> #REF! | S5: =GETPIVOTDATA(" Perte P",[1]Perte!$N$7,"DESI_MACH","Roto17","Colonne2","Sacs Croissants","DATE_CALE",DATE(2016,5,23),"CODE_EQUI","MA") -> #REF! | T5: =S5/R5 -> #REF!
C6: =TCD!C6 -> NU | D6: =GETPIVOTDATA("Somme de Qté bonne",TCD!$A$3,"date",DATE(2016,6,6),"Machine","Machine 1","Equipe","NU") -> 12000 | E6: =GETPIVOTDATA("Somme de Qté perte",TCD!$A$3,"date",DATE(2016,6,6),"Machine","Machine 1","Equipe","NU") -> 3000 | F6: =E6/D6 -> 0.25 | J6: =C6 -> NU | K6: =GETPIVOTDATA(" QBONP",[1]Perte!$N$7,"DESI_MACH","Roto16","Colonne2","Sacs Croissants","DATE_CALE",DATE(2016,5,23),"CODE_EQUI","NU") -> #REF! | L6: =GETPIVOTDATA(" PERTE P",[1]Perte!$N$7,"DESI_MACH","Roto16","Colonne2","Sacs Croissants","DATE_CALE",DATE(2016,5,23),"CODE_EQUI","NU") -> #REF! | M6: =L6/K6 -> #REF! | Q6: =J6 -> NU | R6: =GETPIVOTDATA(" QBONP",[1]Perte!$N$7,"DESI_MACH","Roto17","Colonne2","Sacs Croissants","DATE_CALE",DATE(2016,5,23),"CODE_EQUI","NU") -> #REF! | S6: =GETPIVOTDATA(" Perte P",[1]Perte!$N$7,"DESI_MACH","Roto17","Colonne2","Sacs Croissants","DATE_CALE",DATE(2016,5,23),"CODE_EQUI","NU") -> #REF! | T6: =S6/R6 -> #REF!
B7: =TCD!B8 -> 42530 | C7: =TCD!C8 -> AM | D7: =GETPIVOTDATA("Somme de Qté bonne",TCD!$A$3,"date",DATE(2016,6,9),"Machine","Machine 1","Equipe","AM") -> 13000 | E7: =GETPIVOTDATA("Somme de Qté perte",TCD!$A$3,"date",DATE(2016,6,9),"Machine","Machine 1","Equipe","AM") -> 3500 | F7: =E7/D7 -> 0.26923077 | I7: =B7 -> 42530 | J7: =C7 -> AM | K7: =GETPIVOTDATA(" QBONP",[1]Perte!$N$7,"DESI_MACH","Roto16","Colonne2","Sacs Croissants","DATE_CALE",DATE(2016,5,24),"CODE_EQUI","AM") -> #REF! | L7: =GETPIVOTDATA(" PERTE P",[1]Perte!$N$7,"DESI_MACH","Roto16","Colonne2","Sacs Croissants","DATE_CALE",DATE(2016,5,24),"CODE_EQUI","AM") -> #REF! | M7: =L7/K7 -> #REF! | P7: =I7 -> 42530 | Q7: =J7 -> AM | R7: =GETPIVOTDATA(" QBONP",[1]Perte!$N$7,"DESI_MACH","Roto17","Colonne2","Sacs Croissants","DATE_CALE",DATE(2016,5,24),"CODE_EQUI","AM") -> #REF! | S7: =GETPIVOTDATA(" Perte P",[1]Perte!$N$7,"DESI_MACH","Roto17","Colonne2","Sacs Croissants","DATE_CALE",DATE(2016,5,24),"CODE_EQUI","AM") -> #REF! | T7: =S7/R7 -> #REF!
C8: =TCD!C9 -> MA | D8: =GETPIVOTDATA("Somme de Qté bonne",TCD!$A$3,"date",DATE(2016,6,9),"Machine","Machine 1","Equipe","MA") -> 10000 | E8: =GETPIVOTDATA("Somme de Qté perte",TCD!$A$3,"date",DATE(2016,6,9),"Machine","Machine 1","Equipe","MA") -> 2000 | F8: =E8/D8 -> 0.2 | J8: =C8 -> MA | K8: =GETPIVOTDATA(" QBONP",[1]Perte!$N$7,"DESI_MACH","Roto16","Colonne2","Sacs Croissants","DATE_CALE",DATE(2016,5,24),"CODE_EQUI","MA") -> #REF! | L8: =GETPIVOTDATA(" PERTE P",[1]Perte!$N$7,"DESI_MACH","Roto16","Colonne2","Sacs Croissants","DATE_CALE",DATE(2016,5,24),"CODE_EQUI","MA") -> #REF! | M8: =L8/K8 -> #REF! | Q8: =J8 -> MA | R8: =GETPIVOTDATA(" QBONP",[1]Perte!$N$7,"DESI_MACH","Roto16","Colonne2","Sacs Croissants","DATE_CALE",DATE(2016,5,24),"CODE_EQUI","MA") -> #REF! | S8: =GETPIVOTDATA(" PERTE P",[1]Perte!$N$7,"DESI_MACH","Roto16","Colonne2","Sacs Croissants","DATE_CALE",DATE(2016,5,24),"CODE_EQUI","MA") -> #REF! | T8: =S8/R8 -> #REF!
C9: =TCD!C10 -> NU | D9: =GETPIVOTDATA("Somme de Qté bonne",TCD!$A$3,"date",DATE(2016,6,9),"Machine","Machine 1","Equipe","NU") -> 11000 | E9: =GETPIVOTDATA("Somme de Qté perte",TCD!$A$3,"date",DATE(2016,6,9),"Machine","Machine 1","Equipe","NU") -> 1000 | F9: =E9/D9 -> 0.090909091 | J9: =C9 -> NU | K9: =GETPIVOTDATA(" QBONP",[1]Perte!$N$7,"DESI_MACH","Roto16","Colonne2","Sacs Croissants","DATE_CALE",DATE(2016,5,24),"CODE_EQUI","NU") -> #REF! | L9: =GETPIVOTDATA(" PERTE P",[1]Perte!$N$7,"DESI_MACH","Roto16","Colonne2","Sacs Croissants","DATE_CALE",DATE(2016,5,24),"CODE_EQUI","NU") -> #REF! | M9: =L9/K9 -> #REF! | Q9: =J9 -> NU | R9: =GETPIVOTDATA(" QBONP",[1]Perte!$N$7,"DESI_MACH","Roto17","Colonne2","Sacs Croissants","DATE_CALE",DATE(2016,5,24),"CODE_EQUI","NU") -> #REF! | S9: =GETPIVOTDATA(" Perte P",[1]Perte!$N$7,"DESI_MACH","Roto17","Colonne2","Sacs Croissants","DATE_CALE",DATE(2016,5,24),"CODE_EQUI","NU") -> #REF! | T9: =S9/R9 -> #REF!
B10: =TCD!B12 -> 42533 | C10: =TCD!C12 -> AM | D10: =GETPIVOTDATA("Somme de Qté bonne",TCD!$A$3,"date",DATE(2016,6,12),"Machine","Machine 1","Equipe","AM") -> 10000 | E10: =GETPIVOTDATA("Somme de Qté perte",TCD!$A$3,"date",DATE(2016,6,12),"Machine","Machine 1","Equipe","AM") -> 2000 | F10: =E10/D10 -> 0.2 | I10: =B10 -> 42533 | J10: =C10 -> AM | K10: =GETPIVOTDATA(" QBONP",[1]Perte!$N$7,"DESI_MACH","Roto16","Colonne2","Sacs Croissants","DATE_CALE",DATE(2016,5,25),"CODE_EQUI","AM") -> #REF! | L10: =GETPIVOTDATA(" PERTE P",[1]Perte!$N$7,"DESI_MACH","Roto16","Colonne2","Sacs Croissants","DATE_CALE",DATE(2016,5,25),"CODE_EQUI","AM") -> #REF! | M10: =L10/K10 -> #REF! | P10: =I10 -> 42533 | Q10: =J10 -> AM | R10: =GETPIVOTDATA(" QBONP",[1]Perte!$N$7,"DESI_MACH","Roto17","Colonne2","Sacs Croissants","DATE_CALE",DATE(2016,5,25),"CODE_EQUI","AM") -> #REF! | S10: =GETPIVOTDATA(" Perte P",[1]Perte!$N$7,"DESI_MACH","Roto17","Colonne2","Sacs Croissants","DATE_CALE",DATE(2016,5,25),"CODE_EQUI","AM") -> #REF! | T10: =S10/R10 -> #REF!
C11: =TCD!C13 -> MA | D11: =GETPIVOTDATA("Somme de Qté bonne",TCD!$A$3,"date",DATE(2016,6,12),"Machine","Machine 1","Equipe","MA") -> 11000 | E11: =GETPIVOTDATA("Somme de Qté perte",TCD!$A$3,"date",DATE(2016,6,12),"Machine","Machine 1","Equipe","MA") -> 1000 | F11: =E11/D11 -> 0.090909091 | J11: =C11 -> MA | K11: =GETPIVOTDATA(" QBONP",[1]Perte!$N$7,"DESI_MACH","Roto16","Colonne2","Sacs Croissants","DATE_CALE",DATE(2016,5,25),"CODE_EQUI","MA") -> #REF! | L11: =GETPIVOTDATA(" PERTE P",[1]Perte!$N$7,"DESI_MACH","Roto16","Colonne2","Sacs Croissants","DATE_CALE",DATE(2016,5,25),"CODE_EQUI","MA") -> #REF! | M11: =L11/K11 -> #REF! | Q11: =J11 -> MA | R11: =GETPIVOTDATA(" QBONP",[1]Perte!$N$7,"DESI_MACH","Roto16","Colonne2","Sacs Croissants","DATE_CALE",DATE(2016,5,25),"CODE_EQUI","MA") -> #REF! | S11: 0 | T11: =S11/R11 -> #REF!
C12: =TCD!C14 -> NU | D12: =GETPIVOTDATA("Somme de Qté bonne",TCD!$A$3,"date",DATE(2016,6,12),"Machine","Machine 1","Equipe","NU") -> 12000 | E12: =GETPIVOTDATA("Somme de Qté perte",TCD!$A$3,"date",DATE(2016,6,12),"Machine","Machine 1","Equipe","NU") -> 3000 | F12: =E12/D12 -> 0.25 | J12: =C12 -> NU | K12: =GETPIVOTDATA(" QBONP",[1]Perte!$N$7,"DESI_MACH","Roto16","Colonne2","Sacs Croissants","DATE_CALE",DATE(2016,5,25),"CODE_EQUI","NU") -> #REF! | L12: =GETPIVOTDATA(" PERTE P",[1]Perte!$N$7,"DESI_MACH","Roto16","Colonne2","Sacs Croissants","DATE_CALE",DATE(2016,5,25),"CODE_EQUI","NU") -> #REF! | M12: =L12/K12 -> #REF! | Q12: =J12 -> NU | R12: =GETPIVOTDATA(" QBONP",[1]Perte!$N$7,"DESI_MACH","Roto17","Colonne2","Sacs Croissants","DATE_CALE",DATE(2016,5,25),"CODE_EQUI","NU") -> #REF! | S12: =GETPIVOTDATA(" Perte P",[1]Perte!$N$7,"DESI_MACH","Roto17","Colonne2","Sacs Croissants","DATE_CALE",DATE(2016,5,25),"CODE_EQUI","NU") -> #REF! | T12: =S12/R12 -> #REF!
B13: =#REF! -> #REF! | C13: =[1]Perte!Q18 -> MA | D13: =GETPIVOTDATA(" QBONP",[1]Perte!$N$7,"DESI_MACH","Roto13","Colonne2","Sacs Croissants","DATE_CALE",DATE(2016,5,26),"CODE_EQUI","AM") -> #REF! | E13: =GETPIVOTDATA(" Perte P",[1]Perte!$N$7,"DESI_MACH","Roto13","Colonne2","Sacs Croissants","DATE_CALE",DATE(2016,5,26),"CODE_EQUI","AM") -> #REF! | F13: =E13/D13 -> #REF! | I13: =B13 -> #REF! | J13: =C13 -> MA | K13: =GETPIVOTDATA(" QBONP",[1]Perte!$N$7,"DESI_MACH","Roto16","Colonne2","Sacs Croissants","DATE_CALE",DATE(2016,5,26),"CODE_EQUI","AM") -> #REF! | L13: =GETPIVOTDATA(" PERTE P",[1]Perte!$N$7,"DESI_MACH","Roto16","Colonne2","Sacs Croissants","DATE_CALE",DATE(2016,5,26),"CODE_EQUI","AM") -> #REF! | M13: =L13/K13 -> #REF! | P13: =I13 -> #REF! | Q13: =J13 -> MA | R13: =GETPIVOTDATA(" QBONP",[1]Perte!$N$7,"DESI_MACH","Roto17","Colonne2","Sacs Croissants","DATE_CALE",DATE(2016,5,26),"CODE_EQUI","AM") -> #REF! | S13: =GETPIVOTDATA(" Perte P",[1]Perte!$N$7,"DESI_MACH","Roto17","Colonne2","Sacs Croissants","DATE_CALE",DATE(2016,5,26),"CODE_EQUI","AM") -> #REF! | T13: =S13/R13 -> #REF!
C14: =[1]Perte!Q19 -> NU | D14: =GETPIVOTDATA(" QBONP",[1]Perte!$N$7,"DESI_MACH","Roto13","Colonne2","Sacs Croissants","DATE_CALE",DATE(2016,5,26),"CODE_EQUI","MA") -> #REF! | E14: =GETPIVOTDATA(" Perte P",[1]Perte!$N$7,"DESI_MACH","Roto13","Colonne2","Sacs Croissants","DATE_CALE",DATE(2016,5,26),"CODE_EQUI","MA") -> #REF! | F14: =E14/D14 -> #REF! | J14: =C14 -> NU | K14: =GETPIVOTDATA(" QBONP",[1]Perte!$N$7,"DESI_MACH","Roto16","Colonne2","Sacs Croissants","DATE_CALE",DATE(2016,5,26),"CODE_EQUI","MA") -> #REF! | L14: =GETPIVOTDATA(" PERTE P",[1]Perte!$N$7,"DESI_MACH","Roto16","Colonne2","Sacs Croissants","DATE_CALE",DATE(2016,5,26),"CODE_EQUI","MA") -> #REF! | M14: =L14/K14 -> #REF! | Q14: =J14 -> NU | R14: =GETPIVOTDATA(" QBONP",[1]Perte!$N$7,"DESI_MACH","Roto16","Colonne2","Sacs Croissants","DATE_CALE",DATE(2016,5,26),"CODE_EQUI","MA") -> #REF! | S14: 0 | T14: =S14/R14 -> #REF!
C15: =[1]Perte!Q20 -> 0 | D15: =GETPIVOTDATA(" QBONP",[1]Perte!$N$7,"DESI_MACH","Roto13","Colonne2","Sacs Croissants","DATE_CALE",DATE(2016,5,26),"CODE_EQUI","NU") -> #REF! | E15: =GETPIVOTDATA(" Perte P",[1]Perte!$N$7,"DESI_MACH","Roto13","Colonne2","Sacs Croissants","DATE_CALE",DATE(2016,5,26),"CODE_EQUI","NU") -> #REF! | F15: =E15/D15 -> #REF! | J15: =C15 -> 0 | K15: =GETPIVOTDATA(" QBONP",[1]Perte!$N$7,"DESI_MACH","Roto16","Colonne2","Sacs Croissants","DATE_CALE",DATE(2016,5,26),"CODE_EQUI","NU") -> #REF! | L15: =GETPIVOTDATA(" PERTE P",[1]Perte!$N$7,"DESI_MACH","Roto16","Colonne2","Sacs Croissants","DATE_CALE",DATE(2016,5,26),"CODE_EQUI","NU") -> #REF! | M15: =L15/K15 -> #REF! | Q15: =J15 -> 0 | R15: =GETPIVOTDATA(" QBONP",[1]Perte!$N$7,"DESI_MACH","Roto17","Colonne2","Sacs Croissants","DATE_CALE",DATE(2016,5,26),"CODE_EQUI","NU") -> #REF! | S15: =GETPIVOTDATA(" Perte P",[1]Perte!$N$7,"DESI_MACH","Roto17","Colonne2","Sacs Croissants","DATE_CALE",DATE(2016,5,26),"CODE_EQUI","NU") -> #REF! | T15: =S15/R15 -> #REF!
B16: =#REF! -> #REF! | C16: =[1]Perte!Q21 -> AM | D16: =GETPIVOTDATA(" QBONP",[1]Perte!$N$7,"DESI_MACH","Roto13","Colonne2","Sacs Croissants","DATE_CALE",DATE(2016,5,27),"CODE_EQUI","AM") -> #REF! | E16: =GETPIVOTDATA(" Perte P",[1]Perte!$N$7,"DESI_MACH","Roto13","Colonne2","Sacs Croissants","DATE_CALE",DATE(2016,5,27),"CODE_EQUI","AM") -> #REF! | F16: =E16/D16 -> #REF! | I16: =B16 -> #REF! | J16: =C16 -> AM | K16: =GETPIVOTDATA(" QBONP",[1]Perte!$N$7,"DESI_MACH","Roto16","Colonne2","Sacs Croissants","DATE_CALE",DATE(2016,5,27),"CODE_EQUI","AM") -> #REF! | L16: =GETPIVOTDATA(" PERTE P",[1]Perte!$N$7,"DESI_MACH","Roto16","Colonne2","Sacs Croissants","DATE_CALE",DATE(2016,5,27),"CODE_EQUI","AM") -> #REF! | M16: =L16/K16 -> #REF! | P16: =I16 -> #REF! | Q16: =J16 -> AM | R16: =GETPIVOTDATA(" QBONP",[1]Perte!$N$7,"DESI_MACH","Roto17","Colonne2","Sacs Croissants","DATE_CALE",DATE(2016,5,27),"CODE_EQUI","AM") -> #REF! | S16: =GETPIVOTDATA(" Perte P",[1]Perte!$N$7,"DESI_MACH","Roto17","Colonne2","Sacs Croissants","DATE_CALE",DATE(2016,5,27),"CODE_EQUI","AM") -> #REF! | T16: =S16/R16 -> #REF!
C17: =[1]Perte!Q22 -> MA | D17: =GETPIVOTDATA(" QBONP",[1]Perte!$N$7,"DESI_MACH","Roto13","Colonne2","Sacs Croissants","DATE_CALE",DATE(2016,5,27),"CODE_EQUI","MA") -> #REF! | E17: =GETPIVOTDATA(" Perte P",[1]Perte!$N$7,"DESI_MACH","Roto13","Colonne2","Sacs Croissants","DATE_CALE",DATE(2016,5,27),"CODE_EQUI","MA") -> #REF! | F17: =E17/D17 -> #REF! | J17: =C17 -> MA | K17: =GETPIVOTDATA(" QBONP",[1]Perte!$N$7,"DESI_MACH","Roto16","Colonne2","Sacs Croissants","DATE_CALE",DATE(2016,5,27),"CODE_EQUI","MA") -> #REF! | L17: =GETPIVOTDATA(" PERTE P",[1]Perte!$N$7,"DESI_MACH","Roto16","Colonne2","Sacs Croissants","DATE_CALE",DATE(2016,5,27),"CODE_EQUI","MA") -> #REF! | M17: =L17/K17 -> #REF! | Q17: =J17 -> MA | R17: 0 | S17: 0 | T17: =S17/R17 -> #DIV/0!
C18: =[1]Perte!Q23 -> NU | D18: =GETPIVOTDATA(" QBONP",[1]Perte!$N$7,"DESI_MACH","Roto13","Colonne2","Sacs Croissants","DATE_CALE",DATE(2016,5,27),"CODE_EQUI","NU") -> #REF! | E18: =GETPIVOTDATA(" Perte P",[1]Perte!$N$7,"DESI_MACH","Roto13","Colonne2","Sacs Croissants","DATE_CALE",DATE(2016,5,27),"CODE_EQUI","NU") -> #REF! | F18: =E18/D18 -> #REF! | J18: =C18 -> NU | K18: =GETPIVOTDATA(" QBONP",[1]Perte!$N$7,"DESI_MACH","Roto16","Colonne2","Sacs Croissants","DATE_CALE",DATE(2016,5,27),"CODE_EQUI","NU") -> #REF! | L18: =GETPIVOTDATA(" PERTE P",[1]Perte!$N$7,"DESI_MACH","Roto16","Colonne2","Sacs Croissants","DATE_CALE",DATE(2016,5,27),"CODE_EQUI","NU") -> #REF! | M18: =L18/K18 -> #REF! | Q18: =J18 -> NU | R18: =GETPIVOTDATA(" QBONP",[1]Perte!$N$7,"DESI_MACH","Roto17","Colonne2","Sacs Croissants","DATE_CALE",DATE(2016,5,27),"CODE_EQUI","NU") -> #REF! | S18: =GETPIVOTDATA(" Perte P",[1]Perte!$N$7,"DESI_MACH","Roto17","Colonne2","Sacs Croissants","DATE_CALE",DATE(2016,5,27),"CODE_EQUI","NU") -> #REF! | T18: =S18/R18 -> #REF!
A19: ="total "&A4 -> total Machine 1 | B19: semaine | C19: toutes équipes | F19: =E19/D19 -> #DIV/0! | H19: ="Total "&H4 -> #REF! | I19: =B19 -> semaine | J19: =C19 -> toutes équipes | K19: =GETPIVOTDATA(" QBONP",[1]Perte!$N$7,"DESI_MACH","Roto16","Colonne2","Sacs Croissants") -> 848000 | L19: =GETPIVOTDATA(" PERTE P",[1]Perte!$N$7,"DESI_MACH","Roto16","Colonne2","Sacs Croissants") -> 41900 | M19: =L19/K19 -> 0.049410377 | O19: ="Total "&O4 -> #REF! | P19: =I19 -> semaine | Q19: =J19 -> toutes équipes | R19: =GETPIVOTDATA(" QBONP",[1]Perte!$N$7,"DESI_MACH","Roto17","Colonne2","Sacs Croissants") -> 984000 | S19: =GETPIVOTDATA(" Perte P",[1]Perte!$N$7,"DESI_MACH","Roto17","Colonne2","Sacs Croissants") -> 34300 | T19: =S19/R19 -> 0.034857724
