Workbook

Sheet Calendrier
A1: 2019
P2: An Bisextille | Q2: =DAY(EOMONTH(DATE(A1,2,1),0))=29 -> FALSE
B3: =TEXT(DATE(2019,COLUMN(A:L),1),"Mmmm") -> janvier | C3: =TEXT(DATE(2019,COLUMN(B:M),1),"mmmm") -> février | D3: =TEXT(DATE(2019,COLUMN(C:N),1),"mmmm") -> mars | E3: =TEXT(DATE(2019,COLUMN(D:O),1),"mmmm") -> avril | F3: =TEXT(DATE(2019,COLUMN(E:P),1),"mmmm") -> mai | G3: =TEXT(DATE(2019,COLUMN(F:Q),1),"mmmm") -> juin | H3: =TEXT(DATE(2019,COLUMN(G:R),1),"mmmm") -> juillet | I3: =TEXT(DATE(2019,COLUMN(H:S),1),"mmmm") -> août | J3: =TEXT(DATE(2019,COLUMN(I:T),1),"mmmm") -> septembre | K3: =TEXT(DATE(2019,COLUMN(J:U),1),"mmmm") -> octobre | L3: =TEXT(DATE(2019,COLUMN(K:V),1),"mmmm") -> novembre | M3: =TEXT(DATE(2019,COLUMN(L:W),1),"mmmm") -> décembre
B4: =DATE($A$1,COLUMN(A:L),ROW(1:31)) -> 43466 | C4: =DATE($A$1,COLUMN(B:M),ROW(1:31)) -> 43497 | D4: =DATE($A$1,COLUMN(C:N),ROW(1:31)) -> 43525 | E4: =DATE($A$1,COLUMN(D:O),ROW(1:31)) -> 43556 | F4: =DATE($A$1,COLUMN(E:P),ROW(1:31)) -> 43586 | G4: =DATE($A$1,COLUMN(F:Q),ROW(1:31)) -> 43617 | H4: =DATE($A$1,COLUMN(G:R),ROW(1:31)) -> 43647 | I4: =DATE($A$1,COLUMN(H:S),ROW(1:31)) -> 43678 | J4: =DATE($A$1,COLUMN(I:T),ROW(1:31)) -> 43709 | K4: =DATE($A$1,COLUMN(J:U),ROW(1:31)) -> 43739 | L4: =DATE($A$1,COLUMN(K:V),ROW(1:31)) -> 43770 | M4: =DATE($A$1,COLUMN(L:W),ROW(1:31)) -> 43800 | P4: Colonne1 | Q4: Colonne2
B5: =DATE($A$1,COLUMN(A:L),ROW(2:32)) -> 43467 | C5: =DATE($A$1,COLUMN(B:M),ROW(2:32)) -> 43498 | D5: =DATE($A$1,COLUMN(C:N),ROW(2:32)) -> 43526 | E5: =DATE($A$1,COLUMN(D:O),ROW(2:32)) -> 43557 | F5: =DATE($A$1,COLUMN(E:P),ROW(2:32)) -> 43587 | G5: =DATE($A$1,COLUMN(F:Q),ROW(2:32)) -> 43618 | H5: =DATE($A$1,COLUMN(G:R),ROW(2:32)) -> 43648 | I5: =DATE($A$1,COLUMN(H:S),ROW(2:32)) -> 43679 | J5: =DATE($A$1,COLUMN(I:T),ROW(2:32)) -> 43710 | K5: =DATE($A$1,COLUMN(J:U),ROW(2:32)) -> 43740 | L5: =DATE($A$1,COLUMN(K:V),ROW(2:32)) -> 43771 | M5: =DATE($A$1,COLUMN(L:W),ROW(2:32)) -> 43801 | P5: Jour de l'An | Q5: =DATE($A$1,1,1) -> 43466
B6: =DATE($A$1,COLUMN(A:L),ROW(3:33)) -> 43468 | C6: =DATE($A$1,COLUMN(B:M),ROW(3:33)) -> 43499 | D6: =DATE($A$1,COLUMN(C:N),ROW(3:33)) -> 43527 | E6: =DATE($A$1,COLUMN(D:O),ROW(3:33)) -> 43558 | F6: =DATE($A$1,COLUMN(E:P),ROW(3:33)) -> 43588 | G6: =DATE($A$1,COLUMN(F:Q),ROW(3:33)) -> 43619 | H6: =DATE($A$1,COLUMN(G:R),ROW(3:33)) -> 43649 | I6: =DATE($A$1,COLUMN(H:S),ROW(3:33)) -> 43680 | J6: =DATE($A$1,COLUMN(I:T),ROW(3:33)) -> 43711 | K6: =DATE($A$1,COLUMN(J:U),ROW(3:33)) -> 43741 | L6: =DATE($A$1,COLUMN(K:V),ROW(3:33)) -> 43772 | M6: =DATE($A$1,COLUMN(L:W),ROW(3:33)) -> 43802 | P6: Paques | Q6: =FLOOR(DAY(MINUTE(A1/38)/2+56)&"/5/"&A1,7)-34 -> 43576
B7: =DATE($A$1,COLUMN(A:L),ROW(4:34)) -> 43469 | C7: =DATE($A$1,COLUMN(B:M),ROW(4:34)) -> 43500 | D7: =DATE($A$1,COLUMN(C:N),ROW(4:34)) -> 43528 | E7: =DATE($A$1,COLUMN(D:O),ROW(4:34)) -> 43559 | F7: =DATE($A$1,COLUMN(E:P),ROW(4:34)) -> 43589 | G7: =DATE($A$1,COLUMN(F:Q),ROW(4:34)) -> 43620 | H7: =DATE($A$1,COLUMN(G:R),ROW(4:34)) -> 43650 | I7: =DATE($A$1,COLUMN(H:S),ROW(4:34)) -> 43681 | J7: =DATE($A$1,COLUMN(I:T),ROW(4:34)) -> 43712 | K7: =DATE($A$1,COLUMN(J:U),ROW(4:34)) -> 43742 | L7: =DATE($A$1,COLUMN(K:V),ROW(4:34)) -> 43773 | M7: =DATE($A$1,COLUMN(L:W),ROW(4:34)) -> 43803 | P7: Lundi pâques | Q7: =Q6+1 -> 43577
B8: =DATE($A$1,COLUMN(A:L),ROW(5:35)) -> 43470 | C8: =DATE($A$1,COLUMN(B:M),ROW(5:35)) -> 43501 | D8: =DATE($A$1,COLUMN(C:N),ROW(5:35)) -> 43529 | E8: =DATE($A$1,COLUMN(D:O),ROW(5:35)) -> 43560 | F8: =DATE($A$1,COLUMN(E:P),ROW(5:35)) -> 43590 | G8: =DATE($A$1,COLUMN(F:Q),ROW(5:35)) -> 43621 | H8: =DATE($A$1,COLUMN(G:R),ROW(5:35)) -> 43651 | I8: =DATE($A$1,COLUMN(H:S),ROW(5:35)) -> 43682 | J8: =DATE($A$1,COLUMN(I:T),ROW(5:35)) -> 43713 | K8: =DATE($A$1,COLUMN(J:U),ROW(5:35)) -> 43743 | L8: =DATE($A$1,COLUMN(K:V),ROW(5:35)) -> 43774 | M8: =DATE($A$1,COLUMN(L:W),ROW(5:35)) -> 43804 | P8: fête travail | Q8: =DATE($A$1,5,1) -> 43586
B9: =DATE($A$1,COLUMN(A:L),ROW(6:36)) -> 43471 | C9: =DATE($A$1,COLUMN(B:M),ROW(6:36)) -> 43502 | D9: =DATE($A$1,COLUMN(C:N),ROW(6:36)) -> 43530 | E9: =DATE($A$1,COLUMN(D:O),ROW(6:36)) -> 43561 | F9: =DATE($A$1,COLUMN(E:P),ROW(6:36)) -> 43591 | G9: =DATE($A$1,COLUMN(F:Q),ROW(6:36)) -> 43622 | H9: =DATE($A$1,COLUMN(G:R),ROW(6:36)) -> 43652 | I9: =DATE($A$1,COLUMN(H:S),ROW(6:36)) -> 43683 | J9: =DATE($A$1,COLUMN(I:T),ROW(6:36)) -> 43714 | K9: =DATE($A$1,COLUMN(J:U),ROW(6:36)) -> 43744 | L9: =DATE($A$1,COLUMN(K:V),ROW(6:36)) -> 43775 | M9: =DATE($A$1,COLUMN(L:W),ROW(6:36)) -> 43805 | P9: Victoire 39/45 | Q9: =DATE($A$1,5,8) -> 43593
B10: =DATE($A$1,COLUMN(A:L),ROW(7:37)) -> 43472 | C10: =DATE($A$1,COLUMN(B:M),ROW(7:37)) -> 43503 | D10: =DATE($A$1,COLUMN(C:N),ROW(7:37)) -> 43531 | E10: =DATE($A$1,COLUMN(D:O),ROW(7:37)) -> 43562 | F10: =DATE($A$1,COLUMN(E:P),ROW(7:37)) -> 43592 | G10: =DATE($A$1,COLUMN(F:Q),ROW(7:37)) -> 43623 | H10: =DATE($A$1,COLUMN(G:R),ROW(7:37)) -> 43653 | I10: =DATE($A$1,COLUMN(H:S),ROW(7:37)) -> 43684 | J10: =DATE($A$1,COLUMN(I:T),ROW(7:37)) -> 43715 | K10: =DATE($A$1,COLUMN(J:U),ROW(7:37)) -> 43745 | L10: =DATE($A$1,COLUMN(K:V),ROW(7:37)) -> 43776 | M10: =DATE($A$1,COLUMN(L:W),ROW(7:37)) -> 43806 | P10: ascension | Q10: =Q6+39 -> 43615
B11: =DATE($A$1,COLUMN(A:L),ROW(8:38)) -> 43473 | C11: =DATE($A$1,COLUMN(B:M),ROW(8:38)) -> 43504 | D11: =DATE($A$1,COLUMN(C:N),ROW(8:38)) -> 43532 | E11: =DATE($A$1,COLUMN(D:O),ROW(8:38)) -> 43563 | F11: =DATE($A$1,COLUMN(E:P),ROW(8:38)) -> 43593 | G11: =DATE($A$1,COLUMN(F:Q),ROW(8:38)) -> 43624 | H11: =DATE($A$1,COLUMN(G:R),ROW(8:38)) -> 43654 | I11: =DATE($A$1,COLUMN(H:S),ROW(8:38)) -> 43685 | J11: =DATE($A$1,COLUMN(I:T),ROW(8:38)) -> 43716 | K11: =DATE($A$1,COLUMN(J:U),ROW(8:38)) -> 43746 | L11: =DATE($A$1,COLUMN(K:V),ROW(8:38)) -> 43777 | M11: =DATE($A$1,COLUMN(L:W),ROW(8:38)) -> 43807 | P11: Pentecôte | Q11: =Q6+49 -> 43625
B12: =DATE($A$1,COLUMN(A:L),ROW(9:39)) -> 43474 | C12: =DATE($A$1,COLUMN(B:M),ROW(9:39)) -> 43505 | D12: =DATE($A$1,COLUMN(C:N),ROW(9:39)) -> 43533 | E12: =DATE($A$1,COLUMN(D:O),ROW(9:39)) -> 43564 | F12: =DATE($A$1,COLUMN(E:P),ROW(9:39)) -> 43594 | G12: =DATE($A$1,COLUMN(F:Q),ROW(9:39)) -> 43625 | H12: =DATE($A$1,COLUMN(G:R),ROW(9:39)) -> 43655 | I12: =DATE($A$1,COLUMN(H:S),ROW(9:39)) -> 43686 | J12: =DATE($A$1,COLUMN(I:T),ROW(9:39)) -> 43717 | K12: =DATE($A$1,COLUMN(J:U),ROW(9:39)) -> 43747 | L12: =DATE($A$1,COLUMN(K:V),ROW(9:39)) -> 43778 | M12: =DATE($A$1,COLUMN(L:W),ROW(9:39)) -> 43808 | P12: lundi pente | Q12: =Q6+50 -> 43626
B13: =DATE($A$1,COLUMN(A:L),ROW(10:40)) -> 43475 | C13: =DATE($A$1,COLUMN(B:M),ROW(10:40)) -> 43506 | D13: =DATE($A$1,COLUMN(C:N),ROW(10:40)) -> 43534 | E13: =DATE($A$1,COLUMN(D:O),ROW(10:40)) -> 43565 | F13: =DATE($A$1,COLUMN(E:P),ROW(10:40)) -> 43595 | G13: =DATE($A$1,COLUMN(F:Q),ROW(10:40)) -> 43626 | H13: =DATE($A$1,COLUMN(G:R),ROW(10:40)) -> 43656 | I13: =DATE($A$1,COLUMN(H:S),ROW(10:40)) -> 43687 | J13: =DATE($A$1,COLUMN(I:T),ROW(10:40)) -> 43718 | K13: =DATE($A$1,COLUMN(J:U),ROW(10:40)) -> 43748 | L13: =DATE($A$1,COLUMN(K:V),ROW(10:40)) -> 43779 | M13: =DATE($A$1,COLUMN(L:W),ROW(10:40)) -> 43809 | P13: Fête Nat | Q13: =DATE($A$1,7,14) -> 43660
B14: =DATE($A$1,COLUMN(A:L),ROW(11:41)) -> 43476 | C14: =DATE($A$1,COLUMN(B:M),ROW(11:41)) -> 43507 | D14: =DATE($A$1,COLUMN(C:N),ROW(11:41)) -> 43535 | E14: =DATE($A$1,COLUMN(D:O),ROW(11:41)) -> 43566 | F14: =DATE($A$1,COLUMN(E:P),ROW(11:41)) -> 43596 | G14: =DATE($A$1,COLUMN(F:Q),ROW(11:41)) -> 43627 | H14: =DATE($A$1,COLUMN(G:R),ROW(11:41)) -> 43657 | I14: =DATE($A$1,COLUMN(H:S),ROW(11:41)) -> 43688 | J14: =DATE($A$1,COLUMN(I:T),ROW(11:41)) -> 43719 | K14: =DATE($A$1,COLUMN(J:U),ROW(11:41)) -> 43749 | L14: =DATE($A$1,COLUMN(K:V),ROW(11:41)) -> 43780 | M14: =DATE($A$1,COLUMN(L:W),ROW(11:41)) -> 43810 | P14: Assomption | Q14: =DATE($A$1,8,15) -> 43692
B15: =DATE($A$1,COLUMN(A:L),ROW(12:42)) -> 43477 | C15: =DATE($A$1,COLUMN(B:M),ROW(12:42)) -> 43508 | D15: =DATE($A$1,COLUMN(C:N),ROW(12:42)) -> 43536 | E15: =DATE($A$1,COLUMN(D:O),ROW(12:42)) -> 43567 | F15: =DATE($A$1,COLUMN(E:P),ROW(12:42)) -> 43597 | G15: =DATE($A$1,COLUMN(F:Q),ROW(12:42)) -> 43628 | H15: =DATE($A$1,COLUMN(G:R),ROW(12:42)) -> 43658 | I15: =DATE($A$1,COLUMN(H:S),ROW(12:42)) -> 43689 | J15: =DATE($A$1,COLUMN(I:T),ROW(12:42)) -> 43720 | K15: =DATE($A$1,COLUMN(J:U),ROW(12:42)) -> 43750 | L15: =DATE($A$1,COLUMN(K:V),ROW(12:42)) -> 43781 | M15: =DATE($A$1,COLUMN(L:W),ROW(12:42)) -> 43811 | P15: Toussaint | Q15: =DATE($A$1,11,1) -> 43770
B16: =DATE($A$1,COLUMN(A:L),ROW(13:43)) -> 43478 | C16: =DATE($A$1,COLUMN(B:M),ROW(13:43)) -> 43509 | D16: =DATE($A$1,COLUMN(C:N),ROW(13:43)) -> 43537 | E16: =DATE($A$1,COLUMN(D:O),ROW(13:43)) -> 43568 | F16: =DATE($A$1,COLUMN(E:P),ROW(13:43)) -> 43598 | G16: =DATE($A$1,COLUMN(F:Q),ROW(13:43)) -> 43629 | H16: =DATE($A$1,COLUMN(G:R),ROW(13:43)) -> 43659 | I16: =DATE($A$1,COLUMN(H:S),ROW(13:43)) -> 43690 | J16: =DATE($A$1,COLUMN(I:T),ROW(13:43)) -> 43721 | K16: =DATE($A$1,COLUMN(J:U),ROW(13:43)) -> 43751 | L16: =DATE($A$1,COLUMN(K:V),ROW(13:43)) -> 43782 | M16: =DATE($A$1,COLUMN(L:W),ROW(13:43)) -> 43812 | P16: Armistice | Q16: =DATE($A$1,11,11) -> 43780
B17: =DATE($A$1,COLUMN(A:L),ROW(14:44)) -> 43479 | C17: =DATE($A$1,COLUMN(B:M),ROW(14:44)) -> 43510 | D17: =DATE($A$1,COLUMN(C:N),ROW(14:44)) -> 43538 | E17: =DATE($A$1,COLUMN(D:O),ROW(14:44)) -> 43569 | F17: =DATE($A$1,COLUMN(E:P),ROW(14:44)) -> 43599 | G17: =DATE($A$1,COLUMN(F:Q),ROW(14:44)) -> 43630 | H17: =DATE($A$1,COLUMN(G:R),ROW(14:44)) -> 43660 | I17: =DATE($A$1,COLUMN(H:S),ROW(14:44)) -> 43691 | J17: =DATE($A$1,COLUMN(I:T),ROW(14:44)) -> 43722 | K17: =DATE($A$1,COLUMN(J:U),ROW(14:44)) -> 43752 | L17: =DATE($A$1,COLUMN(K:V),ROW(14:44)) -> 43783 | M17: =DATE($A$1,COLUMN(L:W),ROW(14:44)) -> 43813 | P17: Noël | Q17: =DATE($A$1,12,25) -> 43824
B18: =DATE($A$1,COLUMN(A:L),ROW(15:45)) -> 43480 | C18: =DATE($A$1,COLUMN(B:M),ROW(15:45)) -> 43511 | D18: =DATE($A$1,COLUMN(C:N),ROW(15:45)) -> 43539 | E18: =DATE($A$1,COLUMN(D:O),ROW(15:45)) -> 43570 | F18: =DATE($A$1,COLUMN(E:P),ROW(15:45)) -> 43600 | G18: =DATE($A$1,COLUMN(F:Q),ROW(15:45)) -> 43631 | H18: =DATE($A$1,COLUMN(G:R),ROW(15:45)) -> 43661 | I18: =DATE($A$1,COLUMN(H:S),ROW(15:45)) -> 43692 | J18: =DATE($A$1,COLUMN(I:T),ROW(15:45)) -> 43723 | K18: =DATE($A$1,COLUMN(J:U),ROW(15:45)) -> 43753 | L18: =DATE($A$1,COLUMN(K:V),ROW(15:45)) -> 43784 | M18: =DATE($A$1,COLUMN(L:W),ROW(15:45)) -> 43814
B19: =DATE($A$1,COLUMN(A:L),ROW(16:46)) -> 43481 | C19: =DATE($A$1,COLUMN(B:M),ROW(16:46)) -> 43512 | D19: =DATE($A$1,COLUMN(C:N),ROW(16:46)) -> 43540 | E19: =DATE($A$1,COLUMN(D:O),ROW(16:46)) -> 43571 | F19: =DATE($A$1,COLUMN(E:P),ROW(16:46)) -> 43601 | G19: =DATE($A$1,COLUMN(F:Q),ROW(16:46)) -> 43632 | H19: =DATE($A$1,COLUMN(G:R),ROW(16:46)) -> 43662 | I19: =DATE($A$1,COLUMN(H:S),ROW(16:46)) -> 43693 | J19: =DATE($A$1,COLUMN(I:T),ROW(16:46)) -> 43724 | K19: =DATE($A$1,COLUMN(J:U),ROW(16:46)) -> 43754 | L19: =DATE($A$1,COLUMN(K:V),ROW(16:46)) -> 43785 | M19: =DATE($A$1,COLUMN(L:W),ROW(16:46)) -> 43815
B20: =DATE($A$1,COLUMN(A:L),ROW(17:47)) -> 43482 | C20: =DATE($A$1,COLUMN(B:M),ROW(17:47)) -> 43513 | D20: =DATE($A$1,COLUMN(C:N),ROW(17:47)) -> 43541 | E20: =DATE($A$1,COLUMN(D:O),ROW(17:47)) -> 43572 | F20: =DATE($A$1,COLUMN(E:P),ROW(17:47)) -> 43602 | G20: =DATE($A$1,COLUMN(F:Q),ROW(17:47)) -> 43633 | H20: =DATE($A$1,COLUMN(G:R),ROW(17:47)) -> 43663 | I20: =DATE($A$1,COLUMN(H:S),ROW(17:47)) -> 43694 | J20: =DATE($A$1,COLUMN(I:T),ROW(17:47)) -> 43725 | K20: =DATE($A$1,COLUMN(J:U),ROW(17:47)) -> 43755 | L20: =DATE($A$1,COLUMN(K:V),ROW(17:47)) -> 43786 | M20: =DATE($A$1,COLUMN(L:W),ROW(17:47)) -> 43816
B21: =DATE($A$1,COLUMN(A:L),ROW(18:48)) -> 43483 | C21: =DATE($A$1,COLUMN(B:M),ROW(18:48)) -> 43514 | D21: =DATE($A$1,COLUMN(C:N),ROW(18:48)) -> 43542 | E21: =DATE($A$1,COLUMN(D:O),ROW(18:48)) -> 43573 | F21: =DATE($A$1,COLUMN(E:P),ROW(18:48)) -> 43603 | G21: =DATE($A$1,COLUMN(F:Q),ROW(18:48)) -> 43634 | H21: =DATE($A$1,COLUMN(G:R),ROW(18:48)) -> 43664 | I21: =DATE($A$1,COLUMN(H:S),ROW(18:48)) -> 43695 | J21: =DATE($A$1,COLUMN(I:T),ROW(18:48)) -> 43726 | K21: =DATE($A$1,COLUMN(J:U),ROW(18:48)) -> 43756 | L21: =DATE($A$1,COLUMN(K:V),ROW(18:48)) -> 43787 | M21: =DATE($A$1,COLUMN(L:W),ROW(18:48)) -> 43817
B22: =DATE($A$1,COLUMN(A:L),ROW(19:49)) -> 43484 | C22: =DATE($A$1,COLUMN(B:M),ROW(19:49)) -> 43515 | D22: =DATE($A$1,COLUMN(C:N),ROW(19:49)) -> 43543 | E22: =DATE($A$1,COLUMN(D:O),ROW(19:49)) -> 43574 | F22: =DATE($A$1,COLUMN(E:P),ROW(19:49)) -> 43604 | G22: =DATE($A$1,COLUMN(F:Q),ROW(19:49)) -> 43635 | H22: =DATE($A$1,COLUMN(G:R),ROW(19:49)) -> 43665 | I22: =DATE($A$1,COLUMN(H:S),ROW(19:49)) -> 43696 | J22: =DATE($A$1,COLUMN(I:T),ROW(19:49)) -> 43727 | K22: =DATE($A$1,COLUMN(J:U),ROW(19:49)) -> 43757 | L22: =DATE($A$1,COLUMN(K:V),ROW(19:49)) -> 43788 | M22: =DATE($A$1,COLUMN(L:W),ROW(19:49)) -> 43818
B23: =DATE($A$1,COLUMN(A:L),ROW(20:50)) -> 43485 | C23: =DATE($A$1,COLUMN(B:M),ROW(20:50)) -> 43516 | D23: =DATE($A$1,COLUMN(C:N),ROW(20:50)) -> 43544 | E23: =DATE($A$1,COLUMN(D:O),ROW(20:50)) -> 43575 | F23: =DATE($A$1,COLUMN(E:P),ROW(20:50)) -> 43605 | G23: =DATE($A$1,COLUMN(F:Q),ROW(20:50)) -> 43636 | H23: =DATE($A$1,COLUMN(G:R),ROW(20:50)) -> 43666 | I23: =DATE($A$1,COLUMN(H:S),ROW(20:50)) -> 43697 | J23: =DATE($A$1,COLUMN(I:T),ROW(20:50)) -> 43728 | K23: =DATE($A$1,COLUMN(J:U),ROW(20:50)) -> 43758 | L23: =DATE($A$1,COLUMN(K:V),ROW(20:50)) -> 43789 | M23: =DATE($A$1,COLUMN(L:W),ROW(20:50)) -> 43819
B24: =DATE($A$1,COLUMN(A:L),ROW(21:51)) -> 43486 | C24: =DATE($A$1,COLUMN(B:M),ROW(21:51)) -> 43517 | D24: =DATE($A$1,COLUMN(C:N),ROW(21:51)) -> 43545 | E24: =DATE($A$1,COLUMN(D:O),ROW(21:51)) -> 43576 | F24: =DATE($A$1,COLUMN(E:P),ROW(21:51)) -> 43606 | G24: =DATE($A$1,COLUMN(F:Q),ROW(21:51)) -> 43637 | H24: =DATE($A$1,COLUMN(G:R),ROW(21:51)) -> 43667 | I24: =DATE($A$1,COLUMN(H:S),ROW(21:51)) -> 43698 | J24: =DATE($A$1,COLUMN(I:T),ROW(21:51)) -> 43729 | K24: =DATE($A$1,COLUMN(J:U),ROW(21:51)) -> 43759 | L24: =DATE($A$1,COLUMN(K:V),ROW(21:51)) -> 43790 | M24: =DATE($A$1,COLUMN(L:W),ROW(21:51)) -> 43820
B25: =DATE($A$1,COLUMN(A:L),ROW(22:52)) -> 43487 | C25: =DATE($A$1,COLUMN(B:M),ROW(22:52)) -> 43518 | D25: =DATE($A$1,COLUMN(C:N),ROW(22:52)) -> 43546 | E25: =DATE($A$1,COLUMN(D:O),ROW(22:52)) -> 43577 | F25: =DATE($A$1,COLUMN(E:P),ROW(22:52)) -> 43607 | G25: =DATE($A$1,COLUMN(F:Q),ROW(22:52)) -> 43638 | H25: =DATE($A$1,COLUMN(G:R),ROW(22:52)) -> 43668 | I25: =DATE($A$1,COLUMN(H:S),ROW(22:52)) -> 43699 | J25: =DATE($A$1,COLUMN(I:T),ROW(22:52)) -> 43730 | K25: =DATE($A$1,COLUMN(J:U),ROW(22:52)) -> 43760 | L25: =DATE($A$1,COLUMN(K:V),ROW(22:52)) -> 43791 | M25: =DATE($A$1,COLUMN(L:W),ROW(22:52)) -> 43821
B26: =DATE($A$1,COLUMN(A:L),ROW(23:53)) -> 43488 | C26: =DATE($A$1,COLUMN(B:M),ROW(23:53)) -> 43519 | D26: =DATE($A$1,COLUMN(C:N),ROW(23:53)) -> 43547 | E26: =DATE($A$1,COLUMN(D:O),ROW(23:53)) -> 43578 | F26: =DATE($A$1,COLUMN(E:P),ROW(23:53)) -> 43608 | G26: =DATE($A$1,COLUMN(F:Q),ROW(23:53)) -> 43639 | H26: =DATE($A$1,COLUMN(G:R),ROW(23:53)) -> 43669 | I26: =DATE($A$1,COLUMN(H:S),ROW(23:53)) -> 43700 | J26: =DATE($A$1,COLUMN(I:T),ROW(23:53)) -> 43731 | K26: =DATE($A$1,COLUMN(J:U),ROW(23:53)) -> 43761 | L26: =DATE($A$1,COLUMN(K:V),ROW(23:53)) -> 43792 | M26: =DATE($A$1,COLUMN(L:W),ROW(23:53)) -> 43822
B27: =DATE($A$1,COLUMN(A:L),ROW(24:54)) -> 43489 | C27: =DATE($A$1,COLUMN(B:M),ROW(24:54)) -> 43520 | D27: =DATE($A$1,COLUMN(C:N),ROW(24:54)) -> 43548 | E27: =DATE($A$1,COLUMN(D:O),ROW(24:54)) -> 43579 | F27: =DATE($A$1,COLUMN(E:P),ROW(24:54)) -> 43609 | G27: =DATE($A$1,COLUMN(F:Q),ROW(24:54)) -> 43640 | H27: =DATE($A$1,COLUMN(G:R),ROW(24:54)) -> 43670 | I27: =DATE($A$1,COLUMN(H:S),ROW(24:54)) -> 43701 | J27: =DATE($A$1,COLUMN(I:T),ROW(24:54)) -> 43732 | K27: =DATE($A$1,COLUMN(J:U),ROW(24:54)) -> 43762 | L27: =DATE($A$1,COLUMN(K:V),ROW(24:54)) -> 43793 | M27: =DATE($A$1,COLUMN(L:W),ROW(24:54)) -> 43823
B28: =DATE($A$1,COLUMN(A:L),ROW(25:55)) -> 43490 | C28: =DATE($A$1,COLUMN(B:M),ROW(25:55)) -> 43521 | D28: =DATE($A$1,COLUMN(C:N),ROW(25:55)) -> 43549 | E28: =DATE($A$1,COLUMN(D:O),ROW(25:55)) -> 43580 | F28: =DATE($A$1,COLUMN(E:P),ROW(25:55)) -> 43610 | G28: =DATE($A$1,COLUMN(F:Q),ROW(25:55)) -> 43641 | H28: =DATE($A$1,COLUMN(G:R),ROW(25:55)) -> 43671 | I28: =DATE($A$1,COLUMN(H:S),ROW(25:55)) -> 43702 | J28: =DATE($A$1,COLUMN(I:T),ROW(25:55)) -> 43733 | K28: =DATE($A$1,COLUMN(J:U),ROW(25:55)) -> 43763 | L28: =DATE($A$1,COLUMN(K:V),ROW(25:55)) -> 43794 | M28: =DATE($A$1,COLUMN(L:W),ROW(25:55)) -> 43824
B29: =DATE($A$1,COLUMN(A:L),ROW(26:56)) -> 43491 | C29: =DATE($A$1,COLUMN(B:M),ROW(26:56)) -> 43522 | D29: =DATE($A$1,COLUMN(C:N),ROW(26:56)) -> 43550 | E29: =DATE($A$1,COLUMN(D:O),ROW(26:56)) -> 43581 | F29: =DATE($A$1,COLUMN(E:P),ROW(26:56)) -> 43611 | G29: =DATE($A$1,COLUMN(F:Q),ROW(26:56)) -> 43642 | H29: =DATE($A$1,COLUMN(G:R),ROW(26:56)) -> 43672 | I29: =DATE($A$1,COLUMN(H:S),ROW(26:56)) -> 43703 | J29: =DATE($A$1,COLUMN(I:T),ROW(26:56)) -> 43734 | K29: =DATE($A$1,COLUMN(J:U),ROW(26:56)) -> 43764 | L29: =DATE($A$1,COLUMN(K:V),ROW(26:56)) -> 43795 | M29: =DATE($A$1,COLUMN(L:W),ROW(26:56)) -> 43825
B30: =DATE($A$1,COLUMN(A:L),ROW(27:57)) -> 43492 | C30: =DATE($A$1,COLUMN(B:M),ROW(27:57)) -> 43523 | D30: =DATE($A$1,COLUMN(C:N),ROW(27:57)) -> 43551 | E30: =DATE($A$1,COLUMN(D:O),ROW(27:57)) -> 43582 | F30: =DATE($A$1,COLUMN(E:P),ROW(27:57)) -> 43612 | G30: =DATE($A$1,COLUMN(F:Q),ROW(27:57)) -> 43643 | H30: =DATE($A$1,COLUMN(G:R),ROW(27:57)) -> 43673 | I30: =DATE($A$1,COLUMN(H:S),ROW(27:57)) -> 43704 | J30: =DATE($A$1,COLUMN(I:T),ROW(27:57)) -> 43735 | K30: =DATE($A$1,COLUMN(J:U),ROW(27:57)) -> 43765 | L30: =DATE($A$1,COLUMN(K:V),ROW(27:57)) -> 43796 | M30: =DATE($A$1,COLUMN(L:W),ROW(27:57)) -> 43826
B31: =DATE($A$1,COLUMN(A:L),ROW(28:58)) -> 43493 | C31: =DATE($A$1,COLUMN(B:M),ROW(28:58)) -> 43524 | D31: =DATE($A$1,COLUMN(C:N),ROW(28:58)) -> 43552 | E31: =DATE($A$1,COLUMN(D:O),ROW(28:58)) -> 43583 | F31: =DATE($A$1,COLUMN(E:P),ROW(28:58)) -> 43613 | G31: =DATE($A$1,COLUMN(F:Q),ROW(28:58)) -> 43644 | H31: =DATE($A$1,COLUMN(G:R),ROW(28:58)) -> 43674 | I31: =DATE($A$1,COLUMN(H:S),ROW(28:58)) -> 43705 | J31: =DATE($A$1,COLUMN(I:T),ROW(28:58)) -> 43736 | K31: =DATE($A$1,COLUMN(J:U),ROW(28:58)) -> 43766 | L31: =DATE($A$1,COLUMN(K:V),ROW(28:58)) -> 43797 | M31: =DATE($A$1,COLUMN(L:W),ROW(28:58)) -> 43827
B32: =DATE($A$1,COLUMN(A:L),ROW(29:59)) -> 43494 | C32: =DATE($A$1,COLUMN(B:M),ROW(29:59)) -> 43525 | D32: =DATE($A$1,COLUMN(C:N),ROW(29:59)) -> 43553 | E32: =DATE($A$1,COLUMN(D:O),ROW(29:59)) -> 43584 | F32: =DATE($A$1,COLUMN(E:P),ROW(29:59)) -> 43614 | G32: =DATE($A$1,COLUMN(F:Q),ROW(29:59)) -> 43645 | H32: =DATE($A$1,COLUMN(G:R),ROW(29:59)) -> 43675 | I32: =DATE($A$1,COLUMN(H:S),ROW(29:59)) -> 43706 | J32: =DATE($A$1,COLUMN(I:T),ROW(29:59)) -> 43737 | K32: =DATE($A$1,COLUMN(J:U),ROW(29:59)) -> 43767 | L32: =DATE($A$1,COLUMN(K:V),ROW(29:59)) -> 43798 | M32: =DATE($A$1,COLUMN(L:W),ROW(29:59)) -> 43828
B33: =DATE($A$1,COLUMN(A:L),ROW(30:60)) -> 43495 | D33: =DATE($A$1,COLUMN(C:N),ROW(30:60)) -> 43554 | E33: =DATE($A$1,COLUMN(D:O),ROW(30:60)) -> 43585 | F33: =DATE($A$1,COLUMN(E:P),ROW(30:60)) -> 43615 | G33: =DATE($A$1,COLUMN(F:Q),ROW(30:60)) -> 43646 | H33: =DATE($A$1,COLUMN(G:R),ROW(30:60)) -> 43676 | I33: =DATE($A$1,COLUMN(H:S),ROW(30:60)) -> 43707 | J33: =DATE($A$1,COLUMN(I:T),ROW(30:60)) -> 43738 | K33: =DATE($A$1,COLUMN(J:U),ROW(30:60)) -> 43768 | L33: =DATE($A$1,COLUMN(K:V),ROW(30:60)) -> 43799 | M33: =DATE($A$1,COLUMN(L:W),ROW(30:60)) -> 43829
B34: =DATE($A$1,COLUMN(A:L),ROW(31:61)) -> 43496 | D34: =DATE($A$1,COLUMN(C:N),ROW(31:61)) -> 43555 | F34: =DATE($A$1,COLUMN(E:P),ROW(31:61)) -> 43616 | H34: =DATE($A$1,COLUMN(G:R),ROW(31:61)) -> 43677 | I34: =DATE($A$1,COLUMN(H:S),ROW(31:61)) -> 43708 | K34: =DATE($A$1,COLUMN(J:U),ROW(31:61)) -> 43769 | M34: =DATE($A$1,COLUMN(L:W),ROW(31:61)) -> 43830

Sheet Jan
Y2: =SUM(O4:O30) -> 0
A3: S 01 | B3: DATE | C3: SERV | E3: J | F3: HA | G3: HD | I3: K | J3: Ser | K3: CP | L3: MOTIF DU DEPLACEMENT | O3: Panniers | P3: HSD | Q3: HSF | R3: H.Sup | S3: Maj Nuit | T3: Maj Dim. | U3: Maj J.Fé. | V3: Astreinte | W3: SSLIA | Y3: =SUM(O30:O30) -> 0
B4: =DATE(Calendrier!$A$1,_xlfn.SHEET()-1,(ROW()/2)-1) -> 43466 | C4: SiA | D4: M | E4: =IF(C4="","",IF(OR(C4="Cp",C4="AM",C4="Re",C4="Fe"),"",1)) -> 1 | F4: 8 | G4: 10 | H4: =((G4-F4)+(G5-F5)) -> 2 | K4: =IF(OR(C4="Cp"),1,"") | P4: 18 | Q4: 20 | R4: =((Q4-P4)-(Q5-P5)) -> 2 | V4: =IF(OR(C4="SiA",C4="SeA"),1,"") -> 1 | Y4: =SUM(#REF!) -> #REF!
A5: =SUM(H4:H15)+SUM(R4:R15)+A1 -> 4 | D5: S
B6: =DATE(Calendrier!$A$1,_xlfn.SHEET()-1,(ROW()/2)-1) -> 43467 | C6: Cp | D6: M | E6: =IF(C6="","",IF(OR(C6="Cp",C6="AM",C6="Re",C6="Fe"),"",1)) | H6: =((G6-F6)+(G7-F7)) -> 0 | K6: =IF(OR(C6="Cp"),1,"") -> 1 | R6: =((Q6-P6)-(Q7-P7)) -> 0 | V6: =IF(OR(C6="SiA",C6="SeA"),1,"") | Y6: =SUM(#REF!) -> #REF!
D7: S
B8: =DATE(Calendrier!$A$1,_xlfn.SHEET()-1,(ROW()/2)-1) -> 43468 | C8: SeA | D8: M | E8: =IF(C8="","",IF(OR(C8="Cp",C8="AM",C8="Re",C8="Fe"),"",1)) -> 1 | H8: =((G8-F8)+(G9-F9)) -> 0 | K8: =IF(OR(C8="Cp"),1,"") | R8: =((Q8-P8)-(Q9-P9)) -> 0 | V8: =IF(OR(C8="SiA",C8="SeA"),1,"") -> 1
D9: S
B10: =DATE(Calendrier!$A$1,_xlfn.SHEET()-1,(ROW()/2)-1) -> 43469 | D10: M | E10: =IF(C10="","",IF(OR(C10="Cp",C10="AM",C10="Re",C10="Fe"),"",1)) | H10: =((G10-F10)+(G11-F11)) -> 0 | K10: =IF(OR(C10="Cp"),1,"") | R10: =((Q10-P10)-(Q11-P11)) -> 0 | V10: =IF(OR(C10="SiA",C10="SeA"),1,"")
D11: S
B12: =DATE(Calendrier!$A$1,_xlfn.SHEET()-1,(ROW()/2)-1) -> 43470 | D12: M | E12: =IF(C12="","",IF(OR(C12="Cp",C12="AM",C12="Re",C12="Fe"),"",1)) | H12: =((G12-F12)+(G13-F13)) -> 0 | K12: =IF(OR(C12="Cp"),1,"") | R12: =((Q12-P12)-(Q13-P13)) -> 0 | V12: =IF(OR(C12="SiA",C12="SeA"),1,"")
D13: S
B14: =DATE(Calendrier!$A$1,_xlfn.SHEET()-1,(ROW()/2)-1) -> 43471 | D14: M | E14: =IF(C14="","",IF(OR(C14="Cp",C14="AM",C14="Re",C14="Fe"),"",1)) | H14: =((G14-F14)+(G15-F15)) -> 0 | K14: =IF(OR(C14="Cp"),1,"") | R14: =((Q14-P14)-(Q15-P15)) -> 0 | V14: =IF(OR(C14="SiA",C14="SeA"),1,"")
A15: S 02 | D15: S
B16: =DATE(Calendrier!$A$1,_xlfn.SHEET()-1,(ROW()/2)-1) -> 43472 | D16: M | E16: =IF(C16="","",IF(OR(C16="Cp",C16="AM",C16="Re",C16="Fe"),"",1)) | F16: 8 | G16: 10 | H16: =((G16-F16)+(G17-F17)) -> 2 | K16: =IF(OR(C16="Cp"),1,"") | P16: 18 | Q16: 20 | R16: =((Q16-P16)-(Q17-P17)) -> 2 | V16: =IF(OR(C16="SiA",C16="SeA"),1,"")
A17: =SUM(H16:H31)+SUM(R16:R31) -> 4 | D17: S
B18: =DATE(Calendrier!$A$1,_xlfn.SHEET()-1,(ROW()/2)-1) -> 43473 | D18: M | E18: =IF(C18="","",IF(OR(C18="Cp",C18="AM",C18="Re",C18="Fe"),"",1)) | H18: =((G18-F18)+(G19-F19)) -> 0 | K18: =IF(OR(C18="Cp"),1,"") | R18: =((Q18-P18)-(Q19-P19)) -> 0 | V18: =IF(OR(C18="SiA",C18="SeA"),1,"")
D19: S
B20: =DATE(Calendrier!$A$1,_xlfn.SHEET()-1,(ROW()/2)-1) -> 43474 | D20: M | E20: =IF(C20="","",IF(OR(C20="Cp",C20="AM",C20="Re",C20="Fe"),"",1)) | H20: =((G20-F20)+(G21-F21)) -> 0 | K20: =IF(OR(C20="Cp"),1,"") | R20: =((Q20-P20)-(Q21-P21)) -> 0 | V20: =IF(OR(C20="SiA",C20="SeA"),1,"")
D21: S
B22: =DATE(Calendrier!$A$1,_xlfn.SHEET()-1,(ROW()/2)-1) -> 43475 | D22: M | E22: =IF(C22="","",IF(OR(C22="Cp",C22="AM",C22="Re",C22="Fe"),"",1)) | H22: =((G22-F22)+(G23-F23)) -> 0 | K22: =IF(OR(C22="Cp"),1,"") | R22: =((Q22-P22)-(Q23-P23)) -> 0 | V22: =IF(OR(C22="SiA",C22="SeA"),1,"")
D23: S
B24: =DATE(Calendrier!$A$1,_xlfn.SHEET()-1,(ROW()/2)-1) -> 43476 | D24: M | E24: =IF(C24="","",IF(OR(C24="Cp",C24="AM",C24="Re",C24="Fe"),"",1)) | H24: =((G24-F24)+(G25-F25)) -> 0 | K24: =IF(OR(C24="Cp"),1,"") | R24: =((Q24-P24)-(Q25-P25)) -> 0 | V24: =IF(OR(C24="SiA",C24="SeA"),1,"")
D25: S
B26: =DATE(Calendrier!$A$1,_xlfn.SHEET()-1,(ROW()/2)-1) -> 43477 | D26: M | E26: =IF(C26="","",IF(OR(C26="Cp",C26="AM",C26="Re",C26="Fe"),"",1)) | H26: =((G26-F26)+(G27-F27)) -> 0 | K26: =IF(OR(C26="Cp"),1,"") | R26: =((Q26-P26)-(Q27-P27)) -> 0 | V26: =IF(OR(C26="SiA",C26="SeA"),1,"")
D27: S
B28: =DATE(Calendrier!$A$1,_xlfn.SHEET()-1,(ROW()/2)-1) -> 43478 | D28: M | E28: =IF(C28="","",IF(OR(C28="Cp",C28="AM",C28="Re",C28="Fe"),"",1)) | H28: =((G28-F28)+(G29-F29)) -> 0 | K28: =IF(OR(C28="Cp"),1,"") | R28: =((Q28-P28)-(Q29-P29)) -> 0 | V28: =IF(OR(C28="SiA",C28="SeA"),1,"")
A29: S 03 | D29: S
B30: =DATE(Calendrier!$A$1,_xlfn.SHEET()-1,(ROW()/2)-1) -> 43479 | D30: M | E30: =IF(C30="","",IF(OR(C30="Cp",C30="AM",C30="Re",C30="Fe"),"",1)) | H30: =((G30-F30)+(G31-F31)) -> 0 | K30: =IF(OR(C30="Cp"),1,"") | R30: =((Q30-P30)-(Q31-P31)) -> 0 | V30: =IF(OR(C30="SiA",C30="SeA"),1,"")
D31: S
B32: =DATE(Calendrier!$A$1,_xlfn.SHEET()-1,(ROW()/2)-1) -> 43480 | D32: M | E32: =IF(C32="","",IF(OR(C32="Cp",C32="AM",C32="Re",C32="Fe"),"",1)) | H32: =((G32-F32)+(G33-F33)) -> 0 | K32: =IF(OR(C32="Cp"),1,"") | R32: =((Q32-P32)-(Q33-P33)) -> 0 | V32: =IF(OR(C32="SiA",C32="SeA"),1,"")
D33: S
B34: =DATE(Calendrier!$A$1,_xlfn.SHEET()-1,(ROW()/2)-1) -> 43481 | D34: M | E34: =IF(C34="","",IF(OR(C34="Cp",C34="AM",C34="Re",C34="Fe"),"",1)) | H34: =((G34-F34)+(G35-F35)) -> 0 | K34: =IF(OR(C34="Cp"),1,"") | R34: =((Q34-P34)-(Q35-P35)) -> 0 | V34: =IF(OR(C34="SiA",C34="SeA"),1,"")
D35: S
B36: =DATE(Calendrier!$A$1,_xlfn.SHEET()-1,(ROW()/2)-1) -> 43482 | D36: M | E36: =IF(C36="","",IF(OR(C36="Cp",C36="AM",C36="Re",C36="Fe"),"",1)) | H36: =((G36-F36)+(G37-F37)) -> 0 | K36: =IF(OR(C36="Cp"),1,"") | R36: =((Q36-P36)-(Q37-P37)) -> 0 | V36: =IF(OR(C36="SiA",C36="SeA"),1,"")
D37: S
B38: =DATE(Calendrier!$A$1,_xlfn.SHEET()-1,(ROW()/2)-1) -> 43483 | D38: M | E38: =IF(C38="","",IF(OR(C38="Cp",C38="AM",C38="Re",C38="Fe"),"",1)) | H38: =((G38-F38)+(G39-F39)) -> 0 | R38: =((Q38-P38)-(Q39-P39)) -> 0 | V38: =IF(OR(C38="SiA",C38="SeA"),1,"")
D39: S
B40: =DATE(Calendrier!$A$1,_xlfn.SHEET()-1,(ROW()/2)-1) -> 43484 | D40: M | E40: =IF(C40="","",IF(OR(C40="Cp",C40="AM",C40="Re",C40="Fe"),"",1)) | H40: =((G40-F40)+(G41-F41)) -> 0 | K40: =IF(OR(C40="Cp"),1,"") | R40: =((Q40-P40)-(Q41-P41)) -> 0 | V40: =IF(OR(C40="SiA",C40="SeA"),1,"")
D41: S
B42: =DATE(Calendrier!$A$1,_xlfn.SHEET()-1,(ROW()/2)-1) -> 43485 | D42: M | E42: =IF(C42="","",IF(OR(C42="Cp",C42="AM",C42="Re",C42="Fe"),"",1)) | H42: =((G42-F42)+(G43-F43)) -> 0 | K42: =IF(OR(C42="Cp"),1,"") | R42: =((Q42-P42)-(Q43-P43)) -> 0 | V42: =IF(OR(C42="SiA",C42="SeA"),1,"")
D43: S
A44: S 04 | B44: =DATE(Calendrier!$A$1,_xlfn.SHEET()-1,(ROW()/2)-1) -> 43486 | D44: M | E44: =IF(C44="","",IF(OR(C44="Cp",C44="AM",C44="Re",C44="Fe"),"",1)) | H44: =((G44-F44)+(G45-F45)) -> 0 | K44: =IF(OR(C44="Cp"),1,"") | R44: =((Q44-P44)-(Q45-P45)) -> 0 | V44: =IF(OR(C44="SiA",C44="SeA"),1,"")
D45: S
B46: =DATE(Calendrier!$A$1,_xlfn.SHEET()-1,(ROW()/2)-1) -> 43487 | D46: M | E46: =IF(C46="","",IF(OR(C46="Cp",C46="AM",C46="Re",C46="Fe"),"",1)) | H46: =((G46-F46)+(G47-F47)) -> 0 | K46: =IF(OR(C46="Cp"),1,"") | R46: =((Q46-P46)-(Q47-P47)) -> 0 | V46: =IF(OR(C46="SiA",C46="SeA"),1,"")
D47: S
B48: =DATE(Calendrier!$A$1,_xlfn.SHEET()-1,(ROW()/2)-1) -> 43488 | D48: M | E48: =IF(C48="","",IF(OR(C48="Cp",C48="AM",C48="Re",C48="Fe"),"",1)) | H48: =((G48-F48)+(G49-F49)) -> 0 | K48: =IF(OR(C48="Cp"),1,"") | R48: =((Q48-P48)-(Q49-P49)) -> 0 | V48: =IF(OR(C48="SiA",C48="SeA"),1,"")
D49: S
B50: =DATE(Calendrier!$A$1,_xlfn.SHEET()-1,(ROW()/2)-1) -> 43489 | D50: M | E50: =IF(C50="","",IF(OR(C50="Cp",C50="AM",C50="Re",C50="Fe"),"",1)) | H50: =((G50-F50)+(G51-F51)) -> 0 | K50: =IF(OR(C50="Cp"),1,"") | R50: =((Q50-P50)-(Q51-P51)) -> 0 | V50: =IF(OR(C50="SiA",C50="SeA"),1,"")
D51: S
B52: =DATE(Calendrier!$A$1,_xlfn.SHEET()-1,(ROW()/2)-1) -> 43490 | D52: M | E52: =IF(C52="","",IF(OR(C52="Cp",C52="AM",C52="Re",C52="Fe"),"",1)) | H52: =((G52-F52)+(G53-F53)) -> 0 | K52: =IF(OR(C52="Cp"),1,"") | R52: =((Q52-P52)-(Q53-P53)) -> 0 | V52: =IF(OR(C52="SiA",C52="SeA"),1,"")
D53: S
B54: =DATE(Calendrier!$A$1,_xlfn.SHEET()-1,(ROW()/2)-1) -> 43491 | D54: M | E54: =IF(C54="","",IF(OR(C54="Cp",C54="AM",C54="Re",C54="Fe"),"",1)) | H54: =((G54-F54)+(G55-F55)) -> 0 | K54: =IF(OR(C54="Cp"),1,"") | R54: =((Q54-P54)-(Q55-P55)) -> 0 | V54: =IF(OR(C54="SiA",C54="SeA"),1,"")
D55: S
B56: =DATE(Calendrier!$A$1,_xlfn.SHEET()-1,(ROW()/2)-1) -> 43492 | D56: M | E56: =IF(C56="","",IF(OR(C56="Cp",C56="AM",C56="Re",C56="Fe"),"",1)) | H56: =((G56-F56)+(G57-F57)) -> 0 | K56: =IF(OR(C56="Cp"),1,"") | R56: =((Q56-P56)-(Q57-P57)) -> 0 | V56: =IF(OR(C56="SiA",C56="SeA"),1,"")
D57: S
A58: S 05 | B58: =DATE(Calendrier!$A$1,_xlfn.SHEET()-1,(ROW()/2)-1) -> 43493 | D58: M | E58: =IF(C58="","",IF(OR(C58="Cp",C58="AM",C58="Re",C58="Fe"),"",1)) | H58: =((G58-F58)+(G59-F59)) -> 0 | K58: =IF(OR(C58="Cp"),1,"") | R58: =((Q58-P58)-(Q59-P59)) -> 0 | V58: =IF(OR(C58="SiA",C58="SeA"),1,"")
D59: S
B60: =DATE(Calendrier!$A$1,_xlfn.SHEET()-1,(ROW()/2)-1) -> 43494 | D60: M | E60: =IF(C60="","",IF(OR(C60="Cp",C60="AM",C60="Re",C60="Fe"),"",1)) | H60: =((G60-F60)+(G61-F61)) -> 0 | K60: =IF(OR(C60="Cp"),1,"") | R60: =((Q60-P60)-(Q61-P61)) -> 0 | V60: =IF(OR(C60="SiA",C60="SeA"),1,"")
D61: S
B62: =DATE(Calendrier!$A$1,_xlfn.SHEET()-1,(ROW()/2)-1) -> 43495 | D62: M | E62: =IF(C62="","",IF(OR(C62="Cp",C62="AM",C62="Re",C62="Fe"),"",1)) | H62: =((G62-F62)+(G63-F63)) -> 0 | K62: =IF(OR(C62="Cp"),1,"") | R62: =((Q62-P62)-(Q63-P63)) -> 0 | V62: =IF(OR(C62="SiA",C62="SeA"),1,"")
D63: S
B64: =DATE(Calendrier!$A$1,_xlfn.SHEET()-1,(ROW()/2)-1) -> 43496 | D64: M | E64: =IF(C64="","",IF(OR(C64="Cp",C64="AM",C64="Re",C64="Fe"),"",1)) | H64: =((G64-F64)+(G65-F65)) -> 0 | K64: =IF(OR(C64="Cp"),1,"") | R64: =((Q64-P64)-(Q65-P65)) -> 0 | V64: =IF(OR(C64="SiA",C64="SeA"),1,"")
D65: S
B66: TOTAUX | E66: =SUM(E4:E65) -> 2 | F66: =SUM(H4:H65) -> 4 | I66: =SUM(I4:I65) -> 0 | J66: =SUM(J4:J65) -> 0 | K66: =SUM(K4:K65) -> 1 | N66: TOTAUX | O66: =SUM(O4:O65) -> 0 | R66: =SUM(R4:R30) -> 4 | S66: =SUM(S4:S65) -> 0 | T66: =SUM(T4:T65) -> 0 | U66: =SUM(U4:U65) -> 0 | V66: =SUM(V4:V65) -> 2 | W66: =SUM(W4:W65) -> 0

Sheet Fev
Y2: =SUM(O4:O30) -> 0
A3: S 05 | B3: DATE | C3: SERV | E3: J | F3: HA | G3: HD | I3: K | J3: Ser | K3: CP | L3: MOTIF DU DEPLACEMENT | O3: Panniers | P3: HSD | Q3: HSF | R3: H.Sup | S3: Maj Nuit | T3: Maj Dim. | U3: Maj J.Fé. | V3: Astreinte | W3: SSLIA | Y3: =SUM(O30:O30) -> 0
B4: =DATE(Calendrier!$A$1,_xlfn.SHEET()-1,(ROW()/2)-1) -> 43497 | C4: SiA | D4: M | E4: =IF(C4="","",IF(OR(C4="Cp",C4="AM",C4="Re",C4="Fe"),"",1)) -> 1 | F4: 8 | G4: 10 | H4: =((G4-F4)+(G5-F5)) -> 2 | K4: =IF(OR(C4="Cp"),1,"") | P4: 18 | Q4: 20 | R4: =((Q4-P4)-(Q5-P5)) -> 2 | V4: =IF(OR(C4="SiA",C4="SeA"),1,"") -> 1 | Y4: =SUM(#REF!) -> #REF!
A5: =SUM(H4:H9,R4:R9) -> 4 | D5: S
B6: =DATE(Calendrier!$A$1,_xlfn.SHEET()-1,(ROW()/2)-1) -> 43498 | C6: Cp | D6: M | E6: =IF(C6="","",IF(OR(C6="Cp",C6="AM",C6="Re",C6="Fe"),"",1)) | H6: =((G6-F6)+(G7-F7)) -> 0 | K6: =IF(OR(C6="Cp"),1,"") -> 1 | R6: =((Q6-P6)-(Q7-P7)) -> 0 | V6: =IF(OR(C6="SiA",C6="SeA"),1,"") | Y6: =SUM(#REF!) -> #REF!
D7: S
B8: =DATE(Calendrier!$A$1,_xlfn.SHEET()-1,(ROW()/2)-1) -> 43499 | C8: SeA | D8: M | E8: =IF(C8="","",IF(OR(C8="Cp",C8="AM",C8="Re",C8="Fe"),"",1)) -> 1 | H8: =((G8-F8)+(G9-F9)) -> 0 | K8: =IF(OR(C8="Cp"),1,"") | R8: =((Q8-P8)-(Q9-P9)) -> 0 | V8: =IF(OR(C8="SiA",C8="SeA"),1,"") -> 1
D9: S
A10: S 06 | B10: =DATE(Calendrier!$A$1,_xlfn.SHEET()-1,(ROW()/2)-1) -> 43500 | D10: M | E10: =IF(C10="","",IF(OR(C10="Cp",C10="AM",C10="Re",C10="Fe"),"",1)) | H10: =((G10-F10)+(G11-F11)) -> 0 | K10: =IF(OR(C10="Cp"),1,"") | R10: =((Q10-P10)-(Q11-P11)) -> 0 | V10: =IF(OR(C10="SiA",C10="SeA"),1,"")
D11: S
A12: =SUM(H10:H23,R10:R23) -> 4 | B12: =DATE(Calendrier!$A$1,_xlfn.SHEET()-1,(ROW()/2)-1) -> 43501 | D12: M | E12: =IF(C12="","",IF(OR(C12="Cp",C12="AM",C12="Re",C12="Fe"),"",1)) | H12: =((G12-F12)+(G13-F13)) -> 0 | K12: =IF(OR(C12="Cp"),1,"") | R12: =((Q12-P12)-(Q13-P13)) -> 0 | V12: =IF(OR(C12="SiA",C12="SeA"),1,"")
D13: S
B14: =DATE(Calendrier!$A$1,_xlfn.SHEET()-1,(ROW()/2)-1) -> 43502 | D14: M | E14: =IF(C14="","",IF(OR(C14="Cp",C14="AM",C14="Re",C14="Fe"),"",1)) | H14: =((G14-F14)+(G15-F15)) -> 0 | K14: =IF(OR(C14="Cp"),1,"") | R14: =((Q14-P14)-(Q15-P15)) -> 0 | V14: =IF(OR(C14="SiA",C14="SeA"),1,"")
D15: S
B16: =DATE(Calendrier!$A$1,_xlfn.SHEET()-1,(ROW()/2)-1) -> 43503 | D16: M | E16: =IF(C16="","",IF(OR(C16="Cp",C16="AM",C16="Re",C16="Fe"),"",1)) | F16: 8 | G16: 10 | H16: =((G16-F16)+(G17-F17)) -> 2 | K16: =IF(OR(C16="Cp"),1,"") | P16: 18 | Q16: 20 | R16: =((Q16-P16)-(Q17-P17)) -> 2 | V16: =IF(OR(C16="SiA",C16="SeA"),1,"")
D17: S
B18: =DATE(Calendrier!$A$1,_xlfn.SHEET()-1,(ROW()/2)-1) -> 43504 | D18: M | E18: =IF(C18="","",IF(OR(C18="Cp",C18="AM",C18="Re",C18="Fe"),"",1)) | H18: =((G18-F18)+(G19-F19)) -> 0 | K18: =IF(OR(C18="Cp"),1,"") | R18: =((Q18-P18)-(Q19-P19)) -> 0 | V18: =IF(OR(C18="SiA",C18="SeA"),1,"")
D19: S
B20: =DATE(Calendrier!$A$1,_xlfn.SHEET()-1,(ROW()/2)-1) -> 43505 | D20: M | E20: =IF(C20="","",IF(OR(C20="Cp",C20="AM",C20="Re",C20="Fe"),"",1)) | H20: =((G20-F20)+(G21-F21)) -> 0 | K20: =IF(OR(C20="Cp"),1,"") | R20: =((Q20-P20)-(Q21-P21)) -> 0 | V20: =IF(OR(C20="SiA",C20="SeA"),1,"")
D21: S
B22: =DATE(Calendrier!$A$1,_xlfn.SHEET()-1,(ROW()/2)-1) -> 43506 | D22: M | E22: =IF(C22="","",IF(OR(C22="Cp",C22="AM",C22="Re",C22="Fe"),"",1)) | H22: =((G22-F22)+(G23-F23)) -> 0 | K22: =IF(OR(C22="Cp"),1,"") | R22: =((Q22-P22)-(Q23-P23)) -> 0 | V22: =IF(OR(C22="SiA",C22="SeA"),1,"")
D23: S
A24: S 07 | B24: =DATE(Calendrier!$A$1,_xlfn.SHEET()-1,(ROW()/2)-1) -> 43507 | D24: M | E24: =IF(C24="","",IF(OR(C24="Cp",C24="AM",C24="Re",C24="Fe"),"",1)) | F24: 8 | G24: 10 | H24: =((G24-F24)+(G25-F25)) -> 2 | K24: =IF(OR(C24="Cp"),1,"") | P24: 8 | Q24: 10 | R24: =((Q24-P24)-(Q25-P25)) -> 2 | V24: =IF(OR(C24="SiA",C24="SeA"),1,"")
D25: S
A26: =SUM(H24:H37,R24:R37) -> 4 | B26: =DATE(Calendrier!$A$1,_xlfn.SHEET()-1,(ROW()/2)-1) -> 43508 | D26: M | E26: =IF(C26="","",IF(OR(C26="Cp",C26="AM",C26="Re",C26="Fe"),"",1)) | H26: =((G26-F26)+(G27-F27)) -> 0 | K26: =IF(OR(C26="Cp"),1,"") | R26: =((Q26-P26)-(Q27-P27)) -> 0 | V26: =IF(OR(C26="SiA",C26="SeA"),1,"")
D27: S
B28: =DATE(Calendrier!$A$1,_xlfn.SHEET()-1,(ROW()/2)-1) -> 43509 | D28: M | E28: =IF(C28="","",IF(OR(C28="Cp",C28="AM",C28="Re",C28="Fe"),"",1)) | H28: =((G28-F28)+(G29-F29)) -> 0 | K28: =IF(OR(C28="Cp"),1,"") | R28: =((Q28-P28)-(Q29-P29)) -> 0 | V28: =IF(OR(C28="SiA",C28="SeA"),1,"")
D29: S
B30: =DATE(Calendrier!$A$1,_xlfn.SHEET()-1,(ROW()/2)-1) -> 43510 | D30: M | E30: =IF(C30="","",IF(OR(C30="Cp",C30="AM",C30="Re",C30="Fe"),"",1)) | H30: =((G30-F30)+(G31-F31)) -> 0 | K30: =IF(OR(C30="Cp"),1,"") | R30: =((Q30-P30)-(Q31-P31)) -> 0 | V30: =IF(OR(C30="SiA",C30="SeA"),1,"")
D31: S
B32: =DATE(Calendrier!$A$1,_xlfn.SHEET()-1,(ROW()/2)-1) -> 43511 | D32: M | E32: =IF(C32="","",IF(OR(C32="Cp",C32="AM",C32="Re",C32="Fe"),"",1)) | H32: =((G32-F32)+(G33-F33)) -> 0 | K32: =IF(OR(C32="Cp"),1,"") | R32: =((Q32-P32)-(Q33-P33)) -> 0 | V32: =IF(OR(C32="SiA",C32="SeA"),1,"")
D33: S
B34: =DATE(Calendrier!$A$1,_xlfn.SHEET()-1,(ROW()/2)-1) -> 43512 | D34: M | E34: =IF(C34="","",IF(OR(C34="Cp",C34="AM",C34="Re",C34="Fe"),"",1)) | H34: =((G34-F34)+(G35-F35)) -> 0 | K34: =IF(OR(C34="Cp"),1,"") | R34: =((Q34-P34)-(Q35-P35)) -> 0 | V34: =IF(OR(C34="SiA",C34="SeA"),1,"")
D35: S
B36: =DATE(Calendrier!$A$1,_xlfn.SHEET()-1,(ROW()/2)-1) -> 43513 | D36: M | E36: =IF(C36="","",IF(OR(C36="Cp",C36="AM",C36="Re",C36="Fe"),"",1)) | H36: =((G36-F36)+(G37-F37)) -> 0 | K36: =IF(OR(C36="Cp"),1,"") | R36: =((Q36-P36)-(Q37-P37)) -> 0 | V36: =IF(OR(C36="SiA",C36="SeA"),1,"")
D37: S
A38: S 08 | B38: =DATE(Calendrier!$A$1,_xlfn.SHEET()-1,(ROW()/2)-1) -> 43514 | D38: M | E38: =IF(C38="","",IF(OR(C38="Cp",C38="AM",C38="Re",C38="Fe"),"",1)) | H38: =((G38-F38)+(G39-F39)) -> 0 | R38: =((Q38-P38)-(Q39-P39)) -> 0 | V38: =IF(OR(C38="SiA",C38="SeA"),1,"")
D39: S
A40: =SUM(H38:H51,R38:R51) -> 0 | B40: =DATE(Calendrier!$A$1,_xlfn.SHEET()-1,(ROW()/2)-1) -> 43515 | D40: M | E40: =IF(C40="","",IF(OR(C40="Cp",C40="AM",C40="Re",C40="Fe"),"",1)) | H40: =((G40-F40)+(G41-F41)) -> 0 | K40: =IF(OR(C40="Cp"),1,"") | R40: =((Q40-P40)-(Q41-P41)) -> 0 | V40: =IF(OR(C40="SiA",C40="SeA"),1,"")
D41: S
B42: =DATE(Calendrier!$A$1,_xlfn.SHEET()-1,(ROW()/2)-1) -> 43516 | D42: M | E42: =IF(C42="","",IF(OR(C42="Cp",C42="AM",C42="Re",C42="Fe"),"",1)) | H42: =((G42-F42)+(G43-F43)) -> 0 | K42: =IF(OR(C42="Cp"),1,"") | R42: =((Q42-P42)-(Q43-P43)) -> 0 | V42: =IF(OR(C42="SiA",C42="SeA"),1,"")
D43: S
B44: =DATE(Calendrier!$A$1,_xlfn.SHEET()-1,(ROW()/2)-1) -> 43517 | D44: M | E44: =IF(C44="","",IF(OR(C44="Cp",C44="AM",C44="Re",C44="Fe"),"",1)) | H44: =((G44-F44)+(G45-F45)) -> 0 | K44: =IF(OR(C44="Cp"),1,"") | R44: =((Q44-P44)-(Q45-P45)) -> 0 | V44: =IF(OR(C44="SiA",C44="SeA"),1,"")
D45: S
B46: =DATE(Calendrier!$A$1,_xlfn.SHEET()-1,(ROW()/2)-1) -> 43518 | D46: M | E46: =IF(C46="","",IF(OR(C46="Cp",C46="AM",C46="Re",C46="Fe"),"",1)) | H46: =((G46-F46)+(G47-F47)) -> 0 | K46: =IF(OR(C46="Cp"),1,"") | R46: =((Q46-P46)-(Q47-P47)) -> 0 | V46: =IF(OR(C46="SiA",C46="SeA"),1,"")
D47: S
B48: =DATE(Calendrier!$A$1,_xlfn.SHEET()-1,(ROW()/2)-1) -> 43519 | D48: M | E48: =IF(C48="","",IF(OR(C48="Cp",C48="AM",C48="Re",C48="Fe"),"",1)) | H48: =((G48-F48)+(G49-F49)) -> 0 | K48: =IF(OR(C48="Cp"),1,"") | R48: =((Q48-P48)-(Q49-P49)) -> 0 | V48: =IF(OR(C48="SiA",C48="SeA"),1,"")
D49: S
B50: =DATE(Calendrier!$A$1,_xlfn.SHEET()-1,(ROW()/2)-1) -> 43520 | D50: M | E50: =IF(C50="","",IF(OR(C50="Cp",C50="AM",C50="Re",C50="Fe"),"",1)) | H50: =((G50-F50)+(G51-F51)) -> 0 | K50: =IF(OR(C50="Cp"),1,"") | R50: =((Q50-P50)-(Q51-P51)) -> 0 | V50: =IF(OR(C50="SiA",C50="SeA"),1,"")
D51: S
B52: =DATE(Calendrier!$A$1,_xlfn.SHEET()-1,(ROW()/2)-1) -> 43521 | D52: M | E52: =IF(C52="","",IF(OR(C52="Cp",C52="AM",C52="Re",C52="Fe"),"",1)) | H52: =((G52-F52)+(G53-F53)) -> 0 | K52: =IF(OR(C52="Cp"),1,"") | R52: =((Q52-P52)-(Q53-P53)) -> 0 | V52: =IF(OR(C52="SiA",C52="SeA"),1,"")
D53: S
B54: =DATE(Calendrier!$A$1,_xlfn.SHEET()-1,(ROW()/2)-1) -> 43522 | D54: M | E54: =IF(C54="","",IF(OR(C54="Cp",C54="AM",C54="Re",C54="Fe"),"",1)) | H54: =((G54-F54)+(G55-F55)) -> 0 | K54: =IF(OR(C54="Cp"),1,"") | R54: =((Q54-P54)-(Q55-P55)) -> 0 | V54: =IF(OR(C54="SiA",C54="SeA"),1,"")
D55: S
B56: =DATE(Calendrier!$A$1,_xlfn.SHEET()-1,(ROW()/2)-1) -> 43523 | D56: M | E56: =IF(C56="","",IF(OR(C56="Cp",C56="AM",C56="Re",C56="Fe"),"",1)) | H56: =((G56-F56)+(G57-F57)) -> 0 | K56: =IF(OR(C56="Cp"),1,"") | R56: =((Q56-P56)-(Q57-P57)) -> 0 | V56: =IF(OR(C56="SiA",C56="SeA"),1,"")
D57: S
B58: =DATE(Calendrier!$A$1,_xlfn.SHEET()-1,(ROW()/2)-1) -> 43524 | D58: M | E58: =IF(C58="","",IF(OR(C58="Cp",C58="AM",C58="Re",C58="Fe"),"",1)) | H58: =((G58-F58)+(G59-F59)) -> 0 | K58: =IF(OR(C58="Cp"),1,"") | R58: =((Q58-P58)-(Q59-P59)) -> 0 | V58: =IF(OR(C58="SiA",C58="SeA"),1,"")
D59: S
B60: =IF(MONTH(DATE(Calendrier!$A$1,_xlfn.SHEET()-1,(ROW()/2)-1))>_xlfn.SHEET()-1,"",DATE(Calendrier!$A$1,_xlfn.SHEET()-1,(ROW()/2)-1)) | D60: M | E60: =IF(C60="","",IF(OR(C60="Cp",C60="AM",C60="Re",C60="Fe"),"",1)) | H60: =((G60-F60)+(G61-F61)) -> 0 | K60: =IF(OR(C60="Cp"),1,"") | R60: =((Q60-P60)-(Q61-P61)) -> 0 | V60: =IF(OR(C60="SiA",C60="SeA"),1,"")
D61: S
B62: TOTAUX | E62: =SUM(E4:E61) -> 2 | F62: =SUM(H4:H61) -> 6 | I62: =SUM(I4:I61) -> 0 | J62: =SUM(J4:J61) -> 0 | K62: =SUM(K4:K61) -> 1 | N62: TOTAUX | O62: =SUM(O4:O61) -> 0 | R62: =SUM(R4:R30) -> 6 | S62: =SUM(S4:S61) -> 0 | T62: =SUM(T4:T61) -> 0 | U62: =SUM(U4:U61) -> 0 | V62: =SUM(V4:V61) -> 2 | W62: =SUM(W4:W61) -> 0

Sheet Mar
Y2: =SUM(O4:O30) -> 0
A3: S 01 | B3: DATE | C3: SERV | E3: J | F3: HA | G3: HD | I3: K | J3: Ser | K3: CP | L3: MOTIF DU DEPLACEMENT | O3: Panniers | P3: HSD | Q3: HSF | R3: H.Sup | S3: Maj Nuit | T3: Maj Dim. | U3: Maj J.Fé. | V3: Astreinte | W3: SSLIA | Y3: =SUM(O30:O30) -> 0
B4: =DATE(Calendrier!$A$1,_xlfn.SHEET()-1,(ROW()/2)-1) -> 43525 | C4: SiA | D4: M | E4: =IF(C4="","",IF(OR(C4="Cp",C4="AM",C4="Re",C4="Fe"),"",1)) -> 1 | F4: 8 | G4: 10 | H4: =((G4-F4)+(G5-F5)) -> 2 | K4: =IF(OR(C4="Cp"),1,"") | P4: 18 | Q4: 20 | R4: =((Q4-P4)-(Q5-P5)) -> 2 | V4: =IF(OR(C4="SiA",C4="SeA"),1,"") -> 1 | Y4: =SUM(#REF!) -> #REF!
A5: =SUM(H4:H15)+SUM(R4:R15) -> 4 | D5: S
B6: =DATE(Calendrier!$A$1,_xlfn.SHEET()-1,(ROW()/2)-1) -> 43526 | C6: Cp | D6: M | E6: =IF(C6="","",IF(OR(C6="Cp",C6="AM",C6="Re",C6="Fe"),"",1)) | H6: =((G6-F6)+(G7-F7)) -> 0 | K6: =IF(OR(C6="Cp"),1,"") -> 1 | R6: =((Q6-P6)-(Q7-P7)) -> 0 | V6: =IF(OR(C6="SiA",C6="SeA"),1,"") | Y6: =SUM(#REF!) -> #REF!
D7: S
B8: =DATE(Calendrier!$A$1,_xlfn.SHEET()-1,(ROW()/2)-1) -> 43527 | C8: SeA | D8: M | E8: =IF(C8="","",IF(OR(C8="Cp",C8="AM",C8="Re",C8="Fe"),"",1)) -> 1 | H8: =((G8-F8)+(G9-F9)) -> 0 | K8: =IF(OR(C8="Cp"),1,"") | R8: =((Q8-P8)-(Q9-P9)) -> 0 | V8: =IF(OR(C8="SiA",C8="SeA"),1,"") -> 1
D9: S
B10: =DATE(Calendrier!$A$1,_xlfn.SHEET()-1,(ROW()/2)-1) -> 43528 | D10: M | E10: =IF(C10="","",IF(OR(C10="Cp",C10="AM",C10="Re",C10="Fe"),"",1)) | H10: =((G10-F10)+(G11-F11)) -> 0 | K10: =IF(OR(C10="Cp"),1,"") | R10: =((Q10-P10)-(Q11-P11)) -> 0 | V10: =IF(OR(C10="SiA",C10="SeA"),1,"")
D11: S
B12: =DATE(Calendrier!$A$1,_xlfn.SHEET()-1,(ROW()/2)-1) -> 43529 | D12: M | E12: =IF(C12="","",IF(OR(C12="Cp",C12="AM",C12="Re",C12="Fe"),"",1)) | H12: =((G12-F12)+(G13-F13)) -> 0 | K12: =IF(OR(C12="Cp"),1,"") | R12: =((Q12-P12)-(Q13-P13)) -> 0 | V12: =IF(OR(C12="SiA",C12="SeA"),1,"")
D13: S
B14: =DATE(Calendrier!$A$1,_xlfn.SHEET()-1,(ROW()/2)-1) -> 43530 | D14: M | E14: =IF(C14="","",IF(OR(C14="Cp",C14="AM",C14="Re",C14="Fe"),"",1)) | H14: =((G14-F14)+(G15-F15)) -> 0 | K14: =IF(OR(C14="Cp"),1,"") | R14: =((Q14-P14)-(Q15-P15)) -> 0 | V14: =IF(OR(C14="SiA",C14="SeA"),1,"")
A15: S 02 | D15: S
B16: =DATE(Calendrier!$A$1,_xlfn.SHEET()-1,(ROW()/2)-1) -> 43531 | D16: M | E16: =IF(C16="","",IF(OR(C16="Cp",C16="AM",C16="Re",C16="Fe"),"",1)) | F16: 8 | G16: 10 | H16: =((G16-F16)+(G17-F17)) -> 2 | K16: =IF(OR(C16="Cp"),1,"") | P16: 18 | Q16: 20 | R16: =((Q16-P16)-(Q17-P17)) -> 2 | V16: =IF(OR(C16="SiA",C16="SeA"),1,"")
A17: =SUM(H16:H31)+SUM(R16:R31) -> 4 | D17: S
B18: =DATE(Calendrier!$A$1,_xlfn.SHEET()-1,(ROW()/2)-1) -> 43532 | D18: M | E18: =IF(C18="","",IF(OR(C18="Cp",C18="AM",C18="Re",C18="Fe"),"",1)) | H18: =((G18-F18)+(G19-F19)) -> 0 | K18: =IF(OR(C18="Cp"),1,"") | R18: =((Q18-P18)-(Q19-P19)) -> 0 | V18: =IF(OR(C18="SiA",C18="SeA"),1,"")
D19: S
B20: =DATE(Calendrier!$A$1,_xlfn.SHEET()-1,(ROW()/2)-1) -> 43533 | D20: M | E20: =IF(C20="","",IF(OR(C20="Cp",C20="AM",C20="Re",C20="Fe"),"",1)) | H20: =((G20-F20)+(G21-F21)) -> 0 | K20: =IF(OR(C20="Cp"),1,"") | R20: =((Q20-P20)-(Q21-P21)) -> 0 | V20: =IF(OR(C20="SiA",C20="SeA"),1,"")
D21: S
B22: =DATE(Calendrier!$A$1,_xlfn.SHEET()-1,(ROW()/2)-1) -> 43534 | D22: M | E22: =IF(C22="","",IF(OR(C22="Cp",C22="AM",C22="Re",C22="Fe"),"",1)) | H22: =((G22-F22)+(G23-F23)) -> 0 | K22: =IF(OR(C22="Cp"),1,"") | R22: =((Q22-P22)-(Q23-P23)) -> 0 | V22: =IF(OR(C22="SiA",C22="SeA"),1,"")
D23: S
B24: =DATE(Calendrier!$A$1,_xlfn.SHEET()-1,(ROW()/2)-1) -> 43535 | D24: M | E24: =IF(C24="","",IF(OR(C24="Cp",C24="AM",C24="Re",C24="Fe"),"",1)) | H24: =((G24-F24)+(G25-F25)) -> 0 | K24: =IF(OR(C24="Cp"),1,"") | R24: =((Q24-P24)-(Q25-P25)) -> 0 | V24: =IF(OR(C24="SiA",C24="SeA"),1,"")
D25: S
B26: =DATE(Calendrier!$A$1,_xlfn.SHEET()-1,(ROW()/2)-1) -> 43536 | D26: M | E26: =IF(C26="","",IF(OR(C26="Cp",C26="AM",C26="Re",C26="Fe"),"",1)) | H26: =((G26-F26)+(G27-F27)) -> 0 | K26: =IF(OR(C26="Cp"),1,"") | R26: =((Q26-P26)-(Q27-P27)) -> 0 | V26: =IF(OR(C26="SiA",C26="SeA"),1,"")
D27: S
B28: =DATE(Calendrier!$A$1,_xlfn.SHEET()-1,(ROW()/2)-1) -> 43537 | D28: M | E28: =IF(C28="","",IF(OR(C28="Cp",C28="AM",C28="Re",C28="Fe"),"",1)) | H28: =((G28-F28)+(G29-F29)) -> 0 | K28: =IF(OR(C28="Cp"),1,"") | R28: =((Q28-P28)-(Q29-P29)) -> 0 | V28: =IF(OR(C28="SiA",C28="SeA"),1,"")
A29: S 03 | D29: S
B30: =DATE(Calendrier!$A$1,_xlfn.SHEET()-1,(ROW()/2)-1) -> 43538 | D30: M | E30: =IF(C30="","",IF(OR(C30="Cp",C30="AM",C30="Re",C30="Fe"),"",1)) | H30: =((G30-F30)+(G31-F31)) -> 0 | K30: =IF(OR(C30="Cp"),1,"") | R30: =((Q30-P30)-(Q31-P31)) -> 0 | V30: =IF(OR(C30="SiA",C30="SeA"),1,"")
D31: S
B32: =DATE(Calendrier!$A$1,_xlfn.SHEET()-1,(ROW()/2)-1) -> 43539 | D32: M | E32: =IF(C32="","",IF(OR(C32="Cp",C32="AM",C32="Re",C32="Fe"),"",1)) | H32: =((G32-F32)+(G33-F33)) -> 0 | K32: =IF(OR(C32="Cp"),1,"") | R32: =((Q32-P32)-(Q33-P33)) -> 0 | V32: =IF(OR(C32="SiA",C32="SeA"),1,"")
D33: S
B34: =DATE(Calendrier!$A$1,_xlfn.SHEET()-1,(ROW()/2)-1) -> 43540 | D34: M | E34: =IF(C34="","",IF(OR(C34="Cp",C34="AM",C34="Re",C34="Fe"),"",1)) | H34: =((G34-F34)+(G35-F35)) -> 0 | K34: =IF(OR(C34="Cp"),1,"") | R34: =((Q34-P34)-(Q35-P35)) -> 0 | V34: =IF(OR(C34="SiA",C34="SeA"),1,"")
D35: S
B36: =DATE(Calendrier!$A$1,_xlfn.SHEET()-1,(ROW()/2)-1) -> 43541 | D36: M | E36: =IF(C36="","",IF(OR(C36="Cp",C36="AM",C36="Re",C36="Fe"),"",1)) | H36: =((G36-F36)+(G37-F37)) -> 0 | K36: =IF(OR(C36="Cp"),1,"") | R36: =((Q36-P36)-(Q37-P37)) -> 0 | V36: =IF(OR(C36="SiA",C36="SeA"),1,"")
D37: S
B38: =DATE(Calendrier!$A$1,_xlfn.SHEET()-1,(ROW()/2)-1) -> 43542 | D38: M | E38: =IF(C38="","",IF(OR(C38="Cp",C38="AM",C38="Re",C38="Fe"),"",1)) | H38: =((G38-F38)+(G39-F39)) -> 0 | R38: =((Q38-P38)-(Q39-P39)) -> 0 | V38: =IF(OR(C38="SiA",C38="SeA"),1,"")
D39: S
B40: =DATE(Calendrier!$A$1,_xlfn.SHEET()-1,(ROW()/2)-1) -> 43543 | D40: M | E40: =IF(C40="","",IF(OR(C40="Cp",C40="AM",C40="Re",C40="Fe"),"",1)) | H40: =((G40-F40)+(G41-F41)) -> 0 | K40: =IF(OR(C40="Cp"),1,"") | R40: =((Q40-P40)-(Q41-P41)) -> 0 | V40: =IF(OR(C40="SiA",C40="SeA"),1,"")
D41: S
B42: =DATE(Calendrier!$A$1,_xlfn.SHEET()-1,(ROW()/2)-1) -> 43544 | D42: M | E42: =IF(C42="","",IF(OR(C42="Cp",C42="AM",C42="Re",C42="Fe"),"",1)) | H42: =((G42-F42)+(G43-F43)) -> 0 | K42: =IF(OR(C42="Cp"),1,"") | R42: =((Q42-P42)-(Q43-P43)) -> 0 | V42: =IF(OR(C42="SiA",C42="SeA"),1,"")
D43: S
B44: =DATE(Calendrier!$A$1,_xlfn.SHEET()-1,(ROW()/2)-1) -> 43545 | D44: M | E44: =IF(C44="","",IF(OR(C44="Cp",C44="AM",C44="Re",C44="Fe"),"",1)) | H44: =((G44-F44)+(G45-F45)) -> 0 | K44: =IF(OR(C44="Cp"),1,"") | R44: =((Q44-P44)-(Q45-P45)) -> 0 | V44: =IF(OR(C44="SiA",C44="SeA"),1,"")
D45: S
B46: =DATE(Calendrier!$A$1,_xlfn.SHEET()-1,(ROW()/2)-1) -> 43546 | D46: M | E46: =IF(C46="","",IF(OR(C46="Cp",C46="AM",C46="Re",C46="Fe"),"",1)) | H46: =((G46-F46)+(G47-F47)) -> 0 | K46: =IF(OR(C46="Cp"),1,"") | R46: =((Q46-P46)-(Q47-P47)) -> 0 | V46: =IF(OR(C46="SiA",C46="SeA"),1,"")
D47: S
B48: =DATE(Calendrier!$A$1,_xlfn.SHEET()-1,(ROW()/2)-1) -> 43547 | D48: M | E48: =IF(C48="","",IF(OR(C48="Cp",C48="AM",C48="Re",C48="Fe"),"",1)) | H48: =((G48-F48)+(G49-F49)) -> 0 | K48: =IF(OR(C48="Cp"),1,"") | R48: =((Q48-P48)-(Q49-P49)) -> 0 | V48: =IF(OR(C48="SiA",C48="SeA"),1,"")
D49: S
B50: =DATE(Calendrier!$A$1,_xlfn.SHEET()-1,(ROW()/2)-1) -> 43548 | D50: M | E50: =IF(C50="","",IF(OR(C50="Cp",C50="AM",C50="Re",C50="Fe"),"",1)) | H50: =((G50-F50)+(G51-F51)) -> 0 | K50: =IF(OR(C50="Cp"),1,"") | R50: =((Q50-P50)-(Q51-P51)) -> 0 | V50: =IF(OR(C50="SiA",C50="SeA"),1,"")
D51: S
B52: =DATE(Calendrier!$A$1,_xlfn.SHEET()-1,(ROW()/2)-1) -> 43549 | D52: M | E52: =IF(C52="","",IF(OR(C52="Cp",C52="AM",C52="Re",C52="Fe"),"",1)) | H52: =((G52-F52)+(G53-F53)) -> 0 | K52: =IF(OR(C52="Cp"),1,"") | R52: =((Q52-P52)-(Q53-P53)) -> 0 | V52: =IF(OR(C52="SiA",C52="SeA"),1,"")
D53: S
B54: =DATE(Calendrier!$A$1,_xlfn.SHEET()-1,(ROW()/2)-1) -> 43550 | D54: M | E54: =IF(C54="","",IF(OR(C54="Cp",C54="AM",C54="Re",C54="Fe"),"",1)) | H54: =((G54-F54)+(G55-F55)) -> 0 | K54: =IF(OR(C54="Cp"),1,"") | R54: =((Q54-P54)-(Q55-P55)) -> 0 | V54: =IF(OR(C54="SiA",C54="SeA"),1,"")
D55: S
B56: =DATE(Calendrier!$A$1,_xlfn.SHEET()-1,(ROW()/2)-1) -> 43551 | D56: M | E56: =IF(C56="","",IF(OR(C56="Cp",C56="AM",C56="Re",C56="Fe"),"",1)) | H56: =((G56-F56)+(G57-F57)) -> 0 | K56: =IF(OR(C56="Cp"),1,"") | R56: =((Q56-P56)-(Q57-P57)) -> 0 | V56: =IF(OR(C56="SiA",C56="SeA"),1,"")
D57: S
B58: =DATE(Calendrier!$A$1,_xlfn.SHEET()-1,(ROW()/2)-1) -> 43552 | D58: M | E58: =IF(C58="","",IF(OR(C58="Cp",C58="AM",C58="Re",C58="Fe"),"",1)) | H58: =((G58-F58)+(G59-F59)) -> 0 | K58: =IF(OR(C58="Cp"),1,"") | R58: =((Q58-P58)-(Q59-P59)) -> 0 | V58: =IF(OR(C58="SiA",C58="SeA"),1,"")
D59: S
B60: =DATE(Calendrier!$A$1,_xlfn.SHEET()-1,(ROW()/2)-1) -> 43553 | D60: M | E60: =IF(C60="","",IF(OR(C60="Cp",C60="AM",C60="Re",C60="Fe"),"",1)) | H60: =((G60-F60)+(G61-F61)) -> 0 | K60: =IF(OR(C60="Cp"),1,"") | R60: =((Q60-P60)-(Q61-P61)) -> 0 | V60: =IF(OR(C60="SiA",C60="SeA"),1,"")
D61: S
B62: =DATE(Calendrier!$A$1,_xlfn.SHEET()-1,(ROW()/2)-1) -> 43554 | D62: M | E62: =IF(C62="","",IF(OR(C62="Cp",C62="AM",C62="Re",C62="Fe"),"",1)) | H62: =((G62-F62)+(G63-F63)) -> 0 | K62: =IF(OR(C62="Cp"),1,"") | R62: =((Q62-P62)-(Q63-P63)) -> 0 | V62: =IF(OR(C62="SiA",C62="SeA"),1,"")
D63: S
B64: =DATE(Calendrier!$A$1,_xlfn.SHEET()-1,(ROW()/2)-1) -> 43555 | D64: M | E64: =IF(C64="","",IF(OR(C64="Cp",C64="AM",C64="Re",C64="Fe"),"",1)) | H64: =((G64-F64)+(G65-F65)) -> 0 | K64: =IF(OR(C64="Cp"),1,"") | R64: =((Q64-P64)-(Q65-P65)) -> 0 | V64: =IF(OR(C64="SiA",C64="SeA"),1,"")
D65: S
B66: TOTAUX | E66: =SUM(E4:E65) -> 2 | F66: =SUM(H4:H65) -> 4 | I66: =SUM(I4:I65) -> 0 | J66: =SUM(J4:J65) -> 0 | K66: =SUM(K4:K65) -> 1 | N66: TOTAUX | O66: =SUM(O4:O65) -> 0 | R66: =SUM(R4:R30) -> 4 | S66: =SUM(S4:S65) -> 0 | T66: =SUM(T4:T65) -> 0 | U66: =SUM(U4:U65) -> 0 | V66: =SUM(V4:V65) -> 2 | W66: =SUM(W4:W65) -> 0

Sheet Avr
Y2: =SUM(O4:O30) -> 0
A3: S 01 | B3: DATE | C3: SERV | E3: J | F3: HA | G3: HD | I3: K | J3: Ser | K3: CP | L3: MOTIF DU DEPLACEMENT | O3: Panniers | P3: HSD | Q3: HSF | R3: H.Sup | S3: Maj Nuit | T3: Maj Dim. | U3: Maj J.Fé. | V3: Astreinte | W3: SSLIA | Y3: =SUM(O30:O30) -> 0
B4: =DATE(Calendrier!$A$1,_xlfn.SHEET()-1,(ROW()/2)-1) -> 43556 | C4: SiA | D4: M | E4: =IF(C4="","",IF(OR(C4="Cp",C4="AM",C4="Re",C4="Fe"),"",1)) -> 1 | F4: 8 | G4: 10 | H4: =((G4-F4)+(G5-F5)) -> 2 | K4: =IF(OR(C4="Cp"),1,"") | P4: 18 | Q4: 20 | R4: =((Q4-P4)-(Q5-P5)) -> 2 | V4: =IF(OR(C4="SiA",C4="SeA"),1,"") -> 1 | Y4: =SUM(#REF!) -> #REF!
A5: =SUM(H4:H15)+SUM(R4:R15) -> 4 | D5: S
B6: =DATE(Calendrier!$A$1,_xlfn.SHEET()-1,(ROW()/2)-1) -> 43557 | C6: Cp | D6: M | E6: =IF(C6="","",IF(OR(C6="Cp",C6="AM",C6="Re",C6="Fe"),"",1)) | H6: =((G6-F6)+(G7-F7)) -> 0 | K6: =IF(OR(C6="Cp"),1,"") -> 1 | R6: =((Q6-P6)-(Q7-P7)) -> 0 | V6: =IF(OR(C6="SiA",C6="SeA"),1,"") | Y6: =SUM(#REF!) -> #REF!
D7: S
B8: =DATE(Calendrier!$A$1,_xlfn.SHEET()-1,(ROW()/2)-1) -> 43558 | C8: SeA | D8: M | E8: =IF(C8="","",IF(OR(C8="Cp",C8="AM",C8="Re",C8="Fe"),"",1)) -> 1 | H8: =((G8-F8)+(G9-F9)) -> 0 | K8: =IF(OR(C8="Cp"),1,"") | R8: =((Q8-P8)-(Q9-P9)) -> 0 | V8: =IF(OR(C8="SiA",C8="SeA"),1,"") -> 1
D9: S
B10: =DATE(Calendrier!$A$1,_xlfn.SHEET()-1,(ROW()/2)-1) -> 43559 | D10: M | E10: =IF(C10="","",IF(OR(C10="Cp",C10="AM",C10="Re",C10="Fe"),"",1)) | H10: =((G10-F10)+(G11-F11)) -> 0 | K10: =IF(OR(C10="Cp"),1,"") | R10: =((Q10-P10)-(Q11-P11)) -> 0 | V10: =IF(OR(C10="SiA",C10="SeA"),1,"")
D11: S
B12: =DATE(Calendrier!$A$1,_xlfn.SHEET()-1,(ROW()/2)-1) -> 43560 | D12: M | E12: =IF(C12="","",IF(OR(C12="Cp",C12="AM",C12="Re",C12="Fe"),"",1)) | H12: =((G12-F12)+(G13-F13)) -> 0 | K12: =IF(OR(C12="Cp"),1,"") | R12: =((Q12-P12)-(Q13-P13)) -> 0 | V12: =IF(OR(C12="SiA",C12="SeA"),1,"")
D13: S
B14: =DATE(Calendrier!$A$1,_xlfn.SHEET()-1,(ROW()/2)-1) -> 43561 | D14: M | E14: =IF(C14="","",IF(OR(C14="Cp",C14="AM",C14="Re",C14="Fe"),"",1)) | H14: =((G14-F14)+(G15-F15)) -> 0 | K14: =IF(OR(C14="Cp"),1,"") | R14: =((Q14-P14)-(Q15-P15)) -> 0 | V14: =IF(OR(C14="SiA",C14="SeA"),1,"")
A15: S 02 | D15: S
B16: =DATE(Calendrier!$A$1,_xlfn.SHEET()-1,(ROW()/2)-1) -> 43562 | D16: M | E16: =IF(C16="","",IF(OR(C16="Cp",C16="AM",C16="Re",C16="Fe"),"",1)) | F16: 8 | G16: 10 | H16: =((G16-F16)+(G17-F17)) -> 2 | K16: =IF(OR(C16="Cp"),1,"") | P16: 18 | Q16: 20 | R16: =((Q16-P16)-(Q17-P17)) -> 2 | V16: =IF(OR(C16="SiA",C16="SeA"),1,"")
A17: =SUM(H16:H31)+SUM(R16:R31) -> 4 | D17: S
B18: =DATE(Calendrier!$A$1,_xlfn.SHEET()-1,(ROW()/2)-1) -> 43563 | D18: M | E18: =IF(C18="","",IF(OR(C18="Cp",C18="AM",C18="Re",C18="Fe"),"",1)) | H18: =((G18-F18)+(G19-F19)) -> 0 | K18: =IF(OR(C18="Cp"),1,"") | R18: =((Q18-P18)-(Q19-P19)) -> 0 | V18: =IF(OR(C18="SiA",C18="SeA"),1,"")
D19: S
B20: =DATE(Calendrier!$A$1,_xlfn.SHEET()-1,(ROW()/2)-1) -> 43564 | D20: M | E20: =IF(C20="","",IF(OR(C20="Cp",C20="AM",C20="Re",C20="Fe"),"",1)) | H20: =((G20-F20)+(G21-F21)) -> 0 | K20: =IF(OR(C20="Cp"),1,"") | R20: =((Q20-P20)-(Q21-P21)) -> 0 | V20: =IF(OR(C20="SiA",C20="SeA"),1,"")
D21: S
B22: =DATE(Calendrier!$A$1,_xlfn.SHEET()-1,(ROW()/2)-1) -> 43565 | D22: M | E22: =IF(C22="","",IF(OR(C22="Cp",C22="AM",C22="Re",C22="Fe"),"",1)) | H22: =((G22-F22)+(G23-F23)) -> 0 | K22: =IF(OR(C22="Cp"),1,"") | R22: =((Q22-P22)-(Q23-P23)) -> 0 | V22: =IF(OR(C22="SiA",C22="SeA"),1,"")
D23: S
B24: =DATE(Calendrier!$A$1,_xlfn.SHEET()-1,(ROW()/2)-1) -> 43566 | D24: M | E24: =IF(C24="","",IF(OR(C24="Cp",C24="AM",C24="Re",C24="Fe"),"",1)) | H24: =((G24-F24)+(G25-F25)) -> 0 | K24: =IF(OR(C24="Cp"),1,"") | R24: =((Q24-P24)-(Q25-P25)) -> 0 | V24: =IF(OR(C24="SiA",C24="SeA"),1,"")
D25: S
B26: =DATE(Calendrier!$A$1,_xlfn.SHEET()-1,(ROW()/2)-1) -> 43567 | D26: M | E26: =IF(C26="","",IF(OR(C26="Cp",C26="AM",C26="Re",C26="Fe"),"",1)) | H26: =((G26-F26)+(G27-F27)) -> 0 | K26: =IF(OR(C26="Cp"),1,"") | R26: =((Q26-P26)-(Q27-P27)) -> 0 | V26: =IF(OR(C26="SiA",C26="SeA"),1,"")
D27: S
B28: =DATE(Calendrier!$A$1,_xlfn.SHEET()-1,(ROW()/2)-1) -> 43568 | D28: M | E28: =IF(C28="","",IF(OR(C28="Cp",C28="AM",C28="Re",C28="Fe"),"",1)) | H28: =((G28-F28)+(G29-F29)) -> 0 | K28: =IF(OR(C28="Cp"),1,"") | R28: =((Q28-P28)-(Q29-P29)) -> 0 | V28: =IF(OR(C28="SiA",C28="SeA"),1,"")
A29: S 03 | D29: S
B30: =DATE(Calendrier!$A$1,_xlfn.SHEET()-1,(ROW()/2)-1) -> 43569 | D30: M | E30: =IF(C30="","",IF(OR(C30="Cp",C30="AM",C30="Re",C30="Fe"),"",1)) | H30: =((G30-F30)+(G31-F31)) -> 0 | K30: =IF(OR(C30="Cp"),1,"") | R30: =((Q30-P30)-(Q31-P31)) -> 0 | V30: =IF(OR(C30="SiA",C30="SeA"),1,"")
D31: S
B32: =DATE(Calendrier!$A$1,_xlfn.SHEET()-1,(ROW()/2)-1) -> 43570 | D32: M | E32: =IF(C32="","",IF(OR(C32="Cp",C32="AM",C32="Re",C32="Fe"),"",1)) | H32: =((G32-F32)+(G33-F33)) -> 0 | K32: =IF(OR(C32="Cp"),1,"") | R32: =((Q32-P32)-(Q33-P33)) -> 0 | V32: =IF(OR(C32="SiA",C32="SeA"),1,"")
D33: S
B34: =DATE(Calendrier!$A$1,_xlfn.SHEET()-1,(ROW()/2)-1) -> 43571 | D34: M | E34: =IF(C34="","",IF(OR(C34="Cp",C34="AM",C34="Re",C34="Fe"),"",1)) | H34: =((G34-F34)+(G35-F35)) -> 0 | K34: =IF(OR(C34="Cp"),1,"") | R34: =((Q34-P34)-(Q35-P35)) -> 0 | V34: =IF(OR(C34="SiA",C34="SeA"),1,"")
D35: S
B36: =DATE(Calendrier!$A$1,_xlfn.SHEET()-1,(ROW()/2)-1) -> 43572 | D36: M | E36: =IF(C36="","",IF(OR(C36="Cp",C36="AM",C36="Re",C36="Fe"),"",1)) | H36: =((G36-F36)+(G37-F37)) -> 0 | K36: =IF(OR(C36="Cp"),1,"") | R36: =((Q36-P36)-(Q37-P37)) -> 0 | V36: =IF(OR(C36="SiA",C36="SeA"),1,"")
D37: S
B38: =DATE(Calendrier!$A$1,_xlfn.SHEET()-1,(ROW()/2)-1) -> 43573 | D38: M | E38: =IF(C38="","",IF(OR(C38="Cp",C38="AM",C38="Re",C38="Fe"),"",1)) | H38: =((G38-F38)+(G39-F39)) -> 0 | R38: =((Q38-P38)-(Q39-P39)) -> 0 | V38: =IF(OR(C38="SiA",C38="SeA"),1,"")
D39: S
B40: =DATE(Calendrier!$A$1,_xlfn.SHEET()-1,(ROW()/2)-1) -> 43574 | D40: M | E40: =IF(C40="","",IF(OR(C40="Cp",C40="AM",C40="Re",C40="Fe"),"",1)) | H40: =((G40-F40)+(G41-F41)) -> 0 | K40: =IF(OR(C40="Cp"),1,"") | R40: =((Q40-P40)-(Q41-P41)) -> 0 | V40: =IF(OR(C40="SiA",C40="SeA"),1,"")
D41: S
B42: =DATE(Calendrier!$A$1,_xlfn.SHEET()-1,(ROW()/2)-1) -> 43575 | D42: M | E42: =IF(C42="","",IF(OR(C42="Cp",C42="AM",C42="Re",C42="Fe"),"",1)) | H42: =((G42-F42)+(G43-F43)) -> 0 | K42: =IF(OR(C42="Cp"),1,"") | R42: =((Q42-P42)-(Q43-P43)) -> 0 | V42: =IF(OR(C42="SiA",C42="SeA"),1,"")
D43: S
B44: =DATE(Calendrier!$A$1,_xlfn.SHEET()-1,(ROW()/2)-1) -> 43576 | D44: M | E44: =IF(C44="","",IF(OR(C44="Cp",C44="AM",C44="Re",C44="Fe"),"",1)) | H44: =((G44-F44)+(G45-F45)) -> 0 | K44: =IF(OR(C44="Cp"),1,"") | R44: =((Q44-P44)-(Q45-P45)) -> 0 | V44: =IF(OR(C44="SiA",C44="SeA"),1,"")
D45: S
B46: =DATE(Calendrier!$A$1,_xlfn.SHEET()-1,(ROW()/2)-1) -> 43577 | D46: M | E46: =IF(C46="","",IF(OR(C46="Cp",C46="AM",C46="Re",C46="Fe"),"",1)) | H46: =((G46-F46)+(G47-F47)) -> 0 | K46: =IF(OR(C46="Cp"),1,"") | R46: =((Q46-P46)-(Q47-P47)) -> 0 | V46: =IF(OR(C46="SiA",C46="SeA"),1,"")
D47: S
B48: =DATE(Calendrier!$A$1,_xlfn.SHEET()-1,(ROW()/2)-1) -> 43578 | D48: M | E48: =IF(C48="","",IF(OR(C48="Cp",C48="AM",C48="Re",C48="Fe"),"",1)) | H48: =((G48-F48)+(G49-F49)) -> 0 | K48: =IF(OR(C48="Cp"),1,"") | R48: =((Q48-P48)-(Q49-P49)) -> 0 | V48: =IF(OR(C48="SiA",C48="SeA"),1,"")
D49: S
B50: =DATE(Calendrier!$A$1,_xlfn.SHEET()-1,(ROW()/2)-1) -> 43579 | D50: M | E50: =IF(C50="","",IF(OR(C50="Cp",C50="AM",C50="Re",C50="Fe"),"",1)) | H50: =((G50-F50)+(G51-F51)) -> 0 | K50: =IF(OR(C50="Cp"),1,"") | R50: =((Q50-P50)-(Q51-P51)) -> 0 | V50: =IF(OR(C50="SiA",C50="SeA"),1,"")
D51: S
B52: =DATE(Calendrier!$A$1,_xlfn.SHEET()-1,(ROW()/2)-1) -> 43580 | D52: M | E52: =IF(C52="","",IF(OR(C52="Cp",C52="AM",C52="Re",C52="Fe"),"",1)) | H52: =((G52-F52)+(G53-F53)) -> 0 | K52: =IF(OR(C52="Cp"),1,"") | R52: =((Q52-P52)-(Q53-P53)) -> 0 | V52: =IF(OR(C52="SiA",C52="SeA"),1,"")
D53: S
B54: =DATE(Calendrier!$A$1,_xlfn.SHEET()-1,(ROW()/2)-1) -> 43581 | D54: M | E54: =IF(C54="","",IF(OR(C54="Cp",C54="AM",C54="Re",C54="Fe"),"",1)) | H54: =((G54-F54)+(G55-F55)) -> 0 | K54: =IF(OR(C54="Cp"),1,"") | R54: =((Q54-P54)-(Q55-P55)) -> 0 | V54: =IF(OR(C54="SiA",C54="SeA"),1,"")
D55: S
B56: =DATE(Calendrier!$A$1,_xlfn.SHEET()-1,(ROW()/2)-1) -> 43582 | D56: M | E56: =IF(C56="","",IF(OR(C56="Cp",C56="AM",C56="Re",C56="Fe"),"",1)) | H56: =((G56-F56)+(G57-F57)) -> 0 | K56: =IF(OR(C56="Cp"),1,"") | R56: =((Q56-P56)-(Q57-P57)) -> 0 | V56: =IF(OR(C56="SiA",C56="SeA"),1,"")
D57: S
B58: =DATE(Calendrier!$A$1,_xlfn.SHEET()-1,(ROW()/2)-1) -> 43583 | D58: M | E58: =IF(C58="","",IF(OR(C58="Cp",C58="AM",C58="Re",C58="Fe"),"",1)) | H58: =((G58-F58)+(G59-F59)) -> 0 | K58: =IF(OR(C58="Cp"),1,"") | R58: =((Q58-P58)-(Q59-P59)) -> 0 | V58: =IF(OR(C58="SiA",C58="SeA"),1,"")
D59: S
B60: =DATE(Calendrier!$A$1,_xlfn.SHEET()-1,(ROW()/2)-1) -> 43584 | D60: M | E60: =IF(C60="","",IF(OR(C60="Cp",C60="AM",C60="Re",C60="Fe"),"",1)) | H60: =((G60-F60)+(G61-F61)) -> 0 | K60: =IF(OR(C60="Cp"),1,"") | R60: =((Q60-P60)-(Q61-P61)) -> 0 | V60: =IF(OR(C60="SiA",C60="SeA"),1,"")
D61: S
B62: =DATE(Calendrier!$A$1,_xlfn.SHEET()-1,(ROW()/2)-1) -> 43585 | D62: M | E62: =IF(C62="","",IF(OR(C62="Cp",C62="AM",C62="Re",C62="Fe"),"",1)) | H62: =((G62-F62)+(G63-F63)) -> 0 | K62: =IF(OR(C62="Cp"),1,"") | R62: =((Q62-P62)-(Q63-P63)) -> 0 | V62: =IF(OR(C62="SiA",C62="SeA"),1,"")
D63: S
B64: 31 | D64: M | E64: =IF(C64="","",IF(OR(C64="Cp",C64="AM",C64="Re",C64="Fe"),"",1)) | H64: =((G64-F64)+(G65-F65)) -> 0 | K64: =IF(OR(C64="Cp"),1,"") | R64: =((Q64-P64)-(Q65-P65)) -> 0 | V64: =IF(OR(C64="SiA",C64="SeA"),1,"")
D65: S
B66: TOTAUX | E66: =SUM(E4:E65) -> 2 | F66: =SUM(H4:H65) -> 4 | I66: =SUM(I4:I65) -> 0 | J66: =SUM(J4:J65) -> 0 | K66: =SUM(K4:K65) -> 1 | N66: TOTAUX | O66: =SUM(O4:O65) -> 0 | R66: =SUM(R4:R30) -> 4 | S66: =SUM(S4:S65) -> 0 | T66: =SUM(T4:T65) -> 0 | U66: =SUM(U4:U65) -> 0 | V66: =SUM(V4:V65) -> 2 | W66: =SUM(W4:W65) -> 0

Sheet Mai
Y2: =SUM(O4:O30) -> 0
A3: S 01 | B3: DATE | C3: SERV | E3: J | F3: HA | G3: HD | I3: K | J3: Ser | K3: CP | L3: MOTIF DU DEPLACEMENT | O3: Panniers | P3: HSD | Q3: HSF | R3: H.Sup | S3: Maj Nuit | T3: Maj Dim. | U3: Maj J.Fé. | V3: Astreinte | W3: SSLIA | Y3: =SUM(O30:O30) -> 0
B4: =DATE(Calendrier!$A$1,_xlfn.SHEET()-1,(ROW()/2)-1) -> 43586 | C4: SiA | D4: M | E4: =IF(C4="","",IF(OR(C4="Cp",C4="AM",C4="Re",C4="Fe"),"",1)) -> 1 | F4: 8 | G4: 10 | H4: =((G4-F4)+(G5-F5)) -> 2 | K4: =IF(OR(C4="Cp"),1,"") | P4: 18 | Q4: 20 | R4: =((Q4-P4)-(Q5-P5)) -> 2 | V4: =IF(OR(C4="SiA",C4="SeA"),1,"") -> 1 | Y4: =SUM(#REF!) -> #REF!
A5: =SUM(H4:H15)+SUM(R4:R15) -> 4 | D5: S
B6: =DATE(Calendrier!$A$1,_xlfn.SHEET()-1,(ROW()/2)-1) -> 43587 | C6: Cp | D6: M | E6: =IF(C6="","",IF(OR(C6="Cp",C6="AM",C6="Re",C6="Fe"),"",1)) | H6: =((G6-F6)+(G7-F7)) -> 0 | K6: =IF(OR(C6="Cp"),1,"") -> 1 | R6: =((Q6-P6)-(Q7-P7)) -> 0 | V6: =IF(OR(C6="SiA",C6="SeA"),1,"") | Y6: =SUM(#REF!) -> #REF!
D7: S
B8: =DATE(Calendrier!$A$1,_xlfn.SHEET()-1,(ROW()/2)-1) -> 43588 | C8: SeA | D8: M | E8: =IF(C8="","",IF(OR(C8="Cp",C8="AM",C8="Re",C8="Fe"),"",1)) -> 1 | H8: =((G8-F8)+(G9-F9)) -> 0 | K8: =IF(OR(C8="Cp"),1,"") | R8: =((Q8-P8)-(Q9-P9)) -> 0 | V8: =IF(OR(C8="SiA",C8="SeA"),1,"") -> 1
D9: S
B10: =DATE(Calendrier!$A$1,_xlfn.SHEET()-1,(ROW()/2)-1) -> 43589 | D10: M | E10: =IF(C10="","",IF(OR(C10="Cp",C10="AM",C10="Re",C10="Fe"),"",1)) | H10: =((G10-F10)+(G11-F11)) -> 0 | K10: =IF(OR(C10="Cp"),1,"") | R10: =((Q10-P10)-(Q11-P11)) -> 0 | V10: =IF(OR(C10="SiA",C10="SeA"),1,"")
D11: S
B12: =DATE(Calendrier!$A$1,_xlfn.SHEET()-1,(ROW()/2)-1) -> 43590 | D12: M | E12: =IF(C12="","",IF(OR(C12="Cp",C12="AM",C12="Re",C12="Fe"),"",1)) | H12: =((G12-F12)+(G13-F13)) -> 0 | K12: =IF(OR(C12="Cp"),1,"") | R12: =((Q12-P12)-(Q13-P13)) -> 0 | V12: =IF(OR(C12="SiA",C12="SeA"),1,"")
D13: S
B14: =DATE(Calendrier!$A$1,_xlfn.SHEET()-1,(ROW()/2)-1) -> 43591 | D14: M | E14: =IF(C14="","",IF(OR(C14="Cp",C14="AM",C14="Re",C14="Fe"),"",1)) | H14: =((G14-F14)+(G15-F15)) -> 0 | K14: =IF(OR(C14="Cp"),1,"") | R14: =((Q14-P14)-(Q15-P15)) -> 0 | V14: =IF(OR(C14="SiA",C14="SeA"),1,"")
A15: S 02 | D15: S
B16: =DATE(Calendrier!$A$1,_xlfn.SHEET()-1,(ROW()/2)-1) -> 43592 | D16: M | E16: =IF(C16="","",IF(OR(C16="Cp",C16="AM",C16="Re",C16="Fe"),"",1)) | F16: 8 | G16: 10 | H16: =((G16-F16)+(G17-F17)) -> 2 | K16: =IF(OR(C16="Cp"),1,"") | P16: 18 | Q16: 20 | R16: =((Q16-P16)-(Q17-P17)) -> 2 | V16: =IF(OR(C16="SiA",C16="SeA"),1,"")
A17: =SUM(H16:H31)+SUM(R16:R31) -> 4 | D17: S
B18: =DATE(Calendrier!$A$1,_xlfn.SHEET()-1,(ROW()/2)-1) -> 43593 | D18: M | E18: =IF(C18="","",IF(OR(C18="Cp",C18="AM",C18="Re",C18="Fe"),"",1)) | H18: =((G18-F18)+(G19-F19)) -> 0 | K18: =IF(OR(C18="Cp"),1,"") | R18: =((Q18-P18)-(Q19-P19)) -> 0 | V18: =IF(OR(C18="SiA",C18="SeA"),1,"")
D19: S
B20: =DATE(Calendrier!$A$1,_xlfn.SHEET()-1,(ROW()/2)-1) -> 43594 | D20: M | E20: =IF(C20="","",IF(OR(C20="Cp",C20="AM",C20="Re",C20="Fe"),"",1)) | H20: =((G20-F20)+(G21-F21)) -> 0 | K20: =IF(OR(C20="Cp"),1,"") | R20: =((Q20-P20)-(Q21-P21)) -> 0 | V20: =IF(OR(C20="SiA",C20="SeA"),1,"")
D21: S
B22: =DATE(Calendrier!$A$1,_xlfn.SHEET()-1,(ROW()/2)-1) -> 43595 | D22: M | E22: =IF(C22="","",IF(OR(C22="Cp",C22="AM",C22="Re",C22="Fe"),"",1)) | H22: =((G22-F22)+(G23-F23)) -> 0 | K22: =IF(OR(C22="Cp"),1,"") | R22: =((Q22-P22)-(Q23-P23)) -> 0 | V22: =IF(OR(C22="SiA",C22="SeA"),1,"")
D23: S
B24: =DATE(Calendrier!$A$1,_xlfn.SHEET()-1,(ROW()/2)-1) -> 43596 | D24: M | E24: =IF(C24="","",IF(OR(C24="Cp",C24="AM",C24="Re",C24="Fe"),"",1)) | H24: =((G24-F24)+(G25-F25)) -> 0 | K24: =IF(OR(C24="Cp"),1,"") | R24: =((Q24-P24)-(Q25-P25)) -> 0 | V24: =IF(OR(C24="SiA",C24="SeA"),1,"")
D25: S
B26: =DATE(Calendrier!$A$1,_xlfn.SHEET()-1,(ROW()/2)-1) -> 43597 | D26: M | E26: =IF(C26="","",IF(OR(C26="Cp",C26="AM",C26="Re",C26="Fe"),"",1)) | H26: =((G26-F26)+(G27-F27)) -> 0 | K26: =IF(OR(C26="Cp"),1,"") | R26: =((Q26-P26)-(Q27-P27)) -> 0 | V26: =IF(OR(C26="SiA",C26="SeA"),1,"")
D27: S
B28: =DATE(Calendrier!$A$1,_xlfn.SHEET()-1,(ROW()/2)-1) -> 43598 | D28: M | E28: =IF(C28="","",IF(OR(C28="Cp",C28="AM",C28="Re",C28="Fe"),"",1)) | H28: =((G28-F28)+(G29-F29)) -> 0 | K28: =IF(OR(C28="Cp"),1,"") | R28: =((Q28-P28)-(Q29-P29)) -> 0 | V28: =IF(OR(C28="SiA",C28="SeA"),1,"")
A29: S 03 | D29: S
B30: =DATE(Calendrier!$A$1,_xlfn.SHEET()-1,(ROW()/2)-1) -> 43599 | D30: M | E30: =IF(C30="","",IF(OR(C30="Cp",C30="AM",C30="Re",C30="Fe"),"",1)) | H30: =((G30-F30)+(G31-F31)) -> 0 | K30: =IF(OR(C30="Cp"),1,"") | R30: =((Q30-P30)-(Q31-P31)) -> 0 | V30: =IF(OR(C30="SiA",C30="SeA"),1,"")
D31: S
B32: =DATE(Calendrier!$A$1,_xlfn.SHEET()-1,(ROW()/2)-1) -> 43600 | D32: M | E32: =IF(C32="","",IF(OR(C32="Cp",C32="AM",C32="Re",C32="Fe"),"",1)) | H32: =((G32-F32)+(G33-F33)) -> 0 | K32: =IF(OR(C32="Cp"),1,"") | R32: =((Q32-P32)-(Q33-P33)) -> 0 | V32: =IF(OR(C32="SiA",C32="SeA"),1,"")
D33: S
B34: =DATE(Calendrier!$A$1,_xlfn.SHEET()-1,(ROW()/2)-1) -> 43601 | D34: M | E34: =IF(C34="","",IF(OR(C34="Cp",C34="AM",C34="Re",C34="Fe"),"",1)) | H34: =((G34-F34)+(G35-F35)) -> 0 | K34: =IF(OR(C34="Cp"),1,"") | R34: =((Q34-P34)-(Q35-P35)) -> 0 | V34: =IF(OR(C34="SiA",C34="SeA"),1,"")
D35: S
B36: =DATE(Calendrier!$A$1,_xlfn.SHEET()-1,(ROW()/2)-1) -> 43602 | D36: M | E36: =IF(C36="","",IF(OR(C36="Cp",C36="AM",C36="Re",C36="Fe"),"",1)) | H36: =((G36-F36)+(G37-F37)) -> 0 | K36: =IF(OR(C36="Cp"),1,"") | R36: =((Q36-P36)-(Q37-P37)) -> 0 | V36: =IF(OR(C36="SiA",C36="SeA"),1,"")
D37: S
B38: =DATE(Calendrier!$A$1,_xlfn.SHEET()-1,(ROW()/2)-1) -> 43603 | D38: M | E38: =IF(C38="","",IF(OR(C38="Cp",C38="AM",C38="Re",C38="Fe"),"",1)) | H38: =((G38-F38)+(G39-F39)) -> 0 | R38: =((Q38-P38)-(Q39-P39)) -> 0 | V38: =IF(OR(C38="SiA",C38="SeA"),1,"")
D39: S
B40: =DATE(Calendrier!$A$1,_xlfn.SHEET()-1,(ROW()/2)-1) -> 43604 | D40: M | E40: =IF(C40="","",IF(OR(C40="Cp",C40="AM",C40="Re",C40="Fe"),"",1)) | H40: =((G40-F40)+(G41-F41)) -> 0 | K40: =IF(OR(C40="Cp"),1,"") | R40: =((Q40-P40)-(Q41-P41)) -> 0 | V40: =IF(OR(C40="SiA",C40="SeA"),1,"")
D41: S
B42: =DATE(Calendrier!$A$1,_xlfn.SHEET()-1,(ROW()/2)-1) -> 43605 | D42: M | E42: =IF(C42="","",IF(OR(C42="Cp",C42="AM",C42="Re",C42="Fe"),"",1)) | H42: =((G42-F42)+(G43-F43)) -> 0 | K42: =IF(OR(C42="Cp"),1,"") | R42: =((Q42-P42)-(Q43-P43)) -> 0 | V42: =IF(OR(C42="SiA",C42="SeA"),1,"")
D43: S
B44: =DATE(Calendrier!$A$1,_xlfn.SHEET()-1,(ROW()/2)-1) -> 43606 | D44: M | E44: =IF(C44="","",IF(OR(C44="Cp",C44="AM",C44="Re",C44="Fe"),"",1)) | H44: =((G44-F44)+(G45-F45)) -> 0 | K44: =IF(OR(C44="Cp"),1,"") | R44: =((Q44-P44)-(Q45-P45)) -> 0 | V44: =IF(OR(C44="SiA",C44="SeA"),1,"")
D45: S
B46: =DATE(Calendrier!$A$1,_xlfn.SHEET()-1,(ROW()/2)-1) -> 43607 | D46: M | E46: =IF(C46="","",IF(OR(C46="Cp",C46="AM",C46="Re",C46="Fe"),"",1)) | H46: =((G46-F46)+(G47-F47)) -> 0 | K46: =IF(OR(C46="Cp"),1,"") | R46: =((Q46-P46)-(Q47-P47)) -> 0 | V46: =IF(OR(C46="SiA",C46="SeA"),1,"")
D47: S
B48: =DATE(Calendrier!$A$1,_xlfn.SHEET()-1,(ROW()/2)-1) -> 43608 | D48: M | E48: =IF(C48="","",IF(OR(C48="Cp",C48="AM",C48="Re",C48="Fe"),"",1)) | H48: =((G48-F48)+(G49-F49)) -> 0 | K48: =IF(OR(C48="Cp"),1,"") | R48: =((Q48-P48)-(Q49-P49)) -> 0 | V48: =IF(OR(C48="SiA",C48="SeA"),1,"")
D49: S
B50: =DATE(Calendrier!$A$1,_xlfn.SHEET()-1,(ROW()/2)-1) -> 43609 | D50: M | E50: =IF(C50="","",IF(OR(C50="Cp",C50="AM",C50="Re",C50="Fe"),"",1)) | H50: =((G50-F50)+(G51-F51)) -> 0 | K50: =IF(OR(C50="Cp"),1,"") | R50: =((Q50-P50)-(Q51-P51)) -> 0 | V50: =IF(OR(C50="SiA",C50="SeA"),1,"")
D51: S
B52: =DATE(Calendrier!$A$1,_xlfn.SHEET()-1,(ROW()/2)-1) -> 43610 | D52: M | E52: =IF(C52="","",IF(OR(C52="Cp",C52="AM",C52="Re",C52="Fe"),"",1)) | H52: =((G52-F52)+(G53-F53)) -> 0 | K52: =IF(OR(C52="Cp"),1,"") | R52: =((Q52-P52)-(Q53-P53)) -> 0 | V52: =IF(OR(C52="SiA",C52="SeA"),1,"")
D53: S
B54: =DATE(Calendrier!$A$1,_xlfn.SHEET()-1,(ROW()/2)-1) -> 43611 | D54: M | E54: =IF(C54="","",IF(OR(C54="Cp",C54="AM",C54="Re",C54="Fe"),"",1)) | H54: =((G54-F54)+(G55-F55)) -> 0 | K54: =IF(OR(C54="Cp"),1,"") | R54: =((Q54-P54)-(Q55-P55)) -> 0 | V54: =IF(OR(C54="SiA",C54="SeA"),1,"")
D55: S
B56: =DATE(Calendrier!$A$1,_xlfn.SHEET()-1,(ROW()/2)-1) -> 43612 | D56: M | E56: =IF(C56="","",IF(OR(C56="Cp",C56="AM",C56="Re",C56="Fe"),"",1)) | H56: =((G56-F56)+(G57-F57)) -> 0 | K56: =IF(OR(C56="Cp"),1,"") | R56: =((Q56-P56)-(Q57-P57)) -> 0 | V56: =IF(OR(C56="SiA",C56="SeA"),1,"")
D57: S
B58: =DATE(Calendrier!$A$1,_xlfn.SHEET()-1,(ROW()/2)-1) -> 43613 | D58: M | E58: =IF(C58="","",IF(OR(C58="Cp",C58="AM",C58="Re",C58="Fe"),"",1)) | H58: =((G58-F58)+(G59-F59)) -> 0 | K58: =IF(OR(C58="Cp"),1,"") | R58: =((Q58-P58)-(Q59-P59)) -> 0 | V58: =IF(OR(C58="SiA",C58="SeA"),1,"")
D59: S
B60: =DATE(Calendrier!$A$1,_xlfn.SHEET()-1,(ROW()/2)-1) -> 43614 | D60: M | E60: =IF(C60="","",IF(OR(C60="Cp",C60="AM",C60="Re",C60="Fe"),"",1)) | H60: =((G60-F60)+(G61-F61)) -> 0 | K60: =IF(OR(C60="Cp"),1,"") | R60: =((Q60-P60)-(Q61-P61)) -> 0 | V60: =IF(OR(C60="SiA",C60="SeA"),1,"")
D61: S
B62: =DATE(Calendrier!$A$1,_xlfn.SHEET()-1,(ROW()/2)-1) -> 43615 | D62: M | E62: =IF(C62="","",IF(OR(C62="Cp",C62="AM",C62="Re",C62="Fe"),"",1)) | H62: =((G62-F62)+(G63-F63)) -> 0 | K62: =IF(OR(C62="Cp"),1,"") | R62: =((Q62-P62)-(Q63-P63)) -> 0 | V62: =IF(OR(C62="SiA",C62="SeA"),1,"")
D63: S
B64: =DATE(Calendrier!$A$1,_xlfn.SHEET()-1,(ROW()/2)-1) -> 43616 | D64: M | E64: =IF(C64="","",IF(OR(C64="Cp",C64="AM",C64="Re",C64="Fe"),"",1)) | H64: =((G64-F64)+(G65-F65)) -> 0 | K64: =IF(OR(C64="Cp"),1,"") | R64: =((Q64-P64)-(Q65-P65)) -> 0 | V64: =IF(OR(C64="SiA",C64="SeA"),1,"")
D65: S
B66: TOTAUX | E66: =SUM(E4:E65) -> 2 | F66: =SUM(H4:H65) -> 4 | I66: =SUM(I4:I65) -> 0 | J66: =SUM(J4:J65) -> 0 | K66: =SUM(K4:K65) -> 1 | N66: TOTAUX | O66: =SUM(O4:O65) -> 0 | R66: =SUM(R4:R30) -> 4 | S66: =SUM(S4:S65) -> 0 | T66: =SUM(T4:T65) -> 0 | U66: =SUM(U4:U65) -> 0 | V66: =SUM(V4:V65) -> 2 | W66: =SUM(W4:W65) -> 0

Sheet Juin
Y2: =SUM(O4:O30) -> 0
A3: S 01 | B3: DATE | C3: SERV | E3: J | F3: HA | G3: HD | I3: K | J3: Ser | K3: CP | L3: MOTIF DU DEPLACEMENT | O3: Panniers | P3: HSD | Q3: HSF | R3: H.Sup | S3: Maj Nuit | T3: Maj Dim. | U3: Maj J.Fé. | V3: Astreinte | W3: SSLIA | Y3: =SUM(O30:O30) -> 0
B4: =DATE(Calendrier!$A$1,_xlfn.SHEET()-1,(ROW()/2)-1) -> 43617 | C4: SiA | D4: M | E4: =IF(C4="","",IF(OR(C4="Cp",C4="AM",C4="Re",C4="Fe"),"",1)) -> 1 | F4: 8 | G4: 10 | H4: =((G4-F4)+(G5-F5)) -> 2 | K4: =IF(OR(C4="Cp"),1,"") | P4: 18 | Q4: 20 | R4: =((Q4-P4)-(Q5-P5)) -> 2 | V4: =IF(OR(C4="SiA",C4="SeA"),1,"") -> 1 | Y4: =SUM(#REF!) -> #REF!
A5: jui | D5: S
B6: =DATE(Calendrier!$A$1,_xlfn.SHEET()-1,(ROW()/2)-1) -> 43618 | C6: Cp | D6: M | E6: =IF(C6="","",IF(OR(C6="Cp",C6="AM",C6="Re",C6="Fe"),"",1)) | H6: =((G6-F6)+(G7-F7)) -> 0 | K6: =IF(OR(C6="Cp"),1,"") -> 1 | R6: =((Q6-P6)-(Q7-P7)) -> 0 | V6: =IF(OR(C6="SiA",C6="SeA"),1,"") | Y6: =SUM(#REF!) -> #REF!
D7: S
B8: =DATE(Calendrier!$A$1,_xlfn.SHEET()-1,(ROW()/2)-1) -> 43619 | C8: SeA | D8: M | E8: =IF(C8="","",IF(OR(C8="Cp",C8="AM",C8="Re",C8="Fe"),"",1)) -> 1 | H8: =((G8-F8)+(G9-F9)) -> 0 | K8: =IF(OR(C8="Cp"),1,"") | R8: =((Q8-P8)-(Q9-P9)) -> 0 | V8: =IF(OR(C8="SiA",C8="SeA"),1,"") -> 1
D9: S
B10: =DATE(Calendrier!$A$1,_xlfn.SHEET()-1,(ROW()/2)-1) -> 43620 | D10: M | E10: =IF(C10="","",IF(OR(C10="Cp",C10="AM",C10="Re",C10="Fe"),"",1)) | H10: =((G10-F10)+(G11-F11)) -> 0 | K10: =IF(OR(C10="Cp"),1,"") | R10: =((Q10-P10)-(Q11-P11)) -> 0 | V10: =IF(OR(C10="SiA",C10="SeA"),1,"")
D11: S
B12: =DATE(Calendrier!$A$1,_xlfn.SHEET()-1,(ROW()/2)-1) -> 43621 | D12: M | E12: =IF(C12="","",IF(OR(C12="Cp",C12="AM",C12="Re",C12="Fe"),"",1)) | H12: =((G12-F12)+(G13-F13)) -> 0 | K12: =IF(OR(C12="Cp"),1,"") | R12: =((Q12-P12)-(Q13-P13)) -> 0 | V12: =IF(OR(C12="SiA",C12="SeA"),1,"")
D13: S
B14: =DATE(Calendrier!$A$1,_xlfn.SHEET()-1,(ROW()/2)-1) -> 43622 | D14: M | E14: =IF(C14="","",IF(OR(C14="Cp",C14="AM",C14="Re",C14="Fe"),"",1)) | H14: =((G14-F14)+(G15-F15)) -> 0 | K14: =IF(OR(C14="Cp"),1,"") | R14: =((Q14-P14)-(Q15-P15)) -> 0 | V14: =IF(OR(C14="SiA",C14="SeA"),1,"")
A15: S 02 | D15: S
B16: =DATE(Calendrier!$A$1,_xlfn.SHEET()-1,(ROW()/2)-1) -> 43623 | D16: M | E16: =IF(C16="","",IF(OR(C16="Cp",C16="AM",C16="Re",C16="Fe"),"",1)) | F16: 8 | G16: 10 | H16: =((G16-F16)+(G17-F17)) -> 2 | K16: =IF(OR(C16="Cp"),1,"") | P16: 18 | Q16: 20 | R16: =((Q16-P16)-(Q17-P17)) -> 2 | V16: =IF(OR(C16="SiA",C16="SeA"),1,"")
A17: =SUM(H16:H31)+SUM(R16:R31) -> 4 | D17: S
B18: =DATE(Calendrier!$A$1,_xlfn.SHEET()-1,(ROW()/2)-1) -> 43624 | D18: M | E18: =IF(C18="","",IF(OR(C18="Cp",C18="AM",C18="Re",C18="Fe"),"",1)) | H18: =((G18-F18)+(G19-F19)) -> 0 | K18: =IF(OR(C18="Cp"),1,"") | R18: =((Q18-P18)-(Q19-P19)) -> 0 | V18: =IF(OR(C18="SiA",C18="SeA"),1,"")
D19: S
B20: =DATE(Calendrier!$A$1,_xlfn.SHEET()-1,(ROW()/2)-1) -> 43625 | D20: M | E20: =IF(C20="","",IF(OR(C20="Cp",C20="AM",C20="Re",C20="Fe"),"",1)) | H20: =((G20-F20)+(G21-F21)) -> 0 | K20: =IF(OR(C20="Cp"),1,"") | R20: =((Q20-P20)-(Q21-P21)) -> 0 | V20: =IF(OR(C20="SiA",C20="SeA"),1,"")
D21: S
B22: =DATE(Calendrier!$A$1,_xlfn.SHEET()-1,(ROW()/2)-1) -> 43626 | D22: M | E22: =IF(C22="","",IF(OR(C22="Cp",C22="AM",C22="Re",C22="Fe"),"",1)) | H22: =((G22-F22)+(G23-F23)) -> 0 | K22: =IF(OR(C22="Cp"),1,"") | R22: =((Q22-P22)-(Q23-P23)) -> 0 | V22: =IF(OR(C22="SiA",C22="SeA"),1,"")
D23: S
B24: =DATE(Calendrier!$A$1,_xlfn.SHEET()-1,(ROW()/2)-1) -> 43627 | D24: M | E24: =IF(C24="","",IF(OR(C24="Cp",C24="AM",C24="Re",C24="Fe"),"",1)) | H24: =((G24-F24)+(G25-F25)) -> 0 | K24: =IF(OR(C24="Cp"),1,"") | R24: =((Q24-P24)-(Q25-P25)) -> 0 | V24: =IF(OR(C24="SiA",C24="SeA"),1,"")
D25: S
B26: =DATE(Calendrier!$A$1,_xlfn.SHEET()-1,(ROW()/2)-1) -> 43628 | D26: M | E26: =IF(C26="","",IF(OR(C26="Cp",C26="AM",C26="Re",C26="Fe"),"",1)) | H26: =((G26-F26)+(G27-F27)) -> 0 | K26: =IF(OR(C26="Cp"),1,"") | R26: =((Q26-P26)-(Q27-P27)) -> 0 | V26: =IF(OR(C26="SiA",C26="SeA"),1,"")
D27: S
B28: =DATE(Calendrier!$A$1,_xlfn.SHEET()-1,(ROW()/2)-1) -> 43629 | D28: M | E28: =IF(C28="","",IF(OR(C28="Cp",C28="AM",C28="Re",C28="Fe"),"",1)) | H28: =((G28-F28)+(G29-F29)) -> 0 | K28: =IF(OR(C28="Cp"),1,"") | R28: =((Q28-P28)-(Q29-P29)) -> 0 | V28: =IF(OR(C28="SiA",C28="SeA"),1,"")
A29: S 03 | D29: S
B30: =DATE(Calendrier!$A$1,_xlfn.SHEET()-1,(ROW()/2)-1) -> 43630 | D30: M | E30: =IF(C30="","",IF(OR(C30="Cp",C30="AM",C30="Re",C30="Fe"),"",1)) | H30: =((G30-F30)+(G31-F31)) -> 0 | K30: =IF(OR(C30="Cp"),1,"") | R30: =((Q30-P30)-(Q31-P31)) -> 0 | V30: =IF(OR(C30="SiA",C30="SeA"),1,"")
D31: S
B32: =DATE(Calendrier!$A$1,_xlfn.SHEET()-1,(ROW()/2)-1) -> 43631 | D32: M | E32: =IF(C32="","",IF(OR(C32="Cp",C32="AM",C32="Re",C32="Fe"),"",1)) | H32: =((G32-F32)+(G33-F33)) -> 0 | K32: =IF(OR(C32="Cp"),1,"") | R32: =((Q32-P32)-(Q33-P33)) -> 0 | V32: =IF(OR(C32="SiA",C32="SeA"),1,"")
D33: S
B34: =DATE(Calendrier!$A$1,_xlfn.SHEET()-1,(ROW()/2)-1) -> 43632 | D34: M | E34: =IF(C34="","",IF(OR(C34="Cp",C34="AM",C34="Re",C34="Fe"),"",1)) | H34: =((G34-F34)+(G35-F35)) -> 0 | K34: =IF(OR(C34="Cp"),1,"") | R34: =((Q34-P34)-(Q35-P35)) -> 0 | V34: =IF(OR(C34="SiA",C34="SeA"),1,"")
D35: S
B36: =DATE(Calendrier!$A$1,_xlfn.SHEET()-1,(ROW()/2)-1) -> 43633 | D36: M | E36: =IF(C36="","",IF(OR(C36="Cp",C36="AM",C36="Re",C36="Fe"),"",1)) | H36: =((G36-F36)+(G37-F37)) -> 0 | K36: =IF(OR(C36="Cp"),1,"") | R36: =((Q36-P36)-(Q37-P37)) -> 0 | V36: =IF(OR(C36="SiA",C36="SeA"),1,"")
D37: S
B38: =DATE(Calendrier!$A$1,_xlfn.SHEET()-1,(ROW()/2)-1) -> 43634 | D38: M | E38: =IF(C38="","",IF(OR(C38="Cp",C38="AM",C38="Re",C38="Fe"),"",1)) | H38: =((G38-F38)+(G39-F39)) -> 0 | R38: =((Q38-P38)-(Q39-P39)) -> 0 | V38: =IF(OR(C38="SiA",C38="SeA"),1,"")
D39: S
B40: =DATE(Calendrier!$A$1,_xlfn.SHEET()-1,(ROW()/2)-1) -> 43635 | D40: M | E40: =IF(C40="","",IF(OR(C40="Cp",C40="AM",C40="Re",C40="Fe"),"",1)) | H40: =((G40-F40)+(G41-F41)) -> 0 | K40: =IF(OR(C40="Cp"),1,"") | R40: =((Q40-P40)-(Q41-P41)) -> 0 | V40: =IF(OR(C40="SiA",C40="SeA"),1,"")
D41: S
B42: =DATE(Calendrier!$A$1,_xlfn.SHEET()-1,(ROW()/2)-1) -> 43636 | D42: M | E42: =IF(C42="","",IF(OR(C42="Cp",C42="AM",C42="Re",C42="Fe"),"",1)) | H42: =((G42-F42)+(G43-F43)) -> 0 | K42: =IF(OR(C42="Cp"),1,"") | R42: =((Q42-P42)-(Q43-P43)) -> 0 | V42: =IF(OR(C42="SiA",C42="SeA"),1,"")
D43: S
B44: =DATE(Calendrier!$A$1,_xlfn.SHEET()-1,(ROW()/2)-1) -> 43637 | D44: M | E44: =IF(C44="","",IF(OR(C44="Cp",C44="AM",C44="Re",C44="Fe"),"",1)) | H44: =((G44-F44)+(G45-F45)) -> 0 | K44: =IF(OR(C44="Cp"),1,"") | R44: =((Q44-P44)-(Q45-P45)) -> 0 | V44: =IF(OR(C44="SiA",C44="SeA"),1,"")
D45: S
B46: =DATE(Calendrier!$A$1,_xlfn.SHEET()-1,(ROW()/2)-1) -> 43638 | D46: M | E46: =IF(C46="","",IF(OR(C46="Cp",C46="AM",C46="Re",C46="Fe"),"",1)) | H46: =((G46-F46)+(G47-F47)) -> 0 | K46: =IF(OR(C46="Cp"),1,"") | R46: =((Q46-P46)-(Q47-P47)) -> 0 | V46: =IF(OR(C46="SiA",C46="SeA"),1,"")
D47: S
B48: =DATE(Calendrier!$A$1,_xlfn.SHEET()-1,(ROW()/2)-1) -> 43639 | D48: M | E48: =IF(C48="","",IF(OR(C48="Cp",C48="AM",C48="Re",C48="Fe"),"",1)) | H48: =((G48-F48)+(G49-F49)) -> 0 | K48: =IF(OR(C48="Cp"),1,"") | R48: =((Q48-P48)-(Q49-P49)) -> 0 | V48: =IF(OR(C48="SiA",C48="SeA"),1,"")
D49: S
B50: =DATE(Calendrier!$A$1,_xlfn.SHEET()-1,(ROW()/2)-1) -> 43640 | D50: M | E50: =IF(C50="","",IF(OR(C50="Cp",C50="AM",C50="Re",C50="Fe"),"",1)) | H50: =((G50-F50)+(G51-F51)) -> 0 | K50: =IF(OR(C50="Cp"),1,"") | R50: =((Q50-P50)-(Q51-P51)) -> 0 | V50: =IF(OR(C50="SiA",C50="SeA"),1,"")
D51: S
B52: =DATE(Calendrier!$A$1,_xlfn.SHEET()-1,(ROW()/2)-1) -> 43641 | D52: M | E52: =IF(C52="","",IF(OR(C52="Cp",C52="AM",C52="Re",C52="Fe"),"",1)) | H52: =((G52-F52)+(G53-F53)) -> 0 | K52: =IF(OR(C52="Cp"),1,"") | R52: =((Q52-P52)-(Q53-P53)) -> 0 | V52: =IF(OR(C52="SiA",C52="SeA"),1,"")
D53: S
B54: =DATE(Calendrier!$A$1,_xlfn.SHEET()-1,(ROW()/2)-1) -> 43642 | D54: M | E54: =IF(C54="","",IF(OR(C54="Cp",C54="AM",C54="Re",C54="Fe"),"",1)) | H54: =((G54-F54)+(G55-F55)) -> 0 | K54: =IF(OR(C54="Cp"),1,"") | R54: =((Q54-P54)-(Q55-P55)) -> 0 | V54: =IF(OR(C54="SiA",C54="SeA"),1,"")
D55: S
B56: =DATE(Calendrier!$A$1,_xlfn.SHEET()-1,(ROW()/2)-1) -> 43643 | D56: M | E56: =IF(C56="","",IF(OR(C56="Cp",C56="AM",C56="Re",C56="Fe"),"",1)) | H56: =((G56-F56)+(G57-F57)) -> 0 | K56: =IF(OR(C56="Cp"),1,"") | R56: =((Q56-P56)-(Q57-P57)) -> 0 | V56: =IF(OR(C56="SiA",C56="SeA"),1,"")
D57: S
B58: =DATE(Calendrier!$A$1,_xlfn.SHEET()-1,(ROW()/2)-1) -> 43644 | D58: M | E58: =IF(C58="","",IF(OR(C58="Cp",C58="AM",C58="Re",C58="Fe"),"",1)) | H58: =((G58-F58)+(G59-F59)) -> 0 | K58: =IF(OR(C58="Cp"),1,"") | R58: =((Q58-P58)-(Q59-P59)) -> 0 | V58: =IF(OR(C58="SiA",C58="SeA"),1,"")
D59: S
B60: =DATE(Calendrier!$A$1,_xlfn.SHEET()-1,(ROW()/2)-1) -> 43645 | D60: M | E60: =IF(C60="","",IF(OR(C60="Cp",C60="AM",C60="Re",C60="Fe"),"",1)) | H60: =((G60-F60)+(G61-F61)) -> 0 | K60: =IF(OR(C60="Cp"),1,"") | R60: =((Q60-P60)-(Q61-P61)) -> 0 | V60: =IF(OR(C60="SiA",C60="SeA"),1,"")
D61: S
B62: =DATE(Calendrier!$A$1,_xlfn.SHEET()-1,(ROW()/2)-1) -> 43646 | D62: M | E62: =IF(C62="","",IF(OR(C62="Cp",C62="AM",C62="Re",C62="Fe"),"",1)) | H62: =((G62-F62)+(G63-F63)) -> 0 | K62: =IF(OR(C62="Cp"),1,"") | R62: =((Q62-P62)-(Q63-P63)) -> 0 | V62: =IF(OR(C62="SiA",C62="SeA"),1,"")
D63: S
B64: 31 | D64: M | E64: =IF(C64="","",IF(OR(C64="Cp",C64="AM",C64="Re",C64="Fe"),"",1)) | H64: =((G64-F64)+(G65-F65)) -> 0 | K64: =IF(OR(C64="Cp"),1,"") | R64: =((Q64-P64)-(Q65-P65)) -> 0 | V64: =IF(OR(C64="SiA",C64="SeA"),1,"")
D65: S
B66: TOTAUX | E66: =SUM(E4:E65) -> 2 | F66: =SUM(H4:H65) -> 4 | I66: =SUM(I4:I65) -> 0 | J66: =SUM(J4:J65) -> 0 | K66: =SUM(K4:K65) -> 1 | N66: TOTAUX | O66: =SUM(O4:O65) -> 0 | R66: =SUM(R4:R30) -> 4 | S66: =SUM(S4:S65) -> 0 | T66: =SUM(T4:T65) -> 0 | U66: =SUM(U4:U65) -> 0 | V66: =SUM(V4:V65) -> 2 | W66: =SUM(W4:W65) -> 0

Sheet Juil
Y2: =SUM(O4:O30) -> 0
A3: S 01 | B3: DATE | C3: SERV | E3: J | F3: HA | G3: HD | I3: K | J3: Ser | K3: CP | L3: MOTIF DU DEPLACEMENT | O3: Panniers | P3: HSD | Q3: HSF | R3: H.Sup | S3: Maj Nuit | T3: Maj Dim. | U3: Maj J.Fé. | V3: Astreinte | W3: SSLIA | Y3: =SUM(O30:O30) -> 0
B4: =DATE(Calendrier!$A$1,_xlfn.SHEET()-1,(ROW()/2)-1) -> 43647 | C4: SiA | D4: M | E4: =IF(C4="","",IF(OR(C4="Cp",C4="AM",C4="Re",C4="Fe"),"",1)) -> 1 | F4: 8 | G4: 10 | H4: =((G4-F4)+(G5-F5)) -> 2 | K4: =IF(OR(C4="Cp"),1,"") | P4: 18 | Q4: 20 | R4: =((Q4-P4)-(Q5-P5)) -> 2 | V4: =IF(OR(C4="SiA",C4="SeA"),1,"") -> 1 | Y4: =SUM(#REF!) -> #REF!
A5: jui | D5: S
B6: =DATE(Calendrier!$A$1,_xlfn.SHEET()-1,(ROW()/2)-1) -> 43648 | C6: Cp | D6: M | E6: =IF(C6="","",IF(OR(C6="Cp",C6="AM",C6="Re",C6="Fe"),"",1)) | H6: =((G6-F6)+(G7-F7)) -> 0 | K6: =IF(OR(C6="Cp"),1,"") -> 1 | R6: =((Q6-P6)-(Q7-P7)) -> 0 | V6: =IF(OR(C6="SiA",C6="SeA"),1,"") | Y6: =SUM(#REF!) -> #REF!
D7: S
B8: =DATE(Calendrier!$A$1,_xlfn.SHEET()-1,(ROW()/2)-1) -> 43649 | C8: SeA | D8: M | E8: =IF(C8="","",IF(OR(C8="Cp",C8="AM",C8="Re",C8="Fe"),"",1)) -> 1 | H8: =((G8-F8)+(G9-F9)) -> 0 | K8: =IF(OR(C8="Cp"),1,"") | R8: =((Q8-P8)-(Q9-P9)) -> 0 | V8: =IF(OR(C8="SiA",C8="SeA"),1,"") -> 1
D9: S
B10: =DATE(Calendrier!$A$1,_xlfn.SHEET()-1,(ROW()/2)-1) -> 43650 | D10: M | E10: =IF(C10="","",IF(OR(C10="Cp",C10="AM",C10="Re",C10="Fe"),"",1)) | H10: =((G10-F10)+(G11-F11)) -> 0 | K10: =IF(OR(C10="Cp"),1,"") | R10: =((Q10-P10)-(Q11-P11)) -> 0 | V10: =IF(OR(C10="SiA",C10="SeA"),1,"")
D11: S
B12: =DATE(Calendrier!$A$1,_xlfn.SHEET()-1,(ROW()/2)-1) -> 43651 | D12: M | E12: =IF(C12="","",IF(OR(C12="Cp",C12="AM",C12="Re",C12="Fe"),"",1)) | H12: =((G12-F12)+(G13-F13)) -> 0 | K12: =IF(OR(C12="Cp"),1,"") | R12: =((Q12-P12)-(Q13-P13)) -> 0 | V12: =IF(OR(C12="SiA",C12="SeA"),1,"")
D13: S
B14: =DATE(Calendrier!$A$1,_xlfn.SHEET()-1,(ROW()/2)-1) -> 43652 | D14: M | E14: =IF(C14="","",IF(OR(C14="Cp",C14="AM",C14="Re",C14="Fe"),"",1)) | H14: =((G14-F14)+(G15-F15)) -> 0 | K14: =IF(OR(C14="Cp"),1,"") | R14: =((Q14-P14)-(Q15-P15)) -> 0 | V14: =IF(OR(C14="SiA",C14="SeA"),1,"")
A15: S 02 | D15: S
B16: =DATE(Calendrier!$A$1,_xlfn.SHEET()-1,(ROW()/2)-1) -> 43653 | D16: M | E16: =IF(C16="","",IF(OR(C16="Cp",C16="AM",C16="Re",C16="Fe"),"",1)) | F16: 8 | G16: 10 | H16: =((G16-F16)+(G17-F17)) -> 2 | K16: =IF(OR(C16="Cp"),1,"") | P16: 18 | Q16: 20 | R16: =((Q16-P16)-(Q17-P17)) -> 2 | V16: =IF(OR(C16="SiA",C16="SeA"),1,"")
A17: =SUM(H16:H31)+SUM(R16:R31) -> 4 | D17: S
B18: =DATE(Calendrier!$A$1,_xlfn.SHEET()-1,(ROW()/2)-1) -> 43654 | D18: M | E18: =IF(C18="","",IF(OR(C18="Cp",C18="AM",C18="Re",C18="Fe"),"",1)) | H18: =((G18-F18)+(G19-F19)) -> 0 | K18: =IF(OR(C18="Cp"),1,"") | R18: =((Q18-P18)-(Q19-P19)) -> 0 | V18: =IF(OR(C18="SiA",C18="SeA"),1,"")
D19: S
B20: =DATE(Calendrier!$A$1,_xlfn.SHEET()-1,(ROW()/2)-1) -> 43655 | D20: M | E20: =IF(C20="","",IF(OR(C20="Cp",C20="AM",C20="Re",C20="Fe"),"",1)) | H20: =((G20-F20)+(G21-F21)) -> 0 | K20: =IF(OR(C20="Cp"),1,"") | R20: =((Q20-P20)-(Q21-P21)) -> 0 | V20: =IF(OR(C20="SiA",C20="SeA"),1,"")
D21: S
B22: =DATE(Calendrier!$A$1,_xlfn.SHEET()-1,(ROW()/2)-1) -> 43656 | D22: M | E22: =IF(C22="","",IF(OR(C22="Cp",C22="AM",C22="Re",C22="Fe"),"",1)) | H22: =((G22-F22)+(G23-F23)) -> 0 | K22: =IF(OR(C22="Cp"),1,"") | R22: =((Q22-P22)-(Q23-P23)) -> 0 | V22: =IF(OR(C22="SiA",C22="SeA"),1,"")
D23: S
B24: =DATE(Calendrier!$A$1,_xlfn.SHEET()-1,(ROW()/2)-1) -> 43657 | D24: M | E24: =IF(C24="","",IF(OR(C24="Cp",C24="AM",C24="Re",C24="Fe"),"",1)) | H24: =((G24-F24)+(G25-F25)) -> 0 | K24: =IF(OR(C24="Cp"),1,"") | R24: =((Q24-P24)-(Q25-P25)) -> 0 | V24: =IF(OR(C24="SiA",C24="SeA"),1,"")
D25: S
B26: =DATE(Calendrier!$A$1,_xlfn.SHEET()-1,(ROW()/2)-1) -> 43658 | D26: M | E26: =IF(C26="","",IF(OR(C26="Cp",C26="AM",C26="Re",C26="Fe"),"",1)) | H26: =((G26-F26)+(G27-F27)) -> 0 | K26: =IF(OR(C26="Cp"),1,"") | R26: =((Q26-P26)-(Q27-P27)) -> 0 | V26: =IF(OR(C26="SiA",C26="SeA"),1,"")
D27: S
B28: =DATE(Calendrier!$A$1,_xlfn.SHEET()-1,(ROW()/2)-1) -> 43659 | D28: M | E28: =IF(C28="","",IF(OR(C28="Cp",C28="AM",C28="Re",C28="Fe"),"",1)) | H28: =((G28-F28)+(G29-F29)) -> 0 | K28: =IF(OR(C28="Cp"),1,"") | R28: =((Q28-P28)-(Q29-P29)) -> 0 | V28: =IF(OR(C28="SiA",C28="SeA"),1,"")
A29: S 03 | D29: S
B30: =DATE(Calendrier!$A$1,_xlfn.SHEET()-1,(ROW()/2)-1) -> 43660 | D30: M | E30: =IF(C30="","",IF(OR(C30="Cp",C30="AM",C30="Re",C30="Fe"),"",1)) | H30: =((G30-F30)+(G31-F31)) -> 0 | K30: =IF(OR(C30="Cp"),1,"") | R30: =((Q30-P30)-(Q31-P31)) -> 0 | V30: =IF(OR(C30="SiA",C30="SeA"),1,"")
D31: S
B32: =DATE(Calendrier!$A$1,_xlfn.SHEET()-1,(ROW()/2)-1) -> 43661 | D32: M | E32: =IF(C32="","",IF(OR(C32="Cp",C32="AM",C32="Re",C32="Fe"),"",1)) | H32: =((G32-F32)+(G33-F33)) -> 0 | K32: =IF(OR(C32="Cp"),1,"") | R32: =((Q32-P32)-(Q33-P33)) -> 0 | V32: =IF(OR(C32="SiA",C32="SeA"),1,"")
D33: S
B34: =DATE(Calendrier!$A$1,_xlfn.SHEET()-1,(ROW()/2)-1) -> 43662 | D34: M | E34: =IF(C34="","",IF(OR(C34="Cp",C34="AM",C34="Re",C34="Fe"),"",1)) | H34: =((G34-F34)+(G35-F35)) -> 0 | K34: =IF(OR(C34="Cp"),1,"") | R34: =((Q34-P34)-(Q35-P35)) -> 0 | V34: =IF(OR(C34="SiA",C34="SeA"),1,"")
D35: S
B36: =DATE(Calendrier!$A$1,_xlfn.SHEET()-1,(ROW()/2)-1) -> 43663 | D36: M | E36: =IF(C36="","",IF(OR(C36="Cp",C36="AM",C36="Re",C36="Fe"),"",1)) | H36: =((G36-F36)+(G37-F37)) -> 0 | K36: =IF(OR(C36="Cp"),1,"") | R36: =((Q36-P36)-(Q37-P37)) -> 0 | V36: =IF(OR(C36="SiA",C36="SeA"),1,"")
D37: S
B38: =DATE(Calendrier!$A$1,_xlfn.SHEET()-1,(ROW()/2)-1) -> 43664 | D38: M | E38: =IF(C38="","",IF(OR(C38="Cp",C38="AM",C38="Re",C38="Fe"),"",1)) | H38: =((G38-F38)+(G39-F39)) -> 0 | R38: =((Q38-P38)-(Q39-P39)) -> 0 | V38: =IF(OR(C38="SiA",C38="SeA"),1,"")
D39: S
B40: =DATE(Calendrier!$A$1,_xlfn.SHEET()-1,(ROW()/2)-1) -> 43665 | D40: M | E40: =IF(C40="","",IF(OR(C40="Cp",C40="AM",C40="Re",C40="Fe"),"",1)) | H40: =((G40-F40)+(G41-F41)) -> 0 | K40: =IF(OR(C40="Cp"),1,"") | R40: =((Q40-P40)-(Q41-P41)) -> 0 | V40: =IF(OR(C40="SiA",C40="SeA"),1,"")
D41: S
B42: =DATE(Calendrier!$A$1,_xlfn.SHEET()-1,(ROW()/2)-1) -> 43666 | D42: M | E42: =IF(C42="","",IF(OR(C42="Cp",C42="AM",C42="Re",C42="Fe"),"",1)) | H42: =((G42-F42)+(G43-F43)) -> 0 | K42: =IF(OR(C42="Cp"),1,"") | R42: =((Q42-P42)-(Q43-P43)) -> 0 | V42: =IF(OR(C42="SiA",C42="SeA"),1,"")
D43: S
B44: =DATE(Calendrier!$A$1,_xlfn.SHEET()-1,(ROW()/2)-1) -> 43667 | D44: M | E44: =IF(C44="","",IF(OR(C44="Cp",C44="AM",C44="Re",C44="Fe"),"",1)) | H44: =((G44-F44)+(G45-F45)) -> 0 | K44: =IF(OR(C44="Cp"),1,"") | R44: =((Q44-P44)-(Q45-P45)) -> 0 | V44: =IF(OR(C44="SiA",C44="SeA"),1,"")
D45: S
B46: =DATE(Calendrier!$A$1,_xlfn.SHEET()-1,(ROW()/2)-1) -> 43668 | D46: M | E46: =IF(C46="","",IF(OR(C46="Cp",C46="AM",C46="Re",C46="Fe"),"",1)) | H46: =((G46-F46)+(G47-F47)) -> 0 | K46: =IF(OR(C46="Cp"),1,"") | R46: =((Q46-P46)-(Q47-P47)) -> 0 | V46: =IF(OR(C46="SiA",C46="SeA"),1,"")
D47: S
B48: =DATE(Calendrier!$A$1,_xlfn.SHEET()-1,(ROW()/2)-1) -> 43669 | D48: M | E48: =IF(C48="","",IF(OR(C48="Cp",C48="AM",C48="Re",C48="Fe"),"",1)) | H48: =((G48-F48)+(G49-F49)) -> 0 | K48: =IF(OR(C48="Cp"),1,"") | R48: =((Q48-P48)-(Q49-P49)) -> 0 | V48: =IF(OR(C48="SiA",C48="SeA"),1,"")
D49: S
B50: =DATE(Calendrier!$A$1,_xlfn.SHEET()-1,(ROW()/2)-1) -> 43670 | D50: M | E50: =IF(C50="","",IF(OR(C50="Cp",C50="AM",C50="Re",C50="Fe"),"",1)) | H50: =((G50-F50)+(G51-F51)) -> 0 | K50: =IF(OR(C50="Cp"),1,"") | R50: =((Q50-P50)-(Q51-P51)) -> 0 | V50: =IF(OR(C50="SiA",C50="SeA"),1,"")
D51: S
B52: =DATE(Calendrier!$A$1,_xlfn.SHEET()-1,(ROW()/2)-1) -> 43671 | D52: M | E52: =IF(C52="","",IF(OR(C52="Cp",C52="AM",C52="Re",C52="Fe"),"",1)) | H52: =((G52-F52)+(G53-F53)) -> 0 | K52: =IF(OR(C52="Cp"),1,"") | R52: =((Q52-P52)-(Q53-P53)) -> 0 | V52: =IF(OR(C52="SiA",C52="SeA"),1,"")
D53: S
B54: =DATE(Calendrier!$A$1,_xlfn.SHEET()-1,(ROW()/2)-1) -> 43672 | D54: M | E54: =IF(C54="","",IF(OR(C54="Cp",C54="AM",C54="Re",C54="Fe"),"",1)) | H54: =((G54-F54)+(G55-F55)) -> 0 | K54: =IF(OR(C54="Cp"),1,"") | R54: =((Q54-P54)-(Q55-P55)) -> 0 | V54: =IF(OR(C54="SiA",C54="SeA"),1,"")
D55: S
B56: =DATE(Calendrier!$A$1,_xlfn.SHEET()-1,(ROW()/2)-1) -> 43673 | D56: M | E56: =IF(C56="","",IF(OR(C56="Cp",C56="AM",C56="Re",C56="Fe"),"",1)) | H56: =((G56-F56)+(G57-F57)) -> 0 | K56: =IF(OR(C56="Cp"),1,"") | R56: =((Q56-P56)-(Q57-P57)) -> 0 | V56: =IF(OR(C56="SiA",C56="SeA"),1,"")
D57: S
B58: =DATE(Calendrier!$A$1,_xlfn.SHEET()-1,(ROW()/2)-1) -> 43674 | D58: M | E58: =IF(C58="","",IF(OR(C58="Cp",C58="AM",C58="Re",C58="Fe"),"",1)) | H58: =((G58-F58)+(G59-F59)) -> 0 | K58: =IF(OR(C58="Cp"),1,"") | R58: =((Q58-P58)-(Q59-P59)) -> 0 | V58: =IF(OR(C58="SiA",C58="SeA"),1,"")
D59: S
B60: =DATE(Calendrier!$A$1,_xlfn.SHEET()-1,(ROW()/2)-1) -> 43675 | D60: M | E60: =IF(C60="","",IF(OR(C60="Cp",C60="AM",C60="Re",C60="Fe"),"",1)) | H60: =((G60-F60)+(G61-F61)) -> 0 | K60: =IF(OR(C60="Cp"),1,"") | R60: =((Q60-P60)-(Q61-P61)) -> 0 | V60: =IF(OR(C60="SiA",C60="SeA"),1,"")
D61: S
B62: =DATE(Calendrier!$A$1,_xlfn.SHEET()-1,(ROW()/2)-1) -> 43676 | D62: M | E62: =IF(C62="","",IF(OR(C62="Cp",C62="AM",C62="Re",C62="Fe"),"",1)) | H62: =((G62-F62)+(G63-F63)) -> 0 | K62: =IF(OR(C62="Cp"),1,"") | R62: =((Q62-P62)-(Q63-P63)) -> 0 | V62: =IF(OR(C62="SiA",C62="SeA"),1,"")
D63: S
B64: =DATE(Calendrier!$A$1,_xlfn.SHEET()-1,(ROW()/2)-1) -> 43677 | D64: M | E64: =IF(C64="","",IF(OR(C64="Cp",C64="AM",C64="Re",C64="Fe"),"",1)) | H64: =((G64-F64)+(G65-F65)) -> 0 | K64: =IF(OR(C64="Cp"),1,"") | R64: =((Q64-P64)-(Q65-P65)) -> 0 | V64: =IF(OR(C64="SiA",C64="SeA"),1,"")
D65: S
B66: TOTAUX | E66: =SUM(E4:E65) -> 2 | F66: =SUM(H4:H65) -> 4 | I66: =SUM(I4:I65) -> 0 | J66: =SUM(J4:J65) -> 0 | K66: =SUM(K4:K65) -> 1 | N66: TOTAUX | O66: =SUM(O4:O65) -> 0 | R66: =SUM(R4:R30) -> 4 | S66: =SUM(S4:S65) -> 0 | T66: =SUM(T4:T65) -> 0 | U66: =SUM(U4:U65) -> 0 | V66: =SUM(V4:V65) -> 2 | W66: =SUM(W4:W65) -> 0

Sheet Aout
Y2: =SUM(O4:O30) -> 0
A3: S 01 | B3: DATE | C3: SERV | E3: J | F3: HA | G3: HD | I3: K | J3: Ser | K3: CP | L3: MOTIF DU DEPLACEMENT | O3: Panniers | P3: HSD | Q3: HSF | R3: H.Sup | S3: Maj Nuit | T3: Maj Dim. | U3: Maj J.Fé. | V3: Astreinte | W3: SSLIA | Y3: =SUM(O30:O30) -> 0
B4: =DATE(Calendrier!$A$1,_xlfn.SHEET()-1,(ROW()/2)-1) -> 43678 | C4: SiA | D4: M | E4: =IF(C4="","",IF(OR(C4="Cp",C4="AM",C4="Re",C4="Fe"),"",1)) -> 1 | F4: 8 | G4: 10 | H4: =((G4-F4)+(G5-F5)) -> 2 | K4: =IF(OR(C4="Cp"),1,"") | P4: 18 | Q4: 20 | R4: =((Q4-P4)-(Q5-P5)) -> 2 | V4: =IF(OR(C4="SiA",C4="SeA"),1,"") -> 1 | Y4: =SUM(#REF!) -> #REF!
A5: jui | D5: S
B6: =DATE(Calendrier!$A$1,_xlfn.SHEET()-1,(ROW()/2)-1) -> 43679 | C6: Cp | D6: M | E6: =IF(C6="","",IF(OR(C6="Cp",C6="AM",C6="Re",C6="Fe"),"",1)) | H6: =((G6-F6)+(G7-F7)) -> 0 | K6: =IF(OR(C6="Cp"),1,"") -> 1 | R6: =((Q6-P6)-(Q7-P7)) -> 0 | V6: =IF(OR(C6="SiA",C6="SeA"),1,"") | Y6: =SUM(#REF!) -> #REF!
D7: S
B8: =DATE(Calendrier!$A$1,_xlfn.SHEET()-1,(ROW()/2)-1) -> 43680 | C8: SeA | D8: M | E8: =IF(C8="","",IF(OR(C8="Cp",C8="AM",C8="Re",C8="Fe"),"",1)) -> 1 | H8: =((G8-F8)+(G9-F9)) -> 0 | K8: =IF(OR(C8="Cp"),1,"") | R8: =((Q8-P8)-(Q9-P9)) -> 0 | V8: =IF(OR(C8="SiA",C8="SeA"),1,"") -> 1
D9: S
B10: =DATE(Calendrier!$A$1,_xlfn.SHEET()-1,(ROW()/2)-1) -> 43681 | D10: M | E10: =IF(C10="","",IF(OR(C10="Cp",C10="AM",C10="Re",C10="Fe"),"",1)) | H10: =((G10-F10)+(G11-F11)) -> 0 | K10: =IF(OR(C10="Cp"),1,"") | R10: =((Q10-P10)-(Q11-P11)) -> 0 | V10: =IF(OR(C10="SiA",C10="SeA"),1,"")
D11: S
B12: =DATE(Calendrier!$A$1,_xlfn.SHEET()-1,(ROW()/2)-1) -> 43682 | D12: M | E12: =IF(C12="","",IF(OR(C12="Cp",C12="AM",C12="Re",C12="Fe"),"",1)) | H12: =((G12-F12)+(G13-F13)) -> 0 | K12: =IF(OR(C12="Cp"),1,"") | R12: =((Q12-P12)-(Q13-P13)) -> 0 | V12: =IF(OR(C12="SiA",C12="SeA"),1,"")
D13: S
B14: =DATE(Calendrier!$A$1,_xlfn.SHEET()-1,(ROW()/2)-1) -> 43683 | D14: M | E14: =IF(C14="","",IF(OR(C14="Cp",C14="AM",C14="Re",C14="Fe"),"",1)) | H14: =((G14-F14)+(G15-F15)) -> 0 | K14: =IF(OR(C14="Cp"),1,"") | R14: =((Q14-P14)-(Q15-P15)) -> 0 | V14: =IF(OR(C14="SiA",C14="SeA"),1,"")
A15: S 02 | D15: S
B16: =DATE(Calendrier!$A$1,_xlfn.SHEET()-1,(ROW()/2)-1) -> 43684 | D16: M | E16: =IF(C16="","",IF(OR(C16="Cp",C16="AM",C16="Re",C16="Fe"),"",1)) | F16: 8 | G16: 10 | H16: =((G16-F16)+(G17-F17)) -> 2 | K16: =IF(OR(C16="Cp"),1,"") | P16: 18 | Q16: 20 | R16: =((Q16-P16)-(Q17-P17)) -> 2 | V16: =IF(OR(C16="SiA",C16="SeA"),1,"")
A17: =SUM(H16:H31)+SUM(R16:R31) -> 4 | D17: S
B18: =DATE(Calendrier!$A$1,_xlfn.SHEET()-1,(ROW()/2)-1) -> 43685 | D18: M | E18: =IF(C18="","",IF(OR(C18="Cp",C18="AM",C18="Re",C18="Fe"),"",1)) | H18: =((G18-F18)+(G19-F19)) -> 0 | K18: =IF(OR(C18="Cp"),1,"") | R18: =((Q18-P18)-(Q19-P19)) -> 0 | V18: =IF(OR(C18="SiA",C18="SeA"),1,"")
D19: S
B20: =DATE(Calendrier!$A$1,_xlfn.SHEET()-1,(ROW()/2)-1) -> 43686 | D20: M | E20: =IF(C20="","",IF(OR(C20="Cp",C20="AM",C20="Re",C20="Fe"),"",1)) | H20: =((G20-F20)+(G21-F21)) -> 0 | K20: =IF(OR(C20="Cp"),1,"") | R20: =((Q20-P20)-(Q21-P21)) -> 0 | V20: =IF(OR(C20="SiA",C20="SeA"),1,"")
D21: S
B22: =DATE(Calendrier!$A$1,_xlfn.SHEET()-1,(ROW()/2)-1) -> 43687 | D22: M | E22: =IF(C22="","",IF(OR(C22="Cp",C22="AM",C22="Re",C22="Fe"),"",1)) | H22: =((G22-F22)+(G23-F23)) -> 0 | K22: =IF(OR(C22="Cp"),1,"") | R22: =((Q22-P22)-(Q23-P23)) -> 0 | V22: =IF(OR(C22="SiA",C22="SeA"),1,"")
D23: S
B24: =DATE(Calendrier!$A$1,_xlfn.SHEET()-1,(ROW()/2)-1) -> 43688 | D24: M | E24: =IF(C24="","",IF(OR(C24="Cp",C24="AM",C24="Re",C24="Fe"),"",1)) | H24: =((G24-F24)+(G25-F25)) -> 0 | K24: =IF(OR(C24="Cp"),1,"") | R24: =((Q24-P24)-(Q25-P25)) -> 0 | V24: =IF(OR(C24="SiA",C24="SeA"),1,"")
D25: S
B26: =DATE(Calendrier!$A$1,_xlfn.SHEET()-1,(ROW()/2)-1) -> 43689 | D26: M | E26: =IF(C26="","",IF(OR(C26="Cp",C26="AM",C26="Re",C26="Fe"),"",1)) | H26: =((G26-F26)+(G27-F27)) -> 0 | K26: =IF(OR(C26="Cp"),1,"") | R26: =((Q26-P26)-(Q27-P27)) -> 0 | V26: =IF(OR(C26="SiA",C26="SeA"),1,"")
D27: S
B28: =DATE(Calendrier!$A$1,_xlfn.SHEET()-1,(ROW()/2)-1) -> 43690 | D28: M | E28: =IF(C28="","",IF(OR(C28="Cp",C28="AM",C28="Re",C28="Fe"),"",1)) | H28: =((G28-F28)+(G29-F29)) -> 0 | K28: =IF(OR(C28="Cp"),1,"") | R28: =((Q28-P28)-(Q29-P29)) -> 0 | V28: =IF(OR(C28="SiA",C28="SeA"),1,"")
A29: S 03 | D29: S
B30: =DATE(Calendrier!$A$1,_xlfn.SHEET()-1,(ROW()/2)-1) -> 43691 | D30: M | E30: =IF(C30="","",IF(OR(C30="Cp",C30="AM",C30="Re",C30="Fe"),"",1)) | H30: =((G30-F30)+(G31-F31)) -> 0 | K30: =IF(OR(C30="Cp"),1,"") | R30: =((Q30-P30)-(Q31-P31)) -> 0 | V30: =IF(OR(C30="SiA",C30="SeA"),1,"")
D31: S
B32: =DATE(Calendrier!$A$1,_xlfn.SHEET()-1,(ROW()/2)-1) -> 43692 | D32: M | E32: =IF(C32="","",IF(OR(C32="Cp",C32="AM",C32="Re",C32="Fe"),"",1)) | H32: =((G32-F32)+(G33-F33)) -> 0 | K32: =IF(OR(C32="Cp"),1,"") | R32: =((Q32-P32)-(Q33-P33)) -> 0 | V32: =IF(OR(C32="SiA",C32="SeA"),1,"")
D33: S
B34: =DATE(Calendrier!$A$1,_xlfn.SHEET()-1,(ROW()/2)-1) -> 43693 | D34: M | E34: =IF(C34="","",IF(OR(C34="Cp",C34="AM",C34="Re",C34="Fe"),"",1)) | H34: =((G34-F34)+(G35-F35)) -> 0 | K34: =IF(OR(C34="Cp"),1,"") | R34: =((Q34-P34)-(Q35-P35)) -> 0 | V34: =IF(OR(C34="SiA",C34="SeA"),1,"")
D35: S
B36: =DATE(Calendrier!$A$1,_xlfn.SHEET()-1,(ROW()/2)-1) -> 43694 | D36: M | E36: =IF(C36="","",IF(OR(C36="Cp",C36="AM",C36="Re",C36="Fe"),"",1)) | H36: =((G36-F36)+(G37-F37)) -> 0 | K36: =IF(OR(C36="Cp"),1,"") | R36: =((Q36-P36)-(Q37-P37)) -> 0 | V36: =IF(OR(C36="SiA",C36="SeA"),1,"")
D37: S
B38: =DATE(Calendrier!$A$1,_xlfn.SHEET()-1,(ROW()/2)-1) -> 43695 | D38: M | E38: =IF(C38="","",IF(OR(C38="Cp",C38="AM",C38="Re",C38="Fe"),"",1)) | H38: =((G38-F38)+(G39-F39)) -> 0 | R38: =((Q38-P38)-(Q39-P39)) -> 0 | V38: =IF(OR(C38="SiA",C38="SeA"),1,"")
D39: S
B40: =DATE(Calendrier!$A$1,_xlfn.SHEET()-1,(ROW()/2)-1) -> 43696 | D40: M | E40: =IF(C40="","",IF(OR(C40="Cp",C40="AM",C40="Re",C40="Fe"),"",1)) | H40: =((G40-F40)+(G41-F41)) -> 0 | K40: =IF(OR(C40="Cp"),1,"") | R40: =((Q40-P40)-(Q41-P41)) -> 0 | V40: =IF(OR(C40="SiA",C40="SeA"),1,"")
D41: S
B42: =DATE(Calendrier!$A$1,_xlfn.SHEET()-1,(ROW()/2)-1) -> 43697 | D42: M | E42: =IF(C42="","",IF(OR(C42="Cp",C42="AM",C42="Re",C42="Fe"),"",1)) | H42: =((G42-F42)+(G43-F43)) -> 0 | K42: =IF(OR(C42="Cp"),1,"") | R42: =((Q42-P42)-(Q43-P43)) -> 0 | V42: =IF(OR(C42="SiA",C42="SeA"),1,"")
D43: S
B44: =DATE(Calendrier!$A$1,_xlfn.SHEET()-1,(ROW()/2)-1) -> 43698 | D44: M | E44: =IF(C44="","",IF(OR(C44="Cp",C44="AM",C44="Re",C44="Fe"),"",1)) | H44: =((G44-F44)+(G45-F45)) -> 0 | K44: =IF(OR(C44="Cp"),1,"") | R44: =((Q44-P44)-(Q45-P45)) -> 0 | V44: =IF(OR(C44="SiA",C44="SeA"),1,"")
D45: S
B46: =DATE(Calendrier!$A$1,_xlfn.SHEET()-1,(ROW()/2)-1) -> 43699 | D46: M | E46: =IF(C46="","",IF(OR(C46="Cp",C46="AM",C46="Re",C46="Fe"),"",1)) | H46: =((G46-F46)+(G47-F47)) -> 0 | K46: =IF(OR(C46="Cp"),1,"") | R46: =((Q46-P46)-(Q47-P47)) -> 0 | V46: =IF(OR(C46="SiA",C46="SeA"),1,"")
D47: S
B48: =DATE(Calendrier!$A$1,_xlfn.SHEET()-1,(ROW()/2)-1) -> 43700 | D48: M | E48: =IF(C48="","",IF(OR(C48="Cp",C48="AM",C48="Re",C48="Fe"),"",1)) | H48: =((G48-F48)+(G49-F49)) -> 0 | K48: =IF(OR(C48="Cp"),1,"") | R48: =((Q48-P48)-(Q49-P49)) -> 0 | V48: =IF(OR(C48="SiA",C48="SeA"),1,"")
D49: S
B50: =DATE(Calendrier!$A$1,_xlfn.SHEET()-1,(ROW()/2)-1) -> 43701 | D50: M | E50: =IF(C50="","",IF(OR(C50="Cp",C50="AM",C50="Re",C50="Fe"),"",1)) | H50: =((G50-F50)+(G51-F51)) -> 0 | K50: =IF(OR(C50="Cp"),1,"") | R50: =((Q50-P50)-(Q51-P51)) -> 0 | V50: =IF(OR(C50="SiA",C50="SeA"),1,"")
D51: S
B52: =DATE(Calendrier!$A$1,_xlfn.SHEET()-1,(ROW()/2)-1) -> 43702 | D52: M | E52: =IF(C52="","",IF(OR(C52="Cp",C52="AM",C52="Re",C52="Fe"),"",1)) | H52: =((G52-F52)+(G53-F53)) -> 0 | K52: =IF(OR(C52="Cp"),1,"") | R52: =((Q52-P52)-(Q53-P53)) -> 0 | V52: =IF(OR(C52="SiA",C52="SeA"),1,"")
D53: S
B54: =DATE(Calendrier!$A$1,_xlfn.SHEET()-1,(ROW()/2)-1) -> 43703 | D54: M | E54: =IF(C54="","",IF(OR(C54="Cp",C54="AM",C54="Re",C54="Fe"),"",1)) | H54: =((G54-F54)+(G55-F55)) -> 0 | K54: =IF(OR(C54="Cp"),1,"") | R54: =((Q54-P54)-(Q55-P55)) -> 0 | V54: =IF(OR(C54="SiA",C54="SeA"),1,"")
D55: S
B56: =DATE(Calendrier!$A$1,_xlfn.SHEET()-1,(ROW()/2)-1) -> 43704 | D56: M | E56: =IF(C56="","",IF(OR(C56="Cp",C56="AM",C56="Re",C56="Fe"),"",1)) | H56: =((G56-F56)+(G57-F57)) -> 0 | K56: =IF(OR(C56="Cp"),1,"") | R56: =((Q56-P56)-(Q57-P57)) -> 0 | V56: =IF(OR(C56="SiA",C56="SeA"),1,"")
D57: S
B58: =DATE(Calendrier!$A$1,_xlfn.SHEET()-1,(ROW()/2)-1) -> 43705 | D58: M | E58: =IF(C58="","",IF(OR(C58="Cp",C58="AM",C58="Re",C58="Fe"),"",1)) | H58: =((G58-F58)+(G59-F59)) -> 0 | K58: =IF(OR(C58="Cp"),1,"") | R58: =((Q58-P58)-(Q59-P59)) -> 0 | V58: =IF(OR(C58="SiA",C58="SeA"),1,"")
D59: S
B60: =DATE(Calendrier!$A$1,_xlfn.SHEET()-1,(ROW()/2)-1) -> 43706 | D60: M | E60: =IF(C60="","",IF(OR(C60="Cp",C60="AM",C60="Re",C60="Fe"),"",1)) | H60: =((G60-F60)+(G61-F61)) -> 0 | K60: =IF(OR(C60="Cp"),1,"") | R60: =((Q60-P60)-(Q61-P61)) -> 0 | V60: =IF(OR(C60="SiA",C60="SeA"),1,"")
D61: S
B62: =DATE(Calendrier!$A$1,_xlfn.SHEET()-1,(ROW()/2)-1) -> 43707 | D62: M | E62: =IF(C62="","",IF(OR(C62="Cp",C62="AM",C62="Re",C62="Fe"),"",1)) | H62: =((G62-F62)+(G63-F63)) -> 0 | K62: =IF(OR(C62="Cp"),1,"") | R62: =((Q62-P62)-(Q63-P63)) -> 0 | V62: =IF(OR(C62="SiA",C62="SeA"),1,"")
D63: S
B64: =DATE(Calendrier!$A$1,_xlfn.SHEET()-1,(ROW()/2)-1) -> 43708 | D64: M | E64: =IF(C64="","",IF(OR(C64="Cp",C64="AM",C64="Re",C64="Fe"),"",1)) | H64: =((G64-F64)+(G65-F65)) -> 0 | K64: =IF(OR(C64="Cp"),1,"") | R64: =((Q64-P64)-(Q65-P65)) -> 0 | V64: =IF(OR(C64="SiA",C64="SeA"),1,"")
D65: S
B66: TOTAUX | E66: =SUM(E4:E65) -> 2 | F66: =SUM(H4:H65) -> 4 | I66: =SUM(I4:I65) -> 0 | J66: =SUM(J4:J65) -> 0 | K66: =SUM(K4:K65) -> 1 | N66: TOTAUX | O66: =SUM(O4:O65) -> 0 | R66: =SUM(R4:R30) -> 4 | S66: =SUM(S4:S65) -> 0 | T66: =SUM(T4:T65) -> 0 | U66: =SUM(U4:U65) -> 0 | V66: =SUM(V4:V65) -> 2 | W66: =SUM(W4:W65) -> 0

Sheet Sept
Y2: =SUM(O4:O30) -> 0
A3: S 01 | B3: DATE | C3: SERV | E3: J | F3: HA | G3: HD | I3: K | J3: Ser | K3: CP | L3: MOTIF DU DEPLACEMENT | O3: Panniers | P3: HSD | Q3: HSF | R3: H.Sup | S3: Maj Nuit | T3: Maj Dim. | U3: Maj J.Fé. | V3: Astreinte | W3: SSLIA | Y3: =SUM(O30:O30) -> 0
B4: =DATE(Calendrier!$A$1,_xlfn.SHEET()-1,(ROW()/2)-1) -> 43709 | C4: SiA | D4: M | E4: =IF(C4="","",IF(OR(C4="Cp",C4="AM",C4="Re",C4="Fe"),"",1)) -> 1 | F4: 8 | G4: 10 | H4: =((G4-F4)+(G5-F5)) -> 2 | K4: =IF(OR(C4="Cp"),1,"") | P4: 18 | Q4: 20 | R4: =((Q4-P4)-(Q5-P5)) -> 2 | V4: =IF(OR(C4="SiA",C4="SeA"),1,"") -> 1 | Y4: =SUM(#REF!) -> #REF!
A5: jui | D5: S
B6: =DATE(Calendrier!$A$1,_xlfn.SHEET()-1,(ROW()/2)-1) -> 43710 | C6: Cp | D6: M | E6: =IF(C6="","",IF(OR(C6="Cp",C6="AM",C6="Re",C6="Fe"),"",1)) | H6: =((G6-F6)+(G7-F7)) -> 0 | K6: =IF(OR(C6="Cp"),1,"") -> 1 | R6: =((Q6-P6)-(Q7-P7)) -> 0 | V6: =IF(OR(C6="SiA",C6="SeA"),1,"") | Y6: =SUM(#REF!) -> #REF!
D7: S
B8: =DATE(Calendrier!$A$1,_xlfn.SHEET()-1,(ROW()/2)-1) -> 43711 | C8: SeA | D8: M | E8: =IF(C8="","",IF(OR(C8="Cp",C8="AM",C8="Re",C8="Fe"),"",1)) -> 1 | H8: =((G8-F8)+(G9-F9)) -> 0 | K8: =IF(OR(C8="Cp"),1,"") | R8: =((Q8-P8)-(Q9-P9)) -> 0 | V8: =IF(OR(C8="SiA",C8="SeA"),1,"") -> 1
D9: S
B10: =DATE(Calendrier!$A$1,_xlfn.SHEET()-1,(ROW()/2)-1) -> 43712 | D10: M | E10: =IF(C10="","",IF(OR(C10="Cp",C10="AM",C10="Re",C10="Fe"),"",1)) | H10: =((G10-F10)+(G11-F11)) -> 0 | K10: =IF(OR(C10="Cp"),1,"") | R10: =((Q10-P10)-(Q11-P11)) -> 0 | V10: =IF(OR(C10="SiA",C10="SeA"),1,"")
D11: S
B12: =DATE(Calendrier!$A$1,_xlfn.SHEET()-1,(ROW()/2)-1) -> 43713 | D12: M | E12: =IF(C12="","",IF(OR(C12="Cp",C12="AM",C12="Re",C12="Fe"),"",1)) | H12: =((G12-F12)+(G13-F13)) -> 0 | K12: =IF(OR(C12="Cp"),1,"") | R12: =((Q12-P12)-(Q13-P13)) -> 0 | V12: =IF(OR(C12="SiA",C12="SeA"),1,"")
D13: S
B14: =DATE(Calendrier!$A$1,_xlfn.SHEET()-1,(ROW()/2)-1) -> 43714 | D14: M | E14: =IF(C14="","",IF(OR(C14="Cp",C14="AM",C14="Re",C14="Fe"),"",1)) | H14: =((G14-F14)+(G15-F15)) -> 0 | K14: =IF(OR(C14="Cp"),1,"") | R14: =((Q14-P14)-(Q15-P15)) -> 0 | V14: =IF(OR(C14="SiA",C14="SeA"),1,"")
A15: S 02 | D15: S
B16: =DATE(Calendrier!$A$1,_xlfn.SHEET()-1,(ROW()/2)-1) -> 43715 | D16: M | E16: =IF(C16="","",IF(OR(C16="Cp",C16="AM",C16="Re",C16="Fe"),"",1)) | F16: 8 | G16: 10 | H16: =((G16-F16)+(G17-F17)) -> 2 | K16: =IF(OR(C16="Cp"),1,"") | P16: 18 | Q16: 20 | R16: =((Q16-P16)-(Q17-P17)) -> 2 | V16: =IF(OR(C16="SiA",C16="SeA"),1,"")
A17: =SUM(H16:H31)+SUM(R16:R31) -> 4 | D17: S
B18: =DATE(Calendrier!$A$1,_xlfn.SHEET()-1,(ROW()/2)-1) -> 43716 | D18: M | E18: =IF(C18="","",IF(OR(C18="Cp",C18="AM",C18="Re",C18="Fe"),"",1)) | H18: =((G18-F18)+(G19-F19)) -> 0 | K18: =IF(OR(C18="Cp"),1,"") | R18: =((Q18-P18)-(Q19-P19)) -> 0 | V18: =IF(OR(C18="SiA",C18="SeA"),1,"")
D19: S
B20: =DATE(Calendrier!$A$1,_xlfn.SHEET()-1,(ROW()/2)-1) -> 43717 | D20: M | E20: =IF(C20="","",IF(OR(C20="Cp",C20="AM",C20="Re",C20="Fe"),"",1)) | H20: =((G20-F20)+(G21-F21)) -> 0 | K20: =IF(OR(C20="Cp"),1,"") | R20: =((Q20-P20)-(Q21-P21)) -> 0 | V20: =IF(OR(C20="SiA",C20="SeA"),1,"")
D21: S
B22: =DATE(Calendrier!$A$1,_xlfn.SHEET()-1,(ROW()/2)-1) -> 43718 | D22: M | E22: =IF(C22="","",IF(OR(C22="Cp",C22="AM",C22="Re",C22="Fe"),"",1)) | H22: =((G22-F22)+(G23-F23)) -> 0 | K22: =IF(OR(C22="Cp"),1,"") | R22: =((Q22-P22)-(Q23-P23)) -> 0 | V22: =IF(OR(C22="SiA",C22="SeA"),1,"")
D23: S
B24: =DATE(Calendrier!$A$1,_xlfn.SHEET()-1,(ROW()/2)-1) -> 43719 | D24: M | E24: =IF(C24="","",IF(OR(C24="Cp",C24="AM",C24="Re",C24="Fe"),"",1)) | H24: =((G24-F24)+(G25-F25)) -> 0 | K24: =IF(OR(C24="Cp"),1,"") | R24: =((Q24-P24)-(Q25-P25)) -> 0 | V24: =IF(OR(C24="SiA",C24="SeA"),1,"")
D25: S
B26: =DATE(Calendrier!$A$1,_xlfn.SHEET()-1,(ROW()/2)-1) -> 43720 | D26: M | E26: =IF(C26="","",IF(OR(C26="Cp",C26="AM",C26="Re",C26="Fe"),"",1)) | H26: =((G26-F26)+(G27-F27)) -> 0 | K26: =IF(OR(C26="Cp"),1,"") | R26: =((Q26-P26)-(Q27-P27)) -> 0 | V26: =IF(OR(C26="SiA",C26="SeA"),1,"")
D27: S
B28: =DATE(Calendrier!$A$1,_xlfn.SHEET()-1,(ROW()/2)-1) -> 43721 | D28: M | E28: =IF(C28="","",IF(OR(C28="Cp",C28="AM",C28="Re",C28="Fe"),"",1)) | H28: =((G28-F28)+(G29-F29)) -> 0 | K28: =IF(OR(C28="Cp"),1,"") | R28: =((Q28-P28)-(Q29-P29)) -> 0 | V28: =IF(OR(C28="SiA",C28="SeA"),1,"")
A29: S 03 | D29: S
B30: =DATE(Calendrier!$A$1,_xlfn.SHEET()-1,(ROW()/2)-1) -> 43722 | D30: M | E30: =IF(C30="","",IF(OR(C30="Cp",C30="AM",C30="Re",C30="Fe"),"",1)) | H30: =((G30-F30)+(G31-F31)) -> 0 | K30: =IF(OR(C30="Cp"),1,"") | R30: =((Q30-P30)-(Q31-P31)) -> 0 | V30: =IF(OR(C30="SiA",C30="SeA"),1,"")
D31: S
B32: =DATE(Calendrier!$A$1,_xlfn.SHEET()-1,(ROW()/2)-1) -> 43723 | D32: M | E32: =IF(C32="","",IF(OR(C32="Cp",C32="AM",C32="Re",C32="Fe"),"",1)) | H32: =((G32-F32)+(G33-F33)) -> 0 | K32: =IF(OR(C32="Cp"),1,"") | R32: =((Q32-P32)-(Q33-P33)) -> 0 | V32: =IF(OR(C32="SiA",C32="SeA"),1,"")
D33: S
B34: =DATE(Calendrier!$A$1,_xlfn.SHEET()-1,(ROW()/2)-1) -> 43724 | D34: M | E34: =IF(C34="","",IF(OR(C34="Cp",C34="AM",C34="Re",C34="Fe"),"",1)) | H34: =((G34-F34)+(G35-F35)) -> 0 | K34: =IF(OR(C34="Cp"),1,"") | R34: =((Q34-P34)-(Q35-P35)) -> 0 | V34: =IF(OR(C34="SiA",C34="SeA"),1,"")
D35: S
B36: =DATE(Calendrier!$A$1,_xlfn.SHEET()-1,(ROW()/2)-1) -> 43725 | D36: M | E36: =IF(C36="","",IF(OR(C36="Cp",C36="AM",C36="Re",C36="Fe"),"",1)) | H36: =((G36-F36)+(G37-F37)) -> 0 | K36: =IF(OR(C36="Cp"),1,"") | R36: =((Q36-P36)-(Q37-P37)) -> 0 | V36: =IF(OR(C36="SiA",C36="SeA"),1,"")
D37: S
B38: =DATE(Calendrier!$A$1,_xlfn.SHEET()-1,(ROW()/2)-1) -> 43726 | D38: M | E38: =IF(C38="","",IF(OR(C38="Cp",C38="AM",C38="Re",C38="Fe"),"",1)) | H38: =((G38-F38)+(G39-F39)) -> 0 | R38: =((Q38-P38)-(Q39-P39)) -> 0 | V38: =IF(OR(C38="SiA",C38="SeA"),1,"")
D39: S
B40: =DATE(Calendrier!$A$1,_xlfn.SHEET()-1,(ROW()/2)-1) -> 43727 | D40: M | E40: =IF(C40="","",IF(OR(C40="Cp",C40="AM",C40="Re",C40="Fe"),"",1)) | H40: =((G40-F40)+(G41-F41)) -> 0 | K40: =IF(OR(C40="Cp"),1,"") | R40: =((Q40-P40)-(Q41-P41)) -> 0 | V40: =IF(OR(C40="SiA",C40="SeA"),1,"")
D41: S
B42: =DATE(Calendrier!$A$1,_xlfn.SHEET()-1,(ROW()/2)-1) -> 43728 | D42: M | E42: =IF(C42="","",IF(OR(C42="Cp",C42="AM",C42="Re",C42="Fe"),"",1)) | H42: =((G42-F42)+(G43-F43)) -> 0 | K42: =IF(OR(C42="Cp"),1,"") | R42: =((Q42-P42)-(Q43-P43)) -> 0 | V42: =IF(OR(C42="SiA",C42="SeA"),1,"")
D43: S
B44: =DATE(Calendrier!$A$1,_xlfn.SHEET()-1,(ROW()/2)-1) -> 43729 | D44: M | E44: =IF(C44="","",IF(OR(C44="Cp",C44="AM",C44="Re",C44="Fe"),"",1)) | H44: =((G44-F44)+(G45-F45)) -> 0 | K44: =IF(OR(C44="Cp"),1,"") | R44: =((Q44-P44)-(Q45-P45)) -> 0 | V44: =IF(OR(C44="SiA",C44="SeA"),1,"")
D45: S
B46: =DATE(Calendrier!$A$1,_xlfn.SHEET()-1,(ROW()/2)-1) -> 43730 | D46: M | E46: =IF(C46="","",IF(OR(C46="Cp",C46="AM",C46="Re",C46="Fe"),"",1)) | H46: =((G46-F46)+(G47-F47)) -> 0 | K46: =IF(OR(C46="Cp"),1,"") | R46: =((Q46-P46)-(Q47-P47)) -> 0 | V46: =IF(OR(C46="SiA",C46="SeA"),1,"")
D47: S
B48: =DATE(Calendrier!$A$1,_xlfn.SHEET()-1,(ROW()/2)-1) -> 43731 | D48: M | E48: =IF(C48="","",IF(OR(C48="Cp",C48="AM",C48="Re",C48="Fe"),"",1)) | H48: =((G48-F48)+(G49-F49)) -> 0 | K48: =IF(OR(C48="Cp"),1,"") | R48: =((Q48-P48)-(Q49-P49)) -> 0 | V48: =IF(OR(C48="SiA",C48="SeA"),1,"")
D49: S
B50: =DATE(Calendrier!$A$1,_xlfn.SHEET()-1,(ROW()/2)-1) -> 43732 | D50: M | E50: =IF(C50="","",IF(OR(C50="Cp",C50="AM",C50="Re",C50="Fe"),"",1)) | H50: =((G50-F50)+(G51-F51)) -> 0 | K50: =IF(OR(C50="Cp"),1,"") | R50: =((Q50-P50)-(Q51-P51)) -> 0 | V50: =IF(OR(C50="SiA",C50="SeA"),1,"")
D51: S
B52: =DATE(Calendrier!$A$1,_xlfn.SHEET()-1,(ROW()/2)-1) -> 43733 | D52: M | E52: =IF(C52="","",IF(OR(C52="Cp",C52="AM",C52="Re",C52="Fe"),"",1)) | H52: =((G52-F52)+(G53-F53)) -> 0 | K52: =IF(OR(C52="Cp"),1,"") | R52: =((Q52-P52)-(Q53-P53)) -> 0 | V52: =IF(OR(C52="SiA",C52="SeA"),1,"")
D53: S
B54: =DATE(Calendrier!$A$1,_xlfn.SHEET()-1,(ROW()/2)-1) -> 43734 | D54: M | E54: =IF(C54="","",IF(OR(C54="Cp",C54="AM",C54="Re",C54="Fe"),"",1)) | H54: =((G54-F54)+(G55-F55)) -> 0 | K54: =IF(OR(C54="Cp"),1,"") | R54: =((Q54-P54)-(Q55-P55)) -> 0 | V54: =IF(OR(C54="SiA",C54="SeA"),1,"")
D55: S
B56: =DATE(Calendrier!$A$1,_xlfn.SHEET()-1,(ROW()/2)-1) -> 43735 | D56: M | E56: =IF(C56="","",IF(OR(C56="Cp",C56="AM",C56="Re",C56="Fe"),"",1)) | H56: =((G56-F56)+(G57-F57)) -> 0 | K56: =IF(OR(C56="Cp"),1,"") | R56: =((Q56-P56)-(Q57-P57)) -> 0 | V56: =IF(OR(C56="SiA",C56="SeA"),1,"")
D57: S
B58: =DATE(Calendrier!$A$1,_xlfn.SHEET()-1,(ROW()/2)-1) -> 43736 | D58: M | E58: =IF(C58="","",IF(OR(C58="Cp",C58="AM",C58="Re",C58="Fe"),"",1)) | H58: =((G58-F58)+(G59-F59)) -> 0 | K58: =IF(OR(C58="Cp"),1,"") | R58: =((Q58-P58)-(Q59-P59)) -> 0 | V58: =IF(OR(C58="SiA",C58="SeA"),1,"")
D59: S
B60: =DATE(Calendrier!$A$1,_xlfn.SHEET()-1,(ROW()/2)-1) -> 43737 | D60: M | E60: =IF(C60="","",IF(OR(C60="Cp",C60="AM",C60="Re",C60="Fe"),"",1)) | H60: =((G60-F60)+(G61-F61)) -> 0 | K60: =IF(OR(C60="Cp"),1,"") | R60: =((Q60-P60)-(Q61-P61)) -> 0 | V60: =IF(OR(C60="SiA",C60="SeA"),1,"")
D61: S
B62: =DATE(Calendrier!$A$1,_xlfn.SHEET()-1,(ROW()/2)-1) -> 43738 | D62: M | E62: =IF(C62="","",IF(OR(C62="Cp",C62="AM",C62="Re",C62="Fe"),"",1)) | H62: =((G62-F62)+(G63-F63)) -> 0 | K62: =IF(OR(C62="Cp"),1,"") | R62: =((Q62-P62)-(Q63-P63)) -> 0 | V62: =IF(OR(C62="SiA",C62="SeA"),1,"")
D63: S
B64: 31 | D64: M | E64: =IF(C64="","",IF(OR(C64="Cp",C64="AM",C64="Re",C64="Fe"),"",1)) | H64: =((G64-F64)+(G65-F65)) -> 0 | K64: =IF(OR(C64="Cp"),1,"") | R64: =((Q64-P64)-(Q65-P65)) -> 0 | V64: =IF(OR(C64="SiA",C64="SeA"),1,"")
D65: S
B66: TOTAUX | E66: =SUM(E4:E65) -> 2 | F66: =SUM(H4:H65) -> 4 | I66: =SUM(I4:I65) -> 0 | J66: =SUM(J4:J65) -> 0 | K66: =SUM(K4:K65) -> 1 | N66: TOTAUX | O66: =SUM(O4:O65) -> 0 | R66: =SUM(R4:R30) -> 4 | S66: =SUM(S4:S65) -> 0 | T66: =SUM(T4:T65) -> 0 | U66: =SUM(U4:U65) -> 0 | V66: =SUM(V4:V65) -> 2 | W66: =SUM(W4:W65) -> 0

Sheet Oct
Y2: =SUM(O4:O30) -> 0
A3: S 01 | B3: DATE | C3: SERV | E3: J | F3: HA | G3: HD | I3: K | J3: Ser | K3: CP | L3: MOTIF DU DEPLACEMENT | O3: Panniers | P3: HSD | Q3: HSF | R3: H.Sup | S3: Maj Nuit | T3: Maj Dim. | U3: Maj J.Fé. | V3: Astreinte | W3: SSLIA | Y3: =SUM(O30:O30) -> 0
B4: =DATE(Calendrier!$A$1,_xlfn.SHEET()-1,(ROW()/2)-1) -> 43739 | C4: SiA | D4: M | E4: =IF(C4="","",IF(OR(C4="Cp",C4="AM",C4="Re",C4="Fe"),"",1)) -> 1 | F4: 8 | G4: 10 | H4: =((G4-F4)+(G5-F5)) -> 2 | K4: =IF(OR(C4="Cp"),1,"") | P4: 18 | Q4: 20 | R4: =((Q4-P4)-(Q5-P5)) -> 2 | V4: =IF(OR(C4="SiA",C4="SeA"),1,"") -> 1 | Y4: =SUM(#REF!) -> #REF!
A5: jui | D5: S
B6: =DATE(Calendrier!$A$1,_xlfn.SHEET()-1,(ROW()/2)-1) -> 43740 | C6: Cp | D6: M | E6: =IF(C6="","",IF(OR(C6="Cp",C6="AM",C6="Re",C6="Fe"),"",1)) | H6: =((G6-F6)+(G7-F7)) -> 0 | K6: =IF(OR(C6="Cp"),1,"") -> 1 | R6: =((Q6-P6)-(Q7-P7)) -> 0 | V6: =IF(OR(C6="SiA",C6="SeA"),1,"") | Y6: =SUM(#REF!) -> #REF!
D7: S
B8: =DATE(Calendrier!$A$1,_xlfn.SHEET()-1,(ROW()/2)-1) -> 43741 | C8: SeA | D8: M | E8: =IF(C8="","",IF(OR(C8="Cp",C8="AM",C8="Re",C8="Fe"),"",1)) -> 1 | H8: =((G8-F8)+(G9-F9)) -> 0 | K8: =IF(OR(C8="Cp"),1,"") | R8: =((Q8-P8)-(Q9-P9)) -> 0 | V8: =IF(OR(C8="SiA",C8="SeA"),1,"") -> 1
D9: S
B10: =DATE(Calendrier!$A$1,_xlfn.SHEET()-1,(ROW()/2)-1) -> 43742 | D10: M | E10: =IF(C10="","",IF(OR(C10="Cp",C10="AM",C10="Re",C10="Fe"),"",1)) | H10: =((G10-F10)+(G11-F11)) -> 0 | K10: =IF(OR(C10="Cp"),1,"") | R10: =((Q10-P10)-(Q11-P11)) -> 0 | V10: =IF(OR(C10="SiA",C10="SeA"),1,"")
D11: S
B12: =DATE(Calendrier!$A$1,_xlfn.SHEET()-1,(ROW()/2)-1) -> 43743 | D12: M | E12: =IF(C12="","",IF(OR(C12="Cp",C12="AM",C12="Re",C12="Fe"),"",1)) | H12: =((G12-F12)+(G13-F13)) -> 0 | K12: =IF(OR(C12="Cp"),1,"") | R12: =((Q12-P12)-(Q13-P13)) -> 0 | V12: =IF(OR(C12="SiA",C12="SeA"),1,"")
D13: S
B14: =DATE(Calendrier!$A$1,_xlfn.SHEET()-1,(ROW()/2)-1) -> 43744 | D14: M | E14: =IF(C14="","",IF(OR(C14="Cp",C14="AM",C14="Re",C14="Fe"),"",1)) | H14: =((G14-F14)+(G15-F15)) -> 0 | K14: =IF(OR(C14="Cp"),1,"") | R14: =((Q14-P14)-(Q15-P15)) -> 0 | V14: =IF(OR(C14="SiA",C14="SeA"),1,"")
A15: S 02 | D15: S
B16: =DATE(Calendrier!$A$1,_xlfn.SHEET()-1,(ROW()/2)-1) -> 43745 | D16: M | E16: =IF(C16="","",IF(OR(C16="Cp",C16="AM",C16="Re",C16="Fe"),"",1)) | F16: 8 | G16: 10 | H16: =((G16-F16)+(G17-F17)) -> 2 | K16: =IF(OR(C16="Cp"),1,"") | P16: 18 | Q16: 20 | R16: =((Q16-P16)-(Q17-P17)) -> 2 | V16: =IF(OR(C16="SiA",C16="SeA"),1,"")
A17: =SUM(H16:H31)+SUM(R16:R31) -> 4 | D17: S
B18: =DATE(Calendrier!$A$1,_xlfn.SHEET()-1,(ROW()/2)-1) -> 43746 | D18: M | E18: =IF(C18="","",IF(OR(C18="Cp",C18="AM",C18="Re",C18="Fe"),"",1)) | H18: =((G18-F18)+(G19-F19)) -> 0 | K18: =IF(OR(C18="Cp"),1,"") | R18: =((Q18-P18)-(Q19-P19)) -> 0 | V18: =IF(OR(C18="SiA",C18="SeA"),1,"")
D19: S
B20: =DATE(Calendrier!$A$1,_xlfn.SHEET()-1,(ROW()/2)-1) -> 43747 | D20: M | E20: =IF(C20="","",IF(OR(C20="Cp",C20="AM",C20="Re",C20="Fe"),"",1)) | H20: =((G20-F20)+(G21-F21)) -> 0 | K20: =IF(OR(C20="Cp"),1,"") | R20: =((Q20-P20)-(Q21-P21)) -> 0 | V20: =IF(OR(C20="SiA",C20="SeA"),1,"")
D21: S
B22: =DATE(Calendrier!$A$1,_xlfn.SHEET()-1,(ROW()/2)-1) -> 43748 | D22: M | E22: =IF(C22="","",IF(OR(C22="Cp",C22="AM",C22="Re",C22="Fe"),"",1)) | H22: =((G22-F22)+(G23-F23)) -> 0 | K22: =IF(OR(C22="Cp"),1,"") | R22: =((Q22-P22)-(Q23-P23)) -> 0 | V22: =IF(OR(C22="SiA",C22="SeA"),1,"")
D23: S
B24: =DATE(Calendrier!$A$1,_xlfn.SHEET()-1,(ROW()/2)-1) -> 43749 | D24: M | E24: =IF(C24="","",IF(OR(C24="Cp",C24="AM",C24="Re",C24="Fe"),"",1)) | H24: =((G24-F24)+(G25-F25)) -> 0 | K24: =IF(OR(C24="Cp"),1,"") | R24: =((Q24-P24)-(Q25-P25)) -> 0 | V24: =IF(OR(C24="SiA",C24="SeA"),1,"")
D25: S
B26: =DATE(Calendrier!$A$1,_xlfn.SHEET()-1,(ROW()/2)-1) -> 43750 | D26: M | E26: =IF(C26="","",IF(OR(C26="Cp",C26="AM",C26="Re",C26="Fe"),"",1)) | H26: =((G26-F26)+(G27-F27)) -> 0 | K26: =IF(OR(C26="Cp"),1,"") | R26: =((Q26-P26)-(Q27-P27)) -> 0 | V26: =IF(OR(C26="SiA",C26="SeA"),1,"")
D27: S
B28: =DATE(Calendrier!$A$1,_xlfn.SHEET()-1,(ROW()/2)-1) -> 43751 | D28: M | E28: =IF(C28="","",IF(OR(C28="Cp",C28="AM",C28="Re",C28="Fe"),"",1)) | H28: =((G28-F28)+(G29-F29)) -> 0 | K28: =IF(OR(C28="Cp"),1,"") | R28: =((Q28-P28)-(Q29-P29)) -> 0 | V28: =IF(OR(C28="SiA",C28="SeA"),1,"")
A29: S 03 | D29: S
B30: =DATE(Calendrier!$A$1,_xlfn.SHEET()-1,(ROW()/2)-1) -> 43752 | D30: M | E30: =IF(C30="","",IF(OR(C30="Cp",C30="AM",C30="Re",C30="Fe"),"",1)) | H30: =((G30-F30)+(G31-F31)) -> 0 | K30: =IF(OR(C30="Cp"),1,"") | R30: =((Q30-P30)-(Q31-P31)) -> 0 | V30: =IF(OR(C30="SiA",C30="SeA"),1,"")
D31: S
B32: =DATE(Calendrier!$A$1,_xlfn.SHEET()-1,(ROW()/2)-1) -> 43753 | D32: M | E32: =IF(C32="","",IF(OR(C32="Cp",C32="AM",C32="Re",C32="Fe"),"",1)) | H32: =((G32-F32)+(G33-F33)) -> 0 | K32: =IF(OR(C32="Cp"),1,"") | R32: =((Q32-P32)-(Q33-P33)) -> 0 | V32: =IF(OR(C32="SiA",C32="SeA"),1,"")
D33: S
B34: =DATE(Calendrier!$A$1,_xlfn.SHEET()-1,(ROW()/2)-1) -> 43754 | D34: M | E34: =IF(C34="","",IF(OR(C34="Cp",C34="AM",C34="Re",C34="Fe"),"",1)) | H34: =((G34-F34)+(G35-F35)) -> 0 | K34: =IF(OR(C34="Cp"),1,"") | R34: =((Q34-P34)-(Q35-P35)) -> 0 | V34: =IF(OR(C34="SiA",C34="SeA"),1,"")
D35: S
B36: =DATE(Calendrier!$A$1,_xlfn.SHEET()-1,(ROW()/2)-1) -> 43755 | D36: M | E36: =IF(C36="","",IF(OR(C36="Cp",C36="AM",C36="Re",C36="Fe"),"",1)) | H36: =((G36-F36)+(G37-F37)) -> 0 | K36: =IF(OR(C36="Cp"),1,"") | R36: =((Q36-P36)-(Q37-P37)) -> 0 | V36: =IF(OR(C36="SiA",C36="SeA"),1,"")
D37: S
B38: =DATE(Calendrier!$A$1,_xlfn.SHEET()-1,(ROW()/2)-1) -> 43756 | D38: M | E38: =IF(C38="","",IF(OR(C38="Cp",C38="AM",C38="Re",C38="Fe"),"",1)) | H38: =((G38-F38)+(G39-F39)) -> 0 | R38: =((Q38-P38)-(Q39-P39)) -> 0 | V38: =IF(OR(C38="SiA",C38="SeA"),1,"")
D39: S
B40: =DATE(Calendrier!$A$1,_xlfn.SHEET()-1,(ROW()/2)-1) -> 43757 | D40: M | E40: =IF(C40="","",IF(OR(C40="Cp",C40="AM",C40="Re",C40="Fe"),"",1)) | H40: =((G40-F40)+(G41-F41)) -> 0 | K40: =IF(OR(C40="Cp"),1,"") | R40: =((Q40-P40)-(Q41-P41)) -> 0 | V40: =IF(OR(C40="SiA",C40="SeA"),1,"")
D41: S
B42: =DATE(Calendrier!$A$1,_xlfn.SHEET()-1,(ROW()/2)-1) -> 43758 | D42: M | E42: =IF(C42="","",IF(OR(C42="Cp",C42="AM",C42="Re",C42="Fe"),"",1)) | H42: =((G42-F42)+(G43-F43)) -> 0 | K42: =IF(OR(C42="Cp"),1,"") | R42: =((Q42-P42)-(Q43-P43)) -> 0 | V42: =IF(OR(C42="SiA",C42="SeA"),1,"")
D43: S
B44: =DATE(Calendrier!$A$1,_xlfn.SHEET()-1,(ROW()/2)-1) -> 43759 | D44: M | E44: =IF(C44="","",IF(OR(C44="Cp",C44="AM",C44="Re",C44="Fe"),"",1)) | H44: =((G44-F44)+(G45-F45)) -> 0 | K44: =IF(OR(C44="Cp"),1,"") | R44: =((Q44-P44)-(Q45-P45)) -> 0 | V44: =IF(OR(C44="SiA",C44="SeA"),1,"")
D45: S
B46: =DATE(Calendrier!$A$1,_xlfn.SHEET()-1,(ROW()/2)-1) -> 43760 | D46: M | E46: =IF(C46="","",IF(OR(C46="Cp",C46="AM",C46="Re",C46="Fe"),"",1)) | H46: =((G46-F46)+(G47-F47)) -> 0 | K46: =IF(OR(C46="Cp"),1,"") | R46: =((Q46-P46)-(Q47-P47)) -> 0 | V46: =IF(OR(C46="SiA",C46="SeA"),1,"")
D47: S
B48: =DATE(Calendrier!$A$1,_xlfn.SHEET()-1,(ROW()/2)-1) -> 43761 | D48: M | E48: =IF(C48="","",IF(OR(C48="Cp",C48="AM",C48="Re",C48="Fe"),"",1)) | H48: =((G48-F48)+(G49-F49)) -> 0 | K48: =IF(OR(C48="Cp"),1,"") | R48: =((Q48-P48)-(Q49-P49)) -> 0 | V48: =IF(OR(C48="SiA",C48="SeA"),1,"")
D49: S
B50: =DATE(Calendrier!$A$1,_xlfn.SHEET()-1,(ROW()/2)-1) -> 43762 | D50: M | E50: =IF(C50="","",IF(OR(C50="Cp",C50="AM",C50="Re",C50="Fe"),"",1)) | H50: =((G50-F50)+(G51-F51)) -> 0 | K50: =IF(OR(C50="Cp"),1,"") | R50: =((Q50-P50)-(Q51-P51)) -> 0 | V50: =IF(OR(C50="SiA",C50="SeA"),1,"")
D51: S
B52: =DATE(Calendrier!$A$1,_xlfn.SHEET()-1,(ROW()/2)-1) -> 43763 | D52: M | E52: =IF(C52="","",IF(OR(C52="Cp",C52="AM",C52="Re",C52="Fe"),"",1)) | H52: =((G52-F52)+(G53-F53)) -> 0 | K52: =IF(OR(C52="Cp"),1,"") | R52: =((Q52-P52)-(Q53-P53)) -> 0 | V52: =IF(OR(C52="SiA",C52="SeA"),1,"")
D53: S
B54: =DATE(Calendrier!$A$1,_xlfn.SHEET()-1,(ROW()/2)-1) -> 43764 | D54: M | E54: =IF(C54="","",IF(OR(C54="Cp",C54="AM",C54="Re",C54="Fe"),"",1)) | H54: =((G54-F54)+(G55-F55)) -> 0 | K54: =IF(OR(C54="Cp"),1,"") | R54: =((Q54-P54)-(Q55-P55)) -> 0 | V54: =IF(OR(C54="SiA",C54="SeA"),1,"")
D55: S
B56: =DATE(Calendrier!$A$1,_xlfn.SHEET()-1,(ROW()/2)-1) -> 43765 | D56: M | E56: =IF(C56="","",IF(OR(C56="Cp",C56="AM",C56="Re",C56="Fe"),"",1)) | H56: =((G56-F56)+(G57-F57)) -> 0 | K56: =IF(OR(C56="Cp"),1,"") | R56: =((Q56-P56)-(Q57-P57)) -> 0 | V56: =IF(OR(C56="SiA",C56="SeA"),1,"")
D57: S
B58: =DATE(Calendrier!$A$1,_xlfn.SHEET()-1,(ROW()/2)-1) -> 43766 | D58: M | E58: =IF(C58="","",IF(OR(C58="Cp",C58="AM",C58="Re",C58="Fe"),"",1)) | H58: =((G58-F58)+(G59-F59)) -> 0 | K58: =IF(OR(C58="Cp"),1,"") | R58: =((Q58-P58)-(Q59-P59)) -> 0 | V58: =IF(OR(C58="SiA",C58="SeA"),1,"")
D59: S
B60: =DATE(Calendrier!$A$1,_xlfn.SHEET()-1,(ROW()/2)-1) -> 43767 | D60: M | E60: =IF(C60="","",IF(OR(C60="Cp",C60="AM",C60="Re",C60="Fe"),"",1)) | H60: =((G60-F60)+(G61-F61)) -> 0 | K60: =IF(OR(C60="Cp"),1,"") | R60: =((Q60-P60)-(Q61-P61)) -> 0 | V60: =IF(OR(C60="SiA",C60="SeA"),1,"")
D61: S
B62: =DATE(Calendrier!$A$1,_xlfn.SHEET()-1,(ROW()/2)-1) -> 43768 | D62: M | E62: =IF(C62="","",IF(OR(C62="Cp",C62="AM",C62="Re",C62="Fe"),"",1)) | H62: =((G62-F62)+(G63-F63)) -> 0 | K62: =IF(OR(C62="Cp"),1,"") | R62: =((Q62-P62)-(Q63-P63)) -> 0 | V62: =IF(OR(C62="SiA",C62="SeA"),1,"")
D63: S
B64: =DATE(Calendrier!$A$1,_xlfn.SHEET()-1,(ROW()/2)-1) -> 43769 | D64: M | E64: =IF(C64="","",IF(OR(C64="Cp",C64="AM",C64="Re",C64="Fe"),"",1)) | H64: =((G64-F64)+(G65-F65)) -> 0 | K64: =IF(OR(C64="Cp"),1,"") | R64: =((Q64-P64)-(Q65-P65)) -> 0 | V64: =IF(OR(C64="SiA",C64="SeA"),1,"")
D65: S
B66: TOTAUX | E66: =SUM(E4:E65) -> 2 | F66: =SUM(H4:H65) -> 4 | I66: =SUM(I4:I65) -> 0 | J66: =SUM(J4:J65) -> 0 | K66: =SUM(K4:K65) -> 1 | N66: TOTAUX | O66: =SUM(O4:O65) -> 0 | R66: =SUM(R4:R30) -> 4 | S66: =SUM(S4:S65) -> 0 | T66: =SUM(T4:T65) -> 0 | U66: =SUM(U4:U65) -> 0 | V66: =SUM(V4:V65) -> 2 | W66: =SUM(W4:W65) -> 0

Sheet Nov
Y2: =SUM(O4:O30) -> 0
A3: S 01 | B3: DATE | C3: SERV | E3: J | F3: HA | G3: HD | I3: K | J3: Ser | K3: CP | L3: MOTIF DU DEPLACEMENT | O3: Panniers | P3: HSD | Q3: HSF | R3: H.Sup | S3: Maj Nuit | T3: Maj Dim. | U3: Maj J.Fé. | V3: Astreinte | W3: SSLIA | Y3: =SUM(O30:O30) -> 0
B4: =DATE(Calendrier!$A$1,_xlfn.SHEET()-1,(ROW()/2)-1) -> 43770 | C4: SiA | D4: M | E4: =IF(C4="","",IF(OR(C4="Cp",C4="AM",C4="Re",C4="Fe"),"",1)) -> 1 | F4: 8 | G4: 10 | H4: =((G4-F4)+(G5-F5)) -> 2 | K4: =IF(OR(C4="Cp"),1,"") | P4: 18 | Q4: 20 | R4: =((Q4-P4)-(Q5-P5)) -> 2 | V4: =IF(OR(C4="SiA",C4="SeA"),1,"") -> 1 | Y4: =SUM(#REF!) -> #REF!
D5: S
B6: =DATE(Calendrier!$A$1,_xlfn.SHEET()-1,(ROW()/2)-1) -> 43771 | C6: Cp | D6: M | E6: =IF(C6="","",IF(OR(C6="Cp",C6="AM",C6="Re",C6="Fe"),"",1)) | H6: =((G6-F6)+(G7-F7)) -> 0 | K6: =IF(OR(C6="Cp"),1,"") -> 1 | R6: =((Q6-P6)-(Q7-P7)) -> 0 | V6: =IF(OR(C6="SiA",C6="SeA"),1,"") | Y6: =SUM(#REF!) -> #REF!
D7: S
B8: =DATE(Calendrier!$A$1,_xlfn.SHEET()-1,(ROW()/2)-1) -> 43772 | C8: SeA | D8: M | E8: =IF(C8="","",IF(OR(C8="Cp",C8="AM",C8="Re",C8="Fe"),"",1)) -> 1 | H8: =((G8-F8)+(G9-F9)) -> 0 | K8: =IF(OR(C8="Cp"),1,"") | R8: =((Q8-P8)-(Q9-P9)) -> 0 | V8: =IF(OR(C8="SiA",C8="SeA"),1,"") -> 1
D9: S
B10: =DATE(Calendrier!$A$1,_xlfn.SHEET()-1,(ROW()/2)-1) -> 43773 | D10: M | E10: =IF(C10="","",IF(OR(C10="Cp",C10="AM",C10="Re",C10="Fe"),"",1)) | H10: =((G10-F10)+(G11-F11)) -> 0 | K10: =IF(OR(C10="Cp"),1,"") | R10: =((Q10-P10)-(Q11-P11)) -> 0 | V10: =IF(OR(C10="SiA",C10="SeA"),1,"")
D11: S
B12: =DATE(Calendrier!$A$1,_xlfn.SHEET()-1,(ROW()/2)-1) -> 43774 | D12: M | E12: =IF(C12="","",IF(OR(C12="Cp",C12="AM",C12="Re",C12="Fe"),"",1)) | H12: =((G12-F12)+(G13-F13)) -> 0 | K12: =IF(OR(C12="Cp"),1,"") | R12: =((Q12-P12)-(Q13-P13)) -> 0 | V12: =IF(OR(C12="SiA",C12="SeA"),1,"")
D13: S
B14: =DATE(Calendrier!$A$1,_xlfn.SHEET()-1,(ROW()/2)-1) -> 43775 | D14: M | E14: =IF(C14="","",IF(OR(C14="Cp",C14="AM",C14="Re",C14="Fe"),"",1)) | H14: =((G14-F14)+(G15-F15)) -> 0 | K14: =IF(OR(C14="Cp"),1,"") | R14: =((Q14-P14)-(Q15-P15)) -> 0 | V14: =IF(OR(C14="SiA",C14="SeA"),1,"")
A15: S 02 | D15: S
B16: =DATE(Calendrier!$A$1,_xlfn.SHEET()-1,(ROW()/2)-1) -> 43776 | D16: M | E16: =IF(C16="","",IF(OR(C16="Cp",C16="AM",C16="Re",C16="Fe"),"",1)) | F16: 8 | G16: 10 | H16: =((G16-F16)+(G17-F17)) -> 2 | K16: =IF(OR(C16="Cp"),1,"") | P16: 18 | Q16: 20 | R16: =((Q16-P16)-(Q17-P17)) -> 2 | V16: =IF(OR(C16="SiA",C16="SeA"),1,"")
A17: =SUM(H16:H31)+SUM(R16:R31) -> 4 | D17: S
B18: =DATE(Calendrier!$A$1,_xlfn.SHEET()-1,(ROW()/2)-1) -> 43777 | D18: M | E18: =IF(C18="","",IF(OR(C18="Cp",C18="AM",C18="Re",C18="Fe"),"",1)) | H18: =((G18-F18)+(G19-F19)) -> 0 | K18: =IF(OR(C18="Cp"),1,"") | R18: =((Q18-P18)-(Q19-P19)) -> 0 | V18: =IF(OR(C18="SiA",C18="SeA"),1,"")
D19: S
B20: =DATE(Calendrier!$A$1,_xlfn.SHEET()-1,(ROW()/2)-1) -> 43778 | D20: M | E20: =IF(C20="","",IF(OR(C20="Cp",C20="AM",C20="Re",C20="Fe"),"",1)) | H20: =((G20-F20)+(G21-F21)) -> 0 | K20: =IF(OR(C20="Cp"),1,"") | R20: =((Q20-P20)-(Q21-P21)) -> 0 | V20: =IF(OR(C20="SiA",C20="SeA"),1,"")
D21: S
B22: =DATE(Calendrier!$A$1,_xlfn.SHEET()-1,(ROW()/2)-1) -> 43779 | D22: M | E22: =IF(C22="","",IF(OR(C22="Cp",C22="AM",C22="Re",C22="Fe"),"",1)) | H22: =((G22-F22)+(G23-F23)) -> 0 | K22: =IF(OR(C22="Cp"),1,"") | R22: =((Q22-P22)-(Q23-P23)) -> 0 | V22: =IF(OR(C22="SiA",C22="SeA"),1,"")
D23: S
B24: =DATE(Calendrier!$A$1,_xlfn.SHEET()-1,(ROW()/2)-1) -> 43780 | D24: M | E24: =IF(C24="","",IF(OR(C24="Cp",C24="AM",C24="Re",C24="Fe"),"",1)) | H24: =((G24-F24)+(G25-F25)) -> 0 | K24: =IF(OR(C24="Cp"),1,"") | R24: =((Q24-P24)-(Q25-P25)) -> 0 | V24: =IF(OR(C24="SiA",C24="SeA"),1,"")
D25: S
B26: =DATE(Calendrier!$A$1,_xlfn.SHEET()-1,(ROW()/2)-1) -> 43781 | D26: M | E26: =IF(C26="","",IF(OR(C26="Cp",C26="AM",C26="Re",C26="Fe"),"",1)) | H26: =((G26-F26)+(G27-F27)) -> 0 | K26: =IF(OR(C26="Cp"),1,"") | R26: =((Q26-P26)-(Q27-P27)) -> 0 | V26: =IF(OR(C26="SiA",C26="SeA"),1,"")
D27: S
B28: =DATE(Calendrier!$A$1,_xlfn.SHEET()-1,(ROW()/2)-1) -> 43782 | D28: M | E28: =IF(C28="","",IF(OR(C28="Cp",C28="AM",C28="Re",C28="Fe"),"",1)) | H28: =((G28-F28)+(G29-F29)) -> 0 | K28: =IF(OR(C28="Cp"),1,"") | R28: =((Q28-P28)-(Q29-P29)) -> 0 | V28: =IF(OR(C28="SiA",C28="SeA"),1,"")
A29: S 03 | D29: S
B30: =DATE(Calendrier!$A$1,_xlfn.SHEET()-1,(ROW()/2)-1) -> 43783 | D30: M | E30: =IF(C30="","",IF(OR(C30="Cp",C30="AM",C30="Re",C30="Fe"),"",1)) | H30: =((G30-F30)+(G31-F31)) -> 0 | K30: =IF(OR(C30="Cp"),1,"") | R30: =((Q30-P30)-(Q31-P31)) -> 0 | V30: =IF(OR(C30="SiA",C30="SeA"),1,"")
D31: S
B32: =DATE(Calendrier!$A$1,_xlfn.SHEET()-1,(ROW()/2)-1) -> 43784 | D32: M | E32: =IF(C32="","",IF(OR(C32="Cp",C32="AM",C32="Re",C32="Fe"),"",1)) | H32: =((G32-F32)+(G33-F33)) -> 0 | K32: =IF(OR(C32="Cp"),1,"") | R32: =((Q32-P32)-(Q33-P33)) -> 0 | V32: =IF(OR(C32="SiA",C32="SeA"),1,"")
D33: S
B34: =DATE(Calendrier!$A$1,_xlfn.SHEET()-1,(ROW()/2)-1) -> 43785 | D34: M | E34: =IF(C34="","",IF(OR(C34="Cp",C34="AM",C34="Re",C34="Fe"),"",1)) | H34: =((G34-F34)+(G35-F35)) -> 0 | K34: =IF(OR(C34="Cp"),1,"") | R34: =((Q34-P34)-(Q35-P35)) -> 0 | V34: =IF(OR(C34="SiA",C34="SeA"),1,"")
D35: S
B36: =DATE(Calendrier!$A$1,_xlfn.SHEET()-1,(ROW()/2)-1) -> 43786 | D36: M | E36: =IF(C36="","",IF(OR(C36="Cp",C36="AM",C36="Re",C36="Fe"),"",1)) | H36: =((G36-F36)+(G37-F37)) -> 0 | K36: =IF(OR(C36="Cp"),1,"") | R36: =((Q36-P36)-(Q37-P37)) -> 0 | V36: =IF(OR(C36="SiA",C36="SeA"),1,"")
D37: S
B38: =DATE(Calendrier!$A$1,_xlfn.SHEET()-1,(ROW()/2)-1) -> 43787 | D38: M | E38: =IF(C38="","",IF(OR(C38="Cp",C38="AM",C38="Re",C38="Fe"),"",1)) | H38: =((G38-F38)+(G39-F39)) -> 0 | R38: =((Q38-P38)-(Q39-P39)) -> 0 | V38: =IF(OR(C38="SiA",C38="SeA"),1,"")
D39: S
B40: =DATE(Calendrier!$A$1,_xlfn.SHEET()-1,(ROW()/2)-1) -> 43788 | D40: M | E40: =IF(C40="","",IF(OR(C40="Cp",C40="AM",C40="Re",C40="Fe"),"",1)) | H40: =((G40-F40)+(G41-F41)) -> 0 | K40: =IF(OR(C40="Cp"),1,"") | R40: =((Q40-P40)-(Q41-P41)) -> 0 | V40: =IF(OR(C40="SiA",C40="SeA"),1,"")
D41: S
B42: =DATE(Calendrier!$A$1,_xlfn.SHEET()-1,(ROW()/2)-1) -> 43789 | D42: M | E42: =IF(C42="","",IF(OR(C42="Cp",C42="AM",C42="Re",C42="Fe"),"",1)) | H42: =((G42-F42)+(G43-F43)) -> 0 | K42: =IF(OR(C42="Cp"),1,"") | R42: =((Q42-P42)-(Q43-P43)) -> 0 | V42: =IF(OR(C42="SiA",C42="SeA"),1,"")
D43: S
B44: =DATE(Calendrier!$A$1,_xlfn.SHEET()-1,(ROW()/2)-1) -> 43790 | D44: M | E44: =IF(C44="","",IF(OR(C44="Cp",C44="AM",C44="Re",C44="Fe"),"",1)) | H44: =((G44-F44)+(G45-F45)) -> 0 | K44: =IF(OR(C44="Cp"),1,"") | R44: =((Q44-P44)-(Q45-P45)) -> 0 | V44: =IF(OR(C44="SiA",C44="SeA"),1,"")
D45: S
B46: =DATE(Calendrier!$A$1,_xlfn.SHEET()-1,(ROW()/2)-1) -> 43791 | D46: M | E46: =IF(C46="","",IF(OR(C46="Cp",C46="AM",C46="Re",C46="Fe"),"",1)) | H46: =((G46-F46)+(G47-F47)) -> 0 | K46: =IF(OR(C46="Cp"),1,"") | R46: =((Q46-P46)-(Q47-P47)) -> 0 | V46: =IF(OR(C46="SiA",C46="SeA"),1,"")
D47: S
B48: =DATE(Calendrier!$A$1,_xlfn.SHEET()-1,(ROW()/2)-1) -> 43792 | D48: M | E48: =IF(C48="","",IF(OR(C48="Cp",C48="AM",C48="Re",C48="Fe"),"",1)) | H48: =((G48-F48)+(G49-F49)) -> 0 | K48: =IF(OR(C48="Cp"),1,"") | R48: =((Q48-P48)-(Q49-P49)) -> 0 | V48: =IF(OR(C48="SiA",C48="SeA"),1,"")
D49: S
B50: =DATE(Calendrier!$A$1,_xlfn.SHEET()-1,(ROW()/2)-1) -> 43793 | D50: M | E50: =IF(C50="","",IF(OR(C50="Cp",C50="AM",C50="Re",C50="Fe"),"",1)) | H50: =((G50-F50)+(G51-F51)) -> 0 | K50: =IF(OR(C50="Cp"),1,"") | R50: =((Q50-P50)-(Q51-P51)) -> 0 | V50: =IF(OR(C50="SiA",C50="SeA"),1,"")
D51: S
B52: =DATE(Calendrier!$A$1,_xlfn.SHEET()-1,(ROW()/2)-1) -> 43794 | D52: M | E52: =IF(C52="","",IF(OR(C52="Cp",C52="AM",C52="Re",C52="Fe"),"",1)) | H52: =((G52-F52)+(G53-F53)) -> 0 | K52: =IF(OR(C52="Cp"),1,"") | R52: =((Q52-P52)-(Q53-P53)) -> 0 | V52: =IF(OR(C52="SiA",C52="SeA"),1,"")
D53: S
B54: =DATE(Calendrier!$A$1,_xlfn.SHEET()-1,(ROW()/2)-1) -> 43795 | D54: M | E54: =IF(C54="","",IF(OR(C54="Cp",C54="AM",C54="Re",C54="Fe"),"",1)) | H54: =((G54-F54)+(G55-F55)) -> 0 | K54: =IF(OR(C54="Cp"),1,"") | R54: =((Q54-P54)-(Q55-P55)) -> 0 | V54: =IF(OR(C54="SiA",C54="SeA"),1,"")
D55: S
B56: =DATE(Calendrier!$A$1,_xlfn.SHEET()-1,(ROW()/2)-1) -> 43796 | D56: M | E56: =IF(C56="","",IF(OR(C56="Cp",C56="AM",C56="Re",C56="Fe"),"",1)) | H56: =((G56-F56)+(G57-F57)) -> 0 | K56: =IF(OR(C56="Cp"),1,"") | R56: =((Q56-P56)-(Q57-P57)) -> 0 | V56: =IF(OR(C56="SiA",C56="SeA"),1,"")
D57: S
B58: =DATE(Calendrier!$A$1,_xlfn.SHEET()-1,(ROW()/2)-1) -> 43797 | D58: M | E58: =IF(C58="","",IF(OR(C58="Cp",C58="AM",C58="Re",C58="Fe"),"",1)) | H58: =((G58-F58)+(G59-F59)) -> 0 | K58: =IF(OR(C58="Cp"),1,"") | R58: =((Q58-P58)-(Q59-P59)) -> 0 | V58: =IF(OR(C58="SiA",C58="SeA"),1,"")
D59: S
B60: =DATE(Calendrier!$A$1,_xlfn.SHEET()-1,(ROW()/2)-1) -> 43798 | D60: M | E60: =IF(C60="","",IF(OR(C60="Cp",C60="AM",C60="Re",C60="Fe"),"",1)) | H60: =((G60-F60)+(G61-F61)) -> 0 | K60: =IF(OR(C60="Cp"),1,"") | R60: =((Q60-P60)-(Q61-P61)) -> 0 | V60: =IF(OR(C60="SiA",C60="SeA"),1,"")
D61: S
B62: =DATE(Calendrier!$A$1,_xlfn.SHEET()-1,(ROW()/2)-1) -> 43799 | D62: M | E62: =IF(C62="","",IF(OR(C62="Cp",C62="AM",C62="Re",C62="Fe"),"",1)) | H62: =((G62-F62)+(G63-F63)) -> 0 | K62: =IF(OR(C62="Cp"),1,"") | R62: =((Q62-P62)-(Q63-P63)) -> 0 | V62: =IF(OR(C62="SiA",C62="SeA"),1,"")
D63: S
B64: 31 | D64: M | E64: =IF(C64="","",IF(OR(C64="Cp",C64="AM",C64="Re",C64="Fe"),"",1)) | H64: =((G64-F64)+(G65-F65)) -> 0 | K64: =IF(OR(C64="Cp"),1,"") | R64: =((Q64-P64)-(Q65-P65)) -> 0 | V64: =IF(OR(C64="SiA",C64="SeA"),1,"")
D65: S
B66: TOTAUX | E66: =SUM(E4:E65) -> 2 | F66: =SUM(H4:H65) -> 4 | I66: =SUM(I4:I65) -> 0 | J66: =SUM(J4:J65) -> 0 | K66: =SUM(K4:K65) -> 1 | N66: TOTAUX | O66: =SUM(O4:O65) -> 0 | R66: =SUM(R4:R30) -> 4 | S66: =SUM(S4:S65) -> 0 | T66: =SUM(T4:T65) -> 0 | U66: =SUM(U4:U65) -> 0 | V66: =SUM(V4:V65) -> 2 | W66: =SUM(W4:W65) -> 0

Sheet Dec
Y2: =SUM(O4:O30) -> 0
A3: S 01 | B3: DATE | C3: SERV | E3: J | F3: HA | G3: HD | I3: K | J3: Ser | K3: CP | L3: MOTIF DU DEPLACEMENT | O3: Panniers | P3: HSD | Q3: HSF | R3: H.Sup | S3: Maj Nuit | T3: Maj Dim. | U3: Maj J.Fé. | V3: Astreinte | W3: SSLIA | Y3: =SUM(O30:O30) -> 0
B4: =DATE(Calendrier!$A$1,_xlfn.SHEET()-1,(ROW()/2)-1) -> 43800 | C4: SiA | D4: M | E4: =IF(C4="","",IF(OR(C4="Cp",C4="AM",C4="Re",C4="Fe"),"",1)) -> 1 | F4: 8 | G4: 10 | H4: =((G4-F4)+(G5-F5)) -> 2 | K4: =IF(OR(C4="Cp"),1,"") | P4: 18 | Q4: 20 | R4: =((Q4-P4)-(Q5-P5)) -> 2 | V4: =IF(OR(C4="SiA",C4="SeA"),1,"") -> 1 | Y4: =SUM(#REF!) -> #REF!
D5: S
B6: =DATE(Calendrier!$A$1,_xlfn.SHEET()-1,(ROW()/2)-1) -> 43801 | C6: Cp | D6: M | E6: =IF(C6="","",IF(OR(C6="Cp",C6="AM",C6="Re",C6="Fe"),"",1)) | H6: =((G6-F6)+(G7-F7)) -> 0 | K6: =IF(OR(C6="Cp"),1,"") -> 1 | R6: =((Q6-P6)-(Q7-P7)) -> 0 | V6: =IF(OR(C6="SiA",C6="SeA"),1,"") | Y6: =SUM(#REF!) -> #REF!
D7: S
B8: =DATE(Calendrier!$A$1,_xlfn.SHEET()-1,(ROW()/2)-1) -> 43802 | C8: SeA | D8: M | E8: =IF(C8="","",IF(OR(C8="Cp",C8="AM",C8="Re",C8="Fe"),"",1)) -> 1 | H8: =((G8-F8)+(G9-F9)) -> 0 | K8: =IF(OR(C8="Cp"),1,"") | R8: =((Q8-P8)-(Q9-P9)) -> 0 | V8: =IF(OR(C8="SiA",C8="SeA"),1,"") -> 1
D9: S
B10: =DATE(Calendrier!$A$1,_xlfn.SHEET()-1,(ROW()/2)-1) -> 43803 | D10: M | E10: =IF(C10="","",IF(OR(C10="Cp",C10="AM",C10="Re",C10="Fe"),"",1)) | H10: =((G10-F10)+(G11-F11)) -> 0 | K10: =IF(OR(C10="Cp"),1,"") | R10: =((Q10-P10)-(Q11-P11)) -> 0 | V10: =IF(OR(C10="SiA",C10="SeA"),1,"")
D11: S
B12: =DATE(Calendrier!$A$1,_xlfn.SHEET()-1,(ROW()/2)-1) -> 43804 | D12: M | E12: =IF(C12="","",IF(OR(C12="Cp",C12="AM",C12="Re",C12="Fe"),"",1)) | H12: =((G12-F12)+(G13-F13)) -> 0 | K12: =IF(OR(C12="Cp"),1,"") | R12: =((Q12-P12)-(Q13-P13)) -> 0 | V12: =IF(OR(C12="SiA",C12="SeA"),1,"")
D13: S
B14: =DATE(Calendrier!$A$1,_xlfn.SHEET()-1,(ROW()/2)-1) -> 43805 | D14: M | E14: =IF(C14="","",IF(OR(C14="Cp",C14="AM",C14="Re",C14="Fe"),"",1)) | H14: =((G14-F14)+(G15-F15)) -> 0 | K14: =IF(OR(C14="Cp"),1,"") | R14: =((Q14-P14)-(Q15-P15)) -> 0 | V14: =IF(OR(C14="SiA",C14="SeA"),1,"")
A15: S 02 | D15: S
B16: =DATE(Calendrier!$A$1,_xlfn.SHEET()-1,(ROW()/2)-1) -> 43806 | D16: M | E16: =IF(C16="","",IF(OR(C16="Cp",C16="AM",C16="Re",C16="Fe"),"",1)) | F16: 8 | G16: 10 | H16: =((G16-F16)+(G17-F17)) -> 2 | K16: =IF(OR(C16="Cp"),1,"") | P16: 18 | Q16: 20 | R16: =((Q16-P16)-(Q17-P17)) -> 2 | V16: =IF(OR(C16="SiA",C16="SeA"),1,"")
A17: =SUM(H16:H31)+SUM(R16:R31) -> 4 | D17: S
B18: =DATE(Calendrier!$A$1,_xlfn.SHEET()-1,(ROW()/2)-1) -> 43807 | D18: M | E18: =IF(C18="","",IF(OR(C18="Cp",C18="AM",C18="Re",C18="Fe"),"",1)) | H18: =((G18-F18)+(G19-F19)) -> 0 | K18: =IF(OR(C18="Cp"),1,"") | R18: =((Q18-P18)-(Q19-P19)) -> 0 | V18: =IF(OR(C18="SiA",C18="SeA"),1,"")
D19: S
B20: =DATE(Calendrier!$A$1,_xlfn.SHEET()-1,(ROW()/2)-1) -> 43808 | D20: M | E20: =IF(C20="","",IF(OR(C20="Cp",C20="AM",C20="Re",C20="Fe"),"",1)) | H20: =((G20-F20)+(G21-F21)) -> 0 | K20: =IF(OR(C20="Cp"),1,"") | R20: =((Q20-P20)-(Q21-P21)) -> 0 | V20: =IF(OR(C20="SiA",C20="SeA"),1,"")
D21: S
B22: =DATE(Calendrier!$A$1,_xlfn.SHEET()-1,(ROW()/2)-1) -> 43809 | D22: M | E22: =IF(C22="","",IF(OR(C22="Cp",C22="AM",C22="Re",C22="Fe"),"",1)) | H22: =((G22-F22)+(G23-F23)) -> 0 | K22: =IF(OR(C22="Cp"),1,"") | R22: =((Q22-P22)-(Q23-P23)) -> 0 | V22: =IF(OR(C22="SiA",C22="SeA"),1,"")
D23: S
B24: =DATE(Calendrier!$A$1,_xlfn.SHEET()-1,(ROW()/2)-1) -> 43810 | D24: M | E24: =IF(C24="","",IF(OR(C24="Cp",C24="AM",C24="Re",C24="Fe"),"",1)) | H24: =((G24-F24)+(G25-F25)) -> 0 | K24: =IF(OR(C24="Cp"),1,"") | R24: =((Q24-P24)-(Q25-P25)) -> 0 | V24: =IF(OR(C24="SiA",C24="SeA"),1,"")
D25: S
B26: =DATE(Calendrier!$A$1,_xlfn.SHEET()-1,(ROW()/2)-1) -> 43811 | D26: M | E26: =IF(C26="","",IF(OR(C26="Cp",C26="AM",C26="Re",C26="Fe"),"",1)) | H26: =((G26-F26)+(G27-F27)) -> 0 | K26: =IF(OR(C26="Cp"),1,"") | R26: =((Q26-P26)-(Q27-P27)) -> 0 | V26: =IF(OR(C26="SiA",C26="SeA"),1,"")
D27: S
B28: =DATE(Calendrier!$A$1,_xlfn.SHEET()-1,(ROW()/2)-1) -> 43812 | D28: M | E28: =IF(C28="","",IF(OR(C28="Cp",C28="AM",C28="Re",C28="Fe"),"",1)) | H28: =((G28-F28)+(G29-F29)) -> 0 | K28: =IF(OR(C28="Cp"),1,"") | R28: =((Q28-P28)-(Q29-P29)) -> 0 | V28: =IF(OR(C28="SiA",C28="SeA"),1,"")
A29: S 03 | D29: S
B30: =DATE(Calendrier!$A$1,_xlfn.SHEET()-1,(ROW()/2)-1) -> 43813 | D30: M | E30: =IF(C30="","",IF(OR(C30="Cp",C30="AM",C30="Re",C30="Fe"),"",1)) | H30: =((G30-F30)+(G31-F31)) -> 0 | K30: =IF(OR(C30="Cp"),1,"") | R30: =((Q30-P30)-(Q31-P31)) -> 0 | V30: =IF(OR(C30="SiA",C30="SeA"),1,"")
D31: S
B32: =DATE(Calendrier!$A$1,_xlfn.SHEET()-1,(ROW()/2)-1) -> 43814 | D32: M | E32: =IF(C32="","",IF(OR(C32="Cp",C32="AM",C32="Re",C32="Fe"),"",1)) | H32: =((G32-F32)+(G33-F33)) -> 0 | K32: =IF(OR(C32="Cp"),1,"") | R32: =((Q32-P32)-(Q33-P33)) -> 0 | V32: =IF(OR(C32="SiA",C32="SeA"),1,"")
D33: S
B34: =DATE(Calendrier!$A$1,_xlfn.SHEET()-1,(ROW()/2)-1) -> 43815 | D34: M | E34: =IF(C34="","",IF(OR(C34="Cp",C34="AM",C34="Re",C34="Fe"),"",1)) | H34: =((G34-F34)+(G35-F35)) -> 0 | K34: =IF(OR(C34="Cp"),1,"") | R34: =((Q34-P34)-(Q35-P35)) -> 0 | V34: =IF(OR(C34="SiA",C34="SeA"),1,"")
D35: S
B36: =DATE(Calendrier!$A$1,_xlfn.SHEET()-1,(ROW()/2)-1) -> 43816 | D36: M | E36: =IF(C36="","",IF(OR(C36="Cp",C36="AM",C36="Re",C36="Fe"),"",1)) | H36: =((G36-F36)+(G37-F37)) -> 0 | K36: =IF(OR(C36="Cp"),1,"") | R36: =((Q36-P36)-(Q37-P37)) -> 0 | V36: =IF(OR(C36="SiA",C36="SeA"),1,"")
D37: S
B38: =DATE(Calendrier!$A$1,_xlfn.SHEET()-1,(ROW()/2)-1) -> 43817 | D38: M | E38: =IF(C38="","",IF(OR(C38="Cp",C38="AM",C38="Re",C38="Fe"),"",1)) | H38: =((G38-F38)+(G39-F39)) -> 0 | R38: =((Q38-P38)-(Q39-P39)) -> 0 | V38: =IF(OR(C38="SiA",C38="SeA"),1,"")
D39: S
B40: =DATE(Calendrier!$A$1,_xlfn.SHEET()-1,(ROW()/2)-1) -> 43818 | D40: M | E40: =IF(C40="","",IF(OR(C40="Cp",C40="AM",C40="Re",C40="Fe"),"",1)) | H40: =((G40-F40)+(G41-F41)) -> 0 | K40: =IF(OR(C40="Cp"),1,"") | R40: =((Q40-P40)-(Q41-P41)) -> 0 | V40: =IF(OR(C40="SiA",C40="SeA"),1,"")
D41: S
B42: =DATE(Calendrier!$A$1,_xlfn.SHEET()-1,(ROW()/2)-1) -> 43819 | D42: M | E42: =IF(C42="","",IF(OR(C42="Cp",C42="AM",C42="Re",C42="Fe"),"",1)) | H42: =((G42-F42)+(G43-F43)) -> 0 | K42: =IF(OR(C42="Cp"),1,"") | R42: =((Q42-P42)-(Q43-P43)) -> 0 | V42: =IF(OR(C42="SiA",C42="SeA"),1,"")
D43: S
B44: =DATE(Calendrier!$A$1,_xlfn.SHEET()-1,(ROW()/2)-1) -> 43820 | D44: M | E44: =IF(C44="","",IF(OR(C44="Cp",C44="AM",C44="Re",C44="Fe"),"",1)) | H44: =((G44-F44)+(G45-F45)) -> 0 | K44: =IF(OR(C44="Cp"),1,"") | R44: =((Q44-P44)-(Q45-P45)) -> 0 | V44: =IF(OR(C44="SiA",C44="SeA"),1,"")
D45: S
B46: =DATE(Calendrier!$A$1,_xlfn.SHEET()-1,(ROW()/2)-1) -> 43821 | D46: M | E46: =IF(C46="","",IF(OR(C46="Cp",C46="AM",C46="Re",C46="Fe"),"",1)) | H46: =((G46-F46)+(G47-F47)) -> 0 | K46: =IF(OR(C46="Cp"),1,"") | R46: =((Q46-P46)-(Q47-P47)) -> 0 | V46: =IF(OR(C46="SiA",C46="SeA"),1,"")
D47: S
B48: =DATE(Calendrier!$A$1,_xlfn.SHEET()-1,(ROW()/2)-1) -> 43822 | D48: M | E48: =IF(C48="","",IF(OR(C48="Cp",C48="AM",C48="Re",C48="Fe"),"",1)) | H48: =((G48-F48)+(G49-F49)) -> 0 | K48: =IF(OR(C48="Cp"),1,"") | R48: =((Q48-P48)-(Q49-P49)) -> 0 | V48: =IF(OR(C48="SiA",C48="SeA"),1,"")
D49: S
B50: =DATE(Calendrier!$A$1,_xlfn.SHEET()-1,(ROW()/2)-1) -> 43823 | D50: M | E50: =IF(C50="","",IF(OR(C50="Cp",C50="AM",C50="Re",C50="Fe"),"",1)) | H50: =((G50-F50)+(G51-F51)) -> 0 | K50: =IF(OR(C50="Cp"),1,"") | R50: =((Q50-P50)-(Q51-P51)) -> 0 | V50: =IF(OR(C50="SiA",C50="SeA"),1,"")
D51: S
B52: =DATE(Calendrier!$A$1,_xlfn.SHEET()-1,(ROW()/2)-1) -> 43824 | D52: M | E52: =IF(C52="","",IF(OR(C52="Cp",C52="AM",C52="Re",C52="Fe"),"",1)) | H52: =((G52-F52)+(G53-F53)) -> 0 | K52: =IF(OR(C52="Cp"),1,"") | R52: =((Q52-P52)-(Q53-P53)) -> 0 | V52: =IF(OR(C52="SiA",C52="SeA"),1,"")
D53: S
B54: =DATE(Calendrier!$A$1,_xlfn.SHEET()-1,(ROW()/2)-1) -> 43825 | D54: M | E54: =IF(C54="","",IF(OR(C54="Cp",C54="AM",C54="Re",C54="Fe"),"",1)) | H54: =((G54-F54)+(G55-F55)) -> 0 | K54: =IF(OR(C54="Cp"),1,"") | R54: =((Q54-P54)-(Q55-P55)) -> 0 | V54: =IF(OR(C54="SiA",C54="SeA"),1,"")
D55: S
B56: =DATE(Calendrier!$A$1,_xlfn.SHEET()-1,(ROW()/2)-1) -> 43826 | D56: M | E56: =IF(C56="","",IF(OR(C56="Cp",C56="AM",C56="Re",C56="Fe"),"",1)) | H56: =((G56-F56)+(G57-F57)) -> 0 | K56: =IF(OR(C56="Cp"),1,"") | R56: =((Q56-P56)-(Q57-P57)) -> 0 | V56: =IF(OR(C56="SiA",C56="SeA"),1,"")
D57: S
B58: =DATE(Calendrier!$A$1,_xlfn.SHEET()-1,(ROW()/2)-1) -> 43827 | D58: M | E58: =IF(C58="","",IF(OR(C58="Cp",C58="AM",C58="Re",C58="Fe"),"",1)) | H58: =((G58-F58)+(G59-F59)) -> 0 | K58: =IF(OR(C58="Cp"),1,"") | R58: =((Q58-P58)-(Q59-P59)) -> 0 | V58: =IF(OR(C58="SiA",C58="SeA"),1,"")
D59: S
B60: =DATE(Calendrier!$A$1,_xlfn.SHEET()-1,(ROW()/2)-1) -> 43828 | D60: M | E60: =IF(C60="","",IF(OR(C60="Cp",C60="AM",C60="Re",C60="Fe"),"",1)) | H60: =((G60-F60)+(G61-F61)) -> 0 | K60: =IF(OR(C60="Cp"),1,"") | R60: =((Q60-P60)-(Q61-P61)) -> 0 | V60: =IF(OR(C60="SiA",C60="SeA"),1,"")
D61: S
B62: =DATE(Calendrier!$A$1,_xlfn.SHEET()-1,(ROW()/2)-1) -> 43829 | D62: M | E62: =IF(C62="","",IF(OR(C62="Cp",C62="AM",C62="Re",C62="Fe"),"",1)) | H62: =((G62-F62)+(G63-F63)) -> 0 | K62: =IF(OR(C62="Cp"),1,"") | R62: =((Q62-P62)-(Q63-P63)) -> 0 | V62: =IF(OR(C62="SiA",C62="SeA"),1,"")
D63: S
B64: =DATE(Calendrier!$A$1,_xlfn.SHEET()-1,(ROW()/2)-1) -> 43830 | D64: M | E64: =IF(C64="","",IF(OR(C64="Cp",C64="AM",C64="Re",C64="Fe"),"",1)) | H64: =((G64-F64)+(G65-F65)) -> 0 | K64: =IF(OR(C64="Cp"),1,"") | R64: =((Q64-P64)-(Q65-P65)) -> 0 | V64: =IF(OR(C64="SiA",C64="SeA"),1,"")
D65: S
B66: TOTAUX | E66: =SUM(E4:E65) -> 2 | F66: =SUM(H4:H65) -> 4 | I66: =SUM(I4:I65) -> 0 | J66: =SUM(J4:J65) -> 0 | K66: =SUM(K4:K65) -> 1 | N66: TOTAUX | O66: =SUM(O4:O65) -> 0 | R66: =SUM(R4:R30) -> 4 | S66: =SUM(S4:S65) -> 0 | T66: =SUM(T4:T65) -> 0 | U66: =SUM(U4:U65) -> 0 | V66: =SUM(V4:V65) -> 2 | W66: =SUM(W4:W65) -> 0

Sheet H.Se
A1: Se 01 | C1: Se 11 | E1: Se 21 | G1: Se 31 | I1: Se 41 | K1: Se 51
A2: Se 02 | C2: Se 12 | E2: Se 22 | G2: Se 32 | I2: Se 42 | K2: Se 52
A3: Se 03 | C3: Se 13 | E3: Se 23 | G3: Se 33 | I3: Se 43 | K3: Se 53
A4: Se 04 | C4: Se 14 | E4: Se 24 | G4: Se 34 | I4: Se 44 | L4: =SUM(L1:L3) -> 0
A5: Se 05 | C5: Se 15 | E5: Se 25 | G5: Se 35 | I5: Se 45
A6: Se 06 | C6: Se 16 | E6: Se 26 | G6: Se 36 | I6: Se 46
A7: Se 07 | C7: Se 17 | E7: Se 27 | G7: Se 37 | I7: Se 47 | K7: TOTAL | L7: =SUM(B11,D11,F11,H11,J11,L4) -> 0
A8: Se 08 | C8: Se 18 | E8: Se 28 | G8: Se 38 | I8: Se 48 | K8: RESTE | L8: =1588-L7 -> 1588
A9: Se 09 | C9: Se 19 | E9: Se 29 | G9: Se 39 | I9: Se 49
A10: Se 10 | C10: Se 20 | E10: Se 30 | G10: Se 40 | I10: Se 50
B11: =SUM(B1:B10) -> 0 | D11: =SUM(D1:D10) -> 0 | F11: =SUM(F1:F10) -> 0 | H11: =SUM(H1:H10) -> 0 | J11: =SUM(J1:J10) -> 0

Sheet Récap
B2: 1 | C2: 2 | D2: 3 | E2: 4 | F2: 5 | G2: 6 | H2: 7 | I2: 8 | J2: 9 | K2: 10 | L2: 11 | M2: 12 | N2: 13 | O2: 14 | P2: 15 | Q2: 16 | R2: 17 | S2: 18 | T2: 19 | U2: 20 | V2: 21 | W2: 22 | X2: 23 | Y2: 24 | Z2: 25 | AA2: 26 | AB2: 27 | AC2: 28 | AD2: 29 | AE2: 30 | AF2: 31
A3: =DATE(Calendrier!A1,ROW(3:14)-2,1) -> 43466 | B3: =DATE(Calendrier!A1,MONTH(A3:A14),DAY($B2:$AF14)) -> 0 | C3: =DATE(Calendrier!B1,MONTH(B3:B14),DAY($B2:$AF14)) -> 0 | D3: =DATE(Calendrier!C1,MONTH(C3:C14),DAY($B2:$AF14)) -> 0 | E3: =DATE(Calendrier!D1,MONTH(D3:D14),DAY($B2:$AF14)) -> 0 | F3: =DATE(Calendrier!E1,MONTH(E3:E14),DAY($B2:$AF14)) -> 0 | G3: =DATE(Calendrier!F1,MONTH(F3:F14),DAY($B2:$AF14)) -> 0 | H3: =DATE(Calendrier!G1,MONTH(G3:G14),DAY($B2:$AF14)) -> 0 | I3: =DATE(Calendrier!H1,MONTH(H3:H14),DAY($B2:$AF14)) -> 0 | ... AF3: =DATE(Calendrier!AE1,MONTH(AE3:AE14),DAY($B2:$AF14)) -> 0
A4: =DATE(Calendrier!A2,ROW(4:15)-2,1) -> 32 | B4: =DATE(Calendrier!A2,MONTH(A4:A15),DAY($B3:$AF15)) -> 0 | C4: =DATE(Calendrier!B2,MONTH(B4:B15),DAY($B3:$AF15)) -> 0 | D4: =DATE(Calendrier!C2,MONTH(C4:C15),DAY($B3:$AF15)) -> 0 | E4: =DATE(Calendrier!D2,MONTH(D4:D15),DAY($B3:$AF15)) -> 0 | F4: =DATE(Calendrier!E2,MONTH(E4:E15),DAY($B3:$AF15)) -> 0 | G4: =DATE(Calendrier!F2,MONTH(F4:F15),DAY($B3:$AF15)) -> 0 | H4: =DATE(Calendrier!G2,MONTH(G4:G15),DAY($B3:$AF15)) -> 0 | I4: =DATE(Calendrier!H2,MONTH(H4:H15),DAY($B3:$AF15)) -> 0 | ... AF4: =DATE(Calendrier!AE2,MONTH(AE4:AE15),DAY($B3:$AF15)) -> 0
A5: =DATE(Calendrier!A3,ROW(5:16)-2,1) -> 61 | B5: =DATE(Calendrier!A3,MONTH(A5:A16),DAY($B4:$AF16)) -> 0 | C5: =DATE(Calendrier!B3,MONTH(B5:B16),DAY($B4:$AF16)) -> 0 | D5: =DATE(Calendrier!C3,MONTH(C5:C16),DAY($B4:$AF16)) -> 0 | E5: =DATE(Calendrier!D3,MONTH(D5:D16),DAY($B4:$AF16)) -> 0 | F5: =DATE(Calendrier!E3,MONTH(E5:E16),DAY($B4:$AF16)) -> 0 | G5: =DATE(Calendrier!F3,MONTH(F5:F16),DAY($B4:$AF16)) -> 0 | H5: =DATE(Calendrier!G3,MONTH(G5:G16),DAY($B4:$AF16)) -> 0 | I5: =DATE(Calendrier!H3,MONTH(H5:H16),DAY($B4:$AF16)) -> 0 | ... AF5: =DATE(Calendrier!AE3,MONTH(AE5:AE16),DAY($B4:$AF16)) -> 0
A6: =DATE(Calendrier!A4,ROW(6:17)-2,1) -> 92 | B6: =DATE(Calendrier!A4,MONTH(A6:A17),DAY($B5:$AF17)) -> 0 | C6: =DATE(Calendrier!B4,MONTH(B6:B17),DAY($B5:$AF17)) -> 0 | D6: =DATE(Calendrier!C4,MONTH(C6:C17),DAY($B5:$AF17)) -> 0 | E6: =DATE(Calendrier!D4,MONTH(D6:D17),DAY($B5:$AF17)) -> 0 | F6: =DATE(Calendrier!E4,MONTH(E6:E17),DAY($B5:$AF17)) -> 0 | G6: =DATE(Calendrier!F4,MONTH(F6:F17),DAY($B5:$AF17)) -> 0 | H6: =DATE(Calendrier!G4,MONTH(G6:G17),DAY($B5:$AF17)) -> 0 | I6: =DATE(Calendrier!H4,MONTH(H6:H17),DAY($B5:$AF17)) -> 0 | ... AF6: =DATE(Calendrier!AE4,MONTH(AE6:AE17),DAY($B5:$AF17)) -> 0
A7: =DATE(Calendrier!A5,ROW(7:18)-2,1) -> 122 | B7: =DATE(Calendrier!A5,MONTH(A7:A18),DAY($B6:$AF18)) -> 0 | C7: =DATE(Calendrier!B5,MONTH(B7:B18),DAY($B6:$AF18)) -> 0 | D7: =DATE(Calendrier!C5,MONTH(C7:C18),DAY($B6:$AF18)) -> 0 | E7: =DATE(Calendrier!D5,MONTH(D7:D18),DAY($B6:$AF18)) -> 0 | F7: =DATE(Calendrier!E5,MONTH(E7:E18),DAY($B6:$AF18)) -> 0 | G7: =DATE(Calendrier!F5,MONTH(F7:F18),DAY($B6:$AF18)) -> 0 | H7: =DATE(Calendrier!G5,MONTH(G7:G18),DAY($B6:$AF18)) -> 0 | I7: =DATE(Calendrier!H5,MONTH(H7:H18),DAY($B6:$AF18)) -> 0 | ... AF7: =DATE(Calendrier!AE5,MONTH(AE7:AE18),DAY($B6:$AF18)) -> 0
A8: =DATE(Calendrier!A6,ROW(8:19)-2,1) -> 153 | B8: =DATE(Calendrier!A6,MONTH(A8:A19),DAY($B7:$AF19)) -> 0 | C8: =DATE(Calendrier!B6,MONTH(B8:B19),DAY($B7:$AF19)) -> 0 | D8: =DATE(Calendrier!C6,MONTH(C8:C19),DAY($B7:$AF19)) -> 0 | E8: =DATE(Calendrier!D6,MONTH(D8:D19),DAY($B7:$AF19)) -> 0 | F8: =DATE(Calendrier!E6,MONTH(E8:E19),DAY($B7:$AF19)) -> 0 | G8: =DATE(Calendrier!F6,MONTH(F8:F19),DAY($B7:$AF19)) -> 0 | H8: =DATE(Calendrier!G6,MONTH(G8:G19),DAY($B7:$AF19)) -> 0 | I8: =DATE(Calendrier!H6,MONTH(H8:H19),DAY($B7:$AF19)) -> 0 | ... AF8: =DATE(Calendrier!AE6,MONTH(AE8:AE19),DAY($B7:$AF19)) -> 0
A9: =DATE(Calendrier!A7,ROW(9:20)-2,1) -> 183 | B9: =DATE(Calendrier!A7,MONTH(A9:A20),DAY($B8:$AF20)) -> 0 | C9: =DATE(Calendrier!B7,MONTH(B9:B20),DAY($B8:$AF20)) -> 0 | D9: =DATE(Calendrier!C7,MONTH(C9:C20),DAY($B8:$AF20)) -> 0 | E9: =DATE(Calendrier!D7,MONTH(D9:D20),DAY($B8:$AF20)) -> 0 | F9: =DATE(Calendrier!E7,MONTH(E9:E20),DAY($B8:$AF20)) -> 0 | G9: =DATE(Calendrier!F7,MONTH(F9:F20),DAY($B8:$AF20)) -> 0 | H9: =DATE(Calendrier!G7,MONTH(G9:G20),DAY($B8:$AF20)) -> 0 | I9: =DATE(Calendrier!H7,MONTH(H9:H20),DAY($B8:$AF20)) -> 0 | ... AF9: =DATE(Calendrier!AE7,MONTH(AE9:AE20),DAY($B8:$AF20)) -> 0
A10: =DATE(Calendrier!A8,ROW(10:21)-2,1) -> 214 | B10: =DATE(Calendrier!A8,MONTH(A10:A21),DAY($B9:$AF21)) -> 0 | C10: =DATE(Calendrier!B8,MONTH(B10:B21),DAY($B9:$AF21)) -> 0 | D10: =DATE(Calendrier!C8,MONTH(C10:C21),DAY($B9:$AF21)) -> 0 | E10: =DATE(Calendrier!D8,MONTH(D10:D21),DAY($B9:$AF21)) -> 0 | F10: =DATE(Calendrier!E8,MONTH(E10:E21),DAY($B9:$AF21)) -> 0 | G10: =DATE(Calendrier!F8,MONTH(F10:F21),DAY($B9:$AF21)) -> 0 | H10: =DATE(Calendrier!G8,MONTH(G10:G21),DAY($B9:$AF21)) -> 0 | I10: =DATE(Calendrier!H8,MONTH(H10:H21),DAY($B9:$AF21)) -> 0 | ... AF10: =DATE(Calendrier!AE8,MONTH(AE10:AE21),DAY($B9:$AF21)) -> 0
A11: =DATE(Calendrier!A9,ROW(11:22)-2,1) -> 245 | B11: =DATE(Calendrier!A9,MONTH(A11:A22),DAY($B10:$AF22)) -> 0 | C11: =DATE(Calendrier!B9,MONTH(B11:B22),DAY($B10:$AF22)) -> 0 | D11: =DATE(Calendrier!C9,MONTH(C11:C22),DAY($B10:$AF22)) -> 0 | E11: =DATE(Calendrier!D9,MONTH(D11:D22),DAY($B10:$AF22)) -> 0 | F11: =DATE(Calendrier!E9,MONTH(E11:E22),DAY($B10:$AF22)) -> 0 | G11: =DATE(Calendrier!F9,MONTH(F11:F22),DAY($B10:$AF22)) -> 0 | H11: =DATE(Calendrier!G9,MONTH(G11:G22),DAY($B10:$AF22)) -> 0 | I11: =DATE(Calendrier!H9,MONTH(H11:H22),DAY($B10:$AF22)) -> 0 | ... AF11: =DATE(Calendrier!AE9,MONTH(AE11:AE22),DAY($B10:$AF22)) -> 0
A12: =DATE(Calendrier!A10,ROW(12:23)-2,1) -> 275 | B12: =DATE(Calendrier!A10,MONTH(A12:A23),DAY($B11:$AF23)) -> 0 | C12: =DATE(Calendrier!B10,MONTH(B12:B23),DAY($B11:$AF23)) -> 0 | D12: =DATE(Calendrier!C10,MONTH(C12:C23),DAY($B11:$AF23)) -> 0 | E12: =DATE(Calendrier!D10,MONTH(D12:D23),DAY($B11:$AF23)) -> 0 | F12: =DATE(Calendrier!E10,MONTH(E12:E23),DAY($B11:$AF23)) -> 0 | G12: =DATE(Calendrier!F10,MONTH(F12:F23),DAY($B11:$AF23)) -> 0 | H12: =DATE(Calendrier!G10,MONTH(G12:G23),DAY($B11:$AF23)) -> 0 | I12: =DATE(Calendrier!H10,MONTH(H12:H23),DAY($B11:$AF23)) -> 0 | ... AF12: =DATE(Calendrier!AE10,MONTH(AE12:AE23),DAY($B11:$AF23)) -> 0
A13: =DATE(Calendrier!A11,ROW(13:24)-2,1) -> 306 | B13: =DATE(Calendrier!A11,MONTH(A13:A24),DAY($B12:$AF24)) -> 0 | C13: =DATE(Calendrier!B11,MONTH(B13:B24),DAY($B12:$AF24)) -> 0 | D13: =DATE(Calendrier!C11,MONTH(C13:C24),DAY($B12:$AF24)) -> 0 | E13: =DATE(Calendrier!D11,MONTH(D13:D24),DAY($B12:$AF24)) -> 0 | F13: =DATE(Calendrier!E11,MONTH(E13:E24),DAY($B12:$AF24)) -> 0 | G13: =DATE(Calendrier!F11,MONTH(F13:F24),DAY($B12:$AF24)) -> 0 | H13: =DATE(Calendrier!G11,MONTH(G13:G24),DAY($B12:$AF24)) -> 0 | I13: =DATE(Calendrier!H11,MONTH(H13:H24),DAY($B12:$AF24)) -> 0 | ... AF13: =DATE(Calendrier!AE11,MONTH(AE13:AE24),DAY($B12:$AF24)) -> 0
A14: =DATE(Calendrier!A12,ROW(14:25)-2,1) -> 336 | B14: =DATE(Calendrier!A12,MONTH(A14:A25),DAY($B13:$AF25)) -> 0 | C14: =DATE(Calendrier!B12,MONTH(B14:B25),DAY($B13:$AF25)) -> 0 | D14: =DATE(Calendrier!C12,MONTH(C14:C25),DAY($B13:$AF25)) -> 0 | E14: =DATE(Calendrier!D12,MONTH(D14:D25),DAY($B13:$AF25)) -> 0 | F14: =DATE(Calendrier!E12,MONTH(E14:E25),DAY($B13:$AF25)) -> 0 | G14: =DATE(Calendrier!F12,MONTH(F14:F25),DAY($B13:$AF25)) -> 0 | H14: =DATE(Calendrier!G12,MONTH(G14:G25),DAY($B13:$AF25)) -> 0 | I14: =DATE(Calendrier!H12,MONTH(H14:H25),DAY($B13:$AF25)) -> 0 | ... AF14: =DATE(Calendrier!AE12,MONTH(AE14:AE25),DAY($B13:$AF25)) -> 0
C17: H.Sup | F17: Maj N | I17: Maj D | L17: Maj J.F | O17: Astr. | R17: Panniers | U17: SSLIA | X17: J.T | Z17: Ser | AB17: Kms | AE17: C.P | AI17: HORAIRES
A18: JAN
A19: FEV
A20: MAR
A21: AVR
A22: MAI
A23: JUIN
A24: JUIL
A25: AOÛT
A26: SEPT
A27: OCT
A28: NOV
A29: DEC
A30: TOT | C30: =SUM(C18:E29) -> 0 | F30: =SUM(F18:H29) -> 0 | I30: =SUM(I18:K29) -> 0 | L30: =SUM(L18:N29) -> 0 | O30: =SUM(O18:Q29) -> 0 | R30: =SUM(R18:T29) -> 0 | U30: =SUM(U18:W29) -> 0 | X30: =SUM(X18:Y29) -> 0 | Z30: =SUM(Z18:AA29) -> 0 | AB30: =SUM(AB18:AD29) -> 0 | AE30: =SUM(AE18:AH29) -> 0 | AI30: =SUM(AI18:AK29) -> 0
O32: =O30*15 -> 0 | R32: =R30*5.75 -> 0 | Z32: =Z30*2 -> 0 | AE32: Reste | AI32: Reste
AE33: =AE37-AE30 -> 30 | AI33: =1588-AI30 -> 1588
AA37: 2018/2019 | AE37: 30
