Workbook

Sheet Calendrier
A1: 2019
P2: An Bisextille | Q2: =DAY(EOMONTH(DATE(A1,2,1),0))=29 -> FALSE
B3: =TEXT(DATE(2019,COLUMN(A:L),1),"Mmmm") -> janvier | C3: =TEXT(DATE(2019,COLUMN(B:M),1),"mmmm") -> février | D3: =TEXT(DATE(2019,COLUMN(C:N),1),"mmmm") -> mars | E3: =TEXT(DATE(2019,COLUMN(D:O),1),"mmmm") -> avril | F3: =TEXT(DATE(2019,COLUMN(E:P),1),"mmmm") -> mai | G3: =TEXT(DATE(2019,COLUMN(F:Q),1),"mmmm") -> juin | H3: =TEXT(DATE(2019,COLUMN(G:R),1),"mmmm") -> juillet | I3: =TEXT(DATE(2019,COLUMN(H:S),1),"mmmm") -> août | J3: =TEXT(DATE(2019,COLUMN(I:T),1),"mmmm") -> septembre | K3: =TEXT(DATE(2019,COLUMN(J:U),1),"mmmm") -> octobre | L3: =TEXT(DATE(2019,COLUMN(K:V),1),"mmmm") -> novembre | M3: =TEXT(DATE(2019,COLUMN(L:W),1),"mmmm") -> décembre
B4: =DATE($A$1,COLUMN(A:L),ROW(1:31)) -> 43466 | C4: =DATE($A$1,COLUMN(B:M),ROW(1:31)) -> 43497 | D4: =DATE($A$1,COLUMN(C:N),ROW(1:31)) -> 43525 | E4: =DATE($A$1,COLUMN(D:O),ROW(1:31)) -> 43556 | F4: =DATE($A$1,COLUMN(E:P),ROW(1:31)) -> 43586 | G4: =DATE($A$1,COLUMN(F:Q),ROW(1:31)) -> 43617 | H4: =DATE($A$1,COLUMN(G:R),ROW(1:31)) -> 43647 | I4: =DATE($A$1,COLUMN(H:S),ROW(1:31)) -> 43678 | J4: =DATE($A$1,COLUMN(I:T),ROW(1:31)) -> 43709 | K4: =DATE($A$1,COLUMN(J:U),ROW(1:31)) -> 43739 | L4: =DATE($A$1,COLUMN(K:V),ROW(1:31)) -> 43770 | M4: =DATE($A$1,COLUMN(L:W),ROW(1:31)) -> 43800 | P4: Colonne1 | Q4: Colonne2
B5: =DATE($A$1,COLUMN(A:L),ROW(2:32)) -> 43467 | C5: =DATE($A$1,COLUMN(B:M),ROW(2:32)) -> 43498 | D5: =DATE($A$1,COLUMN(C:N),ROW(2:32)) -> 43526 | E5: =DATE($A$1,COLUMN(D:O),ROW(2:32)) -> 43557 | F5: =DATE($A$1,COLUMN(E:P),ROW(2:32)) -> 43587 | G5: =DATE($A$1,COLUMN(F:Q),ROW(2:32)) -> 43618 | H5: =DATE($A$1,COLUMN(G:R),ROW(2:32)) -> 43648 | I5: =DATE($A$1,COLUMN(H:S),ROW(2:32)) -> 43679 | J5: =DATE($A$1,COLUMN(I:T),ROW(2:32)) -> 43710 | K5: =DATE($A$1,COLUMN(J:U),ROW(2:32)) -> 43740 | L5: =DATE($A$1,COLUMN(K:V),ROW(2:32)) -> 43771 | M5: =DATE($A$1,COLUMN(L:W),ROW(2:32)) -> 43801 | P5: Jour de l'An | Q5: =DATE($A$1,1,1) -> 43466
B6: =DATE($A$1,COLUMN(A:L),ROW(3:33)) -> 43468 | C6: =DATE($A$1,COLUMN(B:M),ROW(3:33)) -> 43499 | D6: =DATE($A$1,COLUMN(C:N),ROW(3:33)) -> 43527 | E6: =DATE($A$1,COLUMN(D:O),ROW(3:33)) -> 43558 | F6: =DATE($A$1,COLUMN(E:P),ROW(3:33)) -> 43588 | G6: =DATE($A$1,COLUMN(F:Q),ROW(3:33)) -> 43619 | H6: =DATE($A$1,COLUMN(G:R),ROW(3:33)) -> 43649 | I6: =DATE($A$1,COLUMN(H:S),ROW(3:33)) -> 43680 | J6: =DATE($A$1,COLUMN(I:T),ROW(3:33)) -> 43711 | K6: =DATE($A$1,COLUMN(J:U),ROW(3:33)) -> 43741 | L6: =DATE($A$1,COLUMN(K:V),ROW(3:33)) -> 43772 | M6: =DATE($A$1,COLUMN(L:W),ROW(3:33)) -> 43802 | P6: Paques | Q6: =FLOOR(DAY(MINUTE(A1/38)/2+56)&"/5/"&A1,7)-34 -> 43576
B7: =DATE($A$1,COLUMN(A:L),ROW(4:34)) -> 43469 | C7: =DATE($A$1,COLUMN(B:M),ROW(4:34)) -> 43500 | D7: =DATE($A$1,COLUMN(C:N),ROW(4:34)) -> 43528 | E7: =DATE($A$1,COLUMN(D:O),ROW(4:34)) -> 43559 | F7: =DATE($A$1,COLUMN(E:P),ROW(4:34)) -> 43589 | G7: =DATE($A$1,COLUMN(F:Q),ROW(4:34)) -> 43620 | H7: =DATE($A$1,COLUMN(G:R),ROW(4:34)) -> 43650 | I7: =DATE($A$1,COLUMN(H:S),ROW(4:34)) -> 43681 | J7: =DATE($A$1,COLUMN(I:T),ROW(4:34)) -> 43712 | K7: =DATE($A$1,COLUMN(J:U),ROW(4:34)) -> 43742 | L7: =DATE($A$1,COLUMN(K:V),ROW(4:34)) -> 43773 | M7: =DATE($A$1,COLUMN(L:W),ROW(4:34)) -> 43803 | P7: Lundi pâques | Q7: =Q6+1 -> 43577
B8: =DATE($A$1,COLUMN(A:L),ROW(5:35)) -> 43470 | C8: =DATE($A$1,COLUMN(B:M),ROW(5:35)) -> 43501 | D8: =DATE($A$1,COLUMN(C:N),ROW(5:35)) -> 43529 | E8: =DATE($A$1,COLUMN(D:O),ROW(5:35)) -> 43560 | F8: =DATE($A$1,COLUMN(E:P),ROW(5:35)) -> 43590 | G8: =DATE($A$1,COLUMN(F:Q),ROW(5:35)) -> 43621 | H8: =DATE($A$1,COLUMN(G:R),ROW(5:35)) -> 43651 | I8: =DATE($A$1,COLUMN(H:S),ROW(5:35)) -> 43682 | J8: =DATE($A$1,COLUMN(I:T),ROW(5:35)) -> 43713 | K8: =DATE($A$1,COLUMN(J:U),ROW(5:35)) -> 43743 | L8: =DATE($A$1,COLUMN(K:V),ROW(5:35)) -> 43774 | M8: =DATE($A$1,COLUMN(L:W),ROW(5:35)) -> 43804 | P8: fête travail | Q8: =DATE($A$1,5,1) -> 43586
B9: =DATE($A$1,COLUMN(A:L),ROW(6:36)) -> 43471 | C9: =DATE($A$1,COLUMN(B:M),ROW(6:36)) -> 43502 | D9: =DATE($A$1,COLUMN(C:N),ROW(6:36)) -> 43530 | E9: =DATE($A$1,COLUMN(D:O),ROW(6:36)) -> 43561 | F9: =DATE($A$1,COLUMN(E:P),ROW(6:36)) -> 43591 | G9: =DATE($A$1,COLUMN(F:Q),ROW(6:36)) -> 43622 | H9: =DATE($A$1,COLUMN(G:R),ROW(6:36)) -> 43652 | I9: =DATE($A$1,COLUMN(H:S),ROW(6:36)) -> 43683 | J9: =DATE($A$1,COLUMN(I:T),ROW(6:36)) -> 43714 | K9: =DATE($A$1,COLUMN(J:U),ROW(6:36)) -> 43744 | L9: =DATE($A$1,COLUMN(K:V),ROW(6:36)) -> 43775 | M9: =DATE($A$1,COLUMN(L:W),ROW(6:36)) -> 43805 | P9: Victoire 39/45 | Q9: =DATE($A$1,5,8) -> 43593
B10: =DATE($A$1,COLUMN(A:L),ROW(7:37)) -> 43472 | C10: =DATE($A$1,COLUMN(B:M),ROW(7:37)) -> 43503 | D10: =DATE($A$1,COLUMN(C:N),ROW(7:37)) -> 43531 | E10: =DATE($A$1,COLUMN(D:O),ROW(7:37)) -> 43562 | F10: =DATE($A$1,COLUMN(E:P),ROW(7:37)) -> 43592 | G10: =DATE($A$1,COLUMN(F:Q),ROW(7:37)) -> 43623 | H10: =DATE($A$1,COLUMN(G:R),ROW(7:37)) -> 43653 | I10: =DATE($A$1,COLUMN(H:S),ROW(7:37)) -> 43684 | J10: =DATE($A$1,COLUMN(I:T),ROW(7:37)) -> 43715 | K10: =DATE($A$1,COLUMN(J:U),ROW(7:37)) -> 43745 | L10: =DATE($A$1,COLUMN(K:V),ROW(7:37)) -> 43776 | M10: =DATE($A$1,COLUMN(L:W),ROW(7:37)) -> 43806 | P10: ascension | Q10: =Q6+39 -> 43615
B11: =DATE($A$1,COLUMN(A:L),ROW(8:38)) -> 43473 | C11: =DATE($A$1,COLUMN(B:M),ROW(8:38)) -> 43504 | D11: =DATE($A$1,COLUMN(C:N),ROW(8:38)) -> 43532 | E11: =DATE($A$1,COLUMN(D:O),ROW(8:38)) -> 43563 | F11: =DATE($A$1,COLUMN(E:P),ROW(8:38)) -> 43593 | G11: =DATE($A$1,COLUMN(F:Q),ROW(8:38)) -> 43624 | H11: =DATE($A$1,COLUMN(G:R),ROW(8:38)) -> 43654 | I11: =DATE($A$1,COLUMN(H:S),ROW(8:38)) -> 43685 | J11: =DATE($A$1,COLUMN(I:T),ROW(8:38)) -> 43716 | K11: =DATE($A$1,COLUMN(J:U),ROW(8:38)) -> 43746 | L11: =DATE($A$1,COLUMN(K:V),ROW(8:38)) -> 43777 | M11: =DATE($A$1,COLUMN(L:W),ROW(8:38)) -> 43807 | P11: Pentecôte | Q11: =Q6+49 -> 43625
B12: =DATE($A$1,COLUMN(A:L),ROW(9:39)) -> 43474 | C12: =DATE($A$1,COLUMN(B:M),ROW(9:39)) -> 43505 | D12: =DATE($A$1,COLUMN(C:N),ROW(9:39)) -> 43533 | E12: =DATE($A$1,COLUMN(D:O),ROW(9:39)) -> 43564 | F12: =DATE($A$1,COLUMN(E:P),ROW(9:39)) -> 43594 | G12: =DATE($A$1,COLUMN(F:Q),ROW(9:39)) -> 43625 | H12: =DATE($A$1,COLUMN(G:R),ROW(9:39)) -> 43655 | I12: =DATE($A$1,COLUMN(H:S),ROW(9:39)) -> 43686 | J12: =DATE($A$1,COLUMN(I:T),ROW(9:39)) -> 43717 | K12: =DATE($A$1,COLUMN(J:U),ROW(9:39)) -> 43747 | L12: =DATE($A$1,COLUMN(K:V),ROW(9:39)) -> 43778 | M12: =DATE($A$1,COLUMN(L:W),ROW(9:39)) -> 43808 | P12: lundi pente | Q12: =Q6+50 -> 43626
B13: =DATE($A$1,COLUMN(A:L),ROW(10:40)) -> 43475 | C13: =DATE($A$1,COLUMN(B:M),ROW(10:40)) -> 43506 | D13: =DATE($A$1,COLUMN(C:N),ROW(10:40)) -> 43534 | E13: =DATE($A$1,COLUMN(D:O),ROW(10:40)) -> 43565 | F13: =DATE($A$1,COLUMN(E:P),ROW(10:40)) -> 43595 | G13: =DATE($A$1,COLUMN(F:Q),ROW(10:40)) -> 43626 | H13: =DATE($A$1,COLUMN(G:R),ROW(10:40)) -> 43656 | I13: =DATE($A$1,COLUMN(H:S),ROW(10:40)) -> 43687 | J13: =DATE($A$1,COLUMN(I:T),ROW(10:40)) -> 43718 | K13: =DATE($A$1,COLUMN(J:U),ROW(10:40)) -> 43748 | L13: =DATE($A$1,COLUMN(K:V),ROW(10:40)) -> 43779 | M13: =DATE($A$1,COLUMN(L:W),ROW(10:40)) -> 43809 | P13: Fête Nat | Q13: =DATE($A$1,7,14) -> 43660
B14: =DATE($A$1,COLUMN(A:L),ROW(11:41)) -> 43476 | C14: =DATE($A$1,COLUMN(B:M),ROW(11:41)) -> 43507 | D14: =DATE($A$1,COLUMN(C:N),ROW(11:41)) -> 43535 | E14: =DATE($A$1,COLUMN(D:O),ROW(11:41)) -> 43566 | F14: =DATE($A$1,COLUMN(E:P),ROW(11:41)) -> 43596 | G14: =DATE($A$1,COLUMN(F:Q),ROW(11:41)) -> 43627 | H14: =DATE($A$1,COLUMN(G:R),ROW(11:41)) -> 43657 | I14: =DATE($A$1,COLUMN(H:S),ROW(11:41)) -> 43688 | J14: =DATE($A$1,COLUMN(I:T),ROW(11:41)) -> 43719 | K14: =DATE($A$1,COLUMN(J:U),ROW(11:41)) -> 43749 | L14: =DATE($A$1,COLUMN(K:V),ROW(11:41)) -> 43780 | M14: =DATE($A$1,COLUMN(L:W),ROW(11:41)) -> 43810 | P14: Assomption | Q14: =DATE($A$1,8,15) -> 43692
B15: =DATE($A$1,COLUMN(A:L),ROW(12:42)) -> 43477 | C15: =DATE($A$1,COLUMN(B:M),ROW(12:42)) -> 43508 | D15: =DATE($A$1,COLUMN(C:N),ROW(12:42)) -> 43536 | E15: =DATE($A$1,COLUMN(D:O),ROW(12:42)) -> 43567 | F15: =DATE($A$1,COLUMN(E:P),ROW(12:42)) -> 43597 | G15: =DATE($A$1,COLUMN(F:Q),ROW(12:42)) -> 43628 | H15: =DATE($A$1,COLUMN(G:R),ROW(12:42)) -> 43658 | I15: =DATE($A$1,COLUMN(H:S),ROW(12:42)) -> 43689 | J15: =DATE($A$1,COLUMN(I:T),ROW(12:42)) -> 43720 | K15: =DATE($A$1,COLUMN(J:U),ROW(12:42)) -> 43750 | L15: =DATE($A$1,COLUMN(K:V),ROW(12:42)) -> 43781 | M15: =DATE($A$1,COLUMN(L:W),ROW(12:42)) -> 43811 | P15: Toussaint | Q15: =DATE($A$1,11,1) -> 43770
B16: =DATE($A$1,COLUMN(A:L),ROW(13:43)) -> 43478 | C16: =DATE($A$1,COLUMN(B:M),ROW(13:43)) -> 43509 | D16: =DATE($A$1,COLUMN(C:N),ROW(13:43)) -> 43537 | E16: =DATE($A$1,COLUMN(D:O),ROW(13:43)) -> 43568 | F16: =DATE($A$1,COLUMN(E:P),ROW(13:43)) -> 43598 | G16: =DATE($A$1,COLUMN(F:Q),ROW(13:43)) -> 43629 | H16: =DATE($A$1,COLUMN(G:R),ROW(13:43)) -> 43659 | I16: =DATE($A$1,COLUMN(H:S),ROW(13:43)) -> 43690 | J16: =DATE($A$1,COLUMN(I:T),ROW(13:43)) -> 43721 | K16: =DATE($A$1,COLUMN(J:U),ROW(13:43)) -> 43751 | L16: =DATE($A$1,COLUMN(K:V),ROW(13:43)) -> 43782 | M16: =DATE($A$1,COLUMN(L:W),ROW(13:43)) -> 43812 | P16: Armistice | Q16: =DATE($A$1,11,11) -> 43780
B17: =DATE($A$1,COLUMN(A:L),ROW(14:44)) -> 43479 | C17: =DATE($A$1,COLUMN(B:M),ROW(14:44)) -> 43510 | D17: =DATE($A$1,COLUMN(C:N),ROW(14:44)) -> 43538 | E17: =DATE($A$1,COLUMN(D:O),ROW(14:44)) -> 43569 | F17: =DATE($A$1,COLUMN(E:P),ROW(14:44)) -> 43599 | G17: =DATE($A$1,COLUMN(F:Q),ROW(14:44)) -> 43630 | H17: =DATE($A$1,COLUMN(G:R),ROW(14:44)) -> 43660 | I17: =DATE($A$1,COLUMN(H:S),ROW(14:44)) -> 43691 | J17: =DATE($A$1,COLUMN(I:T),ROW(14:44)) -> 43722 | K17: =DATE($A$1,COLUMN(J:U),ROW(14:44)) -> 43752 | L17: =DATE($A$1,COLUMN(K:V),ROW(14:44)) -> 43783 | M17: =DATE($A$1,COLUMN(L:W),ROW(14:44)) -> 43813 | P17: Noël | Q17: =DATE($A$1,12,25) -> 43824
B18: =DATE($A$1,COLUMN(A:L),ROW(15:45)) -> 43480 | C18: =DATE($A$1,COLUMN(B:M),ROW(15:45)) -> 43511 | D18: =DATE($A$1,COLUMN(C:N),ROW(15:45)) -> 43539 | E18: =DATE($A$1,COLUMN(D:O),ROW(15:45)) -> 43570 | F18: =DATE($A$1,COLUMN(E:P),ROW(15:45)) -> 43600 | G18: =DATE($A$1,COLUMN(F:Q),ROW(15:45)) -> 43631 | H18: =DATE($A$1,COLUMN(G:R),ROW(15:45)) -> 43661 | I18: =DATE($A$1,COLUMN(H:S),ROW(15:45)) -> 43692 | J18: =DATE($A$1,COLUMN(I:T),ROW(15:45)) -> 43723 | K18: =DATE($A$1,COLUMN(J:U),ROW(15:45)) -> 43753 | L18: =DATE($A$1,COLUMN(K:V),ROW(15:45)) -> 43784 | M18: =DATE($A$1,COLUMN(L:W),ROW(15:45)) -> 43814
B19: =DATE($A$1,COLUMN(A:L),ROW(16:46)) -> 43481 | C19: =DATE($A$1,COLUMN(B:M),ROW(16:46)) -> 43512 | D19: =DATE($A$1,COLUMN(C:N),ROW(16:46)) -> 43540 | E19: =DATE($A$1,COLUMN(D:O),ROW(16:46)) -> 43571 | F19: =DATE($A$1,COLUMN(E:P),ROW(16:46)) -> 43601 | G19: =DATE($A$1,COLUMN(F:Q),ROW(16:46)) -> 43632 | H19: =DATE($A$1,COLUMN(G:R),ROW(16:46)) -> 43662 | I19: =DATE($A$1,COLUMN(H:S),ROW(16:46)) -> 43693 | J19: =DATE($A$1,COLUMN(I:T),ROW(16:46)) -> 43724 | K19: =DATE($A$1,COLUMN(J:U),ROW(16:46)) -> 43754 | L19: =DATE($A$1,COLUMN(K:V),ROW(16:46)) -> 43785 | M19: =DATE($A$1,COLUMN(L:W),ROW(16:46)) -> 43815
B20: =DATE($A$1,COLUMN(A:L),ROW(17:47)) -> 43482 | C20: =DATE($A$1,COLUMN(B:M),ROW(17:47)) -> 43513 | D20: =DATE($A$1,COLUMN(C:N),ROW(17:47)) -> 43541 | E20: =DATE($A$1,COLUMN(D:O),ROW(17:47)) -> 43572 | F20: =DATE($A$1,COLUMN(E:P),ROW(17:47)) -> 43602 | G20: =DATE($A$1,COLUMN(F:Q),ROW(17:47)) -> 43633 | H20: =DATE($A$1,COLUMN(G:R),ROW(17:47)) -> 43663 | I20: =DATE($A$1,COLUMN(H:S),ROW(17:47)) -> 43694 | J20: =DATE($A$1,COLUMN(I:T),ROW(17:47)) -> 43725 | K20: =DATE($A$1,COLUMN(J:U),ROW(17:47)) -> 43755 | L20: =DATE($A$1,COLUMN(K:V),ROW(17:47)) -> 43786 | M20: =DATE($A$1,COLUMN(L:W),ROW(17:47)) -> 43816
B21: =DATE($A$1,COLUMN(A:L),ROW(18:48)) -> 43483 | C21: =DATE($A$1,COLUMN(B:M),ROW(18:48)) -> 43514 | D21: =DATE($A$1,COLUMN(C:N),ROW(18:48)) -> 43542 | E21: =DATE($A$1,COLUMN(D:O),ROW(18:48)) -> 43573 | F21: =DATE($A$1,COLUMN(E:P),ROW(18:48)) -> 43603 | G21: =DATE($A$1,COLUMN(F:Q),ROW(18:48)) -> 43634 | H21: =DATE($A$1,COLUMN(G:R),ROW(18:48)) -> 43664 | I21: =DATE($A$1,COLUMN(H:S),ROW(18:48)) -> 43695 | J21: =DATE($A$1,COLUMN(I:T),ROW(18:48)) -> 43726 | K21: =DATE($A$1,COLUMN(J:U),ROW(18:48)) -> 43756 | L21: =DATE($A$1,COLUMN(K:V),ROW(18:48)) -> 43787 | M21: =DATE($A$1,COLUMN(L:W),ROW(18:48)) -> 43817
B22: =DATE($A$1,COLUMN(A:L),ROW(19:49)) -> 43484 | C22: =DATE($A$1,COLUMN(B:M),ROW(19:49)) -> 43515 | D22: =DATE($A$1,COLUMN(C:N),ROW(19:49)) -> 43543 | E22: =DATE($A$1,COLUMN(D:O),ROW(19:49)) -> 43574 | F22: =DATE($A$1,COLUMN(E:P),ROW(19:49)) -> 43604 | G22: =DATE($A$1,COLUMN(F:Q),ROW(19:49)) -> 43635 | H22: =DATE($A$1,COLUMN(G:R),ROW(19:49)) -> 43665 | I22: =DATE($A$1,COLUMN(H:S),ROW(19:49)) -> 43696 | J22: =DATE($A$1,COLUMN(I:T),ROW(19:49)) -> 43727 | K22: =DATE($A$1,COLUMN(J:U),ROW(19:49)) -> 43757 | L22: =DATE($A$1,COLUMN(K:V),ROW(19:49)) -> 43788 | M22: =DATE($A$1,COLUMN(L:W),ROW(19:49)) -> 43818
B23: =DATE($A$1,COLUMN(A:L),ROW(20:50)) -> 43485 | C23: =DATE($A$1,COLUMN(B:M),ROW(20:50)) -> 43516 | D23: =DATE($A$1,COLUMN(C:N),ROW(20:50)) -> 43544 | E23: =DATE($A$1,COLUMN(D:O),ROW(20:50)) -> 43575 | F23: =DATE($A$1,COLUMN(E:P),ROW(20:50)) -> 43605 | G23: =DATE($A$1,COLUMN(F:Q),ROW(20:50)) -> 43636 | H23: =DATE($A$1,COLUMN(G:R),ROW(20:50)) -> 43666 | I23: =DATE($A$1,COLUMN(H:S),ROW(20:50)) -> 43697 | J23: =DATE($A$1,COLUMN(I:T),ROW(20:50)) -> 43728 | K23: =DATE($A$1,COLUMN(J:U),ROW(20:50)) -> 43758 | L23: =DATE($A$1,COLUMN(K:V),ROW(20:50)) -> 43789 | M23: =DATE($A$1,COLUMN(L:W),ROW(20:50)) -> 43819
B24: =DATE($A$1,COLUMN(A:L),ROW(21:51)) -> 43486 | C24: =DATE($A$1,COLUMN(B:M),ROW(21:51)) -> 43517 | D24: =DATE($A$1,COLUMN(C:N),ROW(21:51)) -> 43545 | E24: =DATE($A$1,COLUMN(D:O),ROW(21:51)) -> 43576 | F24: =DATE($A$1,COLUMN(E:P),ROW(21:51)) -> 43606 | G24: =DATE($A$1,COLUMN(F:Q),ROW(21:51)) -> 43637 | H24: =DATE($A$1,COLUMN(G:R),ROW(21:51)) -> 43667 | I24: =DATE($A$1,COLUMN(H:S),ROW(21:51)) -> 43698 | J24: =DATE($A$1,COLUMN(I:T),ROW(21:51)) -> 43729 | K24: =DATE($A$1,COLUMN(J:U),ROW(21:51)) -> 43759 | L24: =DATE($A$1,COLUMN(K:V),ROW(21:51)) -> 43790 | M24: =DATE($A$1,COLUMN(L:W),ROW(21:51)) -> 43820
B25: =DATE($A$1,COLUMN(A:L),ROW(22:52)) -> 43487 | C25: =DATE($A$1,COLUMN(B:M),ROW(22:52)) -> 43518 | D25: =DATE($A$1,COLUMN(C:N),ROW(22:52)) -> 43546 | E25: =DATE($A$1,COLUMN(D:O),ROW(22:52)) -> 43577 | F25: =DATE($A$1,COLUMN(E:P),ROW(22:52)) -> 43607 | G25: =DATE($A$1,COLUMN(F:Q),ROW(22:52)) -> 43638 | H25: =DATE($A$1,COLUMN(G:R),ROW(22:52)) -> 43668 | I25: =DATE($A$1,COLUMN(H:S),ROW(22:52)) -> 43699 | J25: =DATE($A$1,COLUMN(I:T),ROW(22:52)) -> 43730 | K25: =DATE($A$1,COLUMN(J:U),ROW(22:52)) -> 43760 | L25: =DATE($A$1,COLUMN(K:V),ROW(22:52)) -> 43791 | M25: =DATE($A$1,COLUMN(L:W),ROW(22:52)) -> 43821
B26: =DATE($A$1,COLUMN(A:L),ROW(23:53)) -> 43488 | C26: =DATE($A$1,COLUMN(B:M),ROW(23:53)) -> 43519 | D26: =DATE($A$1,COLUMN(C:N),ROW(23:53)) -> 43547 | E26: =DATE($A$1,COLUMN(D:O),ROW(23:53)) -> 43578 | F26: =DATE($A$1,COLUMN(E:P),ROW(23:53)) -> 43608 | G26: =DATE($A$1,COLUMN(F:Q),ROW(23:53)) -> 43639 | H26: =DATE($A$1,COLUMN(G:R),ROW(23:53)) -> 43669 | I26: =DATE($A$1,COLUMN(H:S),ROW(23:53)) -> 43700 | J26: =DATE($A$1,COLUMN(I:T),ROW(23:53)) -> 43731 | K26: =DATE($A$1,COLUMN(J:U),ROW(23:53)) -> 43761 | L26: =DATE($A$1,COLUMN(K:V),ROW(23:53)) -> 43792 | M26: =DATE($A$1,COLUMN(L:W),ROW(23:53)) -> 43822
B27: =DATE($A$1,COLUMN(A:L),ROW(24:54)) -> 43489 | C27: =DATE($A$1,COLUMN(B:M),ROW(24:54)) -> 43520 | D27: =DATE($A$1,COLUMN(C:N),ROW(24:54)) -> 43548 | E27: =DATE($A$1,COLUMN(D:O),ROW(24:54)) -> 43579 | F27: =DATE($A$1,COLUMN(E:P),ROW(24:54)) -> 43609 | G27: =DATE($A$1,COLUMN(F:Q),ROW(24:54)) -> 43640 | H27: =DATE($A$1,COLUMN(G:R),ROW(24:54)) -> 43670 | I27: =DATE($A$1,COLUMN(H:S),ROW(24:54)) -> 43701 | J27: =DATE($A$1,COLUMN(I:T),ROW(24:54)) -> 43732 | K27: =DATE($A$1,COLUMN(J:U),ROW(24:54)) -> 43762 | L27: =DATE($A$1,COLUMN(K:V),ROW(24:54)) -> 43793 | M27: =DATE($A$1,COLUMN(L:W),ROW(24:54)) -> 43823
B28: =DATE($A$1,COLUMN(A:L),ROW(25:55)) -> 43490 | C28: =DATE($A$1,COLUMN(B:M),ROW(25:55)) -> 43521 | D28: =DATE($A$1,COLUMN(C:N),ROW(25:55)) -> 43549 | E28: =DATE($A$1,COLUMN(D:O),ROW(25:55)) -> 43580 | F28: =DATE($A$1,COLUMN(E:P),ROW(25:55)) -> 43610 | G28: =DATE($A$1,COLUMN(F:Q),ROW(25:55)) -> 43641 | H28: =DATE($A$1,COLUMN(G:R),ROW(25:55)) -> 43671 | I28: =DATE($A$1,COLUMN(H:S),ROW(25:55)) -> 43702 | J28: =DATE($A$1,COLUMN(I:T),ROW(25:55)) -> 43733 | K28: =DATE($A$1,COLUMN(J:U),ROW(25:55)) -> 43763 | L28: =DATE($A$1,COLUMN(K:V),ROW(25:55)) -> 43794 | M28: =DATE($A$1,COLUMN(L:W),ROW(25:55)) -> 43824
B29: =DATE($A$1,COLUMN(A:L),ROW(26:56)) -> 43491 | C29: =DATE($A$1,COLUMN(B:M),ROW(26:56)) -> 43522 | D29: =DATE($A$1,COLUMN(C:N),ROW(26:56)) -> 43550 | E29: =DATE($A$1,COLUMN(D:O),ROW(26:56)) -> 43581 | F29: =DATE($A$1,COLUMN(E:P),ROW(26:56)) -> 43611 | G29: =DATE($A$1,COLUMN(F:Q),ROW(26:56)) -> 43642 | H29: =DATE($A$1,COLUMN(G:R),ROW(26:56)) -> 43672 | I29: =DATE($A$1,COLUMN(H:S),ROW(26:56)) -> 43703 | J29: =DATE($A$1,COLUMN(I:T),ROW(26:56)) -> 43734 | K29: =DATE($A$1,COLUMN(J:U),ROW(26:56)) -> 43764 | L29: =DATE($A$1,COLUMN(K:V),ROW(26:56)) -> 43795 | M29: =DATE($A$1,COLUMN(L:W),ROW(26:56)) -> 43825
B30: =DATE($A$1,COLUMN(A:L),ROW(27:57)) -> 43492 | C30: =DATE($A$1,COLUMN(B:M),ROW(27:57)) -> 43523 | D30: =DATE($A$1,COLUMN(C:N),ROW(27:57)) -> 43551 | E30: =DATE($A$1,COLUMN(D:O),ROW(27:57)) -> 43582 | F30: =DATE($A$1,COLUMN(E:P),ROW(27:57)) -> 43612 | G30: =DATE($A$1,COLUMN(F:Q),ROW(27:57)) -> 43643 | H30: =DATE($A$1,COLUMN(G:R),ROW(27:57)) -> 43673 | I30: =DATE($A$1,COLUMN(H:S),ROW(27:57)) -> 43704 | J30: =DATE($A$1,COLUMN(I:T),ROW(27:57)) -> 43735 | K30: =DATE($A$1,COLUMN(J:U),ROW(27:57)) -> 43765 | L30: =DATE($A$1,COLUMN(K:V),ROW(27:57)) -> 43796 | M30: =DATE($A$1,COLUMN(L:W),ROW(27:57)) -> 43826
B31: =DATE($A$1,COLUMN(A:L),ROW(28:58)) -> 43493 | C31: =DATE($A$1,COLUMN(B:M),ROW(28:58)) -> 43524 | D31: =DATE($A$1,COLUMN(C:N),ROW(28:58)) -> 43552 | E31: =DATE($A$1,COLUMN(D:O),ROW(28:58)) -> 43583 | F31: =DATE($A$1,COLUMN(E:P),ROW(28:58)) -> 43613 | G31: =DATE($A$1,COLUMN(F:Q),ROW(28:58)) -> 43644 | H31: =DATE($A$1,COLUMN(G:R),ROW(28:58)) -> 43674 | I31: =DATE($A$1,COLUMN(H:S),ROW(28:58)) -> 43705 | J31: =DATE($A$1,COLUMN(I:T),ROW(28:58)) -> 43736 | K31: =DATE($A$1,COLUMN(J:U),ROW(28:58)) -> 43766 | L31: =DATE($A$1,COLUMN(K:V),ROW(28:58)) -> 43797 | M31: =DATE($A$1,COLUMN(L:W),ROW(28:58)) -> 43827
B32: =DATE($A$1,COLUMN(A:L),ROW(29:59)) -> 43494 | C32: =DATE($A$1,COLUMN(B:M),ROW(29:59)) -> 43525 | D32: =DATE($A$1,COLUMN(C:N),ROW(29:59)) -> 43553 | E32: =DATE($A$1,COLUMN(D:O),ROW(29:59)) -> 43584 | F32: =DATE($A$1,COLUMN(E:P),ROW(29:59)) -> 43614 | G32: =DATE($A$1,COLUMN(F:Q),ROW(29:59)) -> 43645 | H32: =DATE($A$1,COLUMN(G:R),ROW(29:59)) -> 43675 | I32: =DATE($A$1,COLUMN(H:S),ROW(29:59)) -> 43706 | J32: =DATE($A$1,COLUMN(I:T),ROW(29:59)) -> 43737 | K32: =DATE($A$1,COLUMN(J:U),ROW(29:59)) -> 43767 | L32: =DATE($A$1,COLUMN(K:V),ROW(29:59)) -> 43798 | M32: =DATE($A$1,COLUMN(L:W),ROW(29:59)) -> 43828
B33: =DATE($A$1,COLUMN(A:L),ROW(30:60)) -> 43495 | D33: =DATE($A$1,COLUMN(C:N),ROW(30:60)) -> 43554 | E33: =DATE($A$1,COLUMN(D:O),ROW(30:60)) -> 43585 | F33: =DATE($A$1,COLUMN(E:P),ROW(30:60)) -> 43615 | G33: =DATE($A$1,COLUMN(F:Q),ROW(30:60)) -> 43646 | H33: =DATE($A$1,COLUMN(G:R),ROW(30:60)) -> 43676 | I33: =DATE($A$1,COLUMN(H:S),ROW(30:60)) -> 43707 | J33: =DATE($A$1,COLUMN(I:T),ROW(30:60)) -> 43738 | K33: =DATE($A$1,COLUMN(J:U),ROW(30:60)) -> 43768 | L33: =DATE($A$1,COLUMN(K:V),ROW(30:60)) -> 43799 | M33: =DATE($A$1,COLUMN(L:W),ROW(30:60)) -> 43829
B34: =DATE($A$1,COLUMN(A:L),ROW(31:61)) -> 43496 | D34: =DATE($A$1,COLUMN(C:N),ROW(31:61)) -> 43555 | F34: =DATE($A$1,COLUMN(E:P),ROW(31:61)) -> 43616 | H34: =DATE($A$1,COLUMN(G:R),ROW(31:61)) -> 43677 | I34: =DATE($A$1,COLUMN(H:S),ROW(31:61)) -> 43708 | K34: =DATE($A$1,COLUMN(J:U),ROW(31:61)) -> 43769 | M34: =DATE($A$1,COLUMN(L:W),ROW(31:61)) -> 43830

Sheet Jan
A3: S 01 | B3: DATE | C3: SERV | E3: J | F3: HA | G3: HD | I3: K | J3: Ser | K3: CP | L3: MOTIF DU DEPLACEMENT | O3: Panniers | P3: HSD | Q3: HSF | R3: H.Sup | S3: Maj Nuit | T3: Maj Dim. | U3: Maj J.Fé. | V3: Astreinte | W3: SSLIA
B4: =DATE(Calendrier!$A$1,_xlfn.SHEET()-1,(ROW()/2)-1) -> 43466 | C4: Cp | D4: M | E4: =IF(C4="","",IF(OR(C4="Cp",C4="AM",C4="Re",C4="Fe"),"",1)) | H4: =((G4-F4)+(G5-F5)) -> 0 | J4: =IF(OR(C4="SiA",C4="SeA",C4="Si",C4="Ast",C4="For"),1,"") | K4: =IF(OR(C4="Cp"),1,"") -> 1 | O4: =IF(OR(C4="SiA",C4="SeA",C4="Si"),1,"") | R4: =((Q4-P4)-(Q5-P5)) -> 0 | S4: =(Q4-P4)+(Q5-P5) -> 0 | V4: =IF(OR(C4="SiA",C4="SeA",C4="Ast"),1,"")
A5: =SUM(H4:H15)+SUM(R4:R15)+A1 -> 0 | D5: S
B6: =DATE(Calendrier!$A$1,_xlfn.SHEET()-1,(ROW()/2)-1) -> 43467 | D6: M | E6: =IF(C6="","",IF(OR(C6="Cp",C6="AM",C6="Re",C6="Fe"),"",1)) | H6: =((G6-F6)+(G7-F7)) -> 0 | J6: =IF(OR(C6="SiA",C6="SeA",C6="Si",C6="Ast",C6="For"),1,"") | K6: =IF(OR(C6="Cp"),1,"") | O6: =IF(OR(C6="SiA",C6="SeA",C6="Si"),1,"") | R6: =((Q6-P6)-(Q7-P7)) -> 0 | S6: =(Q6-P6)+(Q7-P7) -> 0 | V6: =IF(OR(C6="SiA",C6="SeA",C6="Si",C6="Ast"),1,"")
D7: S
B8: =DATE(Calendrier!$A$1,_xlfn.SHEET()-1,(ROW()/2)-1) -> 43468 | C8: Cp1/2 | D8: M | E8: =IF(C8="","",IF(OR(C8="Cp",C8="AM",C8="Re",C8="Fe"),"",1)) -> 1 | H8: =((G8-F8)+(G9-F9)) -> 0 | J8: =IF(OR(C8="SiA",C8="SeA",C8="Si",C8="Ast",C8="For"),1,"") | K8: =IF(OR(C8="Cp"),1,"") | O8: =IF(OR(C8="SiA",C8="SeA",C8="Si"),1,"") | R8: =((Q8-P8)-(Q9-P9)) -> 0 | S8: =(Q8-P8)+(Q9-P9) -> 0 | V8: =IF(OR(C8="SiA",C8="SeA",C8="Si",C8="Ast"),1,"")
D9: S
B10: =DATE(Calendrier!$A$1,_xlfn.SHEET()-1,(ROW()/2)-1) -> 43469 | D10: M | E10: =IF(C10="","",IF(OR(C10="Cp",C10="AM",C10="Re",C10="Fe"),"",1)) | H10: =((G10-F10)+(G11-F11)) -> 0 | J10: =IF(OR(C10="SiA",C10="SeA",C10="Si",C10="Ast",C10="For"),1,"") | K10: =IF(OR(C10="Cp"),1,"") | O10: =IF(OR(C10="SiA",C10="SeA",C10="Si"),1,"") | R10: =((Q10-P10)-(Q11-P11)) -> 0 | S10: =(Q10-P10)+(Q11-P11) -> 0 | V10: =IF(OR(C10="SiA",C10="SeA",C10="Si",C10="Ast"),1,"")
D11: S
B12: =DATE(Calendrier!$A$1,_xlfn.SHEET()-1,(ROW()/2)-1) -> 43470 | D12: M | E12: =IF(C12="","",IF(OR(C12="Cp",C12="AM",C12="Re",C12="Fe"),"",1)) | H12: =((G12-F12)+(G13-F13)) -> 0 | J12: =IF(OR(C12="SiA",C12="SeA",C12="Si",C12="Ast",C12="For"),1,"") | K12: =IF(OR(C12="Cp"),1,"") | O12: =IF(OR(C12="SiA",C12="SeA",C12="Si"),1,"") | R12: =((Q12-P12)-(Q13-P13)) -> 0 | S12: =(Q12-P12)+(Q13-P13) -> 0 | V12: =IF(OR(C12="SiA",C12="SeA",C12="Si",C12="Ast"),1,"")
D13: S
B14: =DATE(Calendrier!$A$1,_xlfn.SHEET()-1,(ROW()/2)-1) -> 43471 | D14: M | E14: =IF(C14="","",IF(OR(C14="Cp",C14="AM",C14="Re",C14="Fe"),"",1)) | H14: =((G14-F14)+(G15-F15)) -> 0 | J14: =IF(OR(C14="SiA",C14="SeA",C14="Si",C14="Ast",C14="For"),1,"") | K14: =IF(OR(C14="Cp"),1,"") | O14: =IF(OR(C14="SiA",C14="SeA",C14="Si"),1,"") | R14: =((Q14-P14)-(Q15-P15)) -> 0 | S14: =(Q14-P14)+(Q15-P15) -> 0 | V14: =IF(OR(C14="SiA",C14="SeA",C14="Si",C14="Ast"),1,"")
A15: S 02 | D15: S
B16: =DATE(Calendrier!$A$1,_xlfn.SHEET()-1,(ROW()/2)-1) -> 43472 | D16: M | E16: =IF(C16="","",IF(OR(C16="Cp",C16="AM",C16="Re",C16="Fe"),"",1)) | H16: =((G16-F16)+(G17-F17)) -> 0 | J16: =IF(OR(C16="SiA",C16="SeA",C16="Si",C16="Ast",C16="For"),1,"") | K16: =IF(OR(C16="Cp"),1,"") | O16: =IF(OR(C16="SiA",C16="SeA",C16="Si"),1,"") | R16: =((Q16-P16)-(Q17-P17)) -> 0 | S16: =(Q16-P16)+(Q17-P17) -> 0 | V16: =IF(OR(C16="SiA",C16="SeA",C16="Si",C16="Ast"),1,"")
A17: =SUM(H16:H31)+SUM(R16:R31) -> 0 | D17: S
B18: =DATE(Calendrier!$A$1,_xlfn.SHEET()-1,(ROW()/2)-1) -> 43473 | D18: M | E18: =IF(C18="","",IF(OR(C18="Cp",C18="AM",C18="Re",C18="Fe"),"",1)) | H18: =((G18-F18)+(G19-F19)) -> 0 | J18: =IF(OR(C18="SiA",C18="SeA",C18="Si",C18="Ast",C18="For"),1,"") | K18: =IF(OR(C18="Cp"),1,"") | O18: =IF(OR(C18="SiA",C18="SeA",C18="Si"),1,"") | R18: =((Q18-P18)-(Q19-P19)) -> 0 | S18: =(Q18-P18)+(Q19-P19) -> 0 | V18: =IF(OR(C18="SiA",C18="SeA",C18="Si",C18="Ast"),1,"")
D19: S
B20: =DATE(Calendrier!$A$1,_xlfn.SHEET()-1,(ROW()/2)-1) -> 43474 | D20: M | E20: =IF(C20="","",IF(OR(C20="Cp",C20="AM",C20="Re",C20="Fe"),"",1)) | H20: =((G20-F20)+(G21-F21)) -> 0 | J20: =IF(OR(C20="SiA",C20="SeA",C20="Si",C20="Ast",C20="For"),1,"") | K20: =IF(OR(C20="Cp"),1,"") | O20: =IF(OR(C20="SiA",C20="SeA",C20="Si"),1,"") | R20: =((Q20-P20)-(Q21-P21)) -> 0 | S20: =(Q20-P20)+(Q21-P21) -> 0 | V20: =IF(OR(C20="SiA",C20="SeA",C20="Si",C20="Ast"),1,"")
D21: S
B22: =DATE(Calendrier!$A$1,_xlfn.SHEET()-1,(ROW()/2)-1) -> 43475 | D22: M | E22: =IF(C22="","",IF(OR(C22="Cp",C22="AM",C22="Re",C22="Fe"),"",1)) | H22: =((G22-F22)+(G23-F23)) -> 0 | J22: =IF(OR(C22="SiA",C22="SeA",C22="Si",C22="Ast",C22="For"),1,"") | K22: =IF(OR(C22="Cp"),1,"") | O22: =IF(OR(C22="SiA",C22="SeA",C22="Si"),1,"") | R22: =((Q22-P22)-(Q23-P23)) -> 0 | S22: =(Q22-P22)+(Q23-P23) -> 0 | V22: =IF(OR(C22="SiA",C22="SeA",C22="Si",C22="Ast"),1,"")
D23: S
B24: =DATE(Calendrier!$A$1,_xlfn.SHEET()-1,(ROW()/2)-1) -> 43476 | D24: M | E24: =IF(C24="","",IF(OR(C24="Cp",C24="AM",C24="Re",C24="Fe"),"",1)) | H24: =((G24-F24)+(G25-F25)) -> 0 | J24: =IF(OR(C24="SiA",C24="SeA",C24="Si",C24="Ast",C24="For"),1,"") | K24: =IF(OR(C24="Cp"),1,"") | O24: =IF(OR(C24="SiA",C24="SeA",C24="Si"),1,"") | R24: =((Q24-P24)-(Q25-P25)) -> 0 | S24: =(Q24-P24)+(Q25-P25) -> 0 | V24: =IF(OR(C24="SiA",C24="SeA",C24="Si",C24="Ast"),1,"")
D25: S
B26: =DATE(Calendrier!$A$1,_xlfn.SHEET()-1,(ROW()/2)-1) -> 43477 | D26: M | E26: =IF(C26="","",IF(OR(C26="Cp",C26="AM",C26="Re",C26="Fe"),"",1)) | H26: =((G26-F26)+(G27-F27)) -> 0 | J26: =IF(OR(C26="SiA",C26="SeA",C26="Si",C26="Ast",C26="For"),1,"") | K26: =IF(OR(C26="Cp"),1,"") | O26: =IF(OR(C26="SiA",C26="SeA",C26="Si"),1,"") | R26: =((Q26-P26)-(Q27-P27)) -> 0 | S26: =(Q26-P26)+(Q27-P27) -> 0 | V26: =IF(OR(C26="SiA",C26="SeA",C26="Si",C26="Ast"),1,"")
D27: S
B28: =DATE(Calendrier!$A$1,_xlfn.SHEET()-1,(ROW()/2)-1) -> 43478 | D28: M | E28: =IF(C28="","",IF(OR(C28="Cp",C28="AM",C28="Re",C28="Fe"),"",1)) | H28: =((G28-F28)+(G29-F29)) -> 0 | J28: =IF(OR(C28="SiA",C28="SeA",C28="Si",C28="Ast",C28="For"),1,"") | K28: =IF(OR(C28="Cp"),1,"") | O28: =IF(OR(C28="SiA",C28="SeA",C28="Si"),1,"") | R28: =((Q28-P28)-(Q29-P29)) -> 0 | S28: =(Q28-P28)+(Q29-P29) -> 0 | V28: =IF(OR(C28="SiA",C28="SeA",C28="Si",C28="Ast"),1,"")
A29: S 03 | D29: S
B30: =DATE(Calendrier!$A$1,_xlfn.SHEET()-1,(ROW()/2)-1) -> 43479 | D30: M | E30: =IF(C30="","",IF(OR(C30="Cp",C30="AM",C30="Re",C30="Fe"),"",1)) | H30: =((G30-F30)+(G31-F31)) -> 0 | J30: =IF(OR(C30="SiA",C30="SeA",C30="Si",C30="Ast",C30="For"),1,"") | K30: =IF(OR(C30="Cp"),1,"") | O30: =IF(OR(C30="SiA",C30="SeA",C30="Si"),1,"") | R30: =((Q30-P30)-(Q31-P31)) -> 0 | S30: =(Q30-P30)+(Q31-P31) -> 0 | V30: =IF(OR(C30="SiA",C30="SeA",C30="Si",C30="Ast"),1,"")
A31: =SUM(H30:H43,R30:R43) -> 0 | D31: S
B32: =DATE(Calendrier!$A$1,_xlfn.SHEET()-1,(ROW()/2)-1) -> 43480 | D32: M | E32: =IF(C32="","",IF(OR(C32="Cp",C32="AM",C32="Re",C32="Fe"),"",1)) | H32: =((G32-F32)+(G33-F33)) -> 0 | J32: =IF(OR(C32="SiA",C32="SeA",C32="Si",C32="Ast",C32="For"),1,"") | K32: =IF(OR(C32="Cp"),1,"") | O32: =IF(OR(C32="SiA",C32="SeA",C32="Si"),1,"") | R32: =((Q32-P32)-(Q33-P33)) -> 0 | S32: =(Q32-P32)+(Q33-P33) -> 0 | V32: =IF(OR(C32="SiA",C32="SeA",C32="Si",C32="Ast"),1,"")
D33: S
B34: =DATE(Calendrier!$A$1,_xlfn.SHEET()-1,(ROW()/2)-1) -> 43481 | D34: M | E34: =IF(C34="","",IF(OR(C34="Cp",C34="AM",C34="Re",C34="Fe"),"",1)) | H34: =((G34-F34)+(G35-F35)) -> 0 | J34: =IF(OR(C34="SiA",C34="SeA",C34="Si",C34="Ast",C34="For"),1,"") | K34: =IF(OR(C34="Cp"),1,"") | O34: =IF(OR(C34="SiA",C34="SeA",C34="Si"),1,"") | R34: =((Q34-P34)-(Q35-P35)) -> 0 | S34: =(Q34-P34)+(Q35-P35) -> 0 | V34: =IF(OR(C34="SiA",C34="SeA",C34="Si",C34="Ast"),1,"")
D35: S
B36: =DATE(Calendrier!$A$1,_xlfn.SHEET()-1,(ROW()/2)-1) -> 43482 | D36: M | E36: =IF(C36="","",IF(OR(C36="Cp",C36="AM",C36="Re",C36="Fe"),"",1)) | H36: =((G36-F36)+(G37-F37)) -> 0 | J36: =IF(OR(C36="SiA",C36="SeA",C36="Si",C36="Ast",C36="For"),1,"") | K36: =IF(OR(C36="Cp"),1,"") | O36: =IF(OR(C36="SiA",C36="SeA",C36="Si"),1,"") | R36: =((Q36-P36)-(Q37-P37)) -> 0 | S36: =(Q36-P36)+(Q37-P37) -> 0 | V36: =IF(OR(C36="SiA",C36="SeA",C36="Si",C36="Ast"),1,"")
D37: S
B38: =DATE(Calendrier!$A$1,_xlfn.SHEET()-1,(ROW()/2)-1) -> 43483 | D38: M | E38: =IF(C38="","",IF(OR(C38="Cp",C38="AM",C38="Re",C38="Fe"),"",1)) | H38: =((G38-F38)+(G39-F39)) -> 0 | J38: =IF(OR(C38="SiA",C38="SeA",C38="Si",C38="Ast",C38="For"),1,"") | O38: =IF(OR(C38="SiA",C38="SeA",C38="Si"),1,"") | R38: =((Q38-P38)-(Q39-P39)) -> 0 | S38: =(Q38-P38)+(Q39-P39) -> 0 | V38: =IF(OR(C38="SiA",C38="SeA",C38="Si",C38="Ast"),1,"")
D39: S
B40: =DATE(Calendrier!$A$1,_xlfn.SHEET()-1,(ROW()/2)-1) -> 43484 | D40: M | E40: =IF(C40="","",IF(OR(C40="Cp",C40="AM",C40="Re",C40="Fe"),"",1)) | H40: =((G40-F40)+(G41-F41)) -> 0 | J40: =IF(OR(C40="SiA",C40="SeA",C40="Si",C40="Ast",C40="For"),1,"") | K40: =IF(OR(C40="Cp"),1,"") | O40: =IF(OR(C40="SiA",C40="SeA",C40="Si"),1,"") | R40: =((Q40-P40)-(Q41-P41)) -> 0 | S40: =(Q40-P40)+(Q41-P41) -> 0 | V40: =IF(OR(C40="SiA",C40="SeA",C40="Si",C40="Ast"),1,"")
D41: S
B42: =DATE(Calendrier!$A$1,_xlfn.SHEET()-1,(ROW()/2)-1) -> 43485 | D42: M | E42: =IF(C42="","",IF(OR(C42="Cp",C42="AM",C42="Re",C42="Fe"),"",1)) | H42: =((G42-F42)+(G43-F43)) -> 0 | J42: =IF(OR(C42="SiA",C42="SeA",C42="Si",C42="Ast",C42="For"),1,"") | K42: =IF(OR(C42="Cp"),1,"") | O42: =IF(OR(C42="SiA",C42="SeA",C42="Si"),1,"") | R42: =((Q42-P42)-(Q43-P43)) -> 0 | S42: =(Q42-P42)+(Q43-P43) -> 0 | V42: =IF(OR(C42="SiA",C42="SeA",C42="Si",C42="Ast"),1,"")
D43: S
A44: S 04 | B44: =DATE(Calendrier!$A$1,_xlfn.SHEET()-1,(ROW()/2)-1) -> 43486 | D44: M | E44: =IF(C44="","",IF(OR(C44="Cp",C44="AM",C44="Re",C44="Fe"),"",1)) | H44: =((G44-F44)+(G45-F45)) -> 0 | J44: =IF(OR(C44="SiA",C44="SeA",C44="Si",C44="Ast",C44="For"),1,"") | K44: =IF(OR(C44="Cp"),1,"") | O44: =IF(OR(C44="SiA",C44="SeA",C44="Si"),1,"") | R44: =((Q44-P44)-(Q45-P45)) -> 0 | S44: =(Q44-P44)+(Q45-P45) -> 0 | V44: =IF(OR(C44="SiA",C44="SeA",C44="Si",C44="Ast"),1,"")
D45: S
A46: =SUM(H44:H57,R44:R57) -> 0 | B46: =DATE(Calendrier!$A$1,_xlfn.SHEET()-1,(ROW()/2)-1) -> 43487 | D46: M | E46: =IF(C46="","",IF(OR(C46="Cp",C46="AM",C46="Re",C46="Fe"),"",1)) | H46: =((G46-F46)+(G47-F47)) -> 0 | J46: =IF(OR(C46="SiA",C46="SeA",C46="Si",C46="Ast",C46="For"),1,"") | K46: =IF(OR(C46="Cp"),1,"") | O46: =IF(OR(C46="SiA",C46="SeA",C46="Si"),1,"") | R46: =((Q46-P46)-(Q47-P47)) -> 0 | S46: =(Q46-P46)+(Q47-P47) -> 0 | V46: =IF(OR(C46="SiA",C46="SeA",C46="Si",C46="Ast"),1,"")
D47: S
B48: =DATE(Calendrier!$A$1,_xlfn.SHEET()-1,(ROW()/2)-1) -> 43488 | D48: M | E48: =IF(C48="","",IF(OR(C48="Cp",C48="AM",C48="Re",C48="Fe"),"",1)) | H48: =((G48-F48)+(G49-F49)) -> 0 | J48: =IF(OR(C48="SiA",C48="SeA",C48="Si",C48="Ast",C48="For"),1,"") | K48: =IF(OR(C48="Cp"),1,"") | O48: =IF(OR(C48="SiA",C48="SeA",C48="Si"),1,"") | R48: =((Q48-P48)-(Q49-P49)) -> 0 | S48: =(Q48-P48)+(Q49-P49) -> 0 | V48: =IF(OR(C48="SiA",C48="SeA",C48="Si",C48="Ast"),1,"")
D49: S
B50: =DATE(Calendrier!$A$1,_xlfn.SHEET()-1,(ROW()/2)-1) -> 43489 | D50: M | E50: =IF(C50="","",IF(OR(C50="Cp",C50="AM",C50="Re",C50="Fe"),"",1)) | H50: =((G50-F50)+(G51-F51)) -> 0 | J50: =IF(OR(C50="SiA",C50="SeA",C50="Si",C50="Ast",C50="For"),1,"") | K50: =IF(OR(C50="Cp"),1,"") | O50: =IF(OR(C50="SiA",C50="SeA",C50="Si"),1,"") | R50: =((Q50-P50)-(Q51-P51)) -> 0 | S50: =(Q50-P50)+(Q51-P51) -> 0 | V50: =IF(OR(C50="SiA",C50="SeA",C50="Si",C50="Ast"),1,"")
D51: S
B52: =DATE(Calendrier!$A$1,_xlfn.SHEET()-1,(ROW()/2)-1) -> 43490 | D52: M | E52: =IF(C52="","",IF(OR(C52="Cp",C52="AM",C52="Re",C52="Fe"),"",1)) | H52: =((G52-F52)+(G53-F53)) -> 0 | J52: =IF(OR(C52="SiA",C52="SeA",C52="Si",C52="Ast",C52="For"),1,"") | K52: =IF(OR(C52="Cp"),1,"") | O52: =IF(OR(C52="SiA",C52="SeA",C52="Si"),1,"") | R52: =((Q52-P52)-(Q53-P53)) -> 0 | S52: =(Q52-P52)+(Q53-P53) -> 0 | V52: =IF(OR(C52="SiA",C52="SeA",C52="Si",C52="Ast"),1,"")
D53: S
B54: =DATE(Calendrier!$A$1,_xlfn.SHEET()-1,(ROW()/2)-1) -> 43491 | D54: M | E54: =IF(C54="","",IF(OR(C54="Cp",C54="AM",C54="Re",C54="Fe"),"",1)) | H54: =((G54-F54)+(G55-F55)) -> 0 | J54: =IF(OR(C54="SiA",C54="SeA",C54="Si",C54="Ast",C54="For"),1,"") | K54: =IF(OR(C54="Cp"),1,"") | O54: =IF(OR(C54="SiA",C54="SeA",C54="Si"),1,"") | R54: =((Q54-P54)-(Q55-P55)) -> 0 | S54: =(Q54-P54)+(Q55-P55) -> 0 | V54: =IF(OR(C54="SiA",C54="SeA",C54="Si",C54="Ast"),1,"")
D55: S
B56: =DATE(Calendrier!$A$1,_xlfn.SHEET()-1,(ROW()/2)-1) -> 43492 | D56: M | E56: =IF(C56="","",IF(OR(C56="Cp",C56="AM",C56="Re",C56="Fe"),"",1)) | H56: =((G56-F56)+(G57-F57)) -> 0 | J56: =IF(OR(C56="SiA",C56="SeA",C56="Si",C56="Ast",C56="For"),1,"") | K56: =IF(OR(C56="Cp"),1,"") | O56: =IF(OR(C56="SiA",C56="SeA",C56="Si"),1,"") | R56: =((Q56-P56)-(Q57-P57)) -> 0 | S56: =(Q56-P56)+(Q57-P57) -> 0 | V56: =IF(OR(C56="SiA",C56="SeA",C56="Si",C56="Ast"),1,"")
D57: S
A58: S 05 | B58: =DATE(Calendrier!$A$1,_xlfn.SHEET()-1,(ROW()/2)-1) -> 43493 | D58: M | E58: =IF(C58="","",IF(OR(C58="Cp",C58="AM",C58="Re",C58="Fe"),"",1)) | H58: =((G58-F58)+(G59-F59)) -> 0 | J58: =IF(OR(C58="SiA",C58="SeA",C58="Si",C58="Ast",C58="For"),1,"") | K58: =IF(OR(C58="Cp"),1,"") | O58: =IF(OR(C58="SiA",C58="SeA",C58="Si"),1,"") | R58: =((Q58-P58)-(Q59-P59)) -> 0 | S58: =(Q58-P58)+(Q59-P59) -> 0 | V58: =IF(OR(C58="SiA",C58="SeA",C58="Si",C58="Ast"),1,"")
D59: S
A60: =SUM(H58:H65,R58:R65) -> 0 | B60: =DATE(Calendrier!$A$1,_xlfn.SHEET()-1,(ROW()/2)-1) -> 43494 | D60: M | E60: =IF(C60="","",IF(OR(C60="Cp",C60="AM",C60="Re",C60="Fe"),"",1)) | H60: =((G60-F60)+(G61-F61)) -> 0 | J60: =IF(OR(C60="SiA",C60="SeA",C60="Si",C60="Ast",C60="For"),1,"") | K60: =IF(OR(C60="Cp"),1,"") | O60: =IF(OR(C60="SiA",C60="SeA",C60="Si"),1,"") | R60: =((Q60-P60)-(Q61-P61)) -> 0 | S60: =(Q60-P60)+(Q61-P61) -> 0 | V60: =IF(OR(C60="SiA",C60="SeA",C60="Si",C60="Ast"),1,"")
D61: S
B62: =DATE(Calendrier!$A$1,_xlfn.SHEET()-1,(ROW()/2)-1) -> 43495 | D62: M | E62: =IF(C62="","",IF(OR(C62="Cp",C62="AM",C62="Re",C62="Fe"),"",1)) | H62: =((G62-F62)+(G63-F63)) -> 0 | J62: =IF(OR(C62="SiA",C62="SeA",C62="Si",C62="Ast",C62="For"),1,"") | K62: =IF(OR(C62="Cp"),1,"") | O62: =IF(OR(C62="SiA",C62="SeA",C62="Si"),1,"") | R62: =((Q62-P62)-(Q63-P63)) -> 0 | S62: =(Q62-P62)+(Q63-P63) -> 0 | V62: =IF(OR(C62="SiA",C62="SeA",C62="Si",C62="Ast"),1,"")
D63: S
B64: =DATE(Calendrier!$A$1,_xlfn.SHEET()-1,(ROW()/2)-1) -> 43496 | D64: M | E64: =IF(C64="","",IF(OR(C64="Cp",C64="AM",C64="Re",C64="Fe"),"",1)) | H64: =((G64-F64)+(G65-F65)) -> 0 | J64: =IF(OR(C64="SiA",C64="SeA",C64="Si",C64="Ast",C64="For"),1,"") | K64: =IF(OR(C64="Cp"),1,"") | O64: =IF(OR(C64="SiA",C64="SeA",C64="Si"),1,"") | R64: =((Q64-P64)-(Q65-P65)) -> 0 | S64: =(Q64-P64)+(Q65-P65) -> 0 | V64: =IF(OR(C64="SiA",C64="SeA",C64="Si",C64="Ast"),1,"")
D65: S
B66: TOTAUX | E66: =SUM(E4:E65) -> 1 | F66: =SUM(H4:H65) -> 0 | I66: =SUM(I4:I65) -> 0 | J66: =SUM(J4:J65) -> 0 | K66: =SUM(K4:K65) -> 1 | N66: TOTAUX | O66: =SUM(O4:O65) -> 0 | R66: =SUM(R4:R30) -> 0 | S66: =SUM(S4:S65) -> 0 | T66: =SUM(T4:T65) -> 0 | U66: =SUM(U4:U65) -> 0 | V66: =SUM(V4:V65) -> 0 | W66: =SUM(W4:W65) -> 0

Sheet Fev
A3: S 05 | B3: DATE | C3: SERV | E3: J | F3: HA | G3: HD | I3: K | J3: Ser | K3: CP | L3: MOTIF DU DEPLACEMENT | O3: Panniers | P3: HSD | Q3: HSF | R3: H.Sup | S3: Maj Nuit | T3: Maj Dim. | U3: Maj J.Fé. | V3: Astreinte | W3: SSLIA
B4: =DATE(Calendrier!$A$1,_xlfn.SHEET()-1,(ROW()/2)-1) -> 43497 | D4: M | E4: =IF(C4="","",IF(OR(C4="Cp",C4="AM",C4="Re",C4="Fe"),"",1)) | H4: =((G4-F4)+(G5-F5)) -> 0 | J4: =IF(OR(C4="SiA",C4="SeA",C4="Si",C4="Ast",C4="For"),1,"") | K4: =IF(OR(C4="Cp"),1,"") | O4: =IF(OR(C4="SiA",C4="SeA",C4="Si"),1,"") | R4: =((Q4-P4)-(Q5-P5)) -> 0 | V4: =IF(OR(C4="SiA",C4="SeA",C4="Ast"),1,"")
A5: =SUM(H4:H9,R4:R9)+Jan!A60 -> 0 | D5: S
B6: =DATE(Calendrier!$A$1,_xlfn.SHEET()-1,(ROW()/2)-1) -> 43498 | D6: M | E6: =IF(C6="","",IF(OR(C6="Cp",C6="AM",C6="Re",C6="Fe"),"",1)) | H6: =((G6-F6)+(G7-F7)) -> 0 | J6: =IF(OR(C6="SiA",C6="SeA",C6="Si",C6="Ast",C6="For"),1,"") | K6: =IF(OR(C6="Cp"),1,"") | O6: =IF(OR(C6="SiA",C6="SeA",C6="Si"),1,"") | R6: =((Q6-P6)-(Q7-P7)) -> 0 | V6: =IF(OR(C6="SiA",C6="SeA",C6="Si",C6="Ast"),1,"")
D7: S
B8: =DATE(Calendrier!$A$1,_xlfn.SHEET()-1,(ROW()/2)-1) -> 43499 | D8: M | E8: =IF(C8="","",IF(OR(C8="Cp",C8="AM",C8="Re",C8="Fe"),"",1)) | H8: =((G8-F8)+(G9-F9)) -> 0 | J8: =IF(OR(C8="SiA",C8="SeA",C8="Si",C8="Ast",C8="For"),1,"") | K8: =IF(OR(C8="Cp"),1,"") | O8: =IF(OR(C8="SiA",C8="SeA",C8="Si"),1,"") | R8: =((Q8-P8)-(Q9-P9)) -> 0 | V8: =IF(OR(C8="SiA",C8="SeA",C8="Si",C8="Ast"),1,"")
D9: S
A10: S 06 | B10: =DATE(Calendrier!$A$1,_xlfn.SHEET()-1,(ROW()/2)-1) -> 43500 | D10: M | E10: =IF(C10="","",IF(OR(C10="Cp",C10="AM",C10="Re",C10="Fe"),"",1)) | H10: =((G10-F10)+(G11-F11)) -> 0 | J10: =IF(OR(C10="SiA",C10="SeA",C10="Si",C10="Ast",C10="For"),1,"") | K10: =IF(OR(C10="Cp"),1,"") | O10: =IF(OR(C10="SiA",C10="SeA",C10="Si"),1,"") | R10: =((Q10-P10)-(Q11-P11)) -> 0 | V10: =IF(OR(C10="SiA",C10="SeA",C10="Si",C10="Ast"),1,"")
D11: S
A12: =SUM(H10:H23,R10:R23) -> 0 | B12: =DATE(Calendrier!$A$1,_xlfn.SHEET()-1,(ROW()/2)-1) -> 43501 | D12: M | E12: =IF(C12="","",IF(OR(C12="Cp",C12="AM",C12="Re",C12="Fe"),"",1)) | H12: =((G12-F12)+(G13-F13)) -> 0 | J12: =IF(OR(C12="SiA",C12="SeA",C12="Si",C12="Ast",C12="For"),1,"") | K12: =IF(OR(C12="Cp"),1,"") | O12: =IF(OR(C12="SiA",C12="SeA",C12="Si"),1,"") | R12: =((Q12-P12)-(Q13-P13)) -> 0 | V12: =IF(OR(C12="SiA",C12="SeA",C12="Si",C12="Ast"),1,"")
D13: S
B14: =DATE(Calendrier!$A$1,_xlfn.SHEET()-1,(ROW()/2)-1) -> 43502 | D14: M | E14: =IF(C14="","",IF(OR(C14="Cp",C14="AM",C14="Re",C14="Fe"),"",1)) | H14: =((G14-F14)+(G15-F15)) -> 0 | J14: =IF(OR(C14="SiA",C14="SeA",C14="Si",C14="Ast",C14="For"),1,"") | K14: =IF(OR(C14="Cp"),1,"") | O14: =IF(OR(C14="SiA",C14="SeA",C14="Si"),1,"") | R14: =((Q14-P14)-(Q15-P15)) -> 0 | V14: =IF(OR(C14="SiA",C14="SeA",C14="Si",C14="Ast"),1,"")
D15: S
B16: =DATE(Calendrier!$A$1,_xlfn.SHEET()-1,(ROW()/2)-1) -> 43503 | D16: M | E16: =IF(C16="","",IF(OR(C16="Cp",C16="AM",C16="Re",C16="Fe"),"",1)) | H16: =((G16-F16)+(G17-F17)) -> 0 | J16: =IF(OR(C16="SiA",C16="SeA",C16="Si",C16="Ast",C16="For"),1,"") | K16: =IF(OR(C16="Cp"),1,"") | O16: =IF(OR(C16="SiA",C16="SeA",C16="Si"),1,"") | R16: =((Q16-P16)-(Q17-P17)) -> 0 | V16: =IF(OR(C16="SiA",C16="SeA",C16="Si",C16="Ast"),1,"")
D17: S
B18: =DATE(Calendrier!$A$1,_xlfn.SHEET()-1,(ROW()/2)-1) -> 43504 | D18: M | E18: =IF(C18="","",IF(OR(C18="Cp",C18="AM",C18="Re",C18="Fe"),"",1)) | H18: =((G18-F18)+(G19-F19)) -> 0 | J18: =IF(OR(C18="SiA",C18="SeA",C18="Si",C18="Ast",C18="For"),1,"") | K18: =IF(OR(C18="Cp"),1,"") | O18: =IF(OR(C18="SiA",C18="SeA",C18="Si"),1,"") | R18: =((Q18-P18)-(Q19-P19)) -> 0 | V18: =IF(OR(C18="SiA",C18="SeA",C18="Si",C18="Ast"),1,"")
D19: S
B20: =DATE(Calendrier!$A$1,_xlfn.SHEET()-1,(ROW()/2)-1) -> 43505 | D20: M | E20: =IF(C20="","",IF(OR(C20="Cp",C20="AM",C20="Re",C20="Fe"),"",1)) | H20: =((G20-F20)+(G21-F21)) -> 0 | J20: =IF(OR(C20="SiA",C20="SeA",C20="Si",C20="Ast",C20="For"),1,"") | K20: =IF(OR(C20="Cp"),1,"") | O20: =IF(OR(C20="SiA",C20="SeA",C20="Si"),1,"") | R20: =((Q20-P20)-(Q21-P21)) -> 0 | V20: =IF(OR(C20="SiA",C20="SeA",C20="Si",C20="Ast"),1,"")
D21: S
B22: =DATE(Calendrier!$A$1,_xlfn.SHEET()-1,(ROW()/2)-1) -> 43506 | D22: M | E22: =IF(C22="","",IF(OR(C22="Cp",C22="AM",C22="Re",C22="Fe"),"",1)) | H22: =((G22-F22)+(G23-F23)) -> 0 | J22: =IF(OR(C22="SiA",C22="SeA",C22="Si",C22="Ast",C22="For"),1,"") | K22: =IF(OR(C22="Cp"),1,"") | O22: =IF(OR(C22="SiA",C22="SeA",C22="Si"),1,"") | R22: =((Q22-P22)-(Q23-P23)) -> 0 | V22: =IF(OR(C22="SiA",C22="SeA",C22="Si",C22="Ast"),1,"")
D23: S
A24: S 07 | B24: =DATE(Calendrier!$A$1,_xlfn.SHEET()-1,(ROW()/2)-1) -> 43507 | D24: M | E24: =IF(C24="","",IF(OR(C24="Cp",C24="AM",C24="Re",C24="Fe"),"",1)) | H24: =((G24-F24)+(G25-F25)) -> 0 | J24: =IF(OR(C24="SiA",C24="SeA",C24="Si",C24="Ast",C24="For"),1,"") | K24: =IF(OR(C24="Cp"),1,"") | O24: =IF(OR(C24="SiA",C24="SeA",C24="Si"),1,"") | R24: =((Q24-P24)-(Q25-P25)) -> 0 | V24: =IF(OR(C24="SiA",C24="SeA",C24="Si",C24="Ast"),1,"")
D25: S
A26: =SUM(H24:H37,R24:R37) -> 0 | B26: =DATE(Calendrier!$A$1,_xlfn.SHEET()-1,(ROW()/2)-1) -> 43508 | D26: M | E26: =IF(C26="","",IF(OR(C26="Cp",C26="AM",C26="Re",C26="Fe"),"",1)) | H26: =((G26-F26)+(G27-F27)) -> 0 | J26: =IF(OR(C26="SiA",C26="SeA",C26="Si",C26="Ast",C26="For"),1,"") | K26: =IF(OR(C26="Cp"),1,"") | O26: =IF(OR(C26="SiA",C26="SeA",C26="Si"),1,"") | R26: =((Q26-P26)-(Q27-P27)) -> 0 | V26: =IF(OR(C26="SiA",C26="SeA",C26="Si",C26="Ast"),1,"")
D27: S
B28: =DATE(Calendrier!$A$1,_xlfn.SHEET()-1,(ROW()/2)-1) -> 43509 | D28: M | E28: =IF(C28="","",IF(OR(C28="Cp",C28="AM",C28="Re",C28="Fe"),"",1)) | H28: =((G28-F28)+(G29-F29)) -> 0 | J28: =IF(OR(C28="SiA",C28="SeA",C28="Si",C28="Ast",C28="For"),1,"") | K28: =IF(OR(C28="Cp"),1,"") | O28: =IF(OR(C28="SiA",C28="SeA",C28="Si"),1,"") | R28: =((Q28-P28)-(Q29-P29)) -> 0 | V28: =IF(OR(C28="SiA",C28="SeA",C28="Si",C28="Ast"),1,"")
D29: S
B30: =DATE(Calendrier!$A$1,_xlfn.SHEET()-1,(ROW()/2)-1) -> 43510 | D30: M | E30: =IF(C30="","",IF(OR(C30="Cp",C30="AM",C30="Re",C30="Fe"),"",1)) | H30: =((G30-F30)+(G31-F31)) -> 0 | J30: =IF(OR(C30="SiA",C30="SeA",C30="Si",C30="Ast",C30="For"),1,"") | K30: =IF(OR(C30="Cp"),1,"") | O30: =IF(OR(C30="SiA",C30="SeA",C30="Si"),1,"") | R30: =((Q30-P30)-(Q31-P31)) -> 0 | V30: =IF(OR(C30="SiA",C30="SeA",C30="Si",C30="Ast"),1,"")
D31: S
B32: =DATE(Calendrier!$A$1,_xlfn.SHEET()-1,(ROW()/2)-1) -> 43511 | D32: M | E32: =IF(C32="","",IF(OR(C32="Cp",C32="AM",C32="Re",C32="Fe"),"",1)) | H32: =((G32-F32)+(G33-F33)) -> 0 | J32: =IF(OR(C32="SiA",C32="SeA",C32="Si",C32="Ast",C32="For"),1,"") | K32: =IF(OR(C32="Cp"),1,"") | O32: =IF(OR(C32="SiA",C32="SeA",C32="Si"),1,"") | R32: =((Q32-P32)-(Q33-P33)) -> 0 | V32: =IF(OR(C32="SiA",C32="SeA",C32="Si",C32="Ast"),1,"")
D33: S
B34: =DATE(Calendrier!$A$1,_xlfn.SHEET()-1,(ROW()/2)-1) -> 43512 | D34: M | E34: =IF(C34="","",IF(OR(C34="Cp",C34="AM",C34="Re",C34="Fe"),"",1)) | H34: =((G34-F34)+(G35-F35)) -> 0 | J34: =IF(OR(C34="SiA",C34="SeA",C34="Si",C34="Ast",C34="For"),1,"") | K34: =IF(OR(C34="Cp"),1,"") | O34: =IF(OR(C34="SiA",C34="SeA",C34="Si"),1,"") | R34: =((Q34-P34)-(Q35-P35)) -> 0 | V34: =IF(OR(C34="SiA",C34="SeA",C34="Si",C34="Ast"),1,"")
D35: S
B36: =DATE(Calendrier!$A$1,_xlfn.SHEET()-1,(ROW()/2)-1) -> 43513 | D36: M | E36: =IF(C36="","",IF(OR(C36="Cp",C36="AM",C36="Re",C36="Fe"),"",1)) | H36: =((G36-F36)+(G37-F37)) -> 0 | J36: =IF(OR(C36="SiA",C36="SeA",C36="Si",C36="Ast",C36="For"),1,"") | K36: =IF(OR(C36="Cp"),1,"") | O36: =IF(OR(C36="SiA",C36="SeA",C36="Si"),1,"") | R36: =((Q36-P36)-(Q37-P37)) -> 0 | V36: =IF(OR(C36="SiA",C36="SeA",C36="Si",C36="Ast"),1,"")
D37: S
A38: S 08 | B38: =DATE(Calendrier!$A$1,_xlfn.SHEET()-1,(ROW()/2)-1) -> 43514 | D38: M | E38: =IF(C38="","",IF(OR(C38="Cp",C38="AM",C38="Re",C38="Fe"),"",1)) | H38: =((G38-F38)+(G39-F39)) -> 0 | J38: =IF(OR(C38="SiA",C38="SeA",C38="Si",C38="Ast",C38="For"),1,"") | O38: =IF(OR(C38="SiA",C38="SeA",C38="Si"),1,"") | R38: =((Q38-P38)-(Q39-P39)) -> 0 | V38: =IF(OR(C38="SiA",C38="SeA",C38="Si",C38="Ast"),1,"")
D39: S
A40: =SUM(H38:H51,R38:R51) -> 0 | B40: =DATE(Calendrier!$A$1,_xlfn.SHEET()-1,(ROW()/2)-1) -> 43515 | D40: M | E40: =IF(C40="","",IF(OR(C40="Cp",C40="AM",C40="Re",C40="Fe"),"",1)) | H40: =((G40-F40)+(G41-F41)) -> 0 | J40: =IF(OR(C40="SiA",C40="SeA",C40="Si",C40="Ast",C40="For"),1,"") | K40: =IF(OR(C40="Cp"),1,"") | O40: =IF(OR(C40="SiA",C40="SeA",C40="Si"),1,"") | R40: =((Q40-P40)-(Q41-P41)) -> 0 | V40: =IF(OR(C40="SiA",C40="SeA",C40="Si",C40="Ast"),1,"")
D41: S
B42: =DATE(Calendrier!$A$1,_xlfn.SHEET()-1,(ROW()/2)-1) -> 43516 | D42: M | E42: =IF(C42="","",IF(OR(C42="Cp",C42="AM",C42="Re",C42="Fe"),"",1)) | H42: =((G42-F42)+(G43-F43)) -> 0 | J42: =IF(OR(C42="SiA",C42="SeA",C42="Si",C42="Ast",C42="For"),1,"") | K42: =IF(OR(C42="Cp"),1,"") | O42: =IF(OR(C42="SiA",C42="SeA",C42="Si"),1,"") | R42: =((Q42-P42)-(Q43-P43)) -> 0 | V42: =IF(OR(C42="SiA",C42="SeA",C42="Si",C42="Ast"),1,"")
D43: S
B44: =DATE(Calendrier!$A$1,_xlfn.SHEET()-1,(ROW()/2)-1) -> 43517 | D44: M | E44: =IF(C44="","",IF(OR(C44="Cp",C44="AM",C44="Re",C44="Fe"),"",1)) | H44: =((G44-F44)+(G45-F45)) -> 0 | J44: =IF(OR(C44="SiA",C44="SeA",C44="Si",C44="Ast",C44="For"),1,"") | K44: =IF(OR(C44="Cp"),1,"") | O44: =IF(OR(C44="SiA",C44="SeA",C44="Si"),1,"") | R44: =((Q44-P44)-(Q45-P45)) -> 0 | V44: =IF(OR(C44="SiA",C44="SeA",C44="Si",C44="Ast"),1,"")
D45: S
B46: =DATE(Calendrier!$A$1,_xlfn.SHEET()-1,(ROW()/2)-1) -> 43518 | D46: M | E46: =IF(C46="","",IF(OR(C46="Cp",C46="AM",C46="Re",C46="Fe"),"",1)) | H46: =((G46-F46)+(G47-F47)) -> 0 | J46: =IF(OR(C46="SiA",C46="SeA",C46="Si",C46="Ast",C46="For"),1,"") | K46: =IF(OR(C46="Cp"),1,"") | O46: =IF(OR(C46="SiA",C46="SeA",C46="Si"),1,"") | R46: =((Q46-P46)-(Q47-P47)) -> 0 | V46: =IF(OR(C46="SiA",C46="SeA",C46="Si",C46="Ast"),1,"")
D47: S
B48: =DATE(Calendrier!$A$1,_xlfn.SHEET()-1,(ROW()/2)-1) -> 43519 | D48: M | E48: =IF(C48="","",IF(OR(C48="Cp",C48="AM",C48="Re",C48="Fe"),"",1)) | H48: =((G48-F48)+(G49-F49)) -> 0 | J48: =IF(OR(C48="SiA",C48="SeA",C48="Si",C48="Ast",C48="For"),1,"") | K48: =IF(OR(C48="Cp"),1,"") | O48: =IF(OR(C48="SiA",C48="SeA",C48="Si"),1,"") | R48: =((Q48-P48)-(Q49-P49)) -> 0 | V48: =IF(OR(C48="SiA",C48="SeA",C48="Si",C48="Ast"),1,"")
D49: S
B50: =DATE(Calendrier!$A$1,_xlfn.SHEET()-1,(ROW()/2)-1) -> 43520 | D50: M | E50: =IF(C50="","",IF(OR(C50="Cp",C50="AM",C50="Re",C50="Fe"),"",1)) | H50: =((G50-F50)+(G51-F51)) -> 0 | J50: =IF(OR(C50="SiA",C50="SeA",C50="Si",C50="Ast",C50="For"),1,"") | K50: =IF(OR(C50="Cp"),1,"") | O50: =IF(OR(C50="SiA",C50="SeA",C50="Si"),1,"") | R50: =((Q50-P50)-(Q51-P51)) -> 0 | V50: =IF(OR(C50="SiA",C50="SeA",C50="Si",C50="Ast"),1,"")
D51: S
A52: S 09 | B52: =DATE(Calendrier!$A$1,_xlfn.SHEET()-1,(ROW()/2)-1) -> 43521 | D52: M | E52: =IF(C52="","",IF(OR(C52="Cp",C52="AM",C52="Re",C52="Fe"),"",1)) | H52: =((G52-F52)+(G53-F53)) -> 0 | J52: =IF(OR(C52="SiA",C52="SeA",C52="Si",C52="Ast",C52="For"),1,"") | K52: =IF(OR(C52="Cp"),1,"") | O52: =IF(OR(C52="SiA",C52="SeA",C52="Si"),1,"") | R52: =((Q52-P52)-(Q53-P53)) -> 0 | V52: =IF(OR(C52="SiA",C52="SeA",C52="Si",C52="Ast"),1,"")
D53: S
A54: =SUM(H52:H61,R52:R61) -> 0 | B54: =DATE(Calendrier!$A$1,_xlfn.SHEET()-1,(ROW()/2)-1) -> 43522 | D54: M | E54: =IF(C54="","",IF(OR(C54="Cp",C54="AM",C54="Re",C54="Fe"),"",1)) | H54: =((G54-F54)+(G55-F55)) -> 0 | J54: =IF(OR(C54="SiA",C54="SeA",C54="Si",C54="Ast",C54="For"),1,"") | K54: =IF(OR(C54="Cp"),1,"") | O54: =IF(OR(C54="SiA",C54="SeA",C54="Si"),1,"") | R54: =((Q54-P54)-(Q55-P55)) -> 0 | V54: =IF(OR(C54="SiA",C54="SeA",C54="Si",C54="Ast"),1,"")
D55: S
B56: =DATE(Calendrier!$A$1,_xlfn.SHEET()-1,(ROW()/2)-1) -> 43523 | D56: M | E56: =IF(C56="","",IF(OR(C56="Cp",C56="AM",C56="Re",C56="Fe"),"",1)) | H56: =((G56-F56)+(G57-F57)) -> 0 | J56: =IF(OR(C56="SiA",C56="SeA",C56="Si",C56="Ast",C56="For"),1,"") | K56: =IF(OR(C56="Cp"),1,"") | O56: =IF(OR(C56="SiA",C56="SeA",C56="Si"),1,"") | R56: =((Q56-P56)-(Q57-P57)) -> 0 | V56: =IF(OR(C56="SiA",C56="SeA",C56="Si",C56="Ast"),1,"")
D57: S
B58: =DATE(Calendrier!$A$1,_xlfn.SHEET()-1,(ROW()/2)-1) -> 43524 | D58: M | E58: =IF(C58="","",IF(OR(C58="Cp",C58="AM",C58="Re",C58="Fe"),"",1)) | H58: =((G58-F58)+(G59-F59)) -> 0 | J58: =IF(OR(C58="SiA",C58="SeA",C58="Si",C58="Ast",C58="For"),1,"") | K58: =IF(OR(C58="Cp"),1,"") | O58: =IF(OR(C58="SiA",C58="SeA",C58="Si"),1,"") | R58: =((Q58-P58)-(Q59-P59)) -> 0 | V58: =IF(OR(C58="SiA",C58="SeA",C58="Si",C58="Ast"),1,"")
D59: S
B60: =IF(MONTH(DATE(Calendrier!$A$1,_xlfn.SHEET()-1,(ROW()/2)-1))>_xlfn.SHEET()-1,"",DATE(Calendrier!$A$1,_xlfn.SHEET()-1,(ROW()/2)-1)) | D60: M | E60: =IF(C60="","",IF(OR(C60="Cp",C60="AM",C60="Re",C60="Fe"),"",1)) | H60: =((G60-F60)+(G61-F61)) -> 0 | J60: =IF(OR(C60="SiA",C60="SeA",C60="Si",C60="Ast",C60="For"),1,"") | K60: =IF(OR(C60="Cp"),1,"") | O60: =IF(OR(C60="SiA",C60="SeA",C60="Si"),1,"") | R60: =((Q60-P60)-(Q61-P61)) -> 0 | V60: =IF(OR(C60="SiA",C60="SeA",C60="Si",C60="Ast"),1,"")
D61: S
B62: TOTAUX | E62: =SUM(E4:E61) -> 0 | F62: =SUM(H4:H61) -> 0 | I62: =SUM(I4:I61) -> 0 | J62: =SUM(J4:J61) -> 0 | K62: =SUM(K4:K61) -> 0 | N62: TOTAUX | O62: =SUM(O4:O61) -> 0 | R62: =SUM(R4:R61) -> 0 | S62: =SUM(S4:S61) -> 0 | T62: =SUM(T4:T61) -> 0 | U62: =SUM(U4:U61) -> 0 | V62: =SUM(V4:V61) -> 0 | W62: =SUM(W4:W61) -> 0

Sheet Mar
A2: S 09
B3: DATE | C3: SERV | E3: J | F3: HA | G3: HD | I3: K | J3: Ser | K3: CP | L3: MOTIF DU DEPLACEMENT | O3: Panniers | P3: HSD | Q3: HSF | R3: H.Sup | S3: Maj Nuit | T3: Maj Dim. | U3: Maj J.Fé. | V3: Astreinte | W3: SSLIA
A4: =SUM(H4:H9,R4:R9)+Fev!A54 -> 0 | B4: =DATE(Calendrier!$A$1,_xlfn.SHEET()-1,(ROW()/2)-1) -> 43525 | D4: M | E4: =IF(C4="","",IF(OR(C4="Cp",C4="AM",C4="Re",C4="Fe"),"",1)) | H4: =((G4-F4)+(G5-F5)) -> 0 | J4: =IF(OR(C4="SiA",C4="SeA",C4="Si",C4="Ast",C4="For"),1,"") | K4: =IF(OR(C4="Cp"),1,"") | O4: =IF(OR(C4="SiA",C4="SeA",C4="Si"),1,"") | R4: =((Q4-P4)-(Q5-P5)) -> 0 | V4: =IF(OR(C4="SiA",C4="SeA",C4="Ast"),1,"")
D5: S
B6: =DATE(Calendrier!$A$1,_xlfn.SHEET()-1,(ROW()/2)-1) -> 43526 | D6: M | E6: =IF(C6="","",IF(OR(C6="Cp",C6="AM",C6="Re",C6="Fe"),"",1)) | H6: =((G6-F6)+(G7-F7)) -> 0 | J6: =IF(OR(C6="SiA",C6="SeA",C6="Si",C6="Ast",C6="For"),1,"") | K6: =IF(OR(C6="Cp"),1,"") | O6: =IF(OR(C6="SiA",C6="SeA",C6="Si"),1,"") | R6: =((Q6-P6)-(Q7-P7)) -> 0 | V6: =IF(OR(C6="SiA",C6="SeA",C6="Si",C6="Ast"),1,"")
D7: S
B8: =DATE(Calendrier!$A$1,_xlfn.SHEET()-1,(ROW()/2)-1) -> 43527 | D8: M | E8: =IF(C8="","",IF(OR(C8="Cp",C8="AM",C8="Re",C8="Fe"),"",1)) | H8: =((G8-F8)+(G9-F9)) -> 0 | J8: =IF(OR(C8="SiA",C8="SeA",C8="Si",C8="Ast",C8="For"),1,"") | K8: =IF(OR(C8="Cp"),1,"") | O8: =IF(OR(C8="SiA",C8="SeA",C8="Si"),1,"") | R8: =((Q8-P8)-(Q9-P9)) -> 0 | V8: =IF(OR(C8="SiA",C8="SeA",C8="Si",C8="Ast"),1,"")
D9: S
A10: S 10 | B10: =DATE(Calendrier!$A$1,_xlfn.SHEET()-1,(ROW()/2)-1) -> 43528 | D10: M | E10: =IF(C10="","",IF(OR(C10="Cp",C10="AM",C10="Re",C10="Fe"),"",1)) | H10: =((G10-F10)+(G11-F11)) -> 0 | J10: =IF(OR(C10="SiA",C10="SeA",C10="Si",C10="Ast",C10="For"),1,"") | K10: =IF(OR(C10="Cp"),1,"") | O10: =IF(OR(C10="SiA",C10="SeA",C10="Si"),1,"") | R10: =((Q10-P10)-(Q11-P11)) -> 0 | V10: =IF(OR(C10="SiA",C10="SeA",C10="Si",C10="Ast"),1,"")
D11: S
A12: =SUM(H10:H23,R10:R23) -> 0 | B12: =DATE(Calendrier!$A$1,_xlfn.SHEET()-1,(ROW()/2)-1) -> 43529 | D12: M | E12: =IF(C12="","",IF(OR(C12="Cp",C12="AM",C12="Re",C12="Fe"),"",1)) | H12: =((G12-F12)+(G13-F13)) -> 0 | J12: =IF(OR(C12="SiA",C12="SeA",C12="Si",C12="Ast",C12="For"),1,"") | K12: =IF(OR(C12="Cp"),1,"") | O12: =IF(OR(C12="SiA",C12="SeA",C12="Si"),1,"") | R12: =((Q12-P12)-(Q13-P13)) -> 0 | V12: =IF(OR(C12="SiA",C12="SeA",C12="Si",C12="Ast"),1,"")
D13: S
B14: =DATE(Calendrier!$A$1,_xlfn.SHEET()-1,(ROW()/2)-1) -> 43530 | D14: M | E14: =IF(C14="","",IF(OR(C14="Cp",C14="AM",C14="Re",C14="Fe"),"",1)) | H14: =((G14-F14)+(G15-F15)) -> 0 | J14: =IF(OR(C14="SiA",C14="SeA",C14="Si",C14="Ast",C14="For"),1,"") | K14: =IF(OR(C14="Cp"),1,"") | O14: =IF(OR(C14="SiA",C14="SeA",C14="Si"),1,"") | R14: =((Q14-P14)-(Q15-P15)) -> 0 | V14: =IF(OR(C14="SiA",C14="SeA",C14="Si",C14="Ast"),1,"")
D15: S
B16: =DATE(Calendrier!$A$1,_xlfn.SHEET()-1,(ROW()/2)-1) -> 43531 | D16: M | E16: =IF(C16="","",IF(OR(C16="Cp",C16="AM",C16="Re",C16="Fe"),"",1)) | H16: =((G16-F16)+(G17-F17)) -> 0 | J16: =IF(OR(C16="SiA",C16="SeA",C16="Si",C16="Ast",C16="For"),1,"") | K16: =IF(OR(C16="Cp"),1,"") | O16: =IF(OR(C16="SiA",C16="SeA",C16="Si"),1,"") | R16: =((Q16-P16)-(Q17-P17)) -> 0 | V16: =IF(OR(C16="SiA",C16="SeA",C16="Si",C16="Ast"),1,"")
D17: S
B18: =DATE(Calendrier!$A$1,_xlfn.SHEET()-1,(ROW()/2)-1) -> 43532 | D18: M | E18: =IF(C18="","",IF(OR(C18="Cp",C18="AM",C18="Re",C18="Fe"),"",1)) | H18: =((G18-F18)+(G19-F19)) -> 0 | J18: =IF(OR(C18="SiA",C18="SeA",C18="Si",C18="Ast",C18="For"),1,"") | K18: =IF(OR(C18="Cp"),1,"") | O18: =IF(OR(C18="SiA",C18="SeA",C18="Si"),1,"") | R18: =((Q18-P18)-(Q19-P19)) -> 0 | V18: =IF(OR(C18="SiA",C18="SeA",C18="Si",C18="Ast"),1,"")
D19: S
B20: =DATE(Calendrier!$A$1,_xlfn.SHEET()-1,(ROW()/2)-1) -> 43533 | D20: M | E20: =IF(C20="","",IF(OR(C20="Cp",C20="AM",C20="Re",C20="Fe"),"",1)) | H20: =((G20-F20)+(G21-F21)) -> 0 | J20: =IF(OR(C20="SiA",C20="SeA",C20="Si",C20="Ast",C20="For"),1,"") | K20: =IF(OR(C20="Cp"),1,"") | O20: =IF(OR(C20="SiA",C20="SeA",C20="Si"),1,"") | R20: =((Q20-P20)-(Q21-P21)) -> 0 | V20: =IF(OR(C20="SiA",C20="SeA",C20="Si",C20="Ast"),1,"")
D21: S
B22: =DATE(Calendrier!$A$1,_xlfn.SHEET()-1,(ROW()/2)-1) -> 43534 | D22: M | E22: =IF(C22="","",IF(OR(C22="Cp",C22="AM",C22="Re",C22="Fe"),"",1)) | H22: =((G22-F22)+(G23-F23)) -> 0 | J22: =IF(OR(C22="SiA",C22="SeA",C22="Si",C22="Ast",C22="For"),1,"") | K22: =IF(OR(C22="Cp"),1,"") | O22: =IF(OR(C22="SiA",C22="SeA",C22="Si"),1,"") | R22: =((Q22-P22)-(Q23-P23)) -> 0 | V22: =IF(OR(C22="SiA",C22="SeA",C22="Si",C22="Ast"),1,"")
D23: S
A24: S 11 | B24: =DATE(Calendrier!$A$1,_xlfn.SHEET()-1,(ROW()/2)-1) -> 43535 | D24: M | E24: =IF(C24="","",IF(OR(C24="Cp",C24="AM",C24="Re",C24="Fe"),"",1)) | H24: =((G24-F24)+(G25-F25)) -> 0 | J24: =IF(OR(C24="SiA",C24="SeA",C24="Si",C24="Ast",C24="For"),1,"") | K24: =IF(OR(C24="Cp"),1,"") | O24: =IF(OR(C24="SiA",C24="SeA",C24="Si"),1,"") | R24: =((Q24-P24)-(Q25-P25)) -> 0 | V24: =IF(OR(C24="SiA",C24="SeA",C24="Si",C24="Ast"),1,"")
D25: S
A26: =SUM(H24:H37,R24:R37) -> 0 | B26: =DATE(Calendrier!$A$1,_xlfn.SHEET()-1,(ROW()/2)-1) -> 43536 | D26: M | E26: =IF(C26="","",IF(OR(C26="Cp",C26="AM",C26="Re",C26="Fe"),"",1)) | H26: =((G26-F26)+(G27-F27)) -> 0 | J26: =IF(OR(C26="SiA",C26="SeA",C26="Si",C26="Ast",C26="For"),1,"") | K26: =IF(OR(C26="Cp"),1,"") | O26: =IF(OR(C26="SiA",C26="SeA",C26="Si"),1,"") | R26: =((Q26-P26)-(Q27-P27)) -> 0 | V26: =IF(OR(C26="SiA",C26="SeA",C26="Si",C26="Ast"),1,"")
D27: S
B28: =DATE(Calendrier!$A$1,_xlfn.SHEET()-1,(ROW()/2)-1) -> 43537 | D28: M | E28: =IF(C28="","",IF(OR(C28="Cp",C28="AM",C28="Re",C28="Fe"),"",1)) | H28: =((G28-F28)+(G29-F29)) -> 0 | J28: =IF(OR(C28="SiA",C28="SeA",C28="Si",C28="Ast",C28="For"),1,"") | K28: =IF(OR(C28="Cp"),1,"") | O28: =IF(OR(C28="SiA",C28="SeA",C28="Si"),1,"") | R28: =((Q28-P28)-(Q29-P29)) -> 0 | V28: =IF(OR(C28="SiA",C28="SeA",C28="Si",C28="Ast"),1,"")
D29: S
B30: =DATE(Calendrier!$A$1,_xlfn.SHEET()-1,(ROW()/2)-1) -> 43538 | D30: M | E30: =IF(C30="","",IF(OR(C30="Cp",C30="AM",C30="Re",C30="Fe"),"",1)) | H30: =((G30-F30)+(G31-F31)) -> 0 | J30: =IF(OR(C30="SiA",C30="SeA",C30="Si",C30="Ast",C30="For"),1,"") | K30: =IF(OR(C30="Cp"),1,"") | O30: =IF(OR(C30="SiA",C30="SeA",C30="Si"),1,"") | R30: =((Q30-P30)-(Q31-P31)) -> 0 | V30: =IF(OR(C30="SiA",C30="SeA",C30="Si",C30="Ast"),1,"")
D31: S
B32: =DATE(Calendrier!$A$1,_xlfn.SHEET()-1,(ROW()/2)-1) -> 43539 | D32: M | E32: =IF(C32="","",IF(OR(C32="Cp",C32="AM",C32="Re",C32="Fe"),"",1)) | H32: =((G32-F32)+(G33-F33)) -> 0 | J32: =IF(OR(C32="SiA",C32="SeA",C32="Si",C32="Ast",C32="For"),1,"") | K32: =IF(OR(C32="Cp"),1,"") | O32: =IF(OR(C32="SiA",C32="SeA",C32="Si"),1,"") | R32: =((Q32-P32)-(Q33-P33)) -> 0 | V32: =IF(OR(C32="SiA",C32="SeA",C32="Si",C32="Ast"),1,"")
D33: S
B34: =DATE(Calendrier!$A$1,_xlfn.SHEET()-1,(ROW()/2)-1) -> 43540 | D34: M | E34: =IF(C34="","",IF(OR(C34="Cp",C34="AM",C34="Re",C34="Fe"),"",1)) | H34: =((G34-F34)+(G35-F35)) -> 0 | J34: =IF(OR(C34="SiA",C34="SeA",C34="Si",C34="Ast",C34="For"),1,"") | K34: =IF(OR(C34="Cp"),1,"") | O34: =IF(OR(C34="SiA",C34="SeA",C34="Si"),1,"") | R34: =((Q34-P34)-(Q35-P35)) -> 0 | V34: =IF(OR(C34="SiA",C34="SeA",C34="Si",C34="Ast"),1,"")
D35: S
B36: =DATE(Calendrier!$A$1,_xlfn.SHEET()-1,(ROW()/2)-1) -> 43541 | D36: M | E36: =IF(C36="","",IF(OR(C36="Cp",C36="AM",C36="Re",C36="Fe"),"",1)) | H36: =((G36-F36)+(G37-F37)) -> 0 | J36: =IF(OR(C36="SiA",C36="SeA",C36="Si",C36="Ast",C36="For"),1,"") | K36: =IF(OR(C36="Cp"),1,"") | O36: =IF(OR(C36="SiA",C36="SeA",C36="Si"),1,"") | R36: =((Q36-P36)-(Q37-P37)) -> 0 | V36: =IF(OR(C36="SiA",C36="SeA",C36="Si",C36="Ast"),1,"")
D37: S
A38: S 12 | B38: =DATE(Calendrier!$A$1,_xlfn.SHEET()-1,(ROW()/2)-1) -> 43542 | D38: M | E38: =IF(C38="","",IF(OR(C38="Cp",C38="AM",C38="Re",C38="Fe"),"",1)) | H38: =((G38-F38)+(G39-F39)) -> 0 | J38: =IF(OR(C38="SiA",C38="SeA",C38="Si",C38="Ast",C38="For"),1,"") | O38: =IF(OR(C38="SiA",C38="SeA",C38="Si"),1,"") | R38: =((Q38-P38)-(Q39-P39)) -> 0 | V38: =IF(OR(C38="SiA",C38="SeA",C38="Si",C38="Ast"),1,"")
D39: S
A40: =SUM(H38:H51,R38:R51) -> 0 | B40: =DATE(Calendrier!$A$1,_xlfn.SHEET()-1,(ROW()/2)-1) -> 43543 | D40: M | E40: =IF(C40="","",IF(OR(C40="Cp",C40="AM",C40="Re",C40="Fe"),"",1)) | H40: =((G40-F40)+(G41-F41)) -> 0 | J40: =IF(OR(C40="SiA",C40="SeA",C40="Si",C40="Ast",C40="For"),1,"") | K40: =IF(OR(C40="Cp"),1,"") | O40: =IF(OR(C40="SiA",C40="SeA",C40="Si"),1,"") | R40: =((Q40-P40)-(Q41-P41)) -> 0 | V40: =IF(OR(C40="SiA",C40="SeA",C40="Si",C40="Ast"),1,"")
D41: S
B42: =DATE(Calendrier!$A$1,_xlfn.SHEET()-1,(ROW()/2)-1) -> 43544 | D42: M | E42: =IF(C42="","",IF(OR(C42="Cp",C42="AM",C42="Re",C42="Fe"),"",1)) | H42: =((G42-F42)+(G43-F43)) -> 0 | J42: =IF(OR(C42="SiA",C42="SeA",C42="Si",C42="Ast",C42="For"),1,"") | K42: =IF(OR(C42="Cp"),1,"") | O42: =IF(OR(C42="SiA",C42="SeA",C42="Si"),1,"") | R42: =((Q42-P42)-(Q43-P43)) -> 0 | V42: =IF(OR(C42="SiA",C42="SeA",C42="Si",C42="Ast"),1,"")
D43: S
B44: =DATE(Calendrier!$A$1,_xlfn.SHEET()-1,(ROW()/2)-1) -> 43545 | D44: M | E44: =IF(C44="","",IF(OR(C44="Cp",C44="AM",C44="Re",C44="Fe"),"",1)) | H44: =((G44-F44)+(G45-F45)) -> 0 | J44: =IF(OR(C44="SiA",C44="SeA",C44="Si",C44="Ast",C44="For"),1,"") | K44: =IF(OR(C44="Cp"),1,"") | O44: =IF(OR(C44="SiA",C44="SeA",C44="Si"),1,"") | R44: =((Q44-P44)-(Q45-P45)) -> 0 | V44: =IF(OR(C44="SiA",C44="SeA",C44="Si",C44="Ast"),1,"")
D45: S
B46: =DATE(Calendrier!$A$1,_xlfn.SHEET()-1,(ROW()/2)-1) -> 43546 | D46: M | E46: =IF(C46="","",IF(OR(C46="Cp",C46="AM",C46="Re",C46="Fe"),"",1)) | H46: =((G46-F46)+(G47-F47)) -> 0 | J46: =IF(OR(C46="SiA",C46="SeA",C46="Si",C46="Ast",C46="For"),1,"") | K46: =IF(OR(C46="Cp"),1,"") | O46: =IF(OR(C46="SiA",C46="SeA",C46="Si"),1,"") | R46: =((Q46-P46)-(Q47-P47)) -> 0 | V46: =IF(OR(C46="SiA",C46="SeA",C46="Si",C46="Ast"),1,"")
D47: S
B48: =DATE(Calendrier!$A$1,_xlfn.SHEET()-1,(ROW()/2)-1) -> 43547 | D48: M | E48: =IF(C48="","",IF(OR(C48="Cp",C48="AM",C48="Re",C48="Fe"),"",1)) | H48: =((G48-F48)+(G49-F49)) -> 0 | J48: =IF(OR(C48="SiA",C48="SeA",C48="Si",C48="Ast",C48="For"),1,"") | K48: =IF(OR(C48="Cp"),1,"") | O48: =IF(OR(C48="SiA",C48="SeA",C48="Si"),1,"") | R48: =((Q48-P48)-(Q49-P49)) -> 0 | V48: =IF(OR(C48="SiA",C48="SeA",C48="Si",C48="Ast"),1,"")
D49: S
B50: =DATE(Calendrier!$A$1,_xlfn.SHEET()-1,(ROW()/2)-1) -> 43548 | D50: M | E50: =IF(C50="","",IF(OR(C50="Cp",C50="AM",C50="Re",C50="Fe"),"",1)) | H50: =((G50-F50)+(G51-F51)) -> 0 | J50: =IF(OR(C50="SiA",C50="SeA",C50="Si",C50="Ast",C50="For"),1,"") | K50: =IF(OR(C50="Cp"),1,"") | O50: =IF(OR(C50="SiA",C50="SeA",C50="Si"),1,"") | R50: =((Q50-P50)-(Q51-P51)) -> 0 | V50: =IF(OR(C50="SiA",C50="SeA",C50="Si",C50="Ast"),1,"")
D51: S
A52: S 13 | B52: =DATE(Calendrier!$A$1,_xlfn.SHEET()-1,(ROW()/2)-1) -> 43549 | D52: M | E52: =IF(C52="","",IF(OR(C52="Cp",C52="AM",C52="Re",C52="Fe"),"",1)) | H52: =((G52-F52)+(G53-F53)) -> 0 | J52: =IF(OR(C52="SiA",C52="SeA",C52="Si",C52="Ast",C52="For"),1,"") | K52: =IF(OR(C52="Cp"),1,"") | O52: =IF(OR(C52="SiA",C52="SeA",C52="Si"),1,"") | R52: =((Q52-P52)-(Q53-P53)) -> 0 | V52: =IF(OR(C52="SiA",C52="SeA",C52="Si",C52="Ast"),1,"")
D53: S
A54: =SUM(H52:H65,R52:R65) -> 0 | B54: =DATE(Calendrier!$A$1,_xlfn.SHEET()-1,(ROW()/2)-1) -> 43550 | D54: M | E54: =IF(C54="","",IF(OR(C54="Cp",C54="AM",C54="Re",C54="Fe"),"",1)) | H54: =((G54-F54)+(G55-F55)) -> 0 | J54: =IF(OR(C54="SiA",C54="SeA",C54="Si",C54="Ast",C54="For"),1,"") | K54: =IF(OR(C54="Cp"),1,"") | O54: =IF(OR(C54="SiA",C54="SeA",C54="Si"),1,"") | R54: =((Q54-P54)-(Q55-P55)) -> 0 | V54: =IF(OR(C54="SiA",C54="SeA",C54="Si",C54="Ast"),1,"")
D55: S
B56: =DATE(Calendrier!$A$1,_xlfn.SHEET()-1,(ROW()/2)-1) -> 43551 | D56: M | E56: =IF(C56="","",IF(OR(C56="Cp",C56="AM",C56="Re",C56="Fe"),"",1)) | H56: =((G56-F56)+(G57-F57)) -> 0 | J56: =IF(OR(C56="SiA",C56="SeA",C56="Si",C56="Ast",C56="For"),1,"") | K56: =IF(OR(C56="Cp"),1,"") | O56: =IF(OR(C56="SiA",C56="SeA",C56="Si"),1,"") | R56: =((Q56-P56)-(Q57-P57)) -> 0 | V56: =IF(OR(C56="SiA",C56="SeA",C56="Si",C56="Ast"),1,"")
D57: S
B58: =DATE(Calendrier!$A$1,_xlfn.SHEET()-1,(ROW()/2)-1) -> 43552 | D58: M | E58: =IF(C58="","",IF(OR(C58="Cp",C58="AM",C58="Re",C58="Fe"),"",1)) | H58: =((G58-F58)+(G59-F59)) -> 0 | J58: =IF(OR(C58="SiA",C58="SeA",C58="Si",C58="Ast",C58="For"),1,"") | K58: =IF(OR(C58="Cp"),1,"") | O58: =IF(OR(C58="SiA",C58="SeA",C58="Si"),1,"") | R58: =((Q58-P58)-(Q59-P59)) -> 0 | V58: =IF(OR(C58="SiA",C58="SeA",C58="Si",C58="Ast"),1,"")
D59: S
B60: =DATE(Calendrier!$A$1,_xlfn.SHEET()-1,(ROW()/2)-1) -> 43553 | D60: M | E60: =IF(C60="","",IF(OR(C60="Cp",C60="AM",C60="Re",C60="Fe"),"",1)) | H60: =((G60-F60)+(G61-F61)) -> 0 | J60: =IF(OR(C60="SiA",C60="SeA",C60="Si",C60="Ast",C60="For"),1,"") | K60: =IF(OR(C60="Cp"),1,"") | O60: =IF(OR(C60="SiA",C60="SeA",C60="Si"),1,"") | R60: =((Q60-P60)-(Q61-P61)) -> 0 | V60: =IF(OR(C60="SiA",C60="SeA",C60="Si",C60="Ast"),1,"")
D61: S
B62: =DATE(Calendrier!$A$1,_xlfn.SHEET()-1,(ROW()/2)-1) -> 43554 | D62: M | E62: =IF(C62="","",IF(OR(C62="Cp",C62="AM",C62="Re",C62="Fe"),"",1)) | H62: =((G62-F62)+(G63-F63)) -> 0 | J62: =IF(OR(C62="SiA",C62="SeA",C62="Si",C62="Ast",C62="For"),1,"") | K62: =IF(OR(C62="Cp"),1,"") | O62: =IF(OR(C62="SiA",C62="SeA",C62="Si"),1,"") | R62: =((Q62-P62)-(Q63-P63)) -> 0 | V62: =IF(OR(C62="SiA",C62="SeA",C62="Si",C62="Ast"),1,"")
D63: S
B64: =DATE(Calendrier!$A$1,_xlfn.SHEET()-1,(ROW()/2)-1) -> 43555 | D64: M | E64: =IF(C64="","",IF(OR(C64="Cp",C64="AM",C64="Re",C64="Fe"),"",1)) | H64: =((G64-F64)+(G65-F65)) -> 0 | J64: =IF(OR(C64="SiA",C64="SeA",C64="Si",C64="Ast",C64="For"),1,"") | K64: =IF(OR(C64="Cp"),1,"") | O64: =IF(OR(C64="SiA",C64="SeA",C64="Si"),1,"") | R64: =((Q64-P64)-(Q65-P65)) -> 0 | V64: =IF(OR(C64="SiA",C64="SeA",C64="Si",C64="Ast"),1,"")
D65: S
B66: TOTAUX | E66: =SUM(E4:E65) -> 0 | F66: =SUM(H4:H65) -> 0 | I66: =SUM(I4:I65) -> 0 | J66: =SUM(J4:J65) -> 0 | K66: =SUM(K4:K65) -> 0 | N66: TOTAUX | O66: =SUM(O4:O65) -> 0 | R66: =SUM(R4:R65) -> 0 | S66: =SUM(S4:S65) -> 0 | T66: =SUM(T4:T65) -> 0 | U66: =SUM(U4:U65) -> 0 | V66: =SUM(V4:V65) -> 0 | W66: =SUM(W4:W65) -> 0

Sheet Avr
A3: S 14 | B3: DATE | C3: SERV | E3: J | F3: HA | G3: HD | I3: K | J3: Ser | K3: CP | L3: MOTIF DU DEPLACEMENT | O3: Panniers | P3: HSD | Q3: HSF | R3: H.Sup | S3: Maj Nuit | T3: Maj Dim. | U3: Maj J.Fé. | V3: Astreinte | W3: SSLIA
B4: =DATE(Calendrier!$A$1,_xlfn.SHEET()-1,(ROW()/2)-1) -> 43556 | D4: M | E4: =IF(C4="","",IF(OR(C4="Cp",C4="AM",C4="Re",C4="Fe"),"",1)) | H4: =((G4-F4)+(G5-F5)) -> 0 | J4: =IF(OR(C4="SiA",C4="SeA",C4="Si",C4="Ast",C4="For"),1,"") | K4: =IF(OR(C4="Cp"),1,"") | O4: =IF(OR(C4="SiA",C4="SeA",C4="Si"),1,"") | R4: =((Q4-P4)-(Q5-P5)) -> 0 | V4: =IF(OR(C4="SiA",C4="SeA",C4="Ast"),1,"")
A5: =SUM(H4:H17,R4:R17) -> 0 | D5: S
B6: =DATE(Calendrier!$A$1,_xlfn.SHEET()-1,(ROW()/2)-1) -> 43557 | D6: M | E6: =IF(C6="","",IF(OR(C6="Cp",C6="AM",C6="Re",C6="Fe"),"",1)) | H6: =((G6-F6)+(G7-F7)) -> 0 | J6: =IF(OR(C6="SiA",C6="SeA",C6="Si",C6="Ast",C6="For"),1,"") | K6: =IF(OR(C6="Cp"),1,"") | O6: =IF(OR(C6="SiA",C6="SeA",C6="Si"),1,"") | R6: =((Q6-P6)-(Q7-P7)) -> 0 | V6: =IF(OR(C6="SiA",C6="SeA",C6="Si",C6="Ast"),1,"")
D7: S
B8: =DATE(Calendrier!$A$1,_xlfn.SHEET()-1,(ROW()/2)-1) -> 43558 | D8: M | E8: =IF(C8="","",IF(OR(C8="Cp",C8="AM",C8="Re",C8="Fe"),"",1)) | H8: =((G8-F8)+(G9-F9)) -> 0 | J8: =IF(OR(C8="SiA",C8="SeA",C8="Si",C8="Ast",C8="For"),1,"") | K8: =IF(OR(C8="Cp"),1,"") | O8: =IF(OR(C8="SiA",C8="SeA",C8="Si"),1,"") | R8: =((Q8-P8)-(Q9-P9)) -> 0 | V8: =IF(OR(C8="SiA",C8="SeA",C8="Si",C8="Ast"),1,"")
D9: S
B10: =DATE(Calendrier!$A$1,_xlfn.SHEET()-1,(ROW()/2)-1) -> 43559 | D10: M | E10: =IF(C10="","",IF(OR(C10="Cp",C10="AM",C10="Re",C10="Fe"),"",1)) | H10: =((G10-F10)+(G11-F11)) -> 0 | J10: =IF(OR(C10="SiA",C10="SeA",C10="Si",C10="Ast",C10="For"),1,"") | K10: =IF(OR(C10="Cp"),1,"") | O10: =IF(OR(C10="SiA",C10="SeA",C10="Si"),1,"") | R10: =((Q10-P10)-(Q11-P11)) -> 0 | V10: =IF(OR(C10="SiA",C10="SeA",C10="Si",C10="Ast"),1,"")
D11: S
B12: =DATE(Calendrier!$A$1,_xlfn.SHEET()-1,(ROW()/2)-1) -> 43560 | D12: M | E12: =IF(C12="","",IF(OR(C12="Cp",C12="AM",C12="Re",C12="Fe"),"",1)) | H12: =((G12-F12)+(G13-F13)) -> 0 | J12: =IF(OR(C12="SiA",C12="SeA",C12="Si",C12="Ast",C12="For"),1,"") | K12: =IF(OR(C12="Cp"),1,"") | O12: =IF(OR(C12="SiA",C12="SeA",C12="Si"),1,"") | R12: =((Q12-P12)-(Q13-P13)) -> 0 | V12: =IF(OR(C12="SiA",C12="SeA",C12="Si",C12="Ast"),1,"")
D13: S
B14: =DATE(Calendrier!$A$1,_xlfn.SHEET()-1,(ROW()/2)-1) -> 43561 | D14: M | E14: =IF(C14="","",IF(OR(C14="Cp",C14="AM",C14="Re",C14="Fe"),"",1)) | H14: =((G14-F14)+(G15-F15)) -> 0 | J14: =IF(OR(C14="SiA",C14="SeA",C14="Si",C14="Ast",C14="For"),1,"") | K14: =IF(OR(C14="Cp"),1,"") | O14: =IF(OR(C14="SiA",C14="SeA",C14="Si"),1,"") | R14: =((Q14-P14)-(Q15-P15)) -> 0 | V14: =IF(OR(C14="SiA",C14="SeA",C14="Si",C14="Ast"),1,"")
D15: S
B16: =DATE(Calendrier!$A$1,_xlfn.SHEET()-1,(ROW()/2)-1) -> 43562 | D16: M | E16: =IF(C16="","",IF(OR(C16="Cp",C16="AM",C16="Re",C16="Fe"),"",1)) | H16: =((G16-F16)+(G17-F17)) -> 0 | J16: =IF(OR(C16="SiA",C16="SeA",C16="Si",C16="Ast",C16="For"),1,"") | K16: =IF(OR(C16="Cp"),1,"") | O16: =IF(OR(C16="SiA",C16="SeA",C16="Si"),1,"") | R16: =((Q16-P16)-(Q17-P17)) -> 0 | V16: =IF(OR(C16="SiA",C16="SeA",C16="Si",C16="Ast"),1,"")
D17: S
A18: S 15 | B18: =DATE(Calendrier!$A$1,_xlfn.SHEET()-1,(ROW()/2)-1) -> 43563 | D18: M | E18: =IF(C18="","",IF(OR(C18="Cp",C18="AM",C18="Re",C18="Fe"),"",1)) | H18: =((G18-F18)+(G19-F19)) -> 0 | J18: =IF(OR(C18="SiA",C18="SeA",C18="Si",C18="Ast",C18="For"),1,"") | K18: =IF(OR(C18="Cp"),1,"") | O18: =IF(OR(C18="SiA",C18="SeA",C18="Si"),1,"") | R18: =((Q18-P18)-(Q19-P19)) -> 0 | V18: =IF(OR(C18="SiA",C18="SeA",C18="Si",C18="Ast"),1,"")
D19: S
A20: =SUM(H18:H31,R18:R31) -> 0 | B20: =DATE(Calendrier!$A$1,_xlfn.SHEET()-1,(ROW()/2)-1) -> 43564 | D20: M | E20: =IF(C20="","",IF(OR(C20="Cp",C20="AM",C20="Re",C20="Fe"),"",1)) | H20: =((G20-F20)+(G21-F21)) -> 0 | J20: =IF(OR(C20="SiA",C20="SeA",C20="Si",C20="Ast",C20="For"),1,"") | K20: =IF(OR(C20="Cp"),1,"") | O20: =IF(OR(C20="SiA",C20="SeA",C20="Si"),1,"") | R20: =((Q20-P20)-(Q21-P21)) -> 0 | V20: =IF(OR(C20="SiA",C20="SeA",C20="Si",C20="Ast"),1,"")
D21: S
B22: =DATE(Calendrier!$A$1,_xlfn.SHEET()-1,(ROW()/2)-1) -> 43565 | D22: M | E22: =IF(C22="","",IF(OR(C22="Cp",C22="AM",C22="Re",C22="Fe"),"",1)) | H22: =((G22-F22)+(G23-F23)) -> 0 | J22: =IF(OR(C22="SiA",C22="SeA",C22="Si",C22="Ast",C22="For"),1,"") | K22: =IF(OR(C22="Cp"),1,"") | O22: =IF(OR(C22="SiA",C22="SeA",C22="Si"),1,"") | R22: =((Q22-P22)-(Q23-P23)) -> 0 | V22: =IF(OR(C22="SiA",C22="SeA",C22="Si",C22="Ast"),1,"")
D23: S
B24: =DATE(Calendrier!$A$1,_xlfn.SHEET()-1,(ROW()/2)-1) -> 43566 | D24: M | E24: =IF(C24="","",IF(OR(C24="Cp",C24="AM",C24="Re",C24="Fe"),"",1)) | H24: =((G24-F24)+(G25-F25)) -> 0 | J24: =IF(OR(C24="SiA",C24="SeA",C24="Si",C24="Ast",C24="For"),1,"") | K24: =IF(OR(C24="Cp"),1,"") | O24: =IF(OR(C24="SiA",C24="SeA",C24="Si"),1,"") | R24: =((Q24-P24)-(Q25-P25)) -> 0 | V24: =IF(OR(C24="SiA",C24="SeA",C24="Si",C24="Ast"),1,"")
D25: S
B26: =DATE(Calendrier!$A$1,_xlfn.SHEET()-1,(ROW()/2)-1) -> 43567 | D26: M | E26: =IF(C26="","",IF(OR(C26="Cp",C26="AM",C26="Re",C26="Fe"),"",1)) | H26: =((G26-F26)+(G27-F27)) -> 0 | J26: =IF(OR(C26="SiA",C26="SeA",C26="Si",C26="Ast",C26="For"),1,"") | K26: =IF(OR(C26="Cp"),1,"") | O26: =IF(OR(C26="SiA",C26="SeA",C26="Si"),1,"") | R26: =((Q26-P26)-(Q27-P27)) -> 0 | V26: =IF(OR(C26="SiA",C26="SeA",C26="Si",C26="Ast"),1,"")
D27: S
B28: =DATE(Calendrier!$A$1,_xlfn.SHEET()-1,(ROW()/2)-1) -> 43568 | D28: M | E28: =IF(C28="","",IF(OR(C28="Cp",C28="AM",C28="Re",C28="Fe"),"",1)) | H28: =((G28-F28)+(G29-F29)) -> 0 | J28: =IF(OR(C28="SiA",C28="SeA",C28="Si",C28="Ast",C28="For"),1,"") | K28: =IF(OR(C28="Cp"),1,"") | O28: =IF(OR(C28="SiA",C28="SeA",C28="Si"),1,"") | R28: =((Q28-P28)-(Q29-P29)) -> 0 | V28: =IF(OR(C28="SiA",C28="SeA",C28="Si",C28="Ast"),1,"")
D29: S
B30: =DATE(Calendrier!$A$1,_xlfn.SHEET()-1,(ROW()/2)-1) -> 43569 | D30: M | E30: =IF(C30="","",IF(OR(C30="Cp",C30="AM",C30="Re",C30="Fe"),"",1)) | H30: =((G30-F30)+(G31-F31)) -> 0 | J30: =IF(OR(C30="SiA",C30="SeA",C30="Si",C30="Ast",C30="For"),1,"") | K30: =IF(OR(C30="Cp"),1,"") | O30: =IF(OR(C30="SiA",C30="SeA",C30="Si"),1,"") | R30: =((Q30-P30)-(Q31-P31)) -> 0 | V30: =IF(OR(C30="SiA",C30="SeA",C30="Si",C30="Ast"),1,"")
D31: S
A32: S 16 | B32: =DATE(Calendrier!$A$1,_xlfn.SHEET()-1,(ROW()/2)-1) -> 43570 | D32: M | E32: =IF(C32="","",IF(OR(C32="Cp",C32="AM",C32="Re",C32="Fe"),"",1)) | H32: =((G32-F32)+(G33-F33)) -> 0 | J32: =IF(OR(C32="SiA",C32="SeA",C32="Si",C32="Ast",C32="For"),1,"") | K32: =IF(OR(C32="Cp"),1,"") | O32: =IF(OR(C32="SiA",C32="SeA",C32="Si"),1,"") | R32: =((Q32-P32)-(Q33-P33)) -> 0 | V32: =IF(OR(C32="SiA",C32="SeA",C32="Si",C32="Ast"),1,"")
D33: S
A34: =SUM(H32:H45,R32:R45) -> 0 | B34: =DATE(Calendrier!$A$1,_xlfn.SHEET()-1,(ROW()/2)-1) -> 43571 | D34: M | E34: =IF(C34="","",IF(OR(C34="Cp",C34="AM",C34="Re",C34="Fe"),"",1)) | H34: =((G34-F34)+(G35-F35)) -> 0 | J34: =IF(OR(C34="SiA",C34="SeA",C34="Si",C34="Ast",C34="For"),1,"") | K34: =IF(OR(C34="Cp"),1,"") | O34: =IF(OR(C34="SiA",C34="SeA",C34="Si"),1,"") | R34: =((Q34-P34)-(Q35-P35)) -> 0 | V34: =IF(OR(C34="SiA",C34="SeA",C34="Si",C34="Ast"),1,"")
D35: S
B36: =DATE(Calendrier!$A$1,_xlfn.SHEET()-1,(ROW()/2)-1) -> 43572 | D36: M | E36: =IF(C36="","",IF(OR(C36="Cp",C36="AM",C36="Re",C36="Fe"),"",1)) | H36: =((G36-F36)+(G37-F37)) -> 0 | J36: =IF(OR(C36="SiA",C36="SeA",C36="Si",C36="Ast",C36="For"),1,"") | K36: =IF(OR(C36="Cp"),1,"") | O36: =IF(OR(C36="SiA",C36="SeA",C36="Si"),1,"") | R36: =((Q36-P36)-(Q37-P37)) -> 0 | V36: =IF(OR(C36="SiA",C36="SeA",C36="Si",C36="Ast"),1,"")
D37: S
B38: =DATE(Calendrier!$A$1,_xlfn.SHEET()-1,(ROW()/2)-1) -> 43573 | D38: M | E38: =IF(C38="","",IF(OR(C38="Cp",C38="AM",C38="Re",C38="Fe"),"",1)) | H38: =((G38-F38)+(G39-F39)) -> 0 | J38: =IF(OR(C38="SiA",C38="SeA",C38="Si",C38="Ast",C38="For"),1,"") | O38: =IF(OR(C38="SiA",C38="SeA",C38="Si"),1,"") | R38: =((Q38-P38)-(Q39-P39)) -> 0 | V38: =IF(OR(C38="SiA",C38="SeA",C38="Si",C38="Ast"),1,"")
D39: S
B40: =DATE(Calendrier!$A$1,_xlfn.SHEET()-1,(ROW()/2)-1) -> 43574 | D40: M | E40: =IF(C40="","",IF(OR(C40="Cp",C40="AM",C40="Re",C40="Fe"),"",1)) | H40: =((G40-F40)+(G41-F41)) -> 0 | J40: =IF(OR(C40="SiA",C40="SeA",C40="Si",C40="Ast",C40="For"),1,"") | K40: =IF(OR(C40="Cp"),1,"") | O40: =IF(OR(C40="SiA",C40="SeA",C40="Si"),1,"") | R40: =((Q40-P40)-(Q41-P41)) -> 0 | V40: =IF(OR(C40="SiA",C40="SeA",C40="Si",C40="Ast"),1,"")
D41: S
B42: =DATE(Calendrier!$A$1,_xlfn.SHEET()-1,(ROW()/2)-1) -> 43575 | D42: M | E42: =IF(C42="","",IF(OR(C42="Cp",C42="AM",C42="Re",C42="Fe"),"",1)) | H42: =((G42-F42)+(G43-F43)) -> 0 | J42: =IF(OR(C42="SiA",C42="SeA",C42="Si",C42="Ast",C42="For"),1,"") | K42: =IF(OR(C42="Cp"),1,"") | O42: =IF(OR(C42="SiA",C42="SeA",C42="Si"),1,"") | R42: =((Q42-P42)-(Q43-P43)) -> 0 | V42: =IF(OR(C42="SiA",C42="SeA",C42="Si",C42="Ast"),1,"")
D43: S
B44: =DATE(Calendrier!$A$1,_xlfn.SHEET()-1,(ROW()/2)-1) -> 43576 | D44: M | E44: =IF(C44="","",IF(OR(C44="Cp",C44="AM",C44="Re",C44="Fe"),"",1)) | H44: =((G44-F44)+(G45-F45)) -> 0 | J44: =IF(OR(C44="SiA",C44="SeA",C44="Si",C44="Ast",C44="For"),1,"") | K44: =IF(OR(C44="Cp"),1,"") | O44: =IF(OR(C44="SiA",C44="SeA",C44="Si"),1,"") | R44: =((Q44-P44)-(Q45-P45)) -> 0 | V44: =IF(OR(C44="SiA",C44="SeA",C44="Si",C44="Ast"),1,"")
D45: S
A46: S 17 | B46: =DATE(Calendrier!$A$1,_xlfn.SHEET()-1,(ROW()/2)-1) -> 43577 | D46: M | E46: =IF(C46="","",IF(OR(C46="Cp",C46="AM",C46="Re",C46="Fe"),"",1)) | H46: =((G46-F46)+(G47-F47)) -> 0 | J46: =IF(OR(C46="SiA",C46="SeA",C46="Si",C46="Ast",C46="For"),1,"") | K46: =IF(OR(C46="Cp"),1,"") | O46: =IF(OR(C46="SiA",C46="SeA",C46="Si"),1,"") | R46: =((Q46-P46)-(Q47-P47)) -> 0 | V46: =IF(OR(C46="SiA",C46="SeA",C46="Si",C46="Ast"),1,"")
D47: S
A48: =SUM(H46:H59,R46:R59) -> 0 | B48: =DATE(Calendrier!$A$1,_xlfn.SHEET()-1,(ROW()/2)-1) -> 43578 | D48: M | E48: =IF(C48="","",IF(OR(C48="Cp",C48="AM",C48="Re",C48="Fe"),"",1)) | H48: =((G48-F48)+(G49-F49)) -> 0 | J48: =IF(OR(C48="SiA",C48="SeA",C48="Si",C48="Ast",C48="For"),1,"") | K48: =IF(OR(C48="Cp"),1,"") | O48: =IF(OR(C48="SiA",C48="SeA",C48="Si"),1,"") | R48: =((Q48-P48)-(Q49-P49)) -> 0 | V48: =IF(OR(C48="SiA",C48="SeA",C48="Si",C48="Ast"),1,"")
D49: S
B50: =DATE(Calendrier!$A$1,_xlfn.SHEET()-1,(ROW()/2)-1) -> 43579 | D50: M | E50: =IF(C50="","",IF(OR(C50="Cp",C50="AM",C50="Re",C50="Fe"),"",1)) | H50: =((G50-F50)+(G51-F51)) -> 0 | J50: =IF(OR(C50="SiA",C50="SeA",C50="Si",C50="Ast",C50="For"),1,"") | K50: =IF(OR(C50="Cp"),1,"") | O50: =IF(OR(C50="SiA",C50="SeA",C50="Si"),1,"") | R50: =((Q50-P50)-(Q51-P51)) -> 0 | V50: =IF(OR(C50="SiA",C50="SeA",C50="Si",C50="Ast"),1,"")
D51: S
B52: =DATE(Calendrier!$A$1,_xlfn.SHEET()-1,(ROW()/2)-1) -> 43580 | D52: M | E52: =IF(C52="","",IF(OR(C52="Cp",C52="AM",C52="Re",C52="Fe"),"",1)) | H52: =((G52-F52)+(G53-F53)) -> 0 | J52: =IF(OR(C52="SiA",C52="SeA",C52="Si",C52="Ast",C52="For"),1,"") | K52: =IF(OR(C52="Cp"),1,"") | O52: =IF(OR(C52="SiA",C52="SeA",C52="Si"),1,"") | R52: =((Q52-P52)-(Q53-P53)) -> 0 | V52: =IF(OR(C52="SiA",C52="SeA",C52="Si",C52="Ast"),1,"")
D53: S
B54: =DATE(Calendrier!$A$1,_xlfn.SHEET()-1,(ROW()/2)-1) -> 43581 | D54: M | E54: =IF(C54="","",IF(OR(C54="Cp",C54="AM",C54="Re",C54="Fe"),"",1)) | H54: =((G54-F54)+(G55-F55)) -> 0 | J54: =IF(OR(C54="SiA",C54="SeA",C54="Si",C54="Ast",C54="For"),1,"") | K54: =IF(OR(C54="Cp"),1,"") | O54: =IF(OR(C54="SiA",C54="SeA",C54="Si"),1,"") | R54: =((Q54-P54)-(Q55-P55)) -> 0 | V54: =IF(OR(C54="SiA",C54="SeA",C54="Si",C54="Ast"),1,"")
D55: S
B56: =DATE(Calendrier!$A$1,_xlfn.SHEET()-1,(ROW()/2)-1) -> 43582 | D56: M | E56: =IF(C56="","",IF(OR(C56="Cp",C56="AM",C56="Re",C56="Fe"),"",1)) | H56: =((G56-F56)+(G57-F57)) -> 0 | J56: =IF(OR(C56="SiA",C56="SeA",C56="Si",C56="Ast",C56="For"),1,"") | K56: =IF(OR(C56="Cp"),1,"") | O56: =IF(OR(C56="SiA",C56="SeA",C56="Si"),1,"") | R56: =((Q56-P56)-(Q57-P57)) -> 0 | V56: =IF(OR(C56="SiA",C56="SeA",C56="Si",C56="Ast"),1,"")
D57: S
B58: =DATE(Calendrier!$A$1,_xlfn.SHEET()-1,(ROW()/2)-1) -> 43583 | D58: M | E58: =IF(C58="","",IF(OR(C58="Cp",C58="AM",C58="Re",C58="Fe"),"",1)) | H58: =((G58-F58)+(G59-F59)) -> 0 | J58: =IF(OR(C58="SiA",C58="SeA",C58="Si",C58="Ast",C58="For"),1,"") | K58: =IF(OR(C58="Cp"),1,"") | O58: =IF(OR(C58="SiA",C58="SeA",C58="Si"),1,"") | R58: =((Q58-P58)-(Q59-P59)) -> 0 | V58: =IF(OR(C58="SiA",C58="SeA",C58="Si",C58="Ast"),1,"")
D59: S
A60: S 18 | B60: =DATE(Calendrier!$A$1,_xlfn.SHEET()-1,(ROW()/2)-1) -> 43584 | D60: M | E60: =IF(C60="","",IF(OR(C60="Cp",C60="AM",C60="Re",C60="Fe"),"",1)) | H60: =((G60-F60)+(G61-F61)) -> 0 | J60: =IF(OR(C60="SiA",C60="SeA",C60="Si",C60="Ast",C60="For"),1,"") | K60: =IF(OR(C60="Cp"),1,"") | O60: =IF(OR(C60="SiA",C60="SeA",C60="Si"),1,"") | R60: =((Q60-P60)-(Q61-P61)) -> 0 | V60: =IF(OR(C60="SiA",C60="SeA",C60="Si",C60="Ast"),1,"")
D61: S
A62: =SUM(H60:H63,R60:R63) -> 0 | B62: =DATE(Calendrier!$A$1,_xlfn.SHEET()-1,(ROW()/2)-1) -> 43585 | D62: M | E62: =IF(C62="","",IF(OR(C62="Cp",C62="AM",C62="Re",C62="Fe"),"",1)) | H62: =((G62-F62)+(G63-F63)) -> 0 | J62: =IF(OR(C62="SiA",C62="SeA",C62="Si",C62="Ast",C62="For"),1,"") | K62: =IF(OR(C62="Cp"),1,"") | O62: =IF(OR(C62="SiA",C62="SeA",C62="Si"),1,"") | R62: =((Q62-P62)-(Q63-P63)) -> 0 | V62: =IF(OR(C62="SiA",C62="SeA",C62="Si",C62="Ast"),1,"")
D63: S
B64: TOTAUX | E64: =SUM(E4:E63) -> 0 | F64: =SUM(H4:H63) -> 0 | I64: =SUM(I4:I63) -> 0 | J64: =SUM(J4:J63) -> 0 | K64: =SUM(K4:K63) -> 0 | N64: TOTAUX | O64: =SUM(O4:O63) -> 0 | R64: =SUM(R4:R63) -> 0 | S64: =SUM(S4:S63) -> 0 | T64: =SUM(T4:T63) -> 0 | U64: =SUM(U4:U63) -> 0 | V64: =SUM(V4:V63) -> 0 | W64: =SUM(W4:W63) -> 0

Sheet Mai
A3: S 18 | B3: DATE | C3: SERV | E3: J | F3: HA | G3: HD | I3: K | J3: Ser | K3: CP | L3: MOTIF DU DEPLACEMENT | O3: Panniers | P3: HSD | Q3: HSF | R3: H.Sup | S3: Maj Nuit | T3: Maj Dim. | U3: Maj J.Fé. | V3: Astreinte | W3: SSLIA
B4: =DATE(Calendrier!$A$1,_xlfn.SHEET()-1,(ROW()/2)-1) -> 43586 | D4: M | E4: =IF(C4="","",IF(OR(C4="Cp",C4="AM",C4="Re",C4="Fe"),"",1)) | H4: =((G4-F4)+(G5-F5)) -> 0 | J4: =IF(OR(C4="SiA",C4="SeA",C4="Si",C4="Ast",C4="For"),1,"") | K4: =IF(OR(C4="Cp"),1,"") | O4: =IF(OR(C4="SiA",C4="SeA",C4="Si"),1,"") | R4: =((Q4-P4)-(Q5-P5)) -> 0 | V4: =IF(OR(C4="SiA",C4="SeA",C4="Ast"),1,"")
A5: =SUM(H4:H13,R4:R13)+Avr!A62 -> 0 | D5: S
B6: =DATE(Calendrier!$A$1,_xlfn.SHEET()-1,(ROW()/2)-1) -> 43587 | D6: M | E6: =IF(C6="","",IF(OR(C6="Cp",C6="AM",C6="Re",C6="Fe"),"",1)) | H6: =((G6-F6)+(G7-F7)) -> 0 | J6: =IF(OR(C6="SiA",C6="SeA",C6="Si",C6="Ast",C6="For"),1,"") | K6: =IF(OR(C6="Cp"),1,"") | O6: =IF(OR(C6="SiA",C6="SeA",C6="Si"),1,"") | R6: =((Q6-P6)-(Q7-P7)) -> 0 | V6: =IF(OR(C6="SiA",C6="SeA",C6="Si",C6="Ast"),1,"")
D7: S
B8: =DATE(Calendrier!$A$1,_xlfn.SHEET()-1,(ROW()/2)-1) -> 43588 | D8: M | E8: =IF(C8="","",IF(OR(C8="Cp",C8="AM",C8="Re",C8="Fe"),"",1)) | H8: =((G8-F8)+(G9-F9)) -> 0 | J8: =IF(OR(C8="SiA",C8="SeA",C8="Si",C8="Ast",C8="For"),1,"") | K8: =IF(OR(C8="Cp"),1,"") | O8: =IF(OR(C8="SiA",C8="SeA",C8="Si"),1,"") | R8: =((Q8-P8)-(Q9-P9)) -> 0 | V8: =IF(OR(C8="SiA",C8="SeA",C8="Si",C8="Ast"),1,"")
D9: S
B10: =DATE(Calendrier!$A$1,_xlfn.SHEET()-1,(ROW()/2)-1) -> 43589 | D10: M | E10: =IF(C10="","",IF(OR(C10="Cp",C10="AM",C10="Re",C10="Fe"),"",1)) | H10: =((G10-F10)+(G11-F11)) -> 0 | J10: =IF(OR(C10="SiA",C10="SeA",C10="Si",C10="Ast",C10="For"),1,"") | K10: =IF(OR(C10="Cp"),1,"") | O10: =IF(OR(C10="SiA",C10="SeA",C10="Si"),1,"") | R10: =((Q10-P10)-(Q11-P11)) -> 0 | V10: =IF(OR(C10="SiA",C10="SeA",C10="Si",C10="Ast"),1,"")
D11: S
B12: =DATE(Calendrier!$A$1,_xlfn.SHEET()-1,(ROW()/2)-1) -> 43590 | D12: M | E12: =IF(C12="","",IF(OR(C12="Cp",C12="AM",C12="Re",C12="Fe"),"",1)) | H12: =((G12-F12)+(G13-F13)) -> 0 | J12: =IF(OR(C12="SiA",C12="SeA",C12="Si",C12="Ast",C12="For"),1,"") | K12: =IF(OR(C12="Cp"),1,"") | O12: =IF(OR(C12="SiA",C12="SeA",C12="Si"),1,"") | R12: =((Q12-P12)-(Q13-P13)) -> 0 | V12: =IF(OR(C12="SiA",C12="SeA",C12="Si",C12="Ast"),1,"")
D13: S
A14: S 19 | B14: =DATE(Calendrier!$A$1,_xlfn.SHEET()-1,(ROW()/2)-1) -> 43591 | D14: M | E14: =IF(C14="","",IF(OR(C14="Cp",C14="AM",C14="Re",C14="Fe"),"",1)) | H14: =((G14-F14)+(G15-F15)) -> 0 | J14: =IF(OR(C14="SiA",C14="SeA",C14="Si",C14="Ast",C14="For"),1,"") | K14: =IF(OR(C14="Cp"),1,"") | O14: =IF(OR(C14="SiA",C14="SeA",C14="Si"),1,"") | R14: =((Q14-P14)-(Q15-P15)) -> 0 | V14: =IF(OR(C14="SiA",C14="SeA",C14="Si",C14="Ast"),1,"")
D15: S
A16: =SUM(H14:H27,R14:R27) -> 0 | B16: =DATE(Calendrier!$A$1,_xlfn.SHEET()-1,(ROW()/2)-1) -> 43592 | D16: M | E16: =IF(C16="","",IF(OR(C16="Cp",C16="AM",C16="Re",C16="Fe"),"",1)) | H16: =((G16-F16)+(G17-F17)) -> 0 | J16: =IF(OR(C16="SiA",C16="SeA",C16="Si",C16="Ast",C16="For"),1,"") | K16: =IF(OR(C16="Cp"),1,"") | O16: =IF(OR(C16="SiA",C16="SeA",C16="Si"),1,"") | R16: =((Q16-P16)-(Q17-P17)) -> 0 | V16: =IF(OR(C16="SiA",C16="SeA",C16="Si",C16="Ast"),1,"")
D17: S
B18: =DATE(Calendrier!$A$1,_xlfn.SHEET()-1,(ROW()/2)-1) -> 43593 | D18: M | E18: =IF(C18="","",IF(OR(C18="Cp",C18="AM",C18="Re",C18="Fe"),"",1)) | H18: =((G18-F18)+(G19-F19)) -> 0 | J18: =IF(OR(C18="SiA",C18="SeA",C18="Si",C18="Ast",C18="For"),1,"") | K18: =IF(OR(C18="Cp"),1,"") | O18: =IF(OR(C18="SiA",C18="SeA",C18="Si"),1,"") | R18: =((Q18-P18)-(Q19-P19)) -> 0 | V18: =IF(OR(C18="SiA",C18="SeA",C18="Si",C18="Ast"),1,"")
D19: S
B20: =DATE(Calendrier!$A$1,_xlfn.SHEET()-1,(ROW()/2)-1) -> 43594 | D20: M | E20: =IF(C20="","",IF(OR(C20="Cp",C20="AM",C20="Re",C20="Fe"),"",1)) | H20: =((G20-F20)+(G21-F21)) -> 0 | J20: =IF(OR(C20="SiA",C20="SeA",C20="Si",C20="Ast",C20="For"),1,"") | K20: =IF(OR(C20="Cp"),1,"") | O20: =IF(OR(C20="SiA",C20="SeA",C20="Si"),1,"") | R20: =((Q20-P20)-(Q21-P21)) -> 0 | V20: =IF(OR(C20="SiA",C20="SeA",C20="Si",C20="Ast"),1,"")
D21: S
B22: =DATE(Calendrier!$A$1,_xlfn.SHEET()-1,(ROW()/2)-1) -> 43595 | D22: M | E22: =IF(C22="","",IF(OR(C22="Cp",C22="AM",C22="Re",C22="Fe"),"",1)) | H22: =((G22-F22)+(G23-F23)) -> 0 | J22: =IF(OR(C22="SiA",C22="SeA",C22="Si",C22="Ast",C22="For"),1,"") | K22: =IF(OR(C22="Cp"),1,"") | O22: =IF(OR(C22="SiA",C22="SeA",C22="Si"),1,"") | R22: =((Q22-P22)-(Q23-P23)) -> 0 | V22: =IF(OR(C22="SiA",C22="SeA",C22="Si",C22="Ast"),1,"")
D23: S
B24: =DATE(Calendrier!$A$1,_xlfn.SHEET()-1,(ROW()/2)-1) -> 43596 | D24: M | E24: =IF(C24="","",IF(OR(C24="Cp",C24="AM",C24="Re",C24="Fe"),"",1)) | H24: =((G24-F24)+(G25-F25)) -> 0 | J24: =IF(OR(C24="SiA",C24="SeA",C24="Si",C24="Ast",C24="For"),1,"") | K24: =IF(OR(C24="Cp"),1,"") | O24: =IF(OR(C24="SiA",C24="SeA",C24="Si"),1,"") | R24: =((Q24-P24)-(Q25-P25)) -> 0 | V24: =IF(OR(C24="SiA",C24="SeA",C24="Si",C24="Ast"),1,"")
D25: S
B26: =DATE(Calendrier!$A$1,_xlfn.SHEET()-1,(ROW()/2)-1) -> 43597 | D26: M | E26: =IF(C26="","",IF(OR(C26="Cp",C26="AM",C26="Re",C26="Fe"),"",1)) | H26: =((G26-F26)+(G27-F27)) -> 0 | J26: =IF(OR(C26="SiA",C26="SeA",C26="Si",C26="Ast",C26="For"),1,"") | K26: =IF(OR(C26="Cp"),1,"") | O26: =IF(OR(C26="SiA",C26="SeA",C26="Si"),1,"") | R26: =((Q26-P26)-(Q27-P27)) -> 0 | V26: =IF(OR(C26="SiA",C26="SeA",C26="Si",C26="Ast"),1,"")
D27: S
A28: S 20 | B28: =DATE(Calendrier!$A$1,_xlfn.SHEET()-1,(ROW()/2)-1) -> 43598 | D28: M | E28: =IF(C28="","",IF(OR(C28="Cp",C28="AM",C28="Re",C28="Fe"),"",1)) | H28: =((G28-F28)+(G29-F29)) -> 0 | J28: =IF(OR(C28="SiA",C28="SeA",C28="Si",C28="Ast",C28="For"),1,"") | K28: =IF(OR(C28="Cp"),1,"") | O28: =IF(OR(C28="SiA",C28="SeA",C28="Si"),1,"") | R28: =((Q28-P28)-(Q29-P29)) -> 0 | V28: =IF(OR(C28="SiA",C28="SeA",C28="Si",C28="Ast"),1,"")
D29: S
A30: =SUM(H28:H41,R28:R41) -> 0 | B30: =DATE(Calendrier!$A$1,_xlfn.SHEET()-1,(ROW()/2)-1) -> 43599 | D30: M | E30: =IF(C30="","",IF(OR(C30="Cp",C30="AM",C30="Re",C30="Fe"),"",1)) | H30: =((G30-F30)+(G31-F31)) -> 0 | J30: =IF(OR(C30="SiA",C30="SeA",C30="Si",C30="Ast",C30="For"),1,"") | K30: =IF(OR(C30="Cp"),1,"") | O30: =IF(OR(C30="SiA",C30="SeA",C30="Si"),1,"") | R30: =((Q30-P30)-(Q31-P31)) -> 0 | V30: =IF(OR(C30="SiA",C30="SeA",C30="Si",C30="Ast"),1,"")
D31: S
B32: =DATE(Calendrier!$A$1,_xlfn.SHEET()-1,(ROW()/2)-1) -> 43600 | D32: M | E32: =IF(C32="","",IF(OR(C32="Cp",C32="AM",C32="Re",C32="Fe"),"",1)) | H32: =((G32-F32)+(G33-F33)) -> 0 | J32: =IF(OR(C32="SiA",C32="SeA",C32="Si",C32="Ast",C32="For"),1,"") | K32: =IF(OR(C32="Cp"),1,"") | O32: =IF(OR(C32="SiA",C32="SeA",C32="Si"),1,"") | R32: =((Q32-P32)-(Q33-P33)) -> 0 | V32: =IF(OR(C32="SiA",C32="SeA",C32="Si",C32="Ast"),1,"")
D33: S
B34: =DATE(Calendrier!$A$1,_xlfn.SHEET()-1,(ROW()/2)-1) -> 43601 | D34: M | E34: =IF(C34="","",IF(OR(C34="Cp",C34="AM",C34="Re",C34="Fe"),"",1)) | H34: =((G34-F34)+(G35-F35)) -> 0 | J34: =IF(OR(C34="SiA",C34="SeA",C34="Si",C34="Ast",C34="For"),1,"") | K34: =IF(OR(C34="Cp"),1,"") | O34: =IF(OR(C34="SiA",C34="SeA",C34="Si"),1,"") | R34: =((Q34-P34)-(Q35-P35)) -> 0 | V34: =IF(OR(C34="SiA",C34="SeA",C34="Si",C34="Ast"),1,"")
D35: S
B36: =DATE(Calendrier!$A$1,_xlfn.SHEET()-1,(ROW()/2)-1) -> 43602 | D36: M | E36: =IF(C36="","",IF(OR(C36="Cp",C36="AM",C36="Re",C36="Fe"),"",1)) | H36: =((G36-F36)+(G37-F37)) -> 0 | J36: =IF(OR(C36="SiA",C36="SeA",C36="Si",C36="Ast",C36="For"),1,"") | K36: =IF(OR(C36="Cp"),1,"") | O36: =IF(OR(C36="SiA",C36="SeA",C36="Si"),1,"") | R36: =((Q36-P36)-(Q37-P37)) -> 0 | V36: =IF(OR(C36="SiA",C36="SeA",C36="Si",C36="Ast"),1,"")
D37: S
B38: =DATE(Calendrier!$A$1,_xlfn.SHEET()-1,(ROW()/2)-1) -> 43603 | D38: M | E38: =IF(C38="","",IF(OR(C38="Cp",C38="AM",C38="Re",C38="Fe"),"",1)) | H38: =((G38-F38)+(G39-F39)) -> 0 | J38: =IF(OR(C38="SiA",C38="SeA",C38="Si",C38="Ast",C38="For"),1,"") | O38: =IF(OR(C38="SiA",C38="SeA",C38="Si"),1,"") | R38: =((Q38-P38)-(Q39-P39)) -> 0 | V38: =IF(OR(C38="SiA",C38="SeA",C38="Si",C38="Ast"),1,"")
D39: S
B40: =DATE(Calendrier!$A$1,_xlfn.SHEET()-1,(ROW()/2)-1) -> 43604 | D40: M | E40: =IF(C40="","",IF(OR(C40="Cp",C40="AM",C40="Re",C40="Fe"),"",1)) | H40: =((G40-F40)+(G41-F41)) -> 0 | J40: =IF(OR(C40="SiA",C40="SeA",C40="Si",C40="Ast",C40="For"),1,"") | K40: =IF(OR(C40="Cp"),1,"") | O40: =IF(OR(C40="SiA",C40="SeA",C40="Si"),1,"") | R40: =((Q40-P40)-(Q41-P41)) -> 0 | V40: =IF(OR(C40="SiA",C40="SeA",C40="Si",C40="Ast"),1,"")
D41: S
A42: S 21 | B42: =DATE(Calendrier!$A$1,_xlfn.SHEET()-1,(ROW()/2)-1) -> 43605 | D42: M | E42: =IF(C42="","",IF(OR(C42="Cp",C42="AM",C42="Re",C42="Fe"),"",1)) | H42: =((G42-F42)+(G43-F43)) -> 0 | J42: =IF(OR(C42="SiA",C42="SeA",C42="Si",C42="Ast",C42="For"),1,"") | K42: =IF(OR(C42="Cp"),1,"") | O42: =IF(OR(C42="SiA",C42="SeA",C42="Si"),1,"") | R42: =((Q42-P42)-(Q43-P43)) -> 0 | V42: =IF(OR(C42="SiA",C42="SeA",C42="Si",C42="Ast"),1,"")
D43: S
A44: =SUM(H42:H55,R42:R55) -> 0 | B44: =DATE(Calendrier!$A$1,_xlfn.SHEET()-1,(ROW()/2)-1) -> 43606 | D44: M | E44: =IF(C44="","",IF(OR(C44="Cp",C44="AM",C44="Re",C44="Fe"),"",1)) | H44: =((G44-F44)+(G45-F45)) -> 0 | J44: =IF(OR(C44="SiA",C44="SeA",C44="Si",C44="Ast",C44="For"),1,"") | K44: =IF(OR(C44="Cp"),1,"") | O44: =IF(OR(C44="SiA",C44="SeA",C44="Si"),1,"") | R44: =((Q44-P44)-(Q45-P45)) -> 0 | V44: =IF(OR(C44="SiA",C44="SeA",C44="Si",C44="Ast"),1,"")
D45: S
B46: =DATE(Calendrier!$A$1,_xlfn.SHEET()-1,(ROW()/2)-1) -> 43607 | D46: M | E46: =IF(C46="","",IF(OR(C46="Cp",C46="AM",C46="Re",C46="Fe"),"",1)) | H46: =((G46-F46)+(G47-F47)) -> 0 | J46: =IF(OR(C46="SiA",C46="SeA",C46="Si",C46="Ast",C46="For"),1,"") | K46: =IF(OR(C46="Cp"),1,"") | O46: =IF(OR(C46="SiA",C46="SeA",C46="Si"),1,"") | R46: =((Q46-P46)-(Q47-P47)) -> 0 | V46: =IF(OR(C46="SiA",C46="SeA",C46="Si",C46="Ast"),1,"")
D47: S
B48: =DATE(Calendrier!$A$1,_xlfn.SHEET()-1,(ROW()/2)-1) -> 43608 | D48: M | E48: =IF(C48="","",IF(OR(C48="Cp",C48="AM",C48="Re",C48="Fe"),"",1)) | H48: =((G48-F48)+(G49-F49)) -> 0 | J48: =IF(OR(C48="SiA",C48="SeA",C48="Si",C48="Ast",C48="For"),1,"") | K48: =IF(OR(C48="Cp"),1,"") | O48: =IF(OR(C48="SiA",C48="SeA",C48="Si"),1,"") | R48: =((Q48-P48)-(Q49-P49)) -> 0 | V48: =IF(OR(C48="SiA",C48="SeA",C48="Si",C48="Ast"),1,"")
D49: S
B50: =DATE(Calendrier!$A$1,_xlfn.SHEET()-1,(ROW()/2)-1) -> 43609 | D50: M | E50: =IF(C50="","",IF(OR(C50="Cp",C50="AM",C50="Re",C50="Fe"),"",1)) | H50: =((G50-F50)+(G51-F51)) -> 0 | J50: =IF(OR(C50="SiA",C50="SeA",C50="Si",C50="Ast",C50="For"),1,"") | K50: =IF(OR(C50="Cp"),1,"") | O50: =IF(OR(C50="SiA",C50="SeA",C50="Si"),1,"") | R50: =((Q50-P50)-(Q51-P51)) -> 0 | V50: =IF(OR(C50="SiA",C50="SeA",C50="Si",C50="Ast"),1,"")
D51: S
B52: =DATE(Calendrier!$A$1,_xlfn.SHEET()-1,(ROW()/2)-1) -> 43610 | D52: M | E52: =IF(C52="","",IF(OR(C52="Cp",C52="AM",C52="Re",C52="Fe"),"",1)) | H52: =((G52-F52)+(G53-F53)) -> 0 | J52: =IF(OR(C52="SiA",C52="SeA",C52="Si",C52="Ast",C52="For"),1,"") | K52: =IF(OR(C52="Cp"),1,"") | O52: =IF(OR(C52="SiA",C52="SeA",C52="Si"),1,"") | R52: =((Q52-P52)-(Q53-P53)) -> 0 | V52: =IF(OR(C52="SiA",C52="SeA",C52="Si",C52="Ast"),1,"")
D53: S
B54: =DATE(Calendrier!$A$1,_xlfn.SHEET()-1,(ROW()/2)-1) -> 43611 | D54: M | E54: =IF(C54="","",IF(OR(C54="Cp",C54="AM",C54="Re",C54="Fe"),"",1)) | H54: =((G54-F54)+(G55-F55)) -> 0 | J54: =IF(OR(C54="SiA",C54="SeA",C54="Si",C54="Ast",C54="For"),1,"") | K54: =IF(OR(C54="Cp"),1,"") | O54: =IF(OR(C54="SiA",C54="SeA",C54="Si"),1,"") | R54: =((Q54-P54)-(Q55-P55)) -> 0 | V54: =IF(OR(C54="SiA",C54="SeA",C54="Si",C54="Ast"),1,"")
D55: S
A56: S 22 | B56: =DATE(Calendrier!$A$1,_xlfn.SHEET()-1,(ROW()/2)-1) -> 43612 | D56: M | E56: =IF(C56="","",IF(OR(C56="Cp",C56="AM",C56="Re",C56="Fe"),"",1)) | H56: =((G56-F56)+(G57-F57)) -> 0 | J56: =IF(OR(C56="SiA",C56="SeA",C56="Si",C56="Ast",C56="For"),1,"") | K56: =IF(OR(C56="Cp"),1,"") | O56: =IF(OR(C56="SiA",C56="SeA",C56="Si"),1,"") | R56: =((Q56-P56)-(Q57-P57)) -> 0 | V56: =IF(OR(C56="SiA",C56="SeA",C56="Si",C56="Ast"),1,"")
D57: S
A58: =SUM(H56:H65,R56:R65)+SUM(Juin!H4:H7,Juin!R4:R7) -> 0 | B58: =DATE(Calendrier!$A$1,_xlfn.SHEET()-1,(ROW()/2)-1) -> 43613 | D58: M | E58: =IF(C58="","",IF(OR(C58="Cp",C58="AM",C58="Re",C58="Fe"),"",1)) | H58: =((G58-F58)+(G59-F59)) -> 0 | J58: =IF(OR(C58="SiA",C58="SeA",C58="Si",C58="Ast",C58="For"),1,"") | K58: =IF(OR(C58="Cp"),1,"") | O58: =IF(OR(C58="SiA",C58="SeA",C58="Si"),1,"") | R58: =((Q58-P58)-(Q59-P59)) -> 0 | V58: =IF(OR(C58="SiA",C58="SeA",C58="Si",C58="Ast"),1,"")
D59: S
B60: =DATE(Calendrier!$A$1,_xlfn.SHEET()-1,(ROW()/2)-1) -> 43614 | D60: M | E60: =IF(C60="","",IF(OR(C60="Cp",C60="AM",C60="Re",C60="Fe"),"",1)) | H60: =((G60-F60)+(G61-F61)) -> 0 | J60: =IF(OR(C60="SiA",C60="SeA",C60="Si",C60="Ast",C60="For"),1,"") | K60: =IF(OR(C60="Cp"),1,"") | O60: =IF(OR(C60="SiA",C60="SeA",C60="Si"),1,"") | R60: =((Q60-P60)-(Q61-P61)) -> 0 | V60: =IF(OR(C60="SiA",C60="SeA",C60="Si",C60="Ast"),1,"")
D61: S
B62: =DATE(Calendrier!$A$1,_xlfn.SHEET()-1,(ROW()/2)-1) -> 43615 | D62: M | E62: =IF(C62="","",IF(OR(C62="Cp",C62="AM",C62="Re",C62="Fe"),"",1)) | H62: =((G62-F62)+(G63-F63)) -> 0 | J62: =IF(OR(C62="SiA",C62="SeA",C62="Si",C62="Ast",C62="For"),1,"") | K62: =IF(OR(C62="Cp"),1,"") | O62: =IF(OR(C62="SiA",C62="SeA",C62="Si"),1,"") | R62: =((Q62-P62)-(Q63-P63)) -> 0 | V62: =IF(OR(C62="SiA",C62="SeA",C62="Si",C62="Ast"),1,"")
D63: S
B64: =DATE(Calendrier!$A$1,_xlfn.SHEET()-1,(ROW()/2)-1) -> 43616 | D64: M | E64: =IF(C64="","",IF(OR(C64="Cp",C64="AM",C64="Re",C64="Fe"),"",1)) | H64: =((G64-F64)+(G65-F65)) -> 0 | J64: =IF(OR(C64="SiA",C64="SeA",C64="Si",C64="Ast",C64="For"),1,"") | K64: =IF(OR(C64="Cp"),1,"") | O64: =IF(OR(C64="SiA",C64="SeA",C64="Si"),1,"") | R64: =((Q64-P64)-(Q65-P65)) -> 0 | V64: =IF(OR(C64="SiA",C64="SeA",C64="Si",C64="Ast"),1,"")
D65: S
B66: TOTAUX | E66: =SUM(E4:E65) -> 0 | F66: =SUM(H4:H65) -> 0 | I66: =SUM(I4:I65) -> 0 | J66: =SUM(J4:J65) -> 0 | K66: =SUM(K4:K65) -> 0 | N66: TOTAUX | O66: =SUM(O4:O65) -> 0 | R66: =SUM(R4:R65) -> 0 | S66: =SUM(S4:S65) -> 0 | T66: =SUM(T4:T65) -> 0 | U66: =SUM(U4:U65) -> 0 | V66: =SUM(V4:V65) -> 0 | W66: =SUM(W4:W65) -> 0

Sheet Juin
B3: DATE | C3: SERV | E3: J | F3: HA | G3: HD | I3: K | J3: Ser | K3: CP | L3: MOTIF DU DEPLACEMENT | O3: Panniers | P3: HSD | Q3: HSF | R3: H.Sup | S3: Maj Nuit | T3: Maj Dim. | U3: Maj J.Fé. | V3: Astreinte | W3: SSLIA
B4: =DATE(Calendrier!$A$1,_xlfn.SHEET()-1,(ROW()/2)-1) -> 43617 | D4: M | E4: =IF(C4="","",IF(OR(C4="Cp",C4="AM",C4="Re",C4="Fe"),"",1)) | H4: =((G4-F4)+(G5-F5)) -> 0 | J4: =IF(OR(C4="SiA",C4="SeA",C4="Si",C4="Ast",C4="For"),1,"") | K4: =IF(OR(C4="Cp"),1,"") | O4: =IF(OR(C4="SiA",C4="SeA",C4="Si"),1,"") | R4: =((Q4-P4)-(Q5-P5)) -> 0 | V4: =IF(OR(C4="SiA",C4="SeA",C4="Ast"),1,"")
D5: S
B6: =DATE(Calendrier!$A$1,_xlfn.SHEET()-1,(ROW()/2)-1) -> 43618 | D6: M | E6: =IF(C6="","",IF(OR(C6="Cp",C6="AM",C6="Re",C6="Fe"),"",1)) | H6: =((G6-F6)+(G7-F7)) -> 0 | J6: =IF(OR(C6="SiA",C6="SeA",C6="Si",C6="Ast",C6="For"),1,"") | K6: =IF(OR(C6="Cp"),1,"") | O6: =IF(OR(C6="SiA",C6="SeA",C6="Si"),1,"") | R6: =((Q6-P6)-(Q7-P7)) -> 0 | V6: =IF(OR(C6="SiA",C6="SeA",C6="Si",C6="Ast"),1,"")
D7: S
A8: S 23 | B8: =DATE(Calendrier!$A$1,_xlfn.SHEET()-1,(ROW()/2)-1) -> 43619 | D8: M | E8: =IF(C8="","",IF(OR(C8="Cp",C8="AM",C8="Re",C8="Fe"),"",1)) | H8: =((G8-F8)+(G9-F9)) -> 0 | J8: =IF(OR(C8="SiA",C8="SeA",C8="Si",C8="Ast",C8="For"),1,"") | K8: =IF(OR(C8="Cp"),1,"") | O8: =IF(OR(C8="SiA",C8="SeA",C8="Si"),1,"") | R8: =((Q8-P8)-(Q9-P9)) -> 0 | V8: =IF(OR(C8="SiA",C8="SeA",C8="Si",C8="Ast"),1,"")
D9: S
A10: =SUM(H8:H21,R8:R21) -> 0 | B10: =DATE(Calendrier!$A$1,_xlfn.SHEET()-1,(ROW()/2)-1) -> 43620 | D10: M | E10: =IF(C10="","",IF(OR(C10="Cp",C10="AM",C10="Re",C10="Fe"),"",1)) | H10: =((G10-F10)+(G11-F11)) -> 0 | J10: =IF(OR(C10="SiA",C10="SeA",C10="Si",C10="Ast",C10="For"),1,"") | K10: =IF(OR(C10="Cp"),1,"") | O10: =IF(OR(C10="SiA",C10="SeA",C10="Si"),1,"") | R10: =((Q10-P10)-(Q11-P11)) -> 0 | V10: =IF(OR(C10="SiA",C10="SeA",C10="Si",C10="Ast"),1,"")
D11: S
B12: =DATE(Calendrier!$A$1,_xlfn.SHEET()-1,(ROW()/2)-1) -> 43621 | D12: M | E12: =IF(C12="","",IF(OR(C12="Cp",C12="AM",C12="Re",C12="Fe"),"",1)) | H12: =((G12-F12)+(G13-F13)) -> 0 | J12: =IF(OR(C12="SiA",C12="SeA",C12="Si",C12="Ast",C12="For"),1,"") | K12: =IF(OR(C12="Cp"),1,"") | O12: =IF(OR(C12="SiA",C12="SeA",C12="Si"),1,"") | R12: =((Q12-P12)-(Q13-P13)) -> 0 | V12: =IF(OR(C12="SiA",C12="SeA",C12="Si",C12="Ast"),1,"")
D13: S
B14: =DATE(Calendrier!$A$1,_xlfn.SHEET()-1,(ROW()/2)-1) -> 43622 | D14: M | E14: =IF(C14="","",IF(OR(C14="Cp",C14="AM",C14="Re",C14="Fe"),"",1)) | H14: =((G14-F14)+(G15-F15)) -> 0 | J14: =IF(OR(C14="SiA",C14="SeA",C14="Si",C14="Ast",C14="For"),1,"") | K14: =IF(OR(C14="Cp"),1,"") | O14: =IF(OR(C14="SiA",C14="SeA",C14="Si"),1,"") | R14: =((Q14-P14)-(Q15-P15)) -> 0 | V14: =IF(OR(C14="SiA",C14="SeA",C14="Si",C14="Ast"),1,"")
D15: S
B16: =DATE(Calendrier!$A$1,_xlfn.SHEET()-1,(ROW()/2)-1) -> 43623 | D16: M | E16: =IF(C16="","",IF(OR(C16="Cp",C16="AM",C16="Re",C16="Fe"),"",1)) | H16: =((G16-F16)+(G17-F17)) -> 0 | J16: =IF(OR(C16="SiA",C16="SeA",C16="Si",C16="Ast",C16="For"),1,"") | K16: =IF(OR(C16="Cp"),1,"") | O16: =IF(OR(C16="SiA",C16="SeA",C16="Si"),1,"") | R16: =((Q16-P16)-(Q17-P17)) -> 0 | V16: =IF(OR(C16="SiA",C16="SeA",C16="Si",C16="Ast"),1,"")
D17: S
B18: =DATE(Calendrier!$A$1,_xlfn.SHEET()-1,(ROW()/2)-1) -> 43624 | D18: M | E18: =IF(C18="","",IF(OR(C18="Cp",C18="AM",C18="Re",C18="Fe"),"",1)) | H18: =((G18-F18)+(G19-F19)) -> 0 | J18: =IF(OR(C18="SiA",C18="SeA",C18="Si",C18="Ast",C18="For"),1,"") | K18: =IF(OR(C18="Cp"),1,"") | O18: =IF(OR(C18="SiA",C18="SeA",C18="Si"),1,"") | R18: =((Q18-P18)-(Q19-P19)) -> 0 | V18: =IF(OR(C18="SiA",C18="SeA",C18="Si",C18="Ast"),1,"")
D19: S
B20: =DATE(Calendrier!$A$1,_xlfn.SHEET()-1,(ROW()/2)-1) -> 43625 | D20: M | E20: =IF(C20="","",IF(OR(C20="Cp",C20="AM",C20="Re",C20="Fe"),"",1)) | H20: =((G20-F20)+(G21-F21)) -> 0 | J20: =IF(OR(C20="SiA",C20="SeA",C20="Si",C20="Ast",C20="For"),1,"") | K20: =IF(OR(C20="Cp"),1,"") | O20: =IF(OR(C20="SiA",C20="SeA",C20="Si"),1,"") | R20: =((Q20-P20)-(Q21-P21)) -> 0 | V20: =IF(OR(C20="SiA",C20="SeA",C20="Si",C20="Ast"),1,"")
D21: S
A22: S 24 | B22: =DATE(Calendrier!$A$1,_xlfn.SHEET()-1,(ROW()/2)-1) -> 43626 | D22: M | E22: =IF(C22="","",IF(OR(C22="Cp",C22="AM",C22="Re",C22="Fe"),"",1)) | H22: =((G22-F22)+(G23-F23)) -> 0 | J22: =IF(OR(C22="SiA",C22="SeA",C22="Si",C22="Ast",C22="For"),1,"") | K22: =IF(OR(C22="Cp"),1,"") | O22: =IF(OR(C22="SiA",C22="SeA",C22="Si"),1,"") | R22: =((Q22-P22)-(Q23-P23)) -> 0 | V22: =IF(OR(C22="SiA",C22="SeA",C22="Si",C22="Ast"),1,"")
D23: S
A24: =SUM(H22:H35,R22:R35) -> 0 | B24: =DATE(Calendrier!$A$1,_xlfn.SHEET()-1,(ROW()/2)-1) -> 43627 | D24: M | E24: =IF(C24="","",IF(OR(C24="Cp",C24="AM",C24="Re",C24="Fe"),"",1)) | H24: =((G24-F24)+(G25-F25)) -> 0 | J24: =IF(OR(C24="SiA",C24="SeA",C24="Si",C24="Ast",C24="For"),1,"") | K24: =IF(OR(C24="Cp"),1,"") | O24: =IF(OR(C24="SiA",C24="SeA",C24="Si"),1,"") | R24: =((Q24-P24)-(Q25-P25)) -> 0 | V24: =IF(OR(C24="SiA",C24="SeA",C24="Si",C24="Ast"),1,"")
D25: S
B26: =DATE(Calendrier!$A$1,_xlfn.SHEET()-1,(ROW()/2)-1) -> 43628 | D26: M | E26: =IF(C26="","",IF(OR(C26="Cp",C26="AM",C26="Re",C26="Fe"),"",1)) | H26: =((G26-F26)+(G27-F27)) -> 0 | J26: =IF(OR(C26="SiA",C26="SeA",C26="Si",C26="Ast",C26="For"),1,"") | K26: =IF(OR(C26="Cp"),1,"") | O26: =IF(OR(C26="SiA",C26="SeA",C26="Si"),1,"") | R26: =((Q26-P26)-(Q27-P27)) -> 0 | V26: =IF(OR(C26="SiA",C26="SeA",C26="Si",C26="Ast"),1,"")
D27: S
B28: =DATE(Calendrier!$A$1,_xlfn.SHEET()-1,(ROW()/2)-1) -> 43629 | D28: M | E28: =IF(C28="","",IF(OR(C28="Cp",C28="AM",C28="Re",C28="Fe"),"",1)) | H28: =((G28-F28)+(G29-F29)) -> 0 | J28: =IF(OR(C28="SiA",C28="SeA",C28="Si",C28="Ast",C28="For"),1,"") | K28: =IF(OR(C28="Cp"),1,"") | O28: =IF(OR(C28="SiA",C28="SeA",C28="Si"),1,"") | R28: =((Q28-P28)-(Q29-P29)) -> 0 | V28: =IF(OR(C28="SiA",C28="SeA",C28="Si",C28="Ast"),1,"")
D29: S
B30: =DATE(Calendrier!$A$1,_xlfn.SHEET()-1,(ROW()/2)-1) -> 43630 | D30: M | E30: =IF(C30="","",IF(OR(C30="Cp",C30="AM",C30="Re",C30="Fe"),"",1)) | H30: =((G30-F30)+(G31-F31)) -> 0 | J30: =IF(OR(C30="SiA",C30="SeA",C30="Si",C30="Ast",C30="For"),1,"") | K30: =IF(OR(C30="Cp"),1,"") | O30: =IF(OR(C30="SiA",C30="SeA",C30="Si"),1,"") | R30: =((Q30-P30)-(Q31-P31)) -> 0 | V30: =IF(OR(C30="SiA",C30="SeA",C30="Si",C30="Ast"),1,"")
D31: S
B32: =DATE(Calendrier!$A$1,_xlfn.SHEET()-1,(ROW()/2)-1) -> 43631 | D32: M | E32: =IF(C32="","",IF(OR(C32="Cp",C32="AM",C32="Re",C32="Fe"),"",1)) | H32: =((G32-F32)+(G33-F33)) -> 0 | J32: =IF(OR(C32="SiA",C32="SeA",C32="Si",C32="Ast",C32="For"),1,"") | K32: =IF(OR(C32="Cp"),1,"") | O32: =IF(OR(C32="SiA",C32="SeA",C32="Si"),1,"") | R32: =((Q32-P32)-(Q33-P33)) -> 0 | V32: =IF(OR(C32="SiA",C32="SeA",C32="Si",C32="Ast"),1,"")
D33: S
B34: =DATE(Calendrier!$A$1,_xlfn.SHEET()-1,(ROW()/2)-1) -> 43632 | D34: M | E34: =IF(C34="","",IF(OR(C34="Cp",C34="AM",C34="Re",C34="Fe"),"",1)) | H34: =((G34-F34)+(G35-F35)) -> 0 | J34: =IF(OR(C34="SiA",C34="SeA",C34="Si",C34="Ast",C34="For"),1,"") | K34: =IF(OR(C34="Cp"),1,"") | O34: =IF(OR(C34="SiA",C34="SeA",C34="Si"),1,"") | R34: =((Q34-P34)-(Q35-P35)) -> 0 | V34: =IF(OR(C34="SiA",C34="SeA",C34="Si",C34="Ast"),1,"")
D35: S
A36: S 25 | B36: =DATE(Calendrier!$A$1,_xlfn.SHEET()-1,(ROW()/2)-1) -> 43633 | D36: M | E36: =IF(C36="","",IF(OR(C36="Cp",C36="AM",C36="Re",C36="Fe"),"",1)) | H36: =((G36-F36)+(G37-F37)) -> 0 | J36: =IF(OR(C36="SiA",C36="SeA",C36="Si",C36="Ast",C36="For"),1,"") | K36: =IF(OR(C36="Cp"),1,"") | O36: =IF(OR(C36="SiA",C36="SeA",C36="Si"),1,"") | R36: =((Q36-P36)-(Q37-P37)) -> 0 | V36: =IF(OR(C36="SiA",C36="SeA",C36="Si",C36="Ast"),1,"")
D37: S
A38: =SUM(H36:H49,R36:R49) -> 0 | B38: =DATE(Calendrier!$A$1,_xlfn.SHEET()-1,(ROW()/2)-1) -> 43634 | D38: M | E38: =IF(C38="","",IF(OR(C38="Cp",C38="AM",C38="Re",C38="Fe"),"",1)) | H38: =((G38-F38)+(G39-F39)) -> 0 | J38: =IF(OR(C38="SiA",C38="SeA",C38="Si",C38="Ast",C38="For"),1,"") | O38: =IF(OR(C38="SiA",C38="SeA",C38="Si"),1,"") | R38: =((Q38-P38)-(Q39-P39)) -> 0 | V38: =IF(OR(C38="SiA",C38="SeA",C38="Si",C38="Ast"),1,"")
D39: S
B40: =DATE(Calendrier!$A$1,_xlfn.SHEET()-1,(ROW()/2)-1) -> 43635 | D40: M | E40: =IF(C40="","",IF(OR(C40="Cp",C40="AM",C40="Re",C40="Fe"),"",1)) | H40: =((G40-F40)+(G41-F41)) -> 0 | J40: =IF(OR(C40="SiA",C40="SeA",C40="Si",C40="Ast",C40="For"),1,"") | K40: =IF(OR(C40="Cp"),1,"") | O40: =IF(OR(C40="SiA",C40="SeA",C40="Si"),1,"") | R40: =((Q40-P40)-(Q41-P41)) -> 0 | V40: =IF(OR(C40="SiA",C40="SeA",C40="Si",C40="Ast"),1,"")
D41: S
B42: =DATE(Calendrier!$A$1,_xlfn.SHEET()-1,(ROW()/2)-1) -> 43636 | D42: M | E42: =IF(C42="","",IF(OR(C42="Cp",C42="AM",C42="Re",C42="Fe"),"",1)) | H42: =((G42-F42)+(G43-F43)) -> 0 | J42: =IF(OR(C42="SiA",C42="SeA",C42="Si",C42="Ast",C42="For"),1,"") | K42: =IF(OR(C42="Cp"),1,"") | O42: =IF(OR(C42="SiA",C42="SeA",C42="Si"),1,"") | R42: =((Q42-P42)-(Q43-P43)) -> 0 | V42: =IF(OR(C42="SiA",C42="SeA",C42="Si",C42="Ast"),1,"")
D43: S
B44: =DATE(Calendrier!$A$1,_xlfn.SHEET()-1,(ROW()/2)-1) -> 43637 | D44: M | E44: =IF(C44="","",IF(OR(C44="Cp",C44="AM",C44="Re",C44="Fe"),"",1)) | H44: =((G44-F44)+(G45-F45)) -> 0 | J44: =IF(OR(C44="SiA",C44="SeA",C44="Si",C44="Ast",C44="For"),1,"") | K44: =IF(OR(C44="Cp"),1,"") | O44: =IF(OR(C44="SiA",C44="SeA",C44="Si"),1,"") | R44: =((Q44-P44)-(Q45-P45)) -> 0 | V44: =IF(OR(C44="SiA",C44="SeA",C44="Si",C44="Ast"),1,"")
D45: S
B46: =DATE(Calendrier!$A$1,_xlfn.SHEET()-1,(ROW()/2)-1) -> 43638 | D46: M | E46: =IF(C46="","",IF(OR(C46="Cp",C46="AM",C46="Re",C46="Fe"),"",1)) | H46: =((G46-F46)+(G47-F47)) -> 0 | J46: =IF(OR(C46="SiA",C46="SeA",C46="Si",C46="Ast",C46="For"),1,"") | K46: =IF(OR(C46="Cp"),1,"") | O46: =IF(OR(C46="SiA",C46="SeA",C46="Si"),1,"") | R46: =((Q46-P46)-(Q47-P47)) -> 0 | V46: =IF(OR(C46="SiA",C46="SeA",C46="Si",C46="Ast"),1,"")
D47: S
B48: =DATE(Calendrier!$A$1,_xlfn.SHEET()-1,(ROW()/2)-1) -> 43639 | D48: M | E48: =IF(C48="","",IF(OR(C48="Cp",C48="AM",C48="Re",C48="Fe"),"",1)) | H48: =((G48-F48)+(G49-F49)) -> 0 | J48: =IF(OR(C48="SiA",C48="SeA",C48="Si",C48="Ast",C48="For"),1,"") | K48: =IF(OR(C48="Cp"),1,"") | O48: =IF(OR(C48="SiA",C48="SeA",C48="Si"),1,"") | R48: =((Q48-P48)-(Q49-P49)) -> 0 | V48: =IF(OR(C48="SiA",C48="SeA",C48="Si",C48="Ast"),1,"")
D49: S
A50: S 26 | B50: =DATE(Calendrier!$A$1,_xlfn.SHEET()-1,(ROW()/2)-1) -> 43640 | D50: M | E50: =IF(C50="","",IF(OR(C50="Cp",C50="AM",C50="Re",C50="Fe"),"",1)) | H50: =((G50-F50)+(G51-F51)) -> 0 | J50: =IF(OR(C50="SiA",C50="SeA",C50="Si",C50="Ast",C50="For"),1,"") | K50: =IF(OR(C50="Cp"),1,"") | O50: =IF(OR(C50="SiA",C50="SeA",C50="Si"),1,"") | R50: =((Q50-P50)-(Q51-P51)) -> 0 | V50: =IF(OR(C50="SiA",C50="SeA",C50="Si",C50="Ast"),1,"")
D51: S
A52: =SUM(H50:H63,R50:R63) -> 0 | B52: =DATE(Calendrier!$A$1,_xlfn.SHEET()-1,(ROW()/2)-1) -> 43641 | D52: M | E52: =IF(C52="","",IF(OR(C52="Cp",C52="AM",C52="Re",C52="Fe"),"",1)) | H52: =((G52-F52)+(G53-F53)) -> 0 | J52: =IF(OR(C52="SiA",C52="SeA",C52="Si",C52="Ast",C52="For"),1,"") | K52: =IF(OR(C52="Cp"),1,"") | O52: =IF(OR(C52="SiA",C52="SeA",C52="Si"),1,"") | R52: =((Q52-P52)-(Q53-P53)) -> 0 | V52: =IF(OR(C52="SiA",C52="SeA",C52="Si",C52="Ast"),1,"")
D53: S
B54: =DATE(Calendrier!$A$1,_xlfn.SHEET()-1,(ROW()/2)-1) -> 43642 | D54: M | E54: =IF(C54="","",IF(OR(C54="Cp",C54="AM",C54="Re",C54="Fe"),"",1)) | H54: =((G54-F54)+(G55-F55)) -> 0 | J54: =IF(OR(C54="SiA",C54="SeA",C54="Si",C54="Ast",C54="For"),1,"") | K54: =IF(OR(C54="Cp"),1,"") | O54: =IF(OR(C54="SiA",C54="SeA",C54="Si"),1,"") | R54: =((Q54-P54)-(Q55-P55)) -> 0 | V54: =IF(OR(C54="SiA",C54="SeA",C54="Si",C54="Ast"),1,"")
D55: S
B56: =DATE(Calendrier!$A$1,_xlfn.SHEET()-1,(ROW()/2)-1) -> 43643 | D56: M | E56: =IF(C56="","",IF(OR(C56="Cp",C56="AM",C56="Re",C56="Fe"),"",1)) | H56: =((G56-F56)+(G57-F57)) -> 0 | J56: =IF(OR(C56="SiA",C56="SeA",C56="Si",C56="Ast",C56="For"),1,"") | K56: =IF(OR(C56="Cp"),1,"") | O56: =IF(OR(C56="SiA",C56="SeA",C56="Si"),1,"") | R56: =((Q56-P56)-(Q57-P57)) -> 0 | V56: =IF(OR(C56="SiA",C56="SeA",C56="Si",C56="Ast"),1,"")
D57: S
B58: =DATE(Calendrier!$A$1,_xlfn.SHEET()-1,(ROW()/2)-1) -> 43644 | D58: M | E58: =IF(C58="","",IF(OR(C58="Cp",C58="AM",C58="Re",C58="Fe"),"",1)) | H58: =((G58-F58)+(G59-F59)) -> 0 | J58: =IF(OR(C58="SiA",C58="SeA",C58="Si",C58="Ast",C58="For"),1,"") | K58: =IF(OR(C58="Cp"),1,"") | O58: =IF(OR(C58="SiA",C58="SeA",C58="Si"),1,"") | R58: =((Q58-P58)-(Q59-P59)) -> 0 | V58: =IF(OR(C58="SiA",C58="SeA",C58="Si",C58="Ast"),1,"")
D59: S
B60: =DATE(Calendrier!$A$1,_xlfn.SHEET()-1,(ROW()/2)-1) -> 43645 | D60: M | E60: =IF(C60="","",IF(OR(C60="Cp",C60="AM",C60="Re",C60="Fe"),"",1)) | H60: =((G60-F60)+(G61-F61)) -> 0 | J60: =IF(OR(C60="SiA",C60="SeA",C60="Si",C60="Ast",C60="For"),1,"") | K60: =IF(OR(C60="Cp"),1,"") | O60: =IF(OR(C60="SiA",C60="SeA",C60="Si"),1,"") | R60: =((Q60-P60)-(Q61-P61)) -> 0 | V60: =IF(OR(C60="SiA",C60="SeA",C60="Si",C60="Ast"),1,"")
D61: S
B62: =DATE(Calendrier!$A$1,_xlfn.SHEET()-1,(ROW()/2)-1) -> 43646 | D62: M | E62: =IF(C62="","",IF(OR(C62="Cp",C62="AM",C62="Re",C62="Fe"),"",1)) | H62: =((G62-F62)+(G63-F63)) -> 0 | J62: =IF(OR(C62="SiA",C62="SeA",C62="Si",C62="Ast",C62="For"),1,"") | K62: =IF(OR(C62="Cp"),1,"") | O62: =IF(OR(C62="SiA",C62="SeA",C62="Si"),1,"") | R62: =((Q62-P62)-(Q63-P63)) -> 0 | V62: =IF(OR(C62="SiA",C62="SeA",C62="Si",C62="Ast"),1,"")
D63: S
B64: TOTAUX | E64: =SUM(E4:E63) -> 0 | F64: =SUM(H4:H63) -> 0 | I64: =SUM(I4:I63) -> 0 | J64: =SUM(J4:J63) -> 0 | K64: =SUM(K4:K63) -> 0 | N64: TOTAUX | O64: =SUM(O4:O63) -> 0 | R64: =SUM(R4:R63) -> 0 | S64: =SUM(S4:S63) -> 0 | T64: =SUM(T4:T63) -> 0 | U64: =SUM(U4:U63) -> 0 | V64: =SUM(V4:V63) -> 0 | W64: =SUM(W4:W63) -> 0

Sheet Juil
A3: S 27 | B3: DATE | C3: SERV | E3: J | F3: HA | G3: HD | I3: K | J3: Ser | K3: CP | L3: MOTIF DU DEPLACEMENT | O3: Panniers | P3: HSD | Q3: HSF | R3: H.Sup | S3: Maj Nuit | T3: Maj Dim. | U3: Maj J.Fé. | V3: Astreinte | W3: SSLIA
B4: =DATE(Calendrier!$A$1,_xlfn.SHEET()-1,(ROW()/2)-1) -> 43647 | D4: M | E4: =IF(C4="","",IF(OR(C4="Cp",C4="AM",C4="Re",C4="Fe"),"",1)) | H4: =((G4-F4)+(G5-F5)) -> 0 | J4: =IF(OR(C4="SiA",C4="SeA",C4="Si",C4="Ast",C4="For"),1,"") | K4: =IF(OR(C4="Cp"),1,"") | O4: =IF(OR(C4="SiA",C4="SeA",C4="Si"),1,"") | R4: =((Q4-P4)-(Q5-P5)) -> 0 | V4: =IF(OR(C4="SiA",C4="SeA",C4="Ast"),1,"")
A5: =SUM(H4:H17,R4:R17) -> 0 | D5: S
B6: =DATE(Calendrier!$A$1,_xlfn.SHEET()-1,(ROW()/2)-1) -> 43648 | D6: M | E6: =IF(C6="","",IF(OR(C6="Cp",C6="AM",C6="Re",C6="Fe"),"",1)) | H6: =((G6-F6)+(G7-F7)) -> 0 | J6: =IF(OR(C6="SiA",C6="SeA",C6="Si",C6="Ast",C6="For"),1,"") | K6: =IF(OR(C6="Cp"),1,"") | O6: =IF(OR(C6="SiA",C6="SeA",C6="Si"),1,"") | R6: =((Q6-P6)-(Q7-P7)) -> 0 | V6: =IF(OR(C6="SiA",C6="SeA",C6="Si",C6="Ast"),1,"")
D7: S
B8: =DATE(Calendrier!$A$1,_xlfn.SHEET()-1,(ROW()/2)-1) -> 43649 | D8: M | E8: =IF(C8="","",IF(OR(C8="Cp",C8="AM",C8="Re",C8="Fe"),"",1)) | H8: =((G8-F8)+(G9-F9)) -> 0 | J8: =IF(OR(C8="SiA",C8="SeA",C8="Si",C8="Ast",C8="For"),1,"") | K8: =IF(OR(C8="Cp"),1,"") | O8: =IF(OR(C8="SiA",C8="SeA",C8="Si"),1,"") | R8: =((Q8-P8)-(Q9-P9)) -> 0 | V8: =IF(OR(C8="SiA",C8="SeA",C8="Si",C8="Ast"),1,"")
D9: S
B10: =DATE(Calendrier!$A$1,_xlfn.SHEET()-1,(ROW()/2)-1) -> 43650 | D10: M | E10: =IF(C10="","",IF(OR(C10="Cp",C10="AM",C10="Re",C10="Fe"),"",1)) | H10: =((G10-F10)+(G11-F11)) -> 0 | J10: =IF(OR(C10="SiA",C10="SeA",C10="Si",C10="Ast",C10="For"),1,"") | K10: =IF(OR(C10="Cp"),1,"") | O10: =IF(OR(C10="SiA",C10="SeA",C10="Si"),1,"") | R10: =((Q10-P10)-(Q11-P11)) -> 0 | V10: =IF(OR(C10="SiA",C10="SeA",C10="Si",C10="Ast"),1,"")
D11: S
B12: =DATE(Calendrier!$A$1,_xlfn.SHEET()-1,(ROW()/2)-1) -> 43651 | D12: M | E12: =IF(C12="","",IF(OR(C12="Cp",C12="AM",C12="Re",C12="Fe"),"",1)) | H12: =((G12-F12)+(G13-F13)) -> 0 | J12: =IF(OR(C12="SiA",C12="SeA",C12="Si",C12="Ast",C12="For"),1,"") | K12: =IF(OR(C12="Cp"),1,"") | O12: =IF(OR(C12="SiA",C12="SeA",C12="Si"),1,"") | R12: =((Q12-P12)-(Q13-P13)) -> 0 | V12: =IF(OR(C12="SiA",C12="SeA",C12="Si",C12="Ast"),1,"")
D13: S
B14: =DATE(Calendrier!$A$1,_xlfn.SHEET()-1,(ROW()/2)-1) -> 43652 | D14: M | E14: =IF(C14="","",IF(OR(C14="Cp",C14="AM",C14="Re",C14="Fe"),"",1)) | H14: =((G14-F14)+(G15-F15)) -> 0 | J14: =IF(OR(C14="SiA",C14="SeA",C14="Si",C14="Ast",C14="For"),1,"") | K14: =IF(OR(C14="Cp"),1,"") | O14: =IF(OR(C14="SiA",C14="SeA",C14="Si"),1,"") | R14: =((Q14-P14)-(Q15-P15)) -> 0 | V14: =IF(OR(C14="SiA",C14="SeA",C14="Si",C14="Ast"),1,"")
D15: S
B16: =DATE(Calendrier!$A$1,_xlfn.SHEET()-1,(ROW()/2)-1) -> 43653 | D16: M | E16: =IF(C16="","",IF(OR(C16="Cp",C16="AM",C16="Re",C16="Fe"),"",1)) | H16: =((G16-F16)+(G17-F17)) -> 0 | J16: =IF(OR(C16="SiA",C16="SeA",C16="Si",C16="Ast",C16="For"),1,"") | K16: =IF(OR(C16="Cp"),1,"") | O16: =IF(OR(C16="SiA",C16="SeA",C16="Si"),1,"") | R16: =((Q16-P16)-(Q17-P17)) -> 0 | V16: =IF(OR(C16="SiA",C16="SeA",C16="Si",C16="Ast"),1,"")
D17: S
A18: S 28 | B18: =DATE(Calendrier!$A$1,_xlfn.SHEET()-1,(ROW()/2)-1) -> 43654 | D18: M | E18: =IF(C18="","",IF(OR(C18="Cp",C18="AM",C18="Re",C18="Fe"),"",1)) | H18: =((G18-F18)+(G19-F19)) -> 0 | J18: =IF(OR(C18="SiA",C18="SeA",C18="Si",C18="Ast",C18="For"),1,"") | K18: =IF(OR(C18="Cp"),1,"") | O18: =IF(OR(C18="SiA",C18="SeA",C18="Si"),1,"") | R18: =((Q18-P18)-(Q19-P19)) -> 0 | V18: =IF(OR(C18="SiA",C18="SeA",C18="Si",C18="Ast"),1,"")
D19: S
A20: =SUM(H18:H31,R18:R31) -> 0 | B20: =DATE(Calendrier!$A$1,_xlfn.SHEET()-1,(ROW()/2)-1) -> 43655 | D20: M | E20: =IF(C20="","",IF(OR(C20="Cp",C20="AM",C20="Re",C20="Fe"),"",1)) | H20: =((G20-F20)+(G21-F21)) -> 0 | J20: =IF(OR(C20="SiA",C20="SeA",C20="Si",C20="Ast",C20="For"),1,"") | K20: =IF(OR(C20="Cp"),1,"") | O20: =IF(OR(C20="SiA",C20="SeA",C20="Si"),1,"") | R20: =((Q20-P20)-(Q21-P21)) -> 0 | V20: =IF(OR(C20="SiA",C20="SeA",C20="Si",C20="Ast"),1,"")
D21: S
B22: =DATE(Calendrier!$A$1,_xlfn.SHEET()-1,(ROW()/2)-1) -> 43656 | D22: M | E22: =IF(C22="","",IF(OR(C22="Cp",C22="AM",C22="Re",C22="Fe"),"",1)) | H22: =((G22-F22)+(G23-F23)) -> 0 | J22: =IF(OR(C22="SiA",C22="SeA",C22="Si",C22="Ast",C22="For"),1,"") | K22: =IF(OR(C22="Cp"),1,"") | O22: =IF(OR(C22="SiA",C22="SeA",C22="Si"),1,"") | R22: =((Q22-P22)-(Q23-P23)) -> 0 | V22: =IF(OR(C22="SiA",C22="SeA",C22="Si",C22="Ast"),1,"")
D23: S
B24: =DATE(Calendrier!$A$1,_xlfn.SHEET()-1,(ROW()/2)-1) -> 43657 | D24: M | E24: =IF(C24="","",IF(OR(C24="Cp",C24="AM",C24="Re",C24="Fe"),"",1)) | H24: =((G24-F24)+(G25-F25)) -> 0 | J24: =IF(OR(C24="SiA",C24="SeA",C24="Si",C24="Ast",C24="For"),1,"") | K24: =IF(OR(C24="Cp"),1,"") | O24: =IF(OR(C24="SiA",C24="SeA",C24="Si"),1,"") | R24: =((Q24-P24)-(Q25-P25)) -> 0 | V24: =IF(OR(C24="SiA",C24="SeA",C24="Si",C24="Ast"),1,"")
D25: S
B26: =DATE(Calendrier!$A$1,_xlfn.SHEET()-1,(ROW()/2)-1) -> 43658 | D26: M | E26: =IF(C26="","",IF(OR(C26="Cp",C26="AM",C26="Re",C26="Fe"),"",1)) | H26: =((G26-F26)+(G27-F27)) -> 0 | J26: =IF(OR(C26="SiA",C26="SeA",C26="Si",C26="Ast",C26="For"),1,"") | K26: =IF(OR(C26="Cp"),1,"") | O26: =IF(OR(C26="SiA",C26="SeA",C26="Si"),1,"") | R26: =((Q26-P26)-(Q27-P27)) -> 0 | V26: =IF(OR(C26="SiA",C26="SeA",C26="Si",C26="Ast"),1,"")
D27: S
B28: =DATE(Calendrier!$A$1,_xlfn.SHEET()-1,(ROW()/2)-1) -> 43659 | D28: M | E28: =IF(C28="","",IF(OR(C28="Cp",C28="AM",C28="Re",C28="Fe"),"",1)) | H28: =((G28-F28)+(G29-F29)) -> 0 | J28: =IF(OR(C28="SiA",C28="SeA",C28="Si",C28="Ast",C28="For"),1,"") | K28: =IF(OR(C28="Cp"),1,"") | O28: =IF(OR(C28="SiA",C28="SeA",C28="Si"),1,"") | R28: =((Q28-P28)-(Q29-P29)) -> 0 | V28: =IF(OR(C28="SiA",C28="SeA",C28="Si",C28="Ast"),1,"")
D29: S
B30: =DATE(Calendrier!$A$1,_xlfn.SHEET()-1,(ROW()/2)-1) -> 43660 | D30: M | E30: =IF(C30="","",IF(OR(C30="Cp",C30="AM",C30="Re",C30="Fe"),"",1)) | H30: =((G30-F30)+(G31-F31)) -> 0 | J30: =IF(OR(C30="SiA",C30="SeA",C30="Si",C30="Ast",C30="For"),1,"") | K30: =IF(OR(C30="Cp"),1,"") | O30: =IF(OR(C30="SiA",C30="SeA",C30="Si"),1,"") | R30: =((Q30-P30)-(Q31-P31)) -> 0 | V30: =IF(OR(C30="SiA",C30="SeA",C30="Si",C30="Ast"),1,"")
D31: S
A32: S 29 | B32: =DATE(Calendrier!$A$1,_xlfn.SHEET()-1,(ROW()/2)-1) -> 43661 | D32: M | E32: =IF(C32="","",IF(OR(C32="Cp",C32="AM",C32="Re",C32="Fe"),"",1)) | H32: =((G32-F32)+(G33-F33)) -> 0 | J32: =IF(OR(C32="SiA",C32="SeA",C32="Si",C32="Ast",C32="For"),1,"") | K32: =IF(OR(C32="Cp"),1,"") | O32: =IF(OR(C32="SiA",C32="SeA",C32="Si"),1,"") | R32: =((Q32-P32)-(Q33-P33)) -> 0 | V32: =IF(OR(C32="SiA",C32="SeA",C32="Si",C32="Ast"),1,"")
D33: S
A34: =SUM(H32:H45,R32:R45) -> 0 | B34: =DATE(Calendrier!$A$1,_xlfn.SHEET()-1,(ROW()/2)-1) -> 43662 | D34: M | E34: =IF(C34="","",IF(OR(C34="Cp",C34="AM",C34="Re",C34="Fe"),"",1)) | H34: =((G34-F34)+(G35-F35)) -> 0 | J34: =IF(OR(C34="SiA",C34="SeA",C34="Si",C34="Ast",C34="For"),1,"") | K34: =IF(OR(C34="Cp"),1,"") | O34: =IF(OR(C34="SiA",C34="SeA",C34="Si"),1,"") | R34: =((Q34-P34)-(Q35-P35)) -> 0 | V34: =IF(OR(C34="SiA",C34="SeA",C34="Si",C34="Ast"),1,"")
D35: S
B36: =DATE(Calendrier!$A$1,_xlfn.SHEET()-1,(ROW()/2)-1) -> 43663 | D36: M | E36: =IF(C36="","",IF(OR(C36="Cp",C36="AM",C36="Re",C36="Fe"),"",1)) | H36: =((G36-F36)+(G37-F37)) -> 0 | J36: =IF(OR(C36="SiA",C36="SeA",C36="Si",C36="Ast",C36="For"),1,"") | K36: =IF(OR(C36="Cp"),1,"") | O36: =IF(OR(C36="SiA",C36="SeA",C36="Si"),1,"") | R36: =((Q36-P36)-(Q37-P37)) -> 0 | V36: =IF(OR(C36="SiA",C36="SeA",C36="Si",C36="Ast"),1,"")
D37: S
B38: =DATE(Calendrier!$A$1,_xlfn.SHEET()-1,(ROW()/2)-1) -> 43664 | D38: M | E38: =IF(C38="","",IF(OR(C38="Cp",C38="AM",C38="Re",C38="Fe"),"",1)) | H38: =((G38-F38)+(G39-F39)) -> 0 | J38: =IF(OR(C38="SiA",C38="SeA",C38="Si",C38="Ast",C38="For"),1,"") | O38: =IF(OR(C38="SiA",C38="SeA",C38="Si"),1,"") | R38: =((Q38-P38)-(Q39-P39)) -> 0 | V38: =IF(OR(C38="SiA",C38="SeA",C38="Si",C38="Ast"),1,"")
D39: S
B40: =DATE(Calendrier!$A$1,_xlfn.SHEET()-1,(ROW()/2)-1) -> 43665 | D40: M | E40: =IF(C40="","",IF(OR(C40="Cp",C40="AM",C40="Re",C40="Fe"),"",1)) | H40: =((G40-F40)+(G41-F41)) -> 0 | J40: =IF(OR(C40="SiA",C40="SeA",C40="Si",C40="Ast",C40="For"),1,"") | K40: =IF(OR(C40="Cp"),1,"") | O40: =IF(OR(C40="SiA",C40="SeA",C40="Si"),1,"") | R40: =((Q40-P40)-(Q41-P41)) -> 0 | V40: =IF(OR(C40="SiA",C40="SeA",C40="Si",C40="Ast"),1,"")
D41: S
B42: =DATE(Calendrier!$A$1,_xlfn.SHEET()-1,(ROW()/2)-1) -> 43666 | D42: M | E42: =IF(C42="","",IF(OR(C42="Cp",C42="AM",C42="Re",C42="Fe"),"",1)) | H42: =((G42-F42)+(G43-F43)) -> 0 | J42: =IF(OR(C42="SiA",C42="SeA",C42="Si",C42="Ast",C42="For"),1,"") | K42: =IF(OR(C42="Cp"),1,"") | O42: =IF(OR(C42="SiA",C42="SeA",C42="Si"),1,"") | R42: =((Q42-P42)-(Q43-P43)) -> 0 | V42: =IF(OR(C42="SiA",C42="SeA",C42="Si",C42="Ast"),1,"")
D43: S
B44: =DATE(Calendrier!$A$1,_xlfn.SHEET()-1,(ROW()/2)-1) -> 43667 | D44: M | E44: =IF(C44="","",IF(OR(C44="Cp",C44="AM",C44="Re",C44="Fe"),"",1)) | H44: =((G44-F44)+(G45-F45)) -> 0 | J44: =IF(OR(C44="SiA",C44="SeA",C44="Si",C44="Ast",C44="For"),1,"") | K44: =IF(OR(C44="Cp"),1,"") | O44: =IF(OR(C44="SiA",C44="SeA",C44="Si"),1,"") | R44: =((Q44-P44)-(Q45-P45)) -> 0 | V44: =IF(OR(C44="SiA",C44="SeA",C44="Si",C44="Ast"),1,"")
D45: S
A46: S 30 | B46: =DATE(Calendrier!$A$1,_xlfn.SHEET()-1,(ROW()/2)-1) -> 43668 | D46: M | E46: =IF(C46="","",IF(OR(C46="Cp",C46="AM",C46="Re",C46="Fe"),"",1)) | H46: =((G46-F46)+(G47-F47)) -> 0 | J46: =IF(OR(C46="SiA",C46="SeA",C46="Si",C46="Ast",C46="For"),1,"") | K46: =IF(OR(C46="Cp"),1,"") | O46: =IF(OR(C46="SiA",C46="SeA",C46="Si"),1,"") | R46: =((Q46-P46)-(Q47-P47)) -> 0 | V46: =IF(OR(C46="SiA",C46="SeA",C46="Si",C46="Ast"),1,"")
D47: S
A48: =SUM(H46:H59,R46:R59) -> 0 | B48: =DATE(Calendrier!$A$1,_xlfn.SHEET()-1,(ROW()/2)-1) -> 43669 | D48: M | E48: =IF(C48="","",IF(OR(C48="Cp",C48="AM",C48="Re",C48="Fe"),"",1)) | H48: =((G48-F48)+(G49-F49)) -> 0 | J48: =IF(OR(C48="SiA",C48="SeA",C48="Si",C48="Ast",C48="For"),1,"") | K48: =IF(OR(C48="Cp"),1,"") | O48: =IF(OR(C48="SiA",C48="SeA",C48="Si"),1,"") | R48: =((Q48-P48)-(Q49-P49)) -> 0 | V48: =IF(OR(C48="SiA",C48="SeA",C48="Si",C48="Ast"),1,"")
D49: S
B50: =DATE(Calendrier!$A$1,_xlfn.SHEET()-1,(ROW()/2)-1) -> 43670 | D50: M | E50: =IF(C50="","",IF(OR(C50="Cp",C50="AM",C50="Re",C50="Fe"),"",1)) | H50: =((G50-F50)+(G51-F51)) -> 0 | J50: =IF(OR(C50="SiA",C50="SeA",C50="Si",C50="Ast",C50="For"),1,"") | K50: =IF(OR(C50="Cp"),1,"") | O50: =IF(OR(C50="SiA",C50="SeA",C50="Si"),1,"") | R50: =((Q50-P50)-(Q51-P51)) -> 0 | V50: =IF(OR(C50="SiA",C50="SeA",C50="Si",C50="Ast"),1,"")
D51: S
B52: =DATE(Calendrier!$A$1,_xlfn.SHEET()-1,(ROW()/2)-1) -> 43671 | D52: M | E52: =IF(C52="","",IF(OR(C52="Cp",C52="AM",C52="Re",C52="Fe"),"",1)) | H52: =((G52-F52)+(G53-F53)) -> 0 | J52: =IF(OR(C52="SiA",C52="SeA",C52="Si",C52="Ast",C52="For"),1,"") | K52: =IF(OR(C52="Cp"),1,"") | O52: =IF(OR(C52="SiA",C52="SeA",C52="Si"),1,"") | R52: =((Q52-P52)-(Q53-P53)) -> 0 | V52: =IF(OR(C52="SiA",C52="SeA",C52="Si",C52="Ast"),1,"")
D53: S
B54: =DATE(Calendrier!$A$1,_xlfn.SHEET()-1,(ROW()/2)-1) -> 43672 | D54: M | E54: =IF(C54="","",IF(OR(C54="Cp",C54="AM",C54="Re",C54="Fe"),"",1)) | H54: =((G54-F54)+(G55-F55)) -> 0 | J54: =IF(OR(C54="SiA",C54="SeA",C54="Si",C54="Ast",C54="For"),1,"") | K54: =IF(OR(C54="Cp"),1,"") | O54: =IF(OR(C54="SiA",C54="SeA",C54="Si"),1,"") | R54: =((Q54-P54)-(Q55-P55)) -> 0 | V54: =IF(OR(C54="SiA",C54="SeA",C54="Si",C54="Ast"),1,"")
D55: S
B56: =DATE(Calendrier!$A$1,_xlfn.SHEET()-1,(ROW()/2)-1) -> 43673 | D56: M | E56: =IF(C56="","",IF(OR(C56="Cp",C56="AM",C56="Re",C56="Fe"),"",1)) | H56: =((G56-F56)+(G57-F57)) -> 0 | J56: =IF(OR(C56="SiA",C56="SeA",C56="Si",C56="Ast",C56="For"),1,"") | K56: =IF(OR(C56="Cp"),1,"") | O56: =IF(OR(C56="SiA",C56="SeA",C56="Si"),1,"") | R56: =((Q56-P56)-(Q57-P57)) -> 0 | V56: =IF(OR(C56="SiA",C56="SeA",C56="Si",C56="Ast"),1,"")
D57: S
B58: =DATE(Calendrier!$A$1,_xlfn.SHEET()-1,(ROW()/2)-1) -> 43674 | D58: M | E58: =IF(C58="","",IF(OR(C58="Cp",C58="AM",C58="Re",C58="Fe"),"",1)) | H58: =((G58-F58)+(G59-F59)) -> 0 | J58: =IF(OR(C58="SiA",C58="SeA",C58="Si",C58="Ast",C58="For"),1,"") | K58: =IF(OR(C58="Cp"),1,"") | O58: =IF(OR(C58="SiA",C58="SeA",C58="Si"),1,"") | R58: =((Q58-P58)-(Q59-P59)) -> 0 | V58: =IF(OR(C58="SiA",C58="SeA",C58="Si",C58="Ast"),1,"")
D59: S
A60: S 31 | B60: =DATE(Calendrier!$A$1,_xlfn.SHEET()-1,(ROW()/2)-1) -> 43675 | D60: M | E60: =IF(C60="","",IF(OR(C60="Cp",C60="AM",C60="Re",C60="Fe"),"",1)) | H60: =((G60-F60)+(G61-F61)) -> 0 | J60: =IF(OR(C60="SiA",C60="SeA",C60="Si",C60="Ast",C60="For"),1,"") | K60: =IF(OR(C60="Cp"),1,"") | O60: =IF(OR(C60="SiA",C60="SeA",C60="Si"),1,"") | R60: =((Q60-P60)-(Q61-P61)) -> 0 | V60: =IF(OR(C60="SiA",C60="SeA",C60="Si",C60="Ast"),1,"")
D61: S
A62: =SUM(H60:H65,R60:R65) -> 0 | B62: =DATE(Calendrier!$A$1,_xlfn.SHEET()-1,(ROW()/2)-1) -> 43676 | D62: M | E62: =IF(C62="","",IF(OR(C62="Cp",C62="AM",C62="Re",C62="Fe"),"",1)) | H62: =((G62-F62)+(G63-F63)) -> 0 | J62: =IF(OR(C62="SiA",C62="SeA",C62="Si",C62="Ast",C62="For"),1,"") | K62: =IF(OR(C62="Cp"),1,"") | O62: =IF(OR(C62="SiA",C62="SeA",C62="Si"),1,"") | R62: =((Q62-P62)-(Q63-P63)) -> 0 | V62: =IF(OR(C62="SiA",C62="SeA",C62="Si",C62="Ast"),1,"")
D63: S
B64: =DATE(Calendrier!$A$1,_xlfn.SHEET()-1,(ROW()/2)-1) -> 43677 | D64: M | E64: =IF(C64="","",IF(OR(C64="Cp",C64="AM",C64="Re",C64="Fe"),"",1)) | H64: =((G64-F64)+(G65-F65)) -> 0 | J64: =IF(OR(C64="SiA",C64="SeA",C64="Si",C64="Ast",C64="For"),1,"") | K64: =IF(OR(C64="Cp"),1,"") | O64: =IF(OR(C64="SiA",C64="SeA",C64="Si"),1,"") | R64: =((Q64-P64)-(Q65-P65)) -> 0 | V64: =IF(OR(C64="SiA",C64="SeA",C64="Si",C64="Ast"),1,"")
D65: S
B66: TOTAUX | E66: =SUM(E4:E65) -> 0 | F66: =SUM(H4:H65) -> 0 | I66: =SUM(I4:I65) -> 0 | J66: =SUM(J4:J65) -> 0 | K66: =SUM(K4:K65) -> 0 | N66: TOTAUX | O66: =SUM(O4:O65) -> 0 | R66: =SUM(R4:R65) -> 0 | S66: =SUM(S4:S65) -> 0 | T66: =SUM(T4:T65) -> 0 | U66: =SUM(U4:U65) -> 0 | V66: =SUM(V4:V65) -> 0 | W66: =SUM(W4:W65) -> 0

Sheet Aout
A3: S 31 | B3: DATE | C3: SERV | E3: J | F3: HA | G3: HD | I3: K | J3: Ser | K3: CP | L3: MOTIF DU DEPLACEMENT | O3: Panniers | P3: HSD | Q3: HSF | R3: H.Sup | S3: Maj Nuit | T3: Maj Dim. | U3: Maj J.Fé. | V3: Astreinte | W3: SSLIA
B4: =DATE(Calendrier!$A$1,_xlfn.SHEET()-1,(ROW()/2)-1) -> 43678 | D4: M | E4: =IF(C4="","",IF(OR(C4="Cp",C4="AM",C4="Re",C4="Fe"),"",1)) | H4: =((G4-F4)+(G5-F5)) -> 0 | J4: =IF(OR(C4="SiA",C4="SeA",C4="Si",C4="Ast",C4="For"),1,"") | K4: =IF(OR(C4="Cp"),1,"") | O4: =IF(OR(C4="SiA",C4="SeA",C4="Si"),1,"") | R4: =((Q4-P4)-(Q5-P5)) -> 0 | V4: =IF(OR(C4="SiA",C4="SeA",C4="Ast"),1,"")
A5: =SUM(H4:H11,R4:R11)+Juil!A62 -> 0 | D5: S
B6: =DATE(Calendrier!$A$1,_xlfn.SHEET()-1,(ROW()/2)-1) -> 43679 | D6: M | E6: =IF(C6="","",IF(OR(C6="Cp",C6="AM",C6="Re",C6="Fe"),"",1)) | H6: =((G6-F6)+(G7-F7)) -> 0 | J6: =IF(OR(C6="SiA",C6="SeA",C6="Si",C6="Ast",C6="For"),1,"") | K6: =IF(OR(C6="Cp"),1,"") | O6: =IF(OR(C6="SiA",C6="SeA",C6="Si"),1,"") | R6: =((Q6-P6)-(Q7-P7)) -> 0 | V6: =IF(OR(C6="SiA",C6="SeA",C6="Si",C6="Ast"),1,"")
D7: S
B8: =DATE(Calendrier!$A$1,_xlfn.SHEET()-1,(ROW()/2)-1) -> 43680 | D8: M | E8: =IF(C8="","",IF(OR(C8="Cp",C8="AM",C8="Re",C8="Fe"),"",1)) | H8: =((G8-F8)+(G9-F9)) -> 0 | J8: =IF(OR(C8="SiA",C8="SeA",C8="Si",C8="Ast",C8="For"),1,"") | K8: =IF(OR(C8="Cp"),1,"") | O8: =IF(OR(C8="SiA",C8="SeA",C8="Si"),1,"") | R8: =((Q8-P8)-(Q9-P9)) -> 0 | V8: =IF(OR(C8="SiA",C8="SeA",C8="Si",C8="Ast"),1,"")
D9: S
B10: =DATE(Calendrier!$A$1,_xlfn.SHEET()-1,(ROW()/2)-1) -> 43681 | D10: M | E10: =IF(C10="","",IF(OR(C10="Cp",C10="AM",C10="Re",C10="Fe"),"",1)) | H10: =((G10-F10)+(G11-F11)) -> 0 | J10: =IF(OR(C10="SiA",C10="SeA",C10="Si",C10="Ast",C10="For"),1,"") | K10: =IF(OR(C10="Cp"),1,"") | O10: =IF(OR(C10="SiA",C10="SeA",C10="Si"),1,"") | R10: =((Q10-P10)-(Q11-P11)) -> 0 | V10: =IF(OR(C10="SiA",C10="SeA",C10="Si",C10="Ast"),1,"")
D11: S
A12: S 32 | B12: =DATE(Calendrier!$A$1,_xlfn.SHEET()-1,(ROW()/2)-1) -> 43682 | D12: M | E12: =IF(C12="","",IF(OR(C12="Cp",C12="AM",C12="Re",C12="Fe"),"",1)) | H12: =((G12-F12)+(G13-F13)) -> 0 | J12: =IF(OR(C12="SiA",C12="SeA",C12="Si",C12="Ast",C12="For"),1,"") | K12: =IF(OR(C12="Cp"),1,"") | O12: =IF(OR(C12="SiA",C12="SeA",C12="Si"),1,"") | R12: =((Q12-P12)-(Q13-P13)) -> 0 | V12: =IF(OR(C12="SiA",C12="SeA",C12="Si",C12="Ast"),1,"")
D13: S
A14: =SUM(H12:H25,R12:R25) -> 0 | B14: =DATE(Calendrier!$A$1,_xlfn.SHEET()-1,(ROW()/2)-1) -> 43683 | D14: M | E14: =IF(C14="","",IF(OR(C14="Cp",C14="AM",C14="Re",C14="Fe"),"",1)) | H14: =((G14-F14)+(G15-F15)) -> 0 | J14: =IF(OR(C14="SiA",C14="SeA",C14="Si",C14="Ast",C14="For"),1,"") | K14: =IF(OR(C14="Cp"),1,"") | O14: =IF(OR(C14="SiA",C14="SeA",C14="Si"),1,"") | R14: =((Q14-P14)-(Q15-P15)) -> 0 | V14: =IF(OR(C14="SiA",C14="SeA",C14="Si",C14="Ast"),1,"")
D15: S
B16: =DATE(Calendrier!$A$1,_xlfn.SHEET()-1,(ROW()/2)-1) -> 43684 | D16: M | E16: =IF(C16="","",IF(OR(C16="Cp",C16="AM",C16="Re",C16="Fe"),"",1)) | H16: =((G16-F16)+(G17-F17)) -> 0 | J16: =IF(OR(C16="SiA",C16="SeA",C16="Si",C16="Ast",C16="For"),1,"") | K16: =IF(OR(C16="Cp"),1,"") | O16: =IF(OR(C16="SiA",C16="SeA",C16="Si"),1,"") | R16: =((Q16-P16)-(Q17-P17)) -> 0 | V16: =IF(OR(C16="SiA",C16="SeA",C16="Si",C16="Ast"),1,"")
D17: S
B18: =DATE(Calendrier!$A$1,_xlfn.SHEET()-1,(ROW()/2)-1) -> 43685 | D18: M | E18: =IF(C18="","",IF(OR(C18="Cp",C18="AM",C18="Re",C18="Fe"),"",1)) | H18: =((G18-F18)+(G19-F19)) -> 0 | J18: =IF(OR(C18="SiA",C18="SeA",C18="Si",C18="Ast",C18="For"),1,"") | K18: =IF(OR(C18="Cp"),1,"") | O18: =IF(OR(C18="SiA",C18="SeA",C18="Si"),1,"") | R18: =((Q18-P18)-(Q19-P19)) -> 0 | V18: =IF(OR(C18="SiA",C18="SeA",C18="Si",C18="Ast"),1,"")
D19: S
B20: =DATE(Calendrier!$A$1,_xlfn.SHEET()-1,(ROW()/2)-1) -> 43686 | D20: M | E20: =IF(C20="","",IF(OR(C20="Cp",C20="AM",C20="Re",C20="Fe"),"",1)) | H20: =((G20-F20)+(G21-F21)) -> 0 | J20: =IF(OR(C20="SiA",C20="SeA",C20="Si",C20="Ast",C20="For"),1,"") | K20: =IF(OR(C20="Cp"),1,"") | O20: =IF(OR(C20="SiA",C20="SeA",C20="Si"),1,"") | R20: =((Q20-P20)-(Q21-P21)) -> 0 | V20: =IF(OR(C20="SiA",C20="SeA",C20="Si",C20="Ast"),1,"")
D21: S
B22: =DATE(Calendrier!$A$1,_xlfn.SHEET()-1,(ROW()/2)-1) -> 43687 | D22: M | E22: =IF(C22="","",IF(OR(C22="Cp",C22="AM",C22="Re",C22="Fe"),"",1)) | H22: =((G22-F22)+(G23-F23)) -> 0 | J22: =IF(OR(C22="SiA",C22="SeA",C22="Si",C22="Ast",C22="For"),1,"") | K22: =IF(OR(C22="Cp"),1,"") | O22: =IF(OR(C22="SiA",C22="SeA",C22="Si"),1,"") | R22: =((Q22-P22)-(Q23-P23)) -> 0 | V22: =IF(OR(C22="SiA",C22="SeA",C22="Si",C22="Ast"),1,"")
D23: S
B24: =DATE(Calendrier!$A$1,_xlfn.SHEET()-1,(ROW()/2)-1) -> 43688 | D24: M | E24: =IF(C24="","",IF(OR(C24="Cp",C24="AM",C24="Re",C24="Fe"),"",1)) | H24: =((G24-F24)+(G25-F25)) -> 0 | J24: =IF(OR(C24="SiA",C24="SeA",C24="Si",C24="Ast",C24="For"),1,"") | K24: =IF(OR(C24="Cp"),1,"") | O24: =IF(OR(C24="SiA",C24="SeA",C24="Si"),1,"") | R24: =((Q24-P24)-(Q25-P25)) -> 0 | V24: =IF(OR(C24="SiA",C24="SeA",C24="Si",C24="Ast"),1,"")
D25: S
A26: S 33 | B26: =DATE(Calendrier!$A$1,_xlfn.SHEET()-1,(ROW()/2)-1) -> 43689 | D26: M | E26: =IF(C26="","",IF(OR(C26="Cp",C26="AM",C26="Re",C26="Fe"),"",1)) | H26: =((G26-F26)+(G27-F27)) -> 0 | J26: =IF(OR(C26="SiA",C26="SeA",C26="Si",C26="Ast",C26="For"),1,"") | K26: =IF(OR(C26="Cp"),1,"") | O26: =IF(OR(C26="SiA",C26="SeA",C26="Si"),1,"") | R26: =((Q26-P26)-(Q27-P27)) -> 0 | V26: =IF(OR(C26="SiA",C26="SeA",C26="Si",C26="Ast"),1,"")
D27: S
A28: =SUM(H26:H39,R26:R39) -> 0 | B28: =DATE(Calendrier!$A$1,_xlfn.SHEET()-1,(ROW()/2)-1) -> 43690 | D28: M | E28: =IF(C28="","",IF(OR(C28="Cp",C28="AM",C28="Re",C28="Fe"),"",1)) | H28: =((G28-F28)+(G29-F29)) -> 0 | J28: =IF(OR(C28="SiA",C28="SeA",C28="Si",C28="Ast",C28="For"),1,"") | K28: =IF(OR(C28="Cp"),1,"") | O28: =IF(OR(C28="SiA",C28="SeA",C28="Si"),1,"") | R28: =((Q28-P28)-(Q29-P29)) -> 0 | V28: =IF(OR(C28="SiA",C28="SeA",C28="Si",C28="Ast"),1,"")
D29: S
B30: =DATE(Calendrier!$A$1,_xlfn.SHEET()-1,(ROW()/2)-1) -> 43691 | D30: M | E30: =IF(C30="","",IF(OR(C30="Cp",C30="AM",C30="Re",C30="Fe"),"",1)) | H30: =((G30-F30)+(G31-F31)) -> 0 | J30: =IF(OR(C30="SiA",C30="SeA",C30="Si",C30="Ast",C30="For"),1,"") | K30: =IF(OR(C30="Cp"),1,"") | O30: =IF(OR(C30="SiA",C30="SeA",C30="Si"),1,"") | R30: =((Q30-P30)-(Q31-P31)) -> 0 | V30: =IF(OR(C30="SiA",C30="SeA",C30="Si",C30="Ast"),1,"")
D31: S
B32: =DATE(Calendrier!$A$1,_xlfn.SHEET()-1,(ROW()/2)-1) -> 43692 | D32: M | E32: =IF(C32="","",IF(OR(C32="Cp",C32="AM",C32="Re",C32="Fe"),"",1)) | H32: =((G32-F32)+(G33-F33)) -> 0 | J32: =IF(OR(C32="SiA",C32="SeA",C32="Si",C32="Ast",C32="For"),1,"") | K32: =IF(OR(C32="Cp"),1,"") | O32: =IF(OR(C32="SiA",C32="SeA",C32="Si"),1,"") | R32: =((Q32-P32)-(Q33-P33)) -> 0 | V32: =IF(OR(C32="SiA",C32="SeA",C32="Si",C32="Ast"),1,"")
D33: S
B34: =DATE(Calendrier!$A$1,_xlfn.SHEET()-1,(ROW()/2)-1) -> 43693 | D34: M | E34: =IF(C34="","",IF(OR(C34="Cp",C34="AM",C34="Re",C34="Fe"),"",1)) | H34: =((G34-F34)+(G35-F35)) -> 0 | J34: =IF(OR(C34="SiA",C34="SeA",C34="Si",C34="Ast",C34="For"),1,"") | K34: =IF(OR(C34="Cp"),1,"") | O34: =IF(OR(C34="SiA",C34="SeA",C34="Si"),1,"") | R34: =((Q34-P34)-(Q35-P35)) -> 0 | V34: =IF(OR(C34="SiA",C34="SeA",C34="Si",C34="Ast"),1,"")
D35: S
B36: =DATE(Calendrier!$A$1,_xlfn.SHEET()-1,(ROW()/2)-1) -> 43694 | D36: M | E36: =IF(C36="","",IF(OR(C36="Cp",C36="AM",C36="Re",C36="Fe"),"",1)) | H36: =((G36-F36)+(G37-F37)) -> 0 | J36: =IF(OR(C36="SiA",C36="SeA",C36="Si",C36="Ast",C36="For"),1,"") | K36: =IF(OR(C36="Cp"),1,"") | O36: =IF(OR(C36="SiA",C36="SeA",C36="Si"),1,"") | R36: =((Q36-P36)-(Q37-P37)) -> 0 | V36: =IF(OR(C36="SiA",C36="SeA",C36="Si",C36="Ast"),1,"")
D37: S
B38: =DATE(Calendrier!$A$1,_xlfn.SHEET()-1,(ROW()/2)-1) -> 43695 | D38: M | E38: =IF(C38="","",IF(OR(C38="Cp",C38="AM",C38="Re",C38="Fe"),"",1)) | H38: =((G38-F38)+(G39-F39)) -> 0 | J38: =IF(OR(C38="SiA",C38="SeA",C38="Si",C38="Ast",C38="For"),1,"") | O38: =IF(OR(C38="SiA",C38="SeA",C38="Si"),1,"") | R38: =((Q38-P38)-(Q39-P39)) -> 0 | V38: =IF(OR(C38="SiA",C38="SeA",C38="Si",C38="Ast"),1,"")
D39: S
A40: S 34 | B40: =DATE(Calendrier!$A$1,_xlfn.SHEET()-1,(ROW()/2)-1) -> 43696 | D40: M | E40: =IF(C40="","",IF(OR(C40="Cp",C40="AM",C40="Re",C40="Fe"),"",1)) | H40: =((G40-F40)+(G41-F41)) -> 0 | J40: =IF(OR(C40="SiA",C40="SeA",C40="Si",C40="Ast",C40="For"),1,"") | K40: =IF(OR(C40="Cp"),1,"") | O40: =IF(OR(C40="SiA",C40="SeA",C40="Si"),1,"") | R40: =((Q40-P40)-(Q41-P41)) -> 0 | V40: =IF(OR(C40="SiA",C40="SeA",C40="Si",C40="Ast"),1,"")
D41: S
A42: =SUM(H40:H53,R40:R53) -> 0 | B42: =DATE(Calendrier!$A$1,_xlfn.SHEET()-1,(ROW()/2)-1) -> 43697 | D42: M | E42: =IF(C42="","",IF(OR(C42="Cp",C42="AM",C42="Re",C42="Fe"),"",1)) | H42: =((G42-F42)+(G43-F43)) -> 0 | J42: =IF(OR(C42="SiA",C42="SeA",C42="Si",C42="Ast",C42="For"),1,"") | K42: =IF(OR(C42="Cp"),1,"") | O42: =IF(OR(C42="SiA",C42="SeA",C42="Si"),1,"") | R42: =((Q42-P42)-(Q43-P43)) -> 0 | V42: =IF(OR(C42="SiA",C42="SeA",C42="Si",C42="Ast"),1,"")
D43: S
B44: =DATE(Calendrier!$A$1,_xlfn.SHEET()-1,(ROW()/2)-1) -> 43698 | D44: M | E44: =IF(C44="","",IF(OR(C44="Cp",C44="AM",C44="Re",C44="Fe"),"",1)) | H44: =((G44-F44)+(G45-F45)) -> 0 | J44: =IF(OR(C44="SiA",C44="SeA",C44="Si",C44="Ast",C44="For"),1,"") | K44: =IF(OR(C44="Cp"),1,"") | O44: =IF(OR(C44="SiA",C44="SeA",C44="Si"),1,"") | R44: =((Q44-P44)-(Q45-P45)) -> 0 | V44: =IF(OR(C44="SiA",C44="SeA",C44="Si",C44="Ast"),1,"")
D45: S
B46: =DATE(Calendrier!$A$1,_xlfn.SHEET()-1,(ROW()/2)-1) -> 43699 | D46: M | E46: =IF(C46="","",IF(OR(C46="Cp",C46="AM",C46="Re",C46="Fe"),"",1)) | H46: =((G46-F46)+(G47-F47)) -> 0 | J46: =IF(OR(C46="SiA",C46="SeA",C46="Si",C46="Ast",C46="For"),1,"") | K46: =IF(OR(C46="Cp"),1,"") | O46: =IF(OR(C46="SiA",C46="SeA",C46="Si"),1,"") | R46: =((Q46-P46)-(Q47-P47)) -> 0 | V46: =IF(OR(C46="SiA",C46="SeA",C46="Si",C46="Ast"),1,"")
D47: S
B48: =DATE(Calendrier!$A$1,_xlfn.SHEET()-1,(ROW()/2)-1) -> 43700 | D48: M | E48: =IF(C48="","",IF(OR(C48="Cp",C48="AM",C48="Re",C48="Fe"),"",1)) | H48: =((G48-F48)+(G49-F49)) -> 0 | J48: =IF(OR(C48="SiA",C48="SeA",C48="Si",C48="Ast",C48="For"),1,"") | K48: =IF(OR(C48="Cp"),1,"") | O48: =IF(OR(C48="SiA",C48="SeA",C48="Si"),1,"") | R48: =((Q48-P48)-(Q49-P49)) -> 0 | V48: =IF(OR(C48="SiA",C48="SeA",C48="Si",C48="Ast"),1,"")
D49: S
B50: =DATE(Calendrier!$A$1,_xlfn.SHEET()-1,(ROW()/2)-1) -> 43701 | D50: M | E50: =IF(C50="","",IF(OR(C50="Cp",C50="AM",C50="Re",C50="Fe"),"",1)) | H50: =((G50-F50)+(G51-F51)) -> 0 | J50: =IF(OR(C50="SiA",C50="SeA",C50="Si",C50="Ast",C50="For"),1,"") | K50: =IF(OR(C50="Cp"),1,"") | O50: =IF(OR(C50="SiA",C50="SeA",C50="Si"),1,"") | R50: =((Q50-P50)-(Q51-P51)) -> 0 | V50: =IF(OR(C50="SiA",C50="SeA",C50="Si",C50="Ast"),1,"")
D51: S
B52: =DATE(Calendrier!$A$1,_xlfn.SHEET()-1,(ROW()/2)-1) -> 43702 | D52: M | E52: =IF(C52="","",IF(OR(C52="Cp",C52="AM",C52="Re",C52="Fe"),"",1)) | H52: =((G52-F52)+(G53-F53)) -> 0 | J52: =IF(OR(C52="SiA",C52="SeA",C52="Si",C52="Ast",C52="For"),1,"") | K52: =IF(OR(C52="Cp"),1,"") | O52: =IF(OR(C52="SiA",C52="SeA",C52="Si"),1,"") | R52: =((Q52-P52)-(Q53-P53)) -> 0 | V52: =IF(OR(C52="SiA",C52="SeA",C52="Si",C52="Ast"),1,"")
D53: S
A54: S 35 | B54: =DATE(Calendrier!$A$1,_xlfn.SHEET()-1,(ROW()/2)-1) -> 43703 | D54: M | E54: =IF(C54="","",IF(OR(C54="Cp",C54="AM",C54="Re",C54="Fe"),"",1)) | H54: =((G54-F54)+(G55-F55)) -> 0 | J54: =IF(OR(C54="SiA",C54="SeA",C54="Si",C54="Ast",C54="For"),1,"") | K54: =IF(OR(C54="Cp"),1,"") | O54: =IF(OR(C54="SiA",C54="SeA",C54="Si"),1,"") | R54: =((Q54-P54)-(Q55-P55)) -> 0 | V54: =IF(OR(C54="SiA",C54="SeA",C54="Si",C54="Ast"),1,"")
D55: S
A56: =SUM(H54:H65,R54:R65)+SUM(Sept!H4,Sept!R4) -> 0 | B56: =DATE(Calendrier!$A$1,_xlfn.SHEET()-1,(ROW()/2)-1) -> 43704 | D56: M | E56: =IF(C56="","",IF(OR(C56="Cp",C56="AM",C56="Re",C56="Fe"),"",1)) | H56: =((G56-F56)+(G57-F57)) -> 0 | J56: =IF(OR(C56="SiA",C56="SeA",C56="Si",C56="Ast",C56="For"),1,"") | K56: =IF(OR(C56="Cp"),1,"") | O56: =IF(OR(C56="SiA",C56="SeA",C56="Si"),1,"") | R56: =((Q56-P56)-(Q57-P57)) -> 0 | V56: =IF(OR(C56="SiA",C56="SeA",C56="Si",C56="Ast"),1,"")
D57: S
B58: =DATE(Calendrier!$A$1,_xlfn.SHEET()-1,(ROW()/2)-1) -> 43705 | D58: M | E58: =IF(C58="","",IF(OR(C58="Cp",C58="AM",C58="Re",C58="Fe"),"",1)) | H58: =((G58-F58)+(G59-F59)) -> 0 | J58: =IF(OR(C58="SiA",C58="SeA",C58="Si",C58="Ast",C58="For"),1,"") | K58: =IF(OR(C58="Cp"),1,"") | O58: =IF(OR(C58="SiA",C58="SeA",C58="Si"),1,"") | R58: =((Q58-P58)-(Q59-P59)) -> 0 | V58: =IF(OR(C58="SiA",C58="SeA",C58="Si",C58="Ast"),1,"")
D59: S
B60: =DATE(Calendrier!$A$1,_xlfn.SHEET()-1,(ROW()/2)-1) -> 43706 | D60: M | E60: =IF(C60="","",IF(OR(C60="Cp",C60="AM",C60="Re",C60="Fe"),"",1)) | H60: =((G60-F60)+(G61-F61)) -> 0 | J60: =IF(OR(C60="SiA",C60="SeA",C60="Si",C60="Ast",C60="For"),1,"") | K60: =IF(OR(C60="Cp"),1,"") | O60: =IF(OR(C60="SiA",C60="SeA",C60="Si"),1,"") | R60: =((Q60-P60)-(Q61-P61)) -> 0 | V60: =IF(OR(C60="SiA",C60="SeA",C60="Si",C60="Ast"),1,"")
D61: S
B62: =DATE(Calendrier!$A$1,_xlfn.SHEET()-1,(ROW()/2)-1) -> 43707 | D62: M | E62: =IF(C62="","",IF(OR(C62="Cp",C62="AM",C62="Re",C62="Fe"),"",1)) | H62: =((G62-F62)+(G63-F63)) -> 0 | J62: =IF(OR(C62="SiA",C62="SeA",C62="Si",C62="Ast",C62="For"),1,"") | K62: =IF(OR(C62="Cp"),1,"") | O62: =IF(OR(C62="SiA",C62="SeA",C62="Si"),1,"") | R62: =((Q62-P62)-(Q63-P63)) -> 0 | V62: =IF(OR(C62="SiA",C62="SeA"),1,"")
D63: S
B64: =DATE(Calendrier!$A$1,_xlfn.SHEET()-1,(ROW()/2)-1) -> 43708 | D64: M | E64: =IF(C64="","",IF(OR(C64="Cp",C64="AM",C64="Re",C64="Fe"),"",1)) | H64: =((G64-F64)+(G65-F65)) -> 0 | J64: =IF(OR(C64="SiA",C64="SeA",C64="Si",C64="Ast",C64="For"),1,"") | K64: =IF(OR(C64="Cp"),1,"") | O64: =IF(OR(C64="SiA",C64="SeA",C64="Si"),1,"") | R64: =((Q64-P64)-(Q65-P65)) -> 0 | V64: =IF(OR(C64="SiA",C64="SeA"),1,"")
D65: S
B66: TOTAUX | E66: =SUM(E4:E65) -> 0 | F66: =SUM(H4:H65) -> 0 | I66: =SUM(I4:I65) -> 0 | J66: =SUM(J4:J65) -> 0 | K66: =SUM(K4:K65) -> 0 | N66: TOTAUX | O66: =SUM(O4:O65) -> 0 | R66: =SUM(R4:R65) -> 0 | S66: =SUM(S4:S65) -> 0 | T66: =SUM(T4:T65) -> 0 | U66: =SUM(U4:U65) -> 0 | V66: =SUM(V4:V65) -> 0 | W66: =SUM(W4:W65) -> 0

Sheet Sept
B3: DATE | C3: SERV | E3: J | F3: HA | G3: HD | I3: K | J3: Ser | K3: CP | L3: MOTIF DU DEPLACEMENT | O3: Panniers | P3: HSD | Q3: HSF | R3: H.Sup | S3: Maj Nuit | T3: Maj Dim. | U3: Maj J.Fé. | V3: Astreinte | W3: SSLIA
B4: =DATE(Calendrier!$A$1,_xlfn.SHEET()-1,(ROW()/2)-1) -> 43709 | D4: M | E4: =IF(C4="","",IF(OR(C4="Cp",C4="AM",C4="Re",C4="Fe"),"",1)) | H4: =((G4-F4)+(G5-F5)) -> 0 | J4: =IF(OR(C4="SiA",C4="SeA",C4="Si",C4="Ast",C4="For"),1,"") | K4: =IF(OR(C4="Cp"),1,"") | O4: =IF(OR(C4="SiA",C4="SeA",C4="Si"),1,"") | R4: =((Q4-P4)-(Q5-P5)) -> 0 | V4: =IF(OR(C4="SiA",C4="SeA",C4="Ast"),1,"")
D5: S
A6: S 36 | B6: =DATE(Calendrier!$A$1,_xlfn.SHEET()-1,(ROW()/2)-1) -> 43710 | D6: M | E6: =IF(C6="","",IF(OR(C6="Cp",C6="AM",C6="Re",C6="Fe"),"",1)) | H6: =((G6-F6)+(G7-F7)) -> 0 | J6: =IF(OR(C6="SiA",C6="SeA",C6="Si",C6="Ast",C6="For"),1,"") | K6: =IF(OR(C6="Cp"),1,"") | O6: =IF(OR(C6="SiA",C6="SeA",C6="Si"),1,"") | R6: =((Q6-P6)-(Q7-P7)) -> 0 | V6: =IF(OR(C6="SiA",C6="SeA",C6="Si",C6="Ast"),1,"")
D7: S
A8: =SUM(H6:H19,R6:R19) -> 0 | B8: =DATE(Calendrier!$A$1,_xlfn.SHEET()-1,(ROW()/2)-1) -> 43711 | D8: M | E8: =IF(C8="","",IF(OR(C8="Cp",C8="AM",C8="Re",C8="Fe"),"",1)) | H8: =((G8-F8)+(G9-F9)) -> 0 | J8: =IF(OR(C8="SiA",C8="SeA",C8="Si",C8="Ast",C8="For"),1,"") | K8: =IF(OR(C8="Cp"),1,"") | O8: =IF(OR(C8="SiA",C8="SeA",C8="Si"),1,"") | R8: =((Q8-P8)-(Q9-P9)) -> 0 | V8: =IF(OR(C8="SiA",C8="SeA",C8="Si",C8="Ast"),1,"")
D9: S
B10: =DATE(Calendrier!$A$1,_xlfn.SHEET()-1,(ROW()/2)-1) -> 43712 | D10: M | E10: =IF(C10="","",IF(OR(C10="Cp",C10="AM",C10="Re",C10="Fe"),"",1)) | H10: =((G10-F10)+(G11-F11)) -> 0 | J10: =IF(OR(C10="SiA",C10="SeA",C10="Si",C10="Ast",C10="For"),1,"") | K10: =IF(OR(C10="Cp"),1,"") | O10: =IF(OR(C10="SiA",C10="SeA",C10="Si"),1,"") | R10: =((Q10-P10)-(Q11-P11)) -> 0 | V10: =IF(OR(C10="SiA",C10="SeA",C10="Si",C10="Ast"),1,"")
D11: S
B12: =DATE(Calendrier!$A$1,_xlfn.SHEET()-1,(ROW()/2)-1) -> 43713 | D12: M | E12: =IF(C12="","",IF(OR(C12="Cp",C12="AM",C12="Re",C12="Fe"),"",1)) | H12: =((G12-F12)+(G13-F13)) -> 0 | J12: =IF(OR(C12="SiA",C12="SeA",C12="Si",C12="Ast",C12="For"),1,"") | K12: =IF(OR(C12="Cp"),1,"") | O12: =IF(OR(C12="SiA",C12="SeA",C12="Si"),1,"") | R12: =((Q12-P12)-(Q13-P13)) -> 0 | V12: =IF(OR(C12="SiA",C12="SeA",C12="Si",C12="Ast"),1,"")
D13: S
B14: =DATE(Calendrier!$A$1,_xlfn.SHEET()-1,(ROW()/2)-1) -> 43714 | D14: M | E14: =IF(C14="","",IF(OR(C14="Cp",C14="AM",C14="Re",C14="Fe"),"",1)) | H14: =((G14-F14)+(G15-F15)) -> 0 | J14: =IF(OR(C14="SiA",C14="SeA",C14="Si",C14="Ast",C14="For"),1,"") | K14: =IF(OR(C14="Cp"),1,"") | O14: =IF(OR(C14="SiA",C14="SeA",C14="Si"),1,"") | R14: =((Q14-P14)-(Q15-P15)) -> 0 | V14: =IF(OR(C14="SiA",C14="SeA",C14="Si",C14="Ast"),1,"")
D15: S
B16: =DATE(Calendrier!$A$1,_xlfn.SHEET()-1,(ROW()/2)-1) -> 43715 | D16: M | E16: =IF(C16="","",IF(OR(C16="Cp",C16="AM",C16="Re",C16="Fe"),"",1)) | H16: =((G16-F16)+(G17-F17)) -> 0 | J16: =IF(OR(C16="SiA",C16="SeA",C16="Si",C16="Ast",C16="For"),1,"") | K16: =IF(OR(C16="Cp"),1,"") | O16: =IF(OR(C16="SiA",C16="SeA",C16="Si"),1,"") | R16: =((Q16-P16)-(Q17-P17)) -> 0 | V16: =IF(OR(C16="SiA",C16="SeA",C16="Si",C16="Ast"),1,"")
D17: S
B18: =DATE(Calendrier!$A$1,_xlfn.SHEET()-1,(ROW()/2)-1) -> 43716 | D18: M | E18: =IF(C18="","",IF(OR(C18="Cp",C18="AM",C18="Re",C18="Fe"),"",1)) | H18: =((G18-F18)+(G19-F19)) -> 0 | J18: =IF(OR(C18="SiA",C18="SeA",C18="Si",C18="Ast",C18="For"),1,"") | K18: =IF(OR(C18="Cp"),1,"") | O18: =IF(OR(C18="SiA",C18="SeA",C18="Si"),1,"") | R18: =((Q18-P18)-(Q19-P19)) -> 0 | V18: =IF(OR(C18="SiA",C18="SeA",C18="Si",C18="Ast"),1,"")
D19: S
A20: S 37 | B20: =DATE(Calendrier!$A$1,_xlfn.SHEET()-1,(ROW()/2)-1) -> 43717 | D20: M | E20: =IF(C20="","",IF(OR(C20="Cp",C20="AM",C20="Re",C20="Fe"),"",1)) | H20: =((G20-F20)+(G21-F21)) -> 0 | J20: =IF(OR(C20="SiA",C20="SeA",C20="Si",C20="Ast",C20="For"),1,"") | K20: =IF(OR(C20="Cp"),1,"") | O20: =IF(OR(C20="SiA",C20="SeA",C20="Si"),1,"") | R20: =((Q20-P20)-(Q21-P21)) -> 0 | V20: =IF(OR(C20="SiA",C20="SeA",C20="Si",C20="Ast"),1,"")
D21: S
A22: =SUM(H20:H33,R20:R33) -> 0 | B22: =DATE(Calendrier!$A$1,_xlfn.SHEET()-1,(ROW()/2)-1) -> 43718 | D22: M | E22: =IF(C22="","",IF(OR(C22="Cp",C22="AM",C22="Re",C22="Fe"),"",1)) | H22: =((G22-F22)+(G23-F23)) -> 0 | J22: =IF(OR(C22="SiA",C22="SeA",C22="Si",C22="Ast",C22="For"),1,"") | K22: =IF(OR(C22="Cp"),1,"") | O22: =IF(OR(C22="SiA",C22="SeA",C22="Si"),1,"") | R22: =((Q22-P22)-(Q23-P23)) -> 0 | V22: =IF(OR(C22="SiA",C22="SeA",C22="Si",C22="Ast"),1,"")
D23: S
B24: =DATE(Calendrier!$A$1,_xlfn.SHEET()-1,(ROW()/2)-1) -> 43719 | D24: M | E24: =IF(C24="","",IF(OR(C24="Cp",C24="AM",C24="Re",C24="Fe"),"",1)) | H24: =((G24-F24)+(G25-F25)) -> 0 | J24: =IF(OR(C24="SiA",C24="SeA",C24="Si",C24="Ast",C24="For"),1,"") | K24: =IF(OR(C24="Cp"),1,"") | O24: =IF(OR(C24="SiA",C24="SeA",C24="Si"),1,"") | R24: =((Q24-P24)-(Q25-P25)) -> 0 | V24: =IF(OR(C24="SiA",C24="SeA",C24="Si",C24="Ast"),1,"")
D25: S
B26: =DATE(Calendrier!$A$1,_xlfn.SHEET()-1,(ROW()/2)-1) -> 43720 | D26: M | E26: =IF(C26="","",IF(OR(C26="Cp",C26="AM",C26="Re",C26="Fe"),"",1)) | H26: =((G26-F26)+(G27-F27)) -> 0 | J26: =IF(OR(C26="SiA",C26="SeA",C26="Si",C26="Ast",C26="For"),1,"") | K26: =IF(OR(C26="Cp"),1,"") | O26: =IF(OR(C26="SiA",C26="SeA",C26="Si"),1,"") | R26: =((Q26-P26)-(Q27-P27)) -> 0 | V26: =IF(OR(C26="SiA",C26="SeA",C26="Si",C26="Ast"),1,"")
D27: S
B28: =DATE(Calendrier!$A$1,_xlfn.SHEET()-1,(ROW()/2)-1) -> 43721 | D28: M | E28: =IF(C28="","",IF(OR(C28="Cp",C28="AM",C28="Re",C28="Fe"),"",1)) | H28: =((G28-F28)+(G29-F29)) -> 0 | J28: =IF(OR(C28="SiA",C28="SeA",C28="Si",C28="Ast",C28="For"),1,"") | K28: =IF(OR(C28="Cp"),1,"") | O28: =IF(OR(C28="SiA",C28="SeA",C28="Si"),1,"") | R28: =((Q28-P28)-(Q29-P29)) -> 0 | V28: =IF(OR(C28="SiA",C28="SeA",C28="Si",C28="Ast"),1,"")
D29: S
B30: =DATE(Calendrier!$A$1,_xlfn.SHEET()-1,(ROW()/2)-1) -> 43722 | D30: M | E30: =IF(C30="","",IF(OR(C30="Cp",C30="AM",C30="Re",C30="Fe"),"",1)) | H30: =((G30-F30)+(G31-F31)) -> 0 | J30: =IF(OR(C30="SiA",C30="SeA",C30="Si",C30="Ast",C30="For"),1,"") | K30: =IF(OR(C30="Cp"),1,"") | O30: =IF(OR(C30="SiA",C30="SeA",C30="Si"),1,"") | R30: =((Q30-P30)-(Q31-P31)) -> 0 | V30: =IF(OR(C30="SiA",C30="SeA",C30="Si",C30="Ast"),1,"")
D31: S
B32: =DATE(Calendrier!$A$1,_xlfn.SHEET()-1,(ROW()/2)-1) -> 43723 | D32: M | E32: =IF(C32="","",IF(OR(C32="Cp",C32="AM",C32="Re",C32="Fe"),"",1)) | H32: =((G32-F32)+(G33-F33)) -> 0 | J32: =IF(OR(C32="SiA",C32="SeA",C32="Si",C32="Ast",C32="For"),1,"") | K32: =IF(OR(C32="Cp"),1,"") | O32: =IF(OR(C32="SiA",C32="SeA",C32="Si"),1,"") | R32: =((Q32-P32)-(Q33-P33)) -> 0 | V32: =IF(OR(C32="SiA",C32="SeA",C32="Si",C32="Ast"),1,"")
D33: S
A34: S 38 | B34: =DATE(Calendrier!$A$1,_xlfn.SHEET()-1,(ROW()/2)-1) -> 43724 | D34: M | E34: =IF(C34="","",IF(OR(C34="Cp",C34="AM",C34="Re",C34="Fe"),"",1)) | H34: =((G34-F34)+(G35-F35)) -> 0 | J34: =IF(OR(C34="SiA",C34="SeA",C34="Si",C34="Ast",C34="For"),1,"") | K34: =IF(OR(C34="Cp"),1,"") | O34: =IF(OR(C34="SiA",C34="SeA",C34="Si"),1,"") | R34: =((Q34-P34)-(Q35-P35)) -> 0 | V34: =IF(OR(C34="SiA",C34="SeA",C34="Si",C34="Ast"),1,"")
D35: S
A36: =SUM(H34:H47,R34:R47) -> 0 | B36: =DATE(Calendrier!$A$1,_xlfn.SHEET()-1,(ROW()/2)-1) -> 43725 | D36: M | E36: =IF(C36="","",IF(OR(C36="Cp",C36="AM",C36="Re",C36="Fe"),"",1)) | H36: =((G36-F36)+(G37-F37)) -> 0 | J36: =IF(OR(C36="SiA",C36="SeA",C36="Si",C36="Ast",C36="For"),1,"") | K36: =IF(OR(C36="Cp"),1,"") | O36: =IF(OR(C36="SiA",C36="SeA",C36="Si"),1,"") | R36: =((Q36-P36)-(Q37-P37)) -> 0 | V36: =IF(OR(C36="SiA",C36="SeA",C36="Si",C36="Ast"),1,"")
D37: S
B38: =DATE(Calendrier!$A$1,_xlfn.SHEET()-1,(ROW()/2)-1) -> 43726 | D38: M | E38: =IF(C38="","",IF(OR(C38="Cp",C38="AM",C38="Re",C38="Fe"),"",1)) | H38: =((G38-F38)+(G39-F39)) -> 0 | J38: =IF(OR(C38="SiA",C38="SeA",C38="Si",C38="Ast",C38="For"),1,"") | O38: =IF(OR(C38="SiA",C38="SeA",C38="Si"),1,"") | R38: =((Q38-P38)-(Q39-P39)) -> 0 | V38: =IF(OR(C38="SiA",C38="SeA",C38="Si",C38="Ast"),1,"")
D39: S
B40: =DATE(Calendrier!$A$1,_xlfn.SHEET()-1,(ROW()/2)-1) -> 43727 | D40: M | E40: =IF(C40="","",IF(OR(C40="Cp",C40="AM",C40="Re",C40="Fe"),"",1)) | H40: =((G40-F40)+(G41-F41)) -> 0 | J40: =IF(OR(C40="SiA",C40="SeA",C40="Si",C40="Ast",C40="For"),1,"") | K40: =IF(OR(C40="Cp"),1,"") | O40: =IF(OR(C40="SiA",C40="SeA",C40="Si"),1,"") | R40: =((Q40-P40)-(Q41-P41)) -> 0 | V40: =IF(OR(C40="SiA",C40="SeA",C40="Si",C40="Ast"),1,"")
D41: S
B42: =DATE(Calendrier!$A$1,_xlfn.SHEET()-1,(ROW()/2)-1) -> 43728 | D42: M | E42: =IF(C42="","",IF(OR(C42="Cp",C42="AM",C42="Re",C42="Fe"),"",1)) | H42: =((G42-F42)+(G43-F43)) -> 0 | J42: =IF(OR(C42="SiA",C42="SeA",C42="Si",C42="Ast",C42="For"),1,"") | K42: =IF(OR(C42="Cp"),1,"") | O42: =IF(OR(C42="SiA",C42="SeA",C42="Si"),1,"") | R42: =((Q42-P42)-(Q43-P43)) -> 0 | V42: =IF(OR(C42="SiA",C42="SeA",C42="Si",C42="Ast"),1,"")
D43: S
B44: =DATE(Calendrier!$A$1,_xlfn.SHEET()-1,(ROW()/2)-1) -> 43729 | D44: M | E44: =IF(C44="","",IF(OR(C44="Cp",C44="AM",C44="Re",C44="Fe"),"",1)) | H44: =((G44-F44)+(G45-F45)) -> 0 | J44: =IF(OR(C44="SiA",C44="SeA",C44="Si",C44="Ast",C44="For"),1,"") | K44: =IF(OR(C44="Cp"),1,"") | O44: =IF(OR(C44="SiA",C44="SeA",C44="Si"),1,"") | R44: =((Q44-P44)-(Q45-P45)) -> 0 | V44: =IF(OR(C44="SiA",C44="SeA",C44="Si",C44="Ast"),1,"")
D45: S
B46: =DATE(Calendrier!$A$1,_xlfn.SHEET()-1,(ROW()/2)-1) -> 43730 | D46: M | E46: =IF(C46="","",IF(OR(C46="Cp",C46="AM",C46="Re",C46="Fe"),"",1)) | H46: =((G46-F46)+(G47-F47)) -> 0 | J46: =IF(OR(C46="SiA",C46="SeA",C46="Si",C46="Ast",C46="For"),1,"") | K46: =IF(OR(C46="Cp"),1,"") | O46: =IF(OR(C46="SiA",C46="SeA",C46="Si"),1,"") | R46: =((Q46-P46)-(Q47-P47)) -> 0 | V46: =IF(OR(C46="SiA",C46="SeA",C46="Si",C46="Ast"),1,"")
D47: S
A48: S 39 | B48: =DATE(Calendrier!$A$1,_xlfn.SHEET()-1,(ROW()/2)-1) -> 43731 | D48: M | E48: =IF(C48="","",IF(OR(C48="Cp",C48="AM",C48="Re",C48="Fe"),"",1)) | H48: =((G48-F48)+(G49-F49)) -> 0 | J48: =IF(OR(C48="SiA",C48="SeA",C48="Si",C48="Ast",C48="For"),1,"") | K48: =IF(OR(C48="Cp"),1,"") | O48: =IF(OR(C48="SiA",C48="SeA",C48="Si"),1,"") | R48: =((Q48-P48)-(Q49-P49)) -> 0 | V48: =IF(OR(C48="SiA",C48="SeA",C48="Si",C48="Ast"),1,"")
D49: S
A50: =SUM(H48:H61,R48:R61) -> 0 | B50: =DATE(Calendrier!$A$1,_xlfn.SHEET()-1,(ROW()/2)-1) -> 43732 | D50: M | E50: =IF(C50="","",IF(OR(C50="Cp",C50="AM",C50="Re",C50="Fe"),"",1)) | H50: =((G50-F50)+(G51-F51)) -> 0 | J50: =IF(OR(C50="SiA",C50="SeA",C50="Si",C50="Ast",C50="For"),1,"") | K50: =IF(OR(C50="Cp"),1,"") | O50: =IF(OR(C50="SiA",C50="SeA",C50="Si"),1,"") | R50: =((Q50-P50)-(Q51-P51)) -> 0 | V50: =IF(OR(C50="SiA",C50="SeA",C50="Si",C50="Ast"),1,"")
D51: S
B52: =DATE(Calendrier!$A$1,_xlfn.SHEET()-1,(ROW()/2)-1) -> 43733 | D52: M | E52: =IF(C52="","",IF(OR(C52="Cp",C52="AM",C52="Re",C52="Fe"),"",1)) | H52: =((G52-F52)+(G53-F53)) -> 0 | J52: =IF(OR(C52="SiA",C52="SeA",C52="Si",C52="Ast",C52="For"),1,"") | K52: =IF(OR(C52="Cp"),1,"") | O52: =IF(OR(C52="SiA",C52="SeA",C52="Si"),1,"") | R52: =((Q52-P52)-(Q53-P53)) -> 0 | V52: =IF(OR(C52="SiA",C52="SeA",C52="Si",C52="Ast"),1,"")
D53: S
B54: =DATE(Calendrier!$A$1,_xlfn.SHEET()-1,(ROW()/2)-1) -> 43734 | D54: M | E54: =IF(C54="","",IF(OR(C54="Cp",C54="AM",C54="Re",C54="Fe"),"",1)) | H54: =((G54-F54)+(G55-F55)) -> 0 | J54: =IF(OR(C54="SiA",C54="SeA",C54="Si",C54="Ast",C54="For"),1,"") | K54: =IF(OR(C54="Cp"),1,"") | O54: =IF(OR(C54="SiA",C54="SeA",C54="Si"),1,"") | R54: =((Q54-P54)-(Q55-P55)) -> 0 | V54: =IF(OR(C54="SiA",C54="SeA",C54="Si",C54="Ast"),1,"")
D55: S
B56: =DATE(Calendrier!$A$1,_xlfn.SHEET()-1,(ROW()/2)-1) -> 43735 | D56: M | E56: =IF(C56="","",IF(OR(C56="Cp",C56="AM",C56="Re",C56="Fe"),"",1)) | H56: =((G56-F56)+(G57-F57)) -> 0 | J56: =IF(OR(C56="SiA",C56="SeA",C56="Si",C56="Ast",C56="For"),1,"") | K56: =IF(OR(C56="Cp"),1,"") | O56: =IF(OR(C56="SiA",C56="SeA",C56="Si"),1,"") | R56: =((Q56-P56)-(Q57-P57)) -> 0 | V56: =IF(OR(C56="SiA",C56="SeA",C56="Si",C56="Ast"),1,"")
D57: S
B58: =DATE(Calendrier!$A$1,_xlfn.SHEET()-1,(ROW()/2)-1) -> 43736 | D58: M | E58: =IF(C58="","",IF(OR(C58="Cp",C58="AM",C58="Re",C58="Fe"),"",1)) | H58: =((G58-F58)+(G59-F59)) -> 0 | J58: =IF(OR(C58="SiA",C58="SeA",C58="Si",C58="Ast",C58="For"),1,"") | K58: =IF(OR(C58="Cp"),1,"") | O58: =IF(OR(C58="SiA",C58="SeA",C58="Si"),1,"") | R58: =((Q58-P58)-(Q59-P59)) -> 0 | V58: =IF(OR(C58="SiA",C58="SeA",C58="Si",C58="Ast"),1,"")
D59: S
B60: =DATE(Calendrier!$A$1,_xlfn.SHEET()-1,(ROW()/2)-1) -> 43737 | D60: M | E60: =IF(C60="","",IF(OR(C60="Cp",C60="AM",C60="Re",C60="Fe"),"",1)) | H60: =((G60-F60)+(G61-F61)) -> 0 | J60: =IF(OR(C60="SiA",C60="SeA",C60="Si",C60="Ast",C60="For"),1,"") | K60: =IF(OR(C60="Cp"),1,"") | O60: =IF(OR(C60="SiA",C60="SeA",C60="Si"),1,"") | R60: =((Q60-P60)-(Q61-P61)) -> 0 | V60: =IF(OR(C60="SiA",C60="SeA",C60="Si",C60="Ast"),1,"")
D61: S
B62: =DATE(Calendrier!$A$1,_xlfn.SHEET()-1,(ROW()/2)-1) -> 43738 | D62: M | E62: =IF(C62="","",IF(OR(C62="Cp",C62="AM",C62="Re",C62="Fe"),"",1)) | H62: =((G62-F62)+(G63-F63)) -> 0 | J62: =IF(OR(C62="SiA",C62="SeA",C62="Si",C62="Ast",C62="For"),1,"") | K62: =IF(OR(C62="Cp"),1,"") | O62: =IF(OR(C62="SiA",C62="SeA",C62="Si"),1,"") | R62: =((Q62-P62)-(Q63-P63)) -> 0 | V62: =IF(OR(C62="SiA",C62="SeA",C62="Si",C62="Ast"),1,"")
D63: S
B64: TOTAUX | E64: =SUM(E4:E63) -> 0 | F64: =SUM(H4:H63) -> 0 | I64: =SUM(I4:I63) -> 0 | J64: =SUM(J4:J63) -> 0 | K64: =SUM(K4:K63) -> 0 | N64: TOTAUX | O64: =SUM(O4:O63) -> 0 | R64: =SUM(R4:R30) -> 0 | S64: =SUM(S4:S63) -> 0 | T64: =SUM(T4:T63) -> 0 | U64: =SUM(U4:U63) -> 0 | V64: =SUM(V4:V63) -> 0 | W64: =SUM(W4:W63) -> 0

Sheet Oct
A3: S 40 | B3: DATE | C3: SERV | E3: J | F3: HA | G3: HD | I3: K | J3: Ser | K3: CP | L3: MOTIF DU DEPLACEMENT | O3: Panniers | P3: HSD | Q3: HSF | R3: H.Sup | S3: Maj Nuit | T3: Maj Dim. | U3: Maj J.Fé. | V3: Astreinte | W3: SSLIA
B4: =DATE(Calendrier!$A$1,_xlfn.SHEET()-1,(ROW()/2)-1) -> 43739 | D4: M | E4: =IF(C4="","",IF(OR(C4="Cp",C4="AM",C4="Re",C4="Fe"),"",1)) | H4: =((G4-F4)+(G5-F5)) -> 0 | J4: =IF(OR(C4="SiA",C4="SeA",C4="Si",C4="Ast",C4="For"),1,"") | K4: =IF(OR(C4="Cp"),1,"") | O4: =IF(OR(C4="SiA",C4="SeA",C4="Si"),1,"") | R4: =((Q4-P4)-(Q5-P5)) -> 0 | V4: =IF(OR(C4="SiA",C4="SeA",C4="Ast"),1,"")
A5: =SUM(H4:H15,R4:R15)+SUM(Sept!H62,Sept!R62) -> 0 | D5: S
B6: =DATE(Calendrier!$A$1,_xlfn.SHEET()-1,(ROW()/2)-1) -> 43740 | D6: M | E6: =IF(C6="","",IF(OR(C6="Cp",C6="AM",C6="Re",C6="Fe"),"",1)) | H6: =((G6-F6)+(G7-F7)) -> 0 | J6: =IF(OR(C6="SiA",C6="SeA",C6="Si",C6="Ast",C6="For"),1,"") | K6: =IF(OR(C6="Cp"),1,"") | O6: =IF(OR(C6="SiA",C6="SeA",C6="Si"),1,"") | R6: =((Q6-P6)-(Q7-P7)) -> 0 | V6: =IF(OR(C6="SiA",C6="SeA",C6="Si",C6="Ast"),1,"")
D7: S
B8: =DATE(Calendrier!$A$1,_xlfn.SHEET()-1,(ROW()/2)-1) -> 43741 | D8: M | E8: =IF(C8="","",IF(OR(C8="Cp",C8="AM",C8="Re",C8="Fe"),"",1)) | H8: =((G8-F8)+(G9-F9)) -> 0 | J8: =IF(OR(C8="SiA",C8="SeA",C8="Si",C8="Ast",C8="For"),1,"") | K8: =IF(OR(C8="Cp"),1,"") | O8: =IF(OR(C8="SiA",C8="SeA",C8="Si"),1,"") | R8: =((Q8-P8)-(Q9-P9)) -> 0 | V8: =IF(OR(C8="SiA",C8="SeA",C8="Si",C8="Ast"),1,"")
D9: S
B10: =DATE(Calendrier!$A$1,_xlfn.SHEET()-1,(ROW()/2)-1) -> 43742 | D10: M | E10: =IF(C10="","",IF(OR(C10="Cp",C10="AM",C10="Re",C10="Fe"),"",1)) | H10: =((G10-F10)+(G11-F11)) -> 0 | J10: =IF(OR(C10="SiA",C10="SeA",C10="Si",C10="Ast",C10="For"),1,"") | K10: =IF(OR(C10="Cp"),1,"") | O10: =IF(OR(C10="SiA",C10="SeA",C10="Si"),1,"") | R10: =((Q10-P10)-(Q11-P11)) -> 0 | V10: =IF(OR(C10="SiA",C10="SeA",C10="Si",C10="Ast"),1,"")
D11: S
B12: =DATE(Calendrier!$A$1,_xlfn.SHEET()-1,(ROW()/2)-1) -> 43743 | D12: M | E12: =IF(C12="","",IF(OR(C12="Cp",C12="AM",C12="Re",C12="Fe"),"",1)) | H12: =((G12-F12)+(G13-F13)) -> 0 | J12: =IF(OR(C12="SiA",C12="SeA",C12="Si",C12="Ast",C12="For"),1,"") | K12: =IF(OR(C12="Cp"),1,"") | O12: =IF(OR(C12="SiA",C12="SeA",C12="Si"),1,"") | R12: =((Q12-P12)-(Q13-P13)) -> 0 | V12: =IF(OR(C12="SiA",C12="SeA",C12="Si",C12="Ast"),1,"")
D13: S
B14: =DATE(Calendrier!$A$1,_xlfn.SHEET()-1,(ROW()/2)-1) -> 43744 | D14: M | E14: =IF(C14="","",IF(OR(C14="Cp",C14="AM",C14="Re",C14="Fe"),"",1)) | H14: =((G14-F14)+(G15-F15)) -> 0 | J14: =IF(OR(C14="SiA",C14="SeA",C14="Si",C14="Ast",C14="For"),1,"") | K14: =IF(OR(C14="Cp"),1,"") | O14: =IF(OR(C14="SiA",C14="SeA",C14="Si"),1,"") | R14: =((Q14-P14)-(Q15-P15)) -> 0 | V14: =IF(OR(C14="SiA",C14="SeA",C14="Si",C14="Ast"),1,"")
D15: S
A16: S 41 | B16: =DATE(Calendrier!$A$1,_xlfn.SHEET()-1,(ROW()/2)-1) -> 43745 | D16: M | E16: =IF(C16="","",IF(OR(C16="Cp",C16="AM",C16="Re",C16="Fe"),"",1)) | H16: =((G16-F16)+(G17-F17)) -> 0 | J16: =IF(OR(C16="SiA",C16="SeA",C16="Si",C16="Ast",C16="For"),1,"") | K16: =IF(OR(C16="Cp"),1,"") | O16: =IF(OR(C16="SiA",C16="SeA",C16="Si"),1,"") | R16: =((Q16-P16)-(Q17-P17)) -> 0 | V16: =IF(OR(C16="SiA",C16="SeA",C16="Si",C16="Ast"),1,"")
D17: S
A18: =SUM(H16:H29,R16:R29) -> 0 | B18: =DATE(Calendrier!$A$1,_xlfn.SHEET()-1,(ROW()/2)-1) -> 43746 | D18: M | E18: =IF(C18="","",IF(OR(C18="Cp",C18="AM",C18="Re",C18="Fe"),"",1)) | H18: =((G18-F18)+(G19-F19)) -> 0 | J18: =IF(OR(C18="SiA",C18="SeA",C18="Si",C18="Ast",C18="For"),1,"") | K18: =IF(OR(C18="Cp"),1,"") | O18: =IF(OR(C18="SiA",C18="SeA",C18="Si"),1,"") | R18: =((Q18-P18)-(Q19-P19)) -> 0 | V18: =IF(OR(C18="SiA",C18="SeA",C18="Si",C18="Ast"),1,"")
D19: S
B20: =DATE(Calendrier!$A$1,_xlfn.SHEET()-1,(ROW()/2)-1) -> 43747 | D20: M | E20: =IF(C20="","",IF(OR(C20="Cp",C20="AM",C20="Re",C20="Fe"),"",1)) | H20: =((G20-F20)+(G21-F21)) -> 0 | J20: =IF(OR(C20="SiA",C20="SeA",C20="Si",C20="Ast",C20="For"),1,"") | K20: =IF(OR(C20="Cp"),1,"") | O20: =IF(OR(C20="SiA",C20="SeA",C20="Si"),1,"") | R20: =((Q20-P20)-(Q21-P21)) -> 0 | V20: =IF(OR(C20="SiA",C20="SeA",C20="Si",C20="Ast"),1,"")
D21: S
B22: =DATE(Calendrier!$A$1,_xlfn.SHEET()-1,(ROW()/2)-1) -> 43748 | D22: M | E22: =IF(C22="","",IF(OR(C22="Cp",C22="AM",C22="Re",C22="Fe"),"",1)) | H22: =((G22-F22)+(G23-F23)) -> 0 | J22: =IF(OR(C22="SiA",C22="SeA",C22="Si",C22="Ast",C22="For"),1,"") | K22: =IF(OR(C22="Cp"),1,"") | O22: =IF(OR(C22="SiA",C22="SeA",C22="Si"),1,"") | R22: =((Q22-P22)-(Q23-P23)) -> 0 | V22: =IF(OR(C22="SiA",C22="SeA",C22="Si",C22="Ast"),1,"")
D23: S
B24: =DATE(Calendrier!$A$1,_xlfn.SHEET()-1,(ROW()/2)-1) -> 43749 | D24: M | E24: =IF(C24="","",IF(OR(C24="Cp",C24="AM",C24="Re",C24="Fe"),"",1)) | H24: =((G24-F24)+(G25-F25)) -> 0 | J24: =IF(OR(C24="SiA",C24="SeA",C24="Si",C24="Ast",C24="For"),1,"") | K24: =IF(OR(C24="Cp"),1,"") | O24: =IF(OR(C24="SiA",C24="SeA",C24="Si"),1,"") | R24: =((Q24-P24)-(Q25-P25)) -> 0 | V24: =IF(OR(C24="SiA",C24="SeA",C24="Si",C24="Ast"),1,"")
D25: S
B26: =DATE(Calendrier!$A$1,_xlfn.SHEET()-1,(ROW()/2)-1) -> 43750 | D26: M | E26: =IF(C26="","",IF(OR(C26="Cp",C26="AM",C26="Re",C26="Fe"),"",1)) | H26: =((G26-F26)+(G27-F27)) -> 0 | J26: =IF(OR(C26="SiA",C26="SeA",C26="Si",C26="Ast",C26="For"),1,"") | K26: =IF(OR(C26="Cp"),1,"") | O26: =IF(OR(C26="SiA",C26="SeA",C26="Si"),1,"") | R26: =((Q26-P26)-(Q27-P27)) -> 0 | V26: =IF(OR(C26="SiA",C26="SeA",C26="Si",C26="Ast"),1,"")
D27: S
B28: =DATE(Calendrier!$A$1,_xlfn.SHEET()-1,(ROW()/2)-1) -> 43751 | D28: M | E28: =IF(C28="","",IF(OR(C28="Cp",C28="AM",C28="Re",C28="Fe"),"",1)) | H28: =((G28-F28)+(G29-F29)) -> 0 | J28: =IF(OR(C28="SiA",C28="SeA",C28="Si",C28="Ast",C28="For"),1,"") | K28: =IF(OR(C28="Cp"),1,"") | O28: =IF(OR(C28="SiA",C28="SeA",C28="Si"),1,"") | R28: =((Q28-P28)-(Q29-P29)) -> 0 | V28: =IF(OR(C28="SiA",C28="SeA",C28="Si",C28="Ast"),1,"")
D29: S
A30: S 42 | B30: =DATE(Calendrier!$A$1,_xlfn.SHEET()-1,(ROW()/2)-1) -> 43752 | D30: M | E30: =IF(C30="","",IF(OR(C30="Cp",C30="AM",C30="Re",C30="Fe"),"",1)) | H30: =((G30-F30)+(G31-F31)) -> 0 | J30: =IF(OR(C30="SiA",C30="SeA",C30="Si",C30="Ast",C30="For"),1,"") | K30: =IF(OR(C30="Cp"),1,"") | O30: =IF(OR(C30="SiA",C30="SeA",C30="Si"),1,"") | R30: =((Q30-P30)-(Q31-P31)) -> 0 | V30: =IF(OR(C30="SiA",C30="SeA",C30="Si",C30="Ast"),1,"")
D31: S
A32: =SUM(H30:H43,O30:O43) -> 0 | B32: =DATE(Calendrier!$A$1,_xlfn.SHEET()-1,(ROW()/2)-1) -> 43753 | D32: M | E32: =IF(C32="","",IF(OR(C32="Cp",C32="AM",C32="Re",C32="Fe"),"",1)) | H32: =((G32-F32)+(G33-F33)) -> 0 | J32: =IF(OR(C32="SiA",C32="SeA",C32="Si",C32="Ast",C32="For"),1,"") | K32: =IF(OR(C32="Cp"),1,"") | O32: =IF(OR(C32="SiA",C32="SeA",C32="Si"),1,"") | R32: =((Q32-P32)-(Q33-P33)) -> 0 | V32: =IF(OR(C32="SiA",C32="SeA",C32="Si",C32="Ast"),1,"")
D33: S
B34: =DATE(Calendrier!$A$1,_xlfn.SHEET()-1,(ROW()/2)-1) -> 43754 | D34: M | E34: =IF(C34="","",IF(OR(C34="Cp",C34="AM",C34="Re",C34="Fe"),"",1)) | H34: =((G34-F34)+(G35-F35)) -> 0 | J34: =IF(OR(C34="SiA",C34="SeA",C34="Si",C34="Ast",C34="For"),1,"") | K34: =IF(OR(C34="Cp"),1,"") | O34: =IF(OR(C34="SiA",C34="SeA",C34="Si"),1,"") | R34: =((Q34-P34)-(Q35-P35)) -> 0 | V34: =IF(OR(C34="SiA",C34="SeA",C34="Si",C34="Ast"),1,"")
D35: S
B36: =DATE(Calendrier!$A$1,_xlfn.SHEET()-1,(ROW()/2)-1) -> 43755 | D36: M | E36: =IF(C36="","",IF(OR(C36="Cp",C36="AM",C36="Re",C36="Fe"),"",1)) | H36: =((G36-F36)+(G37-F37)) -> 0 | J36: =IF(OR(C36="SiA",C36="SeA",C36="Si",C36="Ast",C36="For"),1,"") | K36: =IF(OR(C36="Cp"),1,"") | O36: =IF(OR(C36="SiA",C36="SeA",C36="Si"),1,"") | R36: =((Q36-P36)-(Q37-P37)) -> 0 | V36: =IF(OR(C36="SiA",C36="SeA",C36="Si",C36="Ast"),1,"")
D37: S
B38: =DATE(Calendrier!$A$1,_xlfn.SHEET()-1,(ROW()/2)-1) -> 43756 | D38: M | E38: =IF(C38="","",IF(OR(C38="Cp",C38="AM",C38="Re",C38="Fe"),"",1)) | H38: =((G38-F38)+(G39-F39)) -> 0 | J38: =IF(OR(C38="SiA",C38="SeA",C38="Si",C38="Ast",C38="For"),1,"") | O38: =IF(OR(C38="SiA",C38="SeA",C38="Si"),1,"") | R38: =((Q38-P38)-(Q39-P39)) -> 0 | V38: =IF(OR(C38="SiA",C38="SeA",C38="Si",C38="Ast"),1,"")
D39: S
B40: =DATE(Calendrier!$A$1,_xlfn.SHEET()-1,(ROW()/2)-1) -> 43757 | D40: M | E40: =IF(C40="","",IF(OR(C40="Cp",C40="AM",C40="Re",C40="Fe"),"",1)) | H40: =((G40-F40)+(G41-F41)) -> 0 | J40: =IF(OR(C40="SiA",C40="SeA",C40="Si",C40="Ast",C40="For"),1,"") | K40: =IF(OR(C40="Cp"),1,"") | O40: =IF(OR(C40="SiA",C40="SeA",C40="Si"),1,"") | R40: =((Q40-P40)-(Q41-P41)) -> 0 | V40: =IF(OR(C40="SiA",C40="SeA",C40="Si",C40="Ast"),1,"")
D41: S
B42: =DATE(Calendrier!$A$1,_xlfn.SHEET()-1,(ROW()/2)-1) -> 43758 | D42: M | E42: =IF(C42="","",IF(OR(C42="Cp",C42="AM",C42="Re",C42="Fe"),"",1)) | H42: =((G42-F42)+(G43-F43)) -> 0 | J42: =IF(OR(C42="SiA",C42="SeA",C42="Si",C42="Ast",C42="For"),1,"") | K42: =IF(OR(C42="Cp"),1,"") | O42: =IF(OR(C42="SiA",C42="SeA",C42="Si"),1,"") | R42: =((Q42-P42)-(Q43-P43)) -> 0 | V42: =IF(OR(C42="SiA",C42="SeA",C42="Si",C42="Ast"),1,"")
D43: S
A44: S 43 | B44: =DATE(Calendrier!$A$1,_xlfn.SHEET()-1,(ROW()/2)-1) -> 43759 | D44: M | E44: =IF(C44="","",IF(OR(C44="Cp",C44="AM",C44="Re",C44="Fe"),"",1)) | H44: =((G44-F44)+(G45-F45)) -> 0 | J44: =IF(OR(C44="SiA",C44="SeA",C44="Si",C44="Ast",C44="For"),1,"") | K44: =IF(OR(C44="Cp"),1,"") | O44: =IF(OR(C44="SiA",C44="SeA",C44="Si"),1,"") | R44: =((Q44-P44)-(Q45-P45)) -> 0 | V44: =IF(OR(C44="SiA",C44="SeA",C44="Si",C44="Ast"),1,"")
D45: S
A46: =SUM(H44:H57,R44:R57) -> 0 | B46: =DATE(Calendrier!$A$1,_xlfn.SHEET()-1,(ROW()/2)-1) -> 43760 | D46: M | E46: =IF(C46="","",IF(OR(C46="Cp",C46="AM",C46="Re",C46="Fe"),"",1)) | H46: =((G46-F46)+(G47-F47)) -> 0 | J46: =IF(OR(C46="SiA",C46="SeA",C46="Si",C46="Ast",C46="For"),1,"") | K46: =IF(OR(C46="Cp"),1,"") | O46: =IF(OR(C46="SiA",C46="SeA",C46="Si"),1,"") | R46: =((Q46-P46)-(Q47-P47)) -> 0 | V46: =IF(OR(C46="SiA",C46="SeA",C46="Si",C46="Ast"),1,"")
D47: S
B48: =DATE(Calendrier!$A$1,_xlfn.SHEET()-1,(ROW()/2)-1) -> 43761 | D48: M | E48: =IF(C48="","",IF(OR(C48="Cp",C48="AM",C48="Re",C48="Fe"),"",1)) | H48: =((G48-F48)+(G49-F49)) -> 0 | J48: =IF(OR(C48="SiA",C48="SeA",C48="Si",C48="Ast",C48="For"),1,"") | K48: =IF(OR(C48="Cp"),1,"") | O48: =IF(OR(C48="SiA",C48="SeA",C48="Si"),1,"") | R48: =((Q48-P48)-(Q49-P49)) -> 0 | V48: =IF(OR(C48="SiA",C48="SeA",C48="Si",C48="Ast"),1,"")
D49: S
B50: =DATE(Calendrier!$A$1,_xlfn.SHEET()-1,(ROW()/2)-1) -> 43762 | D50: M | E50: =IF(C50="","",IF(OR(C50="Cp",C50="AM",C50="Re",C50="Fe"),"",1)) | H50: =((G50-F50)+(G51-F51)) -> 0 | J50: =IF(OR(C50="SiA",C50="SeA",C50="Si",C50="Ast",C50="For"),1,"") | K50: =IF(OR(C50="Cp"),1,"") | O50: =IF(OR(C50="SiA",C50="SeA",C50="Si"),1,"") | R50: =((Q50-P50)-(Q51-P51)) -> 0 | V50: =IF(OR(C50="SiA",C50="SeA",C50="Si",C50="Ast"),1,"")
D51: S
B52: =DATE(Calendrier!$A$1,_xlfn.SHEET()-1,(ROW()/2)-1) -> 43763 | D52: M | E52: =IF(C52="","",IF(OR(C52="Cp",C52="AM",C52="Re",C52="Fe"),"",1)) | H52: =((G52-F52)+(G53-F53)) -> 0 | J52: =IF(OR(C52="SiA",C52="SeA",C52="Si",C52="Ast",C52="For"),1,"") | K52: =IF(OR(C52="Cp"),1,"") | O52: =IF(OR(C52="SiA",C52="SeA",C52="Si"),1,"") | R52: =((Q52-P52)-(Q53-P53)) -> 0 | V52: =IF(OR(C52="SiA",C52="SeA",C52="Si",C52="Ast"),1,"")
D53: S
B54: =DATE(Calendrier!$A$1,_xlfn.SHEET()-1,(ROW()/2)-1) -> 43764 | D54: M | E54: =IF(C54="","",IF(OR(C54="Cp",C54="AM",C54="Re",C54="Fe"),"",1)) | H54: =((G54-F54)+(G55-F55)) -> 0 | J54: =IF(OR(C54="SiA",C54="SeA",C54="Si",C54="Ast",C54="For"),1,"") | K54: =IF(OR(C54="Cp"),1,"") | O54: =IF(OR(C54="SiA",C54="SeA",C54="Si"),1,"") | R54: =((Q54-P54)-(Q55-P55)) -> 0 | V54: =IF(OR(C54="SiA",C54="SeA",C54="Si",C54="Ast"),1,"")
D55: S
B56: =DATE(Calendrier!$A$1,_xlfn.SHEET()-1,(ROW()/2)-1) -> 43765 | D56: M | E56: =IF(C56="","",IF(OR(C56="Cp",C56="AM",C56="Re",C56="Fe"),"",1)) | H56: =((G56-F56)+(G57-F57)) -> 0 | J56: =IF(OR(C56="SiA",C56="SeA",C56="Si",C56="Ast",C56="For"),1,"") | K56: =IF(OR(C56="Cp"),1,"") | O56: =IF(OR(C56="SiA",C56="SeA",C56="Si"),1,"") | R56: =((Q56-P56)-(Q57-P57)) -> 0 | V56: =IF(OR(C56="SiA",C56="SeA",C56="Si",C56="Ast"),1,"")
D57: S
A58: S 44 | B58: =DATE(Calendrier!$A$1,_xlfn.SHEET()-1,(ROW()/2)-1) -> 43766 | D58: M | E58: =IF(C58="","",IF(OR(C58="Cp",C58="AM",C58="Re",C58="Fe"),"",1)) | H58: =((G58-F58)+(G59-F59)) -> 0 | J58: =IF(OR(C58="SiA",C58="SeA",C58="Si",C58="Ast",C58="For"),1,"") | K58: =IF(OR(C58="Cp"),1,"") | O58: =IF(OR(C58="SiA",C58="SeA",C58="Si"),1,"") | R58: =((Q58-P58)-(Q59-P59)) -> 0 | V58: =IF(OR(C58="SiA",C58="SeA",C58="Si",C58="Ast"),1,"")
D59: S
A60: =SUM(H58:H65,R58:R65) -> 0 | B60: =DATE(Calendrier!$A$1,_xlfn.SHEET()-1,(ROW()/2)-1) -> 43767 | D60: M | E60: =IF(C60="","",IF(OR(C60="Cp",C60="AM",C60="Re",C60="Fe"),"",1)) | H60: =((G60-F60)+(G61-F61)) -> 0 | J60: =IF(OR(C60="SiA",C60="SeA",C60="Si",C60="Ast",C60="For"),1,"") | K60: =IF(OR(C60="Cp"),1,"") | O60: =IF(OR(C60="SiA",C60="SeA",C60="Si"),1,"") | R60: =((Q60-P60)-(Q61-P61)) -> 0 | V60: =IF(OR(C60="SiA",C60="SeA",C60="Si",C60="Ast"),1,"")
D61: S
B62: =DATE(Calendrier!$A$1,_xlfn.SHEET()-1,(ROW()/2)-1) -> 43768 | D62: M | E62: =IF(C62="","",IF(OR(C62="Cp",C62="AM",C62="Re",C62="Fe"),"",1)) | H62: =((G62-F62)+(G63-F63)) -> 0 | J62: =IF(OR(C62="SiA",C62="SeA",C62="Si",C62="Ast",C62="For"),1,"") | K62: =IF(OR(C62="Cp"),1,"") | O62: =IF(OR(C62="SiA",C62="SeA",C62="Si"),1,"") | R62: =((Q62-P62)-(Q63-P63)) -> 0 | V62: =IF(OR(C62="SiA",C62="SeA",C62="Si",C62="Ast"),1,"")
D63: S
B64: =DATE(Calendrier!$A$1,_xlfn.SHEET()-1,(ROW()/2)-1) -> 43769 | D64: M | E64: =IF(C64="","",IF(OR(C64="Cp",C64="AM",C64="Re",C64="Fe"),"",1)) | H64: =((G64-F64)+(G65-F65)) -> 0 | J64: =IF(OR(C64="SiA",C64="SeA",C64="Si",C64="Ast",C64="For"),1,"") | K64: =IF(OR(C64="Cp"),1,"") | O64: =IF(OR(C64="SiA",C64="SeA",C64="Si"),1,"") | R64: =((Q64-P64)-(Q65-P65)) -> 0 | V64: =IF(OR(C64="SiA",C64="SeA",C64="Si",C64="Ast"),1,"")
D65: S
B66: TOTAUX | E66: =SUM(E4:E65) -> 0 | F66: =SUM(H4:H65) -> 0 | I66: =SUM(I4:I65) -> 0 | J66: =SUM(J4:J65) -> 0 | K66: =SUM(K4:K65) -> 0 | N66: TOTAUX | O66: =SUM(O4:O65) -> 0 | R66: =SUM(R4:R65) -> 0 | S66: =SUM(S4:S65) -> 0 | T66: =SUM(T4:T65) -> 0 | U66: =SUM(U4:U65) -> 0 | V66: =SUM(V4:V65) -> 0 | W66: =SUM(W4:W65) -> 0

Sheet Nov
A3: S 44 | B3: DATE | C3: SERV | E3: J | F3: HA | G3: HD | I3: K | J3: Ser | K3: CP | L3: MOTIF DU DEPLACEMENT | O3: Panniers | P3: HSD | Q3: HSF | R3: H.Sup | S3: Maj Nuit | T3: Maj Dim. | U3: Maj J.Fé. | V3: Astreinte | W3: SSLIA
B4: =DATE(Calendrier!$A$1,_xlfn.SHEET()-1,(ROW()/2)-1) -> 43770 | D4: M | E4: =IF(C4="","",IF(OR(C4="Cp",C4="AM",C4="Re",C4="Fe"),"",1)) | H4: =((G4-F4)+(G5-F5)) -> 0 | J4: =IF(OR(C4="SiA",C4="SeA",C4="Si",C4="Ast",C4="For"),1,"") | K4: =IF(OR(C4="Cp"),1,"") | O4: =IF(OR(C4="SiA",C4="SeA",C4="Si"),1,"") | R4: =((Q4-P4)-(Q5-P5)) -> 0 | V4: =IF(OR(C4="SiA",C4="SeA",C4="Ast"),1,"")
A5: =SUM(H4:H9,R4:R9)+Oct!A60 -> 0 | D5: S
B6: =DATE(Calendrier!$A$1,_xlfn.SHEET()-1,(ROW()/2)-1) -> 43771 | D6: M | E6: =IF(C6="","",IF(OR(C6="Cp",C6="AM",C6="Re",C6="Fe"),"",1)) | H6: =((G6-F6)+(G7-F7)) -> 0 | J6: =IF(OR(C6="SiA",C6="SeA",C6="Si",C6="Ast",C6="For"),1,"") | K6: =IF(OR(C6="Cp"),1,"") | O6: =IF(OR(C6="SiA",C6="SeA",C6="Si"),1,"") | R6: =((Q6-P6)-(Q7-P7)) -> 0 | V6: =IF(OR(C6="SiA",C6="SeA",C6="Si",C6="Ast"),1,"")
D7: S
B8: =DATE(Calendrier!$A$1,_xlfn.SHEET()-1,(ROW()/2)-1) -> 43772 | D8: M | E8: =IF(C8="","",IF(OR(C8="Cp",C8="AM",C8="Re",C8="Fe"),"",1)) | H8: =((G8-F8)+(G9-F9)) -> 0 | J8: =IF(OR(C8="SiA",C8="SeA",C8="Si",C8="Ast",C8="For"),1,"") | K8: =IF(OR(C8="Cp"),1,"") | O8: =IF(OR(C8="SiA",C8="SeA",C8="Si"),1,"") | R8: =((Q8-P8)-(Q9-P9)) -> 0 | V8: =IF(OR(C8="SiA",C8="SeA",C8="Si",C8="Ast"),1,"")
D9: S
A10: S 45 | B10: =DATE(Calendrier!$A$1,_xlfn.SHEET()-1,(ROW()/2)-1) -> 43773 | D10: M | E10: =IF(C10="","",IF(OR(C10="Cp",C10="AM",C10="Re",C10="Fe"),"",1)) | H10: =((G10-F10)+(G11-F11)) -> 0 | J10: =IF(OR(C10="SiA",C10="SeA",C10="Si",C10="Ast",C10="For"),1,"") | K10: =IF(OR(C10="Cp"),1,"") | O10: =IF(OR(C10="SiA",C10="SeA",C10="Si"),1,"") | R10: =((Q10-P10)-(Q11-P11)) -> 0 | V10: =IF(OR(C10="SiA",C10="SeA",C10="Si",C10="Ast"),1,"")
D11: S
A12: =SUM(H10:H23,R10:R23) -> 0 | B12: =DATE(Calendrier!$A$1,_xlfn.SHEET()-1,(ROW()/2)-1) -> 43774 | D12: M | E12: =IF(C12="","",IF(OR(C12="Cp",C12="AM",C12="Re",C12="Fe"),"",1)) | H12: =((G12-F12)+(G13-F13)) -> 0 | J12: =IF(OR(C12="SiA",C12="SeA",C12="Si",C12="Ast",C12="For"),1,"") | K12: =IF(OR(C12="Cp"),1,"") | O12: =IF(OR(C12="SiA",C12="SeA",C12="Si"),1,"") | R12: =((Q12-P12)-(Q13-P13)) -> 0 | V12: =IF(OR(C12="SiA",C12="SeA",C12="Si",C12="Ast"),1,"")
D13: S
B14: =DATE(Calendrier!$A$1,_xlfn.SHEET()-1,(ROW()/2)-1) -> 43775 | D14: M | E14: =IF(C14="","",IF(OR(C14="Cp",C14="AM",C14="Re",C14="Fe"),"",1)) | H14: =((G14-F14)+(G15-F15)) -> 0 | J14: =IF(OR(C14="SiA",C14="SeA",C14="Si",C14="Ast",C14="For"),1,"") | K14: =IF(OR(C14="Cp"),1,"") | O14: =IF(OR(C14="SiA",C14="SeA",C14="Si"),1,"") | R14: =((Q14-P14)-(Q15-P15)) -> 0 | V14: =IF(OR(C14="SiA",C14="SeA",C14="Si",C14="Ast"),1,"")
D15: S
B16: =DATE(Calendrier!$A$1,_xlfn.SHEET()-1,(ROW()/2)-1) -> 43776 | D16: M | E16: =IF(C16="","",IF(OR(C16="Cp",C16="AM",C16="Re",C16="Fe"),"",1)) | H16: =((G16-F16)+(G17-F17)) -> 0 | J16: =IF(OR(C16="SiA",C16="SeA",C16="Si",C16="Ast",C16="For"),1,"") | K16: =IF(OR(C16="Cp"),1,"") | O16: =IF(OR(C16="SiA",C16="SeA",C16="Si"),1,"") | R16: =((Q16-P16)-(Q17-P17)) -> 0 | V16: =IF(OR(C16="SiA",C16="SeA",C16="Si",C16="Ast"),1,"")
D17: S
B18: =DATE(Calendrier!$A$1,_xlfn.SHEET()-1,(ROW()/2)-1) -> 43777 | D18: M | E18: =IF(C18="","",IF(OR(C18="Cp",C18="AM",C18="Re",C18="Fe"),"",1)) | H18: =((G18-F18)+(G19-F19)) -> 0 | J18: =IF(OR(C18="SiA",C18="SeA",C18="Si",C18="Ast",C18="For"),1,"") | K18: =IF(OR(C18="Cp"),1,"") | O18: =IF(OR(C18="SiA",C18="SeA",C18="Si"),1,"") | R18: =((Q18-P18)-(Q19-P19)) -> 0 | V18: =IF(OR(C18="SiA",C18="SeA",C18="Si",C18="Ast"),1,"")
D19: S
B20: =DATE(Calendrier!$A$1,_xlfn.SHEET()-1,(ROW()/2)-1) -> 43778 | D20: M | E20: =IF(C20="","",IF(OR(C20="Cp",C20="AM",C20="Re",C20="Fe"),"",1)) | H20: =((G20-F20)+(G21-F21)) -> 0 | J20: =IF(OR(C20="SiA",C20="SeA",C20="Si",C20="Ast",C20="For"),1,"") | K20: =IF(OR(C20="Cp"),1,"") | O20: =IF(OR(C20="SiA",C20="SeA",C20="Si"),1,"") | R20: =((Q20-P20)-(Q21-P21)) -> 0 | V20: =IF(OR(C20="SiA",C20="SeA",C20="Si",C20="Ast"),1,"")
D21: S
B22: =DATE(Calendrier!$A$1,_xlfn.SHEET()-1,(ROW()/2)-1) -> 43779 | D22: M | E22: =IF(C22="","",IF(OR(C22="Cp",C22="AM",C22="Re",C22="Fe"),"",1)) | H22: =((G22-F22)+(G23-F23)) -> 0 | J22: =IF(OR(C22="SiA",C22="SeA",C22="Si",C22="Ast",C22="For"),1,"") | K22: =IF(OR(C22="Cp"),1,"") | O22: =IF(OR(C22="SiA",C22="SeA",C22="Si"),1,"") | R22: =((Q22-P22)-(Q23-P23)) -> 0 | V22: =IF(OR(C22="SiA",C22="SeA",C22="Si",C22="Ast"),1,"")
D23: S
A24: S 46 | B24: =DATE(Calendrier!$A$1,_xlfn.SHEET()-1,(ROW()/2)-1) -> 43780 | D24: M | E24: =IF(C24="","",IF(OR(C24="Cp",C24="AM",C24="Re",C24="Fe"),"",1)) | H24: =((G24-F24)+(G25-F25)) -> 0 | J24: =IF(OR(C24="SiA",C24="SeA",C24="Si",C24="Ast",C24="For"),1,"") | K24: =IF(OR(C24="Cp"),1,"") | O24: =IF(OR(C24="SiA",C24="SeA",C24="Si"),1,"") | R24: =((Q24-P24)-(Q25-P25)) -> 0 | V24: =IF(OR(C24="SiA",C24="SeA",C24="Si",C24="Ast"),1,"")
D25: S
A26: =SUM(H24:H37,R24:R37) -> 0 | B26: =DATE(Calendrier!$A$1,_xlfn.SHEET()-1,(ROW()/2)-1) -> 43781 | D26: M | E26: =IF(C26="","",IF(OR(C26="Cp",C26="AM",C26="Re",C26="Fe"),"",1)) | H26: =((G26-F26)+(G27-F27)) -> 0 | J26: =IF(OR(C26="SiA",C26="SeA",C26="Si",C26="Ast",C26="For"),1,"") | K26: =IF(OR(C26="Cp"),1,"") | O26: =IF(OR(C26="SiA",C26="SeA",C26="Si"),1,"") | R26: =((Q26-P26)-(Q27-P27)) -> 0 | V26: =IF(OR(C26="SiA",C26="SeA",C26="Si",C26="Ast"),1,"")
D27: S
B28: =DATE(Calendrier!$A$1,_xlfn.SHEET()-1,(ROW()/2)-1) -> 43782 | D28: M | E28: =IF(C28="","",IF(OR(C28="Cp",C28="AM",C28="Re",C28="Fe"),"",1)) | H28: =((G28-F28)+(G29-F29)) -> 0 | J28: =IF(OR(C28="SiA",C28="SeA",C28="Si",C28="Ast",C28="For"),1,"") | K28: =IF(OR(C28="Cp"),1,"") | O28: =IF(OR(C28="SiA",C28="SeA",C28="Si"),1,"") | R28: =((Q28-P28)-(Q29-P29)) -> 0 | V28: =IF(OR(C28="SiA",C28="SeA",C28="Si",C28="Ast"),1,"")
D29: S
B30: =DATE(Calendrier!$A$1,_xlfn.SHEET()-1,(ROW()/2)-1) -> 43783 | D30: M | E30: =IF(C30="","",IF(OR(C30="Cp",C30="AM",C30="Re",C30="Fe"),"",1)) | H30: =((G30-F30)+(G31-F31)) -> 0 | J30: =IF(OR(C30="SiA",C30="SeA",C30="Si",C30="Ast",C30="For"),1,"") | K30: =IF(OR(C30="Cp"),1,"") | O30: =IF(OR(C30="SiA",C30="SeA",C30="Si"),1,"") | R30: =((Q30-P30)-(Q31-P31)) -> 0 | V30: =IF(OR(C30="SiA",C30="SeA",C30="Si",C30="Ast"),1,"")
D31: S
B32: =DATE(Calendrier!$A$1,_xlfn.SHEET()-1,(ROW()/2)-1) -> 43784 | D32: M | E32: =IF(C32="","",IF(OR(C32="Cp",C32="AM",C32="Re",C32="Fe"),"",1)) | H32: =((G32-F32)+(G33-F33)) -> 0 | J32: =IF(OR(C32="SiA",C32="SeA",C32="Si",C32="Ast",C32="For"),1,"") | K32: =IF(OR(C32="Cp"),1,"") | O32: =IF(OR(C32="SiA",C32="SeA",C32="Si"),1,"") | R32: =((Q32-P32)-(Q33-P33)) -> 0 | V32: =IF(OR(C32="SiA",C32="SeA",C32="Si",C32="Ast"),1,"")
D33: S
B34: =DATE(Calendrier!$A$1,_xlfn.SHEET()-1,(ROW()/2)-1) -> 43785 | D34: M | E34: =IF(C34="","",IF(OR(C34="Cp",C34="AM",C34="Re",C34="Fe"),"",1)) | H34: =((G34-F34)+(G35-F35)) -> 0 | J34: =IF(OR(C34="SiA",C34="SeA",C34="Si",C34="Ast",C34="For"),1,"") | K34: =IF(OR(C34="Cp"),1,"") | O34: =IF(OR(C34="SiA",C34="SeA",C34="Si"),1,"") | R34: =((Q34-P34)-(Q35-P35)) -> 0 | V34: =IF(OR(C34="SiA",C34="SeA",C34="Si",C34="Ast"),1,"")
D35: S
B36: =DATE(Calendrier!$A$1,_xlfn.SHEET()-1,(ROW()/2)-1) -> 43786 | D36: M | E36: =IF(C36="","",IF(OR(C36="Cp",C36="AM",C36="Re",C36="Fe"),"",1)) | H36: =((G36-F36)+(G37-F37)) -> 0 | J36: =IF(OR(C36="SiA",C36="SeA",C36="Si",C36="Ast",C36="For"),1,"") | K36: =IF(OR(C36="Cp"),1,"") | O36: =IF(OR(C36="SiA",C36="SeA",C36="Si"),1,"") | R36: =((Q36-P36)-(Q37-P37)) -> 0 | V36: =IF(OR(C36="SiA",C36="SeA",C36="Si",C36="Ast"),1,"")
D37: S
A38: S 47 | B38: =DATE(Calendrier!$A$1,_xlfn.SHEET()-1,(ROW()/2)-1) -> 43787 | D38: M | E38: =IF(C38="","",IF(OR(C38="Cp",C38="AM",C38="Re",C38="Fe"),"",1)) | H38: =((G38-F38)+(G39-F39)) -> 0 | J38: =IF(OR(C38="SiA",C38="SeA",C38="Si",C38="Ast",C38="For"),1,"") | O38: =IF(OR(C38="SiA",C38="SeA",C38="Si"),1,"") | R38: =((Q38-P38)-(Q39-P39)) -> 0 | V38: =IF(OR(C38="SiA",C38="SeA",C38="Si",C38="Ast"),1,"")
D39: S
A40: =SUM(H38:H51,R38:R51) -> 0 | B40: =DATE(Calendrier!$A$1,_xlfn.SHEET()-1,(ROW()/2)-1) -> 43788 | D40: M | E40: =IF(C40="","",IF(OR(C40="Cp",C40="AM",C40="Re",C40="Fe"),"",1)) | H40: =((G40-F40)+(G41-F41)) -> 0 | J40: =IF(OR(C40="SiA",C40="SeA",C40="Si",C40="Ast",C40="For"),1,"") | K40: =IF(OR(C40="Cp"),1,"") | O40: =IF(OR(C40="SiA",C40="SeA",C40="Si"),1,"") | R40: =((Q40-P40)-(Q41-P41)) -> 0 | V40: =IF(OR(C40="SiA",C40="SeA",C40="Si",C40="Ast"),1,"")
D41: S
B42: =DATE(Calendrier!$A$1,_xlfn.SHEET()-1,(ROW()/2)-1) -> 43789 | D42: M | E42: =IF(C42="","",IF(OR(C42="Cp",C42="AM",C42="Re",C42="Fe"),"",1)) | H42: =((G42-F42)+(G43-F43)) -> 0 | J42: =IF(OR(C42="SiA",C42="SeA",C42="Si",C42="Ast",C42="For"),1,"") | K42: =IF(OR(C42="Cp"),1,"") | O42: =IF(OR(C42="SiA",C42="SeA",C42="Si"),1,"") | R42: =((Q42-P42)-(Q43-P43)) -> 0 | V42: =IF(OR(C42="SiA",C42="SeA",C42="Si",C42="Ast"),1,"")
D43: S
B44: =DATE(Calendrier!$A$1,_xlfn.SHEET()-1,(ROW()/2)-1) -> 43790 | D44: M | E44: =IF(C44="","",IF(OR(C44="Cp",C44="AM",C44="Re",C44="Fe"),"",1)) | H44: =((G44-F44)+(G45-F45)) -> 0 | J44: =IF(OR(C44="SiA",C44="SeA",C44="Si",C44="Ast",C44="For"),1,"") | K44: =IF(OR(C44="Cp"),1,"") | O44: =IF(OR(C44="SiA",C44="SeA",C44="Si"),1,"") | R44: =((Q44-P44)-(Q45-P45)) -> 0 | V44: =IF(OR(C44="SiA",C44="SeA",C44="Si",C44="Ast"),1,"")
D45: S
B46: =DATE(Calendrier!$A$1,_xlfn.SHEET()-1,(ROW()/2)-1) -> 43791 | D46: M | E46: =IF(C46="","",IF(OR(C46="Cp",C46="AM",C46="Re",C46="Fe"),"",1)) | H46: =((G46-F46)+(G47-F47)) -> 0 | J46: =IF(OR(C46="SiA",C46="SeA",C46="Si",C46="Ast",C46="For"),1,"") | K46: =IF(OR(C46="Cp"),1,"") | O46: =IF(OR(C46="SiA",C46="SeA",C46="Si"),1,"") | R46: =((Q46-P46)-(Q47-P47)) -> 0 | V46: =IF(OR(C46="SiA",C46="SeA",C46="Si",C46="Ast"),1,"")
D47: S
B48: =DATE(Calendrier!$A$1,_xlfn.SHEET()-1,(ROW()/2)-1) -> 43792 | D48: M | E48: =IF(C48="","",IF(OR(C48="Cp",C48="AM",C48="Re",C48="Fe"),"",1)) | H48: =((G48-F48)+(G49-F49)) -> 0 | J48: =IF(OR(C48="SiA",C48="SeA",C48="Si",C48="Ast",C48="For"),1,"") | K48: =IF(OR(C48="Cp"),1,"") | O48: =IF(OR(C48="SiA",C48="SeA",C48="Si"),1,"") | R48: =((Q48-P48)-(Q49-P49)) -> 0 | V48: =IF(OR(C48="SiA",C48="SeA",C48="Si",C48="Ast"),1,"")
D49: S
B50: =DATE(Calendrier!$A$1,_xlfn.SHEET()-1,(ROW()/2)-1) -> 43793 | D50: M | E50: =IF(C50="","",IF(OR(C50="Cp",C50="AM",C50="Re",C50="Fe"),"",1)) | H50: =((G50-F50)+(G51-F51)) -> 0 | J50: =IF(OR(C50="SiA",C50="SeA",C50="Si",C50="Ast",C50="For"),1,"") | K50: =IF(OR(C50="Cp"),1,"") | O50: =IF(OR(C50="SiA",C50="SeA",C50="Si"),1,"") | R50: =((Q50-P50)-(Q51-P51)) -> 0 | V50: =IF(OR(C50="SiA",C50="SeA",C50="Si",C50="Ast"),1,"")
D51: S
A52: S 48 | B52: =DATE(Calendrier!$A$1,_xlfn.SHEET()-1,(ROW()/2)-1) -> 43794 | D52: M | E52: =IF(C52="","",IF(OR(C52="Cp",C52="AM",C52="Re",C52="Fe"),"",1)) | H52: =((G52-F52)+(G53-F53)) -> 0 | J52: =IF(OR(C52="SiA",C52="SeA",C52="Si",C52="Ast",C52="For"),1,"") | K52: =IF(OR(C52="Cp"),1,"") | O52: =IF(OR(C52="SiA",C52="SeA",C52="Si"),1,"") | R52: =((Q52-P52)-(Q53-P53)) -> 0 | V52: =IF(OR(C52="SiA",C52="SeA",C52="Si",C52="Ast"),1,"")
D53: S
A54: =SUM(H52:H63,R52:R63)+SUM(Dec!H4,Dec!R4) -> 0 | B54: =DATE(Calendrier!$A$1,_xlfn.SHEET()-1,(ROW()/2)-1) -> 43795 | D54: M | E54: =IF(C54="","",IF(OR(C54="Cp",C54="AM",C54="Re",C54="Fe"),"",1)) | H54: =((G54-F54)+(G55-F55)) -> 0 | J54: =IF(OR(C54="SiA",C54="SeA",C54="Si",C54="Ast",C54="For"),1,"") | K54: =IF(OR(C54="Cp"),1,"") | O54: =IF(OR(C54="SiA",C54="SeA",C54="Si"),1,"") | R54: =((Q54-P54)-(Q55-P55)) -> 0 | V54: =IF(OR(C54="SiA",C54="SeA",C54="Si",C54="Ast"),1,"")
D55: S
B56: =DATE(Calendrier!$A$1,_xlfn.SHEET()-1,(ROW()/2)-1) -> 43796 | D56: M | E56: =IF(C56="","",IF(OR(C56="Cp",C56="AM",C56="Re",C56="Fe"),"",1)) | H56: =((G56-F56)+(G57-F57)) -> 0 | J56: =IF(OR(C56="SiA",C56="SeA",C56="Si",C56="Ast",C56="For"),1,"") | K56: =IF(OR(C56="Cp"),1,"") | O56: =IF(OR(C56="SiA",C56="SeA",C56="Si"),1,"") | R56: =((Q56-P56)-(Q57-P57)) -> 0 | V56: =IF(OR(C56="SiA",C56="SeA",C56="Si",C56="Ast"),1,"")
D57: S
B58: =DATE(Calendrier!$A$1,_xlfn.SHEET()-1,(ROW()/2)-1) -> 43797 | D58: M | E58: =IF(C58="","",IF(OR(C58="Cp",C58="AM",C58="Re",C58="Fe"),"",1)) | H58: =((G58-F58)+(G59-F59)) -> 0 | J58: =IF(OR(C58="SiA",C58="SeA",C58="Si",C58="Ast",C58="For"),1,"") | K58: =IF(OR(C58="Cp"),1,"") | O58: =IF(OR(C58="SiA",C58="SeA",C58="Si"),1,"") | R58: =((Q58-P58)-(Q59-P59)) -> 0 | V58: =IF(OR(C58="SiA",C58="SeA",C58="Si",C58="Ast"),1,"")
D59: S
B60: =DATE(Calendrier!$A$1,_xlfn.SHEET()-1,(ROW()/2)-1) -> 43798 | D60: M | E60: =IF(C60="","",IF(OR(C60="Cp",C60="AM",C60="Re",C60="Fe"),"",1)) | H60: =((G60-F60)+(G61-F61)) -> 0 | J60: =IF(OR(C60="SiA",C60="SeA",C60="Si",C60="Ast",C60="For"),1,"") | K60: =IF(OR(C60="Cp"),1,"") | O60: =IF(OR(C60="SiA",C60="SeA",C60="Si"),1,"") | R60: =((Q60-P60)-(Q61-P61)) -> 0 | V60: =IF(OR(C60="SiA",C60="SeA",C60="Si",C60="Ast"),1,"")
D61: S
B62: =DATE(Calendrier!$A$1,_xlfn.SHEET()-1,(ROW()/2)-1) -> 43799 | D62: M | E62: =IF(C62="","",IF(OR(C62="Cp",C62="AM",C62="Re",C62="Fe"),"",1)) | H62: =((G62-F62)+(G63-F63)) -> 0 | J62: =IF(OR(C62="SiA",C62="SeA",C62="Si",C62="Ast",C62="For"),1,"") | K62: =IF(OR(C62="Cp"),1,"") | O62: =IF(OR(C62="SiA",C62="SeA",C62="Si"),1,"") | R62: =((Q62-P62)-(Q63-P63)) -> 0 | V62: =IF(OR(C62="SiA",C62="SeA",C62="Si",C62="Ast"),1,"")
D63: S
B64: TOTAUX | E64: =SUM(E4:E63) -> 0 | F64: =SUM(H4:H63) -> 0 | I64: =SUM(I4:I63) -> 0 | J64: =SUM(J4:J63) -> 0 | K64: =SUM(K4:K63) -> 0 | N64: TOTAUX | O64: =SUM(O4:O63) -> 0 | R64: =SUM(R4:R30) -> 0 | S64: =SUM(S4:S63) -> 0 | T64: =SUM(T4:T63) -> 0 | U64: =SUM(U4:U63) -> 0 | V64: =SUM(V4:V63) -> 0 | W64: =SUM(W4:W63) -> 0

Sheet Dec
B3: DATE | C3: SERV | E3: J | F3: HA | G3: HD | I3: K | J3: Ser | K3: CP | L3: MOTIF DU DEPLACEMENT | O3: Panniers | P3: HSD | Q3: HSF | R3: H.Sup | S3: Maj Nuit | T3: Maj Dim. | U3: Maj J.Fé. | V3: Astreinte | W3: SSLIA
B4: =DATE(Calendrier!$A$1,_xlfn.SHEET()-1,(ROW()/2)-1) -> 43800 | D4: M | E4: =IF(C4="","",IF(OR(C4="Cp",C4="AM",C4="Re",C4="Fe"),"",1)) | H4: =((G4-F4)+(G5-F5)) -> 0 | J4: =IF(OR(C4="SiA",C4="SeA",C4="Si",C4="Ast",C4="For"),1,"") | K4: =IF(OR(C4="Cp"),1,"") | O4: =IF(OR(C4="SiA",C4="SeA",C4="Si"),1,"") | R4: =((Q4-P4)-(Q5-P5)) -> 0 | V4: =IF(OR(C4="SiA",C4="SeA",C4="Ast"),1,"")
D5: S
A6: S 49 | B6: =DATE(Calendrier!$A$1,_xlfn.SHEET()-1,(ROW()/2)-1) -> 43801 | D6: M | E6: =IF(C6="","",IF(OR(C6="Cp",C6="AM",C6="Re",C6="Fe"),"",1)) | H6: =((G6-F6)+(G7-F7)) -> 0 | J6: =IF(OR(C6="SiA",C6="SeA",C6="Si",C6="Ast",C6="For"),1,"") | K6: =IF(OR(C6="Cp"),1,"") | O6: =IF(OR(C6="SiA",C6="SeA",C6="Si"),1,"") | R6: =((Q6-P6)-(Q7-P7)) -> 0 | V6: =IF(OR(C6="SiA",C6="SeA",C6="Si",C6="Ast"),1,"")
D7: S
A8: =SUM(H6:H19,R6:R19) -> 0 | B8: =DATE(Calendrier!$A$1,_xlfn.SHEET()-1,(ROW()/2)-1) -> 43802 | D8: M | E8: =IF(C8="","",IF(OR(C8="Cp",C8="AM",C8="Re",C8="Fe"),"",1)) | H8: =((G8-F8)+(G9-F9)) -> 0 | J8: =IF(OR(C8="SiA",C8="SeA",C8="Si",C8="Ast",C8="For"),1,"") | K8: =IF(OR(C8="Cp"),1,"") | O8: =IF(OR(C8="SiA",C8="SeA",C8="Si"),1,"") | R8: =((Q8-P8)-(Q9-P9)) -> 0 | V8: =IF(OR(C8="SiA",C8="SeA",C8="Si",C8="Ast"),1,"")
D9: S
B10: =DATE(Calendrier!$A$1,_xlfn.SHEET()-1,(ROW()/2)-1) -> 43803 | D10: M | E10: =IF(C10="","",IF(OR(C10="Cp",C10="AM",C10="Re",C10="Fe"),"",1)) | H10: =((G10-F10)+(G11-F11)) -> 0 | J10: =IF(OR(C10="SiA",C10="SeA",C10="Si",C10="Ast",C10="For"),1,"") | K10: =IF(OR(C10="Cp"),1,"") | O10: =IF(OR(C10="SiA",C10="SeA",C10="Si"),1,"") | R10: =((Q10-P10)-(Q11-P11)) -> 0 | V10: =IF(OR(C10="SiA",C10="SeA",C10="Si",C10="Ast"),1,"")
D11: S
B12: =DATE(Calendrier!$A$1,_xlfn.SHEET()-1,(ROW()/2)-1) -> 43804 | D12: M | E12: =IF(C12="","",IF(OR(C12="Cp",C12="AM",C12="Re",C12="Fe"),"",1)) | H12: =((G12-F12)+(G13-F13)) -> 0 | J12: =IF(OR(C12="SiA",C12="SeA",C12="Si",C12="Ast",C12="For"),1,"") | K12: =IF(OR(C12="Cp"),1,"") | O12: =IF(OR(C12="SiA",C12="SeA",C12="Si"),1,"") | R12: =((Q12-P12)-(Q13-P13)) -> 0 | V12: =IF(OR(C12="SiA",C12="SeA",C12="Si",C12="Ast"),1,"")
D13: S
B14: =DATE(Calendrier!$A$1,_xlfn.SHEET()-1,(ROW()/2)-1) -> 43805 | D14: M | E14: =IF(C14="","",IF(OR(C14="Cp",C14="AM",C14="Re",C14="Fe"),"",1)) | H14: =((G14-F14)+(G15-F15)) -> 0 | J14: =IF(OR(C14="SiA",C14="SeA",C14="Si",C14="Ast",C14="For"),1,"") | K14: =IF(OR(C14="Cp"),1,"") | O14: =IF(OR(C14="SiA",C14="SeA",C14="Si"),1,"") | R14: =((Q14-P14)-(Q15-P15)) -> 0 | V14: =IF(OR(C14="SiA",C14="SeA",C14="Si",C14="Ast"),1,"")
D15: S
B16: =DATE(Calendrier!$A$1,_xlfn.SHEET()-1,(ROW()/2)-1) -> 43806 | D16: M | E16: =IF(C16="","",IF(OR(C16="Cp",C16="AM",C16="Re",C16="Fe"),"",1)) | H16: =((G16-F16)+(G17-F17)) -> 0 | J16: =IF(OR(C16="SiA",C16="SeA",C16="Si",C16="Ast",C16="For"),1,"") | K16: =IF(OR(C16="Cp"),1,"") | O16: =IF(OR(C16="SiA",C16="SeA",C16="Si"),1,"") | R16: =((Q16-P16)-(Q17-P17)) -> 0 | V16: =IF(OR(C16="SiA",C16="SeA",C16="Si",C16="Ast"),1,"")
D17: S
B18: =DATE(Calendrier!$A$1,_xlfn.SHEET()-1,(ROW()/2)-1) -> 43807 | D18: M | E18: =IF(C18="","",IF(OR(C18="Cp",C18="AM",C18="Re",C18="Fe"),"",1)) | H18: =((G18-F18)+(G19-F19)) -> 0 | J18: =IF(OR(C18="SiA",C18="SeA",C18="Si",C18="Ast",C18="For"),1,"") | K18: =IF(OR(C18="Cp"),1,"") | O18: =IF(OR(C18="SiA",C18="SeA",C18="Si"),1,"") | R18: =((Q18-P18)-(Q19-P19)) -> 0 | V18: =IF(OR(C18="SiA",C18="SeA",C18="Si",C18="Ast"),1,"")
D19: S
A20: S 50 | B20: =DATE(Calendrier!$A$1,_xlfn.SHEET()-1,(ROW()/2)-1) -> 43808 | D20: M | E20: =IF(C20="","",IF(OR(C20="Cp",C20="AM",C20="Re",C20="Fe"),"",1)) | H20: =((G20-F20)+(G21-F21)) -> 0 | J20: =IF(OR(C20="SiA",C20="SeA",C20="Si",C20="Ast",C20="For"),1,"") | K20: =IF(OR(C20="Cp"),1,"") | O20: =IF(OR(C20="SiA",C20="SeA",C20="Si"),1,"") | R20: =((Q20-P20)-(Q21-P21)) -> 0 | V20: =IF(OR(C20="SiA",C20="SeA",C20="Si",C20="Ast"),1,"")
D21: S
A22: =SUM(H20:H33,R20:R33) -> 0 | B22: =DATE(Calendrier!$A$1,_xlfn.SHEET()-1,(ROW()/2)-1) -> 43809 | D22: M | E22: =IF(C22="","",IF(OR(C22="Cp",C22="AM",C22="Re",C22="Fe"),"",1)) | H22: =((G22-F22)+(G23-F23)) -> 0 | J22: =IF(OR(C22="SiA",C22="SeA",C22="Si",C22="Ast",C22="For"),1,"") | K22: =IF(OR(C22="Cp"),1,"") | O22: =IF(OR(C22="SiA",C22="SeA",C22="Si"),1,"") | R22: =((Q22-P22)-(Q23-P23)) -> 0 | V22: =IF(OR(C22="SiA",C22="SeA",C22="Si",C22="Ast"),1,"")
D23: S
B24: =DATE(Calendrier!$A$1,_xlfn.SHEET()-1,(ROW()/2)-1) -> 43810 | D24: M | E24: =IF(C24="","",IF(OR(C24="Cp",C24="AM",C24="Re",C24="Fe"),"",1)) | H24: =((G24-F24)+(G25-F25)) -> 0 | J24: =IF(OR(C24="SiA",C24="SeA",C24="Si",C24="Ast",C24="For"),1,"") | K24: =IF(OR(C24="Cp"),1,"") | O24: =IF(OR(C24="SiA",C24="SeA",C24="Si"),1,"") | R24: =((Q24-P24)-(Q25-P25)) -> 0 | V24: =IF(OR(C24="SiA",C24="SeA",C24="Si",C24="Ast"),1,"")
D25: S
B26: =DATE(Calendrier!$A$1,_xlfn.SHEET()-1,(ROW()/2)-1) -> 43811 | D26: M | E26: =IF(C26="","",IF(OR(C26="Cp",C26="AM",C26="Re",C26="Fe"),"",1)) | H26: =((G26-F26)+(G27-F27)) -> 0 | J26: =IF(OR(C26="SiA",C26="SeA",C26="Si",C26="Ast",C26="For"),1,"") | K26: =IF(OR(C26="Cp"),1,"") | O26: =IF(OR(C26="SiA",C26="SeA",C26="Si"),1,"") | R26: =((Q26-P26)-(Q27-P27)) -> 0 | V26: =IF(OR(C26="SiA",C26="SeA",C26="Si",C26="Ast"),1,"")
D27: S
B28: =DATE(Calendrier!$A$1,_xlfn.SHEET()-1,(ROW()/2)-1) -> 43812 | D28: M | E28: =IF(C28="","",IF(OR(C28="Cp",C28="AM",C28="Re",C28="Fe"),"",1)) | H28: =((G28-F28)+(G29-F29)) -> 0 | J28: =IF(OR(C28="SiA",C28="SeA",C28="Si",C28="Ast",C28="For"),1,"") | K28: =IF(OR(C28="Cp"),1,"") | O28: =IF(OR(C28="SiA",C28="SeA",C28="Si"),1,"") | R28: =((Q28-P28)-(Q29-P29)) -> 0 | V28: =IF(OR(C28="SiA",C28="SeA",C28="Si",C28="Ast"),1,"")
D29: S
B30: =DATE(Calendrier!$A$1,_xlfn.SHEET()-1,(ROW()/2)-1) -> 43813 | D30: M | E30: =IF(C30="","",IF(OR(C30="Cp",C30="AM",C30="Re",C30="Fe"),"",1)) | H30: =((G30-F30)+(G31-F31)) -> 0 | J30: =IF(OR(C30="SiA",C30="SeA",C30="Si",C30="Ast",C30="For"),1,"") | K30: =IF(OR(C30="Cp"),1,"") | O30: =IF(OR(C30="SiA",C30="SeA",C30="Si"),1,"") | R30: =((Q30-P30)-(Q31-P31)) -> 0 | V30: =IF(OR(C30="SiA",C30="SeA",C30="Si",C30="Ast"),1,"")
D31: S
B32: =DATE(Calendrier!$A$1,_xlfn.SHEET()-1,(ROW()/2)-1) -> 43814 | D32: M | E32: =IF(C32="","",IF(OR(C32="Cp",C32="AM",C32="Re",C32="Fe"),"",1)) | H32: =((G32-F32)+(G33-F33)) -> 0 | J32: =IF(OR(C32="SiA",C32="SeA",C32="Si",C32="Ast",C32="For"),1,"") | K32: =IF(OR(C32="Cp"),1,"") | O32: =IF(OR(C32="SiA",C32="SeA",C32="Si"),1,"") | R32: =((Q32-P32)-(Q33-P33)) -> 0 | V32: =IF(OR(C32="SiA",C32="SeA",C32="Si",C32="Ast"),1,"")
D33: S
A34: S 51 | B34: =DATE(Calendrier!$A$1,_xlfn.SHEET()-1,(ROW()/2)-1) -> 43815 | D34: M | E34: =IF(C34="","",IF(OR(C34="Cp",C34="AM",C34="Re",C34="Fe"),"",1)) | H34: =((G34-F34)+(G35-F35)) -> 0 | J34: =IF(OR(C34="SiA",C34="SeA",C34="Si",C34="Ast",C34="For"),1,"") | K34: =IF(OR(C34="Cp"),1,"") | O34: =IF(OR(C34="SiA",C34="SeA",C34="Si"),1,"") | R34: =((Q34-P34)-(Q35-P35)) -> 0 | V34: =IF(OR(C34="SiA",C34="SeA",C34="Si",C34="Ast"),1,"")
D35: S
A36: =SUM(H34:H47,R34:R47) -> 0 | B36: =DATE(Calendrier!$A$1,_xlfn.SHEET()-1,(ROW()/2)-1) -> 43816 | D36: M | E36: =IF(C36="","",IF(OR(C36="Cp",C36="AM",C36="Re",C36="Fe"),"",1)) | H36: =((G36-F36)+(G37-F37)) -> 0 | J36: =IF(OR(C36="SiA",C36="SeA",C36="Si",C36="Ast",C36="For"),1,"") | K36: =IF(OR(C36="Cp"),1,"") | O36: =IF(OR(C36="SiA",C36="SeA",C36="Si"),1,"") | R36: =((Q36-P36)-(Q37-P37)) -> 0 | V36: =IF(OR(C36="SiA",C36="SeA",C36="Si",C36="Ast"),1,"")
D37: S
B38: =DATE(Calendrier!$A$1,_xlfn.SHEET()-1,(ROW()/2)-1) -> 43817 | D38: M | E38: =IF(C38="","",IF(OR(C38="Cp",C38="AM",C38="Re",C38="Fe"),"",1)) | H38: =((G38-F38)+(G39-F39)) -> 0 | J38: =IF(OR(C38="SiA",C38="SeA",C38="Si",C38="Ast",C38="For"),1,"") | O38: =IF(OR(C38="SiA",C38="SeA",C38="Si"),1,"") | R38: =((Q38-P38)-(Q39-P39)) -> 0 | V38: =IF(OR(C38="SiA",C38="SeA",C38="Si",C38="Ast"),1,"")
D39: S
B40: =DATE(Calendrier!$A$1,_xlfn.SHEET()-1,(ROW()/2)-1) -> 43818 | D40: M | E40: =IF(C40="","",IF(OR(C40="Cp",C40="AM",C40="Re",C40="Fe"),"",1)) | H40: =((G40-F40)+(G41-F41)) -> 0 | J40: =IF(OR(C40="SiA",C40="SeA",C40="Si",C40="Ast",C40="For"),1,"") | K40: =IF(OR(C40="Cp"),1,"") | O40: =IF(OR(C40="SiA",C40="SeA",C40="Si"),1,"") | R40: =((Q40-P40)-(Q41-P41)) -> 0 | V40: =IF(OR(C40="SiA",C40="SeA",C40="Si",C40="Ast"),1,"")
D41: S
B42: =DATE(Calendrier!$A$1,_xlfn.SHEET()-1,(ROW()/2)-1) -> 43819 | D42: M | E42: =IF(C42="","",IF(OR(C42="Cp",C42="AM",C42="Re",C42="Fe"),"",1)) | H42: =((G42-F42)+(G43-F43)) -> 0 | J42: =IF(OR(C42="SiA",C42="SeA",C42="Si",C42="Ast",C42="For"),1,"") | K42: =IF(OR(C42="Cp"),1,"") | O42: =IF(OR(C42="SiA",C42="SeA",C42="Si"),1,"") | R42: =((Q42-P42)-(Q43-P43)) -> 0 | V42: =IF(OR(C42="SiA",C42="SeA",C42="Si",C42="Ast"),1,"")
D43: S
B44: =DATE(Calendrier!$A$1,_xlfn.SHEET()-1,(ROW()/2)-1) -> 43820 | D44: M | E44: =IF(C44="","",IF(OR(C44="Cp",C44="AM",C44="Re",C44="Fe"),"",1)) | H44: =((G44-F44)+(G45-F45)) -> 0 | J44: =IF(OR(C44="SiA",C44="SeA",C44="Si",C44="Ast",C44="For"),1,"") | K44: =IF(OR(C44="Cp"),1,"") | O44: =IF(OR(C44="SiA",C44="SeA",C44="Si"),1,"") | R44: =((Q44-P44)-(Q45-P45)) -> 0 | V44: =IF(OR(C44="SiA",C44="SeA",C44="Si",C44="Ast"),1,"")
D45: S
B46: =DATE(Calendrier!$A$1,_xlfn.SHEET()-1,(ROW()/2)-1) -> 43821 | D46: M | E46: =IF(C46="","",IF(OR(C46="Cp",C46="AM",C46="Re",C46="Fe"),"",1)) | H46: =((G46-F46)+(G47-F47)) -> 0 | J46: =IF(OR(C46="SiA",C46="SeA",C46="Si",C46="Ast",C46="For"),1,"") | K46: =IF(OR(C46="Cp"),1,"") | O46: =IF(OR(C46="SiA",C46="SeA",C46="Si"),1,"") | R46: =((Q46-P46)-(Q47-P47)) -> 0 | V46: =IF(OR(C46="SiA",C46="SeA",C46="Si",C46="Ast"),1,"")
D47: S
A48: S 52 | B48: =DATE(Calendrier!$A$1,_xlfn.SHEET()-1,(ROW()/2)-1) -> 43822 | D48: M | E48: =IF(C48="","",IF(OR(C48="Cp",C48="AM",C48="Re",C48="Fe"),"",1)) | H48: =((G48-F48)+(G49-F49)) -> 0 | J48: =IF(OR(C48="SiA",C48="SeA",C48="Si",C48="Ast",C48="For"),1,"") | K48: =IF(OR(C48="Cp"),1,"") | O48: =IF(OR(C48="SiA",C48="SeA",C48="Si"),1,"") | R48: =((Q48-P48)-(Q49-P49)) -> 0 | V48: =IF(OR(C48="SiA",C48="SeA",C48="Si",C48="Ast"),1,"")
D49: S
A50: =SUM(H48:H61,R48:R61) -> 0 | B50: =DATE(Calendrier!$A$1,_xlfn.SHEET()-1,(ROW()/2)-1) -> 43823 | D50: M | E50: =IF(C50="","",IF(OR(C50="Cp",C50="AM",C50="Re",C50="Fe"),"",1)) | H50: =((G50-F50)+(G51-F51)) -> 0 | J50: =IF(OR(C50="SiA",C50="SeA",C50="Si",C50="Ast",C50="For"),1,"") | K50: =IF(OR(C50="Cp"),1,"") | O50: =IF(OR(C50="SiA",C50="SeA",C50="Si"),1,"") | R50: =((Q50-P50)-(Q51-P51)) -> 0 | V50: =IF(OR(C50="SiA",C50="SeA",C50="Si",C50="Ast"),1,"")
D51: S
B52: =DATE(Calendrier!$A$1,_xlfn.SHEET()-1,(ROW()/2)-1) -> 43824 | D52: M | E52: =IF(C52="","",IF(OR(C52="Cp",C52="AM",C52="Re",C52="Fe"),"",1)) | H52: =((G52-F52)+(G53-F53)) -> 0 | J52: =IF(OR(C52="SiA",C52="SeA",C52="Si",C52="Ast",C52="For"),1,"") | K52: =IF(OR(C52="Cp"),1,"") | O52: =IF(OR(C52="SiA",C52="SeA",C52="Si"),1,"") | R52: =((Q52-P52)-(Q53-P53)) -> 0 | V52: =IF(OR(C52="SiA",C52="SeA",C52="Si",C52="Ast"),1,"")
D53: S
B54: =DATE(Calendrier!$A$1,_xlfn.SHEET()-1,(ROW()/2)-1) -> 43825 | D54: M | E54: =IF(C54="","",IF(OR(C54="Cp",C54="AM",C54="Re",C54="Fe"),"",1)) | H54: =((G54-F54)+(G55-F55)) -> 0 | J54: =IF(OR(C54="SiA",C54="SeA",C54="Si",C54="Ast",C54="For"),1,"") | K54: =IF(OR(C54="Cp"),1,"") | O54: =IF(OR(C54="SiA",C54="SeA",C54="Si"),1,"") | R54: =((Q54-P54)-(Q55-P55)) -> 0 | V54: =IF(OR(C54="SiA",C54="SeA",C54="Si",C54="Ast"),1,"")
D55: S
B56: =DATE(Calendrier!$A$1,_xlfn.SHEET()-1,(ROW()/2)-1) -> 43826 | D56: M | E56: =IF(C56="","",IF(OR(C56="Cp",C56="AM",C56="Re",C56="Fe"),"",1)) | H56: =((G56-F56)+(G57-F57)) -> 0 | J56: =IF(OR(C56="SiA",C56="SeA",C56="Si",C56="Ast",C56="For"),1,"") | K56: =IF(OR(C56="Cp"),1,"") | O56: =IF(OR(C56="SiA",C56="SeA",C56="Si"),1,"") | R56: =((Q56-P56)-(Q57-P57)) -> 0 | V56: =IF(OR(C56="SiA",C56="SeA",C56="Si",C56="Ast"),1,"")
D57: S
B58: =DATE(Calendrier!$A$1,_xlfn.SHEET()-1,(ROW()/2)-1) -> 43827 | D58: M | E58: =IF(C58="","",IF(OR(C58="Cp",C58="AM",C58="Re",C58="Fe"),"",1)) | H58: =((G58-F58)+(G59-F59)) -> 0 | J58: =IF(OR(C58="SiA",C58="SeA",C58="Si",C58="Ast",C58="For"),1,"") | K58: =IF(OR(C58="Cp"),1,"") | O58: =IF(OR(C58="SiA",C58="SeA",C58="Si"),1,"") | R58: =((Q58-P58)-(Q59-P59)) -> 0 | V58: =IF(OR(C58="SiA",C58="SeA",C58="Si",C58="Ast"),1,"")
D59: S
B60: =DATE(Calendrier!$A$1,_xlfn.SHEET()-1,(ROW()/2)-1) -> 43828 | D60: M | E60: =IF(C60="","",IF(OR(C60="Cp",C60="AM",C60="Re",C60="Fe"),"",1)) | H60: =((G60-F60)+(G61-F61)) -> 0 | J60: =IF(OR(C60="SiA",C60="SeA",C60="Si",C60="Ast",C60="For"),1,"") | K60: =IF(OR(C60="Cp"),1,"") | O60: =IF(OR(C60="SiA",C60="SeA",C60="Si"),1,"") | R60: =((Q60-P60)-(Q61-P61)) -> 0 | V60: =IF(OR(C60="SiA",C60="SeA",C60="Si",C60="Ast"),1,"")
D61: S
B62: =DATE(Calendrier!$A$1,_xlfn.SHEET()-1,(ROW()/2)-1) -> 43829 | D62: M | E62: =IF(C62="","",IF(OR(C62="Cp",C62="AM",C62="Re",C62="Fe"),"",1)) | H62: =((G62-F62)+(G63-F63)) -> 0 | J62: =IF(OR(C62="SiA",C62="SeA",C62="Si",C62="Ast",C62="For"),1,"") | K62: =IF(OR(C62="Cp"),1,"") | O62: =IF(OR(C62="SiA",C62="SeA",C62="Si"),1,"") | R62: =((Q62-P62)-(Q63-P63)) -> 0 | V62: =IF(OR(C62="SiA",C62="SeA",C62="Si",C62="Ast"),1,"")
D63: S
B64: =DATE(Calendrier!$A$1,_xlfn.SHEET()-1,(ROW()/2)-1) -> 43830 | D64: M | E64: =IF(C64="","",IF(OR(C64="Cp",C64="AM",C64="Re",C64="Fe"),"",1)) | H64: =((G64-F64)+(G65-F65)) -> 0 | J64: =IF(OR(C64="SiA",C64="SeA",C64="Si",C64="Ast",C64="For"),1,"") | K64: =IF(OR(C64="Cp"),1,"") | O64: =IF(OR(C64="SiA",C64="SeA",C64="Si"),1,"") | R64: =((Q64-P64)-(Q65-P65)) -> 0 | V64: =IF(OR(C64="SiA",C64="SeA",C64="Si",C64="Ast"),1,"")
D65: S
B66: TOTAUX | E66: =SUM(E4:E65) -> 0 | F66: =SUM(H4:H65) -> 0 | I66: =SUM(I4:I65) -> 0 | J66: =SUM(J4:J65) -> 0 | K66: =SUM(K4:K65) -> 0 | N66: TOTAUX | O66: =SUM(O4:O65) -> 0 | R66: =SUM(R4:R30) -> 0 | S66: =SUM(S4:S65) -> 0 | T66: =SUM(T4:T65) -> 0 | U66: =SUM(U4:U65) -> 0 | V66: =SUM(V4:V65) -> 0 | W66: =SUM(W4:W65) -> 0

Sheet H.Se
A1: Se 01 | B1: =Jan!A5 -> 0 | C1: Se 11 | D1: =Mar!A26 -> 0 | E1: Se 21 | F1: =Mai!A44 -> 0 | G1: Se 31 | H1: =Aout!A5 -> 0 | I1: Se 41 | J1: =Oct!A18 -> 0 | K1: Se 51 | L1: =Dec!A36 -> 0
A2: Se 02 | B2: =Jan!A17 -> 0 | C2: Se 12 | D2: =Mar!A40 -> 0 | E2: Se 22 | F2: =Mai!A58 -> 0 | G2: Se 32 | H2: =Aout!A14 -> 0 | I2: Se 42 | J2: =Oct!A32 -> 0 | K2: Se 52 | L2: =Dec!A50 -> 0
A3: Se 03 | B3: =Jan!A31 -> 0 | C3: Se 13 | D3: =Mar!A54 -> 0 | E3: Se 23 | F3: =Juin!A10 -> 0 | G3: Se 33 | H3: =Aout!A28 -> 0 | I3: Se 43 | J3: =Oct!A46 -> 0 | K3: Se 01 | L3: =SUM(Dec!H62:H65,Dec!R62:R65) -> 0 | M3: A comptabilise en 2020
A4: Se 04 | B4: =Jan!A46 -> 0 | C4: Se 14 | D4: =Avr!A5 -> 0 | E4: Se 24 | F4: =Juin!A24 -> 0 | G4: Se 34 | H4: =Aout!A42 -> 0 | I4: Se 44 | J4: =Nov!A5 -> 0 | L4: =SUM(L1:L3) -> 0
A5: Se 05 | B5: =Fev!A5 -> 0 | C5: Se 15 | D5: =Avr!A20 -> 0 | E5: Se 25 | F5: =Juin!A38 -> 0 | G5: Se 35 | H5: =Aout!A56 -> 0 | I5: Se 45 | J5: =Nov!A12 -> 0
A6: Se 06 | B6: =Fev!A12 -> 0 | C6: Se 16 | D6: =Avr!A34 -> 0 | E6: Se 26 | F6: =Juin!A52 -> 0 | G6: Se 36 | H6: =Sept!A8 -> 0 | I6: Se 46 | J6: =Nov!A26 -> 0
A7: Se 07 | B7: =Fev!A26 -> 0 | C7: Se 17 | D7: =Avr!A48 -> 0 | E7: Se 27 | F7: =Juil!A5 -> 0 | G7: Se 37 | H7: =Sept!A22 -> 0 | I7: Se 47 | J7: =Nov!A40 -> 0 | K7: TOTAL | L7: =SUM(B11,D11,F11,H11,J11,L4) -> 0
A8: Se 08 | B8: =Fev!A40 -> 0 | C8: Se 18 | D8: =Mai!A5 -> 0 | E8: Se 28 | F8: =Juil!A20 -> 0 | G8: Se 38 | H8: =Sept!A36 -> 0 | I8: Se 48 | J8: =Nov!A54 -> 0 | K8: RESTE | L8: =1588-L7 -> 1588
A9: Se 09 | B9: =Mar!A4 -> 0 | C9: Se 19 | D9: =Mai!A16 -> 0 | E9: Se 29 | F9: =Juil!A34 -> 0 | G9: Se 39 | H9: =Sept!A50 -> 0 | I9: Se 49 | J9: =Dec!A8 -> 0
A10: Se 10 | B10: =Mar!A12 -> 0 | C10: Se 20 | D10: =Mai!A30 -> 0 | E10: Se 30 | F10: =Juil!A48 -> 0 | G10: Se 40 | H10: =Oct!A5 -> 0 | I10: Se 50 | J10: =Dec!A22 -> 0
B11: =SUM(B1:B10) -> 0 | D11: =SUM(D1:D10) -> 0 | F11: =SUM(F1:F10) -> 0 | H11: =SUM(H1:H10) -> 0 | J11: =SUM(J1:J10) -> 0

Sheet Récap
B2: 1 | C2: 2 | D2: 3 | E2: 4 | F2: 5 | G2: 6 | H2: 7 | I2: 8 | J2: 9 | K2: 10 | L2: 11 | M2: 12 | N2: 13 | O2: 14 | P2: 15 | Q2: 16 | R2: 17 | S2: 18 | T2: 19 | U2: 20 | V2: 21 | W2: 22 | X2: 23 | Y2: 24 | Z2: 25 | AA2: 26 | AB2: 27 | AC2: 28 | AD2: 29 | AE2: 30 | AF2: 31
A3: =DATE(Calendrier!A1,ROW(3:14)-2,1) -> 43466 | B3: =Jan!$C$4 -> Cp | C3: =Jan!$C$6 -> 0 | D3: =Jan!$C$8 -> Cp1/2 | E3: =Jan!$C$10 -> 0 | F3: =Jan!$C$12 -> 0 | G3: =Jan!$C$14 -> 0 | H3: =Jan!$C$16 -> 0 | I3: =Jan!$C$18 -> 0 | J3: =Jan!$C$20 -> 0 | K3: =Jan!$C$22 -> 0 | L3: =Jan!$C$24 -> 0 | M3: =Jan!$C$26 -> 0 | N3: =Jan!$C$28 -> 0 | O3: =Jan!$C$30 -> 0 | P3: =Jan!$C$32 -> 0 | Q3: =Jan!$C$34 -> 0 | R3: =Jan!$C$36 -> 0 | S3: =Jan!$C$38 -> 0 | T3: =Jan!$C$40 -> 0 | U3: =Jan!$C$42 -> 0 | V3: =Jan!$C$44 -> 0 | W3: =Jan!$C$46 -> 0 | X3: =Jan!$C$48 -> 0 | Y3: =Jan!$C$450 -> 0 | Z3: =Jan!$C$52 -> 0 | AA3: =Jan!$C$54 -> 0 | AB3: =Jan!$C$56 -> 0 | AC3: =Jan!$C$58 -> 0 | AD3: =Jan!$C$60 -> 0 | AE3: =Jan!$C$62 -> 0 | AF3: =Jan!$C$64 -> 0
A4: =DATE(Calendrier!A2,ROW(4:15)-2,1) -> 32 | B4: =Fev!$C$4 -> 0 | C4: =Fev!$C$6 -> 0 | D4: =Fev!$C$8 -> 0 | E4: =Fev!$C$10 -> 0 | F4: =Fev!$C$12 -> 0 | G4: =Fev!$C$14 -> 0 | H4: =Fev!$C$16 -> 0 | I4: =Fev!$C$18 -> 0 | J4: =Fev!$C$20 -> 0 | K4: =Fev!$C$22 -> 0 | L4: =Fev!$C$24 -> 0 | M4: =Fev!$C$26 -> 0 | N4: =Fev!$C$28 -> 0 | O4: =Fev!$C$30 -> 0 | P4: =Fev!$C$32 -> 0 | Q4: =Fev!$C$34 -> 0 | R4: =Fev!$C$36 -> 0 | S4: =Fev!$C$38 -> 0 | T4: =Fev!$C$40 -> 0 | U4: =Fev!$C$42 -> 0 | V4: =Fev!$C$44 -> 0 | W4: =Fev!$C$46 -> 0 | X4: =Fev!$C$48 -> 0 | Y4: =Fev!$C$50 -> 0 | Z4: =Fev!$C$52 -> 0 | AA4: =Fev!$C$54 -> 0 | AB4: =Fev!$C$56 -> 0 | AC4: =Fev!$C$58 -> 0 | AD4: =Fev!$C$60 -> 0
A5: =DATE(Calendrier!A3,ROW(5:16)-2,1) -> 61 | B5: =Mar!$C$4 -> 0 | C5: =Mar!$C$6 -> 0 | D5: =Mar!$C$8 -> 0 | E5: =Mar!$C$10 -> 0 | F5: =Mar!$C$12 -> 0 | G5: =Mar!$C$14 -> 0 | H5: =Mar!$C$16 -> 0 | I5: =Mar!$C$18 -> 0 | J5: =Mar!$C$20 -> 0 | K5: =Mar!$C$22 -> 0 | L5: =Mar!$C$24 -> 0 | M5: =Mar!$C$26 -> 0 | N5: =Mar!$C$28 -> 0 | O5: =Mar!$C$30 -> 0 | P5: =Mar!$C$32 -> 0 | Q5: =Mar!$C$34 -> 0 | R5: =Mar!$C$36 -> 0 | S5: =Mar!$C$38 -> 0 | T5: =Mar!$C$40 -> 0 | U5: =Mar!$C$42 -> 0 | V5: =Mar!$C$44 -> 0 | W5: =Mar!$C$46 -> 0 | X5: =Mar!$C$48 -> 0 | Y5: =Mar!$C$50 -> 0 | Z5: =Mar!$C$52 -> 0 | AA5: =Mar!$C$54 -> 0 | AB5: =Mar!$C$56 -> 0 | AC5: =Mar!$C$58 -> 0 | AD5: =Mar!$C$60 -> 0 | AE5: =Mar!$C$62 -> 0 | AF5: =Mar!$C$64 -> 0
A6: =DATE(Calendrier!A4,ROW(6:17)-2,1) -> 92 | B6: =Avr!$C$4 -> 0 | C6: =Avr!$C$6 -> 0 | D6: =Avr!$C$8 -> 0 | E6: =Avr!$C$10 -> 0 | F6: =Avr!$C$12 -> 0 | G6: =Avr!$C$14 -> 0 | H6: =Avr!$C$16 -> 0 | I6: =Avr!$C$18 -> 0 | J6: =Avr!$C$20 -> 0 | K6: =Avr!$C$22 -> 0 | L6: =Avr!$C$24 -> 0 | M6: =Avr!$C$26 -> 0 | N6: =Avr!$C$28 -> 0 | O6: =Avr!$C$30 -> 0 | P6: =Avr!$C$32 -> 0 | Q6: =Avr!$C$34 -> 0 | R6: =Avr!$C$36 -> 0 | S6: =Avr!$C$38 -> 0 | T6: =Avr!$C$40 -> 0 | U6: =Avr!$C$42 -> 0 | V6: =Avr!$C$44 -> 0 | W6: =Avr!$C$46 -> 0 | X6: =Avr!$C$48 -> 0 | Y6: =Avr!$C$50 -> 0 | Z6: =Avr!$C$52 -> 0 | AA6: =Avr!$C$54 -> 0 | AB6: =Avr!$C$56 -> 0 | AC6: =Avr!$C$58 -> 0 | AD6: =Avr!$C$60 -> 0 | AE6: =Avr!$C$62 -> 0
A7: =DATE(Calendrier!A5,ROW(7:18)-2,1) -> 122 | B7: =Mai!$C$4 -> 0 | C7: =Mai!$C$6 -> 0 | D7: =Mai!$C$8 -> 0 | E7: =Mai!$C$10 -> 0 | F7: =Mai!$C$12 -> 0 | G7: =Mai!$C$14 -> 0 | H7: =Mai!$C$16 -> 0 | I7: =Mai!$C$18 -> 0 | J7: =Mai!$C$20 -> 0 | K7: =Mai!$C$22 -> 0 | L7: =Mai!$C$24 -> 0 | M7: =Mai!$C$26 -> 0 | N7: =Mai!$C$28 -> 0 | O7: =Mai!$C$30 -> 0 | P7: =Mai!$C$32 -> 0 | Q7: =Mai!$C$34 -> 0 | R7: =Mai!$C$36 -> 0 | S7: =Mai!$C$38 -> 0 | T7: =Mai!$C$40 -> 0 | U7: =Mai!$C$42 -> 0 | V7: =Mai!$C$44 -> 0 | W7: =Mai!$C$46 -> 0 | X7: =Mai!$C$48 -> 0 | Y7: =Mai!$C$50 -> 0 | Z7: =Mai!$C$52 -> 0 | AA7: =Mai!$C$54 -> 0 | AB7: =Mai!$C$56 -> 0 | AC7: =Mai!$C$58 -> 0 | AD7: =Mai!$C$60 -> 0 | AE7: =Mai!$C$62 -> 0 | AF7: =Mai!$C$64 -> 0
A8: =DATE(Calendrier!A6,ROW(8:19)-2,1) -> 153 | B8: =Juin!$C$4 -> 0 | C8: =Juin!$C$6 -> 0 | D8: =Juin!$C$8 -> 0 | E8: =Juin!$C$10 -> 0 | F8: =Juin!$C$12 -> 0 | G8: =Juin!$C$14 -> 0 | H8: =Juin!$C$16 -> 0 | I8: =Juin!$C$18 -> 0 | J8: =Juin!$C$20 -> 0 | K8: =Juin!$C$22 -> 0 | L8: =Juin!$C$24 -> 0 | M8: =Juin!$C$26 -> 0 | N8: =Juin!$C$28 -> 0 | O8: =Juin!$C$30 -> 0 | P8: =Juin!$C$32 -> 0 | Q8: =Juin!$C$34 -> 0 | R8: =Juin!$C$36 -> 0 | S8: =Juin!$C$38 -> 0 | T8: =Juin!$C$40 -> 0 | U8: =Juin!$C$42 -> 0 | V8: =Juin!$C$44 -> 0 | W8: =Juin!$C$46 -> 0 | X8: =Juin!$C$48 -> 0 | Y8: =Juin!$C$50 -> 0 | Z8: =Juin!$C$52 -> 0 | AA8: =Juin!$C$54 -> 0 | AB8: =Juin!$C$56 -> 0 | AC8: =Juin!$C$58 -> 0 | AD8: =Juin!$C$60 -> 0 | AE8: =Juin!$C$62 -> 0
A9: =DATE(Calendrier!A7,ROW(9:20)-2,1) -> 183 | B9: =Juil!$C$4 -> 0 | C9: =Juil!$C$6 -> 0 | D9: =Juil!$C$8 -> 0 | E9: =Juil!$C$10 -> 0 | F9: =Juil!$C$12 -> 0 | G9: =Juil!$C$14 -> 0 | H9: =Juil!$C$16 -> 0 | I9: =Juil!$C$18 -> 0 | J9: =Juil!$C$20 -> 0 | K9: =Juil!$C$22 -> 0 | L9: =Juil!$C$24 -> 0 | M9: =Juil!$C$26 -> 0 | N9: =Juil!$C$28 -> 0 | O9: =Juil!$C$30 -> 0 | P9: =Juil!$C$32 -> 0 | Q9: =Juil!$C$34 -> 0 | R9: =Juil!$C$36 -> 0 | S9: =Juil!$C$38 -> 0 | T9: =Juil!$C$40 -> 0 | U9: =Juil!$C$42 -> 0 | V9: =Juil!$C$44 -> 0 | W9: =Juil!$C$46 -> 0 | X9: =Juil!$C$48 -> 0 | Y9: =Juil!$C$50 -> 0 | Z9: =Juil!$C$52 -> 0 | AA9: =Juil!$C$54 -> 0 | AB9: =Juil!$C$56 -> 0 | AC9: =Juil!$C$58 -> 0 | AD9: =Juil!$C$60 -> 0 | AE9: =Juil!$C$62 -> 0 | AF9: =Juil!$C$64 -> 0
A10: =DATE(Calendrier!A8,ROW(10:21)-2,1) -> 214 | B10: =Aout!$C$4 -> 0 | C10: =Aout!$C$6 -> 0 | D10: =Aout!$C$8 -> 0 | E10: =Aout!$C$10 -> 0 | F10: =Aout!$C$12 -> 0 | G10: =Aout!$C$14 -> 0 | H10: =Aout!$C$16 -> 0 | I10: =Aout!$C$18 -> 0 | J10: =Aout!$C$20 -> 0 | K10: =Aout!$C$22 -> 0 | L10: =Aout!$C$24 -> 0 | M10: =Aout!$C$26 -> 0 | N10: =Aout!$C$28 -> 0 | O10: =Aout!$C$30 -> 0 | P10: =Aout!$C$32 -> 0 | Q10: =Aout!$C$34 -> 0 | R10: =Aout!$C$36 -> 0 | S10: =Aout!$C$38 -> 0 | T10: =Aout!$C$40 -> 0 | U10: =Aout!$C$42 -> 0 | V10: =Aout!$C$44 -> 0 | W10: =Aout!$C$46 -> 0 | X10: =Aout!$C$48 -> 0 | Y10: =Aout!$C$50 -> 0 | Z10: =Aout!$C$52 -> 0 | AA10: =Aout!$C$54 -> 0 | AB10: =Aout!$C$56 -> 0 | AC10: =Aout!$C$58 -> 0 | AD10: =Aout!$C$60 -> 0 | AE10: =Aout!$C$62 -> 0 | AF10: =Aout!$C$64 -> 0
A11: =DATE(Calendrier!A9,ROW(11:22)-2,1) -> 245 | B11: =Sept!$C$4 -> 0 | C11: =Sept!$C$6 -> 0 | D11: =Sept!$C$8 -> 0 | E11: =Sept!$C$10 -> 0 | F11: =Sept!$C$12 -> 0 | G11: =Sept!$C$14 -> 0 | H11: =Sept!$C$16 -> 0 | I11: =Sept!$C$18 -> 0 | J11: =Sept!$C$20 -> 0 | K11: =Sept!$C$422 -> 0 | L11: =Sept!$C$24 -> 0 | M11: =Sept!$C$26 -> 0 | N11: =Sept!$C$28 -> 0 | O11: =Sept!$C$30 -> 0 | P11: =Sept!$C$32 -> 0 | Q11: =Sept!$C$34 -> 0 | R11: =Sept!$C$36 -> 0 | S11: =Sept!$C$38 -> 0 | T11: =Sept!$C$40 -> 0 | U11: =Sept!$C$42 -> 0 | V11: =Sept!$C$44 -> 0 | W11: =Sept!$C$46 -> 0 | X11: =Sept!$C$48 -> 0 | Y11: =Sept!$C$50 -> 0 | Z11: =Sept!$C$52 -> 0 | AA11: =Sept!$C$54 -> 0 | AB11: =Sept!$C$56 -> 0 | AC11: =Sept!$C$58 -> 0 | AD11: =Sept!$C$60 -> 0 | AE11: =Sept!$C$62 -> 0
A12: =DATE(Calendrier!A10,ROW(12:23)-2,1) -> 275 | B12: =Oct!$C$4 -> 0 | C12: =Oct!$C$6 -> 0 | D12: =Oct!$C$8 -> 0 | E12: =Oct!$C$10 -> 0 | F12: =Oct!$C$12 -> 0 | G12: =Oct!$C$14 -> 0 | H12: =Oct!$C$16 -> 0 | I12: =Oct!$C$18 -> 0 | J12: =Oct!$C$20 -> 0 | K12: =Oct!$C$22 -> 0 | L12: =Oct!$C$24 -> 0 | M12: =Oct!$C$26 -> 0 | N12: =Oct!$C$28 -> 0 | O12: =Oct!$C$30 -> 0 | P12: =Oct!$C$32 -> 0 | Q12: =Oct!$C$34 -> 0 | R12: =Oct!$C$36 -> 0 | S12: =Oct!$C$38 -> 0 | T12: =Oct!$C$40 -> 0 | U12: =Oct!$C$42 -> 0 | V12: =Oct!$C$44 -> 0 | W12: =Oct!$C$46 -> 0 | X12: =Oct!$C$48 -> 0 | Y12: =Oct!$C$50 -> 0 | Z12: =Oct!$C$52 -> 0 | AA12: =Oct!$C$54 -> 0 | AB12: =Oct!$C$56 -> 0 | AC12: =Oct!$C$58 -> 0 | AD12: =Oct!$C$60 -> 0 | AE12: =Oct!$C$62 -> 0 | AF12: =Oct!$C$64 -> 0
A13: =DATE(Calendrier!A11,ROW(13:24)-2,1) -> 306 | B13: =Nov!$C$4 -> 0 | C13: =Nov!$C$6 -> 0 | D13: =Nov!$C$8 -> 0 | E13: =Nov!$C$10 -> 0 | F13: =Nov!$C$12 -> 0 | G13: =Nov!$C$14 -> 0 | H13: =Nov!$C$16 -> 0 | I13: =Nov!$C$18 -> 0 | J13: =Nov!$C$20 -> 0 | K13: =Nov!$C$22 -> 0 | L13: =Nov!$C$24 -> 0 | M13: =Nov!$C$26 -> 0 | N13: =Nov!$C$28 -> 0 | O13: =Nov!$C$30 -> 0 | P13: =Nov!$C$32 -> 0 | Q13: =Nov!$C$34 -> 0 | R13: =Nov!$C$36 -> 0 | S13: =Nov!$C$38 -> 0 | T13: =Nov!$C$40 -> 0 | U13: =Nov!$C$42 -> 0 | V13: =Nov!$C$44 -> 0 | W13: =Nov!$C$46 -> 0 | X13: =Nov!$C$48 -> 0 | Y13: =Nov!$C$50 -> 0 | Z13: =Nov!$C$52 -> 0 | AA13: =Nov!$C$54 -> 0 | AB13: =Nov!$C$56 -> 0 | AC13: =Nov!$C$58 -> 0 | AD13: =Nov!$C$60 -> 0 | AE13: =Nov!$C$62 -> 0
A14: =DATE(Calendrier!A12,ROW(14:25)-2,1) -> 336 | B14: =Dec!$C$4 -> 0 | C14: =Dec!$C$6 -> 0 | D14: =Dec!$C$8 -> 0 | E14: =Dec!$C$10 -> 0 | F14: =Dec!$C$12 -> 0 | G14: =Dec!$C$14 -> 0 | H14: =Dec!$C$16 -> 0 | I14: =Dec!$C$18 -> 0 | J14: =Dec!$C$20 -> 0 | K14: =Dec!$C$22 -> 0 | L14: =Dec!$C$24 -> 0 | M14: =Dec!$C$26 -> 0 | N14: =Dec!$C$28 -> 0 | O14: =Dec!$C$30 -> 0 | P14: =Dec!$C$32 -> 0 | Q14: =Dec!$C$34 -> 0 | R14: =Dec!$C$36 -> 0 | S14: =Dec!$C$38 -> 0 | T14: =Dec!$C$40 -> 0 | U14: =Dec!$C$42 -> 0 | V14: =Dec!$C$44 -> 0 | W14: =Dec!$C$46 -> 0 | X14: =Dec!$C$48 -> 0 | Y14: =Dec!$C$50 -> 0 | Z14: =Dec!$C$52 -> 0 | AA14: =Dec!$C$54 -> 0 | AB14: =Dec!$C$56 -> 0 | AC14: =Dec!$C$58 -> 0 | AD14: =Dec!$C$60 -> 0 | AE14: =Dec!$C$62 -> 0 | AF14: =Dec!$C$64 -> 0
C17: H.Sup | F17: Maj N | I17: Maj D | L17: Maj J.F | O17: Astr. | R17: Panniers | U17: SSLIA | X17: J.T | Z17: Ser | AB17: Kms | AE17: C.P | AH17: HORAIRES
A18: JAN | C18: =Jan!$R$66 -> 0 | F18: =Jan!$S$66 -> 0 | I18: =Jan!$T$66 -> 0 | L18: =Jan!$U$66 -> 0 | O18: =Jan!$V$66 -> 0 | R18: =Jan!$O$66 -> 0 | U18: =Jan!$W$66 -> 0 | X18: =Jan!$E$66 -> 1 | Z18: =Jan!$J$66 -> 0 | AB18: =Jan!$I$66 -> 0 | AE18: =Jan!$K$66 -> 1 | AH18: =Jan!$F$66 -> 0
A19: FEV | C19: =Fev!$R$66 -> 0 | F19: =Fev!$S$66 -> 0 | I19: =Fev!$T$66 -> 0 | L19: =Fev!$U$66 -> 0 | O19: =Fev!$V$66 -> 0 | R19: =Fev!$O$66 -> 0 | U19: =Fev!$W$66 -> 0 | X19: =Fev!$E$66 -> 0 | Z19: =Fev!$J$66 -> 0 | AB19: =Fev!$I$66 -> 0 | AE19: =Fev!$K$66 -> 0 | AH19: =Fev!$F$66 -> 0
A20: MAR | C20: =Mar!$R$66 -> 0 | F20: =Mar!$S$66 -> 0 | I20: =Mar!$T$66 -> 0 | L20: =Mar!$U$66 -> 0 | O20: =Mar!$V$66 -> 0 | R20: =Mar!$O$66 -> 0 | U20: =Mar!$W$66 -> 0 | X20: =Mar!$E$66 -> 0 | Z20: =Mar!$J$66 -> 0 | AB20: =Mar!$I$66 -> 0 | AE20: =Mar!$K$66 -> 0 | AH20: =Mar!$F$66 -> 0
A21: AVR | C21: =Avr!$R$66 -> 0 | F21: =Avr!$S$66 -> 0 | I21: =Avr!$T$66 -> 0 | L21: =Avr!$U$66 -> 0 | O21: =Avr!$V$66 -> 0 | R21: =Avr!$O$66 -> 0 | U21: =Avr!$W$66 -> 0 | X21: =Avr!$E$66 -> 0 | Z21: =Avr!$J$66 -> 0 | AB21: =Avr!$I$66 -> 0 | AE21: =Avr!$K$66 -> 0 | AH21: =Avr!$F$66 -> 0
A22: MAI | C22: =Mai!$R$66 -> 0 | F22: =Mai!$S$66 -> 0 | I22: =Mai!$T$66 -> 0 | L22: =Mai!$U$66 -> 0 | O22: =Mai!$V$66 -> 0 | R22: =Mai!$O$66 -> 0 | U22: =Mai!$W$66 -> 0 | X22: =Mai!$E$66 -> 0 | Z22: =Mai!$J$66 -> 0 | AB22: =Mai!$I$66 -> 0 | AE22: =Mai!$K$66 -> 0 | AH22: =Mai!$F$66 -> 0
A23: JUIN | C23: =Juin!$R$66 -> 0 | F23: =Juin!$S$66 -> 0 | I23: =Juin!$T$66 -> 0 | L23: =Juin!$U$66 -> 0 | O23: =Juin!$V$66 -> 0 | R23: =Juin!$O$66 -> 0 | U23: =Juin!$W$66 -> 0 | X23: =Juin!$E$66 -> 0 | Z23: =Juin!$J$66 -> 0 | AB23: =Juin!$I$66 -> 0 | AE23: =Juin!$K$66 -> 0 | AH23: =Juin!$F$66 -> 0
