Workbook
Name ab: '[1]1'!$AH$3:$AH$20
Name AK: #REF!
Name AK: #REF!
Name AK: #REF!
Name AK: #REF!
Name Designation: '[2]FX Hedge Request'!$Y$3:$Y$10
Name Designation: '[2]FX Hedge Request'!$Y$3:$Y$10
Name Designation: '[2]FX Hedge Request'!$Y$3:$Y$10
Name Designation: #REF!
Name ENTITY: '[2]FX Hedge Request'!$AE$3:$AE$116
Name ENTITY: '[2]FX Hedge Request'!$AE$3:$AE$116
Name ENTITY: '[2]FX Hedge Request'!$AE$3:$AE$116
Name ENTITY: #REF!
Name ges: #REF!
Name ges: #REF!
Name ges: #REF!
Name ges: #REF!
Name intEx: '[2]FX Hedge Request'!$AA$3:$AA$4
Name intEx: '[2]FX Hedge Request'!$AA$3:$AA$4
Name intEx: '[2]FX Hedge Request'!$AA$3:$AA$4
Name intEx: #REF!
Name Nature: '[2]FX Hedge Request'!$W$3:$W$15
Name Nature: '[2]FX Hedge Request'!$W$3:$W$15
Name Nature: '[2]FX Hedge Request'!$W$3:$W$15
Name Nature: #REF!
Name saisons: #REF!
Name saisons: #REF!
Name saisons: #REF!
Name saisons: #REF!
Name Season: [3]Hilfstabelle!$B$1:$B$25
Name Season: [3]Hilfstabelle!$B$1:$B$25
Name Season: [3]Hilfstabelle!$B$1:$B$25
Name Season: [4]Hilfstabelle!$B$1:$B$25
Name SeasonRef: ' FX FC_AED'!$AF$1:$AH$9
Name SeasonRef: ' FX FC_AUD'!$AF$1:$AH$9
Name SeasonRef: ' FX FC_CAD'!$AF$1:$AH$9
Name SeasonRef: #REF!
Name Seasons: '[2]FX Hedge Request'!$AC$3:$AC$15
Name Seasons: '[2]FX Hedge Request'!$AC$3:$AC$15
Name Seasons: '[2]FX Hedge Request'!$AC$3:$AC$15
Name Seasons: #REF!

Sheet  FX FC_AED
AA1: Seasons | AC1: SAP Entity Name | AD1: SAP Company Code | AF1: Findur Season | AG1: Planning Date | AH1: Planning process
AA2: W19/20 | AC2: ETA TURIZM YATIRIM VE ISLETMELERI A.S. | AD2: 0118 | AF2: W19/20 | AG2: 01.10.2017 | AH2: FXHDGWIN
AA3: S20 | AC3: PREUSSAG BETEILIGUNGSVERWALTUNGS GMBH IX | AD3: 94 | AF3: S20 | AG3: 01.10.2017 | AH3: FXHDGSUM
AA4: W20/21 | AC4: SOCIÉTÉ D’INVESTISSEMENT ET | AD4: 1137 | AF4: W20/21 | AG4: 01.10.2017 | AH4: FXHDGWIN
AA5: S21 | AC5: SOCIETE DINVESTISSEMENT HOTELIER ALMO | AD5: 1313 | AF5: S21 | AG5: 01.10.2018 | AH5: FXHDGSUM
AA6: W21/22 | AC6: TUI Magic Life GmbH | AD6: 29 | AF6: W21/22 | AG6: 01.10.2018 | AH6: FXHDGWIN
AA7: S22 | AC7: ROBINSON CLUB MALDIVES PRIVATE LTD | AD7: 1958 | AF7: S22 | AG7: 01.10.2019 | AH7: FXHDGSUM
AA8: W22/23 | AC8: ABSOLUT INSURANCE LTD | AD8: 1837 | AF8: W22/23 | AG8: 01.10.2019 | AH8: FXHDGWIN
AA9: W23 | AC9: ADEHY LIMITED | AD9: 1748 | AF9: S23 | AG9: 01.10.2020 | AH9: FXHDGSUM
AA10: YEAR20 | AC10: TUI BLUE AT GMBH | AD10: 1885
AA11: YEAR21 | AC11: ARCCAC EURL | AD11: 1219
AA12: YEAR22 | AC12: ATLANTICA HELLAS SA | AD12: 0075
AA13: YEAR23 | AC13: BERGE UND MEER TOURISTIK GMBH | AD13: 0346
AC14: BOOMERANG REISEN GMBH | AD14: 2025
AC15: CLUB HOTEL CV S.A. | AD15: 4083
AC16: CORSAIR SA | AD16: 0056
AC17: CP SHIPS (UK) LIMITED | AD17: 30
AC18: CRUISETOUR AG | AD18: 4102
AC19: ROBINSON CLUB DAIDALOS | AD19: 0130
AC20: Destination Services Spain DO NOT USE | AD20: 1754
AC21: DESTINATION SERVICES SINGAPORE PTE LTD | AD21: 3925
AC22: EXPLORERS TRAVEL CLUB LTD | AD22: 1475
AC23: FIRST CHOICE HOLIDAYS LIMITED | AD23: 1500
AC24: FIRST CHOICE HOLIDAYS AND FLIGHTS LTD | AD24: 1791
AC25: FIRST CHOICE (TURKEY) LTD | AD25: 1795
... AC123: WOLTERS REISEN GMBH | AD123: 0029
B132: FORECAST FX REQUIREMENTS
B134: ENTITY | C134: Name: | H134: SEASON: Use dropdown to select | L134: Prepared by: | Q134: The table below is used by Group Treasury to upload your forecast requirements to SAP.
C135: Company Code: | L135: Phone No.
C136: Address: | L136: email: | Q136: Please do not amend this table. Ensure that its integrity is maintained.
C137: Contact:
B139: SAP ENTITY NAME: Use dropdown to select | T139: Do totals agree?
T140: =IF(SUM(W143:W155)=G156,"YES","NO") -> YES
Q141: Please change formula if the exposure is the Sell Currency >>>>>>> | V141: =E142 -> Buy C'cy
B142: SAP Entity Name (linked to above selection do not enter anything here) | D142: Date MMM-YY | E142: Buy C'cy | F142: Sell C'cy | G142: Total Requirement | H142: Hedged to Date | I142: To hedge now | J142: Remaining Unhedged | L142: Total Hedged (incl current Hedge) | M142: Hedge Cover % | Q142: PLKEYDATE | R142: PLROC | S142: PLVER | T142: COMPANYCODE | U142: PLANNING_TYPE | V142: PLANNING_CURR | W142: PLANNING_AMOUNT | X142: VALUE_DATE | Y142: NOTICE
B143: S24 | D143: 45778 | E143: AED | F143: EUR | G143: 0 | H143: 0 | J143: =G143-H143-I143 -> 0 | L143: =H143+I143 -> 0 | M143: =IF(ISERR(L143/G143),"",L143/G143) | Q143: =VLOOKUP(S143, SeasonRef, 2,0) -> #N/A | R143: =VLOOKUP(S143, SeasonRef, 3,0) -> #N/A | S143: =$I$134 -> 0 | T143: =$D$135 -> 0 | U143: EXP | V143: =' FX FC_AED'!E143 -> AED | W143: =G143 -> 0 | X143: =D143 -> 45778
B144: S24 | D144: 45809 | E144: AED | F144: EUR | G144: 2800000 | H144: 2800000 | J144: =G144-H144-I144 -> 0 | L144: =H144+I144 -> 2800000 | M144: =IF(ISERR(L144/G144),"",L144/G144) -> 1 | Q144: =VLOOKUP(S144, SeasonRef, 2,0) -> #N/A | R144: =VLOOKUP(S144, SeasonRef, 3,0) -> #N/A | S144: =$I$134 -> 0 | T144: =$D$135 -> 0 | U144: EXP | V144: =' FX FC_AED'!E144 -> AED | W144: =G144 -> 2800000 | X144: =D144 -> 45809
B145: S24 | D145: 45839 | E145: AED | F145: EUR | G145: 3960000 | H145: 3960000 | J145: =G145-H145-I145 -> 0 | L145: =H145+I145 -> 3960000 | M145: =IF(ISERR(L145/G145),"",L145/G145) -> 1 | Q145: =VLOOKUP(S145, SeasonRef, 2,0) -> #N/A | R145: =VLOOKUP(S145, SeasonRef, 3,0) -> #N/A | S145: =$I$134 -> 0 | T145: =$D$135 -> 0 | U145: EXP | V145: =' FX FC_AED'!E145 -> AED | W145: =G145 -> 3960000 | X145: =D145 -> 45839
B146: S24 | D146: 45870 | E146: AED | F146: EUR | G146: 1730000 | H146: 1730000 | J146: =G146-H146-I146 -> 0 | L146: =H146+I146 -> 1730000 | M146: =IF(ISERR(L146/G146),"",L146/G146) -> 1 | Q146: =VLOOKUP(S146, SeasonRef, 2,0) -> #N/A | R146: =VLOOKUP(S146, SeasonRef, 3,0) -> #N/A | S146: =$I$134 -> 0 | T146: =$D$135 -> 0 | U146: EXP | V146: =' FX FC_AED'!E146 -> AED | W146: =G146 -> 1730000 | X146: =D146 -> 45870
B147: S24 | D147: 45901 | E147: AED | F147: EUR | G147: 2290000 | H147: 2290000 | J147: =G147-H147-I147 -> 0 | L147: =H147+I147 -> 2290000 | M147: =IF(ISERR(L147/G147),"",L147/G147) -> 1 | Q147: =VLOOKUP(S147, SeasonRef, 2,0) -> #N/A | R147: =VLOOKUP(S147, SeasonRef, 3,0) -> #N/A | S147: =$I$134 -> 0 | T147: =$D$135 -> 0 | U147: EXP | V147: =' FX FC_AED'!E147 -> AED | W147: =G147 -> 2290000 | X147: =D147 -> 45901
...

Sheet  FX FC_AUD
AA1: Seasons | AC1: SAP Entity Name | AD1: SAP Company Code | AF1: Findur Season | AG1: Planning Date | AH1: Planning process
AA2: W19/20 | AC2: ETA TURIZM YATIRIM VE ISLETMELERI A.S. | AD2: 0118 | AF2: W19/20 | AG2: 01.10.2017 | AH2: FXHDGWIN
AA3: S20 | AC3: PREUSSAG BETEILIGUNGSVERWALTUNGS GMBH IX | AD3: 94 | AF3: S20 | AG3: 01.10.2017 | AH3: FXHDGSUM
AA4: W20/21 | AC4: SOCIÉTÉ D’INVESTISSEMENT ET | AD4: 1137 | AF4: W20/21 | AG4: 01.10.2017 | AH4: FXHDGWIN
AA5: S21 | AC5: SOCIETE DINVESTISSEMENT HOTELIER ALMO | AD5: 1313 | AF5: S21 | AG5: 01.10.2018 | AH5: FXHDGSUM
AA6: W21/22 | AC6: TUI Magic Life GmbH | AD6: 29 | AF6: W21/22 | AG6: 01.10.2018 | AH6: FXHDGWIN
AA7: S22 | AC7: ROBINSON CLUB MALDIVES PRIVATE LTD | AD7: 1958 | AF7: S22 | AG7: 01.10.2019 | AH7: FXHDGSUM
AA8: W22/23 | AC8: ABSOLUT INSURANCE LTD | AD8: 1837 | AF8: W22/23 | AG8: 01.10.2019 | AH8: FXHDGWIN
AA9: W23 | AC9: ADEHY LIMITED | AD9: 1748 | AF9: S23 | AG9: 01.10.2020 | AH9: FXHDGSUM
AA10: YEAR20 | AC10: TUI BLUE AT GMBH | AD10: 1885
AA11: YEAR21 | AC11: ARCCAC EURL | AD11: 1219
AA12: YEAR22 | AC12: ATLANTICA HELLAS SA | AD12: 0075
AA13: YEAR23 | AC13: BERGE UND MEER TOURISTIK GMBH | AD13: 0346
AC14: BOOMERANG REISEN GMBH | AD14: 2025
AC15: CLUB HOTEL CV S.A. | AD15: 4083
AC16: CORSAIR SA | AD16: 0056
AC17: CP SHIPS (UK) LIMITED | AD17: 30
AC18: CRUISETOUR AG | AD18: 4102
AC19: ROBINSON CLUB DAIDALOS | AD19: 0130
AC20: Destination Services Spain DO NOT USE | AD20: 1754
AC21: DESTINATION SERVICES SINGAPORE PTE LTD | AD21: 3925
AC22: EXPLORERS TRAVEL CLUB LTD | AD22: 1475
AC23: FIRST CHOICE HOLIDAYS LIMITED | AD23: 1500
AC24: FIRST CHOICE HOLIDAYS AND FLIGHTS LTD | AD24: 1791
AC25: FIRST CHOICE (TURKEY) LTD | AD25: 1795
... AC123: WOLTERS REISEN GMBH | AD123: 0029
B132: FORECAST FX REQUIREMENTS
L134: Prepared by:
L135: Phone No.
L136: email:
T139: Do totals agree?
T140: =IF(SUM(W143:W155)=G156,"YES","NO") -> YES
Q141: Please change formula if the exposure is the Sell Currency >>>>>>> | V141: =E142 -> Buy C'cy
B142: SAP Entity Name (linked to above selection do not enter anything here) | D142: Date MMM-YY | E142: Buy C'cy | F142: Sell C'cy | G142: Total Requirement | H142: Hedged to Date | I142: To hedge now | J142: Remaining Unhedged | L142: Total Hedged (incl current Hedge) | M142: Hedge Cover % | Q142: PLKEYDATE | R142: PLROC | S142: PLVER | T142: COMPANYCODE | U142: PLANNING_TYPE | V142: PLANNING_CURR | W142: PLANNING_AMOUNT | X142: VALUE_DATE | Y142: NOTICE
B143: S24 | D143: 45778 | E143: AUD | F143: EUR | G143: 0 | H143: 0 | J143: =G143-H143-I143 -> 0 | L143: =H143+I143 -> 0 | M143: =IF(ISERR(L143/G143),"",L143/G143) | Q143: =VLOOKUP(S143, SeasonRef, 2,0) -> #N/A | R143: =VLOOKUP(S143, SeasonRef, 3,0) -> #N/A | S143: =$I$134 -> 0 | T143: =$D$135 -> 0 | U143: EXP | V143: =' FX FC_AUD'!E143 -> AUD | W143: =G143 -> 0 | X143: =D143 -> 45778
B144: S24 | D144: 45809 | E144: AUD | F144: EUR | G144: 450000 | H144: 450000 | J144: =G144-H144-I144 -> 0 | L144: =H144+I144 -> 450000 | M144: =IF(ISERR(L144/G144),"",L144/G144) -> 1 | Q144: =VLOOKUP(S144, SeasonRef, 2,0) -> #N/A | R144: =VLOOKUP(S144, SeasonRef, 3,0) -> #N/A | S144: =$I$134 -> 0 | T144: =$D$135 -> 0 | U144: EXP | V144: =' FX FC_AUD'!E144 -> AUD | W144: =G144 -> 450000 | X144: =D144 -> 45809
B145: S24 | D145: 45839 | E145: AUD | F145: EUR | G145: 0 | H145: 0 | J145: =G145-H145-I145 -> 0 | L145: =H145+I145 -> 0 | M145: =IF(ISERR(L145/G145),"",L145/G145) | Q145: =VLOOKUP(S145, SeasonRef, 2,0) -> #N/A | R145: =VLOOKUP(S145, SeasonRef, 3,0) -> #N/A | S145: =$I$134 -> 0 | T145: =$D$135 -> 0 | U145: EXP | V145: =' FX FC_AUD'!E145 -> AUD | W145: =G145 -> 0 | X145: =D145 -> 45839
B146: S24 | D146: 45870 | E146: AUD | F146: EUR | G146: 320000 | H146: 320000 | J146: =G146-H146-I146 -> 0 | L146: =H146+I146 -> 320000 | M146: =IF(ISERR(L146/G146),"",L146/G146) -> 1 | Q146: =VLOOKUP(S146, SeasonRef, 2,0) -> #N/A | R146: =VLOOKUP(S146, SeasonRef, 3,0) -> #N/A | S146: =$I$134 -> 0 | T146: =$D$135 -> 0 | U146: EXP | V146: =' FX FC_AUD'!E146 -> AUD | W146: =G146 -> 320000 | X146: =D146 -> 45870
B147: S24 | D147: 45901 | E147: AUD | F147: EUR | G147: 480000 | H147: 480000 | J147: =G147-H147-I147 -> 0 | L147: =H147+I147 -> 480000 | M147: =IF(ISERR(L147/G147),"",L147/G147) -> 1 | Q147: =VLOOKUP(S147, SeasonRef, 2,0) -> #N/A | R147: =VLOOKUP(S147, SeasonRef, 3,0) -> #N/A | S147: =$I$134 -> 0 | T147: =$D$135 -> 0 | U147: EXP | V147: =' FX FC_AUD'!E147 -> AUD | W147: =G147 -> 480000 | X147: =D147 -> 45901
B148: S24 | D148: 45931 | E148: AUD | F148: EUR | G148: 300000 | H148: 0 | J148: =G148-H148-I148 -> 300000 | L148: =H148+I148 -> 0 | M148: =IF(ISERR(L148/G148),"",L148/G148) -> 0 | Q148: =VLOOKUP(S148, SeasonRef, 2,0) -> #N/A | R148: =VLOOKUP(S148, SeasonRef, 3,0) -> #N/A | S148: =$I$134 -> 0 | T148: =$D$135 -> 0 | U148: EXP | V148: =' FX FC_AUD'!E148 -> AUD | W148: =G148 -> 300000 | X148: =D148 -> 45931
...

Sheet  FX FC_CAD
AA1: Seasons | AC1: SAP Entity Name | AD1: SAP Company Code | AF1: Findur Season | AG1: Planning Date | AH1: Planning process
AA2: W19/20 | AC2: ETA TURIZM YATIRIM VE ISLETMELERI A.S. | AD2: 0118 | AF2: W19/20 | AG2: 01.10.2017 | AH2: FXHDGWIN
AA3: S20 | AC3: PREUSSAG BETEILIGUNGSVERWALTUNGS GMBH IX | AD3: 94 | AF3: S20 | AG3: 01.10.2017 | AH3: FXHDGSUM
AA4: W20/21 | AC4: SOCIÉTÉ D’INVESTISSEMENT ET | AD4: 1137 | AF4: W20/21 | AG4: 01.10.2017 | AH4: FXHDGWIN
AA5: S21 | AC5: SOCIETE DINVESTISSEMENT HOTELIER ALMO | AD5: 1313 | AF5: S21 | AG5: 01.10.2018 | AH5: FXHDGSUM
AA6: W21/22 | AC6: TUI Magic Life GmbH | AD6: 29 | AF6: W21/22 | AG6: 01.10.2018 | AH6: FXHDGWIN
AA7: S22 | AC7: ROBINSON CLUB MALDIVES PRIVATE LTD | AD7: 1958 | AF7: S22 | AG7: 01.10.2019 | AH7: FXHDGSUM
AA8: W22/23 | AC8: ABSOLUT INSURANCE LTD | AD8: 1837 | AF8: W22/23 | AG8: 01.10.2019 | AH8: FXHDGWIN
AA9: W23 | AC9: ADEHY LIMITED | AD9: 1748 | AF9: S23 | AG9: 01.10.2020 | AH9: FXHDGSUM
AA10: YEAR20 | AC10: TUI BLUE AT GMBH | AD10: 1885
AA11: YEAR21 | AC11: ARCCAC EURL | AD11: 1219
AA12: YEAR22 | AC12: ATLANTICA HELLAS SA | AD12: 0075
AA13: YEAR23 | AC13: BERGE UND MEER TOURISTIK GMBH | AD13: 0346
AC14: BOOMERANG REISEN GMBH | AD14: 2025
AC15: CLUB HOTEL CV S.A. | AD15: 4083
AC16: CORSAIR SA | AD16: 0056
AC17: CP SHIPS (UK) LIMITED | AD17: 30
AC18: CRUISETOUR AG | AD18: 4102
AC19: ROBINSON CLUB DAIDALOS | AD19: 0130
AC20: Destination Services Spain DO NOT USE | AD20: 1754
AC21: DESTINATION SERVICES SINGAPORE PTE LTD | AD21: 3925
AC22: EXPLORERS TRAVEL CLUB LTD | AD22: 1475
AC23: FIRST CHOICE HOLIDAYS LIMITED | AD23: 1500
AC24: FIRST CHOICE HOLIDAYS AND FLIGHTS LTD | AD24: 1791
AC25: FIRST CHOICE (TURKEY) LTD | AD25: 1795
... AC123: WOLTERS REISEN GMBH | AD123: 0029
H134: SEASON: Use dropdown to select | L134: Prepared by: | Q134: The table below is used by Group Treasury to upload your forecast requirements to SAP.
L135: Phone No.
L136: email: | Q136: Please do not amend this table. Ensure that its integrity is maintained.
T139: Do totals agree?
T140: =IF(SUM(W143:W155)=G156,"YES","NO") -> YES
Q141: Please change formula if the exposure is the Sell Currency >>>>>>> | V141: =E142 -> Buy C'cy
B142: SAP Entity Name (linked to above selection do not enter anything here) | D142: Date MMM-YY | E142: Buy C'cy | F142: Sell C'cy | G142: Total Requirement | H142: Hedged to Date | I142: To hedge now | J142: Remaining Unhedged | L142: Total Hedged (incl current Hedge) | M142: Hedge Cover % | Q142: PLKEYDATE | R142: PLROC | S142: PLVER | T142: COMPANYCODE | U142: PLANNING_TYPE | V142: PLANNING_CURR | W142: PLANNING_AMOUNT | X142: VALUE_DATE | Y142: NOTICE
B143: S24 | D143: 45778 | E143: CAD | F143: EUR | G143: 0 | H143: 0 | J143: =G143-H143-I143 -> 0 | L143: =H143+I143 -> 0 | M143: =IF(ISERR(L143/G143),"",L143/G143) | Q143: =VLOOKUP(S143, SeasonRef, 2,0) -> #N/A | R143: =VLOOKUP(S143, SeasonRef, 3,0) -> #N/A | S143: =$I$134 -> 0 | T143: =$D$135 -> 0 | U143: EXP | V143: =' FX FC_CAD'!E143 -> CAD | W143: =G143 -> 0 | X143: =D143 -> 45778
B144: S24 | D144: 45809 | E144: CAD | F144: EUR | G144: 330000 | H144: 330000 | J144: =G144-H144-I144 -> 0 | L144: =H144+I144 -> 330000 | M144: =IF(ISERR(L144/G144),"",L144/G144) -> 1 | Q144: =VLOOKUP(S144, SeasonRef, 2,0) -> #N/A | R144: =VLOOKUP(S144, SeasonRef, 3,0) -> #N/A | S144: =$I$134 -> 0 | T144: =$D$135 -> 0 | U144: EXP | V144: =' FX FC_CAD'!E144 -> CAD | W144: =G144 -> 330000 | X144: =D144 -> 45809
B145: S24 | D145: 45839 | E145: CAD | F145: EUR | G145: 1400000 | H145: 1400000 | J145: =G145-H145-I145 -> 0 | L145: =H145+I145 -> 1400000 | M145: =IF(ISERR(L145/G145),"",L145/G145) -> 1 | Q145: =VLOOKUP(S145, SeasonRef, 2,0) -> #N/A | R145: =VLOOKUP(S145, SeasonRef, 3,0) -> #N/A | S145: =$I$134 -> 0 | T145: =$D$135 -> 0 | U145: EXP | V145: =' FX FC_CAD'!E145 -> CAD | W145: =G145 -> 1400000 | X145: =D145 -> 45839
B146: S24 | D146: 45870 | E146: CAD | F146: EUR | G146: 2240000 | H146: 2240000 | J146: =G146-H146-I146 -> 0 | L146: =H146+I146 -> 2240000 | M146: =IF(ISERR(L146/G146),"",L146/G146) -> 1 | Q146: =VLOOKUP(S146, SeasonRef, 2,0) -> #N/A | R146: =VLOOKUP(S146, SeasonRef, 3,0) -> #N/A | S146: =$I$134 -> 0 | T146: =$D$135 -> 0 | U146: EXP | V146: =' FX FC_CAD'!E146 -> CAD | W146: =G146 -> 2240000 | X146: =D146 -> 45870
B147: S24 | D147: 45901 | E147: CAD | F147: EUR | G147: 2580000 | H147: 880000 | J147: =G147-H147-I147 -> 1700000 | L147: =H147+I147 -> 880000 | M147: =IF(ISERR(L147/G147),"",L147/G147) -> 0.34108527 | Q147: =VLOOKUP(S147, SeasonRef, 2,0) -> #N/A | R147: =VLOOKUP(S147, SeasonRef, 3,0) -> #N/A | S147: =$I$134 -> 0 | T147: =$D$135 -> 0 | U147: EXP | V147: =' FX FC_CAD'!E147 -> CAD | W147: =G147 -> 2580000 | X147: =D147 -> 45901
B148: S24 | D148: 45931 | E148: CAD | F148: EUR | G148: 2700000 | H148: 900000 | J148: =G148-H148-I148 -> 1800000 | L148: =H148+I148 -> 900000 | M148: =IF(ISERR(L148/G148),"",L148/G148) -> 0.33333333 | Q148: =VLOOKUP(S148, SeasonRef, 2,0) -> #N/A | R148: =VLOOKUP(S148, SeasonRef, 3,0) -> #N/A | S148: =$I$134 -> 0 | T148: =$D$135 -> 0 | U148: EXP | V148: =' FX FC_CAD'!E148 -> CAD | W148: =G148 -> 2700000 | X148: =D148 -> 45931
B149: S24 | D149: 45962 | E149: CAD | F149: EUR | G149: 750000 | H149: 0 | J149: =G149-H149-I149 -> 750000 | L149: =H149+I149 -> 0 | M149: =IF(ISERR(L149/G149),"",L149/G149) -> 0 | Q149: =VLOOKUP(S149, SeasonRef, 2,0) -> #N/A | R149: =VLOOKUP(S149, SeasonRef, 3,0) -> #N/A | S149: =$I$134 -> 0 | T149: =$D$135 -> 0 | U149: EXP | V149: =' FX FC_CAD'!E149 -> CAD | W149: =G149 -> 750000 | X149: =D149 -> 45962
...
