Workbook
Name fcentres: OFFSET('GESTION DES STOCKS'!pcentres,0,0,COUNTA('GESTION DES STOCKS'!lcentres),1)
Name fcentres: OFFSET(pcentres,0,0,COUNTA(lcentres),1)
Name fcentres: OFFSET(pcentres,0,0,COUNTA(lcentres),1)
Name lcentres: #REF!
Name lcentres: #REF!
Name pcentres: #REF!
Name pcentres: #REF!
Name Segment_CATEGORIE1: #N/A
Name Segment_CENTRE1: #N/A
Name Segment_PATIENT_NOM1: #N/A
Name Segment_PM: #N/A
Name Segment_PRÊT: #N/A
Name Segment_RECLASSt_NAV: #N/A
Name Segment_V_T: #N/A
Name Segment_VENTE1: #N/A
Name VENTES: '[1]BASE DE STATS'!#REF!
Name VENTES: '[1]BASE DE STATS'!#REF!
Name VISITETEL: [1]RECAP!#REF!
Name VISITETEL: [1]RECAP!#REF!

Sheet RECAP
A1: DATE | B1: V/T | C1: PATIENT NOM | D1: PATIENT PRENOM | E1: Sorties de Stock | K1: WATERWEAR
A3: 43390 | B3: V | C3: MANCEAU | D3: PATRICIA
A4: 43390 | B4: V | C4: GAUDE | D4: ROMAIN
A5: 43390 | B5: V | C5: MSIKA COCHARD | D5: SOLANGE
A6: INVENTAIRE AU 16 OCTOBRE 2018
A7: 43385 | B7: V | C7: KRYNGIEL | D7: CORINNE | E7: F0004

Sheet GESTION DES STOCKS
A2: GESTION DES STOCKS | C2: Total Entrée | F2: Total Sortie | J2: Ajustement
A3: =E8+COUNTIF('ENTREE STOCK'!#REF!,'ENTREE STOCK'!E4)-COUNTIF(RECAP!$E$1:$J$5,'GESTION DES STOCKS'!A8) -> #REF! | C3: Qté | E3: Valeur | F3: Qté | H3: Valeur | J3: Qté | K3: Valeur
C4: ='ENTREE STOCK'!E36 -> 13575
E5: Inventaire | F5: Etat du Stock | K5: Emplacement ( Etre face à l'armoire)
A6: Item No. | B6: Description | C6: N° de Série | D6: Magasin | E6: 43389 | F6: Réel | G6: Mini | H6: Alerte | I6: Date Cde | J6: Commentaire | K6: 1 : en bas - 3 : en haut
A7: SONNET | H7: =IF(G7>F7,"A commander","")
A8: 30749 | B8: SONNET Control Unit Ebony | C8: 69072 | D8: 9703 | E8: 1 | F8: =SUMIF('ENTREE STOCK'!C:C,A8,'ENTREE STOCK'!D:D) -> 3100 | G8: 1 | H8: =IF(G8>F8,"A commander","") | K8: GAUCHE TIROIR 2
A9: CABLES | H9: =IF(G9>F9,"A commander","")
A10: SONNET Câble d'antenne D | H10: =IF(G10>F10,"A commander","")
A11: 31571 | B11: SONNET Câble d'Antenne D 8,5cm noir | D11: 9703 | E11: 21 | F11: =SUMIF('ENTREE STOCK'!C:C,A11,'ENTREE STOCK'!D:D) -> 10200 | G11: 5 | H11: =IF(G11>F11,"A commander","") | L11: =IF(F11=E11,"OK","NON") -> NON
A12: 31572 | B12: SONNET Câble Ant D 28cm noir | D12: 9703 | E12: 17 | F12: =SUMIF('ENTREE STOCK'!C:C,A12,'ENTREE STOCK'!D:D) -> 250 | G12: 5 | H12: =IF(G12>F12,"A commander","") | L12: =IF(F12=E12,"OK","NON") -> NON
A13: 31595 | B13: SONNET Câb.Ant.D 8,5cm bge | D13: 9703 | E13: 19 | F13: =SUMIF('ENTREE STOCK'!C:C,A13,'ENTREE STOCK'!D:D) -> 25 | G13: 5 | H13: =IF(G13>F13,"A commander","") | L13: =IF(F13=E13,"OK","NON") -> NON
A16: SOMME.SI('ENTREE STOCK'!C:C;A8;'ENTREE STOCK'!D:D);E8-NB.SI(RECAP!E1:J5;A8)

Sheet ENTREE STOCK
A1: ENTREE DE STOCK
A3: Date | B3: Fournisseur | C3: Réf | D3: Qté | E3: Total | H3: =SUMIF([2]Entrées!B:B,#REF!,[2]Entrées!D:D) -> 0
A4: 43391 | B4: IBK | C4: 30749 | D4: 100 | E4: =SUM(D4) -> 100
A5: 43392 | B5: IBK | C5: 31571 | D5: 200 | E5: =SUM(D5) -> 200
A6: 43393 | B6: IBK | C6: 31572 | D6: 250 | E6: =SUM(D6) -> 250
A7: 43394 | B7: AUDIOF | C7: 31595 | D7: 25 | E7: =SUM(D7) -> 25
C8: 30749 | D8: 3000 | E8: =SUM(D8) -> 3000
C9: 31571 | D9: 10000 | E9: =SUM(D9) -> 10000
E10: =SUM(D10) -> 0
E11: =SUM(D11) -> 0
E12: =SUM(D12) -> 0
E13: =SUM(D13) -> 0
E14: =SUM(D14) -> 0
E15: =SUM(D15) -> 0
E16: =SUM(D16) -> 0
E17: =SUM(D17) -> 0
E18: =SUM(D18) -> 0
E19: =SUM(D19) -> 0
E20: =SUM(D20) -> 0
E21: =SUM(D21) -> 0
... E35: =SUM(D35) -> 0
E36: =SUM(E4:E35) -> 13575
