Workbook

Sheet Bons de ventes
A1: Date | B1: N° Jour | C1: N° Sem | D1: Mois | E1: Dépôt | F1: Vendeur | G1: Client | H1: Nom Client | I1: Théorique | J1: Réel | K1: Ecart | L1: Nb visites théoriques
A2: 19/09/14 | B2: =WEEKDAY(A2,2) -> 5 | C2: =WEEKNUM(A2,2) -> 38 | D2: =MONTH(A2) -> 9 | E2: a | F2: 02 | G2: 03129 | H2: A | I2: 30.65 | J2: 30.65 | K2: =I2-J2 -> 0 | L2: {=IFERROR(INDEX(Tournées!$H$1:$N$15,MATCH(1,(Tournées!H:H='Bons de ventes'!F2)*1,0),'Bons de ventes'!B2+1),"--")} -> 16
A3: 19/09/14 | B3: =WEEKDAY(A3,2) -> 5 | C3: =WEEKNUM(A3,2) -> 38 | D3: =MONTH(A3) -> 9 | E3: b | F3: 02 | G3: 01034 | H3: B | I3: 41.2 | J3: 38.7 | K3: =I3-J3 -> 2.5 | L3: {=IFERROR(INDEX(Tournées!$H$1:$N$15,MATCH(1,(Tournées!H:H='Bons de ventes'!F3)*1,0),'Bons de ventes'!B3+1),"--")} -> 16
A4: 19/09/14 | B4: =WEEKDAY(A4,2) -> 5 | C4: =WEEKNUM(A4,2) -> 38 | D4: =MONTH(A4) -> 9 | E4: a | F4: 02 | G4: 01025 | H4: A | I4: 73.2 | J4: 69 | K4: =I4-J4 -> 4.2 | L4: {=IFERROR(INDEX(Tournées!$H$1:$N$15,MATCH(1,(Tournées!H:H='Bons de ventes'!F4)*1,0),'Bons de ventes'!B4+1),"--")} -> 16
A5: 19/09/14 | B5: =WEEKDAY(A5,2) -> 5 | C5: =WEEKNUM(A5,2) -> 38 | D5: =MONTH(A5) -> 9 | E5: b | F5: 02 | G5: 01245 | H5: B | I5: 107.02 | J5: 95.27 | K5: =I5-J5 -> 11.75 | L5: {=IFERROR(INDEX(Tournées!$H$1:$N$15,MATCH(1,(Tournées!H:H='Bons de ventes'!F5)*1,0),'Bons de ventes'!B5+1),"--")} -> 16
A6: 19/09/14 | B6: =WEEKDAY(A6,2) -> 5 | C6: =WEEKNUM(A6,2) -> 38 | D6: =MONTH(A6) -> 9 | E6: a | F6: 02 | G6: 09205 | H6: A | I6: 130.28 | J6: 130.28 | K6: =I6-J6 -> 0 | L6: {=IFERROR(INDEX(Tournées!$H$1:$N$15,MATCH(1,(Tournées!H:H='Bons de ventes'!F6)*1,0),'Bons de ventes'!B6+1),"--")} -> 16
A7: 19/09/14 | B7: =WEEKDAY(A7,2) -> 5 | C7: =WEEKNUM(A7,2) -> 38 | D7: =MONTH(A7) -> 9 | E7: b | F7: 02 | G7: 03172 | H7: B | I7: 105.25 | J7: 105.25 | K7: =I7-J7 -> 0 | L7: {=IFERROR(INDEX(Tournées!$H$1:$N$15,MATCH(1,(Tournées!H:H='Bons de ventes'!F7)*1,0),'Bons de ventes'!B7+1),"--")} -> 16
A8: 19/09/14 | B8: =WEEKDAY(A8,2) -> 5 | C8: =WEEKNUM(A8,2) -> 38 | D8: =MONTH(A8) -> 9 | E8: a | F8: 02 | G8: 03216 | H8: A | I8: 69.42 | J8: 69.42 | K8: =I8-J8 -> 0 | L8: {=IFERROR(INDEX(Tournées!$H$1:$N$15,MATCH(1,(Tournées!H:H='Bons de ventes'!F8)*1,0),'Bons de ventes'!B8+1),"--")} -> 16
A9: 19/09/14 | B9: =WEEKDAY(A9,2) -> 5 | C9: =WEEKNUM(A9,2) -> 38 | D9: =MONTH(A9) -> 9 | E9: b | F9: 02 | G9: 03008 | H9: B | I9: 145.3 | J9: 142.4 | K9: =I9-J9 -> 2.9 | L9: {=IFERROR(INDEX(Tournées!$H$1:$N$15,MATCH(1,(Tournées!H:H='Bons de ventes'!F9)*1,0),'Bons de ventes'!B9+1),"--")} -> 16
A10: 19/09/14 | B10: =WEEKDAY(A10,2) -> 5 | C10: =WEEKNUM(A10,2) -> 38 | D10: =MONTH(A10) -> 9 | E10: a | F10: 02 | G10: 03085 | H10: A | I10: 24.55 | J10: 24.55 | K10: =I10-J10 -> 0 | L10: {=IFERROR(INDEX(Tournées!$H$1:$N$15,MATCH(1,(Tournées!H:H='Bons de ventes'!F10)*1,0),'Bons de ventes'!B10+1),"--")} -> 16
A11: 19/09/14 | B11: =WEEKDAY(A11,2) -> 5 | C11: =WEEKNUM(A11,2) -> 38 | D11: =MONTH(A11) -> 9 | E11: b | F11: 02 | G11: 03255 | H11: B | I11: 151.75 | J11: 140.5 | K11: =I11-J11 -> 11.25 | L11: {=IFERROR(INDEX(Tournées!$H$1:$N$15,MATCH(1,(Tournées!H:H='Bons de ventes'!F11)*1,0),'Bons de ventes'!B11+1),"--")} -> 16
A12: 19/09/14 | B12: =WEEKDAY(A12,2) -> 5 | C12: =WEEKNUM(A12,2) -> 38 | D12: =MONTH(A12) -> 9 | E12: a | F12: 02 | G12: 09205 | H12: A | I12: 36.05 | J12: 36.05 | K12: =I12-J12 -> 0 | L12: {=IFERROR(INDEX(Tournées!$H$1:$N$15,MATCH(1,(Tournées!H:H='Bons de ventes'!F12)*1,0),'Bons de ventes'!B12+1),"--")} -> 16
A13: 19/09/14 | B13: =WEEKDAY(A13,2) -> 5 | C13: =WEEKNUM(A13,2) -> 38 | D13: =MONTH(A13) -> 9 | E13: b | F13: 07 | G13: 05280 | H13: B | I13: 19.74 | J13: 19.74 | K13: =I13-J13 -> 0 | L13: {=IFERROR(INDEX(Tournées!$H$1:$N$15,MATCH(1,(Tournées!H:H='Bons de ventes'!F13)*1,0),'Bons de ventes'!B13+1),"--")} -> 13 | M13: normalement 13
A14: 19/09/14 | B14: =WEEKDAY(A14,2) -> 5 | C14: =WEEKNUM(A14,2) -> 38 | D14: =MONTH(A14) -> 9 | E14: a | F14: 07 | G14: 05178 | H14: A | I14: 113.1 | J14: 118.15 | K14: =I14-J14 -> -5.05 | L14: {=IFERROR(INDEX(Tournées!$H$1:$N$15,MATCH(1,(Tournées!H:H='Bons de ventes'!F14)*1,0),'Bons de ventes'!B14+1),"--")} -> 13
A15: 19/09/14 | B15: =WEEKDAY(A15,2) -> 5 | C15: =WEEKNUM(A15,2) -> 38 | D15: =MONTH(A15) -> 9 | E15: b | F15: 07 | G15: 05010 | H15: B | I15: 70.65 | J15: 70.65 | K15: =I15-J15 -> 0 | L15: {=IFERROR(INDEX(Tournées!$H$1:$N$15,MATCH(1,(Tournées!H:H='Bons de ventes'!F15)*1,0),'Bons de ventes'!B15+1),"--")} -> 13
A16: 19/09/14 | B16: =WEEKDAY(A16,2) -> 5 | C16: =WEEKNUM(A16,2) -> 38 | D16: =MONTH(A16) -> 9 | E16: a | F16: 07 | G16: 05085 | H16: A | I16: 79.58 | J16: 79.14 | K16: =I16-J16 -> 0.44 | L16: {=IFERROR(INDEX(Tournées!$H$1:$N$15,MATCH(1,(Tournées!H:H='Bons de ventes'!F16)*1,0),'Bons de ventes'!B16+1),"--")} -> 13
A17: 19/09/14 | B17: =WEEKDAY(A17,2) -> 5 | C17: =WEEKNUM(A17,2) -> 38 | D17: =MONTH(A17) -> 9 | E17: b | F17: 07 | G17: 04130 | H17: B | I17: 87.33 | J17: 87.33 | K17: =I17-J17 -> 0 | L17: {=IFERROR(INDEX(Tournées!$H$1:$N$15,MATCH(1,(Tournées!H:H='Bons de ventes'!F17)*1,0),'Bons de ventes'!B17+1),"--")} -> 13
A18: 19/09/14 | B18: =WEEKDAY(A18,2) -> 5 | C18: =WEEKNUM(A18,2) -> 38 | D18: =MONTH(A18) -> 9 | E18: a | F18: 07 | G18: 04091 | H18: A | I18: 55.39 | J18: 53.89 | K18: =I18-J18 -> 1.5 | L18: {=IFERROR(INDEX(Tournées!$H$1:$N$15,MATCH(1,(Tournées!H:H='Bons de ventes'!F18)*1,0),'Bons de ventes'!B18+1),"--")} -> 13
A19: 19/09/14 | B19: =WEEKDAY(A19,2) -> 5 | C19: =WEEKNUM(A19,2) -> 38 | D19: =MONTH(A19) -> 9 | E19: b | F19: 07 | G19: 04107 | H19: B | I19: 56.8 | J19: 49.9 | K19: =I19-J19 -> 6.9 | L19: {=IFERROR(INDEX(Tournées!$H$1:$N$15,MATCH(1,(Tournées!H:H='Bons de ventes'!F19)*1,0),'Bons de ventes'!B19+1),"--")} -> 13
A20: 19/09/14 | B20: =WEEKDAY(A20,2) -> 5 | C20: =WEEKNUM(A20,2) -> 38 | D20: =MONTH(A20) -> 9 | E20: a | F20: 07 | G20: 04329 | H20: A | I20: 138.65 | J20: 132.9 | K20: =I20-J20 -> 5.75 | L20: {=IFERROR(INDEX(Tournées!$H$1:$N$15,MATCH(1,(Tournées!H:H='Bons de ventes'!F20)*1,0),'Bons de ventes'!B20+1),"--")} -> 13
A21: 19/09/14 | B21: =WEEKDAY(A21,2) -> 5 | C21: =WEEKNUM(A21,2) -> 38 | D21: =MONTH(A21) -> 9 | E21: b | F21: 07 | G21: 04233 | H21: B | I21: 80.84 | J21: 80.09 | K21: =I21-J21 -> 0.75 | L21: {=IFERROR(INDEX(Tournées!$H$1:$N$15,MATCH(1,(Tournées!H:H='Bons de ventes'!F21)*1,0),'Bons de ventes'!B21+1),"--")} -> 13
A22: 19/09/14 | B22: =WEEKDAY(A22,2) -> 5 | C22: =WEEKNUM(A22,2) -> 38 | D22: =MONTH(A22) -> 9 | E22: a | F22: 11 | G22: 03145 | H22: A | I22: 22.25 | J22: 22.25 | K22: =I22-J22 -> 0 | L22: {=IFERROR(INDEX(Tournées!$H$1:$N$15,MATCH(1,(Tournées!H:H='Bons de ventes'!F22)*1,0),'Bons de ventes'!B22+1),"--")} -> 17 | M22: ne marche pas après :-(
A23: 19/09/14 | B23: =WEEKDAY(A23,2) -> 5 | C23: =WEEKNUM(A23,2) -> 38 | D23: =MONTH(A23) -> 9 | E23: b | F23: 11 | G23: 03046 | H23: B | I23: 6.2 | J23: 6.2 | K23: =I23-J23 -> 0 | L23: {=IFERROR(INDEX(Tournées!$H$1:$N$15,MATCH(1,(Tournées!H:H='Bons de ventes'!F23)*1,0),'Bons de ventes'!B23+1),"--")} -> 17
A24: 19/09/14 | B24: =WEEKDAY(A24,2) -> 5 | C24: =WEEKNUM(A24,2) -> 38 | D24: =MONTH(A24) -> 9 | E24: a | F24: 11 | G24: 03051 | H24: A | I24: 12.9 | J24: 12.9 | K24: =I24-J24 -> 0 | L24: {=IFERROR(INDEX(Tournées!$H$1:$N$15,MATCH(1,(Tournées!H:H='Bons de ventes'!F24)*1,0),'Bons de ventes'!B24+1),"--")} -> 17
A25: 19/09/14 | B25: =WEEKDAY(A25,2) -> 5 | C25: =WEEKNUM(A25,2) -> 38 | D25: =MONTH(A25) -> 9 | E25: b | F25: 11 | G25: 03146 | H25: B | I25: 16.8 | J25: 16.8 | K25: =I25-J25 -> 0 | L25: {=IFERROR(INDEX(Tournées!$H$1:$N$15,MATCH(1,(Tournées!H:H='Bons de ventes'!F25)*1,0),'Bons de ventes'!B25+1),"--")} -> 17
A26: 19/09/14 | B26: =WEEKDAY(A26,2) -> 5 | C26: =WEEKNUM(A26,2) -> 38 | D26: =MONTH(A26) -> 9 | E26: a | F26: 11 | G26: 00907 | H26: A | I26: 66.95 | J26: 67.15 | K26: =I26-J26 -> -0.2 | L26: {=IFERROR(INDEX(Tournées!$H$1:$N$15,MATCH(1,(Tournées!H:H='Bons de ventes'!F26)*1,0),'Bons de ventes'!B26+1),"--")} -> 17
A27: 19/09/14 | B27: =WEEKDAY(A27,2) -> 5 | C27: =WEEKNUM(A27,2) -> 38 | D27: =MONTH(A27) -> 9 | E27: b | F27: 11 | G27: 05064 | H27: B | I27: 77 | J27: 75 | K27: =I27-J27 -> 2 | L27: {=IFERROR(INDEX(Tournées!$H$1:$N$15,MATCH(1,(Tournées!H:H='Bons de ventes'!F27)*1,0),'Bons de ventes'!B27+1),"--")} -> 17
A28: 19/09/14 | B28: =WEEKDAY(A28,2) -> 5 | C28: =WEEKNUM(A28,2) -> 38 | D28: =MONTH(A28) -> 9 | E28: a | F28: 11 | G28: 05029 | H28: A | I28: 49.45 | J28: 49.45 | K28: =I28-J28 -> 0 | L28: {=IFERROR(INDEX(Tournées!$H$1:$N$15,MATCH(1,(Tournées!H:H='Bons de ventes'!F28)*1,0),'Bons de ventes'!B28+1),"--")} -> 17
A29: 19/09/14 | B29: =WEEKDAY(A29,2) -> 5 | C29: =WEEKNUM(A29,2) -> 38 | D29: =MONTH(A29) -> 9 | E29: b | F29: 11 | G29: 02639 | H29: B | I29: 28.15 | J29: 28.15 | K29: =I29-J29 -> 0 | L29: {=IFERROR(INDEX(Tournées!$H$1:$N$15,MATCH(1,(Tournées!H:H='Bons de ventes'!F29)*1,0),'Bons de ventes'!B29+1),"--")} -> 17
A30: 19/09/14 | B30: =WEEKDAY(A30,2) -> 5 | C30: =WEEKNUM(A30,2) -> 38 | D30: =MONTH(A30) -> 9 | E30: a | F30: 11 | G30: 02169 | H30: A | I30: 71.27 | J30: 67.77 | K30: =I30-J30 -> 3.5 | L30: {=IFERROR(INDEX(Tournées!$H$1:$N$15,MATCH(1,(Tournées!H:H='Bons de ventes'!F30)*1,0),'Bons de ventes'!B30+1),"--")} -> 17
A31: 19/09/14 | B31: =WEEKDAY(A31,2) -> 5 | C31: =WEEKNUM(A31,2) -> 38 | D31: =MONTH(A31) -> 9 | E31: b | F31: 11 | G31: 02211 | H31: B | I31: 147.15 | J31: 147.65 | K31: =I31-J31 -> -0.5 | L31: {=IFERROR(INDEX(Tournées!$H$1:$N$15,MATCH(1,(Tournées!H:H='Bons de ventes'!F31)*1,0),'Bons de ventes'!B31+1),"--")} -> 17
A32: 19/09/14 | B32: =WEEKDAY(A32,2) -> 5 | C32: =WEEKNUM(A32,2) -> 38 | D32: =MONTH(A32) -> 9 | E32: a | F32: 40 | G32: 03025 | H32: A | I32: 71.9 | J32: 71.9 | K32: =I32-J32 -> 0 | L32: {=IFERROR(INDEX(Tournées!$H$1:$N$15,MATCH(1,(Tournées!H:H='Bons de ventes'!F32)*1,0),'Bons de ventes'!B32+1),"--")} -> 6
A33: 19/09/14 | B33: =WEEKDAY(A33,2) -> 5 | C33: =WEEKNUM(A33,2) -> 38 | D33: =MONTH(A33) -> 9 | E33: b | F33: 40 | G33: 03222 | H33: B | I33: 113 | J33: 112.6 | K33: =I33-J33 -> 0.4 | L33: {=IFERROR(INDEX(Tournées!$H$1:$N$15,MATCH(1,(Tournées!H:H='Bons de ventes'!F33)*1,0),'Bons de ventes'!B33+1),"--")} -> 6
A34: 19/09/14 | B34: =WEEKDAY(A34,2) -> 5 | C34: =WEEKNUM(A34,2) -> 38 | D34: =MONTH(A34) -> 9 | E34: a | F34: 40 | G34: 03223 | H34: A | I34: 43.8 | J34: 43.8 | K34: =I34-J34 -> 0 | L34: {=IFERROR(INDEX(Tournées!$H$1:$N$15,MATCH(1,(Tournées!H:H='Bons de ventes'!F34)*1,0),'Bons de ventes'!B34+1),"--")} -> 6
... A169: 19/09/14 | B169: =WEEKDAY(A169,2) -> 5 | C169: =WEEKNUM(A169,2) -> 38 | D169: =MONTH(A169) -> 9 | E169: b | F169: 33 | G169: 08719 | H169: B | I169: 49.4 | J169: 49.4 | K169: =I169-J169 -> 0 | L169: {=IFERROR(INDEX(Tournées!$H$1:$N$15,MATCH(1,(Tournées!H:H='Bons de ventes'!F169)*1,0),'Bons de ventes'!B169+1),"--")} -> 10

Sheet Commerciaux
A1: Vendeur | B1: Nom Vendeur | C1: Dépôt
A2: 02 | B2: A | C2: A
A3: 07 | B3: B | C3: B
A4: 11 | B4: A | C4: C
A5: 40 | B5: B | C5: A
A6: 22 | B6: A | C6: B
A7: 23 | B7: B | C7: C
A8: 24 | B8: A | C8: A
A9: 62 | B9: B | C9: B
A10: 51 | B10: A | C10: C
A11: 52 | B11: B | C11: A
A12: 53 | B12: A | C12: B
A13: 31 | B13: B | C13: C
A14: 32 | B14: A | C14: A
A15: 33 | B15: B | C15: B

Sheet Tournées
A1: Commerciaux | B1: Jour | C1: N° Client | D1: Nom Client | I1: =1 | J1: =2 | K1: =3 | L1: =4 | M1: =5 | N1: =6
A2: 07 | B2: 1 | C2: 04091 | D2: a | H2: 11 | I2: =COUNTIFS($A$2:$A$962,$H2,$B$2:$B$962,I$1) -> 8 | J2: =COUNTIFS($A$2:$A$962,$H2,$B$2:$B$962,J$1) -> 16 | K2: =COUNTIFS($A$2:$A$962,$H2,$B$2:$B$962,K$1) -> 15 | L2: =COUNTIFS($A$2:$A$962,$H2,$B$2:$B$962,L$1) -> 16 | M2: =COUNTIFS($A$2:$A$962,$H2,$B$2:$B$962,M$1) -> 17 | N2: =COUNTIFS($A$2:$A$962,$H2,$B$2:$B$962,N$1) -> 0
A3: 07 | B3: 1 | C3: 04254 | D3: b | H3: 22 | I3: =COUNTIFS($A$2:$A$962,$H3,$B$2:$B$962,I$1) -> 0 | J3: =COUNTIFS($A$2:$A$962,$H3,$B$2:$B$962,J$1) -> 22 | K3: =COUNTIFS($A$2:$A$962,$H3,$B$2:$B$962,K$1) -> 19 | L3: =COUNTIFS($A$2:$A$962,$H3,$B$2:$B$962,L$1) -> 22 | M3: =COUNTIFS($A$2:$A$962,$H3,$B$2:$B$962,M$1) -> 19 | N3: =COUNTIFS($A$2:$A$962,$H3,$B$2:$B$962,N$1) -> 17
A4: 07 | B4: 1 | C4: 04136 | D4: c | H4: 23 | I4: =COUNTIFS($A$2:$A$962,$H4,$B$2:$B$962,I$1) -> 0 | J4: =COUNTIFS($A$2:$A$962,$H4,$B$2:$B$962,J$1) -> 15 | K4: =COUNTIFS($A$2:$A$962,$H4,$B$2:$B$962,K$1) -> 14 | L4: =COUNTIFS($A$2:$A$962,$H4,$B$2:$B$962,L$1) -> 19 | M4: =COUNTIFS($A$2:$A$962,$H4,$B$2:$B$962,M$1) -> 16 | N4: =COUNTIFS($A$2:$A$962,$H4,$B$2:$B$962,N$1) -> 10
A5: 07 | B5: 1 | C5: 04154 | D5: d | H5: 24 | I5: =COUNTIFS($A$2:$A$962,$H5,$B$2:$B$962,I$1) -> 0 | J5: =COUNTIFS($A$2:$A$962,$H5,$B$2:$B$962,J$1) -> 14 | K5: =COUNTIFS($A$2:$A$962,$H5,$B$2:$B$962,K$1) -> 15 | L5: =COUNTIFS($A$2:$A$962,$H5,$B$2:$B$962,L$1) -> 14 | M5: =COUNTIFS($A$2:$A$962,$H5,$B$2:$B$962,M$1) -> 15 | N5: =COUNTIFS($A$2:$A$962,$H5,$B$2:$B$962,N$1) -> 15
A6: 07 | B6: 1 | C6: 05085 | D6: a | H6: 31 | I6: =COUNTIFS($A$2:$A$962,$H6,$B$2:$B$962,I$1) -> 0 | J6: =COUNTIFS($A$2:$A$962,$H6,$B$2:$B$962,J$1) -> 16 | K6: =COUNTIFS($A$2:$A$962,$H6,$B$2:$B$962,K$1) -> 21 | L6: =COUNTIFS($A$2:$A$962,$H6,$B$2:$B$962,L$1) -> 16 | M6: =COUNTIFS($A$2:$A$962,$H6,$B$2:$B$962,M$1) -> 23 | N6: =COUNTIFS($A$2:$A$962,$H6,$B$2:$B$962,N$1) -> 0
A7: 07 | B7: 1 | C7: 04130 | D7: b | H7: 32 | I7: =COUNTIFS($A$2:$A$962,$H7,$B$2:$B$962,I$1) -> 0 | J7: =COUNTIFS($A$2:$A$962,$H7,$B$2:$B$962,J$1) -> 21 | K7: =COUNTIFS($A$2:$A$962,$H7,$B$2:$B$962,K$1) -> 20 | L7: =COUNTIFS($A$2:$A$962,$H7,$B$2:$B$962,L$1) -> 19 | M7: =COUNTIFS($A$2:$A$962,$H7,$B$2:$B$962,M$1) -> 27 | N7: =COUNTIFS($A$2:$A$962,$H7,$B$2:$B$962,N$1) -> 20
A8: 07 | B8: 1 | C8: 04458 | D8: c | H8: 33 | I8: =COUNTIFS($A$2:$A$962,$H8,$B$2:$B$962,I$1) -> 0 | J8: =COUNTIFS($A$2:$A$962,$H8,$B$2:$B$962,J$1) -> 15 | K8: =COUNTIFS($A$2:$A$962,$H8,$B$2:$B$962,K$1) -> 0 | L8: =COUNTIFS($A$2:$A$962,$H8,$B$2:$B$962,L$1) -> 15 | M8: =COUNTIFS($A$2:$A$962,$H8,$B$2:$B$962,M$1) -> 10 | N8: =COUNTIFS($A$2:$A$962,$H8,$B$2:$B$962,N$1) -> 14
A9: 07 | B9: 1 | C9: 04628 | D9: d | H9: 40 | I9: =COUNTIFS($A$2:$A$962,$H9,$B$2:$B$962,I$1) -> 14 | J9: =COUNTIFS($A$2:$A$962,$H9,$B$2:$B$962,J$1) -> 17 | K9: =COUNTIFS($A$2:$A$962,$H9,$B$2:$B$962,K$1) -> 16 | L9: =COUNTIFS($A$2:$A$962,$H9,$B$2:$B$962,L$1) -> 18 | M9: =COUNTIFS($A$2:$A$962,$H9,$B$2:$B$962,M$1) -> 6 | N9: =COUNTIFS($A$2:$A$962,$H9,$B$2:$B$962,N$1) -> 0
A10: 07 | B10: 1 | C10: 04214 | D10: a | H10: 51 | I10: =COUNTIFS($A$2:$A$962,$H10,$B$2:$B$962,I$1) -> 0 | J10: =COUNTIFS($A$2:$A$962,$H10,$B$2:$B$962,J$1) -> 0 | K10: =COUNTIFS($A$2:$A$962,$H10,$B$2:$B$962,K$1) -> 0 | L10: =COUNTIFS($A$2:$A$962,$H10,$B$2:$B$962,L$1) -> 0 | M10: =COUNTIFS($A$2:$A$962,$H10,$B$2:$B$962,M$1) -> 0 | N10: =COUNTIFS($A$2:$A$962,$H10,$B$2:$B$962,N$1) -> 0
A11: 07 | B11: 1 | C11: 05178 | D11: b | H11: 52 | I11: =COUNTIFS($A$2:$A$962,$H11,$B$2:$B$962,I$1) -> 0 | J11: =COUNTIFS($A$2:$A$962,$H11,$B$2:$B$962,J$1) -> 19 | K11: =COUNTIFS($A$2:$A$962,$H11,$B$2:$B$962,K$1) -> 16 | L11: =COUNTIFS($A$2:$A$962,$H11,$B$2:$B$962,L$1) -> 23 | M11: =COUNTIFS($A$2:$A$962,$H11,$B$2:$B$962,M$1) -> 16 | N11: =COUNTIFS($A$2:$A$962,$H11,$B$2:$B$962,N$1) -> 19
A12: 07 | B12: 1 | C12: 05280 | D12: c | H12: 53 | I12: =COUNTIFS($A$2:$A$962,$H12,$B$2:$B$962,I$1) -> 0 | J12: =COUNTIFS($A$2:$A$962,$H12,$B$2:$B$962,J$1) -> 21 | K12: =COUNTIFS($A$2:$A$962,$H12,$B$2:$B$962,K$1) -> 18 | L12: =COUNTIFS($A$2:$A$962,$H12,$B$2:$B$962,L$1) -> 19 | M12: =COUNTIFS($A$2:$A$962,$H12,$B$2:$B$962,M$1) -> 18 | N12: =COUNTIFS($A$2:$A$962,$H12,$B$2:$B$962,N$1) -> 18
A13: 07 | B13: 1 | C13: 04458 | D13: d | H13: 62 | I13: =COUNTIFS($A$2:$A$962,$H13,$B$2:$B$962,I$1) -> 0 | J13: =COUNTIFS($A$2:$A$962,$H13,$B$2:$B$962,J$1) -> 0 | K13: =COUNTIFS($A$2:$A$962,$H13,$B$2:$B$962,K$1) -> 0 | L13: =COUNTIFS($A$2:$A$962,$H13,$B$2:$B$962,L$1) -> 0 | M13: =COUNTIFS($A$2:$A$962,$H13,$B$2:$B$962,M$1) -> 0 | N13: =COUNTIFS($A$2:$A$962,$H13,$B$2:$B$962,N$1) -> 0
... A15: 07 | B15: 1 | C15: 05010 | D15: b | H15: 07 | I15: =COUNTIFS($A$2:$A$962,$H15,$B$2:$B$962,I$1) -> 15 | J15: =COUNTIFS($A$2:$A$962,$H15,$B$2:$B$962,J$1) -> 20 | K15: =COUNTIFS($A$2:$A$962,$H15,$B$2:$B$962,K$1) -> 11 | L15: =COUNTIFS($A$2:$A$962,$H15,$B$2:$B$962,L$1) -> 18 | M15: =COUNTIFS($A$2:$A$962,$H15,$B$2:$B$962,M$1) -> 13 | N15: =COUNTIFS($A$2:$A$962,$H15,$B$2:$B$962,N$1) -> 0
A16: 07 | B16: 1 | C16: 04105 | D16: c
A17: 07 | B17: 2 | C17: 04107 | D17: d
A18: 07 | B18: 2 | C18: 04091 | D18: a
A19: 07 | B19: 2 | C19: 04233 | D19: b
A20: 07 | B20: 2 | C20: 04254 | D20: c
A21: 07 | B21: 2 | C21: 04628 | D21: d
A22: 07 | B22: 2 | C22: 04136 | D22: a
A23: 07 | B23: 2 | C23: 04218 | D23: b
A24: 07 | B24: 2 | C24: 00454 | D24: c
A25: 07 | B25: 2 | C25: 04628 | D25: d
A26: 07 | B26: 2 | C26: 04458 | D26: a
A27: 07 | B27: 2 | C27: 04157 | D27: b
... A78: 07 | B78: 5 | C78: 03148 | D78: a
A79: 11 | B79: 1 | C79: 02204 | D79: b
A80: 11 | B80: 1 | C80: 02116 | D80: c
A81: 11 | B81: 1 | C81: 02056 | D81: d
A82: 11 | B82: 1 | C82: 02520 | D82: a
A83: 11 | B83: 1 | C83: 02169 | D83: b
A84: 11 | B84: 1 | C84: 02270 | D84: c
A85: 11 | B85: 1 | C85: 05131 | D85: d
A86: 11 | B86: 1 | C86: 05064 | D86: a
A87: 11 | B87: 2 | C87: 02060 | D87: b
A88: 11 | B88: 2 | C88: 02211 | D88: c
A89: 11 | B89: 2 | C89: 02150 | D89: d
A90: 11 | B90: 2 | C90: 02133 | D90: a
... A150: 11 | B150: 5 | C150: 02169 | D150: a
...
