Workbook
Name _an: Calendrier!$A$2
Name _deb: Sources!$C$2
Name _fin: Sources!$D$2
Name _mois: Calendrier!$A$3
Name Chômés: Paramètres_Application!$B$9
Name Date_Deb: DATE(Calendrier!$A$2,MONTH(Calendrier!$A$3&1),1)
Name Fériés: OFFSET(Paramètres_Application!$D$2,,,COUNTA(Paramètres_Application!$D:$D),)
Name Pâq_Année_N: ROUND(DATE(YEAR(Date_Deb),4,1)/7+MOD(19*MOD(YEAR(Date_Deb),19)-7,30)*14/100,0)*7-6
Name Pâq_Année_N1: ROUND(DATE(YEAR(Date_Deb)+1,4,1)/7+MOD(19*MOD(YEAR(Date_Deb)+1,19)-7,30)*14/100,0)*7-6
Name Ponts: OFFSET(Paramètres_Application!$G$2,,,COUNTA(Paramètres_Application!$G:$G)-1,)
Name Remise_Complementaire_1: Sources!$I$30:$I$41
Name Remise_Complementaire_2: Sources!$I$43:$I$54
Name Remise_Principale_1: Sources!$I$4:$I$15
Name Remise_Principale_2: Sources!$I$17:$I$28
Name T_SE: Paramètres_Application!$H$3

Sheet Calendrier
B1: =IF(WEEKDAY(B$2,2)=1,"S" &WEEKNUM(B$2),"") -> S40 | C1: =IF(WEEKDAY(C$2,2)=1,"S" &WEEKNUM(C$2),"") | D1: =IF(WEEKDAY(D$2,2)=1,"S" &WEEKNUM(D$2),"") | E1: =IF(WEEKDAY(E$2,2)=1,"S" &WEEKNUM(E$2),"") | F1: =IF(WEEKDAY(F$2,2)=1,"S" &WEEKNUM(F$2),"") | G1: =IF(WEEKDAY(G$2,2)=1,"S" &WEEKNUM(G$2),"") | H1: =IF(WEEKDAY(H$2,2)=1,"S" &WEEKNUM(H$2),"") | I1: =IF(WEEKDAY(I$2,2)=1,"S" &WEEKNUM(I$2),"") -> S41 | ... AF1: =IF(WEEKDAY(AF$2,2)=1,"S" &WEEKNUM(AF$2),"")
A2: 2018 | B2: =DATE($A$2,MONTH($A$3&1),1) -> 43374 | C2: =B2+1 -> 43375 | D2: =C2+1 -> 43376 | E2: =D2+1 -> 43377 | F2: =E2+1 -> 43378 | G2: =F2+1 -> 43379 | H2: =G2+1 -> 43380 | I2: =H2+1 -> 43381 | J2: =I2+1 -> 43382 | ... AF2: =AE2+1 -> 43404
A3: Octobre | B3: =B2 -> 43374 | C3: =C2 -> 43375 | D3: =D2 -> 43376 | E3: =E2 -> 43377 | F3: =F2 -> 43378 | G3: =G2 -> 43379 | H3: =H2 -> 43380 | I3: =I2 -> 43381 | ... AF3: =AF2 -> 43404
A4: Sylviane
A5: Annie
A6: Sandrine
A7: Nicolas
A8: Patrick
A9: Mourad
A10: Aurélie
A11: Sandrine

Sheet Sources
A1: Mois | C1: Date de début de paiement | D1: Date de fin de paiement
A2: Janvier | C2: =INDEX(Remise_Principale_1,MATCH(MONTH(_mois&1),J4:J15,0)) -> 43397 | D2: =INDEX(Remise_Principale_2,MATCH(MONTH(_mois&1),J17:J28,0)) -> 43399
A3: Février | C3: Mois de Paye | D3: Remise Principale #1 | E3: 2018 | F3: 2019 | G3: 2020 | I3: =Calendrier!A2 -> 2018 | J3: LRD
A4: Mars | D4: Janvier | E4: 43088 | F4: 43448 | I4: =HLOOKUP(_an,Sources!E$3:G$15,ROW()-2,0)+1 -> 43089 | J4: =MONTH(I4) -> 12
A5: Avril | D5: Février | E5: 43123 | F5: 43488 | I5: =HLOOKUP(_an,Sources!E$3:G$15,ROW()-2,0)+1 -> 43124 | J5: =MONTH(I5) -> 1
A6: Mai | D6: Mars | E6: 43151 | F6: 43516 | I6: =HLOOKUP(_an,Sources!E$3:G$15,ROW()-2,0)+1 -> 43152 | J6: =MONTH(I6) -> 2
A7: Juin | D7: Avril | E7: 43181 | F7: 43545 | I7: =HLOOKUP(_an,Sources!E$3:G$15,ROW()-2,0)+1 -> 43182 | J7: =MONTH(I7) -> 3
A8: Juillet | D8: Mai | E8: 43210 | F8: 43574 | I8: =HLOOKUP(_an,Sources!E$3:G$15,ROW()-2,0)+1 -> 43211 | J8: =MONTH(I8) -> 4
A9: Août | D9: Juin | E9: 43243 | F9: 43607 | I9: =HLOOKUP(_an,Sources!E$3:G$15,ROW()-2,0)+1 -> 43244 | J9: =MONTH(I9) -> 5
A10: Septembre | D10: Juillet | E10: 43272 | F10: 43636 | I10: =HLOOKUP(_an,Sources!E$3:G$15,ROW()-2,0)+1 -> 43273 | J10: =MONTH(I10) -> 6
A11: Octobre | D11: Août | E11: 43301 | F11: 43669 | I11: =HLOOKUP(_an,Sources!E$3:G$15,ROW()-2,0)+1 -> 43302 | J11: =MONTH(I11) -> 7
A12: Novembre | D12: Septembre | E12: 43334 | F12: 43699 | I12: =HLOOKUP(_an,Sources!E$3:G$15,ROW()-2,0)+1 -> 43335 | J12: =MONTH(I12) -> 8
A13: Décembre | D13: Octobre | E13: 43363 | F13: 43728 | I13: =HLOOKUP(_an,Sources!E$3:G$15,ROW()-2,0)+1 -> 43364 | J13: =MONTH(I13) -> 9
D14: Novembre | E14: 43396 | F14: 43761 | I14: =HLOOKUP(_an,Sources!E$3:G$15,ROW()-2,0)+1 -> 43397 | J14: =MONTH(I14) -> 10
D15: Décembre | E15: 43419 | F15: 43783 | I15: =HLOOKUP(_an,Sources!E$3:G$15,ROW()-2,0)+1 -> 43420 | J15: =MONTH(I15) -> 11
D16: Remise Principale #2 | E16: 2018 | F16: 2019 | G16: 2020 | I16: =Calendrier!A2 -> 2018 | J16: LRD
D17: Janvier | E17: 43091 | F17: 43453 | I17: =HLOOKUP(_an,Sources!E$16:G$28,ROW()-15,0) -> 43091 | J17: =MONTH(I17) -> 12
D18: Février | E18: 43126 | F18: 43493 | I18: =HLOOKUP(_an,Sources!E$16:G$28,ROW()-15,0) -> 43126 | J18: =MONTH(I18) -> 1
D19: Mars | E19: 43154 | F19: 43521 | I19: =HLOOKUP(_an,Sources!E$16:G$28,ROW()-15,0) -> 43154 | J19: =MONTH(I19) -> 2
D20: Avril | E20: 43186 | F20: 43550 | I20: =HLOOKUP(_an,Sources!E$16:G$28,ROW()-15,0) -> 43186 | J20: =MONTH(I20) -> 3
D21: Mai | E21: 43215 | F21: 43579 | I21: =HLOOKUP(_an,Sources!E$16:G$28,ROW()-15,0) -> 43215 | J21: =MONTH(I21) -> 4
D22: Juin | E22: 43248 | F22: 43612 | I22: =HLOOKUP(_an,Sources!E$16:G$28,ROW()-15,0) -> 43248 | J22: =MONTH(I22) -> 5
D23: Juillet | E23: 43277 | F23: 43641 | I23: =HLOOKUP(_an,Sources!E$16:G$28,ROW()-15,0) -> 43277 | J23: =MONTH(I23) -> 6
D24: Août | E24: 43306 | F24: 43672 | I24: =HLOOKUP(_an,Sources!E$16:G$28,ROW()-15,0) -> 43306 | J24: =MONTH(I24) -> 7
D25: Septembre | E25: 43339 | F25: 43704 | I25: =HLOOKUP(_an,Sources!E$16:G$28,ROW()-15,0) -> 43339 | J25: =MONTH(I25) -> 8
D26: Octobre | E26: 43368 | F26: 43733 | I26: =HLOOKUP(_an,Sources!E$16:G$28,ROW()-15,0) -> 43368 | J26: =MONTH(I26) -> 9
D27: Novembre | E27: 43399 | F27: 43766 | I27: =HLOOKUP(_an,Sources!E$16:G$28,ROW()-15,0) -> 43399 | J27: =MONTH(I27) -> 10
D28: Décembre | E28: 43420 | F28: 43784 | I28: =HLOOKUP(_an,Sources!E$16:G$28,ROW()-15,0) -> 43420 | J28: =MONTH(I28) -> 11
D29: Remise Complémentaire #1 | E29: 2018 | F29: 2019 | G29: 2020 | I29: =Calendrier!A2 -> 2018 | J29: LRD
D30: Janvier | E30: 43103 | F30: 43468 | I30: =HLOOKUP(_an,Sources!E$29:G$41,ROW()-28,0)+1 -> 43104 | J30: =MONTH(I30) -> 1
D31: Février | E31: 43132 | F31: 43496 | I31: =HLOOKUP(_an,Sources!E$29:G$41,ROW()-28,0)+1 -> 43133 | J31: =MONTH(I31) -> 2
D32: Mars | E32: 43164 | F32: 43528 | I32: =HLOOKUP(_an,Sources!E$29:G$41,ROW()-28,0)+1 -> 43165 | J32: =MONTH(I32) -> 3
D33: Avril | E33: 43195 | F33: 43558 | I33: =HLOOKUP(_an,Sources!E$29:G$41,ROW()-28,0)+1 -> 43196 | J33: =MONTH(I33) -> 4
D34: Mai | E34: 43220 | F34: 43587 | I34: =HLOOKUP(_an,Sources!E$29:G$41,ROW()-28,0)+1 -> 43221 | J34: =MONTH(I34) -> 5
D35: Juin | E35: 43255 | F35: 43619 | I35: =HLOOKUP(_an,Sources!E$29:G$41,ROW()-28,0)+1 -> 43256 | J35: =MONTH(I35) -> 6
D36: Juillet | E36: 43284 | F36: 43649 | I36: =HLOOKUP(_an,Sources!E$29:G$41,ROW()-28,0)+1 -> 43285 | J36: =MONTH(I36) -> 7
D37: Août | E37: 43314 | F37: 43679 | I37: =HLOOKUP(_an,Sources!E$29:G$41,ROW()-28,0)+1 -> 43315 | J37: =MONTH(I37) -> 8
D38: Septembre | E38: 43348 | F38: 43712 | I38: =HLOOKUP(_an,Sources!E$29:G$41,ROW()-28,0)+1 -> 43349 | J38: =MONTH(I38) -> 9
D39: Octobre | E39: 43375 | F39: 43741 | I39: =HLOOKUP(_an,Sources!E$29:G$41,ROW()-28,0)+1 -> 43376 | J39: =MONTH(I39) -> 10
D40: Novembre | E40: 43404 | F40: 43774 | I40: =HLOOKUP(_an,Sources!E$29:G$41,ROW()-28,0)+1 -> 43405 | J40: =MONTH(I40) -> 11
...

Sheet Paramètres_Application
B1: Sélection des jours chômés | C1: Sélection des jours fériés | E1: Indications des dates chômées supplémentaires | F1: Répétitif ? | G1: Dates calculées | H1: Premier jour de la semaine
B2: FALSE | C2: TRUE | D2: =IF(C2,DATE(IF(Date_Deb>DATE(YEAR(Date_Deb),1,1),YEAR(Date_Deb)+1,YEAR(Date_Deb)),1,1),"") -> 43466 | F2: FALSE | G2: =IF($E2<>"",IF($F2,DATE(IF(Date_Deb>DATE(YEAR(Date_Deb),MONTH(E2),DAY(E2)),YEAR(Date_Deb)+1,YEAR(Date_Deb)),MONTH(E2),DAY(E2)),$E2),"") | H2: Lundi
B3: FALSE | C3: TRUE | D3: =IF(C3,IF(AND(Date_Deb>Pâq_Année_N+1,Date_Deb<=Pâq_Année_N1),Pâq_Année_N1+1,Pâq_Année_N+1),"") -> 43577 | F3: FALSE | G3: =IF($E3<>"",IF($F3,DATE(IF(Date_Deb>DATE(YEAR(Date_Deb),MONTH(E3),DAY(E3)),YEAR(Date_Deb)+1,YEAR(Date_Deb)),MONTH(E3),DAY(E3)),$E3),"") | H3: =LOOKUP(H2,{"Dimanche";"Jeudi";"Lundi";"Mardi";"Mercredi";"Samedi";"Vendredi"},{17;14;11;12;13;16;15}) -> 11
B4: FALSE | C4: TRUE | D4: =IF(C4,DATE(IF(Date_Deb>DATE(YEAR(Date_Deb),5,1),YEAR(Date_Deb)+1,YEAR(Date_Deb)),5,1),"") -> 43586 | F4: FALSE | G4: =IF($E4<>"",IF($F4,DATE(IF(Date_Deb>DATE(YEAR(Date_Deb),MONTH(E4),DAY(E4)),YEAR(Date_Deb)+1,YEAR(Date_Deb)),MONTH(E4),DAY(E4)),$E4),"")
B5: FALSE | C5: TRUE | D5: =IF(C5,IF(AND(Date_Deb>Pâq_Année_N+39,Date_Deb<=Pâq_Année_N1),Pâq_Année_N1+39,Pâq_Année_N+39),"") -> 43615 | F5: FALSE | G5: =IF($E5<>"",IF($F5,DATE(IF(Date_Deb>DATE(YEAR(Date_Deb),MONTH(E5),DAY(E5)),YEAR(Date_Deb)+1,YEAR(Date_Deb)),MONTH(E5),DAY(E5)),$E5),"")
B6: FALSE | C6: TRUE | D6: =IF(C6,IF(AND(Date_Deb>Pâq_Année_N+40,Date_Deb<=Pâq_Année_N1),Pâq_Année_N1+40,Pâq_Année_N+40),"") -> 43616 | F6: FALSE | G6: =IF($E6<>"",IF($F6,DATE(IF(Date_Deb>DATE(YEAR(Date_Deb),MONTH(E6),DAY(E6)),YEAR(Date_Deb)+1,YEAR(Date_Deb)),MONTH(E6),DAY(E6)),$E6),"")
B7: TRUE | C7: TRUE | D7: =IF(C7,DATE(IF(Date_Deb>DATE(YEAR(Date_Deb),5,8),YEAR(Date_Deb)+1,YEAR(Date_Deb)),5,8),"") -> 43593 | F7: FALSE | G7: =IF($E7<>"",IF($F7,DATE(IF(Date_Deb>DATE(YEAR(Date_Deb),MONTH(E7),DAY(E7)),YEAR(Date_Deb)+1,YEAR(Date_Deb)),MONTH(E7),DAY(E7)),$E7),"")
B8: TRUE | C8: TRUE | D8: =IF(C8,IF(AND(Date_Deb>Pâq_Année_N+50,Date_Deb<=Pâq_Année_N1),Pâq_Année_N1+50,Pâq_Année_N+50),"") -> 43626 | F8: FALSE | G8: =IF($E8<>"",IF($F8,DATE(IF(Date_Deb>DATE(YEAR(Date_Deb),MONTH(E8),DAY(E8)),YEAR(Date_Deb)+1,YEAR(Date_Deb)),MONTH(E8),DAY(E8)),$E8),"")
B9: =CONCATENATE(B2*1,B3*1,B4*1,B5*1,B6*1,B7*1,B8*1) -> 0000011 | C9: TRUE | D9: =IF(C9,DATE(IF(Date_Deb>DATE(YEAR(Date_Deb),7,14),YEAR(Date_Deb)+1,YEAR(Date_Deb)),7,14),"") -> 43660 | F9: FALSE | G9: =IF($E9<>"",IF($F9,DATE(IF(Date_Deb>DATE(YEAR(Date_Deb),MONTH(E9),DAY(E9)),YEAR(Date_Deb)+1,YEAR(Date_Deb)),MONTH(E9),DAY(E9)),$E9),"")
C10: TRUE | D10: =IF(C10,DATE(IF(Date_Deb>DATE(YEAR(Date_Deb),8,15),YEAR(Date_Deb)+1,YEAR(Date_Deb)),8,15),"") -> 43692 | F10: FALSE | G10: =IF($E10<>"",IF($F10,DATE(IF(Date_Deb>DATE(YEAR(Date_Deb),MONTH(E10),DAY(E10)),YEAR(Date_Deb)+1,YEAR(Date_Deb)),MONTH(E10),DAY(E10)),$E10),"")
C11: TRUE | D11: =IF(C11,DATE(IF(Date_Deb>DATE(YEAR(Date_Deb),11,1),YEAR(Date_Deb)+1,YEAR(Date_Deb)),11,1),"") -> 43405 | F11: FALSE | G11: =IF($E11<>"",IF($F11,DATE(IF(Date_Deb>DATE(YEAR(Date_Deb),MONTH(E11),DAY(E11)),YEAR(Date_Deb)+1,YEAR(Date_Deb)),MONTH(E11),DAY(E11)),$E11),"")
C12: TRUE | D12: =IF(C12,DATE(IF(Date_Deb>DATE(YEAR(Date_Deb),11,11),YEAR(Date_Deb)+1,YEAR(Date_Deb)),11,11),"") -> 43415 | F12: FALSE | G12: =IF($E12<>"",IF($F12,DATE(IF(Date_Deb>DATE(YEAR(Date_Deb),MONTH(E12),DAY(E12)),YEAR(Date_Deb)+1,YEAR(Date_Deb)),MONTH(E12),DAY(E12)),$E12),"")
C13: TRUE | D13: =IF(C13,DATE(IF(Date_Deb>DATE(YEAR(Date_Deb),12,25),YEAR(Date_Deb)+1,YEAR(Date_Deb)),12,25),"") -> 43459 | F13: FALSE | G13: =IF($E13<>"",IF($F13,DATE(IF(Date_Deb>DATE(YEAR(Date_Deb),MONTH(E13),DAY(E13)),YEAR(Date_Deb)+1,YEAR(Date_Deb)),MONTH(E13),DAY(E13)),$E13),"")
C14: TRUE | D14: =IF(C14,DATE(IF(Date_Deb>DATE(YEAR(Date_Deb),12,26),YEAR(Date_Deb)+1,YEAR(Date_Deb)),12,26),"") -> 43460 | F14: FALSE | G14: =IF($E14<>"",IF($F14,DATE(IF(Date_Deb>DATE(YEAR(Date_Deb),MONTH(E14),DAY(E14)),YEAR(Date_Deb)+1,YEAR(Date_Deb)),MONTH(E14),DAY(E14)),$E14),"")
F15: FALSE | G15: =IF($E15<>"",IF($F15,DATE(IF(Date_Deb>DATE(YEAR(Date_Deb),MONTH(E15),DAY(E15)),YEAR(Date_Deb)+1,YEAR(Date_Deb)),MONTH(E15),DAY(E15)),$E15),"")
F16: FALSE | G16: =IF($E16<>"",IF($F16,DATE(IF(Date_Deb>DATE(YEAR(Date_Deb),MONTH(E16),DAY(E16)),YEAR(Date_Deb)+1,YEAR(Date_Deb)),MONTH(E16),DAY(E16)),$E16),"")
F17: FALSE | G17: =IF($E17<>"",IF($F17,DATE(IF(Date_Deb>DATE(YEAR(Date_Deb),MONTH(E17),DAY(E17)),YEAR(Date_Deb)+1,YEAR(Date_Deb)),MONTH(E17),DAY(E17)),$E17),"")
F18: FALSE | G18: =IF($E18<>"",IF($F18,DATE(IF(Date_Deb>DATE(YEAR(Date_Deb),MONTH(E18),DAY(E18)),YEAR(Date_Deb)+1,YEAR(Date_Deb)),MONTH(E18),DAY(E18)),$E18),"")
F19: FALSE | G19: =IF($E19<>"",IF($F19,DATE(IF(Date_Deb>DATE(YEAR(Date_Deb),MONTH(E19),DAY(E19)),YEAR(Date_Deb)+1,YEAR(Date_Deb)),MONTH(E19),DAY(E19)),$E19),"")
F20: FALSE | G20: =IF($E20<>"",IF($F20,DATE(IF(Date_Deb>DATE(YEAR(Date_Deb),MONTH(E20),DAY(E20)),YEAR(Date_Deb)+1,YEAR(Date_Deb)),MONTH(E20),DAY(E20)),$E20),"")
F21: FALSE | G21: =IF($E21<>"",IF($F21,DATE(IF(Date_Deb>DATE(YEAR(Date_Deb),MONTH(E21),DAY(E21)),YEAR(Date_Deb)+1,YEAR(Date_Deb)),MONTH(E21),DAY(E21)),$E21),"")
F22: FALSE | G22: =IF($E22<>"",IF($F22,DATE(IF(Date_Deb>DATE(YEAR(Date_Deb),MONTH(E22),DAY(E22)),YEAR(Date_Deb)+1,YEAR(Date_Deb)),MONTH(E22),DAY(E22)),$E22),"")
F23: FALSE | G23: =IF($E23<>"",IF($F23,DATE(IF(Date_Deb>DATE(YEAR(Date_Deb),MONTH(E23),DAY(E23)),YEAR(Date_Deb)+1,YEAR(Date_Deb)),MONTH(E23),DAY(E23)),$E23),"")
F24: FALSE | G24: =IF($E24<>"",IF($F24,DATE(IF(Date_Deb>DATE(YEAR(Date_Deb),MONTH(E24),DAY(E24)),YEAR(Date_Deb)+1,YEAR(Date_Deb)),MONTH(E24),DAY(E24)),$E24),"")
F25: FALSE | G25: =IF($E25<>"",IF($F25,DATE(IF(Date_Deb>DATE(YEAR(Date_Deb),MONTH(E25),DAY(E25)),YEAR(Date_Deb)+1,YEAR(Date_Deb)),MONTH(E25),DAY(E25)),$E25),"")
F26: FALSE | G26: =IF($E26<>"",IF($F26,DATE(IF(Date_Deb>DATE(YEAR(Date_Deb),MONTH(E26),DAY(E26)),YEAR(Date_Deb)+1,YEAR(Date_Deb)),MONTH(E26),DAY(E26)),$E26),"")
... F32: FALSE | G32: =IF($E32<>"",IF($F32,DATE(IF(Date_Deb>DATE(YEAR(Date_Deb),MONTH(E32),DAY(E32)),YEAR(Date_Deb)+1,YEAR(Date_Deb)),MONTH(E32),DAY(E32)),$E32),"")
