Workbook

Sheet adh2013
A1: CLUB NATURISTE DU VENTOUS | G1: LISTE DES ADHERENTS
A2: MAS LE VENTOUS
A3: LIEU-DIT EL VENTOS | F3: Les cases surlignées en jaune indiquent les éléments qui me manquent - Merci de m'indiquer les données à ajouter
A4: 66150 ARLES SUR TECH | F4: Les onglets "âges" et "anniv" trient les adhérents selon leur age ou leur anniversaire dans l'année
A6: N° carte | B6: N° | C6: Date | D6: NOMS | E6: PRENOMS | F6: ADRESSES | I6: TEL | J6: MAIL | K6: DATE
B7: O/ | C7: Adhésion | K7: NAISSANCE | L7: AGES | M7: ANNIV
A8: 104147 | B8: 1 | C8: 1976 | D8: GIRARD | E8: PIERRE | F8: 10 RUE ANTOINE ORLIAC | G8: 66470 | H8: LAROQUE DES ALBERES | I8: 468954431 | J8: pierre.girard@dbmail.com | K8: 9396 | L8: =INT((TODAY()-K8)/365) -> 89 | M8: 41538
A9: 104148 | B9: 2 | C9: 1976 | D9: GIRARD | E9: GENEVIEVE | F9: 10 RUE ANTOINE ORLIAC | G9: 66471 | H9: LAROQUE DES ALBERES | I9: 468954431 | J9: pierre.girard@dbmail.com | K9: 9156 | L9: =INT((TODAY()-K9)/365) -> 89 | M9: 41298
B10: 3 | D10: BANIS | E10: MARGRIET | F10: OOSTERSTREEK 66 | G10: 8388.N.E. | H10: OOSTERSTREEK / PAYS BAS
B11: 4 | D11: BARRE | E11: MERCEDES | F11: 8 RUE RAOUL DUFY | G11: 66000 | H11: PERPIGNAN | I11: 468638782 | J11: pas d'adresse mail | K11: 14960 | L11: =INT((TODAY()-K11)/365) -> 74 | M11: 41623
B12: 5 | D12: BERNARD | E12: SERGE | F12: 5 LA COURT MESNIL | G12: 61290 | H12: NEUILLY SUR EURE | I12: 670434630 | K12: 15669 | L12: =INT((TODAY()-K12)/365) -> 72 | M12: 41967
B13: 6 | D13: DAVIAU | E13: CLAUDE | F13: 1 RUE DES ROUGES-GORGES | G13: 66300 | H13: PONTEILLA | I13: 468533231 | J13: claude.daviau@yahoo.fr | K13: 8734 | L13: =INT((TODAY()-K13)/365) -> 91 | M13: 41607
B14: 7 | D14: DE JONG VAN LIER | E14: CAROLUS | F14: NORDHORNESTRAAT 60 | G14: 7591.B.H. | H14: DENEKAMP / PAYS BAS
B15: 8 | D15: DELFOLIE | E15: BERNARD | F15: MAS LA RIA | G15: 66150 | H15: ARLES SUR TECH | I15: 468391465 | J15: pas d'adresse mail | K15: 12471 | L15: =INT((TODAY()-K15)/365) -> 80 | M15: 41326
B16: 9 | D16: GABAS | E16: VLADIMIR | F16: 5 RUE DE L'OCEAN | G16: 17137 | H16: ESNANDES | I16: 546012123 | J16: vladimir.gabas@orange.fr | K16: 12454 | L16: =INT((TODAY()-K16)/365) -> 80 | M16: 41309
B17: 10 | D17: GABAS | E17: MARCELLE | F17: 6 RUE DE L'OCEAN | G17: 17138 | H17: ESNANDES | I17: 546012123 | J17: vladimir.gabas@orange.fr
B18: 11 | D18: HENRY | E18: JEAN YVES | F18: 8 ALLEE NICOLAS FOUQUET | G18: 77380 | H18: COMBS LA VILLE | I18: 160603021 | J18: jeanflopat@free.fr | K18: 18878 | L18: =INT((TODAY()-K18)/365) -> 63 | M18: 41524
B19: 12 | D19: HENRY | E19: PATRICIA | F19: 8 ALLEE NICOLAS FOUQUET | G19: 77380 | H19: COMBS LA VILLE | I19: 160603021 | J19: jeanflopat@free.fr | K19: 19190 | L19: =INT((TODAY()-K19)/365) -> 62 | M19: 41470
B20: 13 | D20: MAROTTE | E20: GENEVIEVE | F20: 20 PLACE DE LA REPUBLIQUE | G20: 66480 | H20: MAUREILLAS LAS ILLAS | I20: 468391942 | J20: genemarotte@wanadoo.fr | K20: 16871 | L20: =INT((TODAY()-K20)/365) -> 68 | M20: 41343
B21: 14 | D21: MARTINEZ | E21: PIERRETTE | F21: CAMPING LE VENTOUS LIEU-DIT EL VENTOS | G21: 66150 | H21: ARLES SUR TECH | I21: 468391093 | J21: leventous.ffn@wanadoo.fr | K21: 7231 | L21: =INT((TODAY()-K21)/365) -> 95 | M21: 41565
B22: 15 | D22: WILD | E22: NATHALIE | F22: 27 RUE VILLIERS DE L'ISLE ADAM | G22: 75020 | H22: PARIS | I22: 143496632 | J22: wild@noos.fr | K22: 22802 | L22: =INT((TODAY()-K22)/365) -> 52 | M22: 41430
B23: 16 | D23: AMANS | E23: FRANCOISE | F23: 14 RUE DE LOS PALAUS | G23: 66170 | H23: MILLAS | I23: 468572089 | J23: pas d'adresse mail | K23: 14585 | L23: =INT((TODAY()-K23)/365) -> 75 | M23: 41614
B24: 17 | D24: AMANS | E24: PIERRE | F24: 14 RUE DE LOS PALAUS | G24: 66170 | H24: MILLAS | I24: 468572089 | J24: pas d'adresse mail | K24: 13956 | L24: =INT((TODAY()-K24)/365) -> 76 | M24: 41350
A25: 105242 | B25: 18 | C25: 35922 | D25: WILD | E25: ERIC | F25: 27 RUE VILLIERS DE L'ISLE ADAM | G25: 75020 | H25: PARIS | I25: 143496632 | J25: wild@noos.fr | K25: 22069 | L25: =INT((TODAY()-K25)/365) -> 54 | M25: 41427
A26: 105248 | B26: 19 | C26: 37347 | D26: MARTINEZ | E26: YVES | F26: CAMPING LE VENTOUS LIEU-DIT EL VENTOS | G26: 66150 | H26: ARLES SUR TECH | I26: 468391093 | J26: leventous.ffn@wanadoo.fr | K26: 17806 | L26: =INT((TODAY()-K26)/365) -> 66 | M26: 41547
A27: 105249 | B27: 20 | C27: 37347 | D27: MARTINEZ | E27: YANNIQUE | F27: CAMPING LE VENTOUS LIEU-DIT EL VENTOS | G27: 66150 | H27: ARLES SUR TECH | I27: 468391093 | J27: leventous.ffn@wanadoo.fr | K27: 23152 | L27: =INT((TODAY()-K27)/365) -> 51 | M27: 41415
A28: 105253B | B28: 21 | C28: 38012 | D28: BAUD | E28: FRANCOIS | F28: LOT. DU MAS PLUMA 20 RUE DU BELLMAIG | G28: 66150 | H28: ARLES SUR TECH | I28: 468393075 | J28: baud-francois@wanadoo.fr | K28: 20355 | L28: =INT((TODAY()-K28)/365) -> 59 | M28: 41540
A29: 105254B | B29: 22 | C29: 38012 | D29: BAUD | E29: ISABELLE | F29: LOT. DU MAS PLUMA 20 RUE DU BELLMAIG | G29: 66150 | H29: ARLES SUR TECH | I29: 468393075 | J29: baud-francois@wanadoo.fr | K29: 23192 | L29: =INT((TODAY()-K29)/365) -> 51 | M29: 41455
A30: 105260 | B30: 23 | C30: 38791 | D30: PICARD | E30: PIERRE | F30: 1 BOULEVARD JACQUES BOSSUET | G30: 34290 | H30: ABEILHAN | I30: 467390820 | J30: francoise.picard23@wanadoo.fr | K30: 16827 | L30: =INT((TODAY()-K30)/365) -> 68 | M30: 41299
A31: 105261 | B31: 24 | C31: 38791 | D31: PICARD | E31: FRANCOISE | F31: 1 BOULEVARD JACQUES BOSSUET | G31: 34290 | H31: ABEILHAN | I31: 667512159 | J31: pierre.picard23@wanadoo.fr | K31: 18724 | L31: =INT((TODAY()-K31)/365) -> 63 | M31: 41370
A32: 105264 | B32: 25 | C32: 39181 | D32: SCHORER | E32: ANDRE | F32: 17 ROUTE DU SAULE DURAND | G32: 37510 | H32: SAVONNIERES | I32: 247500324 | J32: andre.schorer@orange.fr | K32: 17045 | L32: =INT((TODAY()-K32)/365) -> 68 | M32: 41517
A33: 105265 | B33: 26 | D33: SCHORER | E33: MARIE FRANÇOISE | F33: 17 ROUTE DU SAULE DURAND | G33: 37510 | H33: SAVONNIERES | I33: 247500324 | J33: andre.schorer@orange.fr | K33: 17168 | L33: =INT((TODAY()-K33)/365) -> 68 | M33: 41275
A34: 105266 | B34: 27 | C34: 39455 | D34: TAULET | E34: ROBERT | F34: 52 AVENUE DE LAS BIGUES | G34: 66140 | H34: CANET EN ROUSSILLON | I34: 468806351 | J34: robert.taulet@sfr.fr | K34: 22568 | L34: =INT((TODAY()-K34)/365) -> 53 | M34: 41561
A35: 105267 | B35: 28 | C35: 39462 | D35: MORICE | E35: MARIE HELENE | F35: RESID.GREEN SQUARE-BAT.B-APPT.102- 104 ALLEE JAY DEE | G35: 34000 | H35: MONTPELLIER | I35: 629494622 | J35: mhmorice45@gmail.com | K35: 22037 | L35: =INT((TODAY()-K35)/365) -> 54 | M35: 41395
A36: 105268 | B36: 29 | C36: 39472 | D36: COMAS | E36: HENRI | F36: LE DOMAINE DE LA PARAN VILLA 14 CHEMIN DE LA PARAN | G36: 30130 | H36: SAINT PAULET DE CAISSON | I36: 952581808 | J36: henrycomas@hotmail.fr | K36: 19007 | L36: =INT((TODAY()-K36)/365) -> 62 | M36: 41288
A37: 105269 | B37: 30 | C37: 39472 | D37: ROUSSEL | E37: SYLVIE | F37: LE DOMAINE DE LA PARAN VILLA 14 CHEMIN DE LA PARAN | G37: 30130 | H37: SAINT PAULET DE CAISSON | I37: 952581808 | J37: jubrice@hotmail.f | K37: 21272 | L37: =INT((TODAY()-K37)/365) -> 56 | M37: 41361
A38: 105270 | B38: 31 | C38: 39873 | D38: GARAY | E38: MURIEL | F38: LA MELUSINE CHEMIN DU MAS DEBRUS | G38: 34480 | H38: SAINT GENIES DE FONTEDIT | I38: 467362974 | J38: pas d'adresse mail | K38: 19286 | L38: =INT((TODAY()-K38)/365) -> 62 | M38: 41566
A39: 105272 | B39: 32 | C39: 39908 | D39: DUMORTIER | E39: GERARD | F39: 36 RUE SOUBIELLE | G39: 34160 | H39: SAINT GENIES DES MOURGUES | I39: 637502861 | J39: cg.dumortier@aliceadsl.fr | K39: 17891 | L39: =INT((TODAY()-K39)/365) -> 66 | M39: 41632
A40: 105273 | B40: 33 | C40: 39908 | D40: DUMORTIER | E40: CHANTAL | F40: 36 RUE SOUBIELLE | G40: 34160 | H40: SAINT GENIES DES MOURGUES | I40: 637502861 | J40: cg.dumortier@aliceadsl.fr | K40: 17686 | L40: =INT((TODAY()-K40)/365) -> 66 | M40: 41427
A41: 105274 | B41: 34 | C41: 39930 | D41: BOUCARD | E41: MICHEL | F41: 98 IMPASSE AU DESSUS DE L'ARGENCE MOULIN MASSET | G41: 16430 | H41: CHAMPNIERS | I41: 545699928 | J41: sylviane.boucard@orange.fr | K41: 17846 | L41: =INT((TODAY()-K41)/365) -> 66 | M41: 41587
...

Sheet adh2014
G1: LISTE DES ADHERENTS
F3: PAR ORDRE D'INSCRIPTION AU CLUB
A6: N° carte | B6: N° O/ | C6: Date Adhésion | D6: NOMS | E6: PRENOMS | F6: ADRESSES | I6: TEL | J6: MAIL | K6: Date naissance | L6: AGES | M6: ANNIV
A8: 104147 | B8: 1 | C8: 1976 | G8: 66470 | K8: 9396 | L8: =INT((TODAY()-K8)/365) -> 89 | M8: 9396
A9: 104148 | B9: 2 | C9: 1976 | G9: 66471 | K9: 9156 | L9: =INT((TODAY()-K9)/365) -> 89 | M9: 9156
B10: 3 | G10: 8388.N.E. | K10: 18641 | L10: =INT((TODAY()-K10)/365) -> 63 | M10: =K10 -> 18641
B11: 4 | G11: 66000 | K11: 14960 | L11: =INT((TODAY()-K11)/365) -> 74 | M11: 14960
B12: 5 | G12: 61290 | K12: 15669 | L12: =INT((TODAY()-K12)/365) -> 72 | M12: 15669
A13: 104086 | B13: 6 | G13: 66300 | K13: 8734 | L13: =INT((TODAY()-K13)/365) -> 91 | M13: 8734
B14: 7 | G14: 66150 | K14: 12471 | L14: =INT((TODAY()-K14)/365) -> 80 | M14: 12471
B15: 8 | G15: 17137 | K15: 12454 | L15: =INT((TODAY()-K15)/365) -> 80 | M15: 12454
B16: 9 | G16: 77380 | K16: 18878 | L16: =INT((TODAY()-K16)/365) -> 63 | M16: 18878
B17: 10 | G17: 77380 | K17: 19190 | L17: =INT((TODAY()-K17)/365) -> 62 | M17: 19190
B18: 11 | G18: 66480 | K18: 16871 | L18: =INT((TODAY()-K18)/365) -> 68 | M18: 16871
B19: 12 | G19: 66150 | K19: 7231 | L19: =INT((TODAY()-K19)/365) -> 95 | M19: 7231
B20: 13 | G20: 75020 | K20: 22802 | L20: =INT((TODAY()-K20)/365) -> 52 | M20: 22802
B21: 14 | G21: 66170 | K21: 14585 | L21: =INT((TODAY()-K21)/365) -> 75 | M21: 14585
B22: 15 | G22: 66170 | K22: 13956 | L22: =INT((TODAY()-K22)/365) -> 76 | M22: 13956
A23: 105242 | B23: 16 | C23: 35922 | G23: 75020 | K23: 22069 | L23: =INT((TODAY()-K23)/365) -> 54 | M23: 22069
A24: 105248 | B24: 17 | C24: 37347 | G24: 66150 | K24: 17806 | L24: =INT((TODAY()-K24)/365) -> 66 | M24: 17806
A25: 105249 | B25: 18 | C25: 37347 | G25: 66150 | K25: 23152 | L25: =INT((TODAY()-K25)/365) -> 51 | M25: 23152
A26: 105253B | B26: 19 | C26: 38012 | G26: 66150 | K26: 20355 | L26: =INT((TODAY()-K26)/365) -> 59 | M26: 20355
A27: 105254B | B27: 20 | C27: 38012 | G27: 66150 | K27: 23192 | L27: =INT((TODAY()-K27)/365) -> 51 | M27: 23192
A28: 105260 | B28: 21 | C28: 38791 | G28: 34290 | K28: 16827 | L28: =INT((TODAY()-K28)/365) -> 68 | M28: 16827
A29: 105261 | B29: 22 | C29: 38791 | G29: 34290 | K29: 18724 | L29: =INT((TODAY()-K29)/365) -> 63 | M29: 18724
A30: 105264 | B30: 23 | C30: 39181 | G30: 37510 | K30: 17045 | L30: =INT((TODAY()-K30)/365) -> 68 | M30: 17045
A31: 105265 | B31: 24 | G31: 37510 | K31: 17168 | L31: =INT((TODAY()-K31)/365) -> 68 | M31: 17168
A32: 105266 | B32: 25 | C32: 39455 | G32: 66140 | K32: 22568 | L32: =INT((TODAY()-K32)/365) -> 53 | M32: 22568
A33: 105267 | B33: 26 | C33: 39462 | G33: 34000 | K33: 22037 | L33: =INT((TODAY()-K33)/365) -> 54 | M33: 22037
A34: 105268 | B34: 27 | C34: 39472 | G34: 30130 | K34: 19007 | L34: =INT((TODAY()-K34)/365) -> 62 | M34: 19007
A35: 105269 | B35: 28 | C35: 39472 | G35: 30130 | K35: 21272 | L35: =INT((TODAY()-K35)/365) -> 56 | M35: 21272
A36: 105272 | B36: 29 | C36: 39908 | G36: 34160 | K36: 17891 | L36: =INT((TODAY()-K36)/365) -> 66 | M36: 17891
A37: 105273 | B37: 30 | C37: 39908 | G37: 34160 | K37: 17686 | L37: =INT((TODAY()-K37)/365) -> 66 | M37: 17686
A38: 105274 | B38: 31 | C38: 39930 | G38: 16430 | K38: 17846 | L38: =INT((TODAY()-K38)/365) -> 66 | M38: 17846
A39: 105275 | B39: 32 | C39: 39930 | G39: 16430 | K39: 19361 | L39: =INT((TODAY()-K39)/365) -> 62 | M39: 19361
A40: 105277 | B40: 33 | C40: 40249 | G40: 66230 | K40: 16373 | L40: =INT((TODAY()-K40)/365) -> 70 | M40: 16373
A41: 105278 | B41: 34 | G41: 83500 | K41: 13772 | L41: =INT((TODAY()-K41)/365) -> 77 | M41: 13772
A42: 105279 | B42: 35 | G42: 83500 | K42: 18593 | L42: =INT((TODAY()-K42)/365) -> 64 | M42: 18593
A43: 105280 | B43: 36 | G43: 93320 | K43: 17884 | L43: =INT((TODAY()-K43)/365) -> 66 | M43: 17884
A44: 105281 | B44: 37 | G44: 93320 | K44: 19743 | L44: =INT((TODAY()-K44)/365) -> 60 | M44: 19743
...

Sheet 2014alpha
G1: LISTE DES ADHÉRENTS
F3: PAR ORDRE ALPHABETIQUE
A6: N° carte | B6: N° | C6: Date | D6: NOMS | E6: PRENOMS | F6: ADRESSES | I6: TEL | J6: MAIL | K6: DATE | L6: AGES | M6: ANNIV
B7: O/ | C7: Adhésion | K7: NAISSANCE
B8: 1 | G8: 66170 | K8: 14585 | L8: =INT((TODAY()-K8)/365) -> 75 | M8: =K8 -> 14585
B9: 2 | G9: 66170 | K9: 13956 | L9: =INT((TODAY()-K9)/365) -> 76 | M9: =K9 -> 13956
B10: 3 | G10: 8388 NE | K10: 18641 | L10: =INT((TODAY()-K10)/365) -> 63 | M10: =K10 -> 18641
B11: 4 | G11: 66000 | K11: 14960 | L11: =INT((TODAY()-K11)/365) -> 74 | M11: =K11 -> 14960
A12: 105253B | B12: 5 | C12: 38012 | G12: 66150 | K12: 20355 | L12: =INT((TODAY()-K12)/365) -> 59 | M12: =K12 -> 20355
A13: 105254B | B13: 6 | C13: 38012 | G13: 66150 | K13: 23192 | L13: =INT((TODAY()-K13)/365) -> 51 | M13: =K13 -> 23192
B14: 7 | G14: 61290 | K14: 15669 | L14: =INT((TODAY()-K14)/365) -> 72 | M14: =K14 -> 15669
A15: 105274 | B15: 8 | C15: 39930 | G15: 16430 | K15: 17846 | L15: =INT((TODAY()-K15)/365) -> 66 | M15: =K15 -> 17846
A16: 105275 | B16: 9 | C16: 39930 | G16: 16430 | K16: 19361 | L16: =INT((TODAY()-K16)/365) -> 62 | M16: =K16 -> 19361
B17: 10 | C17: 41275 | G17: 66150 | K17: 20028 | L17: =INT((TODAY()-K17)/365) -> 60 | M17: =K17 -> 20028
A18: 105278 | B18: 11 | G18: 83500 | K18: 13772 | L18: =INT((TODAY()-K18)/365) -> 77 | M18: =K18 -> 13772
A19: 105279 | B19: 12 | G19: 83500 | K19: 18593 | L19: =INT((TODAY()-K19)/365) -> 64 | M19: =K19 -> 18593
A20: 105268 | B20: 13 | C20: 39472 | G20: 30130 | K20: 19007 | L20: =INT((TODAY()-K20)/365) -> 62 | M20: =K20 -> 19007
A21: 105269 | B21: 14 | C21: 39472 | G21: 30130 | K21: 21272 | L21: =INT((TODAY()-K21)/365) -> 56 | M21: =K21 -> 21272
A22: 104086 | B22: 15 | G22: 66300 | K22: 8734 | L22: =INT((TODAY()-K22)/365) -> 91 | M22: =K22 -> 8734
B23: 16 | G23: 66150 | K23: 12471 | L23: =INT((TODAY()-K23)/365) -> 80 | M23: =K23 -> 12471
A24: 105272 | B24: 17 | C24: 39908 | G24: 34160 | K24: 17891 | L24: =INT((TODAY()-K24)/365) -> 66 | M24: =K24 -> 17891
A25: 105273 | B25: 18 | C25: 39908 | G25: 34160 | K25: 17686 | L25: =INT((TODAY()-K25)/365) -> 66 | M25: =K25 -> 17686
B26: 19 | G26: 17137 | K26: 12454 | L26: =INT((TODAY()-K26)/365) -> 80 | M26: =K26 -> 12454
A27: 105292 | B27: 20 | C27: 41640 | G27: 66250 | K27: 11634 | L27: =INT((TODAY()-K27)/365) -> 83 | M27: =K27 -> 11634
A28: 104147 | B28: 21 | C28: 1976 | G28: 66470 | K28: 9396 | L28: =INT((TODAY()-K28)/365) -> 89 | M28: =K28 -> 9396
A29: 104148 | B29: 22 | C29: 1976 | G29: 66471 | K29: 9156 | L29: =INT((TODAY()-K29)/365) -> 89 | M29: =K29 -> 9156
B30: 23 | G30: 77380 | K30: 18878 | L30: =INT((TODAY()-K30)/365) -> 63 | M30: =K30 -> 18878
B31: 24 | G31: 77380 | K31: 19190 | L31: =INT((TODAY()-K31)/365) -> 62 | M31: =K31 -> 19190
A32: 105280 | B32: 25 | G32: 93320 | K32: 17884 | L32: =INT((TODAY()-K32)/365) -> 66 | M32: =K32 -> 17884
A33: 105281 | B33: 26 | G33: 93320 | K33: 19743 | L33: =INT((TODAY()-K33)/365) -> 60 | M33: =K33 -> 19743
B34: 27 | C34: 41640 | G34: 50800 | K34: 17867 | L34: =INT((TODAY()-K34)/365) -> 66 | M34: =K34 -> 17867
B35: 28 | C35: 41640 | G35: 50800 | K35: 18978 | L35: =INT((TODAY()-K35)/365) -> 63 | M35: =K35 -> 18978
A36: 105291 | B36: 29 | C36: 41640 | G36: 42470 | K36: 29230 | L36: =INT((TODAY()-K36)/365) -> 34 | M36: =K36 -> 29230
B37: 30 | C37: 41640 | G37: 94110 | K37: 16987 | L37: =INT((TODAY()-K37)/365) -> 68 | M37: =K37 -> 16987
B38: 31 | C38: 41640 | G38: 94110 | K38: 14853 | L38: =INT((TODAY()-K38)/365) -> 74 | M38: =K38 -> 14853
B39: 32 | G39: 66480 | K39: 16871 | L39: =INT((TODAY()-K39)/365) -> 68 | M39: =K39 -> 16871
B40: 33 | G40: 66150 | K40: 7231 | L40: =INT((TODAY()-K40)/365) -> 95 | M40: =K40 -> 7231
A41: 105248 | B41: 34 | C41: 37347 | G41: 66150 | K41: 17806 | L41: =INT((TODAY()-K41)/365) -> 66 | M41: =K41 -> 17806
A42: 105249 | B42: 35 | C42: 37347 | G42: 66150 | K42: 23152 | L42: =INT((TODAY()-K42)/365) -> 51 | M42: =K42 -> 23152
A43: 105267 | B43: 36 | C43: 39462 | G43: 34000 | K43: 22037 | L43: =INT((TODAY()-K43)/365) -> 54 | M43: =K43 -> 22037
...

Sheet 2014DIFF
G1: LISTE DES ADHÉRENTS
F3: PAR ORDRE ALPHABETIQUE
A6: N° carte | B6: N° | C6: Date | D6: NOMS | E6: PRENOMS | F6: ADRESSES | I6: TEL | J6: MAIL | K6: DATE | L6: AGES | M6: ANNIV
B7: O/ | C7: Adhésion | K7: NAISSANCE
B8: 1 | G8: 66170 | K8: 14585 | L8: =INT((TODAY()-K8)/365) -> 75 | M8: =K8 -> 14585
B9: 2 | G9: 66170 | K9: 13956 | L9: =INT((TODAY()-K9)/365) -> 76 | M9: =K9 -> 13956
B10: 3 | G10: 8388 NE | K10: 18641 | L10: =INT((TODAY()-K10)/365) -> 63 | M10: =K10 -> 18641
B11: 4 | G11: 66000 | K11: 14960 | L11: =INT((TODAY()-K11)/365) -> 74 | M11: =K11 -> 14960
A12: 105253B | B12: 5 | C12: 38012 | G12: 66150 | K12: 20355 | L12: =INT((TODAY()-K12)/365) -> 59 | M12: =K12 -> 20355
A13: 105254B | B13: 6 | C13: 38012 | G13: 66150 | K13: 23192 | L13: =INT((TODAY()-K13)/365) -> 51 | M13: =K13 -> 23192
B14: 7 | G14: 61290 | K14: 15669 | L14: =INT((TODAY()-K14)/365) -> 72 | M14: =K14 -> 15669
A15: 105274 | B15: 8 | C15: 39930 | G15: 16430 | K15: 17846 | L15: =INT((TODAY()-K15)/365) -> 66 | M15: =K15 -> 17846
A16: 105275 | B16: 9 | C16: 39930 | G16: 16430 | K16: 19361 | L16: =INT((TODAY()-K16)/365) -> 62 | M16: =K16 -> 19361
B17: 10 | C17: 41275 | G17: 66150 | K17: 20028 | L17: =INT((TODAY()-K17)/365) -> 60 | M17: =K17 -> 20028
A18: 105278 | B18: 11 | G18: 83500 | K18: 13772 | L18: =INT((TODAY()-K18)/365) -> 77 | M18: =K18 -> 13772
A19: 105279 | B19: 12 | G19: 83500 | K19: 18593 | L19: =INT((TODAY()-K19)/365) -> 64 | M19: =K19 -> 18593
A20: 105268 | B20: 13 | C20: 39472 | G20: 30130 | K20: 19007 | L20: =INT((TODAY()-K20)/365) -> 62 | M20: =K20 -> 19007
A21: 105269 | B21: 14 | C21: 39472 | G21: 30130 | K21: 21272 | L21: =INT((TODAY()-K21)/365) -> 56 | M21: =K21 -> 21272
A22: 104086 | B22: 15 | G22: 66300 | K22: 8734 | L22: =INT((TODAY()-K22)/365) -> 91 | M22: =K22 -> 8734
B23: 16 | G23: 66150 | K23: 12471 | L23: =INT((TODAY()-K23)/365) -> 80 | M23: =K23 -> 12471
A24: 105272 | B24: 17 | C24: 39908 | G24: 34160 | K24: 17891 | L24: =INT((TODAY()-K24)/365) -> 66 | M24: =K24 -> 17891
A25: 105273 | B25: 18 | C25: 39908 | G25: 34160 | K25: 17686 | L25: =INT((TODAY()-K25)/365) -> 66 | M25: =K25 -> 17686
B26: 19 | G26: 17137 | K26: 12454 | L26: =INT((TODAY()-K26)/365) -> 80 | M26: =K26 -> 12454
A27: 105292 | B27: 20 | C27: 41640 | G27: 66250 | K27: 11634 | L27: =INT((TODAY()-K27)/365) -> 83 | M27: =K27 -> 11634
A28: 104147 | B28: 21 | C28: 1976 | G28: 66470 | K28: 9396 | L28: =INT((TODAY()-K28)/365) -> 89 | M28: =K28 -> 9396
A29: 104148 | B29: 22 | C29: 1976 | G29: 66471 | K29: 9156 | L29: =INT((TODAY()-K29)/365) -> 89 | M29: =K29 -> 9156
B30: 23 | G30: 77380 | K30: 18878 | L30: =INT((TODAY()-K30)/365) -> 63 | M30: =K30 -> 18878
B31: 24 | G31: 77380 | K31: 19190 | L31: =INT((TODAY()-K31)/365) -> 62 | M31: =K31 -> 19190
A32: 105280 | B32: 25 | G32: 93320 | K32: 17884 | L32: =INT((TODAY()-K32)/365) -> 66 | M32: =K32 -> 17884
A33: 105281 | B33: 26 | G33: 93320 | K33: 19743 | L33: =INT((TODAY()-K33)/365) -> 60 | M33: =K33 -> 19743
B34: 27 | C34: 41640 | G34: 50800 | K34: 17867 | L34: =INT((TODAY()-K34)/365) -> 66 | M34: =K34 -> 17867
B35: 28 | C35: 41640 | G35: 50800 | K35: 18978 | L35: =INT((TODAY()-K35)/365) -> 63 | M35: =K35 -> 18978
A36: 105291 | B36: 29 | C36: 41640 | G36: 42470 | K36: 29230 | L36: =INT((TODAY()-K36)/365) -> 34 | M36: =K36 -> 29230
B37: 30 | C37: 41640 | G37: 94110 | K37: 16987 | L37: =INT((TODAY()-K37)/365) -> 68 | M37: =K37 -> 16987
B38: 31 | C38: 41640 | G38: 94110 | K38: 14853 | L38: =INT((TODAY()-K38)/365) -> 74 | M38: =K38 -> 14853
B39: 32 | G39: 66480 | K39: 16871 | L39: =INT((TODAY()-K39)/365) -> 68 | M39: =K39 -> 16871
B40: 33 | G40: 66150 | K40: 7231 | L40: =INT((TODAY()-K40)/365) -> 95 | M40: =K40 -> 7231
A41: 105248 | B41: 34 | C41: 37347 | G41: 66150 | K41: 17806 | L41: =INT((TODAY()-K41)/365) -> 66 | M41: =K41 -> 17806
A42: 105249 | B42: 35 | C42: 37347 | G42: 66150 | K42: 23152 | L42: =INT((TODAY()-K42)/365) -> 51 | M42: =K42 -> 23152
A43: 105267 | B43: 36 | C43: 39462 | G43: 34000 | K43: 22037 | L43: =INT((TODAY()-K43)/365) -> 54 | M43: =K43 -> 22037
...

Sheet ages
J1: LISTE DES ADHERENTS | K1: LISTE DES ADHERENTS triés par âge
K5: du + âgé au + jeune
A6: N° | B6: N° | C6: Date | D6: NOMS | E6: PRENOMS | F6: ADRESSES | I6: TEL | J6: MAIL | K6: DATE
B7: O/ | C7: Adhésion | K7: NAISSANCE | L7: AGES
A8: 104147 | B8: 1 | C8: 1976 | F8: MAS LE VENTOUS | G8: 66150 | H8: ARLES SUR TECH | I8: 468391093 | K8: ='2014alpha'!K40 -> 7231 | L8: =INT((TODAY()-K8)/365) -> 95
A9: 104148 | B9: 2 | C9: 1976 | F9: 1 RUE DES ROUGES-GOURGES | G9: 66300 | H9: PONTEILLA | I9: 468533231 | J9: claude.daviau@yahoo.fr | K9: ='2014alpha'!K22 -> 8734 | L9: =INT((TODAY()-K9)/365) -> 91
B10: 3 | F10: 10 RUE ANTOINE ORLIAC | G10: 66470 | H10: LAROQUE DES ALBERES | K10: ='2014alpha'!K29 -> 9156 | L10: =INT((TODAY()-K10)/365) -> 89
B11: 4 | F11: 10 RUE ANTOINE ORLIAC | G11: 66470 | H11: LAROQUE DES ALBERES | I11: 468954431 | K11: ='2014alpha'!K28 -> 9396 | L11: =INT((TODAY()-K11)/365) -> 89
K12: ='2014alpha'!K27 -> 11634 | L12: =INT((TODAY()-K12)/365) -> 83
B13: 5 | F13: MAS LA RIA | G13: 66150 | H13: ARLES SUR TECH | I13: 468391465 | K13: ='2014alpha'!K23 -> 12471 | L13: =INT((TODAY()-K13)/365) -> 80
B14: 6 | F14: 5 RUE DE L'OCEAN | G14: 17137 | H14: ESNANDES | I14: 546012123 | J14: vladimir.gabas@orange.fr | K14: ='2014alpha'!K26 -> 12454 | L14: =INT((TODAY()-K14)/365) -> 80
B15: 7 | F15: 14 RUE DE LOS PALAUS | G15: 66170 | H15: MILLAS | K15: ='2014alpha'!K9 -> 13956 | L15: =INT((TODAY()-K15)/365) -> 76
B16: 8 | F16: 67 AVENUE ESPRIT ARMANDO | G16: 83500 | H16: LA SEYNE SUR MER | K16: ='2014alpha'!K18 -> 13772 | L16: =INT((TODAY()-K16)/365) -> 77
B17: 9 | F17: 14 RUE DE LOS PALAUS | G17: 66170 | H17: MILLAS | I17: 468572089 | K17: ='2014alpha'!K8 -> 14585 | L17: =INT((TODAY()-K17)/365) -> 75
K18: ='2014alpha'!K38 -> 14853 | L18: =INT((TODAY()-K18)/365) -> 74
B19: 10 | F19: 8 RUE RAOUL DUFY | G19: 66000 | H19: PERPIGNAN | I19: 468638782 | K19: ='2014alpha'!K11 -> 14960 | L19: =INT((TODAY()-K19)/365) -> 74
A20: 105278 | B20: 36 | F20: 5 LA COURT MESNIL | G20: 61290 | H20: NEUILLY SUR SEINE | I20: 670434630 | K20: ='2014alpha'!K14 -> 15669 | L20: =INT((TODAY()-K20)/365) -> 72
F21: NORDHORNESTRAAT 60 | G21: 7591.B.H. | H21: DENEKAMP / PAYS BAS | K21: ='2014alpha'!K51 -> 15702 | L21: =INT((TODAY()-K21)/365) -> 72
B22: 11 | F22: VILLA SAINT CLOUD RD115 | G22: 66230 | H22: PRATS DE MOLLO LA PRESTE | I22: 468988925 | J22: vatrican.bernartd@orange.fr | K22: ='2014alpha'!K53 -> 16373 | L22: =INT((TODAY()-K22)/365) -> 70
B23: 12 | F23: 20 PLACE DE LA REPUBLIQUE | G23: 66480 | H23: MAUREILLAS LAS ILLAS | I23: 468391942 | J23: genemarotte@wanadoo.fr | K23: ='2014alpha'!K39 -> 16871 | L23: =INT((TODAY()-K23)/365) -> 68
B24: 13 | F24: 1 BOULEVARD JACQUES BOSSUET | G24: 34290 | H24: ABEILHAN | I24: 467390820 | K24: ='2014alpha'!K46 -> 16827 | L24: =INT((TODAY()-K24)/365) -> 68
K25: ='2014alpha'!K37 -> 16987 | L25: =INT((TODAY()-K25)/365) -> 68
B26: 14 | F26: 17 ROUTE DU SAULE DURAND | G26: 37510 | H26: SAVONNIERES | I26: 247500324 | J26: andre.schorer@orange.fr | K26: ='2014alpha'!K48 -> 17045 | L26: =INT((TODAY()-K26)/365) -> 68
B27: 15 | F27: 17 ROUTE DU SAULE DURAND | G27: 37510 | H27: SAVONNIERES | K27: ='2014alpha'!K49 -> 17168 | L27: =INT((TODAY()-K27)/365) -> 68
B28: 16 | F28: CAMPING LE VENTOUS LIEU-DIT EL VENTOS | G28: 66150 | H28: ARLES SUR TECH | I28: 468391093 | J28: leventous.ffn@wanadoo.fr | K28: ='2014alpha'!K41 -> 17806 | L28: =INT((TODAY()-K28)/365) -> 66
K29: ='2014alpha'!K34 -> 17867 | L29: =INT((TODAY()-K29)/365) -> 66
B30: 17 | F30: 36 RUE SOUBIELLE | G30: 34160 | H30: SAINT GENIES DES MOURGUES | K30: ='2014alpha'!K24 -> 17891 | L30: =INT((TODAY()-K30)/365) -> 66
B31: 18 | F31: 36 RUE SOUBIELLE | G31: 34160 | H31: SAINT GENIES DES MOURGUES | J31: cg.dumortier@aliceadsl.fr | K31: ='2014alpha'!K25 -> 17686 | L31: =INT((TODAY()-K31)/365) -> 66
B32: 19 | F32: 5 IMPASSE MICHELINE | G32: 93320 | H32: LES PAVILLONS SOUS BOIS | J32: denis_lamy@yahoo.fr | K32: ='2014alpha'!K32 -> 17884 | L32: =INT((TODAY()-K32)/365) -> 66
B33: 20 | F33: 98 IMPASSE AU DESSUS DE L'ARGENCE MOULIN MASSET | G33: 16430 | H33: CHAMPNIERS | I33: 545699928 | K33: ='2014alpha'!K15 -> 17846 | L33: =INT((TODAY()-K33)/365) -> 66
A34: 105248 | B34: 22 | C34: 37347 | F34: 67 AVENUE ESPRIT ARMANDO | G34: 83500 | H34: LA SEYNE SUR MER | K34: ='2014alpha'!K19 -> 18593 | L34: =INT((TODAY()-K34)/365) -> 64
K35: ='2014alpha'!K10 -> 18641 | L35: =INT((TODAY()-K35)/365) -> 63
A36: 105242 | B36: 21 | C36: 35922 | F36: 1 BOULEVARD JACQUES BOSSUET | G36: 34290 | H36: ABEILHAN | I36: 667512159 | J36: pierre.picard23@wanadoo.fr | K36: ='2014alpha'!K47 -> 18724 | L36: =INT((TODAY()-K36)/365) -> 63
A37: 105253B | B37: 23 | C37: 38012 | F37: 8 ALLEE NICOLAS FOUQUET | G37: 77380 | H37: COMBS LA VILLE | I37: 160603021 | J37: jeanflopat@free.fr | K37: ='2014alpha'!K30 -> 18878 | L37: =INT((TODAY()-K37)/365) -> 63
K38: ='2014alpha'!K35 -> 18978 | L38: =INT((TODAY()-K38)/365) -> 63
A39: 105254B | B39: 24 | C39: 38012 | F39: LE DOMAINE DE LA PARAN VILLA 14 CHEMIN DE LA PARAN | G39: 30130 | H39: SAINT PAULET DE CAISSON | I39: 952581808 | K39: ='2014alpha'!K20 -> 19007 | L39: =INT((TODAY()-K39)/365) -> 62
A40: 105260 | B40: 25 | C40: 38791 | F40: 8 ALLEE NICOLAS FOUQUET | G40: 77380 | H40: COMBS LA VILLE | K40: ='2014alpha'!K31 -> 19190 | L40: =INT((TODAY()-K40)/365) -> 62
A41: 105279 | B41: 37 | K41: ='2014alpha'!K45 -> 19209 | L41: =INT((TODAY()-K41)/365) -> 62
K42: 19236 | L42: =INT((TODAY()-K42)/365) -> 62
A43: 105264 | B43: 26 | C43: 39181 | F43: 98 IMPASSE AU DESSUS DE L'ARGENCE MOULIN MASSET | G43: 16430 | H43: CHAMPNIERS | J43: sylviane.boucard@orange.fr | K43: ='2014alpha'!K16 -> 19361 | L43: =INT((TODAY()-K43)/365) -> 62
...

Sheet anniv
D1: CLUB NATURISTE DU VENTOUS | F1: LISTE DES ADHERENTS triés par date anniversaire
D2: LIEU-DIT EL VENTOS
A4: N° | B4: N° | C4: Date | D4: NOMS | E4: NOM | F4: PRENOMS | G4: ADRESSES | J4: TEL | K4: MAIL | L4: DATE | N4: ANNIV | Q4: JAN | R4: FEV | S4: MAR | T4: AVR | U4: MAI | V4: JUN | W4: JUL | X4: AOU | Y4: SEP | Z4: OCT | AA4: NOV | AB4: DEC
B5: O/ | C5: Adhésion | L5: NAISSANCE | M5: AGES
A6: 104148 | B6: 2 | C6: 1976 | D6: BANIS | G6: 17 ROUTE DU SAULE DURAND | H6: 37510 | I6: SAVONNIERES | L6: 17168 | M6: =INT((TODAY()-L6)/365) -> 68 | N6: ='2014alpha'!$M$49 -> 17168 | O6: Janvier | P6: 1 | Q6: X | U6: X
B7: 4 | D7: DE JONG VAN LIER | G7: 98 IMPASSE AU DESSUS DE L'ARGENCE MOULIN MASSET | H7: 16430 | I7: CHAMPNIERS | K7: sylviane.boucard@orange.fr | L7: 19361 | M7: =INT((TODAY()-L7)/365) -> 62 | N7: ='2014alpha'!$M$16 -> 19361 | P7: 2 | Q7: X | V7: X
A8: 104147 | B8: 1 | C8: 1976 | D8: SCHORER | N8: ='2014alpha'!$M$36 -> 29230 | V8: X
B9: 7 | D9: BOUCARD | N9: ='2014alpha'!$M$10 -> 18641 | V9: X
B10: 12 | D10: COMAS | G10: LE DOMAINE DE LA PARAN VILLA 14 CHEMIN DE LA PARAN | H10: 30130 | I10: SAINT PAULET DE CAISSON | J10: 952581808 | L10: 19007 | M10: =INT((TODAY()-L10)/365) -> 62 | N10: ='2014alpha'!$M$20 -> 19007 | P10: 3 | X10: X
B11: 11 | D11: LAMY | G11: 5 IMPASSE MICHELINE | H11: 93320 | I11: LES PAVILLONS SOUS BOIS | L11: 19743 | M11: =INT((TODAY()-L11)/365) -> 60 | N11: ='2014alpha'!$M$33 -> 19743 | P11: 4 | R11: X | W11: X
B12: 13 | D12: GIRARD | G12: 10 RUE ANTOINE ORLIAC | H12: 66470 | I12: LAROQUE DES ALBERES | L12: 9156 | M12: =INT((TODAY()-L12)/365) -> 89 | N12: ='2014alpha'!$M$29 -> 9156 | P12: 5 | V12: X
B13: 14 | D13: PICARD | G13: 1 BOULEVARD JACQUES BOSSUET | H13: 34290 | I13: ABEILHAN | J13: 467390820 | L13: 16827 | M13: =INT((TODAY()-L13)/365) -> 68 | N13: ='2014alpha'!$M$46 -> 16827 | P13: 6 | T13: X | U13: X | AB13: X
B14: 15 | D14: GABAS | G14: 5 RUE DE L'OCEAN | H14: 17137 | I14: ESNANDES | J14: 546012123 | K14: vladimir.gabas@orange.fr | L14: 12454 | M14: =INT((TODAY()-L14)/365) -> 80 | N14: ='2014alpha'!$M$26 -> 12454 | O14: Février | P14: 7 | U14: X | Y14: X | AA14: X
B15: 16 | D15: DELFOLIE | G15: MAS LA RIA | H15: 66150 | I15: ARLES SUR TECH | J15: 468391465 | L15: 12471 | M15: =INT((TODAY()-L15)/365) -> 80 | N15: ='2014alpha'!$M$23 -> 12471 | P15: 8
B16: 17 | D16: MAROTTE | G16: 20 PLACE DE LA REPUBLIQUE | H16: 66480 | I16: MAUREILLAS LAS ILLAS | J16: 468391942 | K16: genemarotte@wanadoo.fr | L16: 16871 | M16: =INT((TODAY()-L16)/365) -> 68 | N16: ='2014alpha'!$M$39 -> 16871 | O16: Mars | P16: 9 | AA16: X
B17: 18 | D17: AMANS | G17: 14 RUE DE LOS PALAUS | H17: 66170 | I17: MILLAS | L17: 13956 | M17: =INT((TODAY()-L17)/365) -> 76 | N17: ='2014alpha'!$M$9 -> 13956 | P17: 10 | Q17: X | S17: X
B18: 19 | D18: ROUSSEL | G18: LE DOMAINE DE LA PARAN VILLA 14 CHEMIN DE LA PARAN | H18: 30130 | I18: SAINT PAULET DE CAISSON | J18: 952581808 | L18: 21272 | M18: =INT((TODAY()-L18)/365) -> 56 | N18: ='2014alpha'!$M$21 -> 21272 | P18: 11
B19: 20 | D19: PICARD | G19: 1 BOULEVARD JACQUES BOSSUET | H19: 34290 | I19: ABEILHAN | J19: 667512159 | K19: pierre.picard23@wanadoo.fr | L19: 18724 | M19: =INT((TODAY()-L19)/365) -> 63 | N19: ='2014alpha'!$M$47 -> 18724 | O19: Avril | P19: 12
N20: ='2014alpha'!$M$44 -> 19477 | P20: 13 | Q20: X
A21: 105242 | B21: 21 | C21: 35922 | D21: MORICE | G21: LA BENEZETTE ROUTE DE CAPESTANG | H21: 34370 | I21: MAUREILHAN | J21: 665880311 | K21: marie.morice@live.fr | L21: 22037 | M21: =INT((TODAY()-L21)/365) -> 54 | N21: ='2014alpha'!$M$43 -> 22037 | O21: Mai | P21: 14 | Q21: X | Y21: X | Z21: X
A22: 105248 | B22: 22 | C22: 37347 | D22: MARTINEZ | N22: ='2014alpha'!M69 -> 35921 | P22: 15 | W22: X | AB22: X
N23: ='2014alpha'!M71 -> 37018 | P23: 16 | AB23: X
A24: 105253B | B24: 23 | C24: 38012 | D24: WILD | G24: CAMPING LE VENTOUS LIEU-DIT EL VENTOS | H24: 66150 | I24: ARLES SUR TECH | L24: 23152 | M24: =INT((TODAY()-L24)/365) -> 51 | N24: ='2014alpha'!$M$42 -> 23152 | P24: 17 | S24: X | AB24: X
B25: 5 | D25: DUMORTIER | G25: 27 RUE VILLIERS DE L'ISLE ADAM | H25: 75020 | I25: PARIS | J25: 143496632 | K25: wild@noos.fr | L25: 22069 | M25: =INT((TODAY()-L25)/365) -> 54 | N25: ='2014alpha'!$M$55 -> 22069 | O25: Juin | P25: 18 | Z25: X
A26: 105254B | B26: 24 | C26: 38012 | D26: BAUD | G26: 36 RUE SOUBIELLE | H26: 34160 | I26: SAINT GENIES DES MOURGUES | K26: cg.dumortier@aliceadsl.fr | L26: 17686 | M26: =INT((TODAY()-L26)/365) -> 66 | N26: ='2014alpha'!$M$25 -> 17686 | P26: 19 | Q26: X
A27: 105260 | B27: 25 | C27: 38791 | D27: WILD | N27: ='2014alpha'!K70 -> 36679 | P27: 20
A28: 105264 | B28: 26 | C28: 39181 | D28: HENRY | G28: 27 RUE VILLIERS DE L'ISLE ADAM | H28: 75020 | I28: PARIS | J28: 143496632 | K28: wild@noos.fr | L28: 22802 | M28: =INT((TODAY()-L28)/365) -> 52 | N28: ='2014alpha'!$M$54 -> 22802 | P28: 21 | R28: X | U28: X | Y28: X
G29: 29 RUE DU BARRI D'AMOUNT | H29: 66150 | I29: ARLES SUR TECH | L29: 23192 | M29: =INT((TODAY()-L29)/365) -> 51 | N29: ='2014alpha'!$M$13 -> 23192 | P29: 22
B30: 27 | D30: SCHORER | N30: ='2014alpha'!$M$37 -> 16987 | O30: Juillet | P30: 23 | Y30: X
A31: 105266 | B31: 28 | C31: 39455 | D31: HENRY | G31: 8 ALLEE NICOLAS FOUQUET | H31: 77380 | I31: COMBS LA VILLE | L31: 19190 | M31: =INT((TODAY()-L31)/365) -> 62 | N31: ='2014alpha'!$M$31 -> 19190 | P31: 24 | Q31: X | AA31: X | AB31: X
B32: 8 | D32: CIESLAK | N32: ='2014alpha'!$M$45 -> 19209 | O32: Août | P32: 25 | Q32: X
A33: 105267 | B33: 29 | C33: 39462 | D33: GIRARD | N33: ='2014alpha'!$M$52 -> 19236 | P33: 26 | AA33: X
A34: 105270 | B34: 30 | C34: 39873 | D34: BAUD | N34: ='2014alpha'!$M$38 -> 14853 | P34: 27 | AB34: X
A35: 105272 | B35: 31 | C35: 39908 | D35: MARTINEZ | G35: 17 ROUTE DU SAULE DURAND | H35: 37510 | I35: SAVONNIERES | J35: 247500324 | K35: andre.schorer@orange.fr | L35: 17045 | M35: =INT((TODAY()-L35)/365) -> 68 | N35: ='2014alpha'!$M$48 -> 17045 | P35: 28 | S35: X | T35: X | Z35: X
A36: 105273 | B36: 32 | C36: 39908 | D36: TAULET | G36: 8 ALLEE NICOLAS FOUQUET | H36: 77380 | I36: COMBS LA VILLE | J36: 160603021 | K36: jeanflopat@free.fr | L36: 18878 | M36: =INT((TODAY()-L36)/365) -> 63 | N36: ='2014alpha'!$M$30 -> 18878 | O36: Septembre | P36: 29 | AA36: X
A37: 105274 | B37: 33 | C37: 39930 | D37: MARTINEZ | G37: 67 AVENUE ESPRIT ARMANDO | H37: 83500 | I37: LA SEYNE SUR MER | L37: 13772 | M37: =INT((TODAY()-L37)/365) -> 77 | N37: ='2014alpha'!$M$18 -> 13772 | P37: 30 | V37: X | X37: X | Y37: X | AA37: X
A38: 105275 | B38: 34 | C38: 39930 | D38: GARAY | G38: 10 RUE ANTOINE ORLIAC | H38: 66470 | I38: LAROQUE DES ALBERES | J38: 468954431 | L38: 9396 | M38: =INT((TODAY()-L38)/365) -> 89 | N38: ='2014alpha'!$M$28 -> 9396 | X38: X
G39: 29 RUE DU BARRI D'AMOUNT | H39: 66150 | I39: ARLES SUR TECH | J39: 468393075 | K39: baud-francois@wanadoo.fr | L39: 20355 | M39: =INT((TODAY()-L39)/365) -> 59 | N39: ='2014alpha'!$M$12 -> 20355 | P39: 31 | X39: X | Z39: X
A40: 105277 | B40: 35 | C40: 40249 | D40: VATRICAN | G40: CAMPING LE VENTOUS LIEU-DIT EL VENTOS | H40: 66150 | I40: ARLES SUR TECH | J40: 468391093 | K40: leventous.ffn@wanadoo.fr | L40: 17806 | M40: =INT((TODAY()-L40)/365) -> 66 | N40: ='2014alpha'!$M$41 -> 17806 | Q40: JAN | R40: FEV | S40: MAR | T40: AVR | U40: MAI | V40: JUN | W40: JUL | X40: AOU | Y40: SEP | Z40: OCT | AA40: NOV | AB40: DEC
B41: 6 | D41: BOUCARD | G41: 52 AVENUE DE LAS BIGUES | H41: 66140 | I41: CANET EN ROUSSILLON | L41: 22568 | M41: =INT((TODAY()-L41)/365) -> 53 | N41: ='2014alpha'!$M$50 -> 22568 | O41: Octobre
...

Sheet reglemt
A1: règlements | T1: règlements
A2: licences | T2: licences
A3: 2013 | T3: 2014
A6: N° carte | B6: N° | C6: Date | D6: NOMS | E6: PRENOMS | F6: ADRESSES | I6: TEL | J6: MAIL | K6: DATE | N6: N° | P6: couples | Q6: indiv | R6: N° | S6: att.fic. | T6: NOMS | U6: PRENOMS | V6: N° | X6: couples | Y6: indiv | Z6: reste | AA6: N°licence | AH6: att.fic.
B7: O/ | C7: Adhésion | K7: NAISSANCE | L7: AGES | M7: ANNIV | N7: O/ | R7: licence | S7: 2013 | V7: O/ | Z7: dû | AH7: 2014
B8: 15 | D8: AMANS | E8: FRANCOISE | F8: 14 RUE DE LOS PALAUS | G8: 66170 | H8: MILLAS | I8: 468572089 | J8: pas d'adresse mail | K8: 14585 | L8: =INT((TODAY()-K8)/365) -> 75 | M8: 41614 | N8: 17 | O8: réglé chq | P8: 106 | R8: 071215 | V8: ='2014alpha'!B8 -> 1 | W8: réglé chq | X8: 120 | AA8: 6870
B9: 16 | D9: AMANS | E9: PIERRE | F9: 14 RUE DE LOS PALAUS | G9: 66170 | H9: MILLAS | I9: 468572089 | J9: pas d'adresse mail | K9: 13956 | L9: =INT((TODAY()-K9)/365) -> 76 | M9: 41350 | N9: 18 | R9: 071216 | V9: ='2014alpha'!B9 -> 2 | AA9: 6871
B10: 3 | D10: BANIS | E10: MARGRIET | F10: OOSTERSTREEK 66 | G10: 8388.N.E. | H10: OOSTERSTREEK / PAYS BAS | N10: 3 | Q10: 53 | R10: 071202 | V10: ='2014alpha'!B10 -> 3 | W10: reglé virt | Y10: 60 | AA10: 7386
B11: 4 | D11: BARRE | E11: MERCEDES | F11: 8 RUE RAOUL DUFY | G11: 66000 | H11: PERPIGNAN | I11: 468638782 | K11: 14960 | L11: =INT((TODAY()-K11)/365) -> 74 | M11: 41623 | N11: 4 | O11: réglé chq | Q11: 53 | R11: 071203 | V11: ='2014alpha'!B11 -> 4 | W11: réglé chq | Y11: 60 | AA11: 6872
A12: 105253B | B12: 20 | C12: 38012 | D12: BAUD | E12: FRANCOIS | F12: 20 RUE DU BELLMATX | G12: 66150 | H12: ARLES SUR TECH | I12: 468393075 | J12: baud-francois@wanadoo.fr | K12: 20355 | L12: =INT((TODAY()-K12)/365) -> 59 | M12: 41540 | N12: 21 | O12: réglé chq | P12: 106 | R12: 071219 | V12: ='2014alpha'!B12 -> 5 | W12: réglé chq | X12: 120 | AA12: 6873
A13: 105254B | B13: 21 | C13: 38012 | D13: BAUD | E13: ISABELLE | F13: 20 RUE DU BELLMATX | G13: 66150 | H13: ARLES SUR TECH | I13: 468393075 | J13: baud-francois@wanadoo.fr | K13: 23192 | L13: =INT((TODAY()-K13)/365) -> 51 | M13: 41455 | N13: 22 | R13: 071220 | V13: ='2014alpha'!B13 -> 6 | AA13: 6874
B14: 5 | D14: BERNARD | E14: SERGE | F14: 5 LA COURT MESNIL | G14: 61290 | H14: NEUILLY SUR SEINE | I14: 670434630 | N14: 5 | O14: réglé esp | Q14: 53 | R14: 071204 | V14: ='2014alpha'!B14 -> 7 | W14: réglé chq | Y14: 60 | AA14: 6875
A15: 105274 | B15: 33 | C15: 39930 | D15: BOUCARD | E15: MICHEL | F15: 98 IMPASSE AU DESSUS DE L'ARGENCE MOULIN MASSET | G15: 16430 | H15: CHAMPNIERS | I15: 545699928 | J15: sylviane.boucard@orange.fr | K15: 17846 | L15: =INT((TODAY()-K15)/365) -> 66 | M15: 41587 | N15: 35 | O15: réglé chq | P15: 106 | R15: 071232 | V15: ='2014alpha'!B15 -> 8 | W15: réglé chq | X15: 120 | AA15: 6876
A16: 105275 | B16: 34 | C16: 39930 | D16: BOUCARD | E16: SYLVIANE | F16: 98 IMPASSE AU DESSUS DE L'ARGENCE MOULIN MASSET | G16: 16430 | H16: CHAMPNIERS | I16: 545699928 | J16: sylviane.boucard@orange.fr | K16: 19361 | L16: =INT((TODAY()-K16)/365) -> 62 | M16: 41276 | N16: 36 | R16: 071233 | V16: ='2014alpha'!B16 -> 9 | AA16: 6877
A17: 105282 | D17: CHAMOUX | E17: ROLAND | N17: 42 | Q17: 53 | R17: 071239 | V17: ='2014alpha'!B17 -> 10 | W17: réglé chq | Y17: 60 | AA17: 6878
A18: 105278 | B18: 36 | D18: CIESLAK | E18: FRANS EDUARD | F18: 67 AVENUE ESPRIT ARMANDO | G18: 83500 | H18: LA SEYNE SUR MER | I18: 610472769 | J18: domidk@neuf.fr | K18: 13772 | L18: =INT((TODAY()-K18)/365) -> 77 | M18: 41531 | N18: 38 | O18: réglé chq | P18: 106 | R18: 071235 | V18: ='2014alpha'!B18 -> 11 | W18: réglé chq | X18: 120 | AA18: 6879
A19: 105279 | B19: 37 | D19: CIESLAK | E19: DOMINIQUE | F19: 67 AVENUE ESPRIT ARMANDO | G19: 83500 | H19: LA SEYNE SUR MER | I19: 610472769 | J19: domidk@neuf.fr | K19: 18593 | L19: =INT((TODAY()-K19)/365) -> 64 | M19: 41604 | N19: 39 | R19: 071236 | V19: ='2014alpha'!B19 -> 12 | AA19: 6880
A20: 105268 | B20: 28 | C20: 39472 | D20: COMAS | E20: HENRI | F20: LE DOMAINE DE LA PARAN VILLA 14 CHEMIN DE LA PARAN | G20: 30130 | H20: SAINT PAULET DE CAISSON | I20: 952581808 | J20: henrycomas@hotmail.fr | K20: 19007 | L20: =INT((TODAY()-K20)/365) -> 62 | M20: 41288 | N20: 30 | O20: réglé chq | P20: 106 | R20: 071227 | V20: ='2014alpha'!B20 -> 13 | W20: réglé chq | X20: 120 | AA20: 6881
A21: 105269 | B21: 29 | C21: 39472 | D21: COMAS-ROUSSEL | E21: SYLVIE | F21: LE DOMAINE DE LA PARAN VILLA 14 CHEMIN DE LA PARAN | G21: 30130 | H21: SAINT PAULET DE CAISSON | I21: 952581808 | J21: jubrice@hotmail.f | K21: 21272 | L21: =INT((TODAY()-K21)/365) -> 56 | M21: 41361 | N21: 31 | R21: 071228 | V21: ='2014alpha'!B21 -> 14 | AA21: 6882
B22: 6 | D22: DAVIAU | E22: CLAUDE | F22: 1 RUE DES ROUGES-GOURGES | G22: 66300 | H22: PONTEILLA | I22: 468533231 | J22: claude.daviau@yahoo.fr | K22: 8734 | L22: =INT((TODAY()-K22)/365) -> 91 | M22: 41607 | N22: 6 | Q22: 53 | R22: 071205 | V22: ='2014alpha'!B22 -> 15 | W22: réglé chq | Y22: 60 | AA22: 6883
B23: 8 | D23: DELFOLIE | E23: BERNARD | F23: MAS LA RIA | G23: 66150 | H23: ARLES SUR TECH | I23: 468391465 | K23: 12471 | L23: =INT((TODAY()-K23)/365) -> 80 | M23: 41326 | N23: 8 | Q23: 53 | R23: 071207 | V23: ='2014alpha'!B23 -> 16 | W23: réglé chq | Y23: 60 | AA23: 6884
A24: 105272 | B24: 31 | C24: 39908 | D24: DUMORTIER | E24: GERARD | F24: 36 RUE SOUBIELLE | G24: 34160 | H24: SAINT GENIES DES MOURGUES | I24: 637502861 | J24: cg.dumortier@aliceadsl.fr | K24: 17891 | L24: =INT((TODAY()-K24)/365) -> 66 | M24: 41632 | N24: 33 | O24: réglé chq | P24: 106 | R24: 071230 | V24: ='2014alpha'!B24 -> 17 | W24: réglé chq | X24: 120 | AA24: 6885
A25: 105273 | B25: 32 | C25: 39908 | D25: DUMORTIER | E25: CHANTAL | F25: 36 RUE SOUBIELLE | G25: 34160 | H25: SAINT GENIES DES MOURGUES | I25: 637502861 | J25: cg.dumortier@aliceadsl.fr | K25: 17686 | L25: =INT((TODAY()-K25)/365) -> 66 | M25: 41427 | N25: 34 | R25: 071231 | V25: ='2014alpha'!B25 -> 18 | AA25: 6886
B26: 9 | D26: GABAS | E26: VLADIMIR | F26: 5 RUE DE L'OCEAN | G26: 17137 | H26: ESNANDES | I26: 546012123 | J26: vladimir.gabas@orange.fr | K26: 12454 | L26: =INT((TODAY()-K26)/365) -> 80 | M26: 41309 | N26: 9 | O26: réglé chq | P26: 106 | R26: 071208 | V26: ='2014alpha'!B26 -> 19 | W26: réglé chq | Y26: 60 | AA26: 6887
V27: ='2014alpha'!B28 -> 21 | W27: réglé chq | Y27: 60 | AA27: 7392
A28: 104147 | B28: 1 | C28: 1976 | D28: GIRARD | E28: PIERRE | F28: 10 RUE ANTOINE ORLIAC | G28: 66470 | H28: LAROQUE DES ALBERES | I28: 468954431 | J28: pierre.girard@dbmail.com | K28: 9396 | L28: =INT((TODAY()-K28)/365) -> 89 | M28: 41538 | N28: 1 | O28: réglé chq | P28: 106 | R28: 071200 | V28: ='2014alpha'!B29 -> 22 | W28: réglé chq | X28: 120 | AA28: 6888
A29: 104148 | B29: 2 | C29: 1976 | D29: GIRARD | E29: GENEVIEVE | F29: 10 RUE ANTOINE ORLIAC | G29: 66471 | H29: LAROQUE DES ALBERES | I29: 468954431 | J29: pierre.girard@dbmail.com | K29: 9156 | L29: =INT((TODAY()-K29)/365) -> 89 | M29: 41298 | N29: 2 | R29: 071201 | V29: ='2014alpha'!B30 -> 23 | AA29: 6889
B30: 10 | D30: HENRY | E30: JEAN YVES | F30: 8 ALLEE NICOLAS FOUQUET | G30: 77380 | H30: COMBS LA VILLE | I30: 160603021 | J30: jeanflopat@free.fr | K30: 18878 | L30: =INT((TODAY()-K30)/365) -> 63 | M30: 41524 | N30: 11 | O30: réglé chq | P30: 106 | R30: 071210 | V30: ='2014alpha'!B31 -> 24 | W30: réglé chq | X30: 120 | AA30: 6890
B31: 11 | D31: HENRY | E31: PATRICIA | F31: 8 ALLEE NICOLAS FOUQUET | G31: 77380 | H31: COMBS LA VILLE | I31: 160603021 | J31: jeanflopat@free.fr | K31: 19190 | L31: =INT((TODAY()-K31)/365) -> 62 | M31: 41470 | N31: 12 | R31: 071211 | V31: ='2014alpha'!B32 -> 25 | AA31: 6891
A32: 105280 | B32: 38 | D32: LAMY | E32: DENIS | F32: 5 IMPASSE MICHELINE | G32: 93320 | H32: LES PAVILLONS SOUS BOIS | I32: 613186662 | J32: denis_lamy@yahoo.fr | K32: 17884 | L32: =INT((TODAY()-K32)/365) -> 66 | M32: 41625 | N32: 40 | O32: réglé chq | P32: 106 | R32: 071237 | V32: ='2014alpha'!B33 -> 26 | W32: réglé chq | X32: 120 | AA32: 6892
A33: 105281 | B33: 39 | D33: LAMY | E33: DANIE CLAUDE | F33: 5 IMPASSE MICHELINE | G33: 93320 | H33: LES PAVILLONS SOUS BOIS | I33: 613186662 | J33: denis_lamy@yahoo.fr | K33: 19743 | L33: =INT((TODAY()-K33)/365) -> 60 | M33: 41293 | N33: 41 | R33: 071238 | V33: ='2014alpha'!B34 -> 27 | AA33: 6893
V34: ='2014alpha'!B35 -> 28 | W34: réglé chq | X34: 120 | AA34: 6894
V35: ='2014alpha'!B36 -> 29 | AA35: 6895
V36: ='2014alpha'!B37 -> 30 | W36: réglé chq | Y36: 60 | AA36: 7391
V37: ='2014alpha'!B38 -> 31 | W37: réglé chq | X37: 120 | AA37: 6900
V38: ='2014alpha'!B39 -> 32 | AA38: 6901
B39: 12 | D39: MAROTTE | E39: GENEVIEVE | F39: 20 PLACE DE LA REPUBLIQUE | G39: 66480 | H39: MAUREILLAS LAS ILLAS | I39: 468391942 | J39: genemarotte@wanadoo.fr | K39: 16871 | L39: =INT((TODAY()-K39)/365) -> 68 | M39: 41343 | N39: 13 | O39: réglé chq | Q39: 53 | R39: 071212 | V39: ='2014alpha'!B40 -> 33 | W39: réglé chq | Y39: 60 | AA39: 6896
A40: 105248 | B40: 18 | C40: 37347 | D40: MARTINEZ | E40: YVES | F40: CAMPING LE VENTOUS LIEU-DIT EL VENTOS | G40: 66150 | H40: ARLES SUR TECH | I40: 468391093 | J40: leventous.ffn@wanadoo.fr | K40: 17806 | L40: =INT((TODAY()-K40)/365) -> 66 | M40: 41547 | N40: 19 | P40: 106 | R40: 071217 | V40: ='2014alpha'!B41 -> 34 | W40: réglé chq | Y40: 60 | AA40: 7387
A41: 105249 | B41: 19 | C41: 37347 | D41: MARTINEZ | E41: YANNIQUE | F41: CAMPING LE VENTOUS LIEU-DIT EL VENTOS | G41: 66150 | H41: ARLES SUR TECH | I41: 468391093 | J41: leventous.ffn@wanadoo.fr | K41: 22787 | L41: =INT((TODAY()-K41)/365) -> 52 | M41: 41415 | N41: 20 | R41: 071218 | V41: ='2014alpha'!B42 -> 35 | W41: réglé chq | Y41: 60 | AA41: 7388
B42: 13 | D42: MARTINEZ | E42: PIERRETTE | F42: CAMPING LE VENTOUS LIEU-DIT EL VENTOS | G42: 66150 | H42: ARLES SUR TECH | I42: 468391093 | J42: leventous.ffn@wanadoo.fr | K42: 7231 | L42: =INT((TODAY()-K42)/365) -> 95 | M42: 41565 | N42: 14 | V42: ='2014alpha'!B43 -> 36
...

Sheet affichage
A1: NOM | B1: PRENOMS | C1: ANNIV | F1: pour
F2: impression
C3: ='2014alpha'!$M$49 -> 17168 | D3: Janvier | F3: et
C4: ='2014alpha'!$M$16 -> 19361 | F4: affichage
C5: ='2014alpha'!$M$36 -> 29230 | F5: bureau
C6: ='2014alpha'!$M$10 -> 18641 | F6: PP
C7: ='2014alpha'!$M$20 -> 19007
C8: ='2014alpha'!$M$33 -> 19743
C9: ='2014alpha'!$M$29 -> 9156
C10: ='2014alpha'!$M$46 -> 16827
C11: ='2014alpha'!$M$26 -> 12454 | D11: Février
C12: ='2014alpha'!$M$23 -> 12471
C13: ='2014alpha'!$M$39 -> 16871 | D13: Mars
C14: ='2014alpha'!$M$9 -> 13956
C15: ='2014alpha'!$M$21 -> 21272
C16: ='2014alpha'!$M$47 -> 18724 | D16: Avril
C17: ='2014alpha'!$M$44 -> 19477
C18: ='2014alpha'!$M$43 -> 22037 | D18: Mai
C19: ='2014alpha'!M69 -> 35921
C20: ='2014alpha'!M71 -> 37018
C21: ='2014alpha'!$M$42 -> 23152
C22: ='2014alpha'!$M$55 -> 22069 | D22: Juin
C23: ='2014alpha'!$M$25 -> 17686
C24: ='2014alpha'!M70 -> 36679
C25: ='2014alpha'!$M$54 -> 22802
C26: ='2014alpha'!$M$13 -> 23192
C27: ='2014alpha'!$M$37 -> 16987 | D27: Juillet
C28: ='2014alpha'!$M$31 -> 19190
C29: ='2014alpha'!$M$45 -> 19209 | D29: Août
C30: ='2014alpha'!$M$52 -> 19236
C31: ='2014alpha'!$M$38 -> 14853
C32: ='2014alpha'!$M$48 -> 17045
C33: ='2014alpha'!$M$30 -> 18878 | D33: Septembre
C34: ='2014alpha'!$M$18 -> 13772
C35: ='2014alpha'!$M$28 -> 9396
C36: ='2014alpha'!$M$12 -> 20355
C37: ='2014alpha'!$M$41 -> 17806
C38: ='2014alpha'!$M$50 -> 22568 | D38: Octobre
C39: ='2014alpha'!$M$40 -> 7231
C40: ='2014alpha'!$M$53 -> 16373
...

Sheet Tableau_LouReeD
A4: N° Ordre | B4: N° carte | C4: Date Adhésion | D4: NOMS | E4: PRENOMS | F4: ADRESSES | G4: Code postal | H4: Commune | I4: Téléphone | J4: Mail | K4: Date naissance | L4: Ages
A5: 1 | B5: 105210 | C5: 41893 | D5: LouReeD | E5: Stéph | F5: ici | G5: 29000 | H5: La commune | I5: 607080910 | J5: LouReeD.Stéph@Stéph.fr | K5: 14896 | L5: =DATEDIF(K5,TODAY(),"y") -> 74
A6: 2 | B6: 105211 | C6: 41932 | D6: LRD | E6: Math | F6: là bas | G6: 30000 | H6: Cette commune | I6: 607080911 | J6: LRD.Math@Math.fr | K6: 23015 | L6: =DATEDIF(K6,TODAY(),"y") -> 51
A7: 6 | B7: 105333 | C7: 41988 | D7: L OuReeD | E7: Tom | F7: pas ici | G7: 34000 | H7: La commune | I7: 607080915 | J7: L OuReeD.Tom@Tom.fr | K7: 26644 | L7: =DATEDIF(K7,TODAY(),"y") -> 42
A8: 5 | B8: 105321 | C8: 41966 | D8: Lour eeD | E8: Chris | F8: pas loin | G8: 33000 | H8: Cette commune | I8: 607080914 | J8: Lour eeD.Chris@Chris.fr | K8: 27460 | L8: =DATEDIF(K8,TODAY(),"y") -> 39
A9: 3 | B9: 105212 | C9: 41934 | D9: lo ureed | E9: Oliv | F9: plus loin | G9: 31000 | H9: l'autre commune | I9: 607080912 | J9: lo ureed.Oliv@Oliv.fr | K9: 31243 | L9: =DATEDIF(K9,TODAY(),"y") -> 29
A10: 4 | B10: 105320 | C10: 41960 | D10: Lou ReeD | E10: Seb | F10: ailleurs | G10: 32000 | H10: l'autre commune | I10: 607080913 | J10: Lou ReeD.Seb@Seb.fr | K10: 33183 | L10: =DATEDIF(K10,TODAY(),"y") -> 24
