Workbook

Sheet Variables
A1: Année | B1: 2018 | E1: Absences | H1: Employés
E2: CP | F2: Congés Payés | H2: Alexandre
A3: 1er Janvier | B3: =DATE($B$1,1,1) -> 43101 | C3: =_xlfn.FORMULATEXT(B3) -> #NAME? | E3: MAL | F3: Maladie | H3: Calix
A4: Pâques | B4: =ROUND(DATE($B$1,4,MOD(234-11*MOD($B$1,19),30))/7,)*7-6 -> 43191 | C4: =_xlfn.FORMULATEXT(B4) -> #NAME? | E4: CMAT | F4: Congé Maternité | H4: Johan
A5: Lundi de Pâques | B5: =B4+1 -> 43192 | C5: =_xlfn.FORMULATEXT(B5) -> #NAME? | E5: CPA | F5: Congé parental | H5: Mathias
A6: 1er Mai | B6: =DATE($B$1,5,1) -> 43221 | C6: =_xlfn.FORMULATEXT(B6) -> #NAME? | E6: CPAT | F6: Congé Paternité | H6: Mélissa
A7: 8 Mai | B7: =DATE($B$1,5,8) -> 43228 | C7: =_xlfn.FORMULATEXT(B7) -> #NAME? | E7: EVF | F7: Evénement familial | H7: Nicolas
A8: Ascenscion | B8: =B4+39 -> 43230 | C8: =_xlfn.FORMULATEXT(B8) -> #NAME? | E8: ABSNR | F8: Absence non rémunérée | H8: Pierre
A9: Pentecôte | B9: =B4+49 -> 43240 | C9: =_xlfn.FORMULATEXT(B9) -> #NAME? | E9: NJ | F9: Non justifiée
A10: Lundi de la Pentecôte | B10: =B4+50 -> 43241 | C10: =_xlfn.FORMULATEXT(B10) -> #NAME? | E10: FOR | F10: Formation
A11: 14 Juillet | B11: =DATE($B$1,7,14) -> 43295 | C11: =_xlfn.FORMULATEXT(B11) -> #NAME?
A12: 15 Août | B12: =DATE($B$1,8,15) -> 43327 | C12: =_xlfn.FORMULATEXT(B12) -> #NAME?
A13: 1er Novembre | B13: =DATE($B$1,11,1) -> 43405 | C13: =_xlfn.FORMULATEXT(B13) -> #NAME?
A14: 11 Novembre | B14: =DATE($B$1,11,11) -> 43415 | C14: =_xlfn.FORMULATEXT(B14) -> #NAME?
A15: 25 Décembre | B15: =DATE($B$1,12,25) -> 43459 | C15: =_xlfn.FORMULATEXT(B15) -> #NAME?
A18: Référence cumul CP | B18: Droit à | C18: Cumul des droits
A19: Juin | B19: 2.5 | C19: 2.5
A20: Juillet | B20: 2.5 | C20: =2.5+C19 -> 5
A21: Août | B21: 2.5 | C21: =2.5+C20 -> 7.5
A22: Septembre | B22: 2.5 | C22: =2.5+C21 -> 10
A23: Octobre | B23: 2.5 | C23: =2.5+C22 -> 12.5
A24: Novembre | B24: 2.5 | C24: =2.5+C23 -> 15
A25: Décembre | B25: 2.5 | C25: =2.5+C24 -> 17.5
A26: Janvier | B26: 2.5 | C26: =2.5+C25 -> 20
A27: Février | B27: 2.5 | C27: =2.5+C26 -> 22.5
A28: Mars | B28: 2.5 | C28: =2.5+C27 -> 25
A29: Avril | B29: 2.5 | C29: =2.5+C28 -> 27.5
A30: Mai | B30: 2.5 | C30: =2.5+C29 -> 30
A31: TOTAL JOURS OUVRABLES | B31: =SUM(B19:B30) -> 30 | C31: 30

Sheet Calendrier
A1: Mois | B1: 2
A2: Année | B2: 2018
B5: =DATE(B2,B1,1) -> 43132 | C5: =IF(B5="","",IF(MONTH(B5+1)=MONTH(B5),B5+1,"")) -> 43133 | D5: =IF(C5="","",IF(MONTH(C5+1)=MONTH(C5),C5+1,"")) -> 43134 | E5: =IF(D5="","",IF(MONTH(D5+1)=MONTH(D5),D5+1,"")) -> 43135 | F5: =IF(E5="","",IF(MONTH(E5+1)=MONTH(E5),E5+1,"")) -> 43136 | G5: =IF(F5="","",IF(MONTH(F5+1)=MONTH(F5),F5+1,"")) -> 43137 | H5: =IF(G5="","",IF(MONTH(G5+1)=MONTH(G5),G5+1,"")) -> 43138 | I5: =IF(H5="","",IF(MONTH(H5+1)=MONTH(H5),H5+1,"")) -> 43139 | J5: =IF(I5="","",IF(MONTH(I5+1)=MONTH(I5),I5+1,"")) -> 43140 | ... AF5: =IF(AE5="","",IF(MONTH(AE5+1)=MONTH(AE5),AE5+1,""))
A6: Alexandre | B6: =SUMPRODUCT(($A6='Suivi absences'!$A$2:$A$10)*(Calendrier!B$5>='Suivi absences'!$C$2:$C$10)*(Calendrier!B$5<='Suivi absences'!$D$2:$D$10)*('Suivi absences'!$B$2:$B$10="CP"))+ 2*SUMPRODUCT(($A6='Suivi absences'!$A$2:$A$10)*(Calendrier!B$5>='Suivi absences'!$C$2:$C$10)*(Calendrier!B$5<='Suivi absences'!$D$2:$D$10)*('Suivi absences'!$B$2:$B$10="MAL"))+ 3*SUMPRODUCT(($A6='Suivi absences'!$A$2:$A$10)*(Calendrier!B$5>='Suivi absences'!$C$2:$C$10)*(Calendrier!B$5<='Suivi absences'!$D$2:$D$10)*('Suivi absences'!$B$2:$B$10="CMAT"))+ 4*SUMPRODUCT(($A6='Suivi absences'!$A$2:$A$10)*(Calendrier!B$5>='Suivi absences'!$C$2:$C$10)*(Calendrier!B$5<='Suivi absences'!$D$2:$D$10)*('Suivi absences'!$B$2:$B$10="CPA"))+ 5*SUMPRODUCT(($A6='Suivi absences'!$A$2:$A$10)*(Calendrier!B$5>='Suivi absences'!$C$2:$C$10)*(Calendrier!B$5<='Suivi absences'!$D$2:$D$10)*('Suivi absences'!$B$2:$B$10="CPAT"))+ 6*SUMPRODUCT(($A6='Suivi absences'!$A$2:$A$10)*(Calendrier!B$5>='Suivi absences'!$C$2:$C$10)*(Calendrier!B$5<='Suivi absences'!$D$2:$D$10)*('Suivi absences'!$B$2:$B$10="EVF"))+ 7*SUMPRODUCT(($A6='Suivi absences'!$A$2:$A$10)*(Calendrier!B$5>='Suivi absences'!$C$2:$C$10)*(Calendrier!B$5<='Suivi absences'!$D$2:$D$10)*('Suivi absences'!$B$2:$B$10="ABSNR"))+ 8*SUMPRODUCT(($A6='Suivi absences'!$A$2:$A$10)*(Calendrier!B$5>='Suivi absences'!$C$2:$C$10)*(Calendrier!B$5<='Suivi absences'!$D$2:$D$10)*('Suivi absences'!$B$2:$B$10="NJ"))+ 9*SUMPRODUCT(($A6='Suivi absences'!$A$2:$A$10)*(Calendrier!B$5>='Suivi absences'!$C$2:$C$10)*(Calendrier!B$5<='Suivi absences'!$D$2:$D$10)*('Suivi absences'!$B$2:$B$10="FOR")) -> 0 | C6: =SUMPRODUCT(($A6='Suivi absences'!$A$2:$A$10)*(Calendrier!C$5>='Suivi absences'!$C$2:$C$10)*(Calendrier!C$5<='Suivi absences'!$D$2:$D$10)*('Suivi absences'!$B$2:$B$10="CP"))+ 2*SUMPRODUCT(($A6='Suivi absences'!$A$2:$A$10)*(Calendrier!C$5>='Suivi absences'!$C$2:$C$10)*(Calendrier!C$5<='Suivi absences'!$D$2:$D$10)*('Suivi absences'!$B$2:$B$10="MAL"))+ 3*SUMPRODUCT(($A6='Suivi absences'!$A$2:$A$10)*(Calendrier!C$5>='Suivi absences'!$C$2:$C$10)*(Calendrier!C$5<='Suivi absences'!$D$2:$D$10)*('Suivi absences'!$B$2:$B$10="CMAT"))+ 4*SUMPRODUCT(($A6='Suivi absences'!$A$2:$A$10)*(Calendrier!C$5>='Suivi absences'!$C$2:$C$10)*(Calendrier!C$5<='Suivi absences'!$D$2:$D$10)*('Suivi absences'!$B$2:$B$10="CPA"))+ 5*SUMPRODUCT(($A6='Suivi absences'!$A$2:$A$10)*(Calendrier!C$5>='Suivi absences'!$C$2:$C$10)*(Calendrier!C$5<='Suivi absences'!$D$2:$D$10)*('Suivi absences'!$B$2:$B$10="CPAT"))+ 6*SUMPRODUCT(($A6='Suivi absences'!$A$2:$A$10)*(Calendrier!C$5>='Suivi absences'!$C$2:$C$10)*(Calendrier!C$5<='Suivi absences'!$D$2:$D$10)*('Suivi absences'!$B$2:$B$10="EVF"))+ 7*SUMPRODUCT(($A6='Suivi absences'!$A$2:$A$10)*(Calendrier!C$5>='Suivi absences'!$C$2:$C$10)*(Calendrier!C$5<='Suivi absences'!$D$2:$D$10)*('Suivi absences'!$B$2:$B$10="ABSNR"))+ 8*SUMPRODUCT(($A6='Suivi absences'!$A$2:$A$10)*(Calendrier!C$5>='Suivi absences'!$C$2:$C$10)*(Calendrier!C$5<='Suivi absences'!$D$2:$D$10)*('Suivi absences'!$B$2:$B$10="NJ"))+ 9*SUMPRODUCT(($A6='Suivi absences'!$A$2:$A$10)*(Calendrier!C$5>='Suivi absences'!$C$2:$C$10)*(Calendrier!C$5<='Suivi absences'!$D$2:$D$10)*('Suivi absences'!$B$2:$B$10="FOR")) -> 0 | D6: =SUMPRODUCT(($A6='Suivi absences'!$A$2:$A$10)*(Calendrier!D$5>='Suivi absences'!$C$2:$C$10)*(Calendrier!D$5<='Suivi absences'!$D$2:$D$10)*('Suivi absences'!$B$2:$B$10="CP"))+ 2*SUMPRODUCT(($A6='Suivi absences'!$A$2:$A$10)*(Calendrier!D$5>='Suivi absences'!$C$2:$C$10)*(Calendrier!D$5<='Suivi absences'!$D$2:$D$10)*('Suivi absences'!$B$2:$B$10="MAL"))+ 3*SUMPRODUCT(($A6='Suivi absences'!$A$2:$A$10)*(Calendrier!D$5>='Suivi absences'!$C$2:$C$10)*(Calendrier!D$5<='Suivi absences'!$D$2:$D$10)*('Suivi absences'!$B$2:$B$10="CMAT"))+ 4*SUMPRODUCT(($A6='Suivi absences'!$A$2:$A$10)*(Calendrier!D$5>='Suivi absences'!$C$2:$C$10)*(Calendrier!D$5<='Suivi absences'!$D$2:$D$10)*('Suivi absences'!$B$2:$B$10="CPA"))+ 5*SUMPRODUCT(($A6='Suivi absences'!$A$2:$A$10)*(Calendrier!D$5>='Suivi absences'!$C$2:$C$10)*(Calendrier!D$5<='Suivi absences'!$D$2:$D$10)*('Suivi absences'!$B$2:$B$10="CPAT"))+ 6*SUMPRODUCT(($A6='Suivi absences'!$A$2:$A$10)*(Calendrier!D$5>='Suivi absences'!$C$2:$C$10)*(Calendrier!D$5<='Suivi absences'!$D$2:$D$10)*('Suivi absences'!$B$2:$B$10="EVF"))+ 7*SUMPRODUCT(($A6='Suivi absences'!$A$2:$A$10)*(Calendrier!D$5>='Suivi absences'!$C$2:$C$10)*(Calendrier!D$5<='Suivi absences'!$D$2:$D$10)*('Suivi absences'!$B$2:$B$10="ABSNR"))+ 8*SUMPRODUCT(($A6='Suivi absences'!$A$2:$A$10)*(Calendrier!D$5>='Suivi absences'!$C$2:$C$10)*(Calendrier!D$5<='Suivi absences'!$D$2:$D$10)*('Suivi absences'!$B$2:$B$10="NJ"))+ 9*SUMPRODUCT(($A6='Suivi absences'!$A$2:$A$10)*(Calendrier!D$5>='Suivi absences'!$C$2:$C$10)*(Calendrier!D$5<='Suivi absences'!$D$2:$D$10)*('Suivi absences'!$B$2:$B$10="FOR")) -> 0 | E6: =SUMPRODUCT(($A6='Suivi absences'!$A$2:$A$10)*(Calendrier!E$5>='Suivi absences'!$C$2:$C$10)*(Calendrier!E$5<='Suivi absences'!$D$2:$D$10)*('Suivi absences'!$B$2:$B$10="CP"))+ 2*SUMPRODUCT(($A6='Suivi absences'!$A$2:$A$10)*(Calendrier!E$5>='Suivi absences'!$C$2:$C$10)*(Calendrier!E$5<='Suivi absences'!$D$2:$D$10)*('Suivi absences'!$B$2:$B$10="MAL"))+ 3*SUMPRODUCT(($A6='Suivi absences'!$A$2:$A$10)*(Calendrier!E$5>='Suivi absences'!$C$2:$C$10)*(Calendrier!E$5<='Suivi absences'!$D$2:$D$10)*('Suivi absences'!$B$2:$B$10="CMAT"))+ 4*SUMPRODUCT(($A6='Suivi absences'!$A$2:$A$10)*(Calendrier!E$5>='Suivi absences'!$C$2:$C$10)*(Calendrier!E$5<='Suivi absences'!$D$2:$D$10)*('Suivi absences'!$B$2:$B$10="CPA"))+ 5*SUMPRODUCT(($A6='Suivi absences'!$A$2:$A$10)*(Calendrier!E$5>='Suivi absences'!$C$2:$C$10)*(Calendrier!E$5<='Suivi absences'!$D$2:$D$10)*('Suivi absences'!$B$2:$B$10="CPAT"))+ 6*SUMPRODUCT(($A6='Suivi absences'!$A$2:$A$10)*(Calendrier!E$5>='Suivi absences'!$C$2:$C$10)*(Calendrier!E$5<='Suivi absences'!$D$2:$D$10)*('Suivi absences'!$B$2:$B$10="EVF"))+ 7*SUMPRODUCT(($A6='Suivi absences'!$A$2:$A$10)*(Calendrier!E$5>='Suivi absences'!$C$2:$C$10)*(Calendrier!E$5<='Suivi absences'!$D$2:$D$10)*('Suivi absences'!$B$2:$B$10="ABSNR"))+ 8*SUMPRODUCT(($A6='Suivi absences'!$A$2:$A$10)*(Calendrier!E$5>='Suivi absences'!$C$2:$C$10)*(Calendrier!E$5<='Suivi absences'!$D$2:$D$10)*('Suivi absences'!$B$2:$B$10="NJ"))+ 9*SUMPRODUCT(($A6='Suivi absences'!$A$2:$A$10)*(Calendrier!E$5>='Suivi absences'!$C$2:$C$10)*(Calendrier!E$5<='Suivi absences'!$D$2:$D$10)*('Suivi absences'!$B$2:$B$10="FOR")) -> 0 | F6: =SUMPRODUCT(($A6='Suivi absences'!$A$2:$A$10)*(Calendrier!F$5>='Suivi absences'!$C$2:$C$10)*(Calendrier!F$5<='Suivi absences'!$D$2:$D$10)*('Suivi absences'!$B$2:$B$10="CP"))+ 2*SUMPRODUCT(($A6='Suivi absences'!$A$2:$A$10)*(Calendrier!F$5>='Suivi absences'!$C$2:$C$10)*(Calendrier!F$5<='Suivi absences'!$D$2:$D$10)*('Suivi absences'!$B$2:$B$10="MAL"))+ 3*SUMPRODUCT(($A6='Suivi absences'!$A$2:$A$10)*(Calendrier!F$5>='Suivi absences'!$C$2:$C$10)*(Calendrier!F$5<='Suivi absences'!$D$2:$D$10)*('Suivi absences'!$B$2:$B$10="CMAT"))+ 4*SUMPRODUCT(($A6='Suivi absences'!$A$2:$A$10)*(Calendrier!F$5>='Suivi absences'!$C$2:$C$10)*(Calendrier!F$5<='Suivi absences'!$D$2:$D$10)*('Suivi absences'!$B$2:$B$10="CPA"))+ 5*SUMPRODUCT(($A6='Suivi absences'!$A$2:$A$10)*(Calendrier!F$5>='Suivi absences'!$C$2:$C$10)*(Calendrier!F$5<='Suivi absences'!$D$2:$D$10)*('Suivi absences'!$B$2:$B$10="CPAT"))+ 6*SUMPRODUCT(($A6='Suivi absences'!$A$2:$A$10)*(Calendrier!F$5>='Suivi absences'!$C$2:$C$10)*(Calendrier!F$5<='Suivi absences'!$D$2:$D$10)*('Suivi absences'!$B$2:$B$10="EVF"))+ 7*SUMPRODUCT(($A6='Suivi absences'!$A$2:$A$10)*(Calendrier!F$5>='Suivi absences'!$C$2:$C$10)*(Calendrier!F$5<='Suivi absences'!$D$2:$D$10)*('Suivi absences'!$B$2:$B$10="ABSNR"))+ 8*SUMPRODUCT(($A6='Suivi absences'!$A$2:$A$10)*(Calendrier!F$5>='Suivi absences'!$C$2:$C$10)*(Calendrier!F$5<='Suivi absences'!$D$2:$D$10)*('Suivi absences'!$B$2:$B$10="NJ"))+ 9*SUMPRODUCT(($A6='Suivi absences'!$A$2:$A$10)*(Calendrier!F$5>='Suivi absences'!$C$2:$C$10)*(Calendrier!F$5<='Suivi absences'!$D$2:$D$10)*('Suivi absences'!$B$2:$B$10="FOR")) -> 0 | G6: =SUMPRODUCT(($A6='Suivi absences'!$A$2:$A$10)*(Calendrier!G$5>='Suivi absences'!$C$2:$C$10)*(Calendrier!G$5<='Suivi absences'!$D$2:$D$10)*('Suivi absences'!$B$2:$B$10="CP"))+ 2*SUMPRODUCT(($A6='Suivi absences'!$A$2:$A$10)*(Calendrier!G$5>='Suivi absences'!$C$2:$C$10)*(Calendrier!G$5<='Suivi absences'!$D$2:$D$10)*('Suivi absences'!$B$2:$B$10="MAL"))+ 3*SUMPRODUCT(($A6='Suivi absences'!$A$2:$A$10)*(Calendrier!G$5>='Suivi absences'!$C$2:$C$10)*(Calendrier!G$5<='Suivi absences'!$D$2:$D$10)*('Suivi absences'!$B$2:$B$10="CMAT"))+ 4*SUMPRODUCT(($A6='Suivi absences'!$A$2:$A$10)*(Calendrier!G$5>='Suivi absences'!$C$2:$C$10)*(Calendrier!G$5<='Suivi absences'!$D$2:$D$10)*('Suivi absences'!$B$2:$B$10="CPA"))+ 5*SUMPRODUCT(($A6='Suivi absences'!$A$2:$A$10)*(Calendrier!G$5>='Suivi absences'!$C$2:$C$10)*(Calendrier!G$5<='Suivi absences'!$D$2:$D$10)*('Suivi absences'!$B$2:$B$10="CPAT"))+ 6*SUMPRODUCT(($A6='Suivi absences'!$A$2:$A$10)*(Calendrier!G$5>='Suivi absences'!$C$2:$C$10)*(Calendrier!G$5<='Suivi absences'!$D$2:$D$10)*('Suivi absences'!$B$2:$B$10="EVF"))+ 7*SUMPRODUCT(($A6='Suivi absences'!$A$2:$A$10)*(Calendrier!G$5>='Suivi absences'!$C$2:$C$10)*(Calendrier!G$5<='Suivi absences'!$D$2:$D$10)*('Suivi absences'!$B$2:$B$10="ABSNR"))+ 8*SUMPRODUCT(($A6='Suivi absences'!$A$2:$A$10)*(Calendrier!G$5>='Suivi absences'!$C$2:$C$10)*(Calendrier!G$5<='Suivi absences'!$D$2:$D$10)*('Suivi absences'!$B$2:$B$10="NJ"))+ 9*SUMPRODUCT(($A6='Suivi absences'!$A$2:$A$10)*(Calendrier!G$5>='Suivi absences'!$C$2:$C$10)*(Calendrier!G$5<='Suivi absences'!$D$2:$D$10)*('Suivi absences'!$B$2:$B$10="FOR")) -> 0 | H6: =SUMPRODUCT(($A6='Suivi absences'!$A$2:$A$10)*(Calendrier!H$5>='Suivi absences'!$C$2:$C$10)*(Calendrier!H$5<='Suivi absences'!$D$2:$D$10)*('Suivi absences'!$B$2:$B$10="CP"))+ 2*SUMPRODUCT(($A6='Suivi absences'!$A$2:$A$10)*(Calendrier!H$5>='Suivi absences'!$C$2:$C$10)*(Calendrier!H$5<='Suivi absences'!$D$2:$D$10)*('Suivi absences'!$B$2:$B$10="MAL"))+ 3*SUMPRODUCT(($A6='Suivi absences'!$A$2:$A$10)*(Calendrier!H$5>='Suivi absences'!$C$2:$C$10)*(Calendrier!H$5<='Suivi absences'!$D$2:$D$10)*('Suivi absences'!$B$2:$B$10="CMAT"))+ 4*SUMPRODUCT(($A6='Suivi absences'!$A$2:$A$10)*(Calendrier!H$5>='Suivi absences'!$C$2:$C$10)*(Calendrier!H$5<='Suivi absences'!$D$2:$D$10)*('Suivi absences'!$B$2:$B$10="CPA"))+ 5*SUMPRODUCT(($A6='Suivi absences'!$A$2:$A$10)*(Calendrier!H$5>='Suivi absences'!$C$2:$C$10)*(Calendrier!H$5<='Suivi absences'!$D$2:$D$10)*('Suivi absences'!$B$2:$B$10="CPAT"))+ 6*SUMPRODUCT(($A6='Suivi absences'!$A$2:$A$10)*(Calendrier!H$5>='Suivi absences'!$C$2:$C$10)*(Calendrier!H$5<='Suivi absences'!$D$2:$D$10)*('Suivi absences'!$B$2:$B$10="EVF"))+ 7*SUMPRODUCT(($A6='Suivi absences'!$A$2:$A$10)*(Calendrier!H$5>='Suivi absences'!$C$2:$C$10)*(Calendrier!H$5<='Suivi absences'!$D$2:$D$10)*('Suivi absences'!$B$2:$B$10="ABSNR"))+ 8*SUMPRODUCT(($A6='Suivi absences'!$A$2:$A$10)*(Calendrier!H$5>='Suivi absences'!$C$2:$C$10)*(Calendrier!H$5<='Suivi absences'!$D$2:$D$10)*('Suivi absences'!$B$2:$B$10="NJ"))+ 9*SUMPRODUCT(($A6='Suivi absences'!$A$2:$A$10)*(Calendrier!H$5>='Suivi absences'!$C$2:$C$10)*(Calendrier!H$5<='Suivi absences'!$D$2:$D$10)*('Suivi absences'!$B$2:$B$10="FOR")) -> 0 | I6: =SUMPRODUCT(($A6='Suivi absences'!$A$2:$A$10)*(Calendrier!I$5>='Suivi absences'!$C$2:$C$10)*(Calendrier!I$5<='Suivi absences'!$D$2:$D$10)*('Suivi absences'!$B$2:$B$10="CP"))+ 2*SUMPRODUCT(($A6='Suivi absences'!$A$2:$A$10)*(Calendrier!I$5>='Suivi absences'!$C$2:$C$10)*(Calendrier!I$5<='Suivi absences'!$D$2:$D$10)*('Suivi absences'!$B$2:$B$10="MAL"))+ 3*SUMPRODUCT(($A6='Suivi absences'!$A$2:$A$10)*(Calendrier!I$5>='Suivi absences'!$C$2:$C$10)*(Calendrier!I$5<='Suivi absences'!$D$2:$D$10)*('Suivi absences'!$B$2:$B$10="CMAT"))+ 4*SUMPRODUCT(($A6='Suivi absences'!$A$2:$A$10)*(Calendrier!I$5>='Suivi absences'!$C$2:$C$10)*(Calendrier!I$5<='Suivi absences'!$D$2:$D$10)*('Suivi absences'!$B$2:$B$10="CPA"))+ 5*SUMPRODUCT(($A6='Suivi absences'!$A$2:$A$10)*(Calendrier!I$5>='Suivi absences'!$C$2:$C$10)*(Calendrier!I$5<='Suivi absences'!$D$2:$D$10)*('Suivi absences'!$B$2:$B$10="CPAT"))+ 6*SUMPRODUCT(($A6='Suivi absences'!$A$2:$A$10)*(Calendrier!I$5>='Suivi absences'!$C$2:$C$10)*(Calendrier!I$5<='Suivi absences'!$D$2:$D$10)*('Suivi absences'!$B$2:$B$10="EVF"))+ 7*SUMPRODUCT(($A6='Suivi absences'!$A$2:$A$10)*(Calendrier!I$5>='Suivi absences'!$C$2:$C$10)*(Calendrier!I$5<='Suivi absences'!$D$2:$D$10)*('Suivi absences'!$B$2:$B$10="ABSNR"))+ 8*SUMPRODUCT(($A6='Suivi absences'!$A$2:$A$10)*(Calendrier!I$5>='Suivi absences'!$C$2:$C$10)*(Calendrier!I$5<='Suivi absences'!$D$2:$D$10)*('Suivi absences'!$B$2:$B$10="NJ"))+ 9*SUMPRODUCT(($A6='Suivi absences'!$A$2:$A$10)*(Calendrier!I$5>='Suivi absences'!$C$2:$C$10)*(Calendrier!I$5<='Suivi absences'!$D$2:$D$10)*('Suivi absences'!$B$2:$B$10="FOR")) -> 0 | ... AF6: =SUMPRODUCT(($A6='Suivi absences'!$A$2:$A$10)*(Calendrier!AF$5>='Suivi absences'!$C$2:$C$10)*(Calendrier!AF$5<='Suivi absences'!$D$2:$D$10)*('Suivi absences'!$B$2:$B$10="CP"))+ 2*SUMPRODUCT(($A6='Suivi absences'!$A$2:$A$10)*(Calendrier!AF$5>='Suivi absences'!$C$2:$C$10)*(Calendrier!AF$5<='Suivi absences'!$D$2:$D$10)*('Suivi absences'!$B$2:$B$10="MAL"))+ 3*SUMPRODUCT(($A6='Suivi absences'!$A$2:$A$10)*(Calendrier!AF$5>='Suivi absences'!$C$2:$C$10)*(Calendrier!AF$5<='Suivi absences'!$D$2:$D$10)*('Suivi absences'!$B$2:$B$10="CMAT"))+ 4*SUMPRODUCT(($A6='Suivi absences'!$A$2:$A$10)*(Calendrier!AF$5>='Suivi absences'!$C$2:$C$10)*(Calendrier!AF$5<='Suivi absences'!$D$2:$D$10)*('Suivi absences'!$B$2:$B$10="CPA"))+ 5*SUMPRODUCT(($A6='Suivi absences'!$A$2:$A$10)*(Calendrier!AF$5>='Suivi absences'!$C$2:$C$10)*(Calendrier!AF$5<='Suivi absences'!$D$2:$D$10)*('Suivi absences'!$B$2:$B$10="CPAT"))+ 6*SUMPRODUCT(($A6='Suivi absences'!$A$2:$A$10)*(Calendrier!AF$5>='Suivi absences'!$C$2:$C$10)*(Calendrier!AF$5<='Suivi absences'!$D$2:$D$10)*('Suivi absences'!$B$2:$B$10="EVF"))+ 7*SUMPRODUCT(($A6='Suivi absences'!$A$2:$A$10)*(Calendrier!AF$5>='Suivi absences'!$C$2:$C$10)*(Calendrier!AF$5<='Suivi absences'!$D$2:$D$10)*('Suivi absences'!$B$2:$B$10="ABSNR"))+ 8*SUMPRODUCT(($A6='Suivi absences'!$A$2:$A$10)*(Calendrier!AF$5>='Suivi absences'!$C$2:$C$10)*(Calendrier!AF$5<='Suivi absences'!$D$2:$D$10)*('Suivi absences'!$B$2:$B$10="NJ"))+ 9*SUMPRODUCT(($A6='Suivi absences'!$A$2:$A$10)*(Calendrier!AF$5>='Suivi absences'!$C$2:$C$10)*(Calendrier!AF$5<='Suivi absences'!$D$2:$D$10)*('Suivi absences'!$B$2:$B$10="FOR")) -> 0
A7: Calix | B7: =SUMPRODUCT(($A7='Suivi absences'!$A$2:$A$10)*(Calendrier!B$5>='Suivi absences'!$C$2:$C$10)*(Calendrier!B$5<='Suivi absences'!$D$2:$D$10)*('Suivi absences'!$B$2:$B$10="CP"))+ 2*SUMPRODUCT(($A7='Suivi absences'!$A$2:$A$10)*(Calendrier!B$5>='Suivi absences'!$C$2:$C$10)*(Calendrier!B$5<='Suivi absences'!$D$2:$D$10)*('Suivi absences'!$B$2:$B$10="MAL"))+ 3*SUMPRODUCT(($A7='Suivi absences'!$A$2:$A$10)*(Calendrier!B$5>='Suivi absences'!$C$2:$C$10)*(Calendrier!B$5<='Suivi absences'!$D$2:$D$10)*('Suivi absences'!$B$2:$B$10="CMAT"))+ 4*SUMPRODUCT(($A7='Suivi absences'!$A$2:$A$10)*(Calendrier!B$5>='Suivi absences'!$C$2:$C$10)*(Calendrier!B$5<='Suivi absences'!$D$2:$D$10)*('Suivi absences'!$B$2:$B$10="CPA"))+ 5*SUMPRODUCT(($A7='Suivi absences'!$A$2:$A$10)*(Calendrier!B$5>='Suivi absences'!$C$2:$C$10)*(Calendrier!B$5<='Suivi absences'!$D$2:$D$10)*('Suivi absences'!$B$2:$B$10="CPAT"))+ 6*SUMPRODUCT(($A7='Suivi absences'!$A$2:$A$10)*(Calendrier!B$5>='Suivi absences'!$C$2:$C$10)*(Calendrier!B$5<='Suivi absences'!$D$2:$D$10)*('Suivi absences'!$B$2:$B$10="EVF"))+ 7*SUMPRODUCT(($A7='Suivi absences'!$A$2:$A$10)*(Calendrier!B$5>='Suivi absences'!$C$2:$C$10)*(Calendrier!B$5<='Suivi absences'!$D$2:$D$10)*('Suivi absences'!$B$2:$B$10="ABSNR"))+ 8*SUMPRODUCT(($A7='Suivi absences'!$A$2:$A$10)*(Calendrier!B$5>='Suivi absences'!$C$2:$C$10)*(Calendrier!B$5<='Suivi absences'!$D$2:$D$10)*('Suivi absences'!$B$2:$B$10="NJ"))+ 9*SUMPRODUCT(($A7='Suivi absences'!$A$2:$A$10)*(Calendrier!B$5>='Suivi absences'!$C$2:$C$10)*(Calendrier!B$5<='Suivi absences'!$D$2:$D$10)*('Suivi absences'!$B$2:$B$10="FOR")) -> 0 | C7: =SUMPRODUCT(($A7='Suivi absences'!$A$2:$A$10)*(Calendrier!C$5>='Suivi absences'!$C$2:$C$10)*(Calendrier!C$5<='Suivi absences'!$D$2:$D$10)*('Suivi absences'!$B$2:$B$10="CP"))+ 2*SUMPRODUCT(($A7='Suivi absences'!$A$2:$A$10)*(Calendrier!C$5>='Suivi absences'!$C$2:$C$10)*(Calendrier!C$5<='Suivi absences'!$D$2:$D$10)*('Suivi absences'!$B$2:$B$10="MAL"))+ 3*SUMPRODUCT(($A7='Suivi absences'!$A$2:$A$10)*(Calendrier!C$5>='Suivi absences'!$C$2:$C$10)*(Calendrier!C$5<='Suivi absences'!$D$2:$D$10)*('Suivi absences'!$B$2:$B$10="CMAT"))+ 4*SUMPRODUCT(($A7='Suivi absences'!$A$2:$A$10)*(Calendrier!C$5>='Suivi absences'!$C$2:$C$10)*(Calendrier!C$5<='Suivi absences'!$D$2:$D$10)*('Suivi absences'!$B$2:$B$10="CPA"))+ 5*SUMPRODUCT(($A7='Suivi absences'!$A$2:$A$10)*(Calendrier!C$5>='Suivi absences'!$C$2:$C$10)*(Calendrier!C$5<='Suivi absences'!$D$2:$D$10)*('Suivi absences'!$B$2:$B$10="CPAT"))+ 6*SUMPRODUCT(($A7='Suivi absences'!$A$2:$A$10)*(Calendrier!C$5>='Suivi absences'!$C$2:$C$10)*(Calendrier!C$5<='Suivi absences'!$D$2:$D$10)*('Suivi absences'!$B$2:$B$10="EVF"))+ 7*SUMPRODUCT(($A7='Suivi absences'!$A$2:$A$10)*(Calendrier!C$5>='Suivi absences'!$C$2:$C$10)*(Calendrier!C$5<='Suivi absences'!$D$2:$D$10)*('Suivi absences'!$B$2:$B$10="ABSNR"))+ 8*SUMPRODUCT(($A7='Suivi absences'!$A$2:$A$10)*(Calendrier!C$5>='Suivi absences'!$C$2:$C$10)*(Calendrier!C$5<='Suivi absences'!$D$2:$D$10)*('Suivi absences'!$B$2:$B$10="NJ"))+ 9*SUMPRODUCT(($A7='Suivi absences'!$A$2:$A$10)*(Calendrier!C$5>='Suivi absences'!$C$2:$C$10)*(Calendrier!C$5<='Suivi absences'!$D$2:$D$10)*('Suivi absences'!$B$2:$B$10="FOR")) -> 0 | D7: =SUMPRODUCT(($A7='Suivi absences'!$A$2:$A$10)*(Calendrier!D$5>='Suivi absences'!$C$2:$C$10)*(Calendrier!D$5<='Suivi absences'!$D$2:$D$10)*('Suivi absences'!$B$2:$B$10="CP"))+ 2*SUMPRODUCT(($A7='Suivi absences'!$A$2:$A$10)*(Calendrier!D$5>='Suivi absences'!$C$2:$C$10)*(Calendrier!D$5<='Suivi absences'!$D$2:$D$10)*('Suivi absences'!$B$2:$B$10="MAL"))+ 3*SUMPRODUCT(($A7='Suivi absences'!$A$2:$A$10)*(Calendrier!D$5>='Suivi absences'!$C$2:$C$10)*(Calendrier!D$5<='Suivi absences'!$D$2:$D$10)*('Suivi absences'!$B$2:$B$10="CMAT"))+ 4*SUMPRODUCT(($A7='Suivi absences'!$A$2:$A$10)*(Calendrier!D$5>='Suivi absences'!$C$2:$C$10)*(Calendrier!D$5<='Suivi absences'!$D$2:$D$10)*('Suivi absences'!$B$2:$B$10="CPA"))+ 5*SUMPRODUCT(($A7='Suivi absences'!$A$2:$A$10)*(Calendrier!D$5>='Suivi absences'!$C$2:$C$10)*(Calendrier!D$5<='Suivi absences'!$D$2:$D$10)*('Suivi absences'!$B$2:$B$10="CPAT"))+ 6*SUMPRODUCT(($A7='Suivi absences'!$A$2:$A$10)*(Calendrier!D$5>='Suivi absences'!$C$2:$C$10)*(Calendrier!D$5<='Suivi absences'!$D$2:$D$10)*('Suivi absences'!$B$2:$B$10="EVF"))+ 7*SUMPRODUCT(($A7='Suivi absences'!$A$2:$A$10)*(Calendrier!D$5>='Suivi absences'!$C$2:$C$10)*(Calendrier!D$5<='Suivi absences'!$D$2:$D$10)*('Suivi absences'!$B$2:$B$10="ABSNR"))+ 8*SUMPRODUCT(($A7='Suivi absences'!$A$2:$A$10)*(Calendrier!D$5>='Suivi absences'!$C$2:$C$10)*(Calendrier!D$5<='Suivi absences'!$D$2:$D$10)*('Suivi absences'!$B$2:$B$10="NJ"))+ 9*SUMPRODUCT(($A7='Suivi absences'!$A$2:$A$10)*(Calendrier!D$5>='Suivi absences'!$C$2:$C$10)*(Calendrier!D$5<='Suivi absences'!$D$2:$D$10)*('Suivi absences'!$B$2:$B$10="FOR")) -> 0 | E7: =SUMPRODUCT(($A7='Suivi absences'!$A$2:$A$10)*(Calendrier!E$5>='Suivi absences'!$C$2:$C$10)*(Calendrier!E$5<='Suivi absences'!$D$2:$D$10)*('Suivi absences'!$B$2:$B$10="CP"))+ 2*SUMPRODUCT(($A7='Suivi absences'!$A$2:$A$10)*(Calendrier!E$5>='Suivi absences'!$C$2:$C$10)*(Calendrier!E$5<='Suivi absences'!$D$2:$D$10)*('Suivi absences'!$B$2:$B$10="MAL"))+ 3*SUMPRODUCT(($A7='Suivi absences'!$A$2:$A$10)*(Calendrier!E$5>='Suivi absences'!$C$2:$C$10)*(Calendrier!E$5<='Suivi absences'!$D$2:$D$10)*('Suivi absences'!$B$2:$B$10="CMAT"))+ 4*SUMPRODUCT(($A7='Suivi absences'!$A$2:$A$10)*(Calendrier!E$5>='Suivi absences'!$C$2:$C$10)*(Calendrier!E$5<='Suivi absences'!$D$2:$D$10)*('Suivi absences'!$B$2:$B$10="CPA"))+ 5*SUMPRODUCT(($A7='Suivi absences'!$A$2:$A$10)*(Calendrier!E$5>='Suivi absences'!$C$2:$C$10)*(Calendrier!E$5<='Suivi absences'!$D$2:$D$10)*('Suivi absences'!$B$2:$B$10="CPAT"))+ 6*SUMPRODUCT(($A7='Suivi absences'!$A$2:$A$10)*(Calendrier!E$5>='Suivi absences'!$C$2:$C$10)*(Calendrier!E$5<='Suivi absences'!$D$2:$D$10)*('Suivi absences'!$B$2:$B$10="EVF"))+ 7*SUMPRODUCT(($A7='Suivi absences'!$A$2:$A$10)*(Calendrier!E$5>='Suivi absences'!$C$2:$C$10)*(Calendrier!E$5<='Suivi absences'!$D$2:$D$10)*('Suivi absences'!$B$2:$B$10="ABSNR"))+ 8*SUMPRODUCT(($A7='Suivi absences'!$A$2:$A$10)*(Calendrier!E$5>='Suivi absences'!$C$2:$C$10)*(Calendrier!E$5<='Suivi absences'!$D$2:$D$10)*('Suivi absences'!$B$2:$B$10="NJ"))+ 9*SUMPRODUCT(($A7='Suivi absences'!$A$2:$A$10)*(Calendrier!E$5>='Suivi absences'!$C$2:$C$10)*(Calendrier!E$5<='Suivi absences'!$D$2:$D$10)*('Suivi absences'!$B$2:$B$10="FOR")) -> 0 | F7: =SUMPRODUCT(($A7='Suivi absences'!$A$2:$A$10)*(Calendrier!F$5>='Suivi absences'!$C$2:$C$10)*(Calendrier!F$5<='Suivi absences'!$D$2:$D$10)*('Suivi absences'!$B$2:$B$10="CP"))+ 2*SUMPRODUCT(($A7='Suivi absences'!$A$2:$A$10)*(Calendrier!F$5>='Suivi absences'!$C$2:$C$10)*(Calendrier!F$5<='Suivi absences'!$D$2:$D$10)*('Suivi absences'!$B$2:$B$10="MAL"))+ 3*SUMPRODUCT(($A7='Suivi absences'!$A$2:$A$10)*(Calendrier!F$5>='Suivi absences'!$C$2:$C$10)*(Calendrier!F$5<='Suivi absences'!$D$2:$D$10)*('Suivi absences'!$B$2:$B$10="CMAT"))+ 4*SUMPRODUCT(($A7='Suivi absences'!$A$2:$A$10)*(Calendrier!F$5>='Suivi absences'!$C$2:$C$10)*(Calendrier!F$5<='Suivi absences'!$D$2:$D$10)*('Suivi absences'!$B$2:$B$10="CPA"))+ 5*SUMPRODUCT(($A7='Suivi absences'!$A$2:$A$10)*(Calendrier!F$5>='Suivi absences'!$C$2:$C$10)*(Calendrier!F$5<='Suivi absences'!$D$2:$D$10)*('Suivi absences'!$B$2:$B$10="CPAT"))+ 6*SUMPRODUCT(($A7='Suivi absences'!$A$2:$A$10)*(Calendrier!F$5>='Suivi absences'!$C$2:$C$10)*(Calendrier!F$5<='Suivi absences'!$D$2:$D$10)*('Suivi absences'!$B$2:$B$10="EVF"))+ 7*SUMPRODUCT(($A7='Suivi absences'!$A$2:$A$10)*(Calendrier!F$5>='Suivi absences'!$C$2:$C$10)*(Calendrier!F$5<='Suivi absences'!$D$2:$D$10)*('Suivi absences'!$B$2:$B$10="ABSNR"))+ 8*SUMPRODUCT(($A7='Suivi absences'!$A$2:$A$10)*(Calendrier!F$5>='Suivi absences'!$C$2:$C$10)*(Calendrier!F$5<='Suivi absences'!$D$2:$D$10)*('Suivi absences'!$B$2:$B$10="NJ"))+ 9*SUMPRODUCT(($A7='Suivi absences'!$A$2:$A$10)*(Calendrier!F$5>='Suivi absences'!$C$2:$C$10)*(Calendrier!F$5<='Suivi absences'!$D$2:$D$10)*('Suivi absences'!$B$2:$B$10="FOR")) -> 0 | G7: =SUMPRODUCT(($A7='Suivi absences'!$A$2:$A$10)*(Calendrier!G$5>='Suivi absences'!$C$2:$C$10)*(Calendrier!G$5<='Suivi absences'!$D$2:$D$10)*('Suivi absences'!$B$2:$B$10="CP"))+ 2*SUMPRODUCT(($A7='Suivi absences'!$A$2:$A$10)*(Calendrier!G$5>='Suivi absences'!$C$2:$C$10)*(Calendrier!G$5<='Suivi absences'!$D$2:$D$10)*('Suivi absences'!$B$2:$B$10="MAL"))+ 3*SUMPRODUCT(($A7='Suivi absences'!$A$2:$A$10)*(Calendrier!G$5>='Suivi absences'!$C$2:$C$10)*(Calendrier!G$5<='Suivi absences'!$D$2:$D$10)*('Suivi absences'!$B$2:$B$10="CMAT"))+ 4*SUMPRODUCT(($A7='Suivi absences'!$A$2:$A$10)*(Calendrier!G$5>='Suivi absences'!$C$2:$C$10)*(Calendrier!G$5<='Suivi absences'!$D$2:$D$10)*('Suivi absences'!$B$2:$B$10="CPA"))+ 5*SUMPRODUCT(($A7='Suivi absences'!$A$2:$A$10)*(Calendrier!G$5>='Suivi absences'!$C$2:$C$10)*(Calendrier!G$5<='Suivi absences'!$D$2:$D$10)*('Suivi absences'!$B$2:$B$10="CPAT"))+ 6*SUMPRODUCT(($A7='Suivi absences'!$A$2:$A$10)*(Calendrier!G$5>='Suivi absences'!$C$2:$C$10)*(Calendrier!G$5<='Suivi absences'!$D$2:$D$10)*('Suivi absences'!$B$2:$B$10="EVF"))+ 7*SUMPRODUCT(($A7='Suivi absences'!$A$2:$A$10)*(Calendrier!G$5>='Suivi absences'!$C$2:$C$10)*(Calendrier!G$5<='Suivi absences'!$D$2:$D$10)*('Suivi absences'!$B$2:$B$10="ABSNR"))+ 8*SUMPRODUCT(($A7='Suivi absences'!$A$2:$A$10)*(Calendrier!G$5>='Suivi absences'!$C$2:$C$10)*(Calendrier!G$5<='Suivi absences'!$D$2:$D$10)*('Suivi absences'!$B$2:$B$10="NJ"))+ 9*SUMPRODUCT(($A7='Suivi absences'!$A$2:$A$10)*(Calendrier!G$5>='Suivi absences'!$C$2:$C$10)*(Calendrier!G$5<='Suivi absences'!$D$2:$D$10)*('Suivi absences'!$B$2:$B$10="FOR")) -> 1 | H7: =SUMPRODUCT(($A7='Suivi absences'!$A$2:$A$10)*(Calendrier!H$5>='Suivi absences'!$C$2:$C$10)*(Calendrier!H$5<='Suivi absences'!$D$2:$D$10)*('Suivi absences'!$B$2:$B$10="CP"))+ 2*SUMPRODUCT(($A7='Suivi absences'!$A$2:$A$10)*(Calendrier!H$5>='Suivi absences'!$C$2:$C$10)*(Calendrier!H$5<='Suivi absences'!$D$2:$D$10)*('Suivi absences'!$B$2:$B$10="MAL"))+ 3*SUMPRODUCT(($A7='Suivi absences'!$A$2:$A$10)*(Calendrier!H$5>='Suivi absences'!$C$2:$C$10)*(Calendrier!H$5<='Suivi absences'!$D$2:$D$10)*('Suivi absences'!$B$2:$B$10="CMAT"))+ 4*SUMPRODUCT(($A7='Suivi absences'!$A$2:$A$10)*(Calendrier!H$5>='Suivi absences'!$C$2:$C$10)*(Calendrier!H$5<='Suivi absences'!$D$2:$D$10)*('Suivi absences'!$B$2:$B$10="CPA"))+ 5*SUMPRODUCT(($A7='Suivi absences'!$A$2:$A$10)*(Calendrier!H$5>='Suivi absences'!$C$2:$C$10)*(Calendrier!H$5<='Suivi absences'!$D$2:$D$10)*('Suivi absences'!$B$2:$B$10="CPAT"))+ 6*SUMPRODUCT(($A7='Suivi absences'!$A$2:$A$10)*(Calendrier!H$5>='Suivi absences'!$C$2:$C$10)*(Calendrier!H$5<='Suivi absences'!$D$2:$D$10)*('Suivi absences'!$B$2:$B$10="EVF"))+ 7*SUMPRODUCT(($A7='Suivi absences'!$A$2:$A$10)*(Calendrier!H$5>='Suivi absences'!$C$2:$C$10)*(Calendrier!H$5<='Suivi absences'!$D$2:$D$10)*('Suivi absences'!$B$2:$B$10="ABSNR"))+ 8*SUMPRODUCT(($A7='Suivi absences'!$A$2:$A$10)*(Calendrier!H$5>='Suivi absences'!$C$2:$C$10)*(Calendrier!H$5<='Suivi absences'!$D$2:$D$10)*('Suivi absences'!$B$2:$B$10="NJ"))+ 9*SUMPRODUCT(($A7='Suivi absences'!$A$2:$A$10)*(Calendrier!H$5>='Suivi absences'!$C$2:$C$10)*(Calendrier!H$5<='Suivi absences'!$D$2:$D$10)*('Suivi absences'!$B$2:$B$10="FOR")) -> 1 | I7: =SUMPRODUCT(($A7='Suivi absences'!$A$2:$A$10)*(Calendrier!I$5>='Suivi absences'!$C$2:$C$10)*(Calendrier!I$5<='Suivi absences'!$D$2:$D$10)*('Suivi absences'!$B$2:$B$10="CP"))+ 2*SUMPRODUCT(($A7='Suivi absences'!$A$2:$A$10)*(Calendrier!I$5>='Suivi absences'!$C$2:$C$10)*(Calendrier!I$5<='Suivi absences'!$D$2:$D$10)*('Suivi absences'!$B$2:$B$10="MAL"))+ 3*SUMPRODUCT(($A7='Suivi absences'!$A$2:$A$10)*(Calendrier!I$5>='Suivi absences'!$C$2:$C$10)*(Calendrier!I$5<='Suivi absences'!$D$2:$D$10)*('Suivi absences'!$B$2:$B$10="CMAT"))+ 4*SUMPRODUCT(($A7='Suivi absences'!$A$2:$A$10)*(Calendrier!I$5>='Suivi absences'!$C$2:$C$10)*(Calendrier!I$5<='Suivi absences'!$D$2:$D$10)*('Suivi absences'!$B$2:$B$10="CPA"))+ 5*SUMPRODUCT(($A7='Suivi absences'!$A$2:$A$10)*(Calendrier!I$5>='Suivi absences'!$C$2:$C$10)*(Calendrier!I$5<='Suivi absences'!$D$2:$D$10)*('Suivi absences'!$B$2:$B$10="CPAT"))+ 6*SUMPRODUCT(($A7='Suivi absences'!$A$2:$A$10)*(Calendrier!I$5>='Suivi absences'!$C$2:$C$10)*(Calendrier!I$5<='Suivi absences'!$D$2:$D$10)*('Suivi absences'!$B$2:$B$10="EVF"))+ 7*SUMPRODUCT(($A7='Suivi absences'!$A$2:$A$10)*(Calendrier!I$5>='Suivi absences'!$C$2:$C$10)*(Calendrier!I$5<='Suivi absences'!$D$2:$D$10)*('Suivi absences'!$B$2:$B$10="ABSNR"))+ 8*SUMPRODUCT(($A7='Suivi absences'!$A$2:$A$10)*(Calendrier!I$5>='Suivi absences'!$C$2:$C$10)*(Calendrier!I$5<='Suivi absences'!$D$2:$D$10)*('Suivi absences'!$B$2:$B$10="NJ"))+ 9*SUMPRODUCT(($A7='Suivi absences'!$A$2:$A$10)*(Calendrier!I$5>='Suivi absences'!$C$2:$C$10)*(Calendrier!I$5<='Suivi absences'!$D$2:$D$10)*('Suivi absences'!$B$2:$B$10="FOR")) -> 1 | ... AF7: =SUMPRODUCT(($A7='Suivi absences'!$A$2:$A$10)*(Calendrier!AF$5>='Suivi absences'!$C$2:$C$10)*(Calendrier!AF$5<='Suivi absences'!$D$2:$D$10)*('Suivi absences'!$B$2:$B$10="CP"))+ 2*SUMPRODUCT(($A7='Suivi absences'!$A$2:$A$10)*(Calendrier!AF$5>='Suivi absences'!$C$2:$C$10)*(Calendrier!AF$5<='Suivi absences'!$D$2:$D$10)*('Suivi absences'!$B$2:$B$10="MAL"))+ 3*SUMPRODUCT(($A7='Suivi absences'!$A$2:$A$10)*(Calendrier!AF$5>='Suivi absences'!$C$2:$C$10)*(Calendrier!AF$5<='Suivi absences'!$D$2:$D$10)*('Suivi absences'!$B$2:$B$10="CMAT"))+ 4*SUMPRODUCT(($A7='Suivi absences'!$A$2:$A$10)*(Calendrier!AF$5>='Suivi absences'!$C$2:$C$10)*(Calendrier!AF$5<='Suivi absences'!$D$2:$D$10)*('Suivi absences'!$B$2:$B$10="CPA"))+ 5*SUMPRODUCT(($A7='Suivi absences'!$A$2:$A$10)*(Calendrier!AF$5>='Suivi absences'!$C$2:$C$10)*(Calendrier!AF$5<='Suivi absences'!$D$2:$D$10)*('Suivi absences'!$B$2:$B$10="CPAT"))+ 6*SUMPRODUCT(($A7='Suivi absences'!$A$2:$A$10)*(Calendrier!AF$5>='Suivi absences'!$C$2:$C$10)*(Calendrier!AF$5<='Suivi absences'!$D$2:$D$10)*('Suivi absences'!$B$2:$B$10="EVF"))+ 7*SUMPRODUCT(($A7='Suivi absences'!$A$2:$A$10)*(Calendrier!AF$5>='Suivi absences'!$C$2:$C$10)*(Calendrier!AF$5<='Suivi absences'!$D$2:$D$10)*('Suivi absences'!$B$2:$B$10="ABSNR"))+ 8*SUMPRODUCT(($A7='Suivi absences'!$A$2:$A$10)*(Calendrier!AF$5>='Suivi absences'!$C$2:$C$10)*(Calendrier!AF$5<='Suivi absences'!$D$2:$D$10)*('Suivi absences'!$B$2:$B$10="NJ"))+ 9*SUMPRODUCT(($A7='Suivi absences'!$A$2:$A$10)*(Calendrier!AF$5>='Suivi absences'!$C$2:$C$10)*(Calendrier!AF$5<='Suivi absences'!$D$2:$D$10)*('Suivi absences'!$B$2:$B$10="FOR")) -> 0
A8: Johan | B8: =SUMPRODUCT(($A8='Suivi absences'!$A$2:$A$10)*(Calendrier!B$5>='Suivi absences'!$C$2:$C$10)*(Calendrier!B$5<='Suivi absences'!$D$2:$D$10)*('Suivi absences'!$B$2:$B$10="CP"))+ 2*SUMPRODUCT(($A8='Suivi absences'!$A$2:$A$10)*(Calendrier!B$5>='Suivi absences'!$C$2:$C$10)*(Calendrier!B$5<='Suivi absences'!$D$2:$D$10)*('Suivi absences'!$B$2:$B$10="MAL"))+ 3*SUMPRODUCT(($A8='Suivi absences'!$A$2:$A$10)*(Calendrier!B$5>='Suivi absences'!$C$2:$C$10)*(Calendrier!B$5<='Suivi absences'!$D$2:$D$10)*('Suivi absences'!$B$2:$B$10="CMAT"))+ 4*SUMPRODUCT(($A8='Suivi absences'!$A$2:$A$10)*(Calendrier!B$5>='Suivi absences'!$C$2:$C$10)*(Calendrier!B$5<='Suivi absences'!$D$2:$D$10)*('Suivi absences'!$B$2:$B$10="CPA"))+ 5*SUMPRODUCT(($A8='Suivi absences'!$A$2:$A$10)*(Calendrier!B$5>='Suivi absences'!$C$2:$C$10)*(Calendrier!B$5<='Suivi absences'!$D$2:$D$10)*('Suivi absences'!$B$2:$B$10="CPAT"))+ 6*SUMPRODUCT(($A8='Suivi absences'!$A$2:$A$10)*(Calendrier!B$5>='Suivi absences'!$C$2:$C$10)*(Calendrier!B$5<='Suivi absences'!$D$2:$D$10)*('Suivi absences'!$B$2:$B$10="EVF"))+ 7*SUMPRODUCT(($A8='Suivi absences'!$A$2:$A$10)*(Calendrier!B$5>='Suivi absences'!$C$2:$C$10)*(Calendrier!B$5<='Suivi absences'!$D$2:$D$10)*('Suivi absences'!$B$2:$B$10="ABSNR"))+ 8*SUMPRODUCT(($A8='Suivi absences'!$A$2:$A$10)*(Calendrier!B$5>='Suivi absences'!$C$2:$C$10)*(Calendrier!B$5<='Suivi absences'!$D$2:$D$10)*('Suivi absences'!$B$2:$B$10="NJ"))+ 9*SUMPRODUCT(($A8='Suivi absences'!$A$2:$A$10)*(Calendrier!B$5>='Suivi absences'!$C$2:$C$10)*(Calendrier!B$5<='Suivi absences'!$D$2:$D$10)*('Suivi absences'!$B$2:$B$10="FOR")) -> 0 | C8: =SUMPRODUCT(($A8='Suivi absences'!$A$2:$A$10)*(Calendrier!C$5>='Suivi absences'!$C$2:$C$10)*(Calendrier!C$5<='Suivi absences'!$D$2:$D$10)*('Suivi absences'!$B$2:$B$10="CP"))+ 2*SUMPRODUCT(($A8='Suivi absences'!$A$2:$A$10)*(Calendrier!C$5>='Suivi absences'!$C$2:$C$10)*(Calendrier!C$5<='Suivi absences'!$D$2:$D$10)*('Suivi absences'!$B$2:$B$10="MAL"))+ 3*SUMPRODUCT(($A8='Suivi absences'!$A$2:$A$10)*(Calendrier!C$5>='Suivi absences'!$C$2:$C$10)*(Calendrier!C$5<='Suivi absences'!$D$2:$D$10)*('Suivi absences'!$B$2:$B$10="CMAT"))+ 4*SUMPRODUCT(($A8='Suivi absences'!$A$2:$A$10)*(Calendrier!C$5>='Suivi absences'!$C$2:$C$10)*(Calendrier!C$5<='Suivi absences'!$D$2:$D$10)*('Suivi absences'!$B$2:$B$10="CPA"))+ 5*SUMPRODUCT(($A8='Suivi absences'!$A$2:$A$10)*(Calendrier!C$5>='Suivi absences'!$C$2:$C$10)*(Calendrier!C$5<='Suivi absences'!$D$2:$D$10)*('Suivi absences'!$B$2:$B$10="CPAT"))+ 6*SUMPRODUCT(($A8='Suivi absences'!$A$2:$A$10)*(Calendrier!C$5>='Suivi absences'!$C$2:$C$10)*(Calendrier!C$5<='Suivi absences'!$D$2:$D$10)*('Suivi absences'!$B$2:$B$10="EVF"))+ 7*SUMPRODUCT(($A8='Suivi absences'!$A$2:$A$10)*(Calendrier!C$5>='Suivi absences'!$C$2:$C$10)*(Calendrier!C$5<='Suivi absences'!$D$2:$D$10)*('Suivi absences'!$B$2:$B$10="ABSNR"))+ 8*SUMPRODUCT(($A8='Suivi absences'!$A$2:$A$10)*(Calendrier!C$5>='Suivi absences'!$C$2:$C$10)*(Calendrier!C$5<='Suivi absences'!$D$2:$D$10)*('Suivi absences'!$B$2:$B$10="NJ"))+ 9*SUMPRODUCT(($A8='Suivi absences'!$A$2:$A$10)*(Calendrier!C$5>='Suivi absences'!$C$2:$C$10)*(Calendrier!C$5<='Suivi absences'!$D$2:$D$10)*('Suivi absences'!$B$2:$B$10="FOR")) -> 0 | D8: =SUMPRODUCT(($A8='Suivi absences'!$A$2:$A$10)*(Calendrier!D$5>='Suivi absences'!$C$2:$C$10)*(Calendrier!D$5<='Suivi absences'!$D$2:$D$10)*('Suivi absences'!$B$2:$B$10="CP"))+ 2*SUMPRODUCT(($A8='Suivi absences'!$A$2:$A$10)*(Calendrier!D$5>='Suivi absences'!$C$2:$C$10)*(Calendrier!D$5<='Suivi absences'!$D$2:$D$10)*('Suivi absences'!$B$2:$B$10="MAL"))+ 3*SUMPRODUCT(($A8='Suivi absences'!$A$2:$A$10)*(Calendrier!D$5>='Suivi absences'!$C$2:$C$10)*(Calendrier!D$5<='Suivi absences'!$D$2:$D$10)*('Suivi absences'!$B$2:$B$10="CMAT"))+ 4*SUMPRODUCT(($A8='Suivi absences'!$A$2:$A$10)*(Calendrier!D$5>='Suivi absences'!$C$2:$C$10)*(Calendrier!D$5<='Suivi absences'!$D$2:$D$10)*('Suivi absences'!$B$2:$B$10="CPA"))+ 5*SUMPRODUCT(($A8='Suivi absences'!$A$2:$A$10)*(Calendrier!D$5>='Suivi absences'!$C$2:$C$10)*(Calendrier!D$5<='Suivi absences'!$D$2:$D$10)*('Suivi absences'!$B$2:$B$10="CPAT"))+ 6*SUMPRODUCT(($A8='Suivi absences'!$A$2:$A$10)*(Calendrier!D$5>='Suivi absences'!$C$2:$C$10)*(Calendrier!D$5<='Suivi absences'!$D$2:$D$10)*('Suivi absences'!$B$2:$B$10="EVF"))+ 7*SUMPRODUCT(($A8='Suivi absences'!$A$2:$A$10)*(Calendrier!D$5>='Suivi absences'!$C$2:$C$10)*(Calendrier!D$5<='Suivi absences'!$D$2:$D$10)*('Suivi absences'!$B$2:$B$10="ABSNR"))+ 8*SUMPRODUCT(($A8='Suivi absences'!$A$2:$A$10)*(Calendrier!D$5>='Suivi absences'!$C$2:$C$10)*(Calendrier!D$5<='Suivi absences'!$D$2:$D$10)*('Suivi absences'!$B$2:$B$10="NJ"))+ 9*SUMPRODUCT(($A8='Suivi absences'!$A$2:$A$10)*(Calendrier!D$5>='Suivi absences'!$C$2:$C$10)*(Calendrier!D$5<='Suivi absences'!$D$2:$D$10)*('Suivi absences'!$B$2:$B$10="FOR")) -> 0 | E8: =SUMPRODUCT(($A8='Suivi absences'!$A$2:$A$10)*(Calendrier!E$5>='Suivi absences'!$C$2:$C$10)*(Calendrier!E$5<='Suivi absences'!$D$2:$D$10)*('Suivi absences'!$B$2:$B$10="CP"))+ 2*SUMPRODUCT(($A8='Suivi absences'!$A$2:$A$10)*(Calendrier!E$5>='Suivi absences'!$C$2:$C$10)*(Calendrier!E$5<='Suivi absences'!$D$2:$D$10)*('Suivi absences'!$B$2:$B$10="MAL"))+ 3*SUMPRODUCT(($A8='Suivi absences'!$A$2:$A$10)*(Calendrier!E$5>='Suivi absences'!$C$2:$C$10)*(Calendrier!E$5<='Suivi absences'!$D$2:$D$10)*('Suivi absences'!$B$2:$B$10="CMAT"))+ 4*SUMPRODUCT(($A8='Suivi absences'!$A$2:$A$10)*(Calendrier!E$5>='Suivi absences'!$C$2:$C$10)*(Calendrier!E$5<='Suivi absences'!$D$2:$D$10)*('Suivi absences'!$B$2:$B$10="CPA"))+ 5*SUMPRODUCT(($A8='Suivi absences'!$A$2:$A$10)*(Calendrier!E$5>='Suivi absences'!$C$2:$C$10)*(Calendrier!E$5<='Suivi absences'!$D$2:$D$10)*('Suivi absences'!$B$2:$B$10="CPAT"))+ 6*SUMPRODUCT(($A8='Suivi absences'!$A$2:$A$10)*(Calendrier!E$5>='Suivi absences'!$C$2:$C$10)*(Calendrier!E$5<='Suivi absences'!$D$2:$D$10)*('Suivi absences'!$B$2:$B$10="EVF"))+ 7*SUMPRODUCT(($A8='Suivi absences'!$A$2:$A$10)*(Calendrier!E$5>='Suivi absences'!$C$2:$C$10)*(Calendrier!E$5<='Suivi absences'!$D$2:$D$10)*('Suivi absences'!$B$2:$B$10="ABSNR"))+ 8*SUMPRODUCT(($A8='Suivi absences'!$A$2:$A$10)*(Calendrier!E$5>='Suivi absences'!$C$2:$C$10)*(Calendrier!E$5<='Suivi absences'!$D$2:$D$10)*('Suivi absences'!$B$2:$B$10="NJ"))+ 9*SUMPRODUCT(($A8='Suivi absences'!$A$2:$A$10)*(Calendrier!E$5>='Suivi absences'!$C$2:$C$10)*(Calendrier!E$5<='Suivi absences'!$D$2:$D$10)*('Suivi absences'!$B$2:$B$10="FOR")) -> 0 | F8: =SUMPRODUCT(($A8='Suivi absences'!$A$2:$A$10)*(Calendrier!F$5>='Suivi absences'!$C$2:$C$10)*(Calendrier!F$5<='Suivi absences'!$D$2:$D$10)*('Suivi absences'!$B$2:$B$10="CP"))+ 2*SUMPRODUCT(($A8='Suivi absences'!$A$2:$A$10)*(Calendrier!F$5>='Suivi absences'!$C$2:$C$10)*(Calendrier!F$5<='Suivi absences'!$D$2:$D$10)*('Suivi absences'!$B$2:$B$10="MAL"))+ 3*SUMPRODUCT(($A8='Suivi absences'!$A$2:$A$10)*(Calendrier!F$5>='Suivi absences'!$C$2:$C$10)*(Calendrier!F$5<='Suivi absences'!$D$2:$D$10)*('Suivi absences'!$B$2:$B$10="CMAT"))+ 4*SUMPRODUCT(($A8='Suivi absences'!$A$2:$A$10)*(Calendrier!F$5>='Suivi absences'!$C$2:$C$10)*(Calendrier!F$5<='Suivi absences'!$D$2:$D$10)*('Suivi absences'!$B$2:$B$10="CPA"))+ 5*SUMPRODUCT(($A8='Suivi absences'!$A$2:$A$10)*(Calendrier!F$5>='Suivi absences'!$C$2:$C$10)*(Calendrier!F$5<='Suivi absences'!$D$2:$D$10)*('Suivi absences'!$B$2:$B$10="CPAT"))+ 6*SUMPRODUCT(($A8='Suivi absences'!$A$2:$A$10)*(Calendrier!F$5>='Suivi absences'!$C$2:$C$10)*(Calendrier!F$5<='Suivi absences'!$D$2:$D$10)*('Suivi absences'!$B$2:$B$10="EVF"))+ 7*SUMPRODUCT(($A8='Suivi absences'!$A$2:$A$10)*(Calendrier!F$5>='Suivi absences'!$C$2:$C$10)*(Calendrier!F$5<='Suivi absences'!$D$2:$D$10)*('Suivi absences'!$B$2:$B$10="ABSNR"))+ 8*SUMPRODUCT(($A8='Suivi absences'!$A$2:$A$10)*(Calendrier!F$5>='Suivi absences'!$C$2:$C$10)*(Calendrier!F$5<='Suivi absences'!$D$2:$D$10)*('Suivi absences'!$B$2:$B$10="NJ"))+ 9*SUMPRODUCT(($A8='Suivi absences'!$A$2:$A$10)*(Calendrier!F$5>='Suivi absences'!$C$2:$C$10)*(Calendrier!F$5<='Suivi absences'!$D$2:$D$10)*('Suivi absences'!$B$2:$B$10="FOR")) -> 0 | G8: =SUMPRODUCT(($A8='Suivi absences'!$A$2:$A$10)*(Calendrier!G$5>='Suivi absences'!$C$2:$C$10)*(Calendrier!G$5<='Suivi absences'!$D$2:$D$10)*('Suivi absences'!$B$2:$B$10="CP"))+ 2*SUMPRODUCT(($A8='Suivi absences'!$A$2:$A$10)*(Calendrier!G$5>='Suivi absences'!$C$2:$C$10)*(Calendrier!G$5<='Suivi absences'!$D$2:$D$10)*('Suivi absences'!$B$2:$B$10="MAL"))+ 3*SUMPRODUCT(($A8='Suivi absences'!$A$2:$A$10)*(Calendrier!G$5>='Suivi absences'!$C$2:$C$10)*(Calendrier!G$5<='Suivi absences'!$D$2:$D$10)*('Suivi absences'!$B$2:$B$10="CMAT"))+ 4*SUMPRODUCT(($A8='Suivi absences'!$A$2:$A$10)*(Calendrier!G$5>='Suivi absences'!$C$2:$C$10)*(Calendrier!G$5<='Suivi absences'!$D$2:$D$10)*('Suivi absences'!$B$2:$B$10="CPA"))+ 5*SUMPRODUCT(($A8='Suivi absences'!$A$2:$A$10)*(Calendrier!G$5>='Suivi absences'!$C$2:$C$10)*(Calendrier!G$5<='Suivi absences'!$D$2:$D$10)*('Suivi absences'!$B$2:$B$10="CPAT"))+ 6*SUMPRODUCT(($A8='Suivi absences'!$A$2:$A$10)*(Calendrier!G$5>='Suivi absences'!$C$2:$C$10)*(Calendrier!G$5<='Suivi absences'!$D$2:$D$10)*('Suivi absences'!$B$2:$B$10="EVF"))+ 7*SUMPRODUCT(($A8='Suivi absences'!$A$2:$A$10)*(Calendrier!G$5>='Suivi absences'!$C$2:$C$10)*(Calendrier!G$5<='Suivi absences'!$D$2:$D$10)*('Suivi absences'!$B$2:$B$10="ABSNR"))+ 8*SUMPRODUCT(($A8='Suivi absences'!$A$2:$A$10)*(Calendrier!G$5>='Suivi absences'!$C$2:$C$10)*(Calendrier!G$5<='Suivi absences'!$D$2:$D$10)*('Suivi absences'!$B$2:$B$10="NJ"))+ 9*SUMPRODUCT(($A8='Suivi absences'!$A$2:$A$10)*(Calendrier!G$5>='Suivi absences'!$C$2:$C$10)*(Calendrier!G$5<='Suivi absences'!$D$2:$D$10)*('Suivi absences'!$B$2:$B$10="FOR")) -> 0 | H8: =SUMPRODUCT(($A8='Suivi absences'!$A$2:$A$10)*(Calendrier!H$5>='Suivi absences'!$C$2:$C$10)*(Calendrier!H$5<='Suivi absences'!$D$2:$D$10)*('Suivi absences'!$B$2:$B$10="CP"))+ 2*SUMPRODUCT(($A8='Suivi absences'!$A$2:$A$10)*(Calendrier!H$5>='Suivi absences'!$C$2:$C$10)*(Calendrier!H$5<='Suivi absences'!$D$2:$D$10)*('Suivi absences'!$B$2:$B$10="MAL"))+ 3*SUMPRODUCT(($A8='Suivi absences'!$A$2:$A$10)*(Calendrier!H$5>='Suivi absences'!$C$2:$C$10)*(Calendrier!H$5<='Suivi absences'!$D$2:$D$10)*('Suivi absences'!$B$2:$B$10="CMAT"))+ 4*SUMPRODUCT(($A8='Suivi absences'!$A$2:$A$10)*(Calendrier!H$5>='Suivi absences'!$C$2:$C$10)*(Calendrier!H$5<='Suivi absences'!$D$2:$D$10)*('Suivi absences'!$B$2:$B$10="CPA"))+ 5*SUMPRODUCT(($A8='Suivi absences'!$A$2:$A$10)*(Calendrier!H$5>='Suivi absences'!$C$2:$C$10)*(Calendrier!H$5<='Suivi absences'!$D$2:$D$10)*('Suivi absences'!$B$2:$B$10="CPAT"))+ 6*SUMPRODUCT(($A8='Suivi absences'!$A$2:$A$10)*(Calendrier!H$5>='Suivi absences'!$C$2:$C$10)*(Calendrier!H$5<='Suivi absences'!$D$2:$D$10)*('Suivi absences'!$B$2:$B$10="EVF"))+ 7*SUMPRODUCT(($A8='Suivi absences'!$A$2:$A$10)*(Calendrier!H$5>='Suivi absences'!$C$2:$C$10)*(Calendrier!H$5<='Suivi absences'!$D$2:$D$10)*('Suivi absences'!$B$2:$B$10="ABSNR"))+ 8*SUMPRODUCT(($A8='Suivi absences'!$A$2:$A$10)*(Calendrier!H$5>='Suivi absences'!$C$2:$C$10)*(Calendrier!H$5<='Suivi absences'!$D$2:$D$10)*('Suivi absences'!$B$2:$B$10="NJ"))+ 9*SUMPRODUCT(($A8='Suivi absences'!$A$2:$A$10)*(Calendrier!H$5>='Suivi absences'!$C$2:$C$10)*(Calendrier!H$5<='Suivi absences'!$D$2:$D$10)*('Suivi absences'!$B$2:$B$10="FOR")) -> 0 | I8: =SUMPRODUCT(($A8='Suivi absences'!$A$2:$A$10)*(Calendrier!I$5>='Suivi absences'!$C$2:$C$10)*(Calendrier!I$5<='Suivi absences'!$D$2:$D$10)*('Suivi absences'!$B$2:$B$10="CP"))+ 2*SUMPRODUCT(($A8='Suivi absences'!$A$2:$A$10)*(Calendrier!I$5>='Suivi absences'!$C$2:$C$10)*(Calendrier!I$5<='Suivi absences'!$D$2:$D$10)*('Suivi absences'!$B$2:$B$10="MAL"))+ 3*SUMPRODUCT(($A8='Suivi absences'!$A$2:$A$10)*(Calendrier!I$5>='Suivi absences'!$C$2:$C$10)*(Calendrier!I$5<='Suivi absences'!$D$2:$D$10)*('Suivi absences'!$B$2:$B$10="CMAT"))+ 4*SUMPRODUCT(($A8='Suivi absences'!$A$2:$A$10)*(Calendrier!I$5>='Suivi absences'!$C$2:$C$10)*(Calendrier!I$5<='Suivi absences'!$D$2:$D$10)*('Suivi absences'!$B$2:$B$10="CPA"))+ 5*SUMPRODUCT(($A8='Suivi absences'!$A$2:$A$10)*(Calendrier!I$5>='Suivi absences'!$C$2:$C$10)*(Calendrier!I$5<='Suivi absences'!$D$2:$D$10)*('Suivi absences'!$B$2:$B$10="CPAT"))+ 6*SUMPRODUCT(($A8='Suivi absences'!$A$2:$A$10)*(Calendrier!I$5>='Suivi absences'!$C$2:$C$10)*(Calendrier!I$5<='Suivi absences'!$D$2:$D$10)*('Suivi absences'!$B$2:$B$10="EVF"))+ 7*SUMPRODUCT(($A8='Suivi absences'!$A$2:$A$10)*(Calendrier!I$5>='Suivi absences'!$C$2:$C$10)*(Calendrier!I$5<='Suivi absences'!$D$2:$D$10)*('Suivi absences'!$B$2:$B$10="ABSNR"))+ 8*SUMPRODUCT(($A8='Suivi absences'!$A$2:$A$10)*(Calendrier!I$5>='Suivi absences'!$C$2:$C$10)*(Calendrier!I$5<='Suivi absences'!$D$2:$D$10)*('Suivi absences'!$B$2:$B$10="NJ"))+ 9*SUMPRODUCT(($A8='Suivi absences'!$A$2:$A$10)*(Calendrier!I$5>='Suivi absences'!$C$2:$C$10)*(Calendrier!I$5<='Suivi absences'!$D$2:$D$10)*('Suivi absences'!$B$2:$B$10="FOR")) -> 0 | ... AF8: =SUMPRODUCT(($A8='Suivi absences'!$A$2:$A$10)*(Calendrier!AF$5>='Suivi absences'!$C$2:$C$10)*(Calendrier!AF$5<='Suivi absences'!$D$2:$D$10)*('Suivi absences'!$B$2:$B$10="CP"))+ 2*SUMPRODUCT(($A8='Suivi absences'!$A$2:$A$10)*(Calendrier!AF$5>='Suivi absences'!$C$2:$C$10)*(Calendrier!AF$5<='Suivi absences'!$D$2:$D$10)*('Suivi absences'!$B$2:$B$10="MAL"))+ 3*SUMPRODUCT(($A8='Suivi absences'!$A$2:$A$10)*(Calendrier!AF$5>='Suivi absences'!$C$2:$C$10)*(Calendrier!AF$5<='Suivi absences'!$D$2:$D$10)*('Suivi absences'!$B$2:$B$10="CMAT"))+ 4*SUMPRODUCT(($A8='Suivi absences'!$A$2:$A$10)*(Calendrier!AF$5>='Suivi absences'!$C$2:$C$10)*(Calendrier!AF$5<='Suivi absences'!$D$2:$D$10)*('Suivi absences'!$B$2:$B$10="CPA"))+ 5*SUMPRODUCT(($A8='Suivi absences'!$A$2:$A$10)*(Calendrier!AF$5>='Suivi absences'!$C$2:$C$10)*(Calendrier!AF$5<='Suivi absences'!$D$2:$D$10)*('Suivi absences'!$B$2:$B$10="CPAT"))+ 6*SUMPRODUCT(($A8='Suivi absences'!$A$2:$A$10)*(Calendrier!AF$5>='Suivi absences'!$C$2:$C$10)*(Calendrier!AF$5<='Suivi absences'!$D$2:$D$10)*('Suivi absences'!$B$2:$B$10="EVF"))+ 7*SUMPRODUCT(($A8='Suivi absences'!$A$2:$A$10)*(Calendrier!AF$5>='Suivi absences'!$C$2:$C$10)*(Calendrier!AF$5<='Suivi absences'!$D$2:$D$10)*('Suivi absences'!$B$2:$B$10="ABSNR"))+ 8*SUMPRODUCT(($A8='Suivi absences'!$A$2:$A$10)*(Calendrier!AF$5>='Suivi absences'!$C$2:$C$10)*(Calendrier!AF$5<='Suivi absences'!$D$2:$D$10)*('Suivi absences'!$B$2:$B$10="NJ"))+ 9*SUMPRODUCT(($A8='Suivi absences'!$A$2:$A$10)*(Calendrier!AF$5>='Suivi absences'!$C$2:$C$10)*(Calendrier!AF$5<='Suivi absences'!$D$2:$D$10)*('Suivi absences'!$B$2:$B$10="FOR")) -> 0
