Workbook

Sheet Variables
A1: Année | B1: 2018 | E1: Absences | H1: Employés
E2: CP | F2: Congés Payés | H2: Alexandre
A3: 1er Janvier | B3: =DATE($B$1,1,1) -> 43101 | C3: =_xlfn.FORMULATEXT(B3) -> #NAME? | E3: MAL | F3: Maladie | H3: Calix
A4: Pâques | B4: =ROUND(DATE($B$1,4,MOD(234-11*MOD($B$1,19),30))/7,)*7-6 -> 43191 | C4: =_xlfn.FORMULATEXT(B4) -> #NAME? | E4: CMAT | F4: Congé Maternité | H4: Johan
A5: Lundi de Pâques | B5: =B4+1 -> 43192 | C5: =_xlfn.FORMULATEXT(B5) -> #NAME? | E5: CPA | F5: Congé parental | H5: Mathias
A6: 1er Mai | B6: =DATE($B$1,5,1) -> 43221 | C6: =_xlfn.FORMULATEXT(B6) -> #NAME? | E6: CPAT | F6: Congé Paternité | H6: Mélissa
A7: 8 Mai | B7: =DATE($B$1,5,8) -> 43228 | C7: =_xlfn.FORMULATEXT(B7) -> #NAME? | E7: EVF | F7: Evénement familial | H7: Nicolas
A8: Ascenscion | B8: =B4+39 -> 43230 | C8: =_xlfn.FORMULATEXT(B8) -> #NAME? | E8: ABSNR | F8: Absence non rémunérée | H8: Pierre
A9: Pentecôte | B9: =B4+49 -> 43240 | C9: =_xlfn.FORMULATEXT(B9) -> #NAME? | E9: NJ | F9: Non justifiée
A10: Lundi de la Pentecôte | B10: =B4+50 -> 43241 | C10: =_xlfn.FORMULATEXT(B10) -> #NAME? | E10: FOR | F10: Formation
A11: 14 Juillet | B11: =DATE($B$1,7,14) -> 43295 | C11: =_xlfn.FORMULATEXT(B11) -> #NAME?
A12: 15 Août | B12: =DATE($B$1,8,15) -> 43327 | C12: =_xlfn.FORMULATEXT(B12) -> #NAME?
A13: 1er Novembre | B13: =DATE($B$1,11,1) -> 43405 | C13: =_xlfn.FORMULATEXT(B13) -> #NAME?
A14: 11 Novembre | B14: =DATE($B$1,11,11) -> 43415 | C14: =_xlfn.FORMULATEXT(B14) -> #NAME?
A15: 25 Décembre | B15: =DATE($B$1,12,25) -> 43459 | C15: =_xlfn.FORMULATEXT(B15) -> #NAME?
A18: Référence cumul CP | B18: Droit à | C18: Cumul des droits
A19: Juin | B19: 2.5 | C19: 2.5
A20: Juillet | B20: 2.5 | C20: =2.5+C19 -> 5
A21: Août | B21: 2.5 | C21: =2.5+C20 -> 7.5
A22: Septembre | B22: 2.5 | C22: =2.5+C21 -> 10
A23: Octobre | B23: 2.5 | C23: =2.5+C22 -> 12.5
A24: Novembre | B24: 2.5 | C24: =2.5+C23 -> 15
A25: Décembre | B25: 2.5 | C25: =2.5+C24 -> 17.5
A26: Janvier | B26: 2.5 | C26: =2.5+C25 -> 20
A27: Février | B27: 2.5 | C27: =2.5+C26 -> 22.5
A28: Mars | B28: 2.5 | C28: =2.5+C27 -> 25
A29: Avril | B29: 2.5 | C29: =2.5+C28 -> 27.5
A30: Mai | B30: 2.5 | C30: =2.5+C29 -> 30
A31: TOTAL JOURS OUVRABLES | B31: =SUM(B19:B30) -> 30 | C31: 30

Sheet Calendrier
A1: Mois | B1: 2
A2: Année | B2: 2018
B5: =DATE(B2,B1,1) -> 43132 | C5: =IF(B5="","",IF(MONTH(B5+1)=MONTH(B5),B5+1,"")) -> 43133 | D5: =IF(C5="","",IF(MONTH(C5+1)=MONTH(C5),C5+1,"")) -> 43134 | E5: =IF(D5="","",IF(MONTH(D5+1)=MONTH(D5),D5+1,"")) -> 43135 | F5: =IF(E5="","",IF(MONTH(E5+1)=MONTH(E5),E5+1,"")) -> 43136 | G5: =IF(F5="","",IF(MONTH(F5+1)=MONTH(F5),F5+1,"")) -> 43137 | H5: =IF(G5="","",IF(MONTH(G5+1)=MONTH(G5),G5+1,"")) -> 43138 | I5: =IF(H5="","",IF(MONTH(H5+1)=MONTH(H5),H5+1,"")) -> 43139 | J5: =IF(I5="","",IF(MONTH(I5+1)=MONTH(I5),I5+1,"")) -> 43140 | ... AF5: =IF(AE5="","",IF(MONTH(AE5+1)=MONTH(AE5),AE5+1,""))
A6: Alexandre | B6: =SUMPRODUCT(($A6='Suivi absences'!$A$2:$A$10)*(Calendrier!B$5>='Suivi absences'!$C$2:$C$10)*(Calendrier!B$5<='Suivi absences'!$D$2:$D$10)*('Suivi absences'!$B$2:$B$10="CP"))+ 2*SUMPRODUCT(($A6='Suivi absences'!$A$2:$A$10)*(Calendrier!B$5>='Suivi absences'!$C$2:$C$10)*(Calendrier!B$5<='Suivi absences'!$D$2:$D$10)*('Suivi absences'!$B$2:$B$10="MAL"))+ 3*SUMPRODUCT(($A6='Suivi absences'!$A$2:$A$10)*(Calendrier!B$5>='Suivi absences'!$C$2:$C$10)*(Calendrier!B$5<='Suivi absences'!$D$2:$D$10)*('Suivi absences'!$B$2:$B$10="CMAT"))+ 4*SUMPRODUCT(($A6='Suivi absences'!$A$2:$A$10)*(Calendrier!B$5>='Suivi absences'!$C$2:$C$10)*(Calendrier!B$5<='Suivi absences'!$D$2:$D$10)*('Suivi absences'!$B$2:$B$10="CPA"))+ 5*SUMPRODUCT(($A6='Suivi absences'!$A$2:$A$10)*(Calendrier!B$5>='Suivi absences'!$C$2:$C$10)*(Calendrier!B$5<='Suivi absences'!$D$2:$D$10)*('Suivi absences'!$B$2:$B$10="CPAT"))+ 6*SUMPRODUCT(($A6='Suivi absences'!$A$2:$A$10)*(Calendrier!B$5>='Suivi absences'!$C$2:$C$10)*(Calendrier!B$5<='Suivi absences'!$D$2:$D$10)*('Suivi absences'!$B$2:$B$10="EVF"))+ 7*SUMPRODUCT(($A6='Suivi absences'!$A$2:$A$10)*(Calendrier!B$5>='Suivi absences'!$C$2:$C$10)*(Calendrier!B$5<='Suivi absences'!$D$2:$D$10)*('Suivi absences'!$B$2:$B$10="ABSNR"))+ 8*SUMPRODUCT(($A6='Suivi absences'!$A$2:$A$10)*(Calendrier!B$5>='Suivi absences'!$C$2:$C$10)*(Calendrier!B$5<='Suivi absences'!$D$2:$D$10)*('Suivi absences'!$B$2:$B$10="NJ"))+ 9*SUMPRODUCT(($A6='Suivi absences'!$A$2:$A$10)*(Calendrier!B$5>='Suivi absences'!$C$2:$C$10)*(Calendrier!B$5<='Suivi absences'!$D$2:$D$10)*('Suivi absences'!$B$2:$B$10="FOR")) -> 0 | C6: =SUMPRODUCT(($A6='Suivi absences'!$A$2:$A$10)*(Calendrier!C$5>='Suivi absences'!$C$2:$C$10)*(Calendrier!C$5<='Suivi absences'!$D$2:$D$10)*('Suivi absences'!$B$2:$B$10="CP"))+ 2*SUMPRODUCT(($A6='Suivi absences'!$A$2:$A$10)*(Calendrier!C$5>='Suivi absences'!$C$2:$C$10)*(Calendrier!C$5<='Suivi absences'!$D$2:$D$10)*('Suivi absences'!$B$2:$B$10="MAL"))+ 3*SUMPRODUCT(($A6='Suivi absences'!$A$2:$A$10)*(Calendrier!C$5>='Suivi absences'!$C$2:$C$10)*(Calendrier!C$5<='Suivi absences'!$D$2:$D$10)*('Suivi absences'!$B$2:$B$10="CMAT"))+ 4*SUMPRODUCT(($A6='Suivi absences'!$A$2:$A$10)*(Calendrier!C$5>='Suivi absences'!$C$2:$C$10)*(Calendrier!C$5<='Suivi absences'!$D$2:$D$10)*('Suivi absences'!$B$2:$B$10="CPA"))+ 5*SUMPRODUCT(($A6='Suivi absences'!$A$2:$A$10)*(Calendrier!C$5>='Suivi absences'!$C$2:$C$10)*(Calendrier!C$5<='Suivi absences'!$D$2:$D$10)*('Suivi absences'!$B$2:$B$10="CPAT"))+ 6*SUMPRODUCT(($A6='Suivi absences'!$A$2:$A$10)*(Calendrier!C$5>='Suivi absences'!$C$2:$C$10)*(Calendrier!C$5<='Suivi absences'!$D$2:$D$10)*('Suivi absences'!$B$2:$B$10="EVF"))+ 7*SUMPRODUCT(($A6='Suivi absences'!$A$2:$A$10)*(Calendrier!C$5>='Suivi absences'!$C$2:$C$10)*(Calendrier!C$5<='Suivi absences'!$D$2:$D$10)*('Suivi absences'!$B$2:$B$10="ABSNR"))+ 8*SUMPRODUCT(($A6='Suivi absences'!$A$2:$A$10)*(Calendrier!C$5>='Suivi absences'!$C$2:$C$10)*(Calendrier!C$5<='Suivi absences'!$D$2:$D$10)*('Suivi absences'!$B$2:$B$10="NJ"))+ 9*SUMPRODUCT(($A6='Suivi absences'!$A$2:$A$10)*(Calendrier!C$5>='Suivi absences'!$C$2:$C$10)*(Calendrier!C$5<='Suivi absences'!$D$2:$D$10)*('Suivi absences'!$B$2:$B$10="FOR")) -> 0 | D6: =SUMPRODUCT(($A6='Suivi absences'!$A$2:$A$10)*(Calendrier!D$5>='Suivi absences'!$C$2:$C$10)*(Calendrier!D$5<='Suivi absences'!$D$2:$D$10)*('Suivi absences'!$B$2:$B$10="CP"))+ 2*SUMPRODUCT(($A6='Suivi absences'!$A$2:$A$10)*(Calendrier!D$5>='Suivi absences'!$C$2:$C$10)*(Calendrier!D$5<='Suivi absences'!$D$2:$D$10)*('Suivi absences'!$B$2:$B$10="MAL"))+ 3*SUMPRODUCT(($A6='Suivi absences'!$A$2:$A$10)*(Calendrier!D$5>='Suivi absences'!$C$2:$C$10)*(Calendrier!D$5<='Suivi absences'!$D$2:$D$10)*('Suivi absences'!$B$2:$B$10="CMAT"))+ 4*SUMPRODUCT(($A6='Suivi absences'!$A$2:$A$10)*(Calendrier!D$5>='Suivi absences'!$C$2:$C$10)*(Calendrier!D$5<='Suivi absences'!$D$2:$D$10)*('Suivi absences'!$B$2:$B$10="CPA"))+ 5*SUMPRODUCT(($A6='Suivi absences'!$A$2:$A$10)*(Calendrier!D$5>='Suivi absences'!$C$2:$C$10)*(Calendrier!D$5<='Suivi absences'!$D$2:$D$10)*('Suivi absences'!$B$2:$B$10="CPAT"))+ 6*SUMPRODUCT(($A6='Suivi absences'!$A$2:$A$10)*(Calendrier!D$5>='Suivi absences'!$C$2:$C$10)*(Calendrier!D$5<='Suivi absences'!$D$2:$D$10)*('Suivi absences'!$B$2:$B$10="EVF"))+ 7*SUMPRODUCT(($A6='Suivi absences'!$A$2:$A$10)*(Calendrier!D$5>='Suivi absences'!$C$2:$C$10)*(Calendrier!D$5<='Suivi absences'!$D$2:$D$10)*('Suivi absences'!$B$2:$B$10="ABSNR"))+ 8*SUMPRODUCT(($A6='Suivi absences'!$A$2:$A$10)*(Calendrier!D$5>='Suivi absences'!$C$2:$C$10)*(Calendrier!D$5<='Suivi absences'!$D$2:$D$10)*('Suivi absences'!$B$2:$B$10="NJ"))+ 9*SUMPRODUCT(($A6='Suivi absences'!$A$2:$A$10)*(Calendrier!D$5>='Suivi absences'!$C$2:$C$10)*(Calendrier!D$5<='Suivi absences'!$D$2:$D$10)*('Suivi absences'!$B$2:$B$10="FOR")) -> 0 | E6: =SUMPRODUCT(($A6='Suivi absences'!$A$2:$A$10)*(Calendrier!E$5>='Suivi absences'!$C$2:$C$10)*(Calendrier!E$5<='Suivi absences'!$D$2:$D$10)*('Suivi absences'!$B$2:$B$10="CP"))+ 2*SUMPRODUCT(($A6='Suivi absences'!$A$2:$A$10)*(Calendrier!E$5>='Suivi absences'!$C$2:$C$10)*(Calendrier!E$5<='Suivi absences'!$D$2:$D$10)*('Suivi absences'!$B$2:$B$10="MAL"))+ 3*SUMPRODUCT(($A6='Suivi absences'!$A$2:$A$10)*(Calendrier!E$5>='Suivi absences'!$C$2:$C$10)*(Calendrier!E$5<='Suivi absences'!$D$2:$D$10)*('Suivi absences'!$B$2:$B$10="CMAT"))+ 4*SUMPRODUCT(($A6='Suivi absences'!$A$2:$A$10)*(Calendrier!E$5>='Suivi absences'!$C$2:$C$10)*(Calendrier!E$5<='Suivi absences'!$D$2:$D$10)*('Suivi absences'!$B$2:$B$10="CPA"))+ 5*SUMPRODUCT(($A6='Suivi absences'!$A$2:$A$10)*(Calendrier!E$5>='Suivi absences'!$C$2:$C$10)*(Calendrier!E$5<='Suivi absences'!$D$2:$D$10)*('Suivi absences'!$B$2:$B$10="CPAT"))+ 6*SUMPRODUCT(($A6='Suivi absences'!$A$2:$A$10)*(Calendrier!E$5>='Suivi absences'!$C$2:$C$10)*(Calendrier!E$5<='Suivi absences'!$D$2:$D$10)*('Suivi absences'!$B$2:$B$10="EVF"))+ 7*SUMPRODUCT(($A6='Suivi absences'!$A$2:$A$10)*(Calendrier!E$5>='Suivi absences'!$C$2:$C$10)*(Calendrier!E$5<='Suivi absences'!$D$2:$D$10)*('Suivi absences'!$B$2:$B$10="ABSNR"))+ 8*SUMPRODUCT(($A6='Suivi absences'!$A$2:$A$10)*(Calendrier!E$5>='Suivi absences'!$C$2:$C$10)*(Calendrier!E$5<='Suivi absences'!$D$2:$D$10)*('Suivi absences'!$B$2:$B$10="NJ"))+ 9*SUMPRODUCT(($A6='Suivi absences'!$A$2:$A$10)*(Calendrier!E$5>='Suivi absences'!$C$2:$C$10)*(Calendrier!E$5<='Suivi absences'!$D$2:$D$10)*('Suivi absences'!$B$2:$B$10="FOR")) -> 0 | F6: =SUMPRODUCT(($A6='Suivi absences'!$A$2:$A$10)*(Calendrier!F$5>='Suivi absences'!$C$2:$C$10)*(Calendrier!F$5<='Suivi absences'!$D$2:$D$10)*('Suivi absences'!$B$2:$B$10="CP"))+ 2*SUMPRODUCT(($A6='Suivi absences'!$A$2:$A$10)*(Calendrier!F$5>='Suivi absences'!$C$2:$C$10)*(Calendrier!F$5<='Suivi absences'!$D$2:$D$10)*('Suivi absences'!$B$2:$B$10="MAL"))+ 3*SUMPRODUCT(($A6='Suivi absences'!$A$2:$A$10)*(Calendrier!F$5>='Suivi absences'!$C$2:$C$10)*(Calendrier!F$5<='Suivi absences'!$D$2:$D$10)*('Suivi absences'!$B$2:$B$10="CMAT"))+ 4*SUMPRODUCT(($A6='Suivi absences'!$A$2:$A$10)*(Calendrier!F$5>='Suivi absences'!$C$2:$C$10)*(Calendrier!F$5<='Suivi absences'!$D$2:$D$10)*('Suivi absences'!$B$2:$B$10="CPA"))+ 5*SUMPRODUCT(($A6='Suivi absences'!$A$2:$A$10)*(Calendrier!F$5>='Suivi absences'!$C$2:$C$10)*(Calendrier!F$5<='Suivi absences'!$D$2:$D$10)*('Suivi absences'!$B$2:$B$10="CPAT"))+ 6*SUMPRODUCT(($A6='Suivi absences'!$A$2:$A$10)*(Calendrier!F$5>='Suivi absences'!$C$2:$C$10)*(Calendrier!F$5<='Suivi absences'!$D$2:$D$10)*('Suivi absences'!$B$2:$B$10="EVF"))+ 7*SUMPRODUCT(($A6='Suivi absences'!$A$2:$A$10)*(Calendrier!F$5>='Suivi absences'!$C$2:$C$10)*(Calendrier!F$5<='Suivi absences'!$D$2:$D$10)*('Suivi absences'!$B$2:$B$10="ABSNR"))+ 8*SUMPRODUCT(($A6='Suivi absences'!$A$2:$A$10)*(Calendrier!F$5>='Suivi absences'!$C$2:$C$10)*(Calendrier!F$5<='Suivi absences'!$D$2:$D$10)*('Suivi absences'!$B$2:$B$10="NJ"))+ 9*SUMPRODUCT(($A6='Suivi absences'!$A$2:$A$10)*(Calendrier!F$5>='Suivi absences'!$C$2:$C$10)*(Calendrier!F$5<='Suivi absences'!$D$2:$D$10)*('Suivi absences'!$B$2:$B$10="FOR")) -> 0 | G6: =SUMPRODUCT(($A6='Suivi absences'!$A$2:$A$10)*(Calendrier!G$5>='Suivi absences'!$C$2:$C$10)*(Calendrier!G$5<='Suivi absences'!$D$2:$D$10)*('Suivi absences'!$B$2:$B$10="CP"))+ 2*SUMPRODUCT(($A6='Suivi absences'!$A$2:$A$10)*(Calendrier!G$5>='Suivi absences'!$C$2:$C$10)*(Calendrier!G$5<='Suivi absences'!$D$2:$D$10)*('Suivi absences'!$B$2:$B$10="MAL"))+ 3*SUMPRODUCT(($A6='Suivi absences'!$A$2:$A$10)*(Calendrier!G$5>='Suivi absences'!$C$2:$C$10)*(Calendrier!G$5<='Suivi absences'!$D$2:$D$10)*('Suivi absences'!$B$2:$B$10="CMAT"))+ 4*SUMPRODUCT(($A6='Suivi absences'!$A$2:$A$10)*(Calendrier!G$5>='Suivi absences'!$C$2:$C$10)*(Calendrier!G$5<='Suivi absences'!$D$2:$D$10)*('Suivi absences'!$B$2:$B$10="CPA"))+ 5*SUMPRODUCT(($A6='Suivi absences'!$A$2:$A$10)*(Calendrier!G$5>='Suivi absences'!$C$2:$C$10)*(Calendrier!G$5<='Suivi absences'!$D$2:$D$10)*('Suivi absences'!$B$2:$B$10="CPAT"))+ 6*SUMPRODUCT(($A6='Suivi absences'!$A$2:$A$10)*(Calendrier!G$5>='Suivi absences'!$C$2:$C$10)*(Calendrier!G$5<='Suivi absences'!$D$2:$D$10)*('Suivi absences'!$B$2:$B$10="EVF"))+ 7*SUMPRODUCT(($A6='Suivi absences'!$A$2:$A$10)*(Calendrier!G$5>='Suivi absences'!$C$2:$C$10)*(Calendrier!G$5<='Suivi absences'!$D$2:$D$10)*('Suivi absences'!$B$2:$B$10="ABSNR"))+ 8*SUMPRODUCT(($A6='Suivi absences'!$A$2:$A$10)*(Calendrier!G$5>='Suivi absences'!$C$2:$C$10)*(Calendrier!G$5<='Suivi absences'!$D$2:$D$10)*('Suivi absences'!$B$2:$B$10="NJ"))+ 9*SUMPRODUCT(($A6='Suivi absences'!$A$2:$A$10)*(Calendrier!G$5>='Suivi absences'!$C$2:$C$10)*(Calendrier!G$5<='Suivi absences'!$D$2:$D$10)*('Suivi absences'!$B$2:$B$10="FOR")) -> 0 | H6: =SUMPRODUCT(($A6='Suivi absences'!$A$2:$A$10)*(Calendrier!H$5>='Suivi absences'!$C$2:$C$10)*(Calendrier!H$5<='Suivi absences'!$D$2:$D$10)*('Suivi absences'!$B$2:$B$10="CP"))+ 2*SUMPRODUCT(($A6='Suivi absences'!$A$2:$A$10)*(Calendrier!H$5>='Suivi absences'!$C$2:$C$10)*(Calendrier!H$5<='Suivi absences'!$D$2:$D$10)*('Suivi absences'!$B$2:$B$10="MAL"))+ 3*SUMPRODUCT(($A6='Suivi absences'!$A$2:$A$10)*(Calendrier!H$5>='Suivi absences'!$C$2:$C$10)*(Calendrier!H$5<='Suivi absences'!$D$2:$D$10)*('Suivi absences'!$B$2:$B$10="CMAT"))+ 4*SUMPRODUCT(($A6='Suivi absences'!$A$2:$A$10)*(Calendrier!H$5>='Suivi absences'!$C$2:$C$10)*(Calendrier!H$5<='Suivi absences'!$D$2:$D$10)*('Suivi absences'!$B$2:$B$10="CPA"))+ 5*SUMPRODUCT(($A6='Suivi absences'!$A$2:$A$10)*(Calendrier!H$5>='Suivi absences'!$C$2:$C$10)*(Calendrier!H$5<='Suivi absences'!$D$2:$D$10)*('Suivi absences'!$B$2:$B$10="CPAT"))+ 6*SUMPRODUCT(($A6='Suivi absences'!$A$2:$A$10)*(Calendrier!H$5>='Suivi absences'!$C$2:$C$10)*(Calendrier!H$5<='Suivi absences'!$D$2:$D$10)*('Suivi absences'!$B$2:$B$10="EVF"))+ 7*SUMPRODUCT(($A6='Suivi absences'!$A$2:$A$10)*(Calendrier!H$5>='Suivi absences'!$C$2:$C$10)*(Calendrier!H$5<='Suivi absences'!$D$2:$D$10)*('Suivi absences'!$B$2:$B$10="ABSNR"))+ 8*SUMPRODUCT(($A6='Suivi absences'!$A$2:$A$10)*(Calendrier!H$5>='Suivi absences'!$C$2:$C$10)*(Calendrier!H$5<='Suivi absences'!$D$2:$D$10)*('Suivi absences'!$B$2:$B$10="NJ"))+ 9*SUMPRODUCT(($A6='Suivi absences'!$A$2:$A$10)*(Calendrier!H$5>='Suivi absences'!$C$2:$C$10)*(Calendrier!H$5<='Suivi absences'!$D$2:$D$10)*('Suivi absences'!$B$2:$B$10="FOR")) -> 0 | I6: =SUMPRODUCT(($A6='Suivi absences'!$A$2:$A$10)*(Calendrier!I$5>='Suivi absences'!$C$2:$C$10)*(Calendrier!I$5<='Suivi absences'!$D$2:$D$10)*('Suivi absences'!$B$2:$B$10="CP"))+ 2*SUMPRODUCT(($A6='Suivi absences'!$A$2:$A$10)*(Calendrier!I$5>='Suivi absences'!$C$2:$C$10)*(Calendrier!I$5<='Suivi absences'!$D$2:$D$10)*('Suivi absences'!$B$2:$B$10="MAL"))+ 3*SUMPRODUCT(($A6='Suivi absences'!$A$2:$A$10)*(Calendrier!I$5>='Suivi absences'!$C$2:$C$10)*(Calendrier!I$5<='Suivi absences'!$D$2:$D$10)*('Suivi absences'!$B$2:$B$10="CMAT"))+ 4*SUMPRODUCT(($A6='Suivi absences'!$A$2:$A$10)*(Calendrier!I$5>='Suivi absences'!$C$2:$C$10)*(Calendrier!I$5<='Suivi absences'!$D$2:$D$10)*('Suivi absences'!$B$2:$B$10="CPA"))+ 5*SUMPRODUCT(($A6='Suivi absences'!$A$2:$A$10)*(Calendrier!I$5>='Suivi absences'!$C$2:$C$10)*(Calendrier!I$5<='Suivi absences'!$D$2:$D$10)*('Suivi absences'!$B$2:$B$10="CPAT"))+ 6*SUMPRODUCT(($A6='Suivi absences'!$A$2:$A$10)*(Calendrier!I$5>='Suivi absences'!$C$2:$C$10)*(Calendrier!I$5<='Suivi absences'!$D$2:$D$10)*('Suivi absences'!$B$2:$B$10="EVF"))+ 7*SUMPRODUCT(($A6='Suivi absences'!$A$2:$A$10)*(Calendrier!I$5>='Suivi absences'!$C$2:$C$10)*(Calendrier!I$5<='Suivi absences'!$D$2:$D$10)*('Suivi absences'!$B$2:$B$10="ABSNR"))+ 8*SUMPRODUCT(($A6='Suivi absences'!$A$2:$A$10)*(Calendrier!I$5>='Suivi absences'!$C$2:$C$10)*(Calendrier!I$5<='Suivi absences'!$D$2:$D$10)*('Suivi absences'!$B$2:$B$10="NJ"))+ 9*SUMPRODUCT(($A6='Suivi absences'!$A$2:$A$10)*(Calendrier!I$5>='Suivi absences'!$C$2:$C$10)*(Calendrier!I$5<='Suivi absences'!$D$2:$D$10)*('Suivi absences'!$B$2:$B$10="FOR")) -> 0 | ... AF6: =SUMPRODUCT(($A6='Suivi absences'!$A$2:$A$10)*(Calendrier!AF$5>='Suivi absences'!$C$2:$C$10)*(Calendrier!AF$5<='Suivi absences'!$D$2:$D$10)*('Suivi absences'!$B$2:$B$10="CP"))+ 2*SUMPRODUCT(($A6='Suivi absences'!$A$2:$A$10)*(Calendrier!AF$5>='Suivi absences'!$C$2:$C$10)*(Calendrier!AF$5<='Suivi absences'!$D$2:$D$10)*('Suivi absences'!$B$2:$B$10="MAL"))+ 3*SUMPRODUCT(($A6='Suivi absences'!$A$2:$A$10)*(Calendrier!AF$5>='Suivi absences'!$C$2:$C$10)*(Calendrier!AF$5<='Suivi absences'!$D$2:$D$10)*('Suivi absences'!$B$2:$B$10="CMAT"))+ 4*SUMPRODUCT(($A6='Suivi absences'!$A$2:$A$10)*(Calendrier!AF$5>='Suivi absences'!$C$2:$C$10)*(Calendrier!AF$5<='Suivi absences'!$D$2:$D$10)*('Suivi absences'!$B$2:$B$10="CPA"))+ 5*SUMPRODUCT(($A6='Suivi absences'!$A$2:$A$10)*(Calendrier!AF$5>='Suivi absences'!$C$2:$C$10)*(Calendrier!AF$5<='Suivi absences'!$D$2:$D$10)*('Suivi absences'!$B$2:$B$10="CPAT"))+ 6*SUMPRODUCT(($A6='Suivi absences'!$A$2:$A$10)*(Calendrier!AF$5>='Suivi absences'!$C$2:$C$10)*(Calendrier!AF$5<='Suivi absences'!$D$2:$D$10)*('Suivi absences'!$B$2:$B$10="EVF"))+ 7*SUMPRODUCT(($A6='Suivi absences'!$A$2:$A$10)*(Calendrier!AF$5>='Suivi absences'!$C$2:$C$10)*(Calendrier!AF$5<='Suivi absences'!$D$2:$D$10)*('Suivi absences'!$B$2:$B$10="ABSNR"))+ 8*SUMPRODUCT(($A6='Suivi absences'!$A$2:$A$10)*(Calendrier!AF$5>='Suivi absences'!$C$2:$C$10)*(Calendrier!AF$5<='Suivi absences'!$D$2:$D$10)*('Suivi absences'!$B$2:$B$10="NJ"))+ 9*SUMPRODUCT(($A6='Suivi absences'!$A$2:$A$10)*(Calendrier!AF$5>='Suivi absences'!$C$2:$C$10)*(Calendrier!AF$5<='Suivi absences'!$D$2:$D$10)*('Suivi absences'!$B$2:$B$10="FOR")) -> 0
A7: Calix | B7: =SUMPRODUCT(($A7='Suivi absences'!$A$2:$A$10)*(Calendrier!B$5>='Suivi absences'!$C$2:$C$10)*(Calendrier!B$5<='Suivi absences'!$D$2:$D$10)*('Suivi absences'!$B$2:$B$10="CP"))+ 2*SUMPRODUCT(($A7='Suivi absences'!$A$2:$A$10)*(Calendrier!B$5>='Suivi absences'!$C$2:$C$10)*(Calendrier!B$5<='Suivi absences'!$D$2:$D$10)*('Suivi absences'!$B$2:$B$10="MAL"))+ 3*SUMPRODUCT(($A7='Suivi absences'!$A$2:$A$10)*(Calendrier!B$5>='Suivi absences'!$C$2:$C$10)*(Calendrier!B$5<='Suivi absences'!$D$2:$D$10)*('Suivi absences'!$B$2:$B$10="CMAT"))+ 4*SUMPRODUCT(($A7='Suivi absences'!$A$2:$A$10)*(Calendrier!B$5>='Suivi absences'!$C$2:$C$10)*(Calendrier!B$5<='Suivi absences'!$D$2:$D$10)*('Suivi absences'!$B$2:$B$10="CPA"))+ 5*SUMPRODUCT(($A7='Suivi absences'!$A$2:$A$10)*(Calendrier!B$5>='Suivi absences'!$C$2:$C$10)*(Calendrier!B$5<='Suivi absences'!$D$2:$D$10)*('Suivi absences'!$B$2:$B$10="CPAT"))+ 6*SUMPRODUCT(($A7='Suivi absences'!$A$2:$A$10)*(Calendrier!B$5>='Suivi absences'!$C$2:$C$10)*(Calendrier!B$5<='Suivi absences'!$D$2:$D$10)*('Suivi absences'!$B$2:$B$10="EVF"))+ 7*SUMPRODUCT(($A7='Suivi absences'!$A$2:$A$10)*(Calendrier!B$5>='Suivi absences'!$C$2:$C$10)*(Calendrier!B$5<='Suivi absences'!$D$2:$D$10)*('Suivi absences'!$B$2:$B$10="ABSNR"))+ 8*SUMPRODUCT(($A7='Suivi absences'!$A$2:$A$10)*(Calendrier!B$5>='Suivi absences'!$C$2:$C$10)*(Calendrier!B$5<='Suivi absences'!$D$2:$D$10)*('Suivi absences'!$B$2:$B$10="NJ"))+ 9*SUMPRODUCT(($A7='Suivi absences'!$A$2:$A$10)*(Calendrier!B$5>='Suivi absences'!$C$2:$C$10)*(Calendrier!B$5<='Suivi absences'!$D$2:$D$10)*('Suivi absences'!$B$2:$B$10="FOR")) -> 0 | C7: =SUMPRODUCT(($A7='Suivi absences'!$A$2:$A$10)*(Calendrier!C$5>='Suivi absences'!$C$2:$C$10)*(Calendrier!C$5<='Suivi absences'!$D$2:$D$10)*('Suivi absences'!$B$2:$B$10="CP"))+ 2*SUMPRODUCT(($A7='Suivi absences'!$A$2:$A$10)*(Calendrier!C$5>='Suivi absences'!$C$2:$C$10)*(Calendrier!C$5<='Suivi absences'!$D$2:$D$10)*('Suivi absences'!$B$2:$B$10="MAL"))+ 3*SUMPRODUCT(($A7='Suivi absences'!$A$2:$A$10)*(Calendrier!C$5>='Suivi absences'!$C$2:$C$10)*(Calendrier!C$5<='Suivi absences'!$D$2:$D$10)*('Suivi absences'!$B$2:$B$10="CMAT"))+ 4*SUMPRODUCT(($A7='Suivi absences'!$A$2:$A$10)*(Calendrier!C$5>='Suivi absences'!$C$2:$C$10)*(Calendrier!C$5<='Suivi absences'!$D$2:$D$10)*('Suivi absences'!$B$2:$B$10="CPA"))+ 5*SUMPRODUCT(($A7='Suivi absences'!$A$2:$A$10)*(Calendrier!C$5>='Suivi absences'!$C$2:$C$10)*(Calendrier!C$5<='Suivi absences'!$D$2:$D$10)*('Suivi absences'!$B$2:$B$10="CPAT"))+ 6*SUMPRODUCT(($A7='Suivi absences'!$A$2:$A$10)*(Calendrier!C$5>='Suivi absences'!$C$2:$C$10)*(Calendrier!C$5<='Suivi absences'!$D$2:$D$10)*('Suivi absences'!$B$2:$B$10="EVF"))+ 7*SUMPRODUCT(($A7='Suivi absences'!$A$2:$A$10)*(Calendrier!C$5>='Suivi absences'!$C$2:$C$10)*(Calendrier!C$5<='Suivi absences'!$D$2:$D$10)*('Suivi absences'!$B$2:$B$10="ABSNR"))+ 8*SUMPRODUCT(($A7='Suivi absences'!$A$2:$A$10)*(Calendrier!C$5>='Suivi absences'!$C$2:$C$10)*(Calendrier!C$5<='Suivi absences'!$D$2:$D$10)*('Suivi absences'!$B$2:$B$10="NJ"))+ 9*SUMPRODUCT(($A7='Suivi absences'!$A$2:$A$10)*(Calendrier!C$5>='Suivi absences'!$C$2:$C$10)*(Calendrier!C$5<='Suivi absences'!$D$2:$D$10)*('Suivi absences'!$B$2:$B$10="FOR")) -> 0 | D7: =SUMPRODUCT(($A7='Suivi absences'!$A$2:$A$10)*(Calendrier!D$5>='Suivi absences'!$C$2:$C$10)*(Calendrier!D$5<='Suivi absences'!$D$2:$D$10)*('Suivi absences'!$B$2:$B$10="CP"))+ 2*SUMPRODUCT(($A7='Suivi absences'!$A$2:$A$10)*(Calendrier!D$5>='Suivi absences'!$C$2:$C$10)*(Calendrier!D$5<='Suivi absences'!$D$2:$D$10)*('Suivi absences'!$B$2:$B$10="MAL"))+ 3*SUMPRODUCT(($A7='Suivi absences'!$A$2:$A$10)*(Calendrier!D$5>='Suivi absences'!$C$2:$C$10)*(Calendrier!D$5<='Suivi absences'!$D$2:$D$10)*('Suivi absences'!$B$2:$B$10="CMAT"))+ 4*SUMPRODUCT(($A7='Suivi absences'!$A$2:$A$10)*(Calendrier!D$5>='Suivi absences'!$C$2:$C$10)*(Calendrier!D$5<='Suivi absences'!$D$2:$D$10)*('Suivi absences'!$B$2:$B$10="CPA"))+ 5*SUMPRODUCT(($A7='Suivi absences'!$A$2:$A$10)*(Calendrier!D$5>='Suivi absences'!$C$2:$C$10)*(Calendrier!D$5<='Suivi absences'!$D$2:$D$10)*('Suivi absences'!$B$2:$B$10="CPAT"))+ 6*SUMPRODUCT(($A7='Suivi absences'!$A$2:$A$10)*(Calendrier!D$5>='Suivi absences'!$C$2:$C$10)*(Calendrier!D$5<='Suivi absences'!$D$2:$D$10)*('Suivi absences'!$B$2:$B$10="EVF"))+ 7*SUMPRODUCT(($A7='Suivi absences'!$A$2:$A$10)*(Calendrier!D$5>='Suivi absences'!$C$2:$C$10)*(Calendrier!D$5<='Suivi absences'!$D$2:$D$10)*('Suivi absences'!$B$2:$B$10="ABSNR"))+ 8*SUMPRODUCT(($A7='Suivi absences'!$A$2:$A$10)*(Calendrier!D$5>='Suivi absences'!$C$2:$C$10)*(Calendrier!D$5<='Suivi absences'!$D$2:$D$10)*('Suivi absences'!$B$2:$B$10="NJ"))+ 9*SUMPRODUCT(($A7='Suivi absences'!$A$2:$A$10)*(Calendrier!D$5>='Suivi absences'!$C$2:$C$10)*(Calendrier!D$5<='Suivi absences'!$D$2:$D$10)*('Suivi absences'!$B$2:$B$10="FOR")) -> 0 | E7: =SUMPRODUCT(($A7='Suivi absences'!$A$2:$A$10)*(Calendrier!E$5>='Suivi absences'!$C$2:$C$10)*(Calendrier!E$5<='Suivi absences'!$D$2:$D$10)*('Suivi absences'!$B$2:$B$10="CP"))+ 2*SUMPRODUCT(($A7='Suivi absences'!$A$2:$A$10)*(Calendrier!E$5>='Suivi absences'!$C$2:$C$10)*(Calendrier!E$5<='Suivi absences'!$D$2:$D$10)*('Suivi absences'!$B$2:$B$10="MAL"))+ 3*SUMPRODUCT(($A7='Suivi absences'!$A$2:$A$10)*(Calendrier!E$5>='Suivi absences'!$C$2:$C$10)*(Calendrier!E$5<='Suivi absences'!$D$2:$D$10)*('Suivi absences'!$B$2:$B$10="CMAT"))+ 4*SUMPRODUCT(($A7='Suivi absences'!$A$2:$A$10)*(Calendrier!E$5>='Suivi absences'!$C$2:$C$10)*(Calendrier!E$5<='Suivi absences'!$D$2:$D$10)*('Suivi absences'!$B$2:$B$10="CPA"))+ 5*SUMPRODUCT(($A7='Suivi absences'!$A$2:$A$10)*(Calendrier!E$5>='Suivi absences'!$C$2:$C$10)*(Calendrier!E$5<='Suivi absences'!$D$2:$D$10)*('Suivi absences'!$B$2:$B$10="CPAT"))+ 6*SUMPRODUCT(($A7='Suivi absences'!$A$2:$A$10)*(Calendrier!E$5>='Suivi absences'!$C$2:$C$10)*(Calendrier!E$5<='Suivi absences'!$D$2:$D$10)*('Suivi absences'!$B$2:$B$10="EVF"))+ 7*SUMPRODUCT(($A7='Suivi absences'!$A$2:$A$10)*(Calendrier!E$5>='Suivi absences'!$C$2:$C$10)*(Calendrier!E$5<='Suivi absences'!$D$2:$D$10)*('Suivi absences'!$B$2:$B$10="ABSNR"))+ 8*SUMPRODUCT(($A7='Suivi absences'!$A$2:$A$10)*(Calendrier!E$5>='Suivi absences'!$C$2:$C$10)*(Calendrier!E$5<='Suivi absences'!$D$2:$D$10)*('Suivi absences'!$B$2:$B$10="NJ"))+ 9*SUMPRODUCT(($A7='Suivi absences'!$A$2:$A$10)*(Calendrier!E$5>='Suivi absences'!$C$2:$C$10)*(Calendrier!E$5<='Suivi absences'!$D$2:$D$10)*('Suivi absences'!$B$2:$B$10="FOR")) -> 0 | F7: =SUMPRODUCT(($A7='Suivi absences'!$A$2:$A$10)*(Calendrier!F$5>='Suivi absences'!$C$2:$C$10)*(Calendrier!F$5<='Suivi absences'!$D$2:$D$10)*('Suivi absences'!$B$2:$B$10="CP"))+ 2*SUMPRODUCT(($A7='Suivi absences'!$A$2:$A$10)*(Calendrier!F$5>='Suivi absences'!$C$2:$C$10)*(Calendrier!F$5<='Suivi absences'!$D$2:$D$10)*('Suivi absences'!$B$2:$B$10="MAL"))+ 3*SUMPRODUCT(($A7='Suivi absences'!$A$2:$A$10)*(Calendrier!F$5>='Suivi absences'!$C$2:$C$10)*(Calendrier!F$5<='Suivi absences'!$D$2:$D$10)*('Suivi absences'!$B$2:$B$10="CMAT"))+ 4*SUMPRODUCT(($A7='Suivi absences'!$A$2:$A$10)*(Calendrier!F$5>='Suivi absences'!$C$2:$C$10)*(Calendrier!F$5<='Suivi absences'!$D$2:$D$10)*('Suivi absences'!$B$2:$B$10="CPA"))+ 5*SUMPRODUCT(($A7='Suivi absences'!$A$2:$A$10)*(Calendrier!F$5>='Suivi absences'!$C$2:$C$10)*(Calendrier!F$5<='Suivi absences'!$D$2:$D$10)*('Suivi absences'!$B$2:$B$10="CPAT"))+ 6*SUMPRODUCT(($A7='Suivi absences'!$A$2:$A$10)*(Calendrier!F$5>='Suivi absences'!$C$2:$C$10)*(Calendrier!F$5<='Suivi absences'!$D$2:$D$10)*('Suivi absences'!$B$2:$B$10="EVF"))+ 7*SUMPRODUCT(($A7='Suivi absences'!$A$2:$A$10)*(Calendrier!F$5>='Suivi absences'!$C$2:$C$10)*(Calendrier!F$5<='Suivi absences'!$D$2:$D$10)*('Suivi absences'!$B$2:$B$10="ABSNR"))+ 8*SUMPRODUCT(($A7='Suivi absences'!$A$2:$A$10)*(Calendrier!F$5>='Suivi absences'!$C$2:$C$10)*(Calendrier!F$5<='Suivi absences'!$D$2:$D$10)*('Suivi absences'!$B$2:$B$10="NJ"))+ 9*SUMPRODUCT(($A7='Suivi absences'!$A$2:$A$10)*(Calendrier!F$5>='Suivi absences'!$C$2:$C$10)*(Calendrier!F$5<='Suivi absences'!$D$2:$D$10)*('Suivi absences'!$B$2:$B$10="FOR")) -> 0 | G7: =SUMPRODUCT(($A7='Suivi absences'!$A$2:$A$10)*(Calendrier!G$5>='Suivi absences'!$C$2:$C$10)*(Calendrier!G$5<='Suivi absences'!$D$2:$D$10)*('Suivi absences'!$B$2:$B$10="CP"))+ 2*SUMPRODUCT(($A7='Suivi absences'!$A$2:$A$10)*(Calendrier!G$5>='Suivi absences'!$C$2:$C$10)*(Calendrier!G$5<='Suivi absences'!$D$2:$D$10)*('Suivi absences'!$B$2:$B$10="MAL"))+ 3*SUMPRODUCT(($A7='Suivi absences'!$A$2:$A$10)*(Calendrier!G$5>='Suivi absences'!$C$2:$C$10)*(Calendrier!G$5<='Suivi absences'!$D$2:$D$10)*('Suivi absences'!$B$2:$B$10="CMAT"))+ 4*SUMPRODUCT(($A7='Suivi absences'!$A$2:$A$10)*(Calendrier!G$5>='Suivi absences'!$C$2:$C$10)*(Calendrier!G$5<='Suivi absences'!$D$2:$D$10)*('Suivi absences'!$B$2:$B$10="CPA"))+ 5*SUMPRODUCT(($A7='Suivi absences'!$A$2:$A$10)*(Calendrier!G$5>='Suivi absences'!$C$2:$C$10)*(Calendrier!G$5<='Suivi absences'!$D$2:$D$10)*('Suivi absences'!$B$2:$B$10="CPAT"))+ 6*SUMPRODUCT(($A7='Suivi absences'!$A$2:$A$10)*(Calendrier!G$5>='Suivi absences'!$C$2:$C$10)*(Calendrier!G$5<='Suivi absences'!$D$2:$D$10)*('Suivi absences'!$B$2:$B$10="EVF"))+ 7*SUMPRODUCT(($A7='Suivi absences'!$A$2:$A$10)*(Calendrier!G$5>='Suivi absences'!$C$2:$C$10)*(Calendrier!G$5<='Suivi absences'!$D$2:$D$10)*('Suivi absences'!$B$2:$B$10="ABSNR"))+ 8*SUMPRODUCT(($A7='Suivi absences'!$A$2:$A$10)*(Calendrier!G$5>='Suivi absences'!$C$2:$C$10)*(Calendrier!G$5<='Suivi absences'!$D$2:$D$10)*('Suivi absences'!$B$2:$B$10="NJ"))+ 9*SUMPRODUCT(($A7='Suivi absences'!$A$2:$A$10)*(Calendrier!G$5>='Suivi absences'!$C$2:$C$10)*(Calendrier!G$5<='Suivi absences'!$D$2:$D$10)*('Suivi absences'!$B$2:$B$10="FOR")) -> 1 | H7: =SUMPRODUCT(($A7='Suivi absences'!$A$2:$A$10)*(Calendrier!H$5>='Suivi absences'!$C$2:$C$10)*(Calendrier!H$5<='Suivi absences'!$D$2:$D$10)*('Suivi absences'!$B$2:$B$10="CP"))+ 2*SUMPRODUCT(($A7='Suivi absences'!$A$2:$A$10)*(Calendrier!H$5>='Suivi absences'!$C$2:$C$10)*(Calendrier!H$5<='Suivi absences'!$D$2:$D$10)*('Suivi absences'!$B$2:$B$10="MAL"))+ 3*SUMPRODUCT(($A7='Suivi absences'!$A$2:$A$10)*(Calendrier!H$5>='Suivi absences'!$C$2:$C$10)*(Calendrier!H$5<='Suivi absences'!$D$2:$D$10)*('Suivi absences'!$B$2:$B$10="CMAT"))+ 4*SUMPRODUCT(($A7='Suivi absences'!$A$2:$A$10)*(Calendrier!H$5>='Suivi absences'!$C$2:$C$10)*(Calendrier!H$5<='Suivi absences'!$D$2:$D$10)*('Suivi absences'!$B$2:$B$10="CPA"))+ 5*SUMPRODUCT(($A7='Suivi absences'!$A$2:$A$10)*(Calendrier!H$5>='Suivi absences'!$C$2:$C$10)*(Calendrier!H$5<='Suivi absences'!$D$2:$D$10)*('Suivi absences'!$B$2:$B$10="CPAT"))+ 6*SUMPRODUCT(($A7='Suivi absences'!$A$2:$A$10)*(Calendrier!H$5>='Suivi absences'!$C$2:$C$10)*(Calendrier!H$5<='Suivi absences'!$D$2:$D$10)*('Suivi absences'!$B$2:$B$10="EVF"))+ 7*SUMPRODUCT(($A7='Suivi absences'!$A$2:$A$10)*(Calendrier!H$5>='Suivi absences'!$C$2:$C$10)*(Calendrier!H$5<='Suivi absences'!$D$2:$D$10)*('Suivi absences'!$B$2:$B$10="ABSNR"))+ 8*SUMPRODUCT(($A7='Suivi absences'!$A$2:$A$10)*(Calendrier!H$5>='Suivi absences'!$C$2:$C$10)*(Calendrier!H$5<='Suivi absences'!$D$2:$D$10)*('Suivi absences'!$B$2:$B$10="NJ"))+ 9*SUMPRODUCT(($A7='Suivi absences'!$A$2:$A$10)*(Calendrier!H$5>='Suivi absences'!$C$2:$C$10)*(Calendrier!H$5<='Suivi absences'!$D$2:$D$10)*('Suivi absences'!$B$2:$B$10="FOR")) -> 1 | I7: =SUMPRODUCT(($A7='Suivi absences'!$A$2:$A$10)*(Calendrier!I$5>='Suivi absences'!$C$2:$C$10)*(Calendrier!I$5<='Suivi absences'!$D$2:$D$10)*('Suivi absences'!$B$2:$B$10="CP"))+ 2*SUMPRODUCT(($A7='Suivi absences'!$A$2:$A$10)*(Calendrier!I$5>='Suivi absences'!$C$2:$C$10)*(Calendrier!I$5<='Suivi absences'!$D$2:$D$10)*('Suivi absences'!$B$2:$B$10="MAL"))+ 3*SUMPRODUCT(($A7='Suivi absences'!$A$2:$A$10)*(Calendrier!I$5>='Suivi absences'!$C$2:$C$10)*(Calendrier!I$5<='Suivi absences'!$D$2:$D$10)*('Suivi absences'!$B$2:$B$10="CMAT"))+ 4*SUMPRODUCT(($A7='Suivi absences'!$A$2:$A$10)*(Calendrier!I$5>='Suivi absences'!$C$2:$C$10)*(Calendrier!I$5<='Suivi absences'!$D$2:$D$10)*('Suivi absences'!$B$2:$B$10="CPA"))+ 5*SUMPRODUCT(($A7='Suivi absences'!$A$2:$A$10)*(Calendrier!I$5>='Suivi absences'!$C$2:$C$10)*(Calendrier!I$5<='Suivi absences'!$D$2:$D$10)*('Suivi absences'!$B$2:$B$10="CPAT"))+ 6*SUMPRODUCT(($A7='Suivi absences'!$A$2:$A$10)*(Calendrier!I$5>='Suivi absences'!$C$2:$C$10)*(Calendrier!I$5<='Suivi absences'!$D$2:$D$10)*('Suivi absences'!$B$2:$B$10="EVF"))+ 7*SUMPRODUCT(($A7='Suivi absences'!$A$2:$A$10)*(Calendrier!I$5>='Suivi absences'!$C$2:$C$10)*(Calendrier!I$5<='Suivi absences'!$D$2:$D$10)*('Suivi absences'!$B$2:$B$10="ABSNR"))+ 8*SUMPRODUCT(($A7='Suivi absences'!$A$2:$A$10)*(Calendrier!I$5>='Suivi absences'!$C$2:$C$10)*(Calendrier!I$5<='Suivi absences'!$D$2:$D$10)*('Suivi absences'!$B$2:$B$10="NJ"))+ 9*SUMPRODUCT(($A7='Suivi absences'!$A$2:$A$10)*(Calendrier!I$5>='Suivi absences'!$C$2:$C$10)*(Calendrier!I$5<='Suivi absences'!$D$2:$D$10)*('Suivi absences'!$B$2:$B$10="FOR")) -> 1 | ... AF7: =SUMPRODUCT(($A7='Suivi absences'!$A$2:$A$10)*(Calendrier!AF$5>='Suivi absences'!$C$2:$C$10)*(Calendrier!AF$5<='Suivi absences'!$D$2:$D$10)*('Suivi absences'!$B$2:$B$10="CP"))+ 2*SUMPRODUCT(($A7='Suivi absences'!$A$2:$A$10)*(Calendrier!AF$5>='Suivi absences'!$C$2:$C$10)*(Calendrier!AF$5<='Suivi absences'!$D$2:$D$10)*('Suivi absences'!$B$2:$B$10="MAL"))+ 3*SUMPRODUCT(($A7='Suivi absences'!$A$2:$A$10)*(Calendrier!AF$5>='Suivi absences'!$C$2:$C$10)*(Calendrier!AF$5<='Suivi absences'!$D$2:$D$10)*('Suivi absences'!$B$2:$B$10="CMAT"))+ 4*SUMPRODUCT(($A7='Suivi absences'!$A$2:$A$10)*(Calendrier!AF$5>='Suivi absences'!$C$2:$C$10)*(Calendrier!AF$5<='Suivi absences'!$D$2:$D$10)*('Suivi absences'!$B$2:$B$10="CPA"))+ 5*SUMPRODUCT(($A7='Suivi absences'!$A$2:$A$10)*(Calendrier!AF$5>='Suivi absences'!$C$2:$C$10)*(Calendrier!AF$5<='Suivi absences'!$D$2:$D$10)*('Suivi absences'!$B$2:$B$10="CPAT"))+ 6*SUMPRODUCT(($A7='Suivi absences'!$A$2:$A$10)*(Calendrier!AF$5>='Suivi absences'!$C$2:$C$10)*(Calendrier!AF$5<='Suivi absences'!$D$2:$D$10)*('Suivi absences'!$B$2:$B$10="EVF"))+ 7*SUMPRODUCT(($A7='Suivi absences'!$A$2:$A$10)*(Calendrier!AF$5>='Suivi absences'!$C$2:$C$10)*(Calendrier!AF$5<='Suivi absences'!$D$2:$D$10)*('Suivi absences'!$B$2:$B$10="ABSNR"))+ 8*SUMPRODUCT(($A7='Suivi absences'!$A$2:$A$10)*(Calendrier!AF$5>='Suivi absences'!$C$2:$C$10)*(Calendrier!AF$5<='Suivi absences'!$D$2:$D$10)*('Suivi absences'!$B$2:$B$10="NJ"))+ 9*SUMPRODUCT(($A7='Suivi absences'!$A$2:$A$10)*(Calendrier!AF$5>='Suivi absences'!$C$2:$C$10)*(Calendrier!AF$5<='Suivi absences'!$D$2:$D$10)*('Suivi absences'!$B$2:$B$10="FOR")) -> 0
A8: Johan | B8: =SUMPRODUCT(($A8='Suivi absences'!$A$2:$A$10)*(Calendrier!B$5>='Suivi absences'!$C$2:$C$10)*(Calendrier!B$5<='Suivi absences'!$D$2:$D$10)*('Suivi absences'!$B$2:$B$10="CP"))+ 2*SUMPRODUCT(($A8='Suivi absences'!$A$2:$A$10)*(Calendrier!B$5>='Suivi absences'!$C$2:$C$10)*(Calendrier!B$5<='Suivi absences'!$D$2:$D$10)*('Suivi absences'!$B$2:$B$10="MAL"))+ 3*SUMPRODUCT(($A8='Suivi absences'!$A$2:$A$10)*(Calendrier!B$5>='Suivi absences'!$C$2:$C$10)*(Calendrier!B$5<='Suivi absences'!$D$2:$D$10)*('Suivi absences'!$B$2:$B$10="CMAT"))+ 4*SUMPRODUCT(($A8='Suivi absences'!$A$2:$A$10)*(Calendrier!B$5>='Suivi absences'!$C$2:$C$10)*(Calendrier!B$5<='Suivi absences'!$D$2:$D$10)*('Suivi absences'!$B$2:$B$10="CPA"))+ 5*SUMPRODUCT(($A8='Suivi absences'!$A$2:$A$10)*(Calendrier!B$5>='Suivi absences'!$C$2:$C$10)*(Calendrier!B$5<='Suivi absences'!$D$2:$D$10)*('Suivi absences'!$B$2:$B$10="CPAT"))+ 6*SUMPRODUCT(($A8='Suivi absences'!$A$2:$A$10)*(Calendrier!B$5>='Suivi absences'!$C$2:$C$10)*(Calendrier!B$5<='Suivi absences'!$D$2:$D$10)*('Suivi absences'!$B$2:$B$10="EVF"))+ 7*SUMPRODUCT(($A8='Suivi absences'!$A$2:$A$10)*(Calendrier!B$5>='Suivi absences'!$C$2:$C$10)*(Calendrier!B$5<='Suivi absences'!$D$2:$D$10)*('Suivi absences'!$B$2:$B$10="ABSNR"))+ 8*SUMPRODUCT(($A8='Suivi absences'!$A$2:$A$10)*(Calendrier!B$5>='Suivi absences'!$C$2:$C$10)*(Calendrier!B$5<='Suivi absences'!$D$2:$D$10)*('Suivi absences'!$B$2:$B$10="NJ"))+ 9*SUMPRODUCT(($A8='Suivi absences'!$A$2:$A$10)*(Calendrier!B$5>='Suivi absences'!$C$2:$C$10)*(Calendrier!B$5<='Suivi absences'!$D$2:$D$10)*('Suivi absences'!$B$2:$B$10="FOR")) -> 0 | C8: =SUMPRODUCT(($A8='Suivi absences'!$A$2:$A$10)*(Calendrier!C$5>='Suivi absences'!$C$2:$C$10)*(Calendrier!C$5<='Suivi absences'!$D$2:$D$10)*('Suivi absences'!$B$2:$B$10="CP"))+ 2*SUMPRODUCT(($A8='Suivi absences'!$A$2:$A$10)*(Calendrier!C$5>='Suivi absences'!$C$2:$C$10)*(Calendrier!C$5<='Suivi absences'!$D$2:$D$10)*('Suivi absences'!$B$2:$B$10="MAL"))+ 3*SUMPRODUCT(($A8='Suivi absences'!$A$2:$A$10)*(Calendrier!C$5>='Suivi absences'!$C$2:$C$10)*(Calendrier!C$5<='Suivi absences'!$D$2:$D$10)*('Suivi absences'!$B$2:$B$10="CMAT"))+ 4*SUMPRODUCT(($A8='Suivi absences'!$A$2:$A$10)*(Calendrier!C$5>='Suivi absences'!$C$2:$C$10)*(Calendrier!C$5<='Suivi absences'!$D$2:$D$10)*('Suivi absences'!$B$2:$B$10="CPA"))+ 5*SUMPRODUCT(($A8='Suivi absences'!$A$2:$A$10)*(Calendrier!C$5>='Suivi absences'!$C$2:$C$10)*(Calendrier!C$5<='Suivi absences'!$D$2:$D$10)*('Suivi absences'!$B$2:$B$10="CPAT"))+ 6*SUMPRODUCT(($A8='Suivi absences'!$A$2:$A$10)*(Calendrier!C$5>='Suivi absences'!$C$2:$C$10)*(Calendrier!C$5<='Suivi absences'!$D$2:$D$10)*('Suivi absences'!$B$2:$B$10="EVF"))+ 7*SUMPRODUCT(($A8='Suivi absences'!$A$2:$A$10)*(Calendrier!C$5>='Suivi absences'!$C$2:$C$10)*(Calendrier!C$5<='Suivi absences'!$D$2:$D$10)*('Suivi absences'!$B$2:$B$10="ABSNR"))+ 8*SUMPRODUCT(($A8='Suivi absences'!$A$2:$A$10)*(Calendrier!C$5>='Suivi absences'!$C$2:$C$10)*(Calendrier!C$5<='Suivi absences'!$D$2:$D$10)*('Suivi absences'!$B$2:$B$10="NJ"))+ 9*SUMPRODUCT(($A8='Suivi absences'!$A$2:$A$10)*(Calendrier!C$5>='Suivi absences'!$C$2:$C$10)*(Calendrier!C$5<='Suivi absences'!$D$2:$D$10)*('Suivi absences'!$B$2:$B$10="FOR")) -> 0 | D8: =SUMPRODUCT(($A8='Suivi absences'!$A$2:$A$10)*(Calendrier!D$5>='Suivi absences'!$C$2:$C$10)*(Calendrier!D$5<='Suivi absences'!$D$2:$D$10)*('Suivi absences'!$B$2:$B$10="CP"))+ 2*SUMPRODUCT(($A8='Suivi absences'!$A$2:$A$10)*(Calendrier!D$5>='Suivi absences'!$C$2:$C$10)*(Calendrier!D$5<='Suivi absences'!$D$2:$D$10)*('Suivi absences'!$B$2:$B$10="MAL"))+ 3*SUMPRODUCT(($A8='Suivi absences'!$A$2:$A$10)*(Calendrier!D$5>='Suivi absences'!$C$2:$C$10)*(Calendrier!D$5<='Suivi absences'!$D$2:$D$10)*('Suivi absences'!$B$2:$B$10="CMAT"))+ 4*SUMPRODUCT(($A8='Suivi absences'!$A$2:$A$10)*(Calendrier!D$5>='Suivi absences'!$C$2:$C$10)*(Calendrier!D$5<='Suivi absences'!$D$2:$D$10)*('Suivi absences'!$B$2:$B$10="CPA"))+ 5*SUMPRODUCT(($A8='Suivi absences'!$A$2:$A$10)*(Calendrier!D$5>='Suivi absences'!$C$2:$C$10)*(Calendrier!D$5<='Suivi absences'!$D$2:$D$10)*('Suivi absences'!$B$2:$B$10="CPAT"))+ 6*SUMPRODUCT(($A8='Suivi absences'!$A$2:$A$10)*(Calendrier!D$5>='Suivi absences'!$C$2:$C$10)*(Calendrier!D$5<='Suivi absences'!$D$2:$D$10)*('Suivi absences'!$B$2:$B$10="EVF"))+ 7*SUMPRODUCT(($A8='Suivi absences'!$A$2:$A$10)*(Calendrier!D$5>='Suivi absences'!$C$2:$C$10)*(Calendrier!D$5<='Suivi absences'!$D$2:$D$10)*('Suivi absences'!$B$2:$B$10="ABSNR"))+ 8*SUMPRODUCT(($A8='Suivi absences'!$A$2:$A$10)*(Calendrier!D$5>='Suivi absences'!$C$2:$C$10)*(Calendrier!D$5<='Suivi absences'!$D$2:$D$10)*('Suivi absences'!$B$2:$B$10="NJ"))+ 9*SUMPRODUCT(($A8='Suivi absences'!$A$2:$A$10)*(Calendrier!D$5>='Suivi absences'!$C$2:$C$10)*(Calendrier!D$5<='Suivi absences'!$D$2:$D$10)*('Suivi absences'!$B$2:$B$10="FOR")) -> 0 | E8: =SUMPRODUCT(($A8='Suivi absences'!$A$2:$A$10)*(Calendrier!E$5>='Suivi absences'!$C$2:$C$10)*(Calendrier!E$5<='Suivi absences'!$D$2:$D$10)*('Suivi absences'!$B$2:$B$10="CP"))+ 2*SUMPRODUCT(($A8='Suivi absences'!$A$2:$A$10)*(Calendrier!E$5>='Suivi absences'!$C$2:$C$10)*(Calendrier!E$5<='Suivi absences'!$D$2:$D$10)*('Suivi absences'!$B$2:$B$10="MAL"))+ 3*SUMPRODUCT(($A8='Suivi absences'!$A$2:$A$10)*(Calendrier!E$5>='Suivi absences'!$C$2:$C$10)*(Calendrier!E$5<='Suivi absences'!$D$2:$D$10)*('Suivi absences'!$B$2:$B$10="CMAT"))+ 4*SUMPRODUCT(($A8='Suivi absences'!$A$2:$A$10)*(Calendrier!E$5>='Suivi absences'!$C$2:$C$10)*(Calendrier!E$5<='Suivi absences'!$D$2:$D$10)*('Suivi absences'!$B$2:$B$10="CPA"))+ 5*SUMPRODUCT(($A8='Suivi absences'!$A$2:$A$10)*(Calendrier!E$5>='Suivi absences'!$C$2:$C$10)*(Calendrier!E$5<='Suivi absences'!$D$2:$D$10)*('Suivi absences'!$B$2:$B$10="CPAT"))+ 6*SUMPRODUCT(($A8='Suivi absences'!$A$2:$A$10)*(Calendrier!E$5>='Suivi absences'!$C$2:$C$10)*(Calendrier!E$5<='Suivi absences'!$D$2:$D$10)*('Suivi absences'!$B$2:$B$10="EVF"))+ 7*SUMPRODUCT(($A8='Suivi absences'!$A$2:$A$10)*(Calendrier!E$5>='Suivi absences'!$C$2:$C$10)*(Calendrier!E$5<='Suivi absences'!$D$2:$D$10)*('Suivi absences'!$B$2:$B$10="ABSNR"))+ 8*SUMPRODUCT(($A8='Suivi absences'!$A$2:$A$10)*(Calendrier!E$5>='Suivi absences'!$C$2:$C$10)*(Calendrier!E$5<='Suivi absences'!$D$2:$D$10)*('Suivi absences'!$B$2:$B$10="NJ"))+ 9*SUMPRODUCT(($A8='Suivi absences'!$A$2:$A$10)*(Calendrier!E$5>='Suivi absences'!$C$2:$C$10)*(Calendrier!E$5<='Suivi absences'!$D$2:$D$10)*('Suivi absences'!$B$2:$B$10="FOR")) -> 0 | F8: =SUMPRODUCT(($A8='Suivi absences'!$A$2:$A$10)*(Calendrier!F$5>='Suivi absences'!$C$2:$C$10)*(Calendrier!F$5<='Suivi absences'!$D$2:$D$10)*('Suivi absences'!$B$2:$B$10="CP"))+ 2*SUMPRODUCT(($A8='Suivi absences'!$A$2:$A$10)*(Calendrier!F$5>='Suivi absences'!$C$2:$C$10)*(Calendrier!F$5<='Suivi absences'!$D$2:$D$10)*('Suivi absences'!$B$2:$B$10="MAL"))+ 3*SUMPRODUCT(($A8='Suivi absences'!$A$2:$A$10)*(Calendrier!F$5>='Suivi absences'!$C$2:$C$10)*(Calendrier!F$5<='Suivi absences'!$D$2:$D$10)*('Suivi absences'!$B$2:$B$10="CMAT"))+ 4*SUMPRODUCT(($A8='Suivi absences'!$A$2:$A$10)*(Calendrier!F$5>='Suivi absences'!$C$2:$C$10)*(Calendrier!F$5<='Suivi absences'!$D$2:$D$10)*('Suivi absences'!$B$2:$B$10="CPA"))+ 5*SUMPRODUCT(($A8='Suivi absences'!$A$2:$A$10)*(Calendrier!F$5>='Suivi absences'!$C$2:$C$10)*(Calendrier!F$5<='Suivi absences'!$D$2:$D$10)*('Suivi absences'!$B$2:$B$10="CPAT"))+ 6*SUMPRODUCT(($A8='Suivi absences'!$A$2:$A$10)*(Calendrier!F$5>='Suivi absences'!$C$2:$C$10)*(Calendrier!F$5<='Suivi absences'!$D$2:$D$10)*('Suivi absences'!$B$2:$B$10="EVF"))+ 7*SUMPRODUCT(($A8='Suivi absences'!$A$2:$A$10)*(Calendrier!F$5>='Suivi absences'!$C$2:$C$10)*(Calendrier!F$5<='Suivi absences'!$D$2:$D$10)*('Suivi absences'!$B$2:$B$10="ABSNR"))+ 8*SUMPRODUCT(($A8='Suivi absences'!$A$2:$A$10)*(Calendrier!F$5>='Suivi absences'!$C$2:$C$10)*(Calendrier!F$5<='Suivi absences'!$D$2:$D$10)*('Suivi absences'!$B$2:$B$10="NJ"))+ 9*SUMPRODUCT(($A8='Suivi absences'!$A$2:$A$10)*(Calendrier!F$5>='Suivi absences'!$C$2:$C$10)*(Calendrier!F$5<='Suivi absences'!$D$2:$D$10)*('Suivi absences'!$B$2:$B$10="FOR")) -> 0 | G8: =SUMPRODUCT(($A8='Suivi absences'!$A$2:$A$10)*(Calendrier!G$5>='Suivi absences'!$C$2:$C$10)*(Calendrier!G$5<='Suivi absences'!$D$2:$D$10)*('Suivi absences'!$B$2:$B$10="CP"))+ 2*SUMPRODUCT(($A8='Suivi absences'!$A$2:$A$10)*(Calendrier!G$5>='Suivi absences'!$C$2:$C$10)*(Calendrier!G$5<='Suivi absences'!$D$2:$D$10)*('Suivi absences'!$B$2:$B$10="MAL"))+ 3*SUMPRODUCT(($A8='Suivi absences'!$A$2:$A$10)*(Calendrier!G$5>='Suivi absences'!$C$2:$C$10)*(Calendrier!G$5<='Suivi absences'!$D$2:$D$10)*('Suivi absences'!$B$2:$B$10="CMAT"))+ 4*SUMPRODUCT(($A8='Suivi absences'!$A$2:$A$10)*(Calendrier!G$5>='Suivi absences'!$C$2:$C$10)*(Calendrier!G$5<='Suivi absences'!$D$2:$D$10)*('Suivi absences'!$B$2:$B$10="CPA"))+ 5*SUMPRODUCT(($A8='Suivi absences'!$A$2:$A$10)*(Calendrier!G$5>='Suivi absences'!$C$2:$C$10)*(Calendrier!G$5<='Suivi absences'!$D$2:$D$10)*('Suivi absences'!$B$2:$B$10="CPAT"))+ 6*SUMPRODUCT(($A8='Suivi absences'!$A$2:$A$10)*(Calendrier!G$5>='Suivi absences'!$C$2:$C$10)*(Calendrier!G$5<='Suivi absences'!$D$2:$D$10)*('Suivi absences'!$B$2:$B$10="EVF"))+ 7*SUMPRODUCT(($A8='Suivi absences'!$A$2:$A$10)*(Calendrier!G$5>='Suivi absences'!$C$2:$C$10)*(Calendrier!G$5<='Suivi absences'!$D$2:$D$10)*('Suivi absences'!$B$2:$B$10="ABSNR"))+ 8*SUMPRODUCT(($A8='Suivi absences'!$A$2:$A$10)*(Calendrier!G$5>='Suivi absences'!$C$2:$C$10)*(Calendrier!G$5<='Suivi absences'!$D$2:$D$10)*('Suivi absences'!$B$2:$B$10="NJ"))+ 9*SUMPRODUCT(($A8='Suivi absences'!$A$2:$A$10)*(Calendrier!G$5>='Suivi absences'!$C$2:$C$10)*(Calendrier!G$5<='Suivi absences'!$D$2:$D$10)*('Suivi absences'!$B$2:$B$10="FOR")) -> 0 | H8: =SUMPRODUCT(($A8='Suivi absences'!$A$2:$A$10)*(Calendrier!H$5>='Suivi absences'!$C$2:$C$10)*(Calendrier!H$5<='Suivi absences'!$D$2:$D$10)*('Suivi absences'!$B$2:$B$10="CP"))+ 2*SUMPRODUCT(($A8='Suivi absences'!$A$2:$A$10)*(Calendrier!H$5>='Suivi absences'!$C$2:$C$10)*(Calendrier!H$5<='Suivi absences'!$D$2:$D$10)*('Suivi absences'!$B$2:$B$10="MAL"))+ 3*SUMPRODUCT(($A8='Suivi absences'!$A$2:$A$10)*(Calendrier!H$5>='Suivi absences'!$C$2:$C$10)*(Calendrier!H$5<='Suivi absences'!$D$2:$D$10)*('Suivi absences'!$B$2:$B$10="CMAT"))+ 4*SUMPRODUCT(($A8='Suivi absences'!$A$2:$A$10)*(Calendrier!H$5>='Suivi absences'!$C$2:$C$10)*(Calendrier!H$5<='Suivi absences'!$D$2:$D$10)*('Suivi absences'!$B$2:$B$10="CPA"))+ 5*SUMPRODUCT(($A8='Suivi absences'!$A$2:$A$10)*(Calendrier!H$5>='Suivi absences'!$C$2:$C$10)*(Calendrier!H$5<='Suivi absences'!$D$2:$D$10)*('Suivi absences'!$B$2:$B$10="CPAT"))+ 6*SUMPRODUCT(($A8='Suivi absences'!$A$2:$A$10)*(Calendrier!H$5>='Suivi absences'!$C$2:$C$10)*(Calendrier!H$5<='Suivi absences'!$D$2:$D$10)*('Suivi absences'!$B$2:$B$10="EVF"))+ 7*SUMPRODUCT(($A8='Suivi absences'!$A$2:$A$10)*(Calendrier!H$5>='Suivi absences'!$C$2:$C$10)*(Calendrier!H$5<='Suivi absences'!$D$2:$D$10)*('Suivi absences'!$B$2:$B$10="ABSNR"))+ 8*SUMPRODUCT(($A8='Suivi absences'!$A$2:$A$10)*(Calendrier!H$5>='Suivi absences'!$C$2:$C$10)*(Calendrier!H$5<='Suivi absences'!$D$2:$D$10)*('Suivi absences'!$B$2:$B$10="NJ"))+ 9*SUMPRODUCT(($A8='Suivi absences'!$A$2:$A$10)*(Calendrier!H$5>='Suivi absences'!$C$2:$C$10)*(Calendrier!H$5<='Suivi absences'!$D$2:$D$10)*('Suivi absences'!$B$2:$B$10="FOR")) -> 0 | I8: =SUMPRODUCT(($A8='Suivi absences'!$A$2:$A$10)*(Calendrier!I$5>='Suivi absences'!$C$2:$C$10)*(Calendrier!I$5<='Suivi absences'!$D$2:$D$10)*('Suivi absences'!$B$2:$B$10="CP"))+ 2*SUMPRODUCT(($A8='Suivi absences'!$A$2:$A$10)*(Calendrier!I$5>='Suivi absences'!$C$2:$C$10)*(Calendrier!I$5<='Suivi absences'!$D$2:$D$10)*('Suivi absences'!$B$2:$B$10="MAL"))+ 3*SUMPRODUCT(($A8='Suivi absences'!$A$2:$A$10)*(Calendrier!I$5>='Suivi absences'!$C$2:$C$10)*(Calendrier!I$5<='Suivi absences'!$D$2:$D$10)*('Suivi absences'!$B$2:$B$10="CMAT"))+ 4*SUMPRODUCT(($A8='Suivi absences'!$A$2:$A$10)*(Calendrier!I$5>='Suivi absences'!$C$2:$C$10)*(Calendrier!I$5<='Suivi absences'!$D$2:$D$10)*('Suivi absences'!$B$2:$B$10="CPA"))+ 5*SUMPRODUCT(($A8='Suivi absences'!$A$2:$A$10)*(Calendrier!I$5>='Suivi absences'!$C$2:$C$10)*(Calendrier!I$5<='Suivi absences'!$D$2:$D$10)*('Suivi absences'!$B$2:$B$10="CPAT"))+ 6*SUMPRODUCT(($A8='Suivi absences'!$A$2:$A$10)*(Calendrier!I$5>='Suivi absences'!$C$2:$C$10)*(Calendrier!I$5<='Suivi absences'!$D$2:$D$10)*('Suivi absences'!$B$2:$B$10="EVF"))+ 7*SUMPRODUCT(($A8='Suivi absences'!$A$2:$A$10)*(Calendrier!I$5>='Suivi absences'!$C$2:$C$10)*(Calendrier!I$5<='Suivi absences'!$D$2:$D$10)*('Suivi absences'!$B$2:$B$10="ABSNR"))+ 8*SUMPRODUCT(($A8='Suivi absences'!$A$2:$A$10)*(Calendrier!I$5>='Suivi absences'!$C$2:$C$10)*(Calendrier!I$5<='Suivi absences'!$D$2:$D$10)*('Suivi absences'!$B$2:$B$10="NJ"))+ 9*SUMPRODUCT(($A8='Suivi absences'!$A$2:$A$10)*(Calendrier!I$5>='Suivi absences'!$C$2:$C$10)*(Calendrier!I$5<='Suivi absences'!$D$2:$D$10)*('Suivi absences'!$B$2:$B$10="FOR")) -> 0 | ... AF8: =SUMPRODUCT(($A8='Suivi absences'!$A$2:$A$10)*(Calendrier!AF$5>='Suivi absences'!$C$2:$C$10)*(Calendrier!AF$5<='Suivi absences'!$D$2:$D$10)*('Suivi absences'!$B$2:$B$10="CP"))+ 2*SUMPRODUCT(($A8='Suivi absences'!$A$2:$A$10)*(Calendrier!AF$5>='Suivi absences'!$C$2:$C$10)*(Calendrier!AF$5<='Suivi absences'!$D$2:$D$10)*('Suivi absences'!$B$2:$B$10="MAL"))+ 3*SUMPRODUCT(($A8='Suivi absences'!$A$2:$A$10)*(Calendrier!AF$5>='Suivi absences'!$C$2:$C$10)*(Calendrier!AF$5<='Suivi absences'!$D$2:$D$10)*('Suivi absences'!$B$2:$B$10="CMAT"))+ 4*SUMPRODUCT(($A8='Suivi absences'!$A$2:$A$10)*(Calendrier!AF$5>='Suivi absences'!$C$2:$C$10)*(Calendrier!AF$5<='Suivi absences'!$D$2:$D$10)*('Suivi absences'!$B$2:$B$10="CPA"))+ 5*SUMPRODUCT(($A8='Suivi absences'!$A$2:$A$10)*(Calendrier!AF$5>='Suivi absences'!$C$2:$C$10)*(Calendrier!AF$5<='Suivi absences'!$D$2:$D$10)*('Suivi absences'!$B$2:$B$10="CPAT"))+ 6*SUMPRODUCT(($A8='Suivi absences'!$A$2:$A$10)*(Calendrier!AF$5>='Suivi absences'!$C$2:$C$10)*(Calendrier!AF$5<='Suivi absences'!$D$2:$D$10)*('Suivi absences'!$B$2:$B$10="EVF"))+ 7*SUMPRODUCT(($A8='Suivi absences'!$A$2:$A$10)*(Calendrier!AF$5>='Suivi absences'!$C$2:$C$10)*(Calendrier!AF$5<='Suivi absences'!$D$2:$D$10)*('Suivi absences'!$B$2:$B$10="ABSNR"))+ 8*SUMPRODUCT(($A8='Suivi absences'!$A$2:$A$10)*(Calendrier!AF$5>='Suivi absences'!$C$2:$C$10)*(Calendrier!AF$5<='Suivi absences'!$D$2:$D$10)*('Suivi absences'!$B$2:$B$10="NJ"))+ 9*SUMPRODUCT(($A8='Suivi absences'!$A$2:$A$10)*(Calendrier!AF$5>='Suivi absences'!$C$2:$C$10)*(Calendrier!AF$5<='Suivi absences'!$D$2:$D$10)*('Suivi absences'!$B$2:$B$10="FOR")) -> 0
A9: Mathias | B9: =SUMPRODUCT(($A9='Suivi absences'!$A$2:$A$10)*(Calendrier!B$5>='Suivi absences'!$C$2:$C$10)*(Calendrier!B$5<='Suivi absences'!$D$2:$D$10)*('Suivi absences'!$B$2:$B$10="CP"))+ 2*SUMPRODUCT(($A9='Suivi absences'!$A$2:$A$10)*(Calendrier!B$5>='Suivi absences'!$C$2:$C$10)*(Calendrier!B$5<='Suivi absences'!$D$2:$D$10)*('Suivi absences'!$B$2:$B$10="MAL"))+ 3*SUMPRODUCT(($A9='Suivi absences'!$A$2:$A$10)*(Calendrier!B$5>='Suivi absences'!$C$2:$C$10)*(Calendrier!B$5<='Suivi absences'!$D$2:$D$10)*('Suivi absences'!$B$2:$B$10="CMAT"))+ 4*SUMPRODUCT(($A9='Suivi absences'!$A$2:$A$10)*(Calendrier!B$5>='Suivi absences'!$C$2:$C$10)*(Calendrier!B$5<='Suivi absences'!$D$2:$D$10)*('Suivi absences'!$B$2:$B$10="CPA"))+ 5*SUMPRODUCT(($A9='Suivi absences'!$A$2:$A$10)*(Calendrier!B$5>='Suivi absences'!$C$2:$C$10)*(Calendrier!B$5<='Suivi absences'!$D$2:$D$10)*('Suivi absences'!$B$2:$B$10="CPAT"))+ 6*SUMPRODUCT(($A9='Suivi absences'!$A$2:$A$10)*(Calendrier!B$5>='Suivi absences'!$C$2:$C$10)*(Calendrier!B$5<='Suivi absences'!$D$2:$D$10)*('Suivi absences'!$B$2:$B$10="EVF"))+ 7*SUMPRODUCT(($A9='Suivi absences'!$A$2:$A$10)*(Calendrier!B$5>='Suivi absences'!$C$2:$C$10)*(Calendrier!B$5<='Suivi absences'!$D$2:$D$10)*('Suivi absences'!$B$2:$B$10="ABSNR"))+ 8*SUMPRODUCT(($A9='Suivi absences'!$A$2:$A$10)*(Calendrier!B$5>='Suivi absences'!$C$2:$C$10)*(Calendrier!B$5<='Suivi absences'!$D$2:$D$10)*('Suivi absences'!$B$2:$B$10="NJ"))+ 9*SUMPRODUCT(($A9='Suivi absences'!$A$2:$A$10)*(Calendrier!B$5>='Suivi absences'!$C$2:$C$10)*(Calendrier!B$5<='Suivi absences'!$D$2:$D$10)*('Suivi absences'!$B$2:$B$10="FOR")) -> 0 | C9: =SUMPRODUCT(($A9='Suivi absences'!$A$2:$A$10)*(Calendrier!C$5>='Suivi absences'!$C$2:$C$10)*(Calendrier!C$5<='Suivi absences'!$D$2:$D$10)*('Suivi absences'!$B$2:$B$10="CP"))+ 2*SUMPRODUCT(($A9='Suivi absences'!$A$2:$A$10)*(Calendrier!C$5>='Suivi absences'!$C$2:$C$10)*(Calendrier!C$5<='Suivi absences'!$D$2:$D$10)*('Suivi absences'!$B$2:$B$10="MAL"))+ 3*SUMPRODUCT(($A9='Suivi absences'!$A$2:$A$10)*(Calendrier!C$5>='Suivi absences'!$C$2:$C$10)*(Calendrier!C$5<='Suivi absences'!$D$2:$D$10)*('Suivi absences'!$B$2:$B$10="CMAT"))+ 4*SUMPRODUCT(($A9='Suivi absences'!$A$2:$A$10)*(Calendrier!C$5>='Suivi absences'!$C$2:$C$10)*(Calendrier!C$5<='Suivi absences'!$D$2:$D$10)*('Suivi absences'!$B$2:$B$10="CPA"))+ 5*SUMPRODUCT(($A9='Suivi absences'!$A$2:$A$10)*(Calendrier!C$5>='Suivi absences'!$C$2:$C$10)*(Calendrier!C$5<='Suivi absences'!$D$2:$D$10)*('Suivi absences'!$B$2:$B$10="CPAT"))+ 6*SUMPRODUCT(($A9='Suivi absences'!$A$2:$A$10)*(Calendrier!C$5>='Suivi absences'!$C$2:$C$10)*(Calendrier!C$5<='Suivi absences'!$D$2:$D$10)*('Suivi absences'!$B$2:$B$10="EVF"))+ 7*SUMPRODUCT(($A9='Suivi absences'!$A$2:$A$10)*(Calendrier!C$5>='Suivi absences'!$C$2:$C$10)*(Calendrier!C$5<='Suivi absences'!$D$2:$D$10)*('Suivi absences'!$B$2:$B$10="ABSNR"))+ 8*SUMPRODUCT(($A9='Suivi absences'!$A$2:$A$10)*(Calendrier!C$5>='Suivi absences'!$C$2:$C$10)*(Calendrier!C$5<='Suivi absences'!$D$2:$D$10)*('Suivi absences'!$B$2:$B$10="NJ"))+ 9*SUMPRODUCT(($A9='Suivi absences'!$A$2:$A$10)*(Calendrier!C$5>='Suivi absences'!$C$2:$C$10)*(Calendrier!C$5<='Suivi absences'!$D$2:$D$10)*('Suivi absences'!$B$2:$B$10="FOR")) -> 0 | D9: =SUMPRODUCT(($A9='Suivi absences'!$A$2:$A$10)*(Calendrier!D$5>='Suivi absences'!$C$2:$C$10)*(Calendrier!D$5<='Suivi absences'!$D$2:$D$10)*('Suivi absences'!$B$2:$B$10="CP"))+ 2*SUMPRODUCT(($A9='Suivi absences'!$A$2:$A$10)*(Calendrier!D$5>='Suivi absences'!$C$2:$C$10)*(Calendrier!D$5<='Suivi absences'!$D$2:$D$10)*('Suivi absences'!$B$2:$B$10="MAL"))+ 3*SUMPRODUCT(($A9='Suivi absences'!$A$2:$A$10)*(Calendrier!D$5>='Suivi absences'!$C$2:$C$10)*(Calendrier!D$5<='Suivi absences'!$D$2:$D$10)*('Suivi absences'!$B$2:$B$10="CMAT"))+ 4*SUMPRODUCT(($A9='Suivi absences'!$A$2:$A$10)*(Calendrier!D$5>='Suivi absences'!$C$2:$C$10)*(Calendrier!D$5<='Suivi absences'!$D$2:$D$10)*('Suivi absences'!$B$2:$B$10="CPA"))+ 5*SUMPRODUCT(($A9='Suivi absences'!$A$2:$A$10)*(Calendrier!D$5>='Suivi absences'!$C$2:$C$10)*(Calendrier!D$5<='Suivi absences'!$D$2:$D$10)*('Suivi absences'!$B$2:$B$10="CPAT"))+ 6*SUMPRODUCT(($A9='Suivi absences'!$A$2:$A$10)*(Calendrier!D$5>='Suivi absences'!$C$2:$C$10)*(Calendrier!D$5<='Suivi absences'!$D$2:$D$10)*('Suivi absences'!$B$2:$B$10="EVF"))+ 7*SUMPRODUCT(($A9='Suivi absences'!$A$2:$A$10)*(Calendrier!D$5>='Suivi absences'!$C$2:$C$10)*(Calendrier!D$5<='Suivi absences'!$D$2:$D$10)*('Suivi absences'!$B$2:$B$10="ABSNR"))+ 8*SUMPRODUCT(($A9='Suivi absences'!$A$2:$A$10)*(Calendrier!D$5>='Suivi absences'!$C$2:$C$10)*(Calendrier!D$5<='Suivi absences'!$D$2:$D$10)*('Suivi absences'!$B$2:$B$10="NJ"))+ 9*SUMPRODUCT(($A9='Suivi absences'!$A$2:$A$10)*(Calendrier!D$5>='Suivi absences'!$C$2:$C$10)*(Calendrier!D$5<='Suivi absences'!$D$2:$D$10)*('Suivi absences'!$B$2:$B$10="FOR")) -> 0 | E9: =SUMPRODUCT(($A9='Suivi absences'!$A$2:$A$10)*(Calendrier!E$5>='Suivi absences'!$C$2:$C$10)*(Calendrier!E$5<='Suivi absences'!$D$2:$D$10)*('Suivi absences'!$B$2:$B$10="CP"))+ 2*SUMPRODUCT(($A9='Suivi absences'!$A$2:$A$10)*(Calendrier!E$5>='Suivi absences'!$C$2:$C$10)*(Calendrier!E$5<='Suivi absences'!$D$2:$D$10)*('Suivi absences'!$B$2:$B$10="MAL"))+ 3*SUMPRODUCT(($A9='Suivi absences'!$A$2:$A$10)*(Calendrier!E$5>='Suivi absences'!$C$2:$C$10)*(Calendrier!E$5<='Suivi absences'!$D$2:$D$10)*('Suivi absences'!$B$2:$B$10="CMAT"))+ 4*SUMPRODUCT(($A9='Suivi absences'!$A$2:$A$10)*(Calendrier!E$5>='Suivi absences'!$C$2:$C$10)*(Calendrier!E$5<='Suivi absences'!$D$2:$D$10)*('Suivi absences'!$B$2:$B$10="CPA"))+ 5*SUMPRODUCT(($A9='Suivi absences'!$A$2:$A$10)*(Calendrier!E$5>='Suivi absences'!$C$2:$C$10)*(Calendrier!E$5<='Suivi absences'!$D$2:$D$10)*('Suivi absences'!$B$2:$B$10="CPAT"))+ 6*SUMPRODUCT(($A9='Suivi absences'!$A$2:$A$10)*(Calendrier!E$5>='Suivi absences'!$C$2:$C$10)*(Calendrier!E$5<='Suivi absences'!$D$2:$D$10)*('Suivi absences'!$B$2:$B$10="EVF"))+ 7*SUMPRODUCT(($A9='Suivi absences'!$A$2:$A$10)*(Calendrier!E$5>='Suivi absences'!$C$2:$C$10)*(Calendrier!E$5<='Suivi absences'!$D$2:$D$10)*('Suivi absences'!$B$2:$B$10="ABSNR"))+ 8*SUMPRODUCT(($A9='Suivi absences'!$A$2:$A$10)*(Calendrier!E$5>='Suivi absences'!$C$2:$C$10)*(Calendrier!E$5<='Suivi absences'!$D$2:$D$10)*('Suivi absences'!$B$2:$B$10="NJ"))+ 9*SUMPRODUCT(($A9='Suivi absences'!$A$2:$A$10)*(Calendrier!E$5>='Suivi absences'!$C$2:$C$10)*(Calendrier!E$5<='Suivi absences'!$D$2:$D$10)*('Suivi absences'!$B$2:$B$10="FOR")) -> 0 | F9: =SUMPRODUCT(($A9='Suivi absences'!$A$2:$A$10)*(Calendrier!F$5>='Suivi absences'!$C$2:$C$10)*(Calendrier!F$5<='Suivi absences'!$D$2:$D$10)*('Suivi absences'!$B$2:$B$10="CP"))+ 2*SUMPRODUCT(($A9='Suivi absences'!$A$2:$A$10)*(Calendrier!F$5>='Suivi absences'!$C$2:$C$10)*(Calendrier!F$5<='Suivi absences'!$D$2:$D$10)*('Suivi absences'!$B$2:$B$10="MAL"))+ 3*SUMPRODUCT(($A9='Suivi absences'!$A$2:$A$10)*(Calendrier!F$5>='Suivi absences'!$C$2:$C$10)*(Calendrier!F$5<='Suivi absences'!$D$2:$D$10)*('Suivi absences'!$B$2:$B$10="CMAT"))+ 4*SUMPRODUCT(($A9='Suivi absences'!$A$2:$A$10)*(Calendrier!F$5>='Suivi absences'!$C$2:$C$10)*(Calendrier!F$5<='Suivi absences'!$D$2:$D$10)*('Suivi absences'!$B$2:$B$10="CPA"))+ 5*SUMPRODUCT(($A9='Suivi absences'!$A$2:$A$10)*(Calendrier!F$5>='Suivi absences'!$C$2:$C$10)*(Calendrier!F$5<='Suivi absences'!$D$2:$D$10)*('Suivi absences'!$B$2:$B$10="CPAT"))+ 6*SUMPRODUCT(($A9='Suivi absences'!$A$2:$A$10)*(Calendrier!F$5>='Suivi absences'!$C$2:$C$10)*(Calendrier!F$5<='Suivi absences'!$D$2:$D$10)*('Suivi absences'!$B$2:$B$10="EVF"))+ 7*SUMPRODUCT(($A9='Suivi absences'!$A$2:$A$10)*(Calendrier!F$5>='Suivi absences'!$C$2:$C$10)*(Calendrier!F$5<='Suivi absences'!$D$2:$D$10)*('Suivi absences'!$B$2:$B$10="ABSNR"))+ 8*SUMPRODUCT(($A9='Suivi absences'!$A$2:$A$10)*(Calendrier!F$5>='Suivi absences'!$C$2:$C$10)*(Calendrier!F$5<='Suivi absences'!$D$2:$D$10)*('Suivi absences'!$B$2:$B$10="NJ"))+ 9*SUMPRODUCT(($A9='Suivi absences'!$A$2:$A$10)*(Calendrier!F$5>='Suivi absences'!$C$2:$C$10)*(Calendrier!F$5<='Suivi absences'!$D$2:$D$10)*('Suivi absences'!$B$2:$B$10="FOR")) -> 0 | G9: =SUMPRODUCT(($A9='Suivi absences'!$A$2:$A$10)*(Calendrier!G$5>='Suivi absences'!$C$2:$C$10)*(Calendrier!G$5<='Suivi absences'!$D$2:$D$10)*('Suivi absences'!$B$2:$B$10="CP"))+ 2*SUMPRODUCT(($A9='Suivi absences'!$A$2:$A$10)*(Calendrier!G$5>='Suivi absences'!$C$2:$C$10)*(Calendrier!G$5<='Suivi absences'!$D$2:$D$10)*('Suivi absences'!$B$2:$B$10="MAL"))+ 3*SUMPRODUCT(($A9='Suivi absences'!$A$2:$A$10)*(Calendrier!G$5>='Suivi absences'!$C$2:$C$10)*(Calendrier!G$5<='Suivi absences'!$D$2:$D$10)*('Suivi absences'!$B$2:$B$10="CMAT"))+ 4*SUMPRODUCT(($A9='Suivi absences'!$A$2:$A$10)*(Calendrier!G$5>='Suivi absences'!$C$2:$C$10)*(Calendrier!G$5<='Suivi absences'!$D$2:$D$10)*('Suivi absences'!$B$2:$B$10="CPA"))+ 5*SUMPRODUCT(($A9='Suivi absences'!$A$2:$A$10)*(Calendrier!G$5>='Suivi absences'!$C$2:$C$10)*(Calendrier!G$5<='Suivi absences'!$D$2:$D$10)*('Suivi absences'!$B$2:$B$10="CPAT"))+ 6*SUMPRODUCT(($A9='Suivi absences'!$A$2:$A$10)*(Calendrier!G$5>='Suivi absences'!$C$2:$C$10)*(Calendrier!G$5<='Suivi absences'!$D$2:$D$10)*('Suivi absences'!$B$2:$B$10="EVF"))+ 7*SUMPRODUCT(($A9='Suivi absences'!$A$2:$A$10)*(Calendrier!G$5>='Suivi absences'!$C$2:$C$10)*(Calendrier!G$5<='Suivi absences'!$D$2:$D$10)*('Suivi absences'!$B$2:$B$10="ABSNR"))+ 8*SUMPRODUCT(($A9='Suivi absences'!$A$2:$A$10)*(Calendrier!G$5>='Suivi absences'!$C$2:$C$10)*(Calendrier!G$5<='Suivi absences'!$D$2:$D$10)*('Suivi absences'!$B$2:$B$10="NJ"))+ 9*SUMPRODUCT(($A9='Suivi absences'!$A$2:$A$10)*(Calendrier!G$5>='Suivi absences'!$C$2:$C$10)*(Calendrier!G$5<='Suivi absences'!$D$2:$D$10)*('Suivi absences'!$B$2:$B$10="FOR")) -> 0 | H9: =SUMPRODUCT(($A9='Suivi absences'!$A$2:$A$10)*(Calendrier!H$5>='Suivi absences'!$C$2:$C$10)*(Calendrier!H$5<='Suivi absences'!$D$2:$D$10)*('Suivi absences'!$B$2:$B$10="CP"))+ 2*SUMPRODUCT(($A9='Suivi absences'!$A$2:$A$10)*(Calendrier!H$5>='Suivi absences'!$C$2:$C$10)*(Calendrier!H$5<='Suivi absences'!$D$2:$D$10)*('Suivi absences'!$B$2:$B$10="MAL"))+ 3*SUMPRODUCT(($A9='Suivi absences'!$A$2:$A$10)*(Calendrier!H$5>='Suivi absences'!$C$2:$C$10)*(Calendrier!H$5<='Suivi absences'!$D$2:$D$10)*('Suivi absences'!$B$2:$B$10="CMAT"))+ 4*SUMPRODUCT(($A9='Suivi absences'!$A$2:$A$10)*(Calendrier!H$5>='Suivi absences'!$C$2:$C$10)*(Calendrier!H$5<='Suivi absences'!$D$2:$D$10)*('Suivi absences'!$B$2:$B$10="CPA"))+ 5*SUMPRODUCT(($A9='Suivi absences'!$A$2:$A$10)*(Calendrier!H$5>='Suivi absences'!$C$2:$C$10)*(Calendrier!H$5<='Suivi absences'!$D$2:$D$10)*('Suivi absences'!$B$2:$B$10="CPAT"))+ 6*SUMPRODUCT(($A9='Suivi absences'!$A$2:$A$10)*(Calendrier!H$5>='Suivi absences'!$C$2:$C$10)*(Calendrier!H$5<='Suivi absences'!$D$2:$D$10)*('Suivi absences'!$B$2:$B$10="EVF"))+ 7*SUMPRODUCT(($A9='Suivi absences'!$A$2:$A$10)*(Calendrier!H$5>='Suivi absences'!$C$2:$C$10)*(Calendrier!H$5<='Suivi absences'!$D$2:$D$10)*('Suivi absences'!$B$2:$B$10="ABSNR"))+ 8*SUMPRODUCT(($A9='Suivi absences'!$A$2:$A$10)*(Calendrier!H$5>='Suivi absences'!$C$2:$C$10)*(Calendrier!H$5<='Suivi absences'!$D$2:$D$10)*('Suivi absences'!$B$2:$B$10="NJ"))+ 9*SUMPRODUCT(($A9='Suivi absences'!$A$2:$A$10)*(Calendrier!H$5>='Suivi absences'!$C$2:$C$10)*(Calendrier!H$5<='Suivi absences'!$D$2:$D$10)*('Suivi absences'!$B$2:$B$10="FOR")) -> 2 | I9: =SUMPRODUCT(($A9='Suivi absences'!$A$2:$A$10)*(Calendrier!I$5>='Suivi absences'!$C$2:$C$10)*(Calendrier!I$5<='Suivi absences'!$D$2:$D$10)*('Suivi absences'!$B$2:$B$10="CP"))+ 2*SUMPRODUCT(($A9='Suivi absences'!$A$2:$A$10)*(Calendrier!I$5>='Suivi absences'!$C$2:$C$10)*(Calendrier!I$5<='Suivi absences'!$D$2:$D$10)*('Suivi absences'!$B$2:$B$10="MAL"))+ 3*SUMPRODUCT(($A9='Suivi absences'!$A$2:$A$10)*(Calendrier!I$5>='Suivi absences'!$C$2:$C$10)*(Calendrier!I$5<='Suivi absences'!$D$2:$D$10)*('Suivi absences'!$B$2:$B$10="CMAT"))+ 4*SUMPRODUCT(($A9='Suivi absences'!$A$2:$A$10)*(Calendrier!I$5>='Suivi absences'!$C$2:$C$10)*(Calendrier!I$5<='Suivi absences'!$D$2:$D$10)*('Suivi absences'!$B$2:$B$10="CPA"))+ 5*SUMPRODUCT(($A9='Suivi absences'!$A$2:$A$10)*(Calendrier!I$5>='Suivi absences'!$C$2:$C$10)*(Calendrier!I$5<='Suivi absences'!$D$2:$D$10)*('Suivi absences'!$B$2:$B$10="CPAT"))+ 6*SUMPRODUCT(($A9='Suivi absences'!$A$2:$A$10)*(Calendrier!I$5>='Suivi absences'!$C$2:$C$10)*(Calendrier!I$5<='Suivi absences'!$D$2:$D$10)*('Suivi absences'!$B$2:$B$10="EVF"))+ 7*SUMPRODUCT(($A9='Suivi absences'!$A$2:$A$10)*(Calendrier!I$5>='Suivi absences'!$C$2:$C$10)*(Calendrier!I$5<='Suivi absences'!$D$2:$D$10)*('Suivi absences'!$B$2:$B$10="ABSNR"))+ 8*SUMPRODUCT(($A9='Suivi absences'!$A$2:$A$10)*(Calendrier!I$5>='Suivi absences'!$C$2:$C$10)*(Calendrier!I$5<='Suivi absences'!$D$2:$D$10)*('Suivi absences'!$B$2:$B$10="NJ"))+ 9*SUMPRODUCT(($A9='Suivi absences'!$A$2:$A$10)*(Calendrier!I$5>='Suivi absences'!$C$2:$C$10)*(Calendrier!I$5<='Suivi absences'!$D$2:$D$10)*('Suivi absences'!$B$2:$B$10="FOR")) -> 2 | ... AF9: =SUMPRODUCT(($A9='Suivi absences'!$A$2:$A$10)*(Calendrier!AF$5>='Suivi absences'!$C$2:$C$10)*(Calendrier!AF$5<='Suivi absences'!$D$2:$D$10)*('Suivi absences'!$B$2:$B$10="CP"))+ 2*SUMPRODUCT(($A9='Suivi absences'!$A$2:$A$10)*(Calendrier!AF$5>='Suivi absences'!$C$2:$C$10)*(Calendrier!AF$5<='Suivi absences'!$D$2:$D$10)*('Suivi absences'!$B$2:$B$10="MAL"))+ 3*SUMPRODUCT(($A9='Suivi absences'!$A$2:$A$10)*(Calendrier!AF$5>='Suivi absences'!$C$2:$C$10)*(Calendrier!AF$5<='Suivi absences'!$D$2:$D$10)*('Suivi absences'!$B$2:$B$10="CMAT"))+ 4*SUMPRODUCT(($A9='Suivi absences'!$A$2:$A$10)*(Calendrier!AF$5>='Suivi absences'!$C$2:$C$10)*(Calendrier!AF$5<='Suivi absences'!$D$2:$D$10)*('Suivi absences'!$B$2:$B$10="CPA"))+ 5*SUMPRODUCT(($A9='Suivi absences'!$A$2:$A$10)*(Calendrier!AF$5>='Suivi absences'!$C$2:$C$10)*(Calendrier!AF$5<='Suivi absences'!$D$2:$D$10)*('Suivi absences'!$B$2:$B$10="CPAT"))+ 6*SUMPRODUCT(($A9='Suivi absences'!$A$2:$A$10)*(Calendrier!AF$5>='Suivi absences'!$C$2:$C$10)*(Calendrier!AF$5<='Suivi absences'!$D$2:$D$10)*('Suivi absences'!$B$2:$B$10="EVF"))+ 7*SUMPRODUCT(($A9='Suivi absences'!$A$2:$A$10)*(Calendrier!AF$5>='Suivi absences'!$C$2:$C$10)*(Calendrier!AF$5<='Suivi absences'!$D$2:$D$10)*('Suivi absences'!$B$2:$B$10="ABSNR"))+ 8*SUMPRODUCT(($A9='Suivi absences'!$A$2:$A$10)*(Calendrier!AF$5>='Suivi absences'!$C$2:$C$10)*(Calendrier!AF$5<='Suivi absences'!$D$2:$D$10)*('Suivi absences'!$B$2:$B$10="NJ"))+ 9*SUMPRODUCT(($A9='Suivi absences'!$A$2:$A$10)*(Calendrier!AF$5>='Suivi absences'!$C$2:$C$10)*(Calendrier!AF$5<='Suivi absences'!$D$2:$D$10)*('Suivi absences'!$B$2:$B$10="FOR")) -> 0
A10: Mélissa | B10: =SUMPRODUCT(($A10='Suivi absences'!$A$2:$A$10)*(Calendrier!B$5>='Suivi absences'!$C$2:$C$10)*(Calendrier!B$5<='Suivi absences'!$D$2:$D$10)*('Suivi absences'!$B$2:$B$10="CP"))+ 2*SUMPRODUCT(($A10='Suivi absences'!$A$2:$A$10)*(Calendrier!B$5>='Suivi absences'!$C$2:$C$10)*(Calendrier!B$5<='Suivi absences'!$D$2:$D$10)*('Suivi absences'!$B$2:$B$10="MAL"))+ 3*SUMPRODUCT(($A10='Suivi absences'!$A$2:$A$10)*(Calendrier!B$5>='Suivi absences'!$C$2:$C$10)*(Calendrier!B$5<='Suivi absences'!$D$2:$D$10)*('Suivi absences'!$B$2:$B$10="CMAT"))+ 4*SUMPRODUCT(($A10='Suivi absences'!$A$2:$A$10)*(Calendrier!B$5>='Suivi absences'!$C$2:$C$10)*(Calendrier!B$5<='Suivi absences'!$D$2:$D$10)*('Suivi absences'!$B$2:$B$10="CPA"))+ 5*SUMPRODUCT(($A10='Suivi absences'!$A$2:$A$10)*(Calendrier!B$5>='Suivi absences'!$C$2:$C$10)*(Calendrier!B$5<='Suivi absences'!$D$2:$D$10)*('Suivi absences'!$B$2:$B$10="CPAT"))+ 6*SUMPRODUCT(($A10='Suivi absences'!$A$2:$A$10)*(Calendrier!B$5>='Suivi absences'!$C$2:$C$10)*(Calendrier!B$5<='Suivi absences'!$D$2:$D$10)*('Suivi absences'!$B$2:$B$10="EVF"))+ 7*SUMPRODUCT(($A10='Suivi absences'!$A$2:$A$10)*(Calendrier!B$5>='Suivi absences'!$C$2:$C$10)*(Calendrier!B$5<='Suivi absences'!$D$2:$D$10)*('Suivi absences'!$B$2:$B$10="ABSNR"))+ 8*SUMPRODUCT(($A10='Suivi absences'!$A$2:$A$10)*(Calendrier!B$5>='Suivi absences'!$C$2:$C$10)*(Calendrier!B$5<='Suivi absences'!$D$2:$D$10)*('Suivi absences'!$B$2:$B$10="NJ"))+ 9*SUMPRODUCT(($A10='Suivi absences'!$A$2:$A$10)*(Calendrier!B$5>='Suivi absences'!$C$2:$C$10)*(Calendrier!B$5<='Suivi absences'!$D$2:$D$10)*('Suivi absences'!$B$2:$B$10="FOR")) -> 0 | C10: =SUMPRODUCT(($A10='Suivi absences'!$A$2:$A$10)*(Calendrier!C$5>='Suivi absences'!$C$2:$C$10)*(Calendrier!C$5<='Suivi absences'!$D$2:$D$10)*('Suivi absences'!$B$2:$B$10="CP"))+ 2*SUMPRODUCT(($A10='Suivi absences'!$A$2:$A$10)*(Calendrier!C$5>='Suivi absences'!$C$2:$C$10)*(Calendrier!C$5<='Suivi absences'!$D$2:$D$10)*('Suivi absences'!$B$2:$B$10="MAL"))+ 3*SUMPRODUCT(($A10='Suivi absences'!$A$2:$A$10)*(Calendrier!C$5>='Suivi absences'!$C$2:$C$10)*(Calendrier!C$5<='Suivi absences'!$D$2:$D$10)*('Suivi absences'!$B$2:$B$10="CMAT"))+ 4*SUMPRODUCT(($A10='Suivi absences'!$A$2:$A$10)*(Calendrier!C$5>='Suivi absences'!$C$2:$C$10)*(Calendrier!C$5<='Suivi absences'!$D$2:$D$10)*('Suivi absences'!$B$2:$B$10="CPA"))+ 5*SUMPRODUCT(($A10='Suivi absences'!$A$2:$A$10)*(Calendrier!C$5>='Suivi absences'!$C$2:$C$10)*(Calendrier!C$5<='Suivi absences'!$D$2:$D$10)*('Suivi absences'!$B$2:$B$10="CPAT"))+ 6*SUMPRODUCT(($A10='Suivi absences'!$A$2:$A$10)*(Calendrier!C$5>='Suivi absences'!$C$2:$C$10)*(Calendrier!C$5<='Suivi absences'!$D$2:$D$10)*('Suivi absences'!$B$2:$B$10="EVF"))+ 7*SUMPRODUCT(($A10='Suivi absences'!$A$2:$A$10)*(Calendrier!C$5>='Suivi absences'!$C$2:$C$10)*(Calendrier!C$5<='Suivi absences'!$D$2:$D$10)*('Suivi absences'!$B$2:$B$10="ABSNR"))+ 8*SUMPRODUCT(($A10='Suivi absences'!$A$2:$A$10)*(Calendrier!C$5>='Suivi absences'!$C$2:$C$10)*(Calendrier!C$5<='Suivi absences'!$D$2:$D$10)*('Suivi absences'!$B$2:$B$10="NJ"))+ 9*SUMPRODUCT(($A10='Suivi absences'!$A$2:$A$10)*(Calendrier!C$5>='Suivi absences'!$C$2:$C$10)*(Calendrier!C$5<='Suivi absences'!$D$2:$D$10)*('Suivi absences'!$B$2:$B$10="FOR")) -> 9 | D10: =SUMPRODUCT(($A10='Suivi absences'!$A$2:$A$10)*(Calendrier!D$5>='Suivi absences'!$C$2:$C$10)*(Calendrier!D$5<='Suivi absences'!$D$2:$D$10)*('Suivi absences'!$B$2:$B$10="CP"))+ 2*SUMPRODUCT(($A10='Suivi absences'!$A$2:$A$10)*(Calendrier!D$5>='Suivi absences'!$C$2:$C$10)*(Calendrier!D$5<='Suivi absences'!$D$2:$D$10)*('Suivi absences'!$B$2:$B$10="MAL"))+ 3*SUMPRODUCT(($A10='Suivi absences'!$A$2:$A$10)*(Calendrier!D$5>='Suivi absences'!$C$2:$C$10)*(Calendrier!D$5<='Suivi absences'!$D$2:$D$10)*('Suivi absences'!$B$2:$B$10="CMAT"))+ 4*SUMPRODUCT(($A10='Suivi absences'!$A$2:$A$10)*(Calendrier!D$5>='Suivi absences'!$C$2:$C$10)*(Calendrier!D$5<='Suivi absences'!$D$2:$D$10)*('Suivi absences'!$B$2:$B$10="CPA"))+ 5*SUMPRODUCT(($A10='Suivi absences'!$A$2:$A$10)*(Calendrier!D$5>='Suivi absences'!$C$2:$C$10)*(Calendrier!D$5<='Suivi absences'!$D$2:$D$10)*('Suivi absences'!$B$2:$B$10="CPAT"))+ 6*SUMPRODUCT(($A10='Suivi absences'!$A$2:$A$10)*(Calendrier!D$5>='Suivi absences'!$C$2:$C$10)*(Calendrier!D$5<='Suivi absences'!$D$2:$D$10)*('Suivi absences'!$B$2:$B$10="EVF"))+ 7*SUMPRODUCT(($A10='Suivi absences'!$A$2:$A$10)*(Calendrier!D$5>='Suivi absences'!$C$2:$C$10)*(Calendrier!D$5<='Suivi absences'!$D$2:$D$10)*('Suivi absences'!$B$2:$B$10="ABSNR"))+ 8*SUMPRODUCT(($A10='Suivi absences'!$A$2:$A$10)*(Calendrier!D$5>='Suivi absences'!$C$2:$C$10)*(Calendrier!D$5<='Suivi absences'!$D$2:$D$10)*('Suivi absences'!$B$2:$B$10="NJ"))+ 9*SUMPRODUCT(($A10='Suivi absences'!$A$2:$A$10)*(Calendrier!D$5>='Suivi absences'!$C$2:$C$10)*(Calendrier!D$5<='Suivi absences'!$D$2:$D$10)*('Suivi absences'!$B$2:$B$10="FOR")) -> 0 | E10: =SUMPRODUCT(($A10='Suivi absences'!$A$2:$A$10)*(Calendrier!E$5>='Suivi absences'!$C$2:$C$10)*(Calendrier!E$5<='Suivi absences'!$D$2:$D$10)*('Suivi absences'!$B$2:$B$10="CP"))+ 2*SUMPRODUCT(($A10='Suivi absences'!$A$2:$A$10)*(Calendrier!E$5>='Suivi absences'!$C$2:$C$10)*(Calendrier!E$5<='Suivi absences'!$D$2:$D$10)*('Suivi absences'!$B$2:$B$10="MAL"))+ 3*SUMPRODUCT(($A10='Suivi absences'!$A$2:$A$10)*(Calendrier!E$5>='Suivi absences'!$C$2:$C$10)*(Calendrier!E$5<='Suivi absences'!$D$2:$D$10)*('Suivi absences'!$B$2:$B$10="CMAT"))+ 4*SUMPRODUCT(($A10='Suivi absences'!$A$2:$A$10)*(Calendrier!E$5>='Suivi absences'!$C$2:$C$10)*(Calendrier!E$5<='Suivi absences'!$D$2:$D$10)*('Suivi absences'!$B$2:$B$10="CPA"))+ 5*SUMPRODUCT(($A10='Suivi absences'!$A$2:$A$10)*(Calendrier!E$5>='Suivi absences'!$C$2:$C$10)*(Calendrier!E$5<='Suivi absences'!$D$2:$D$10)*('Suivi absences'!$B$2:$B$10="CPAT"))+ 6*SUMPRODUCT(($A10='Suivi absences'!$A$2:$A$10)*(Calendrier!E$5>='Suivi absences'!$C$2:$C$10)*(Calendrier!E$5<='Suivi absences'!$D$2:$D$10)*('Suivi absences'!$B$2:$B$10="EVF"))+ 7*SUMPRODUCT(($A10='Suivi absences'!$A$2:$A$10)*(Calendrier!E$5>='Suivi absences'!$C$2:$C$10)*(Calendrier!E$5<='Suivi absences'!$D$2:$D$10)*('Suivi absences'!$B$2:$B$10="ABSNR"))+ 8*SUMPRODUCT(($A10='Suivi absences'!$A$2:$A$10)*(Calendrier!E$5>='Suivi absences'!$C$2:$C$10)*(Calendrier!E$5<='Suivi absences'!$D$2:$D$10)*('Suivi absences'!$B$2:$B$10="NJ"))+ 9*SUMPRODUCT(($A10='Suivi absences'!$A$2:$A$10)*(Calendrier!E$5>='Suivi absences'!$C$2:$C$10)*(Calendrier!E$5<='Suivi absences'!$D$2:$D$10)*('Suivi absences'!$B$2:$B$10="FOR")) -> 0 | F10: =SUMPRODUCT(($A10='Suivi absences'!$A$2:$A$10)*(Calendrier!F$5>='Suivi absences'!$C$2:$C$10)*(Calendrier!F$5<='Suivi absences'!$D$2:$D$10)*('Suivi absences'!$B$2:$B$10="CP"))+ 2*SUMPRODUCT(($A10='Suivi absences'!$A$2:$A$10)*(Calendrier!F$5>='Suivi absences'!$C$2:$C$10)*(Calendrier!F$5<='Suivi absences'!$D$2:$D$10)*('Suivi absences'!$B$2:$B$10="MAL"))+ 3*SUMPRODUCT(($A10='Suivi absences'!$A$2:$A$10)*(Calendrier!F$5>='Suivi absences'!$C$2:$C$10)*(Calendrier!F$5<='Suivi absences'!$D$2:$D$10)*('Suivi absences'!$B$2:$B$10="CMAT"))+ 4*SUMPRODUCT(($A10='Suivi absences'!$A$2:$A$10)*(Calendrier!F$5>='Suivi absences'!$C$2:$C$10)*(Calendrier!F$5<='Suivi absences'!$D$2:$D$10)*('Suivi absences'!$B$2:$B$10="CPA"))+ 5*SUMPRODUCT(($A10='Suivi absences'!$A$2:$A$10)*(Calendrier!F$5>='Suivi absences'!$C$2:$C$10)*(Calendrier!F$5<='Suivi absences'!$D$2:$D$10)*('Suivi absences'!$B$2:$B$10="CPAT"))+ 6*SUMPRODUCT(($A10='Suivi absences'!$A$2:$A$10)*(Calendrier!F$5>='Suivi absences'!$C$2:$C$10)*(Calendrier!F$5<='Suivi absences'!$D$2:$D$10)*('Suivi absences'!$B$2:$B$10="EVF"))+ 7*SUMPRODUCT(($A10='Suivi absences'!$A$2:$A$10)*(Calendrier!F$5>='Suivi absences'!$C$2:$C$10)*(Calendrier!F$5<='Suivi absences'!$D$2:$D$10)*('Suivi absences'!$B$2:$B$10="ABSNR"))+ 8*SUMPRODUCT(($A10='Suivi absences'!$A$2:$A$10)*(Calendrier!F$5>='Suivi absences'!$C$2:$C$10)*(Calendrier!F$5<='Suivi absences'!$D$2:$D$10)*('Suivi absences'!$B$2:$B$10="NJ"))+ 9*SUMPRODUCT(($A10='Suivi absences'!$A$2:$A$10)*(Calendrier!F$5>='Suivi absences'!$C$2:$C$10)*(Calendrier!F$5<='Suivi absences'!$D$2:$D$10)*('Suivi absences'!$B$2:$B$10="FOR")) -> 0 | G10: =SUMPRODUCT(($A10='Suivi absences'!$A$2:$A$10)*(Calendrier!G$5>='Suivi absences'!$C$2:$C$10)*(Calendrier!G$5<='Suivi absences'!$D$2:$D$10)*('Suivi absences'!$B$2:$B$10="CP"))+ 2*SUMPRODUCT(($A10='Suivi absences'!$A$2:$A$10)*(Calendrier!G$5>='Suivi absences'!$C$2:$C$10)*(Calendrier!G$5<='Suivi absences'!$D$2:$D$10)*('Suivi absences'!$B$2:$B$10="MAL"))+ 3*SUMPRODUCT(($A10='Suivi absences'!$A$2:$A$10)*(Calendrier!G$5>='Suivi absences'!$C$2:$C$10)*(Calendrier!G$5<='Suivi absences'!$D$2:$D$10)*('Suivi absences'!$B$2:$B$10="CMAT"))+ 4*SUMPRODUCT(($A10='Suivi absences'!$A$2:$A$10)*(Calendrier!G$5>='Suivi absences'!$C$2:$C$10)*(Calendrier!G$5<='Suivi absences'!$D$2:$D$10)*('Suivi absences'!$B$2:$B$10="CPA"))+ 5*SUMPRODUCT(($A10='Suivi absences'!$A$2:$A$10)*(Calendrier!G$5>='Suivi absences'!$C$2:$C$10)*(Calendrier!G$5<='Suivi absences'!$D$2:$D$10)*('Suivi absences'!$B$2:$B$10="CPAT"))+ 6*SUMPRODUCT(($A10='Suivi absences'!$A$2:$A$10)*(Calendrier!G$5>='Suivi absences'!$C$2:$C$10)*(Calendrier!G$5<='Suivi absences'!$D$2:$D$10)*('Suivi absences'!$B$2:$B$10="EVF"))+ 7*SUMPRODUCT(($A10='Suivi absences'!$A$2:$A$10)*(Calendrier!G$5>='Suivi absences'!$C$2:$C$10)*(Calendrier!G$5<='Suivi absences'!$D$2:$D$10)*('Suivi absences'!$B$2:$B$10="ABSNR"))+ 8*SUMPRODUCT(($A10='Suivi absences'!$A$2:$A$10)*(Calendrier!G$5>='Suivi absences'!$C$2:$C$10)*(Calendrier!G$5<='Suivi absences'!$D$2:$D$10)*('Suivi absences'!$B$2:$B$10="NJ"))+ 9*SUMPRODUCT(($A10='Suivi absences'!$A$2:$A$10)*(Calendrier!G$5>='Suivi absences'!$C$2:$C$10)*(Calendrier!G$5<='Suivi absences'!$D$2:$D$10)*('Suivi absences'!$B$2:$B$10="FOR")) -> 0 | H10: =SUMPRODUCT(($A10='Suivi absences'!$A$2:$A$10)*(Calendrier!H$5>='Suivi absences'!$C$2:$C$10)*(Calendrier!H$5<='Suivi absences'!$D$2:$D$10)*('Suivi absences'!$B$2:$B$10="CP"))+ 2*SUMPRODUCT(($A10='Suivi absences'!$A$2:$A$10)*(Calendrier!H$5>='Suivi absences'!$C$2:$C$10)*(Calendrier!H$5<='Suivi absences'!$D$2:$D$10)*('Suivi absences'!$B$2:$B$10="MAL"))+ 3*SUMPRODUCT(($A10='Suivi absences'!$A$2:$A$10)*(Calendrier!H$5>='Suivi absences'!$C$2:$C$10)*(Calendrier!H$5<='Suivi absences'!$D$2:$D$10)*('Suivi absences'!$B$2:$B$10="CMAT"))+ 4*SUMPRODUCT(($A10='Suivi absences'!$A$2:$A$10)*(Calendrier!H$5>='Suivi absences'!$C$2:$C$10)*(Calendrier!H$5<='Suivi absences'!$D$2:$D$10)*('Suivi absences'!$B$2:$B$10="CPA"))+ 5*SUMPRODUCT(($A10='Suivi absences'!$A$2:$A$10)*(Calendrier!H$5>='Suivi absences'!$C$2:$C$10)*(Calendrier!H$5<='Suivi absences'!$D$2:$D$10)*('Suivi absences'!$B$2:$B$10="CPAT"))+ 6*SUMPRODUCT(($A10='Suivi absences'!$A$2:$A$10)*(Calendrier!H$5>='Suivi absences'!$C$2:$C$10)*(Calendrier!H$5<='Suivi absences'!$D$2:$D$10)*('Suivi absences'!$B$2:$B$10="EVF"))+ 7*SUMPRODUCT(($A10='Suivi absences'!$A$2:$A$10)*(Calendrier!H$5>='Suivi absences'!$C$2:$C$10)*(Calendrier!H$5<='Suivi absences'!$D$2:$D$10)*('Suivi absences'!$B$2:$B$10="ABSNR"))+ 8*SUMPRODUCT(($A10='Suivi absences'!$A$2:$A$10)*(Calendrier!H$5>='Suivi absences'!$C$2:$C$10)*(Calendrier!H$5<='Suivi absences'!$D$2:$D$10)*('Suivi absences'!$B$2:$B$10="NJ"))+ 9*SUMPRODUCT(($A10='Suivi absences'!$A$2:$A$10)*(Calendrier!H$5>='Suivi absences'!$C$2:$C$10)*(Calendrier!H$5<='Suivi absences'!$D$2:$D$10)*('Suivi absences'!$B$2:$B$10="FOR")) -> 0 | I10: =SUMPRODUCT(($A10='Suivi absences'!$A$2:$A$10)*(Calendrier!I$5>='Suivi absences'!$C$2:$C$10)*(Calendrier!I$5<='Suivi absences'!$D$2:$D$10)*('Suivi absences'!$B$2:$B$10="CP"))+ 2*SUMPRODUCT(($A10='Suivi absences'!$A$2:$A$10)*(Calendrier!I$5>='Suivi absences'!$C$2:$C$10)*(Calendrier!I$5<='Suivi absences'!$D$2:$D$10)*('Suivi absences'!$B$2:$B$10="MAL"))+ 3*SUMPRODUCT(($A10='Suivi absences'!$A$2:$A$10)*(Calendrier!I$5>='Suivi absences'!$C$2:$C$10)*(Calendrier!I$5<='Suivi absences'!$D$2:$D$10)*('Suivi absences'!$B$2:$B$10="CMAT"))+ 4*SUMPRODUCT(($A10='Suivi absences'!$A$2:$A$10)*(Calendrier!I$5>='Suivi absences'!$C$2:$C$10)*(Calendrier!I$5<='Suivi absences'!$D$2:$D$10)*('Suivi absences'!$B$2:$B$10="CPA"))+ 5*SUMPRODUCT(($A10='Suivi absences'!$A$2:$A$10)*(Calendrier!I$5>='Suivi absences'!$C$2:$C$10)*(Calendrier!I$5<='Suivi absences'!$D$2:$D$10)*('Suivi absences'!$B$2:$B$10="CPAT"))+ 6*SUMPRODUCT(($A10='Suivi absences'!$A$2:$A$10)*(Calendrier!I$5>='Suivi absences'!$C$2:$C$10)*(Calendrier!I$5<='Suivi absences'!$D$2:$D$10)*('Suivi absences'!$B$2:$B$10="EVF"))+ 7*SUMPRODUCT(($A10='Suivi absences'!$A$2:$A$10)*(Calendrier!I$5>='Suivi absences'!$C$2:$C$10)*(Calendrier!I$5<='Suivi absences'!$D$2:$D$10)*('Suivi absences'!$B$2:$B$10="ABSNR"))+ 8*SUMPRODUCT(($A10='Suivi absences'!$A$2:$A$10)*(Calendrier!I$5>='Suivi absences'!$C$2:$C$10)*(Calendrier!I$5<='Suivi absences'!$D$2:$D$10)*('Suivi absences'!$B$2:$B$10="NJ"))+ 9*SUMPRODUCT(($A10='Suivi absences'!$A$2:$A$10)*(Calendrier!I$5>='Suivi absences'!$C$2:$C$10)*(Calendrier!I$5<='Suivi absences'!$D$2:$D$10)*('Suivi absences'!$B$2:$B$10="FOR")) -> 0 | ... AF10: =SUMPRODUCT(($A10='Suivi absences'!$A$2:$A$10)*(Calendrier!AF$5>='Suivi absences'!$C$2:$C$10)*(Calendrier!AF$5<='Suivi absences'!$D$2:$D$10)*('Suivi absences'!$B$2:$B$10="CP"))+ 2*SUMPRODUCT(($A10='Suivi absences'!$A$2:$A$10)*(Calendrier!AF$5>='Suivi absences'!$C$2:$C$10)*(Calendrier!AF$5<='Suivi absences'!$D$2:$D$10)*('Suivi absences'!$B$2:$B$10="MAL"))+ 3*SUMPRODUCT(($A10='Suivi absences'!$A$2:$A$10)*(Calendrier!AF$5>='Suivi absences'!$C$2:$C$10)*(Calendrier!AF$5<='Suivi absences'!$D$2:$D$10)*('Suivi absences'!$B$2:$B$10="CMAT"))+ 4*SUMPRODUCT(($A10='Suivi absences'!$A$2:$A$10)*(Calendrier!AF$5>='Suivi absences'!$C$2:$C$10)*(Calendrier!AF$5<='Suivi absences'!$D$2:$D$10)*('Suivi absences'!$B$2:$B$10="CPA"))+ 5*SUMPRODUCT(($A10='Suivi absences'!$A$2:$A$10)*(Calendrier!AF$5>='Suivi absences'!$C$2:$C$10)*(Calendrier!AF$5<='Suivi absences'!$D$2:$D$10)*('Suivi absences'!$B$2:$B$10="CPAT"))+ 6*SUMPRODUCT(($A10='Suivi absences'!$A$2:$A$10)*(Calendrier!AF$5>='Suivi absences'!$C$2:$C$10)*(Calendrier!AF$5<='Suivi absences'!$D$2:$D$10)*('Suivi absences'!$B$2:$B$10="EVF"))+ 7*SUMPRODUCT(($A10='Suivi absences'!$A$2:$A$10)*(Calendrier!AF$5>='Suivi absences'!$C$2:$C$10)*(Calendrier!AF$5<='Suivi absences'!$D$2:$D$10)*('Suivi absences'!$B$2:$B$10="ABSNR"))+ 8*SUMPRODUCT(($A10='Suivi absences'!$A$2:$A$10)*(Calendrier!AF$5>='Suivi absences'!$C$2:$C$10)*(Calendrier!AF$5<='Suivi absences'!$D$2:$D$10)*('Suivi absences'!$B$2:$B$10="NJ"))+ 9*SUMPRODUCT(($A10='Suivi absences'!$A$2:$A$10)*(Calendrier!AF$5>='Suivi absences'!$C$2:$C$10)*(Calendrier!AF$5<='Suivi absences'!$D$2:$D$10)*('Suivi absences'!$B$2:$B$10="FOR")) -> 0
A11: Nicolas | B11: =SUMPRODUCT(($A11='Suivi absences'!$A$2:$A$10)*(Calendrier!B$5>='Suivi absences'!$C$2:$C$10)*(Calendrier!B$5<='Suivi absences'!$D$2:$D$10)*('Suivi absences'!$B$2:$B$10="CP"))+ 2*SUMPRODUCT(($A11='Suivi absences'!$A$2:$A$10)*(Calendrier!B$5>='Suivi absences'!$C$2:$C$10)*(Calendrier!B$5<='Suivi absences'!$D$2:$D$10)*('Suivi absences'!$B$2:$B$10="MAL"))+ 3*SUMPRODUCT(($A11='Suivi absences'!$A$2:$A$10)*(Calendrier!B$5>='Suivi absences'!$C$2:$C$10)*(Calendrier!B$5<='Suivi absences'!$D$2:$D$10)*('Suivi absences'!$B$2:$B$10="CMAT"))+ 4*SUMPRODUCT(($A11='Suivi absences'!$A$2:$A$10)*(Calendrier!B$5>='Suivi absences'!$C$2:$C$10)*(Calendrier!B$5<='Suivi absences'!$D$2:$D$10)*('Suivi absences'!$B$2:$B$10="CPA"))+ 5*SUMPRODUCT(($A11='Suivi absences'!$A$2:$A$10)*(Calendrier!B$5>='Suivi absences'!$C$2:$C$10)*(Calendrier!B$5<='Suivi absences'!$D$2:$D$10)*('Suivi absences'!$B$2:$B$10="CPAT"))+ 6*SUMPRODUCT(($A11='Suivi absences'!$A$2:$A$10)*(Calendrier!B$5>='Suivi absences'!$C$2:$C$10)*(Calendrier!B$5<='Suivi absences'!$D$2:$D$10)*('Suivi absences'!$B$2:$B$10="EVF"))+ 7*SUMPRODUCT(($A11='Suivi absences'!$A$2:$A$10)*(Calendrier!B$5>='Suivi absences'!$C$2:$C$10)*(Calendrier!B$5<='Suivi absences'!$D$2:$D$10)*('Suivi absences'!$B$2:$B$10="ABSNR"))+ 8*SUMPRODUCT(($A11='Suivi absences'!$A$2:$A$10)*(Calendrier!B$5>='Suivi absences'!$C$2:$C$10)*(Calendrier!B$5<='Suivi absences'!$D$2:$D$10)*('Suivi absences'!$B$2:$B$10="NJ"))+ 9*SUMPRODUCT(($A11='Suivi absences'!$A$2:$A$10)*(Calendrier!B$5>='Suivi absences'!$C$2:$C$10)*(Calendrier!B$5<='Suivi absences'!$D$2:$D$10)*('Suivi absences'!$B$2:$B$10="FOR")) -> 0 | C11: =SUMPRODUCT(($A11='Suivi absences'!$A$2:$A$10)*(Calendrier!C$5>='Suivi absences'!$C$2:$C$10)*(Calendrier!C$5<='Suivi absences'!$D$2:$D$10)*('Suivi absences'!$B$2:$B$10="CP"))+ 2*SUMPRODUCT(($A11='Suivi absences'!$A$2:$A$10)*(Calendrier!C$5>='Suivi absences'!$C$2:$C$10)*(Calendrier!C$5<='Suivi absences'!$D$2:$D$10)*('Suivi absences'!$B$2:$B$10="MAL"))+ 3*SUMPRODUCT(($A11='Suivi absences'!$A$2:$A$10)*(Calendrier!C$5>='Suivi absences'!$C$2:$C$10)*(Calendrier!C$5<='Suivi absences'!$D$2:$D$10)*('Suivi absences'!$B$2:$B$10="CMAT"))+ 4*SUMPRODUCT(($A11='Suivi absences'!$A$2:$A$10)*(Calendrier!C$5>='Suivi absences'!$C$2:$C$10)*(Calendrier!C$5<='Suivi absences'!$D$2:$D$10)*('Suivi absences'!$B$2:$B$10="CPA"))+ 5*SUMPRODUCT(($A11='Suivi absences'!$A$2:$A$10)*(Calendrier!C$5>='Suivi absences'!$C$2:$C$10)*(Calendrier!C$5<='Suivi absences'!$D$2:$D$10)*('Suivi absences'!$B$2:$B$10="CPAT"))+ 6*SUMPRODUCT(($A11='Suivi absences'!$A$2:$A$10)*(Calendrier!C$5>='Suivi absences'!$C$2:$C$10)*(Calendrier!C$5<='Suivi absences'!$D$2:$D$10)*('Suivi absences'!$B$2:$B$10="EVF"))+ 7*SUMPRODUCT(($A11='Suivi absences'!$A$2:$A$10)*(Calendrier!C$5>='Suivi absences'!$C$2:$C$10)*(Calendrier!C$5<='Suivi absences'!$D$2:$D$10)*('Suivi absences'!$B$2:$B$10="ABSNR"))+ 8*SUMPRODUCT(($A11='Suivi absences'!$A$2:$A$10)*(Calendrier!C$5>='Suivi absences'!$C$2:$C$10)*(Calendrier!C$5<='Suivi absences'!$D$2:$D$10)*('Suivi absences'!$B$2:$B$10="NJ"))+ 9*SUMPRODUCT(($A11='Suivi absences'!$A$2:$A$10)*(Calendrier!C$5>='Suivi absences'!$C$2:$C$10)*(Calendrier!C$5<='Suivi absences'!$D$2:$D$10)*('Suivi absences'!$B$2:$B$10="FOR")) -> 0 | D11: =SUMPRODUCT(($A11='Suivi absences'!$A$2:$A$10)*(Calendrier!D$5>='Suivi absences'!$C$2:$C$10)*(Calendrier!D$5<='Suivi absences'!$D$2:$D$10)*('Suivi absences'!$B$2:$B$10="CP"))+ 2*SUMPRODUCT(($A11='Suivi absences'!$A$2:$A$10)*(Calendrier!D$5>='Suivi absences'!$C$2:$C$10)*(Calendrier!D$5<='Suivi absences'!$D$2:$D$10)*('Suivi absences'!$B$2:$B$10="MAL"))+ 3*SUMPRODUCT(($A11='Suivi absences'!$A$2:$A$10)*(Calendrier!D$5>='Suivi absences'!$C$2:$C$10)*(Calendrier!D$5<='Suivi absences'!$D$2:$D$10)*('Suivi absences'!$B$2:$B$10="CMAT"))+ 4*SUMPRODUCT(($A11='Suivi absences'!$A$2:$A$10)*(Calendrier!D$5>='Suivi absences'!$C$2:$C$10)*(Calendrier!D$5<='Suivi absences'!$D$2:$D$10)*('Suivi absences'!$B$2:$B$10="CPA"))+ 5*SUMPRODUCT(($A11='Suivi absences'!$A$2:$A$10)*(Calendrier!D$5>='Suivi absences'!$C$2:$C$10)*(Calendrier!D$5<='Suivi absences'!$D$2:$D$10)*('Suivi absences'!$B$2:$B$10="CPAT"))+ 6*SUMPRODUCT(($A11='Suivi absences'!$A$2:$A$10)*(Calendrier!D$5>='Suivi absences'!$C$2:$C$10)*(Calendrier!D$5<='Suivi absences'!$D$2:$D$10)*('Suivi absences'!$B$2:$B$10="EVF"))+ 7*SUMPRODUCT(($A11='Suivi absences'!$A$2:$A$10)*(Calendrier!D$5>='Suivi absences'!$C$2:$C$10)*(Calendrier!D$5<='Suivi absences'!$D$2:$D$10)*('Suivi absences'!$B$2:$B$10="ABSNR"))+ 8*SUMPRODUCT(($A11='Suivi absences'!$A$2:$A$10)*(Calendrier!D$5>='Suivi absences'!$C$2:$C$10)*(Calendrier!D$5<='Suivi absences'!$D$2:$D$10)*('Suivi absences'!$B$2:$B$10="NJ"))+ 9*SUMPRODUCT(($A11='Suivi absences'!$A$2:$A$10)*(Calendrier!D$5>='Suivi absences'!$C$2:$C$10)*(Calendrier!D$5<='Suivi absences'!$D$2:$D$10)*('Suivi absences'!$B$2:$B$10="FOR")) -> 0 | E11: =SUMPRODUCT(($A11='Suivi absences'!$A$2:$A$10)*(Calendrier!E$5>='Suivi absences'!$C$2:$C$10)*(Calendrier!E$5<='Suivi absences'!$D$2:$D$10)*('Suivi absences'!$B$2:$B$10="CP"))+ 2*SUMPRODUCT(($A11='Suivi absences'!$A$2:$A$10)*(Calendrier!E$5>='Suivi absences'!$C$2:$C$10)*(Calendrier!E$5<='Suivi absences'!$D$2:$D$10)*('Suivi absences'!$B$2:$B$10="MAL"))+ 3*SUMPRODUCT(($A11='Suivi absences'!$A$2:$A$10)*(Calendrier!E$5>='Suivi absences'!$C$2:$C$10)*(Calendrier!E$5<='Suivi absences'!$D$2:$D$10)*('Suivi absences'!$B$2:$B$10="CMAT"))+ 4*SUMPRODUCT(($A11='Suivi absences'!$A$2:$A$10)*(Calendrier!E$5>='Suivi absences'!$C$2:$C$10)*(Calendrier!E$5<='Suivi absences'!$D$2:$D$10)*('Suivi absences'!$B$2:$B$10="CPA"))+ 5*SUMPRODUCT(($A11='Suivi absences'!$A$2:$A$10)*(Calendrier!E$5>='Suivi absences'!$C$2:$C$10)*(Calendrier!E$5<='Suivi absences'!$D$2:$D$10)*('Suivi absences'!$B$2:$B$10="CPAT"))+ 6*SUMPRODUCT(($A11='Suivi absences'!$A$2:$A$10)*(Calendrier!E$5>='Suivi absences'!$C$2:$C$10)*(Calendrier!E$5<='Suivi absences'!$D$2:$D$10)*('Suivi absences'!$B$2:$B$10="EVF"))+ 7*SUMPRODUCT(($A11='Suivi absences'!$A$2:$A$10)*(Calendrier!E$5>='Suivi absences'!$C$2:$C$10)*(Calendrier!E$5<='Suivi absences'!$D$2:$D$10)*('Suivi absences'!$B$2:$B$10="ABSNR"))+ 8*SUMPRODUCT(($A11='Suivi absences'!$A$2:$A$10)*(Calendrier!E$5>='Suivi absences'!$C$2:$C$10)*(Calendrier!E$5<='Suivi absences'!$D$2:$D$10)*('Suivi absences'!$B$2:$B$10="NJ"))+ 9*SUMPRODUCT(($A11='Suivi absences'!$A$2:$A$10)*(Calendrier!E$5>='Suivi absences'!$C$2:$C$10)*(Calendrier!E$5<='Suivi absences'!$D$2:$D$10)*('Suivi absences'!$B$2:$B$10="FOR")) -> 0 | F11: =SUMPRODUCT(($A11='Suivi absences'!$A$2:$A$10)*(Calendrier!F$5>='Suivi absences'!$C$2:$C$10)*(Calendrier!F$5<='Suivi absences'!$D$2:$D$10)*('Suivi absences'!$B$2:$B$10="CP"))+ 2*SUMPRODUCT(($A11='Suivi absences'!$A$2:$A$10)*(Calendrier!F$5>='Suivi absences'!$C$2:$C$10)*(Calendrier!F$5<='Suivi absences'!$D$2:$D$10)*('Suivi absences'!$B$2:$B$10="MAL"))+ 3*SUMPRODUCT(($A11='Suivi absences'!$A$2:$A$10)*(Calendrier!F$5>='Suivi absences'!$C$2:$C$10)*(Calendrier!F$5<='Suivi absences'!$D$2:$D$10)*('Suivi absences'!$B$2:$B$10="CMAT"))+ 4*SUMPRODUCT(($A11='Suivi absences'!$A$2:$A$10)*(Calendrier!F$5>='Suivi absences'!$C$2:$C$10)*(Calendrier!F$5<='Suivi absences'!$D$2:$D$10)*('Suivi absences'!$B$2:$B$10="CPA"))+ 5*SUMPRODUCT(($A11='Suivi absences'!$A$2:$A$10)*(Calendrier!F$5>='Suivi absences'!$C$2:$C$10)*(Calendrier!F$5<='Suivi absences'!$D$2:$D$10)*('Suivi absences'!$B$2:$B$10="CPAT"))+ 6*SUMPRODUCT(($A11='Suivi absences'!$A$2:$A$10)*(Calendrier!F$5>='Suivi absences'!$C$2:$C$10)*(Calendrier!F$5<='Suivi absences'!$D$2:$D$10)*('Suivi absences'!$B$2:$B$10="EVF"))+ 7*SUMPRODUCT(($A11='Suivi absences'!$A$2:$A$10)*(Calendrier!F$5>='Suivi absences'!$C$2:$C$10)*(Calendrier!F$5<='Suivi absences'!$D$2:$D$10)*('Suivi absences'!$B$2:$B$10="ABSNR"))+ 8*SUMPRODUCT(($A11='Suivi absences'!$A$2:$A$10)*(Calendrier!F$5>='Suivi absences'!$C$2:$C$10)*(Calendrier!F$5<='Suivi absences'!$D$2:$D$10)*('Suivi absences'!$B$2:$B$10="NJ"))+ 9*SUMPRODUCT(($A11='Suivi absences'!$A$2:$A$10)*(Calendrier!F$5>='Suivi absences'!$C$2:$C$10)*(Calendrier!F$5<='Suivi absences'!$D$2:$D$10)*('Suivi absences'!$B$2:$B$10="FOR")) -> 0 | G11: =SUMPRODUCT(($A11='Suivi absences'!$A$2:$A$10)*(Calendrier!G$5>='Suivi absences'!$C$2:$C$10)*(Calendrier!G$5<='Suivi absences'!$D$2:$D$10)*('Suivi absences'!$B$2:$B$10="CP"))+ 2*SUMPRODUCT(($A11='Suivi absences'!$A$2:$A$10)*(Calendrier!G$5>='Suivi absences'!$C$2:$C$10)*(Calendrier!G$5<='Suivi absences'!$D$2:$D$10)*('Suivi absences'!$B$2:$B$10="MAL"))+ 3*SUMPRODUCT(($A11='Suivi absences'!$A$2:$A$10)*(Calendrier!G$5>='Suivi absences'!$C$2:$C$10)*(Calendrier!G$5<='Suivi absences'!$D$2:$D$10)*('Suivi absences'!$B$2:$B$10="CMAT"))+ 4*SUMPRODUCT(($A11='Suivi absences'!$A$2:$A$10)*(Calendrier!G$5>='Suivi absences'!$C$2:$C$10)*(Calendrier!G$5<='Suivi absences'!$D$2:$D$10)*('Suivi absences'!$B$2:$B$10="CPA"))+ 5*SUMPRODUCT(($A11='Suivi absences'!$A$2:$A$10)*(Calendrier!G$5>='Suivi absences'!$C$2:$C$10)*(Calendrier!G$5<='Suivi absences'!$D$2:$D$10)*('Suivi absences'!$B$2:$B$10="CPAT"))+ 6*SUMPRODUCT(($A11='Suivi absences'!$A$2:$A$10)*(Calendrier!G$5>='Suivi absences'!$C$2:$C$10)*(Calendrier!G$5<='Suivi absences'!$D$2:$D$10)*('Suivi absences'!$B$2:$B$10="EVF"))+ 7*SUMPRODUCT(($A11='Suivi absences'!$A$2:$A$10)*(Calendrier!G$5>='Suivi absences'!$C$2:$C$10)*(Calendrier!G$5<='Suivi absences'!$D$2:$D$10)*('Suivi absences'!$B$2:$B$10="ABSNR"))+ 8*SUMPRODUCT(($A11='Suivi absences'!$A$2:$A$10)*(Calendrier!G$5>='Suivi absences'!$C$2:$C$10)*(Calendrier!G$5<='Suivi absences'!$D$2:$D$10)*('Suivi absences'!$B$2:$B$10="NJ"))+ 9*SUMPRODUCT(($A11='Suivi absences'!$A$2:$A$10)*(Calendrier!G$5>='Suivi absences'!$C$2:$C$10)*(Calendrier!G$5<='Suivi absences'!$D$2:$D$10)*('Suivi absences'!$B$2:$B$10="FOR")) -> 0 | H11: =SUMPRODUCT(($A11='Suivi absences'!$A$2:$A$10)*(Calendrier!H$5>='Suivi absences'!$C$2:$C$10)*(Calendrier!H$5<='Suivi absences'!$D$2:$D$10)*('Suivi absences'!$B$2:$B$10="CP"))+ 2*SUMPRODUCT(($A11='Suivi absences'!$A$2:$A$10)*(Calendrier!H$5>='Suivi absences'!$C$2:$C$10)*(Calendrier!H$5<='Suivi absences'!$D$2:$D$10)*('Suivi absences'!$B$2:$B$10="MAL"))+ 3*SUMPRODUCT(($A11='Suivi absences'!$A$2:$A$10)*(Calendrier!H$5>='Suivi absences'!$C$2:$C$10)*(Calendrier!H$5<='Suivi absences'!$D$2:$D$10)*('Suivi absences'!$B$2:$B$10="CMAT"))+ 4*SUMPRODUCT(($A11='Suivi absences'!$A$2:$A$10)*(Calendrier!H$5>='Suivi absences'!$C$2:$C$10)*(Calendrier!H$5<='Suivi absences'!$D$2:$D$10)*('Suivi absences'!$B$2:$B$10="CPA"))+ 5*SUMPRODUCT(($A11='Suivi absences'!$A$2:$A$10)*(Calendrier!H$5>='Suivi absences'!$C$2:$C$10)*(Calendrier!H$5<='Suivi absences'!$D$2:$D$10)*('Suivi absences'!$B$2:$B$10="CPAT"))+ 6*SUMPRODUCT(($A11='Suivi absences'!$A$2:$A$10)*(Calendrier!H$5>='Suivi absences'!$C$2:$C$10)*(Calendrier!H$5<='Suivi absences'!$D$2:$D$10)*('Suivi absences'!$B$2:$B$10="EVF"))+ 7*SUMPRODUCT(($A11='Suivi absences'!$A$2:$A$10)*(Calendrier!H$5>='Suivi absences'!$C$2:$C$10)*(Calendrier!H$5<='Suivi absences'!$D$2:$D$10)*('Suivi absences'!$B$2:$B$10="ABSNR"))+ 8*SUMPRODUCT(($A11='Suivi absences'!$A$2:$A$10)*(Calendrier!H$5>='Suivi absences'!$C$2:$C$10)*(Calendrier!H$5<='Suivi absences'!$D$2:$D$10)*('Suivi absences'!$B$2:$B$10="NJ"))+ 9*SUMPRODUCT(($A11='Suivi absences'!$A$2:$A$10)*(Calendrier!H$5>='Suivi absences'!$C$2:$C$10)*(Calendrier!H$5<='Suivi absences'!$D$2:$D$10)*('Suivi absences'!$B$2:$B$10="FOR")) -> 0 | I11: =SUMPRODUCT(($A11='Suivi absences'!$A$2:$A$10)*(Calendrier!I$5>='Suivi absences'!$C$2:$C$10)*(Calendrier!I$5<='Suivi absences'!$D$2:$D$10)*('Suivi absences'!$B$2:$B$10="CP"))+ 2*SUMPRODUCT(($A11='Suivi absences'!$A$2:$A$10)*(Calendrier!I$5>='Suivi absences'!$C$2:$C$10)*(Calendrier!I$5<='Suivi absences'!$D$2:$D$10)*('Suivi absences'!$B$2:$B$10="MAL"))+ 3*SUMPRODUCT(($A11='Suivi absences'!$A$2:$A$10)*(Calendrier!I$5>='Suivi absences'!$C$2:$C$10)*(Calendrier!I$5<='Suivi absences'!$D$2:$D$10)*('Suivi absences'!$B$2:$B$10="CMAT"))+ 4*SUMPRODUCT(($A11='Suivi absences'!$A$2:$A$10)*(Calendrier!I$5>='Suivi absences'!$C$2:$C$10)*(Calendrier!I$5<='Suivi absences'!$D$2:$D$10)*('Suivi absences'!$B$2:$B$10="CPA"))+ 5*SUMPRODUCT(($A11='Suivi absences'!$A$2:$A$10)*(Calendrier!I$5>='Suivi absences'!$C$2:$C$10)*(Calendrier!I$5<='Suivi absences'!$D$2:$D$10)*('Suivi absences'!$B$2:$B$10="CPAT"))+ 6*SUMPRODUCT(($A11='Suivi absences'!$A$2:$A$10)*(Calendrier!I$5>='Suivi absences'!$C$2:$C$10)*(Calendrier!I$5<='Suivi absences'!$D$2:$D$10)*('Suivi absences'!$B$2:$B$10="EVF"))+ 7*SUMPRODUCT(($A11='Suivi absences'!$A$2:$A$10)*(Calendrier!I$5>='Suivi absences'!$C$2:$C$10)*(Calendrier!I$5<='Suivi absences'!$D$2:$D$10)*('Suivi absences'!$B$2:$B$10="ABSNR"))+ 8*SUMPRODUCT(($A11='Suivi absences'!$A$2:$A$10)*(Calendrier!I$5>='Suivi absences'!$C$2:$C$10)*(Calendrier!I$5<='Suivi absences'!$D$2:$D$10)*('Suivi absences'!$B$2:$B$10="NJ"))+ 9*SUMPRODUCT(($A11='Suivi absences'!$A$2:$A$10)*(Calendrier!I$5>='Suivi absences'!$C$2:$C$10)*(Calendrier!I$5<='Suivi absences'!$D$2:$D$10)*('Suivi absences'!$B$2:$B$10="FOR")) -> 0 | ... AF11: =SUMPRODUCT(($A11='Suivi absences'!$A$2:$A$10)*(Calendrier!AF$5>='Suivi absences'!$C$2:$C$10)*(Calendrier!AF$5<='Suivi absences'!$D$2:$D$10)*('Suivi absences'!$B$2:$B$10="CP"))+ 2*SUMPRODUCT(($A11='Suivi absences'!$A$2:$A$10)*(Calendrier!AF$5>='Suivi absences'!$C$2:$C$10)*(Calendrier!AF$5<='Suivi absences'!$D$2:$D$10)*('Suivi absences'!$B$2:$B$10="MAL"))+ 3*SUMPRODUCT(($A11='Suivi absences'!$A$2:$A$10)*(Calendrier!AF$5>='Suivi absences'!$C$2:$C$10)*(Calendrier!AF$5<='Suivi absences'!$D$2:$D$10)*('Suivi absences'!$B$2:$B$10="CMAT"))+ 4*SUMPRODUCT(($A11='Suivi absences'!$A$2:$A$10)*(Calendrier!AF$5>='Suivi absences'!$C$2:$C$10)*(Calendrier!AF$5<='Suivi absences'!$D$2:$D$10)*('Suivi absences'!$B$2:$B$10="CPA"))+ 5*SUMPRODUCT(($A11='Suivi absences'!$A$2:$A$10)*(Calendrier!AF$5>='Suivi absences'!$C$2:$C$10)*(Calendrier!AF$5<='Suivi absences'!$D$2:$D$10)*('Suivi absences'!$B$2:$B$10="CPAT"))+ 6*SUMPRODUCT(($A11='Suivi absences'!$A$2:$A$10)*(Calendrier!AF$5>='Suivi absences'!$C$2:$C$10)*(Calendrier!AF$5<='Suivi absences'!$D$2:$D$10)*('Suivi absences'!$B$2:$B$10="EVF"))+ 7*SUMPRODUCT(($A11='Suivi absences'!$A$2:$A$10)*(Calendrier!AF$5>='Suivi absences'!$C$2:$C$10)*(Calendrier!AF$5<='Suivi absences'!$D$2:$D$10)*('Suivi absences'!$B$2:$B$10="ABSNR"))+ 8*SUMPRODUCT(($A11='Suivi absences'!$A$2:$A$10)*(Calendrier!AF$5>='Suivi absences'!$C$2:$C$10)*(Calendrier!AF$5<='Suivi absences'!$D$2:$D$10)*('Suivi absences'!$B$2:$B$10="NJ"))+ 9*SUMPRODUCT(($A11='Suivi absences'!$A$2:$A$10)*(Calendrier!AF$5>='Suivi absences'!$C$2:$C$10)*(Calendrier!AF$5<='Suivi absences'!$D$2:$D$10)*('Suivi absences'!$B$2:$B$10="FOR")) -> 0
A12: Pierre | B12: =SUMPRODUCT(($A12='Suivi absences'!$A$2:$A$10)*(Calendrier!B$5>='Suivi absences'!$C$2:$C$10)*(Calendrier!B$5<='Suivi absences'!$D$2:$D$10)*('Suivi absences'!$B$2:$B$10="CP"))+ 2*SUMPRODUCT(($A12='Suivi absences'!$A$2:$A$10)*(Calendrier!B$5>='Suivi absences'!$C$2:$C$10)*(Calendrier!B$5<='Suivi absences'!$D$2:$D$10)*('Suivi absences'!$B$2:$B$10="MAL"))+ 3*SUMPRODUCT(($A12='Suivi absences'!$A$2:$A$10)*(Calendrier!B$5>='Suivi absences'!$C$2:$C$10)*(Calendrier!B$5<='Suivi absences'!$D$2:$D$10)*('Suivi absences'!$B$2:$B$10="CMAT"))+ 4*SUMPRODUCT(($A12='Suivi absences'!$A$2:$A$10)*(Calendrier!B$5>='Suivi absences'!$C$2:$C$10)*(Calendrier!B$5<='Suivi absences'!$D$2:$D$10)*('Suivi absences'!$B$2:$B$10="CPA"))+ 5*SUMPRODUCT(($A12='Suivi absences'!$A$2:$A$10)*(Calendrier!B$5>='Suivi absences'!$C$2:$C$10)*(Calendrier!B$5<='Suivi absences'!$D$2:$D$10)*('Suivi absences'!$B$2:$B$10="CPAT"))+ 6*SUMPRODUCT(($A12='Suivi absences'!$A$2:$A$10)*(Calendrier!B$5>='Suivi absences'!$C$2:$C$10)*(Calendrier!B$5<='Suivi absences'!$D$2:$D$10)*('Suivi absences'!$B$2:$B$10="EVF"))+ 7*SUMPRODUCT(($A12='Suivi absences'!$A$2:$A$10)*(Calendrier!B$5>='Suivi absences'!$C$2:$C$10)*(Calendrier!B$5<='Suivi absences'!$D$2:$D$10)*('Suivi absences'!$B$2:$B$10="ABSNR"))+ 8*SUMPRODUCT(($A12='Suivi absences'!$A$2:$A$10)*(Calendrier!B$5>='Suivi absences'!$C$2:$C$10)*(Calendrier!B$5<='Suivi absences'!$D$2:$D$10)*('Suivi absences'!$B$2:$B$10="NJ"))+ 9*SUMPRODUCT(($A12='Suivi absences'!$A$2:$A$10)*(Calendrier!B$5>='Suivi absences'!$C$2:$C$10)*(Calendrier!B$5<='Suivi absences'!$D$2:$D$10)*('Suivi absences'!$B$2:$B$10="FOR")) -> 0 | C12: =SUMPRODUCT(($A12='Suivi absences'!$A$2:$A$10)*(Calendrier!C$5>='Suivi absences'!$C$2:$C$10)*(Calendrier!C$5<='Suivi absences'!$D$2:$D$10)*('Suivi absences'!$B$2:$B$10="CP"))+ 2*SUMPRODUCT(($A12='Suivi absences'!$A$2:$A$10)*(Calendrier!C$5>='Suivi absences'!$C$2:$C$10)*(Calendrier!C$5<='Suivi absences'!$D$2:$D$10)*('Suivi absences'!$B$2:$B$10="MAL"))+ 3*SUMPRODUCT(($A12='Suivi absences'!$A$2:$A$10)*(Calendrier!C$5>='Suivi absences'!$C$2:$C$10)*(Calendrier!C$5<='Suivi absences'!$D$2:$D$10)*('Suivi absences'!$B$2:$B$10="CMAT"))+ 4*SUMPRODUCT(($A12='Suivi absences'!$A$2:$A$10)*(Calendrier!C$5>='Suivi absences'!$C$2:$C$10)*(Calendrier!C$5<='Suivi absences'!$D$2:$D$10)*('Suivi absences'!$B$2:$B$10="CPA"))+ 5*SUMPRODUCT(($A12='Suivi absences'!$A$2:$A$10)*(Calendrier!C$5>='Suivi absences'!$C$2:$C$10)*(Calendrier!C$5<='Suivi absences'!$D$2:$D$10)*('Suivi absences'!$B$2:$B$10="CPAT"))+ 6*SUMPRODUCT(($A12='Suivi absences'!$A$2:$A$10)*(Calendrier!C$5>='Suivi absences'!$C$2:$C$10)*(Calendrier!C$5<='Suivi absences'!$D$2:$D$10)*('Suivi absences'!$B$2:$B$10="EVF"))+ 7*SUMPRODUCT(($A12='Suivi absences'!$A$2:$A$10)*(Calendrier!C$5>='Suivi absences'!$C$2:$C$10)*(Calendrier!C$5<='Suivi absences'!$D$2:$D$10)*('Suivi absences'!$B$2:$B$10="ABSNR"))+ 8*SUMPRODUCT(($A12='Suivi absences'!$A$2:$A$10)*(Calendrier!C$5>='Suivi absences'!$C$2:$C$10)*(Calendrier!C$5<='Suivi absences'!$D$2:$D$10)*('Suivi absences'!$B$2:$B$10="NJ"))+ 9*SUMPRODUCT(($A12='Suivi absences'!$A$2:$A$10)*(Calendrier!C$5>='Suivi absences'!$C$2:$C$10)*(Calendrier!C$5<='Suivi absences'!$D$2:$D$10)*('Suivi absences'!$B$2:$B$10="FOR")) -> 0 | D12: =SUMPRODUCT(($A12='Suivi absences'!$A$2:$A$10)*(Calendrier!D$5>='Suivi absences'!$C$2:$C$10)*(Calendrier!D$5<='Suivi absences'!$D$2:$D$10)*('Suivi absences'!$B$2:$B$10="CP"))+ 2*SUMPRODUCT(($A12='Suivi absences'!$A$2:$A$10)*(Calendrier!D$5>='Suivi absences'!$C$2:$C$10)*(Calendrier!D$5<='Suivi absences'!$D$2:$D$10)*('Suivi absences'!$B$2:$B$10="MAL"))+ 3*SUMPRODUCT(($A12='Suivi absences'!$A$2:$A$10)*(Calendrier!D$5>='Suivi absences'!$C$2:$C$10)*(Calendrier!D$5<='Suivi absences'!$D$2:$D$10)*('Suivi absences'!$B$2:$B$10="CMAT"))+ 4*SUMPRODUCT(($A12='Suivi absences'!$A$2:$A$10)*(Calendrier!D$5>='Suivi absences'!$C$2:$C$10)*(Calendrier!D$5<='Suivi absences'!$D$2:$D$10)*('Suivi absences'!$B$2:$B$10="CPA"))+ 5*SUMPRODUCT(($A12='Suivi absences'!$A$2:$A$10)*(Calendrier!D$5>='Suivi absences'!$C$2:$C$10)*(Calendrier!D$5<='Suivi absences'!$D$2:$D$10)*('Suivi absences'!$B$2:$B$10="CPAT"))+ 6*SUMPRODUCT(($A12='Suivi absences'!$A$2:$A$10)*(Calendrier!D$5>='Suivi absences'!$C$2:$C$10)*(Calendrier!D$5<='Suivi absences'!$D$2:$D$10)*('Suivi absences'!$B$2:$B$10="EVF"))+ 7*SUMPRODUCT(($A12='Suivi absences'!$A$2:$A$10)*(Calendrier!D$5>='Suivi absences'!$C$2:$C$10)*(Calendrier!D$5<='Suivi absences'!$D$2:$D$10)*('Suivi absences'!$B$2:$B$10="ABSNR"))+ 8*SUMPRODUCT(($A12='Suivi absences'!$A$2:$A$10)*(Calendrier!D$5>='Suivi absences'!$C$2:$C$10)*(Calendrier!D$5<='Suivi absences'!$D$2:$D$10)*('Suivi absences'!$B$2:$B$10="NJ"))+ 9*SUMPRODUCT(($A12='Suivi absences'!$A$2:$A$10)*(Calendrier!D$5>='Suivi absences'!$C$2:$C$10)*(Calendrier!D$5<='Suivi absences'!$D$2:$D$10)*('Suivi absences'!$B$2:$B$10="FOR")) -> 0 | E12: =SUMPRODUCT(($A12='Suivi absences'!$A$2:$A$10)*(Calendrier!E$5>='Suivi absences'!$C$2:$C$10)*(Calendrier!E$5<='Suivi absences'!$D$2:$D$10)*('Suivi absences'!$B$2:$B$10="CP"))+ 2*SUMPRODUCT(($A12='Suivi absences'!$A$2:$A$10)*(Calendrier!E$5>='Suivi absences'!$C$2:$C$10)*(Calendrier!E$5<='Suivi absences'!$D$2:$D$10)*('Suivi absences'!$B$2:$B$10="MAL"))+ 3*SUMPRODUCT(($A12='Suivi absences'!$A$2:$A$10)*(Calendrier!E$5>='Suivi absences'!$C$2:$C$10)*(Calendrier!E$5<='Suivi absences'!$D$2:$D$10)*('Suivi absences'!$B$2:$B$10="CMAT"))+ 4*SUMPRODUCT(($A12='Suivi absences'!$A$2:$A$10)*(Calendrier!E$5>='Suivi absences'!$C$2:$C$10)*(Calendrier!E$5<='Suivi absences'!$D$2:$D$10)*('Suivi absences'!$B$2:$B$10="CPA"))+ 5*SUMPRODUCT(($A12='Suivi absences'!$A$2:$A$10)*(Calendrier!E$5>='Suivi absences'!$C$2:$C$10)*(Calendrier!E$5<='Suivi absences'!$D$2:$D$10)*('Suivi absences'!$B$2:$B$10="CPAT"))+ 6*SUMPRODUCT(($A12='Suivi absences'!$A$2:$A$10)*(Calendrier!E$5>='Suivi absences'!$C$2:$C$10)*(Calendrier!E$5<='Suivi absences'!$D$2:$D$10)*('Suivi absences'!$B$2:$B$10="EVF"))+ 7*SUMPRODUCT(($A12='Suivi absences'!$A$2:$A$10)*(Calendrier!E$5>='Suivi absences'!$C$2:$C$10)*(Calendrier!E$5<='Suivi absences'!$D$2:$D$10)*('Suivi absences'!$B$2:$B$10="ABSNR"))+ 8*SUMPRODUCT(($A12='Suivi absences'!$A$2:$A$10)*(Calendrier!E$5>='Suivi absences'!$C$2:$C$10)*(Calendrier!E$5<='Suivi absences'!$D$2:$D$10)*('Suivi absences'!$B$2:$B$10="NJ"))+ 9*SUMPRODUCT(($A12='Suivi absences'!$A$2:$A$10)*(Calendrier!E$5>='Suivi absences'!$C$2:$C$10)*(Calendrier!E$5<='Suivi absences'!$D$2:$D$10)*('Suivi absences'!$B$2:$B$10="FOR")) -> 0 | F12: =SUMPRODUCT(($A12='Suivi absences'!$A$2:$A$10)*(Calendrier!F$5>='Suivi absences'!$C$2:$C$10)*(Calendrier!F$5<='Suivi absences'!$D$2:$D$10)*('Suivi absences'!$B$2:$B$10="CP"))+ 2*SUMPRODUCT(($A12='Suivi absences'!$A$2:$A$10)*(Calendrier!F$5>='Suivi absences'!$C$2:$C$10)*(Calendrier!F$5<='Suivi absences'!$D$2:$D$10)*('Suivi absences'!$B$2:$B$10="MAL"))+ 3*SUMPRODUCT(($A12='Suivi absences'!$A$2:$A$10)*(Calendrier!F$5>='Suivi absences'!$C$2:$C$10)*(Calendrier!F$5<='Suivi absences'!$D$2:$D$10)*('Suivi absences'!$B$2:$B$10="CMAT"))+ 4*SUMPRODUCT(($A12='Suivi absences'!$A$2:$A$10)*(Calendrier!F$5>='Suivi absences'!$C$2:$C$10)*(Calendrier!F$5<='Suivi absences'!$D$2:$D$10)*('Suivi absences'!$B$2:$B$10="CPA"))+ 5*SUMPRODUCT(($A12='Suivi absences'!$A$2:$A$10)*(Calendrier!F$5>='Suivi absences'!$C$2:$C$10)*(Calendrier!F$5<='Suivi absences'!$D$2:$D$10)*('Suivi absences'!$B$2:$B$10="CPAT"))+ 6*SUMPRODUCT(($A12='Suivi absences'!$A$2:$A$10)*(Calendrier!F$5>='Suivi absences'!$C$2:$C$10)*(Calendrier!F$5<='Suivi absences'!$D$2:$D$10)*('Suivi absences'!$B$2:$B$10="EVF"))+ 7*SUMPRODUCT(($A12='Suivi absences'!$A$2:$A$10)*(Calendrier!F$5>='Suivi absences'!$C$2:$C$10)*(Calendrier!F$5<='Suivi absences'!$D$2:$D$10)*('Suivi absences'!$B$2:$B$10="ABSNR"))+ 8*SUMPRODUCT(($A12='Suivi absences'!$A$2:$A$10)*(Calendrier!F$5>='Suivi absences'!$C$2:$C$10)*(Calendrier!F$5<='Suivi absences'!$D$2:$D$10)*('Suivi absences'!$B$2:$B$10="NJ"))+ 9*SUMPRODUCT(($A12='Suivi absences'!$A$2:$A$10)*(Calendrier!F$5>='Suivi absences'!$C$2:$C$10)*(Calendrier!F$5<='Suivi absences'!$D$2:$D$10)*('Suivi absences'!$B$2:$B$10="FOR")) -> 0 | G12: =SUMPRODUCT(($A12='Suivi absences'!$A$2:$A$10)*(Calendrier!G$5>='Suivi absences'!$C$2:$C$10)*(Calendrier!G$5<='Suivi absences'!$D$2:$D$10)*('Suivi absences'!$B$2:$B$10="CP"))+ 2*SUMPRODUCT(($A12='Suivi absences'!$A$2:$A$10)*(Calendrier!G$5>='Suivi absences'!$C$2:$C$10)*(Calendrier!G$5<='Suivi absences'!$D$2:$D$10)*('Suivi absences'!$B$2:$B$10="MAL"))+ 3*SUMPRODUCT(($A12='Suivi absences'!$A$2:$A$10)*(Calendrier!G$5>='Suivi absences'!$C$2:$C$10)*(Calendrier!G$5<='Suivi absences'!$D$2:$D$10)*('Suivi absences'!$B$2:$B$10="CMAT"))+ 4*SUMPRODUCT(($A12='Suivi absences'!$A$2:$A$10)*(Calendrier!G$5>='Suivi absences'!$C$2:$C$10)*(Calendrier!G$5<='Suivi absences'!$D$2:$D$10)*('Suivi absences'!$B$2:$B$10="CPA"))+ 5*SUMPRODUCT(($A12='Suivi absences'!$A$2:$A$10)*(Calendrier!G$5>='Suivi absences'!$C$2:$C$10)*(Calendrier!G$5<='Suivi absences'!$D$2:$D$10)*('Suivi absences'!$B$2:$B$10="CPAT"))+ 6*SUMPRODUCT(($A12='Suivi absences'!$A$2:$A$10)*(Calendrier!G$5>='Suivi absences'!$C$2:$C$10)*(Calendrier!G$5<='Suivi absences'!$D$2:$D$10)*('Suivi absences'!$B$2:$B$10="EVF"))+ 7*SUMPRODUCT(($A12='Suivi absences'!$A$2:$A$10)*(Calendrier!G$5>='Suivi absences'!$C$2:$C$10)*(Calendrier!G$5<='Suivi absences'!$D$2:$D$10)*('Suivi absences'!$B$2:$B$10="ABSNR"))+ 8*SUMPRODUCT(($A12='Suivi absences'!$A$2:$A$10)*(Calendrier!G$5>='Suivi absences'!$C$2:$C$10)*(Calendrier!G$5<='Suivi absences'!$D$2:$D$10)*('Suivi absences'!$B$2:$B$10="NJ"))+ 9*SUMPRODUCT(($A12='Suivi absences'!$A$2:$A$10)*(Calendrier!G$5>='Suivi absences'!$C$2:$C$10)*(Calendrier!G$5<='Suivi absences'!$D$2:$D$10)*('Suivi absences'!$B$2:$B$10="FOR")) -> 0 | H12: =SUMPRODUCT(($A12='Suivi absences'!$A$2:$A$10)*(Calendrier!H$5>='Suivi absences'!$C$2:$C$10)*(Calendrier!H$5<='Suivi absences'!$D$2:$D$10)*('Suivi absences'!$B$2:$B$10="CP"))+ 2*SUMPRODUCT(($A12='Suivi absences'!$A$2:$A$10)*(Calendrier!H$5>='Suivi absences'!$C$2:$C$10)*(Calendrier!H$5<='Suivi absences'!$D$2:$D$10)*('Suivi absences'!$B$2:$B$10="MAL"))+ 3*SUMPRODUCT(($A12='Suivi absences'!$A$2:$A$10)*(Calendrier!H$5>='Suivi absences'!$C$2:$C$10)*(Calendrier!H$5<='Suivi absences'!$D$2:$D$10)*('Suivi absences'!$B$2:$B$10="CMAT"))+ 4*SUMPRODUCT(($A12='Suivi absences'!$A$2:$A$10)*(Calendrier!H$5>='Suivi absences'!$C$2:$C$10)*(Calendrier!H$5<='Suivi absences'!$D$2:$D$10)*('Suivi absences'!$B$2:$B$10="CPA"))+ 5*SUMPRODUCT(($A12='Suivi absences'!$A$2:$A$10)*(Calendrier!H$5>='Suivi absences'!$C$2:$C$10)*(Calendrier!H$5<='Suivi absences'!$D$2:$D$10)*('Suivi absences'!$B$2:$B$10="CPAT"))+ 6*SUMPRODUCT(($A12='Suivi absences'!$A$2:$A$10)*(Calendrier!H$5>='Suivi absences'!$C$2:$C$10)*(Calendrier!H$5<='Suivi absences'!$D$2:$D$10)*('Suivi absences'!$B$2:$B$10="EVF"))+ 7*SUMPRODUCT(($A12='Suivi absences'!$A$2:$A$10)*(Calendrier!H$5>='Suivi absences'!$C$2:$C$10)*(Calendrier!H$5<='Suivi absences'!$D$2:$D$10)*('Suivi absences'!$B$2:$B$10="ABSNR"))+ 8*SUMPRODUCT(($A12='Suivi absences'!$A$2:$A$10)*(Calendrier!H$5>='Suivi absences'!$C$2:$C$10)*(Calendrier!H$5<='Suivi absences'!$D$2:$D$10)*('Suivi absences'!$B$2:$B$10="NJ"))+ 9*SUMPRODUCT(($A12='Suivi absences'!$A$2:$A$10)*(Calendrier!H$5>='Suivi absences'!$C$2:$C$10)*(Calendrier!H$5<='Suivi absences'!$D$2:$D$10)*('Suivi absences'!$B$2:$B$10="FOR")) -> 0 | I12: =SUMPRODUCT(($A12='Suivi absences'!$A$2:$A$10)*(Calendrier!I$5>='Suivi absences'!$C$2:$C$10)*(Calendrier!I$5<='Suivi absences'!$D$2:$D$10)*('Suivi absences'!$B$2:$B$10="CP"))+ 2*SUMPRODUCT(($A12='Suivi absences'!$A$2:$A$10)*(Calendrier!I$5>='Suivi absences'!$C$2:$C$10)*(Calendrier!I$5<='Suivi absences'!$D$2:$D$10)*('Suivi absences'!$B$2:$B$10="MAL"))+ 3*SUMPRODUCT(($A12='Suivi absences'!$A$2:$A$10)*(Calendrier!I$5>='Suivi absences'!$C$2:$C$10)*(Calendrier!I$5<='Suivi absences'!$D$2:$D$10)*('Suivi absences'!$B$2:$B$10="CMAT"))+ 4*SUMPRODUCT(($A12='Suivi absences'!$A$2:$A$10)*(Calendrier!I$5>='Suivi absences'!$C$2:$C$10)*(Calendrier!I$5<='Suivi absences'!$D$2:$D$10)*('Suivi absences'!$B$2:$B$10="CPA"))+ 5*SUMPRODUCT(($A12='Suivi absences'!$A$2:$A$10)*(Calendrier!I$5>='Suivi absences'!$C$2:$C$10)*(Calendrier!I$5<='Suivi absences'!$D$2:$D$10)*('Suivi absences'!$B$2:$B$10="CPAT"))+ 6*SUMPRODUCT(($A12='Suivi absences'!$A$2:$A$10)*(Calendrier!I$5>='Suivi absences'!$C$2:$C$10)*(Calendrier!I$5<='Suivi absences'!$D$2:$D$10)*('Suivi absences'!$B$2:$B$10="EVF"))+ 7*SUMPRODUCT(($A12='Suivi absences'!$A$2:$A$10)*(Calendrier!I$5>='Suivi absences'!$C$2:$C$10)*(Calendrier!I$5<='Suivi absences'!$D$2:$D$10)*('Suivi absences'!$B$2:$B$10="ABSNR"))+ 8*SUMPRODUCT(($A12='Suivi absences'!$A$2:$A$10)*(Calendrier!I$5>='Suivi absences'!$C$2:$C$10)*(Calendrier!I$5<='Suivi absences'!$D$2:$D$10)*('Suivi absences'!$B$2:$B$10="NJ"))+ 9*SUMPRODUCT(($A12='Suivi absences'!$A$2:$A$10)*(Calendrier!I$5>='Suivi absences'!$C$2:$C$10)*(Calendrier!I$5<='Suivi absences'!$D$2:$D$10)*('Suivi absences'!$B$2:$B$10="FOR")) -> 0 | ... AF12: =SUMPRODUCT(($A12='Suivi absences'!$A$2:$A$10)*(Calendrier!AF$5>='Suivi absences'!$C$2:$C$10)*(Calendrier!AF$5<='Suivi absences'!$D$2:$D$10)*('Suivi absences'!$B$2:$B$10="CP"))+ 2*SUMPRODUCT(($A12='Suivi absences'!$A$2:$A$10)*(Calendrier!AF$5>='Suivi absences'!$C$2:$C$10)*(Calendrier!AF$5<='Suivi absences'!$D$2:$D$10)*('Suivi absences'!$B$2:$B$10="MAL"))+ 3*SUMPRODUCT(($A12='Suivi absences'!$A$2:$A$10)*(Calendrier!AF$5>='Suivi absences'!$C$2:$C$10)*(Calendrier!AF$5<='Suivi absences'!$D$2:$D$10)*('Suivi absences'!$B$2:$B$10="CMAT"))+ 4*SUMPRODUCT(($A12='Suivi absences'!$A$2:$A$10)*(Calendrier!AF$5>='Suivi absences'!$C$2:$C$10)*(Calendrier!AF$5<='Suivi absences'!$D$2:$D$10)*('Suivi absences'!$B$2:$B$10="CPA"))+ 5*SUMPRODUCT(($A12='Suivi absences'!$A$2:$A$10)*(Calendrier!AF$5>='Suivi absences'!$C$2:$C$10)*(Calendrier!AF$5<='Suivi absences'!$D$2:$D$10)*('Suivi absences'!$B$2:$B$10="CPAT"))+ 6*SUMPRODUCT(($A12='Suivi absences'!$A$2:$A$10)*(Calendrier!AF$5>='Suivi absences'!$C$2:$C$10)*(Calendrier!AF$5<='Suivi absences'!$D$2:$D$10)*('Suivi absences'!$B$2:$B$10="EVF"))+ 7*SUMPRODUCT(($A12='Suivi absences'!$A$2:$A$10)*(Calendrier!AF$5>='Suivi absences'!$C$2:$C$10)*(Calendrier!AF$5<='Suivi absences'!$D$2:$D$10)*('Suivi absences'!$B$2:$B$10="ABSNR"))+ 8*SUMPRODUCT(($A12='Suivi absences'!$A$2:$A$10)*(Calendrier!AF$5>='Suivi absences'!$C$2:$C$10)*(Calendrier!AF$5<='Suivi absences'!$D$2:$D$10)*('Suivi absences'!$B$2:$B$10="NJ"))+ 9*SUMPRODUCT(($A12='Suivi absences'!$A$2:$A$10)*(Calendrier!AF$5>='Suivi absences'!$C$2:$C$10)*(Calendrier!AF$5<='Suivi absences'!$D$2:$D$10)*('Suivi absences'!$B$2:$B$10="FOR")) -> 0
A15: Légende
C16: CP | D16: MAL | E16: CMAT | F16: CPA | G16: CPAT | H16: EVF | I16: ABSNR | J16: NJ | K16: FOR
A17: Jours chômés | B17: Jours fériés | C17: Congés Payés | D17: Maladie | E17: Congé Maternité | F17: Congé parental | G17: Congé Paternité | H17: Evénement familial | I17: Absence non rémunérée | J17: Non justifiée | K17: Formation

Sheet Suivi absences
A1: Employés | B1: Absences | C1: Début | D1: Fin | E1: Total
A2: Mélissa | B2: FOR | C2: 43133 | D2: 43133 | E2: =IF(ISBLANK(D2),"",D2-C2+1) -> 1
A3: Calix | B3: CP | C3: 43137 | D3: 43140 | E3: =IF(ISBLANK(D3),"",D3-C3+1) -> 4
A4: Mathias | B4: MAL | C4: 43138 | D4: 43139 | E4: =IF(ISBLANK(D4),"",D4-C4+1) -> 2
A5: Mélissa | B5: FOR | C5: 43140 | D5: 43140 | E5: =IF(ISBLANK(D5),"",D5-C5+1) -> 1
A6: Alexandre | B6: CP | C6: 43141 | D6: 43142 | E6: =IF(ISBLANK(D6),"",D6-C6+1) -> 2
A7: Mélissa | B7: FOR | C7: 43147 | D7: 43147 | E7: =IF(ISBLANK(D7),"",D7-C7+1) -> 1
A8: Pierre | B8: CP | C8: 43150 | D8: 43155 | E8: =IF(ISBLANK(D8),"",D8-C8+1) -> 6
A9: Mélissa | B9: FOR | C9: 43150 | D9: 43154 | E9: =IF(ISBLANK(D9),"",D9-C9+1) -> 5
A10: Johan | B10: CPAT | C10: 43158 | D10: 43159 | E10: =IF(ISBLANK(D10),"",D10-C10+1) -> 2
E11: =IF(ISBLANK(D11),"",D11-C11+1)
E12: =IF(ISBLANK(D12),"",D12-C12+1)
E13: =IF(ISBLANK(D13),"",D13-C13+1)
E14: =IF(ISBLANK(D14),"",D14-C14+1)
E15: =IF(ISBLANK(D15),"",D15-C15+1)
E16: =IF(ISBLANK(D16),"",D16-C16+1)
E17: =IF(ISBLANK(D17),"",D17-C17+1)
E18: =IF(ISBLANK(D18),"",D18-C18+1)
E19: =IF(ISBLANK(D19),"",D19-C19+1)
E20: =IF(ISBLANK(D20),"",D20-C20+1)
E21: =IF(ISBLANK(D21),"",D21-C21+1)
E22: =IF(ISBLANK(D22),"",D22-C22+1)
E23: =IF(ISBLANK(D23),"",D23-C23+1)

Sheet Solde
A1: RECAPITULATIF | B1: Février | C1: Alexandre | D1: Calix | E1: Johan | F1: Mathias | G1: Mélissa | H1: Nicolas | I1: Pierre
B2: Solde restant CP | C2: =IF(ISBLANK(C16),"",C16) -> 5.5 | D2: =IF(ISBLANK(D16),"",D16) -> 3.5 | E2: =IF(ISBLANK(E16),"",E16) -> 7.5 | F2: =IF(ISBLANK(F16),"",F16) -> 7.5 | G2: =IF(ISBLANK(G16),"",G16) -> 7.5 | H2: =IF(ISBLANK(H16),"",H16) -> 7.5 | I2: =IF(ISBLANK(I16),"",I16) -> 1.5
B3: Total MAL | C3: =IF(ISBLANK(C19),"",C19) -> 0 | D3: =IF(ISBLANK(D19),"",D19) -> 0 | E3: =IF(ISBLANK(E19),"",E19) -> 0 | F3: =IF(ISBLANK(F19),"",F19) -> 2 | G3: =IF(ISBLANK(G19),"",G19) -> 0 | H3: =IF(ISBLANK(H19),"",H19) -> 0 | I3: =IF(ISBLANK(I19),"",I19) -> 0
B4: Total CMAT | C4: =IF(ISBLANK(C22),"",C22) -> 0 | D4: =IF(ISBLANK(D22),"",D22) -> 0 | E4: =IF(ISBLANK(E22),"",E22) -> 0 | F4: =IF(ISBLANK(F22),"",F22) -> 0 | G4: =IF(ISBLANK(G22),"",G22) -> 0 | H4: =IF(ISBLANK(H22),"",H22) -> 0 | I4: =IF(ISBLANK(I22),"",I22) -> 0
B5: Total CPA | C5: =IF(ISBLANK(C25),"",C25) -> 0 | D5: =IF(ISBLANK(D25),"",D25) -> 0 | E5: =IF(ISBLANK(E25),"",E25) -> 0 | F5: =IF(ISBLANK(F25),"",F25) -> 0 | G5: =IF(ISBLANK(G25),"",G25) -> 0 | H5: =IF(ISBLANK(H25),"",H25) -> 0 | I5: =IF(ISBLANK(I25),"",I25) -> 0
B6: Total CPAT | C6: =IF(ISBLANK(C28),"",C28) -> 0 | D6: =IF(ISBLANK(D28),"",D28) -> 0 | E6: =IF(ISBLANK(E28),"",E28) -> 2 | F6: =IF(ISBLANK(F28),"",F28) -> 0 | G6: =IF(ISBLANK(G28),"",G28) -> 0 | H6: =IF(ISBLANK(H28),"",H28) -> 0 | I6: =IF(ISBLANK(I28),"",I28) -> 0
B7: Total EVF | C7: =IF(ISBLANK(C31),"",C31) -> 0 | D7: =IF(ISBLANK(D31),"",D31) -> 0 | E7: =IF(ISBLANK(E31),"",E31) -> 0 | F7: =IF(ISBLANK(F31),"",F31) -> 0 | G7: =IF(ISBLANK(G31),"",G31) -> 0 | H7: =IF(ISBLANK(H31),"",H31) -> 0 | I7: =IF(ISBLANK(I31),"",I31) -> 0
B8: Total ABSNR | C8: =IF(ISBLANK(C34),"",C34) -> 0 | D8: =IF(ISBLANK(D34),"",D34) -> 0 | E8: =IF(ISBLANK(E34),"",E34) -> 0 | F8: =IF(ISBLANK(F34),"",F34) -> 0 | G8: =IF(ISBLANK(G34),"",G34) -> 0 | H8: =IF(ISBLANK(H34),"",H34) -> 0 | I8: =IF(ISBLANK(I34),"",I34) -> 0
B9: Total NJ | C9: =IF(ISBLANK(C37),"",C37) -> 0 | D9: =IF(ISBLANK(D37),"",D37) -> 0 | E9: =IF(ISBLANK(E37),"",E37) -> 0 | F9: =IF(ISBLANK(F37),"",F37) -> 0 | G9: =IF(ISBLANK(G37),"",G37) -> 0 | H9: =IF(ISBLANK(H37),"",H37) -> 0 | I9: =IF(ISBLANK(I37),"",I37) -> 0
B10: Total FOR | C10: =IF(ISBLANK(C40),"",C40) -> 0 | D10: =IF(ISBLANK(D40),"",D40) -> 0 | E10: =IF(ISBLANK(E40),"",E40) -> 0 | F10: =IF(ISBLANK(F40),"",F40) -> 0 | G10: =IF(ISBLANK(G40),"",G40) -> 8 | H10: =IF(ISBLANK(H40),"",H40) -> 0 | I10: =IF(ISBLANK(I40),"",I40) -> 0
A12: Période de référence du 1er Juin au 31 Mai
A13: 2016 - 2017 | B13: CP
B14: SOLDE DEPART | C14: =VLOOKUP($B$1,Variables!$A$19:$C$30,3) -> 7.5 | D14: =VLOOKUP($B$1,Variables!$A$19:$C$30,3) -> 7.5 | E14: =VLOOKUP($B$1,Variables!$A$19:$C$30,3) -> 7.5 | F14: =VLOOKUP($B$1,Variables!$A$19:$C$30,3) -> 7.5 | G14: =VLOOKUP($B$1,Variables!$A$19:$C$30,3) -> 7.5 | H14: =VLOOKUP($B$1,Variables!$A$19:$C$30,3) -> 7.5 | I14: =VLOOKUP($B$1,Variables!$A$19:$C$30,3) -> 7.5
B15: CP PRIS | C15: =SUMIFS('Suivi absences'!E:E,'Suivi absences'!B:B,"CP",'Suivi absences'!A:A,"Alexandre") -> 2 | D15: =SUMIFS('Suivi absences'!E:E,'Suivi absences'!B:B,"CP",'Suivi absences'!A:A,"Calix") -> 4 | E15: =SUMIFS('Suivi absences'!G:G,'Suivi absences'!D:D,"CP",'Suivi absences'!C:C,"Alexandre") -> 0 | F15: =SUMIFS('Suivi absences'!E:E,'Suivi absences'!B:B,"CP",'Suivi absences'!A:A,"Mathias") -> 0 | G15: =SUMIFS('Suivi absences'!E:E,'Suivi absences'!B:B,"CP",'Suivi absences'!A:A,"Mélissa") -> 0 | H15: =SUMIFS('Suivi absences'!E:E,'Suivi absences'!B:B,"CP",'Suivi absences'!A:A,"Nicolas") -> 0 | I15: =SUMIFS('Suivi absences'!E:E,'Suivi absences'!B:B,"CP",'Suivi absences'!A:A,"Pierre") -> 6
B16: SOLDE RESTANT | C16: =C14-C15 -> 5.5 | D16: =D14-D15 -> 3.5 | E16: =E14-E15 -> 7.5 | F16: =F14-F15 -> 7.5 | G16: =G14-G15 -> 7.5 | H16: =H14-H15 -> 7.5 | I16: =I14-I15 -> 1.5
A18: 2016 - 2017 | B18: MAL
B19: TOTAL MAL | C19: =SUMIFS('Suivi absences'!E:E,'Suivi absences'!B:B,"MAL",'Suivi absences'!A:A,"Alexandre") -> 0 | D19: =SUMIFS('Suivi absences'!E:E,'Suivi absences'!B:B,"MAL",'Suivi absences'!A:A,"Calix") -> 0 | E19: =SUMIFS('Suivi absences'!E:E,'Suivi absences'!B:B,"MAL",'Suivi absences'!A:A,"Johan") -> 0 | F19: =SUMIFS('Suivi absences'!E:E,'Suivi absences'!B:B,"MAL",'Suivi absences'!A:A,"Mathias") -> 2 | G19: =SUMIFS('Suivi absences'!E:E,'Suivi absences'!B:B,"MAL",'Suivi absences'!A:A,"Mélissa") -> 0 | H19: =SUMIFS('Suivi absences'!E:E,'Suivi absences'!B:B,"MAL",'Suivi absences'!A:A,"Nicolas") -> 0 | I19: =SUMIFS('Suivi absences'!E:E,'Suivi absences'!B:B,"MAL",'Suivi absences'!A:A,"Pierre") -> 0
A21: 2016 - 2017 | B21: CMAT
B22: TOTAL CMAT | C22: =SUMIFS('Suivi absences'!E:E,'Suivi absences'!B:B,"CMAT",'Suivi absences'!A:A,"Alexandre") -> 0 | D22: =SUMIFS('Suivi absences'!E:E,'Suivi absences'!B:B,"CMAT",'Suivi absences'!A:A,"Calix") -> 0 | E22: =SUMIFS('Suivi absences'!E:E,'Suivi absences'!B:B,"CMAT",'Suivi absences'!A:A,"Johan") -> 0 | F22: =SUMIFS('Suivi absences'!E:E,'Suivi absences'!B:B,"CMAT",'Suivi absences'!A:A,"Mathias") -> 0 | G22: =SUMIFS('Suivi absences'!E:E,'Suivi absences'!B:B,"CMAT",'Suivi absences'!A:A,"Mélissa") -> 0 | H22: =SUMIFS('Suivi absences'!E:E,'Suivi absences'!B:B,"CMAT",'Suivi absences'!A:A,"Nicolas") -> 0 | I22: =SUMIFS('Suivi absences'!E:E,'Suivi absences'!B:B,"CMAT",'Suivi absences'!A:A,"Pierre") -> 0
A24: 2016 - 2017 | B24: CPA
B25: TOTAL CPA | C25: =SUMIFS('Suivi absences'!E:E,'Suivi absences'!B:B,"CPA",'Suivi absences'!A:A,"Alexandre") -> 0 | D25: =SUMIFS('Suivi absences'!E:E,'Suivi absences'!B:B,"CPA",'Suivi absences'!A:A,"Calix") -> 0 | E25: =SUMIFS('Suivi absences'!E:E,'Suivi absences'!B:B,"CPA",'Suivi absences'!A:A,"Johan") -> 0 | F25: =SUMIFS('Suivi absences'!E:E,'Suivi absences'!B:B,"CPA",'Suivi absences'!A:A,"Mathias") -> 0 | G25: =SUMIFS('Suivi absences'!E:E,'Suivi absences'!B:B,"CPA",'Suivi absences'!A:A,"Mélissa") -> 0 | H25: =SUMIFS('Suivi absences'!E:E,'Suivi absences'!B:B,"CPA",'Suivi absences'!A:A,"Nicolas") -> 0 | I25: =SUMIFS('Suivi absences'!E:E,'Suivi absences'!B:B,"CPA",'Suivi absences'!A:A,"Pierre") -> 0
A27: 2016 - 2017 | B27: CPAT
B28: TOTAL CPAT | C28: =SUMIFS('Suivi absences'!E:E,'Suivi absences'!B:B,"CPAT",'Suivi absences'!A:A,"Alexandre") -> 0 | D28: =SUMIFS('Suivi absences'!E:E,'Suivi absences'!B:B,"CPAT",'Suivi absences'!A:A,"Calix") -> 0 | E28: =SUMIFS('Suivi absences'!E:E,'Suivi absences'!B:B,"CPAT",'Suivi absences'!A:A,"Johan") -> 2 | F28: =SUMIFS('Suivi absences'!E:E,'Suivi absences'!B:B,"CPAT",'Suivi absences'!A:A,"Mathias") -> 0 | G28: =SUMIFS('Suivi absences'!E:E,'Suivi absences'!B:B,"CPAT",'Suivi absences'!A:A,"Mélissa") -> 0 | H28: =SUMIFS('Suivi absences'!E:E,'Suivi absences'!B:B,"CPAT",'Suivi absences'!A:A,"Nicolas") -> 0 | I28: =SUMIFS('Suivi absences'!E:E,'Suivi absences'!B:B,"CPAT",'Suivi absences'!A:A,"Pierre") -> 0
A30: 2016 - 2017 | B30: EVF
B31: TOTAL EVF | C31: =SUMIFS('Suivi absences'!E:E,'Suivi absences'!B:B,"EVF",'Suivi absences'!A:A,"Alexandre") -> 0 | D31: =SUMIFS('Suivi absences'!E:E,'Suivi absences'!B:B,"EVF",'Suivi absences'!A:A,"Calix") -> 0 | E31: =SUMIFS('Suivi absences'!E:E,'Suivi absences'!B:B,"EVF",'Suivi absences'!A:A,"Johan") -> 0 | F31: =SUMIFS('Suivi absences'!E:E,'Suivi absences'!B:B,"EVF",'Suivi absences'!A:A,"Mathias") -> 0 | G31: =SUMIFS('Suivi absences'!E:E,'Suivi absences'!B:B,"EVF",'Suivi absences'!A:A,"Mélissa") -> 0 | H31: =SUMIFS('Suivi absences'!E:E,'Suivi absences'!B:B,"EVF",'Suivi absences'!A:A,"Nicolas") -> 0 | I31: =SUMIFS('Suivi absences'!E:E,'Suivi absences'!B:B,"EVF",'Suivi absences'!A:A,"Pierre") -> 0
A33: 2016 - 2017 | B33: ABSNR
B34: TOTAL ABSNR | C34: =SUMIFS('Suivi absences'!E:E,'Suivi absences'!B:B,"ABSNR",'Suivi absences'!A:A,"Alexandre") -> 0 | D34: =SUMIFS('Suivi absences'!E:E,'Suivi absences'!B:B,"ABSNR",'Suivi absences'!A:A,"Calix") -> 0 | E34: =SUMIFS('Suivi absences'!E:E,'Suivi absences'!B:B,"ABSNR",'Suivi absences'!A:A,"Johan") -> 0 | F34: =SUMIFS('Suivi absences'!E:E,'Suivi absences'!B:B,"ABSNR",'Suivi absences'!A:A,"Mathias") -> 0 | G34: =SUMIFS('Suivi absences'!E:E,'Suivi absences'!B:B,"ABSNR",'Suivi absences'!A:A,"Mélissa") -> 0 | H34: =SUMIFS('Suivi absences'!E:E,'Suivi absences'!B:B,"ABSNR",'Suivi absences'!A:A,"Nicolas") -> 0 | I34: =SUMIFS('Suivi absences'!E:E,'Suivi absences'!B:B,"ABSNR",'Suivi absences'!A:A,"Pierre") -> 0
A36: 2016 - 2017 | B36: NJ
B37: TOTAL NJ | C37: =SUMIFS('Suivi absences'!E:E,'Suivi absences'!B:B,"NJ",'Suivi absences'!A:A,"Alexandre") -> 0 | D37: =SUMIFS('Suivi absences'!E:E,'Suivi absences'!B:B,"NJ",'Suivi absences'!A:A,"Calix") -> 0 | E37: =SUMIFS('Suivi absences'!E:E,'Suivi absences'!B:B,"NJ",'Suivi absences'!A:A,"Johan") -> 0 | F37: =SUMIFS('Suivi absences'!E:E,'Suivi absences'!B:B,"NJ",'Suivi absences'!A:A,"Mathias") -> 0 | G37: =SUMIFS('Suivi absences'!E:E,'Suivi absences'!B:B,"NJ",'Suivi absences'!A:A,"Mélissa") -> 0 | H37: =SUMIFS('Suivi absences'!E:E,'Suivi absences'!B:B,"NJ",'Suivi absences'!A:A,"Nicolas") -> 0 | I37: =SUMIFS('Suivi absences'!E:E,'Suivi absences'!B:B,"NJ",'Suivi absences'!A:A,"Pierre") -> 0
A39: 2016 - 2017 | B39: FOR
B40: TOTAL FOR | C40: =SUMIFS('Suivi absences'!E:E,'Suivi absences'!B:B,"FOR",'Suivi absences'!A:A,"Alexandre") -> 0 | D40: =SUMIFS('Suivi absences'!E:E,'Suivi absences'!B:B,"FOR",'Suivi absences'!A:A,"Calix") -> 0 | E40: =SUMIFS('Suivi absences'!E:E,'Suivi absences'!B:B,"FOR",'Suivi absences'!A:A,"Johan") -> 0 | F40: =SUMIFS('Suivi absences'!E:E,'Suivi absences'!B:B,"FOR",'Suivi absences'!A:A,"Mathias") -> 0 | G40: =SUMIFS('Suivi absences'!E:E,'Suivi absences'!B:B,"FOR",'Suivi absences'!A:A,"Mélissa") -> 8 | H40: =SUMIFS('Suivi absences'!E:E,'Suivi absences'!B:B,"FOR",'Suivi absences'!A:A,"Nicolas") -> 0 | I40: =SUMIFS('Suivi absences'!E:E,'Suivi absences'!B:B,"FOR",'Suivi absences'!A:A,"Pierre") -> 0
