Workbook
Name LEGUMES: DATA!$A:$A

Sheet DATA
A1: ESPECE | B1: P.U. | C1: D10 | D1: D20 | E1: temps de culture en semaine
A2: Ail | B2: 10 | C2: / | D2: /
A3: Arroche | B3: 5.7 | C3: / | D3: /
A4: Aubergine | B4: 4.5 | C4: 0.4 | D4: 1.8
A5: Basilic | B5: 1.5
A6: Bette | B6: 2.25 | C6: 1 | D6: 1
A7: Bette | B7: 2.85 | C7: 0.7 | D7: 1.995
A8: Betterave rouge | B8: 1.6 | C8: 0.4 | D8: 0.64
A9: Carotte Botte | B9: 3.2 | C9: 1 | D9: 3.2
A10: Carotte VRAC | B10: 1.9 | C10: 0.5 | D10: 0.95
A11: Céléri à côtes | B11: 1.3 | C11: 1 | D11: 1.3
A12: Céléri à couper | B12: 1.5
A13: Céléri-rave | B13: 1.8 | C13: 1 | D13: 1.8
A14: Cerfeuil | B14: 1.5
A15: Chicon | B15: 4.9 | C15: 0.5 | D15: 2.45
A16: Chicorées divers | B16: 1.9 | C16: 1 | D16: 1.9
A17: Chou blanc/rouge | B17: 1.5 | C17: 1 | D17: 1.5
A18: Chou broccoli | B18: 2.2 | C18: 1 | D18: 2.2
A19: Chou chinois | B19: 1.5 | C19: 1 | D19: 1
A20: Chou chinois | B20: 1.5 | C20: 1 | D20: 1.5
A21: Chou de Bruxeles | B21: 4.5 | C21: 0.3 | D21: 1.35
A22: Chou fleur | B22: 2.2 | C22: 1 | D22: 1
A23: Chou vert frisé | B23: 1.6 | C23: 1 | D23: 1.6
A24: Chou-fleur | B24: 2.2 | C24: 1 | D24: 2.2
A25: Chou-rave | B25: 1.3 | C25: 2 | D25: 2.6
A26: Ciboulette | B26: 1.5
A27: Concombre | B27: 1.4 | C27: 0.3 | D27: 0.42
A28: Courges divers | B28: 2 | C28: 1 | D28: 1
A29: Courgette | B29: 1.75 | C29: 0.5 | D29: 0.875
A30: Cresson | B30: 1.5
A31: Echalotte | B31: 4.5 | C31: 0.2 | D31: 0.9
A32: Epinard | B32: 5.5 | C32: 0.6 | D32: 1.2
A33: Epinard | B33: 5.5 | C33: 0.6 | D33: 3.3
A34: Fenouil | B34: 2.75 | C34: 0.4 | D34: 1.1
A35: Fêve | B35: 2.5 | C35: 0.5 | D35: 0.5
A36: Fève des marais | B36: 2.5 | C36: 0.5 | D36: 1.25
A37: Haricot | B37: 7.5 | C37: 0.4 | D37: 0.8
A38: Haricot | B38: 7.5 | C38: 0.4 | D38: 3
A39: Laitue | B39: 1.5 | C39: 1 | D39: 1
A40: Laitues divers | B40: 1.5 | C40: 1 | D40: 1.5
...

Sheet AVRIL
A5: MOIS | B5: ESPECE | C5: P.U. | D5: DOSE10 | E5: DOSE20 | F5: 14 | I5: 15 | L5: 16 | O5: 17 | R5: 18
F6: D10 | G6: D20 | H6: culture | I6: D10 | J6: D20 | K6: culture | L6: D10 | M6: D20 | N6: culture | O6: D10 | P6: D20 | Q6: culture | R6: D10 | S6: D20 | T6: culture
A7: Aout | B7: Radis | C7: =IF(B7="","",VLOOKUP(B7,Tableau1[],2,0)) -> 1.5 | D7: =IF(B7="","",VLOOKUP(B7,Tableau1[],3,0)) -> 1 | E7: =IF(B7="","",VLOOKUP(B7,Tableau1[],4,0)) -> 1 | F7: 1 | H7: =IF(SUM(F7:G7)>0,F$5-VLOOKUP($B7,Tableau1[],5,0),"") -> 8 | K7: =IF(SUM(I7:J7)>0,I$5-VLOOKUP($B7,Tableau1[],5,0),"") | N7: =IF(SUM(L7:M7)>0,L$5-VLOOKUP($B7,Tableau1[],5,0),"") | Q7: =IF(SUM(O7:P7)>0,O$5-VLOOKUP($B7,Tableau1[],5,0),"") | T7: =IF(SUM(R7:S7)>0,R$5-VLOOKUP($B7,Tableau1[],5,0),"")
B8: Epinard | C8: =IF(B8="","",VLOOKUP(B8,Tableau1[],2,0)) -> 5.5 | D8: =IF(B8="","",VLOOKUP(B8,Tableau1[],3,0)) -> 0.6 | E8: =IF(B8="","",VLOOKUP(B8,Tableau1[],4,0)) -> 1.2 | H8: =IF(SUM(F8:G8)>0,F$5-VLOOKUP($B8,Tableau1[],5,0),"") | K8: =IF(SUM(I8:J8)>0,I$5-VLOOKUP($B8,Tableau1[],5,0),"") | N8: =IF(SUM(L8:M8)>0,L$5-VLOOKUP($B8,Tableau1[],5,0),"") | Q8: =IF(SUM(O8:P8)>0,O$5-VLOOKUP($B8,Tableau1[],5,0),"") | T8: =IF(SUM(R8:S8)>0,R$5-VLOOKUP($B8,Tableau1[],5,0),"")
B9: Roquette | C9: =IF(B9="","",VLOOKUP(B9,Tableau1[],2,0)) -> 15 | D9: =IF(B9="","",VLOOKUP(B9,Tableau1[],3,0)) -> 0.1 | E9: =IF(B9="","",VLOOKUP(B9,Tableau1[],4,0)) -> 0.2 | H9: =IF(SUM(F9:G9)>0,F$5-VLOOKUP($B9,Tableau1[],5,0),"") | K9: =IF(SUM(I9:J9)>0,I$5-VLOOKUP($B9,Tableau1[],5,0),"") | N9: =IF(SUM(L9:M9)>0,L$5-VLOOKUP($B9,Tableau1[],5,0),"") | Q9: =IF(SUM(O9:P9)>0,O$5-VLOOKUP($B9,Tableau1[],5,0),"") | T9: =IF(SUM(R9:S9)>0,R$5-VLOOKUP($B9,Tableau1[],5,0),"")
B10: Concombre | C10: =IF(B10="","",VLOOKUP(B10,Tableau1[],2,0)) -> 1.4 | D10: =IF(B10="","",VLOOKUP(B10,Tableau1[],3,0)) -> 0.3 | E10: =IF(B10="","",VLOOKUP(B10,Tableau1[],4,0)) -> 0.42 | H10: =IF(SUM(F10:G10)>0,F$5-VLOOKUP($B10,Tableau1[],5,0),"") | K10: =IF(SUM(I10:J10)>0,I$5-VLOOKUP($B10,Tableau1[],5,0),"") | N10: =IF(SUM(L10:M10)>0,L$5-VLOOKUP($B10,Tableau1[],5,0),"") | Q10: =IF(SUM(O10:P10)>0,O$5-VLOOKUP($B10,Tableau1[],5,0),"") | T10: =IF(SUM(R10:S10)>0,R$5-VLOOKUP($B10,Tableau1[],5,0),"")
B11: Laitue | C11: =IF(B11="","",VLOOKUP(B11,Tableau1[],2,0)) -> 1.5 | D11: =IF(B11="","",VLOOKUP(B11,Tableau1[],3,0)) -> 1 | E11: =IF(B11="","",VLOOKUP(B11,Tableau1[],4,0)) -> 1 | H11: =IF(SUM(F11:G11)>0,F$5-VLOOKUP($B11,Tableau1[],5,0),"") | K11: =IF(SUM(I11:J11)>0,I$5-VLOOKUP($B11,Tableau1[],5,0),"") | N11: =IF(SUM(L11:M11)>0,L$5-VLOOKUP($B11,Tableau1[],5,0),"") | Q11: =IF(SUM(O11:P11)>0,O$5-VLOOKUP($B11,Tableau1[],5,0),"") | T11: =IF(SUM(R11:S11)>0,R$5-VLOOKUP($B11,Tableau1[],5,0),"")
B12: Cerfeuil | C12: =IF(B12="","",VLOOKUP(B12,Tableau1[],2,0)) -> 1.5 | D12: =IF(B12="","",VLOOKUP(B12,Tableau1[],3,0)) -> 0 | E12: =IF(B12="","",VLOOKUP(B12,Tableau1[],4,0)) -> 0 | H12: =IF(SUM(F12:G12)>0,F$5-VLOOKUP($B12,Tableau1[],5,0),"") | K12: =IF(SUM(I12:J12)>0,I$5-VLOOKUP($B12,Tableau1[],5,0),"") | N12: =IF(SUM(L12:M12)>0,L$5-VLOOKUP($B12,Tableau1[],5,0),"") | Q12: =IF(SUM(O12:P12)>0,O$5-VLOOKUP($B12,Tableau1[],5,0),"") | T12: =IF(SUM(R12:S12)>0,R$5-VLOOKUP($B12,Tableau1[],5,0),"")
B13: Fêve | C13: =IF(B13="","",VLOOKUP(B13,Tableau1[],2,0)) -> 2.5 | D13: =IF(B13="","",VLOOKUP(B13,Tableau1[],3,0)) -> 0.5 | E13: =IF(B13="","",VLOOKUP(B13,Tableau1[],4,0)) -> 0.5 | H13: =IF(SUM(F13:G13)>0,F$5-VLOOKUP($B13,Tableau1[],5,0),"") | K13: =IF(SUM(I13:J13)>0,I$5-VLOOKUP($B13,Tableau1[],5,0),"") | N13: =IF(SUM(L13:M13)>0,L$5-VLOOKUP($B13,Tableau1[],5,0),"") | Q13: =IF(SUM(O13:P13)>0,O$5-VLOOKUP($B13,Tableau1[],5,0),"") | T13: =IF(SUM(R13:S13)>0,R$5-VLOOKUP($B13,Tableau1[],5,0),"")
B14: Laitue | C14: =IF(B14="","",VLOOKUP(B14,Tableau1[],2,0)) -> 1.5 | D14: =IF(B14="","",VLOOKUP(B14,Tableau1[],3,0)) -> 1 | E14: =IF(B14="","",VLOOKUP(B14,Tableau1[],4,0)) -> 1 | H14: =IF(SUM(F14:G14)>0,F$5-VLOOKUP($B14,Tableau1[],5,0),"") | K14: =IF(SUM(I14:J14)>0,I$5-VLOOKUP($B14,Tableau1[],5,0),"") | N14: =IF(SUM(L14:M14)>0,L$5-VLOOKUP($B14,Tableau1[],5,0),"") | Q14: =IF(SUM(O14:P14)>0,O$5-VLOOKUP($B14,Tableau1[],5,0),"") | T14: =IF(SUM(R14:S14)>0,R$5-VLOOKUP($B14,Tableau1[],5,0),"")
B15: Haricot | C15: =IF(B15="","",VLOOKUP(B15,Tableau1[],2,0)) -> 7.5 | D15: =IF(B15="","",VLOOKUP(B15,Tableau1[],3,0)) -> 0.4 | E15: =IF(B15="","",VLOOKUP(B15,Tableau1[],4,0)) -> 0.8 | H15: =IF(SUM(F15:G15)>0,F$5-VLOOKUP($B15,Tableau1[],5,0),"") | K15: =IF(SUM(I15:J15)>0,I$5-VLOOKUP($B15,Tableau1[],5,0),"") | N15: =IF(SUM(L15:M15)>0,L$5-VLOOKUP($B15,Tableau1[],5,0),"") | Q15: =IF(SUM(O15:P15)>0,O$5-VLOOKUP($B15,Tableau1[],5,0),"") | T15: =IF(SUM(R15:S15)>0,R$5-VLOOKUP($B15,Tableau1[],5,0),"")
B16: Bette | C16: =IF(B16="","",VLOOKUP(B16,Tableau1[],2,0)) -> 2.25 | D16: =IF(B16="","",VLOOKUP(B16,Tableau1[],3,0)) -> 1 | E16: =IF(B16="","",VLOOKUP(B16,Tableau1[],4,0)) -> 1 | H16: =IF(SUM(F16:G16)>0,F$5-VLOOKUP($B16,Tableau1[],5,0),"") | K16: =IF(SUM(I16:J16)>0,I$5-VLOOKUP($B16,Tableau1[],5,0),"") | N16: =IF(SUM(L16:M16)>0,L$5-VLOOKUP($B16,Tableau1[],5,0),"") | Q16: =IF(SUM(O16:P16)>0,O$5-VLOOKUP($B16,Tableau1[],5,0),"") | T16: =IF(SUM(R16:S16)>0,R$5-VLOOKUP($B16,Tableau1[],5,0),"")
B17: Oignon | C17: =IF(B17="","",VLOOKUP(B17,Tableau1[],2,0)) -> 1.5 | D17: =IF(B17="","",VLOOKUP(B17,Tableau1[],3,0)) -> 1 | E17: =IF(B17="","",VLOOKUP(B17,Tableau1[],4,0)) -> 1.5 | H17: =IF(SUM(F17:G17)>0,F$5-VLOOKUP($B17,Tableau1[],5,0),"") | K17: =IF(SUM(I17:J17)>0,I$5-VLOOKUP($B17,Tableau1[],5,0),"") | N17: =IF(SUM(L17:M17)>0,L$5-VLOOKUP($B17,Tableau1[],5,0),"") | Q17: =IF(SUM(O17:P17)>0,O$5-VLOOKUP($B17,Tableau1[],5,0),"") | T17: =IF(SUM(R17:S17)>0,R$5-VLOOKUP($B17,Tableau1[],5,0),"")
B18: Chou chinois | C18: =IF(B18="","",VLOOKUP(B18,Tableau1[],2,0)) -> 1.5 | D18: =IF(B18="","",VLOOKUP(B18,Tableau1[],3,0)) -> 1 | E18: =IF(B18="","",VLOOKUP(B18,Tableau1[],4,0)) -> 1 | H18: =IF(SUM(F18:G18)>0,F$5-VLOOKUP($B18,Tableau1[],5,0),"") | K18: =IF(SUM(I18:J18)>0,I$5-VLOOKUP($B18,Tableau1[],5,0),"") | N18: =IF(SUM(L18:M18)>0,L$5-VLOOKUP($B18,Tableau1[],5,0),"") | Q18: =IF(SUM(O18:P18)>0,O$5-VLOOKUP($B18,Tableau1[],5,0),"") | T18: =IF(SUM(R18:S18)>0,R$5-VLOOKUP($B18,Tableau1[],5,0),"")
B19: VIDE | C19: =IF(B19="","",VLOOKUP(B19,Tableau1[],2,0)) -> 1 | D19: =IF(B19="","",VLOOKUP(B19,Tableau1[],3,0)) -> 1 | E19: =IF(B19="","",VLOOKUP(B19,Tableau1[],4,0)) -> 1 | H19: =IF(SUM(F19:G19)>0,F$5-VLOOKUP($B19,Tableau1[],5,0),"") | K19: =IF(SUM(I19:J19)>0,I$5-VLOOKUP($B19,Tableau1[],5,0),"") | N19: =IF(SUM(L19:M19)>0,L$5-VLOOKUP($B19,Tableau1[],5,0),"") | Q19: =IF(SUM(O19:P19)>0,O$5-VLOOKUP($B19,Tableau1[],5,0),"") | T19: =IF(SUM(R19:S19)>0,R$5-VLOOKUP($B19,Tableau1[],5,0),"")
... B23: VIDE | C23: =IF(B23="","",VLOOKUP(B23,Tableau1[],2,0)) -> 1 | D23: =IF(B23="","",VLOOKUP(B23,Tableau1[],3,0)) -> 1 | E23: =IF(B23="","",VLOOKUP(B23,Tableau1[],4,0)) -> 1 | H23: =IF(SUM(F23:G23)>0,F$5-VLOOKUP($B23,Tableau1[],5,0),"") | K23: =IF(SUM(I23:J23)>0,I$5-VLOOKUP($B23,Tableau1[],5,0),"") | N23: =IF(SUM(L23:M23)>0,L$5-VLOOKUP($B23,Tableau1[],5,0),"") | Q23: =IF(SUM(O23:P23)>0,O$5-VLOOKUP($B23,Tableau1[],5,0),"") | T23: =IF(SUM(R23:S23)>0,R$5-VLOOKUP($B23,Tableau1[],5,0),"")
F24: =SUMPRODUCT(($C$7:$C$23)*($D$7:$D$23)*(F$7:F$23)) -> 1.5 | G24: =SUMPRODUCT(($C$7:$C$23)*($D$7:$D$23)*(G$7:G$23)) -> 0 | I24: =SUMPRODUCT(($C$7:$C$23)*($D$7:$D$23)*(I$7:I$23)) -> 0 | J24: =SUMPRODUCT(($C$7:$C$23)*($D$7:$D$23)*(J$7:J$23)) -> 0 | L24: =SUMPRODUCT(($C$7:$C$23)*($D$7:$D$23)*(L$7:L$23)) -> 0 | M24: =SUMPRODUCT(($C$7:$C$23)*($D$7:$D$23)*(M$7:M$23)) -> 0 | O24: =SUMPRODUCT(($C$7:$C$23)*($D$7:$D$23)*(O$7:O$23)) -> 0 | P24: =SUMPRODUCT(($C$7:$C$23)*($D$7:$D$23)*(P$7:P$23)) -> 0 | R24: =SUMPRODUCT(($C$7:$C$23)*($D$7:$D$23)*(R$7:R$23)) -> 0 | S24: =SUMPRODUCT(($C$7:$C$23)*($D$7:$D$23)*(S$7:S$23)) -> 0

Sheet MAI
A5: MOIS | B5: ESPECE | C5: P.U. | D5: DOSE10 | E5: DOSE20 | F5: s18 | H5: s19 | J5: s20 | L5: s21 | N5: s22
F6: D10 | G6: D20 | H6: D10 | I6: D20 | J6: D10 | K6: D20 | L6: D10 | M6: D20 | N6: D10 | O6: D20
A7: Aout | B7: Radis | C7: =IF(B7="","",VLOOKUP(B7,DATA!A2:D101,2,0)) -> 1.5 | D7: =IF(B7="","",VLOOKUP(B7,DATA!A2:D101,3,0)) -> 1 | E7: =IF(B7="","",VLOOKUP(B7,DATA!A2:D101,4,0)) -> 1
B8: Epinard | C8: =IF(B8="","",VLOOKUP(B8,DATA!A2:D101,2,0)) -> 5.5 | D8: =VLOOKUP(B8,DATA!A2:D101,3,0) -> 0.6 | E8: =VLOOKUP(B8,DATA!A2:D101,4,0) -> 1.2
B9: Roquette | C9: =IF(B9="","",VLOOKUP(B9,DATA!A2:D101,2,0)) -> 15 | D9: =VLOOKUP(B9,DATA!A2:D101,3,0) -> 0.1 | E9: =VLOOKUP(B9,DATA!A2:D101,4,0) -> 0.2
B10: Fêve | C10: =IF(B10="","",VLOOKUP(B10,DATA!A2:D101,2,0)) -> 2.5 | D10: =VLOOKUP(B10,DATA!A2:D101,3,0) -> 0.5 | E10: =VLOOKUP(B10,DATA!A2:D101,4,0) -> 0.5
B11: Laitue | C11: =IF(B11="","",VLOOKUP(B11,DATA!A2:D101,2,0)) -> 1.5 | D11: =VLOOKUP(B11,DATA!A2:D101,3,0) -> 1 | E11: =VLOOKUP(B11,DATA!A2:D101,4,0) -> 1
B12: Chou chinois | C12: =IF(B12="","",VLOOKUP(B12,DATA!A2:D101,2,0)) -> 1.5 | D12: =VLOOKUP(B12,DATA!A2:D101,3,0) -> 1 | E12: =VLOOKUP(B12,DATA!A2:D101,4,0) -> 1
B13: Bette | C13: =IF(B13="","",VLOOKUP(B13,DATA!A2:D101,2,0)) -> 2.25 | D13: =VLOOKUP(B13,DATA!A2:D101,3,0) -> 1 | E13: =VLOOKUP(B13,DATA!A2:D101,4,0) -> 1
B14: Laitue | C14: =IF(B14="","",VLOOKUP(B14,DATA!A2:D101,2,0)) -> 1.5 | D14: =VLOOKUP(B14,DATA!A2:D101,3,0) -> 1 | E14: =VLOOKUP(B14,DATA!A2:D101,4,0) -> 1
B15: Haricot | C15: =IF(B15="","",VLOOKUP(B15,DATA!A2:D101,2,0)) -> 7.5 | D15: =VLOOKUP(B15,DATA!A2:D101,3,0) -> 0.4 | E15: =VLOOKUP(B15,DATA!A2:D101,4,0) -> 0.8
B16: Bette | C16: =IF(B16="","",VLOOKUP(B16,DATA!A2:D101,2,0)) -> 2.25 | D16: =VLOOKUP(B16,DATA!A2:D101,3,0) -> 1 | E16: =VLOOKUP(B16,DATA!A2:D101,4,0) -> 1
B17: Oignon | C17: =IF(B17="","",VLOOKUP(B17,DATA!A2:D101,2,0)) -> 1.5 | D17: =VLOOKUP(B17,DATA!A2:D101,3,0) -> 1 | E17: =VLOOKUP(B17,DATA!A2:D101,4,0) -> 1.5
B18: Chou-fleur | C18: =IF(B18="","",VLOOKUP(B18,DATA!A2:D101,2,0)) -> 2.2 | D18: =VLOOKUP(B18,DATA!A2:D101,3,0) -> 1 | E18: =VLOOKUP(B18,DATA!A2:D101,4,0) -> 2.2
B19: Navet | C19: =IF(B19="","",VLOOKUP(B19,DATA!A2:D101,2,0)) -> 2 | D19: =VLOOKUP(B19,DATA!A2:D101,3,0) -> 0.4 | E19: =VLOOKUP(B19,DATA!A2:D101,4,0) -> 0.8
B20: Mâche | C20: =IF(B20="","",VLOOKUP(B20,DATA!A2:D101,2,0)) -> 15 | D20: =VLOOKUP(B20,DATA!A2:D101,3,0) -> 0.15 | E20: =VLOOKUP(B20,DATA!A2:D101,4,0) -> 2.25
B21: Fêve | C21: =VLOOKUP(B21,DATA!A2:D101,2,0) -> 2.5 | D21: =VLOOKUP(B21,DATA!A2:D101,3,0) -> 0.5 | E21: =VLOOKUP(B21,DATA!A2:D101,4,0) -> 0.5
B22: Laitue | C22: =VLOOKUP(B22,DATA!A2:D101,2,0) -> 1.5 | D22: =VLOOKUP(B22,DATA!A2:D101,3,0) -> 1 | E22: =VLOOKUP(B22,DATA!A2:D101,4,0) -> 1
B23: Mâche | C23: =VLOOKUP(B23,DATA!A2:D101,2,0) -> 15 | D23: =VLOOKUP(B23,DATA!A2:D101,3,0) -> 0.15 | E23: =VLOOKUP(B23,DATA!A2:D101,4,0) -> 2.25
F24: =F7*D7*C7+F8*C8*D8+F9*C9*D9+D10*F10*C10+F11*D11*C11+F12*C12*D12+F13*C13*D13+F14*C14*D14+F15*C15*D15+F16*C16*D16+F17*C17*D17+F18*C18*D18+F19*C19*D19+C20*D20*F20+F21*D21*C21+F22*D22*C22+F23*D23*C23 -> 0 | G24: =G7*E7*C7+G8*C8*E8+G9*C9*E9+E10*G10*C10+G11*E11*C11+G12*C12*E12+G13*C13*E13+G14*C14*E14+G15*C15*E15+G16*C16*E16+G17*C17*E17+G18*C18*E18+G19*C19*E19+C20*E20*G20+G21*E21*C21+G22*E22*C22+G23*E23*C23 -> 0 | H24: =H7*C7*D7+H8*D8*C8+H9*D9*C9+C10*H10*D10+H11*C11*D11+H12*D12*C12+H13*D13*C13+H14*D14*C14+H15*D15*C15+H16*D16*C16+H17*D17*C17+H18*D18*C18+H19*D19*C19+D20*C20*H20+H21*C21*D21+H22*C22*D22+H23*C23*D23 -> 0 | I24: =I7*C7*E7+I8*E8*C8+I9*E9*C9+C10*I10*E10+I11*C11*E11+I12*E12*C12+I13*E13*C13+I14*E14*C14+I15*E15*C15+I16*E16*C16+I17*E17*C17+I18*E18*C18+I19*E19*C19+E20*C20*I20+I21*C21*E21+I22*C22*E22+I23*C23*E23 -> 0 | J24: =J7*D7*C7+J8*C8*D8+J9*C9*D9+D10*J10*C10+J11*D11*C11+J12*C12*D12+J13*C13*D13+J14*C14*D14+J15*C15*D15+J16*C16*D16+J17*C17*D17+J18*C18*D18+J19*C19*D19+C20*D20*J20+J21*D21*C21+J22*D22*C22+J23*D23*C23 -> 0 | K24: =K7*E7*C7+K8*C8*E8+K9*C9*E9+E10*K10*C10+K11*E11*C11+K12*C12*E12+K13*C13*E13+K14*C14*E14+K15*C15*E15+K16*C16*E16+K17*C17*E17+K18*C18*E18+K19*C19*E19+C20*E20*K20+K21*E21*C21+K22*E22*C22+K23*E23*C23 -> 0 | L24: =L7*C7*D7+L8*D8*C8+L9*D9*C9+C10*L10*D10+L11*C11*D11+L12*D12*C12+L13*D13*C13+L14*D14*C14+L15*D15*C15+L16*D16*C16+L17*D17*C17+L18*D18*C18+L19*D19*C19+D20*C20*L20+L21*C21*D21+L22*C22*D22+L23*C23*D23 -> 0 | M24: =M7*C7*E7+M8*E8*C8+M9*E9*C9+C10*M10*E10+M11*C11*E11+M12*E12*C12+M13*E13*C13+M14*E14*C14+M15*E15*C15+M16*E16*C16+M17*E17*C17+M18*E18*C18+M19*E19*C19+E20*C20*M20+M21*C21*E21+M22*C22*E22+M23*C23*E23 -> 0 | N24: =N7*D7*C7+N8*C8*D8+N9*C9*D9+D10*N10*C10+N11*D11*C11+N12*C12*D12+N13*C13*D13+N14*C14*D14+N15*C15*D15+N16*C16*D16+N17*C17*D17+N18*C18*D18+N19*C19*D19+C20*D20*N20+N21*D21*C21+N22*D22*C22+N23*D23*C23 -> 0 | O24: =O7*E7*C7+O8*C8*E8+O9*C9*E9+E10*O10*C10+O11*E11*C11+O12*C12*E12+O13*C13*E13+O14*C14*E14+O15*C15*E15+O16*C16*E16+O17*C17*E17+O18*C18*E18+O19*C19*E19+C20*E20*O20+O21*E21*C21+O22*E22*C22+O23*E23*C23 -> 0 | P24: TOTAL

Sheet JUIN
A5: MOIS | B5: ESPECE | C5: P.U. | D5: DOSE10 | E5: DOSE20 | F5: s23 | H5: s24 | J5: s25 | L5: s26
F6: D10 | G6: D20 | H6: D10 | I6: D20 | J6: D10 | K6: D20 | L6: D10 | M6: D20 | N6: D10 | O6: D20
A7: Aout | B7: Radis | C7: =IF(B7="","",VLOOKUP(B7,DATA!A2:D101,2,0)) -> 1.5 | D7: =IF(B7="","",VLOOKUP(B7,DATA!A2:D101,3,0)) -> 1 | E7: =IF(B7="","",VLOOKUP(B7,DATA!A2:D101,4,0)) -> 1 | F7: 1 | G7: 1 | I7: 1
B8: Epinard | C8: =IF(B8="","",VLOOKUP(B8,DATA!A2:D101,2,0)) -> 5.5 | D8: =VLOOKUP(B8,DATA!A2:D101,3,0) -> 0.6 | E8: =VLOOKUP(B8,DATA!A2:D101,4,0) -> 1.2 | F8: 1 | G8: 1
B9: Roquette | C9: =IF(B9="","",VLOOKUP(B9,DATA!A2:D101,2,0)) -> 15 | D9: =VLOOKUP(B9,DATA!A2:D101,3,0) -> 0.1 | E9: =VLOOKUP(B9,DATA!A2:D101,4,0) -> 0.2 | F9: 1 | G9: 1
B10: Fêve | C10: =IF(B10="","",VLOOKUP(B10,DATA!A2:D101,2,0)) -> 2.5 | D10: =VLOOKUP(B10,DATA!A2:D101,3,0) -> 0.5 | E10: =VLOOKUP(B10,DATA!A2:D101,4,0) -> 0.5 | F10: 1 | G10: 1 | I10: 1
B11: Laitue | C11: =IF(B11="","",VLOOKUP(B11,DATA!A2:D101,2,0)) -> 1.5 | D11: =VLOOKUP(B11,DATA!A2:D101,3,0) -> 1 | E11: =VLOOKUP(B11,DATA!A2:D101,4,0) -> 1 | G11: 1 | H11: 1 | I11: 1
B12: Chou chinois | C12: =IF(B12="","",VLOOKUP(B12,DATA!A2:D101,2,0)) -> 1.5 | D12: =VLOOKUP(B12,DATA!A2:D101,3,0) -> 1 | E12: =VLOOKUP(B12,DATA!A2:D101,4,0) -> 1 | F12: 1 | G12: 1 | I12: 1
B13: Bette | C13: =IF(B13="","",VLOOKUP(B13,DATA!A2:D101,2,0)) -> 2.25 | D13: =VLOOKUP(B13,DATA!A2:D101,3,0) -> 1 | E13: =VLOOKUP(B13,DATA!A2:D101,4,0) -> 1 | G13: 1
B14: Persil | C14: =IF(B14="","",VLOOKUP(B14,DATA!A2:D101,2,0)) -> 1.5 | D14: =VLOOKUP(B14,DATA!A2:D101,3,0) -> 1 | E14: =VLOOKUP(B14,DATA!A2:D101,4,0) -> 1 | G14: 1 | H14: 1 | I14: 1
B15: Haricot | C15: =IF(B15="","",VLOOKUP(B15,DATA!A2:D101,2,0)) -> 7.5 | D15: =VLOOKUP(B15,DATA!A2:D101,3,0) -> 0.4 | E15: =VLOOKUP(B15,DATA!A2:D101,4,0) -> 0.8 | H15: 1
B16: Bette | C16: =IF(B16="","",VLOOKUP(B16,DATA!A2:D101,2,0)) -> 2.25 | D16: =VLOOKUP(B16,DATA!A2:D101,3,0) -> 1 | E16: =VLOOKUP(B16,DATA!A2:D101,4,0) -> 1 | H16: 1
B17: Oignon | C17: =IF(B17="","",VLOOKUP(B17,DATA!A2:D101,2,0)) -> 1.5 | D17: =VLOOKUP(B17,DATA!A2:D101,3,0) -> 1 | E17: =VLOOKUP(B17,DATA!A2:D101,4,0) -> 1.5 | F17: 1 | G17: 1 | I17: 1
B18: Chou-fleur | C18: =IF(B18="","",VLOOKUP(B18,DATA!A2:D101,2,0)) -> 2.2 | D18: =VLOOKUP(B18,DATA!A2:D101,3,0) -> 1 | E18: =VLOOKUP(B18,DATA!A2:D101,4,0) -> 2.2 | H18: 1 | I18: 1
B19: Navet | C19: =IF(B19="","",VLOOKUP(B19,DATA!A2:D101,2,0)) -> 2 | D19: =VLOOKUP(B19,DATA!A2:D101,3,0) -> 0.4 | E19: =VLOOKUP(B19,DATA!A2:D101,4,0) -> 0.8
B20: Mesclun | C20: =IF(B20="","",VLOOKUP(B20,DATA!A2:D101,2,0)) -> 15 | D20: =VLOOKUP(B20,DATA!A2:D101,3,0) -> 0.15 | E20: =VLOOKUP(B20,DATA!A2:D101,4,0) -> 0.3 | I20: 1
B21: Fêve | C21: =VLOOKUP(B21,DATA!A2:D101,2,0) -> 2.5 | D21: =VLOOKUP(B21,DATA!A2:D101,3,0) -> 0.5 | E21: =VLOOKUP(B21,DATA!A2:D101,4,0) -> 0.5
B22: Laitue | C22: =VLOOKUP(B22,DATA!A2:D101,2,0) -> 1.5 | D22: =VLOOKUP(B22,DATA!A2:D101,3,0) -> 1 | E22: =VLOOKUP(B22,DATA!A2:D101,4,0) -> 1
B23: Mâche | C23: =VLOOKUP(B23,DATA!A2:D101,2,0) -> 15 | D23: =VLOOKUP(B23,DATA!A2:D101,3,0) -> 0.15 | E23: =VLOOKUP(B23,DATA!A2:D101,4,0) -> 2.25
F24: =F7*D7*C7+F8*C8*D8+F9*C9*D9+D10*F10*C10+F11*D11*C11+F12*C12*D12+F13*C13*D13+F14*C14*D14+F15*C15*D15+F16*C16*D16+F17*C17*D17+F18*C18*D18+F19*C19*D19+C20*D20*F20+F21*D21*C21+F22*D22*C22+F23*D23*C23 -> 10.55 | G24: =G7*E7*C7+G8*C8*E8+G9*C9*E9+E10*G10*C10+G11*E11*C11+G12*C12*E12+G13*C13*E13+G14*C14*E14+G15*C15*E15+G16*C16*E16+G17*C17*E17+G18*C18*E18+G19*C19*E19+C20*E20*G20+G21*E21*C21+G22*E22*C22+G23*E23*C23 -> 21.35 | H24: =H7*C7*D7+H8*D8*C8+H9*D9*C9+C10*H10*D10+H11*C11*D11+H12*D12*C12+H13*D13*C13+H14*D14*C14+H15*D15*C15+H16*D16*C16+H17*D17*C17+H18*D18*C18+H19*D19*C19+D20*C20*H20+H21*C21*D21+H22*C22*D22+H23*C23*D23 -> 10.45 | I24: =I7*C7*E7+I8*E8*C8+I9*E9*C9+C10*I10*E10+I11*C11*E11+I12*E12*C12+I13*E13*C13+I14*E14*C14+I15*E15*C15+I16*E16*C16+I17*E17*C17+I18*E18*C18+I19*E19*C19+E20*C20*I20+I21*C21*E21+I22*C22*E22+I23*C23*E23 -> 18.84 | J24: =J7*D7*C7+J8*C8*D8+J9*C9*D9+D10*J10*C10+J11*D11*C11+J12*C12*D12+J13*C13*D13+J14*C14*D14+J15*C15*D15+J16*C16*D16+J17*C17*D17+J18*C18*D18+J19*C19*D19+C20*D20*J20+J21*D21*C21+J22*D22*C22+J23*D23*C23 -> 0 | K24: =K7*E7*C7+K8*C8*E8+K9*C9*E9+E10*K10*C10+K11*E11*C11+K12*C12*E12+K13*C13*E13+K14*C14*E14+K15*C15*E15+K16*C16*E16+K17*C17*E17+K18*C18*E18+K19*C19*E19+C20*E20*K20+K21*E21*C21+K22*E22*C22+K23*E23*C23 -> 0 | L24: =L7*C7*D7+L8*D8*C8+L9*D9*C9+C10*L10*D10+L11*C11*D11+L12*D12*C12+L13*D13*C13+L14*D14*C14+L15*D15*C15+L16*D16*C16+L17*D17*C17+L18*D18*C18+L19*D19*C19+D20*C20*L20+L21*C21*D21+L22*C22*D22+L23*C23*D23 -> 0 | M24: =M7*C7*E7+M8*E8*C8+M9*E9*C9+C10*M10*E10+M11*C11*E11+M12*E12*C12+M13*E13*C13+M14*E14*C14+M15*E15*C15+M16*E16*C16+M17*E17*C17+M18*E18*C18+M19*E19*C19+E20*C20*M20+M21*C21*E21+M22*C22*E22+M23*C23*E23 -> 0 | N24: =N7*D7*C7+N8*C8*D8+N9*C9*D9+D10*N10*C10+N11*D11*C11+N12*C12*D12+N13*C13*D13+N14*C14*D14+N15*C15*D15+N16*C16*D16+N17*C17*D17+N18*C18*D18+N19*C19*D19+C20*D20*N20+N21*D21*C21+N22*D22*C22+N23*D23*C23 -> 0 | O24: =O7*E7*C7+O8*C8*E8+O9*C9*E9+E10*O10*C10+O11*E11*C11+O12*C12*E12+O13*C13*E13+O14*C14*E14+O15*C15*E15+O16*C16*E16+O17*C17*E17+O18*C18*E18+O19*C19*E19+C20*E20*O20+O21*E21*C21+O22*E22*C22+O23*E23*C23 -> 0 | P24: TOTAL

Sheet JUILLET
A5: MOIS | B5: ESPECE | C5: P.U. | D5: DOSE10 | E5: DOSE20 | F5: s27 | H5: s28 | J5: s29 | L5: s30
F6: D10 | G6: D20 | H6: D10 | I6: D20 | J6: D10 | K6: D20 | L6: D10 | M6: D20 | N6: D10 | O6: D20
A7: Aout | B7: Radis | C7: =IF(B7="","",VLOOKUP(B7,DATA!A2:D101,2,0)) -> 1.5 | D7: =IF(B7="","",VLOOKUP(B7,DATA!A2:D101,3,0)) -> 1 | E7: =IF(B7="","",VLOOKUP(B7,DATA!A2:D101,4,0)) -> 1
B8: Epinard | C8: =IF(B8="","",VLOOKUP(B8,DATA!A2:D101,2,0)) -> 5.5 | D8: =VLOOKUP(B8,DATA!A2:D101,3,0) -> 0.6 | E8: =VLOOKUP(B8,DATA!A2:D101,4,0) -> 1.2
B9: Roquette | C9: =IF(B9="","",VLOOKUP(B9,DATA!A2:D101,2,0)) -> 15 | D9: =VLOOKUP(B9,DATA!A2:D101,3,0) -> 0.1 | E9: =VLOOKUP(B9,DATA!A2:D101,4,0) -> 0.2
B10: Fêve | C10: =IF(B10="","",VLOOKUP(B10,DATA!A2:D101,2,0)) -> 2.5 | D10: =VLOOKUP(B10,DATA!A2:D101,3,0) -> 0.5 | E10: =VLOOKUP(B10,DATA!A2:D101,4,0) -> 0.5
B11: Laitue | C11: =IF(B11="","",VLOOKUP(B11,DATA!A2:D101,2,0)) -> 1.5 | D11: =VLOOKUP(B11,DATA!A2:D101,3,0) -> 1 | E11: =VLOOKUP(B11,DATA!A2:D101,4,0) -> 1
B12: Chou chinois | C12: =IF(B12="","",VLOOKUP(B12,DATA!A2:D101,2,0)) -> 1.5 | D12: =VLOOKUP(B12,DATA!A2:D101,3,0) -> 1 | E12: =VLOOKUP(B12,DATA!A2:D101,4,0) -> 1
B13: Bette | C13: =IF(B13="","",VLOOKUP(B13,DATA!A2:D101,2,0)) -> 2.25 | D13: =VLOOKUP(B13,DATA!A2:D101,3,0) -> 1 | E13: =VLOOKUP(B13,DATA!A2:D101,4,0) -> 1
B14: Laitue | C14: =IF(B14="","",VLOOKUP(B14,DATA!A2:D101,2,0)) -> 1.5 | D14: =VLOOKUP(B14,DATA!A2:D101,3,0) -> 1 | E14: =VLOOKUP(B14,DATA!A2:D101,4,0) -> 1
B15: Haricot | C15: =IF(B15="","",VLOOKUP(B15,DATA!A2:D101,2,0)) -> 7.5 | D15: =VLOOKUP(B15,DATA!A2:D101,3,0) -> 0.4 | E15: =VLOOKUP(B15,DATA!A2:D101,4,0) -> 0.8
B16: Bette | C16: =IF(B16="","",VLOOKUP(B16,DATA!A2:D101,2,0)) -> 2.25 | D16: =VLOOKUP(B16,DATA!A2:D101,3,0) -> 1 | E16: =VLOOKUP(B16,DATA!A2:D101,4,0) -> 1
B17: Oignon | C17: =IF(B17="","",VLOOKUP(B17,DATA!A2:D101,2,0)) -> 1.5 | D17: =VLOOKUP(B17,DATA!A2:D101,3,0) -> 1 | E17: =VLOOKUP(B17,DATA!A2:D101,4,0) -> 1.5
B18: Chou-fleur | C18: =IF(B18="","",VLOOKUP(B18,DATA!A2:D101,2,0)) -> 2.2 | D18: =VLOOKUP(B18,DATA!A2:D101,3,0) -> 1 | E18: =VLOOKUP(B18,DATA!A2:D101,4,0) -> 2.2
B19: Navet | C19: =IF(B19="","",VLOOKUP(B19,DATA!A2:D101,2,0)) -> 2 | D19: =VLOOKUP(B19,DATA!A2:D101,3,0) -> 0.4 | E19: =VLOOKUP(B19,DATA!A2:D101,4,0) -> 0.8
B20: Mâche | C20: =IF(B20="","",VLOOKUP(B20,DATA!A2:D101,2,0)) -> 15 | D20: =VLOOKUP(B20,DATA!A2:D101,3,0) -> 0.15 | E20: =VLOOKUP(B20,DATA!A2:D101,4,0) -> 2.25
B21: Fêve | C21: =VLOOKUP(B21,DATA!A2:D101,2,0) -> 2.5 | D21: =VLOOKUP(B21,DATA!A2:D101,3,0) -> 0.5 | E21: =VLOOKUP(B21,DATA!A2:D101,4,0) -> 0.5
B22: Laitue | C22: =VLOOKUP(B22,DATA!A2:D101,2,0) -> 1.5 | D22: =VLOOKUP(B22,DATA!A2:D101,3,0) -> 1 | E22: =VLOOKUP(B22,DATA!A2:D101,4,0) -> 1
B23: Mâche | C23: =VLOOKUP(B23,DATA!A2:D101,2,0) -> 15 | D23: =VLOOKUP(B23,DATA!A2:D101,3,0) -> 0.15 | E23: =VLOOKUP(B23,DATA!A2:D101,4,0) -> 2.25
F24: =F7*D7*C7+F8*C8*D8+F9*C9*D9+D10*F10*C10+F11*D11*C11+F12*C12*D12+F13*C13*D13+F14*C14*D14+F15*C15*D15+F16*C16*D16+F17*C17*D17+F18*C18*D18+F19*C19*D19+C20*D20*F20+F21*D21*C21+F22*D22*C22+F23*D23*C23 -> 0 | G24: =G7*E7*C7+G8*C8*E8+G9*C9*E9+E10*G10*C10+G11*E11*C11+G12*C12*E12+G13*C13*E13+G14*C14*E14+G15*C15*E15+G16*C16*E16+G17*C17*E17+G18*C18*E18+G19*C19*E19+C20*E20*G20+G21*E21*C21+G22*E22*C22+G23*E23*C23 -> 0 | H24: =H7*C7*D7+H8*D8*C8+H9*D9*C9+C10*H10*D10+H11*C11*D11+H12*D12*C12+H13*D13*C13+H14*D14*C14+H15*D15*C15+H16*D16*C16+H17*D17*C17+H18*D18*C18+H19*D19*C19+D20*C20*H20+H21*C21*D21+H22*C22*D22+H23*C23*D23 -> 0 | I24: =I7*C7*E7+I8*E8*C8+I9*E9*C9+C10*I10*E10+I11*C11*E11+I12*E12*C12+I13*E13*C13+I14*E14*C14+I15*E15*C15+I16*E16*C16+I17*E17*C17+I18*E18*C18+I19*E19*C19+E20*C20*I20+I21*C21*E21+I22*C22*E22+I23*C23*E23 -> 0 | J24: =J7*D7*C7+J8*C8*D8+J9*C9*D9+D10*J10*C10+J11*D11*C11+J12*C12*D12+J13*C13*D13+J14*C14*D14+J15*C15*D15+J16*C16*D16+J17*C17*D17+J18*C18*D18+J19*C19*D19+C20*D20*J20+J21*D21*C21+J22*D22*C22+J23*D23*C23 -> 0 | K24: =K7*E7*C7+K8*C8*E8+K9*C9*E9+E10*K10*C10+K11*E11*C11+K12*C12*E12+K13*C13*E13+K14*C14*E14+K15*C15*E15+K16*C16*E16+K17*C17*E17+K18*C18*E18+K19*C19*E19+C20*E20*K20+K21*E21*C21+K22*E22*C22+K23*E23*C23 -> 0 | L24: =L7*C7*D7+L8*D8*C8+L9*D9*C9+C10*L10*D10+L11*C11*D11+L12*D12*C12+L13*D13*C13+L14*D14*C14+L15*D15*C15+L16*D16*C16+L17*D17*C17+L18*D18*C18+L19*D19*C19+D20*C20*L20+L21*C21*D21+L22*C22*D22+L23*C23*D23 -> 0 | M24: =M7*C7*E7+M8*E8*C8+M9*E9*C9+C10*M10*E10+M11*C11*E11+M12*E12*C12+M13*E13*C13+M14*E14*C14+M15*E15*C15+M16*E16*C16+M17*E17*C17+M18*E18*C18+M19*E19*C19+E20*C20*M20+M21*C21*E21+M22*C22*E22+M23*C23*E23 -> 0 | N24: =N7*D7*C7+N8*C8*D8+N9*C9*D9+D10*N10*C10+N11*D11*C11+N12*C12*D12+N13*C13*D13+N14*C14*D14+N15*C15*D15+N16*C16*D16+N17*C17*D17+N18*C18*D18+N19*C19*D19+C20*D20*N20+N21*D21*C21+N22*D22*C22+N23*D23*C23 -> 0 | O24: =O7*E7*C7+O8*C8*E8+O9*C9*E9+E10*O10*C10+O11*E11*C11+O12*C12*E12+O13*C13*E13+O14*C14*E14+O15*C15*E15+O16*C16*E16+O17*C17*E17+O18*C18*E18+O19*C19*E19+C20*E20*O20+O21*E21*C21+O22*E22*C22+O23*E23*C23 -> 0 | P24: TOTAL

Sheet AOUT
A5: MOIS | B5: ESPECE | C5: P.U. | D5: DOSE10 | E5: DOSE20 | F5: s31 | H5: s32 | J5: s33 | L5: s34 | N5: s35
F6: D10 | G6: D20 | H6: D10 | I6: D20 | J6: D10 | K6: D20 | L6: D10 | M6: D20 | N6: D10 | O6: D20
A7: Aout | B7: Radis | C7: =IF(B7="","",VLOOKUP(B7,DATA!A2:D101,2,0)) -> 1.5 | D7: =IF(B7="","",VLOOKUP(B7,DATA!A2:D101,3,0)) -> 1 | E7: =IF(B7="","",VLOOKUP(B7,DATA!A2:D101,4,0)) -> 1
B8: Epinard | C8: =IF(B8="","",VLOOKUP(B8,DATA!A2:D101,2,0)) -> 5.5 | D8: =VLOOKUP(B8,DATA!A2:D101,3,0) -> 0.6 | E8: =VLOOKUP(B8,DATA!A2:D101,4,0) -> 1.2
B9: Roquette | C9: =IF(B9="","",VLOOKUP(B9,DATA!A2:D101,2,0)) -> 15 | D9: =VLOOKUP(B9,DATA!A2:D101,3,0) -> 0.1 | E9: =VLOOKUP(B9,DATA!A2:D101,4,0) -> 0.2
B10: Fêve | C10: =IF(B10="","",VLOOKUP(B10,DATA!A2:D101,2,0)) -> 2.5 | D10: =VLOOKUP(B10,DATA!A2:D101,3,0) -> 0.5 | E10: =VLOOKUP(B10,DATA!A2:D101,4,0) -> 0.5
B11: Laitue | C11: =IF(B11="","",VLOOKUP(B11,DATA!A2:D101,2,0)) -> 1.5 | D11: =VLOOKUP(B11,DATA!A2:D101,3,0) -> 1 | E11: =VLOOKUP(B11,DATA!A2:D101,4,0) -> 1
B12: Chou chinois | C12: =IF(B12="","",VLOOKUP(B12,DATA!A2:D101,2,0)) -> 1.5 | D12: =VLOOKUP(B12,DATA!A2:D101,3,0) -> 1 | E12: =VLOOKUP(B12,DATA!A2:D101,4,0) -> 1
B13: Bette | C13: =IF(B13="","",VLOOKUP(B13,DATA!A2:D101,2,0)) -> 2.25 | D13: =VLOOKUP(B13,DATA!A2:D101,3,0) -> 1 | E13: =VLOOKUP(B13,DATA!A2:D101,4,0) -> 1
B14: Laitue | C14: =IF(B14="","",VLOOKUP(B14,DATA!A2:D101,2,0)) -> 1.5 | D14: =VLOOKUP(B14,DATA!A2:D101,3,0) -> 1 | E14: =VLOOKUP(B14,DATA!A2:D101,4,0) -> 1
B15: Haricot | C15: =IF(B15="","",VLOOKUP(B15,DATA!A2:D101,2,0)) -> 7.5 | D15: =VLOOKUP(B15,DATA!A2:D101,3,0) -> 0.4 | E15: =VLOOKUP(B15,DATA!A2:D101,4,0) -> 0.8
B16: Bette | C16: =IF(B16="","",VLOOKUP(B16,DATA!A2:D101,2,0)) -> 2.25 | D16: =VLOOKUP(B16,DATA!A2:D101,3,0) -> 1 | E16: =VLOOKUP(B16,DATA!A2:D101,4,0) -> 1
B17: Oignon | C17: =IF(B17="","",VLOOKUP(B17,DATA!A2:D101,2,0)) -> 1.5 | D17: =VLOOKUP(B17,DATA!A2:D101,3,0) -> 1 | E17: =VLOOKUP(B17,DATA!A2:D101,4,0) -> 1.5
B18: Chou-fleur | C18: =IF(B18="","",VLOOKUP(B18,DATA!A2:D101,2,0)) -> 2.2 | D18: =VLOOKUP(B18,DATA!A2:D101,3,0) -> 1 | E18: =VLOOKUP(B18,DATA!A2:D101,4,0) -> 2.2
B19: Navet | C19: =IF(B19="","",VLOOKUP(B19,DATA!A2:D101,2,0)) -> 2 | D19: =VLOOKUP(B19,DATA!A2:D101,3,0) -> 0.4 | E19: =VLOOKUP(B19,DATA!A2:D101,4,0) -> 0.8
B20: Mâche | C20: =IF(B20="","",VLOOKUP(B20,DATA!A2:D101,2,0)) -> 15 | D20: =VLOOKUP(B20,DATA!A2:D101,3,0) -> 0.15 | E20: =VLOOKUP(B20,DATA!A2:D101,4,0) -> 2.25
B21: Fêve | C21: =VLOOKUP(B21,DATA!A2:D101,2,0) -> 2.5 | D21: =VLOOKUP(B21,DATA!A2:D101,3,0) -> 0.5 | E21: =VLOOKUP(B21,DATA!A2:D101,4,0) -> 0.5
B22: Laitue | C22: =VLOOKUP(B22,DATA!A2:D101,2,0) -> 1.5 | D22: =VLOOKUP(B22,DATA!A2:D101,3,0) -> 1 | E22: =VLOOKUP(B22,DATA!A2:D101,4,0) -> 1
B23: Mâche | C23: =VLOOKUP(B23,DATA!A2:D101,2,0) -> 15 | D23: =VLOOKUP(B23,DATA!A2:D101,3,0) -> 0.15 | E23: =VLOOKUP(B23,DATA!A2:D101,4,0) -> 2.25
F24: =F7*D7*C7+F8*C8*D8+F9*C9*D9+D10*F10*C10+F11*D11*C11+F12*C12*D12+F13*C13*D13+F14*C14*D14+F15*C15*D15+F16*C16*D16+F17*C17*D17+F18*C18*D18+F19*C19*D19+C20*D20*F20+F21*D21*C21+F22*D22*C22+F23*D23*C23 -> 0 | G24: =G7*E7*C7+G8*C8*E8+G9*C9*E9+E10*G10*C10+G11*E11*C11+G12*C12*E12+G13*C13*E13+G14*C14*E14+G15*C15*E15+G16*C16*E16+G17*C17*E17+G18*C18*E18+G19*C19*E19+C20*E20*G20+G21*E21*C21+G22*E22*C22+G23*E23*C23 -> 0 | H24: =H7*C7*D7+H8*D8*C8+H9*D9*C9+C10*H10*D10+H11*C11*D11+H12*D12*C12+H13*D13*C13+H14*D14*C14+H15*D15*C15+H16*D16*C16+H17*D17*C17+H18*D18*C18+H19*D19*C19+D20*C20*H20+H21*C21*D21+H22*C22*D22+H23*C23*D23 -> 0 | I24: =I7*C7*E7+I8*E8*C8+I9*E9*C9+C10*I10*E10+I11*C11*E11+I12*E12*C12+I13*E13*C13+I14*E14*C14+I15*E15*C15+I16*E16*C16+I17*E17*C17+I18*E18*C18+I19*E19*C19+E20*C20*I20+I21*C21*E21+I22*C22*E22+I23*C23*E23 -> 0 | J24: =J7*D7*C7+J8*C8*D8+J9*C9*D9+D10*J10*C10+J11*D11*C11+J12*C12*D12+J13*C13*D13+J14*C14*D14+J15*C15*D15+J16*C16*D16+J17*C17*D17+J18*C18*D18+J19*C19*D19+C20*D20*J20+J21*D21*C21+J22*D22*C22+J23*D23*C23 -> 0 | K24: =K7*E7*C7+K8*C8*E8+K9*C9*E9+E10*K10*C10+K11*E11*C11+K12*C12*E12+K13*C13*E13+K14*C14*E14+K15*C15*E15+K16*C16*E16+K17*C17*E17+K18*C18*E18+K19*C19*E19+C20*E20*K20+K21*E21*C21+K22*E22*C22+K23*E23*C23 -> 0 | L24: =L7*C7*D7+L8*D8*C8+L9*D9*C9+C10*L10*D10+L11*C11*D11+L12*D12*C12+L13*D13*C13+L14*D14*C14+L15*D15*C15+L16*D16*C16+L17*D17*C17+L18*D18*C18+L19*D19*C19+D20*C20*L20+L21*C21*D21+L22*C22*D22+L23*C23*D23 -> 0 | M24: =M7*C7*E7+M8*E8*C8+M9*E9*C9+C10*M10*E10+M11*C11*E11+M12*E12*C12+M13*E13*C13+M14*E14*C14+M15*E15*C15+M16*E16*C16+M17*E17*C17+M18*E18*C18+M19*E19*C19+E20*C20*M20+M21*C21*E21+M22*C22*E22+M23*C23*E23 -> 0 | N24: =N7*D7*C7+N8*C8*D8+N9*C9*D9+D10*N10*C10+N11*D11*C11+N12*C12*D12+N13*C13*D13+N14*C14*D14+N15*C15*D15+N16*C16*D16+N17*C17*D17+N18*C18*D18+N19*C19*D19+C20*D20*N20+N21*D21*C21+N22*D22*C22+N23*D23*C23 -> 0 | O24: =O7*E7*C7+O8*C8*E8+O9*C9*E9+E10*O10*C10+O11*E11*C11+O12*C12*E12+O13*C13*E13+O14*C14*E14+O15*C15*E15+O16*C16*E16+O17*C17*E17+O18*C18*E18+O19*C19*E19+C20*E20*O20+O21*E21*C21+O22*E22*C22+O23*E23*C23 -> 0 | P24: TOTAL

Sheet SEPTEMBRE
A5: MOIS | B5: ESPECE | C5: P.U. | D5: DOSE10 | E5: DOSE20 | F5: s36 | H5: s37 | J5: s38 | L5: s39
F6: D10 | G6: D20 | H6: D10 | I6: D20 | J6: D10 | K6: D20 | L6: D10 | M6: D20 | N6: D10 | O6: D20
A7: Aout | B7: Radis | C7: =IF(B7="","",VLOOKUP(B7,DATA!A2:D101,2,0)) -> 1.5 | D7: =IF(B7="","",VLOOKUP(B7,DATA!A2:D101,3,0)) -> 1 | E7: =IF(B7="","",VLOOKUP(B7,DATA!A2:D101,4,0)) -> 1
B8: Epinard | C8: =IF(B8="","",VLOOKUP(B8,DATA!A2:D101,2,0)) -> 5.5 | D8: =VLOOKUP(B8,DATA!A2:D101,3,0) -> 0.6 | E8: =VLOOKUP(B8,DATA!A2:D101,4,0) -> 1.2
B9: Roquette | C9: =IF(B9="","",VLOOKUP(B9,DATA!A2:D101,2,0)) -> 15 | D9: =VLOOKUP(B9,DATA!A2:D101,3,0) -> 0.1 | E9: =VLOOKUP(B9,DATA!A2:D101,4,0) -> 0.2
B10: Fêve | C10: =IF(B10="","",VLOOKUP(B10,DATA!A2:D101,2,0)) -> 2.5 | D10: =VLOOKUP(B10,DATA!A2:D101,3,0) -> 0.5 | E10: =VLOOKUP(B10,DATA!A2:D101,4,0) -> 0.5
B11: Laitue | C11: =IF(B11="","",VLOOKUP(B11,DATA!A2:D101,2,0)) -> 1.5 | D11: =VLOOKUP(B11,DATA!A2:D101,3,0) -> 1 | E11: =VLOOKUP(B11,DATA!A2:D101,4,0) -> 1
B12: Chou chinois | C12: =IF(B12="","",VLOOKUP(B12,DATA!A2:D101,2,0)) -> 1.5 | D12: =VLOOKUP(B12,DATA!A2:D101,3,0) -> 1 | E12: =VLOOKUP(B12,DATA!A2:D101,4,0) -> 1
B13: Bette | C13: =IF(B13="","",VLOOKUP(B13,DATA!A2:D101,2,0)) -> 2.25 | D13: =VLOOKUP(B13,DATA!A2:D101,3,0) -> 1 | E13: =VLOOKUP(B13,DATA!A2:D101,4,0) -> 1
B14: Laitue | C14: =IF(B14="","",VLOOKUP(B14,DATA!A2:D101,2,0)) -> 1.5 | D14: =VLOOKUP(B14,DATA!A2:D101,3,0) -> 1 | E14: =VLOOKUP(B14,DATA!A2:D101,4,0) -> 1
B15: Haricot | C15: =IF(B15="","",VLOOKUP(B15,DATA!A2:D101,2,0)) -> 7.5 | D15: =VLOOKUP(B15,DATA!A2:D101,3,0) -> 0.4 | E15: =VLOOKUP(B15,DATA!A2:D101,4,0) -> 0.8
B16: Bette | C16: =IF(B16="","",VLOOKUP(B16,DATA!A2:D101,2,0)) -> 2.25 | D16: =VLOOKUP(B16,DATA!A2:D101,3,0) -> 1 | E16: =VLOOKUP(B16,DATA!A2:D101,4,0) -> 1
B17: Oignon | C17: =IF(B17="","",VLOOKUP(B17,DATA!A2:D101,2,0)) -> 1.5 | D17: =VLOOKUP(B17,DATA!A2:D101,3,0) -> 1 | E17: =VLOOKUP(B17,DATA!A2:D101,4,0) -> 1.5
B18: Chou-fleur | C18: =IF(B18="","",VLOOKUP(B18,DATA!A2:D101,2,0)) -> 2.2 | D18: =VLOOKUP(B18,DATA!A2:D101,3,0) -> 1 | E18: =VLOOKUP(B18,DATA!A2:D101,4,0) -> 2.2
B19: Navet | C19: =IF(B19="","",VLOOKUP(B19,DATA!A2:D101,2,0)) -> 2 | D19: =VLOOKUP(B19,DATA!A2:D101,3,0) -> 0.4 | E19: =VLOOKUP(B19,DATA!A2:D101,4,0) -> 0.8
B20: Mâche | C20: =IF(B20="","",VLOOKUP(B20,DATA!A2:D101,2,0)) -> 15 | D20: =VLOOKUP(B20,DATA!A2:D101,3,0) -> 0.15 | E20: =VLOOKUP(B20,DATA!A2:D101,4,0) -> 2.25
B21: Fêve | C21: =VLOOKUP(B21,DATA!A2:D101,2,0) -> 2.5 | D21: =VLOOKUP(B21,DATA!A2:D101,3,0) -> 0.5 | E21: =VLOOKUP(B21,DATA!A2:D101,4,0) -> 0.5
B22: Laitue | C22: =VLOOKUP(B22,DATA!A2:D101,2,0) -> 1.5 | D22: =VLOOKUP(B22,DATA!A2:D101,3,0) -> 1 | E22: =VLOOKUP(B22,DATA!A2:D101,4,0) -> 1
B23: Mâche | C23: =VLOOKUP(B23,DATA!A2:D101,2,0) -> 15 | D23: =VLOOKUP(B23,DATA!A2:D101,3,0) -> 0.15 | E23: =VLOOKUP(B23,DATA!A2:D101,4,0) -> 2.25
F24: =F7*D7*C7+F8*C8*D8+F9*C9*D9+D10*F10*C10+F11*D11*C11+F12*C12*D12+F13*C13*D13+F14*C14*D14+F15*C15*D15+F16*C16*D16+F17*C17*D17+F18*C18*D18+F19*C19*D19+C20*D20*F20+F21*D21*C21+F22*D22*C22+F23*D23*C23 -> 0 | G24: =G7*E7*C7+G8*C8*E8+G9*C9*E9+E10*G10*C10+G11*E11*C11+G12*C12*E12+G13*C13*E13+G14*C14*E14+G15*C15*E15+G16*C16*E16+G17*C17*E17+G18*C18*E18+G19*C19*E19+C20*E20*G20+G21*E21*C21+G22*E22*C22+G23*E23*C23 -> 0 | H24: =H7*C7*D7+H8*D8*C8+H9*D9*C9+C10*H10*D10+H11*C11*D11+H12*D12*C12+H13*D13*C13+H14*D14*C14+H15*D15*C15+H16*D16*C16+H17*D17*C17+H18*D18*C18+H19*D19*C19+D20*C20*H20+H21*C21*D21+H22*C22*D22+H23*C23*D23 -> 0 | I24: =I7*C7*E7+I8*E8*C8+I9*E9*C9+C10*I10*E10+I11*C11*E11+I12*E12*C12+I13*E13*C13+I14*E14*C14+I15*E15*C15+I16*E16*C16+I17*E17*C17+I18*E18*C18+I19*E19*C19+E20*C20*I20+I21*C21*E21+I22*C22*E22+I23*C23*E23 -> 0 | J24: =J7*D7*C7+J8*C8*D8+J9*C9*D9+D10*J10*C10+J11*D11*C11+J12*C12*D12+J13*C13*D13+J14*C14*D14+J15*C15*D15+J16*C16*D16+J17*C17*D17+J18*C18*D18+J19*C19*D19+C20*D20*J20+J21*D21*C21+J22*D22*C22+J23*D23*C23 -> 0 | K24: =K7*E7*C7+K8*C8*E8+K9*C9*E9+E10*K10*C10+K11*E11*C11+K12*C12*E12+K13*C13*E13+K14*C14*E14+K15*C15*E15+K16*C16*E16+K17*C17*E17+K18*C18*E18+K19*C19*E19+C20*E20*K20+K21*E21*C21+K22*E22*C22+K23*E23*C23 -> 0 | L24: =L7*C7*D7+L8*D8*C8+L9*D9*C9+C10*L10*D10+L11*C11*D11+L12*D12*C12+L13*D13*C13+L14*D14*C14+L15*D15*C15+L16*D16*C16+L17*D17*C17+L18*D18*C18+L19*D19*C19+D20*C20*L20+L21*C21*D21+L22*C22*D22+L23*C23*D23 -> 0 | M24: =M7*C7*E7+M8*E8*C8+M9*E9*C9+C10*M10*E10+M11*C11*E11+M12*E12*C12+M13*E13*C13+M14*E14*C14+M15*E15*C15+M16*E16*C16+M17*E17*C17+M18*E18*C18+M19*E19*C19+E20*C20*M20+M21*C21*E21+M22*C22*E22+M23*C23*E23 -> 0 | N24: =N7*D7*C7+N8*C8*D8+N9*C9*D9+D10*N10*C10+N11*D11*C11+N12*C12*D12+N13*C13*D13+N14*C14*D14+N15*C15*D15+N16*C16*D16+N17*C17*D17+N18*C18*D18+N19*C19*D19+C20*D20*N20+N21*D21*C21+N22*D22*C22+N23*D23*C23 -> 0 | O24: =O7*E7*C7+O8*C8*E8+O9*C9*E9+E10*O10*C10+O11*E11*C11+O12*C12*E12+O13*C13*E13+O14*C14*E14+O15*C15*E15+O16*C16*E16+O17*C17*E17+O18*C18*E18+O19*C19*E19+C20*E20*O20+O21*E21*C21+O22*E22*C22+O23*E23*C23 -> 0 | P24: TOTAL

Sheet OCTOBRE
A5: MOIS | B5: ESPECE | C5: P.U. | D5: DOSE10 | E5: DOSE20 | F5: s40 | H5: s41 | J5: s42 | L5: s43 | N5: s44
F6: D10 | G6: D20 | H6: D10 | I6: D20 | J6: D10 | K6: D20 | L6: D10 | M6: D20 | N6: D10 | O6: D20
A7: Aout | B7: Radis | C7: =IF(B7="","",VLOOKUP(B7,DATA!A2:D101,2,0)) -> 1.5 | D7: =IF(B7="","",VLOOKUP(B7,DATA!A2:D101,3,0)) -> 1 | E7: =IF(B7="","",VLOOKUP(B7,DATA!A2:D101,4,0)) -> 1
B8: Epinard | C8: =IF(B8="","",VLOOKUP(B8,DATA!A2:D101,2,0)) -> 5.5 | D8: =VLOOKUP(B8,DATA!A2:D101,3,0) -> 0.6 | E8: =VLOOKUP(B8,DATA!A2:D101,4,0) -> 1.2
B9: Roquette | C9: =IF(B9="","",VLOOKUP(B9,DATA!A2:D101,2,0)) -> 15 | D9: =VLOOKUP(B9,DATA!A2:D101,3,0) -> 0.1 | E9: =VLOOKUP(B9,DATA!A2:D101,4,0) -> 0.2
B10: Fêve | C10: =IF(B10="","",VLOOKUP(B10,DATA!A2:D101,2,0)) -> 2.5 | D10: =VLOOKUP(B10,DATA!A2:D101,3,0) -> 0.5 | E10: =VLOOKUP(B10,DATA!A2:D101,4,0) -> 0.5
B11: Laitue | C11: =IF(B11="","",VLOOKUP(B11,DATA!A2:D101,2,0)) -> 1.5 | D11: =VLOOKUP(B11,DATA!A2:D101,3,0) -> 1 | E11: =VLOOKUP(B11,DATA!A2:D101,4,0) -> 1
B12: Chou chinois | C12: =IF(B12="","",VLOOKUP(B12,DATA!A2:D101,2,0)) -> 1.5 | D12: =VLOOKUP(B12,DATA!A2:D101,3,0) -> 1 | E12: =VLOOKUP(B12,DATA!A2:D101,4,0) -> 1
B13: Bette | C13: =IF(B13="","",VLOOKUP(B13,DATA!A2:D101,2,0)) -> 2.25 | D13: =VLOOKUP(B13,DATA!A2:D101,3,0) -> 1 | E13: =VLOOKUP(B13,DATA!A2:D101,4,0) -> 1
B14: Laitue | C14: =IF(B14="","",VLOOKUP(B14,DATA!A2:D101,2,0)) -> 1.5 | D14: =VLOOKUP(B14,DATA!A2:D101,3,0) -> 1 | E14: =VLOOKUP(B14,DATA!A2:D101,4,0) -> 1
B15: Haricot | C15: =IF(B15="","",VLOOKUP(B15,DATA!A2:D101,2,0)) -> 7.5 | D15: =VLOOKUP(B15,DATA!A2:D101,3,0) -> 0.4 | E15: =VLOOKUP(B15,DATA!A2:D101,4,0) -> 0.8
B16: Bette | C16: =IF(B16="","",VLOOKUP(B16,DATA!A2:D101,2,0)) -> 2.25 | D16: =VLOOKUP(B16,DATA!A2:D101,3,0) -> 1 | E16: =VLOOKUP(B16,DATA!A2:D101,4,0) -> 1
B17: Oignon | C17: =IF(B17="","",VLOOKUP(B17,DATA!A2:D101,2,0)) -> 1.5 | D17: =VLOOKUP(B17,DATA!A2:D101,3,0) -> 1 | E17: =VLOOKUP(B17,DATA!A2:D101,4,0) -> 1.5
B18: Chou-fleur | C18: =IF(B18="","",VLOOKUP(B18,DATA!A2:D101,2,0)) -> 2.2 | D18: =VLOOKUP(B18,DATA!A2:D101,3,0) -> 1 | E18: =VLOOKUP(B18,DATA!A2:D101,4,0) -> 2.2
B19: Navet | C19: =IF(B19="","",VLOOKUP(B19,DATA!A2:D101,2,0)) -> 2 | D19: =VLOOKUP(B19,DATA!A2:D101,3,0) -> 0.4 | E19: =VLOOKUP(B19,DATA!A2:D101,4,0) -> 0.8
B20: Mâche | C20: =IF(B20="","",VLOOKUP(B20,DATA!A2:D101,2,0)) -> 15 | D20: =VLOOKUP(B20,DATA!A2:D101,3,0) -> 0.15 | E20: =VLOOKUP(B20,DATA!A2:D101,4,0) -> 2.25
B21: Fêve | C21: =VLOOKUP(B21,DATA!A2:D101,2,0) -> 2.5 | D21: =VLOOKUP(B21,DATA!A2:D101,3,0) -> 0.5 | E21: =VLOOKUP(B21,DATA!A2:D101,4,0) -> 0.5
B22: Laitue | C22: =VLOOKUP(B22,DATA!A2:D101,2,0) -> 1.5 | D22: =VLOOKUP(B22,DATA!A2:D101,3,0) -> 1 | E22: =VLOOKUP(B22,DATA!A2:D101,4,0) -> 1
B23: Mâche | C23: =VLOOKUP(B23,DATA!A2:D101,2,0) -> 15 | D23: =VLOOKUP(B23,DATA!A2:D101,3,0) -> 0.15 | E23: =VLOOKUP(B23,DATA!A2:D101,4,0) -> 2.25
F24: =F7*D7*C7+F8*C8*D8+F9*C9*D9+D10*F10*C10+F11*D11*C11+F12*C12*D12+F13*C13*D13+F14*C14*D14+F15*C15*D15+F16*C16*D16+F17*C17*D17+F18*C18*D18+F19*C19*D19+C20*D20*F20+F21*D21*C21+F22*D22*C22+F23*D23*C23 -> 0 | G24: =G7*E7*C7+G8*C8*E8+G9*C9*E9+E10*G10*C10+G11*E11*C11+G12*C12*E12+G13*C13*E13+G14*C14*E14+G15*C15*E15+G16*C16*E16+G17*C17*E17+G18*C18*E18+G19*C19*E19+C20*E20*G20+G21*E21*C21+G22*E22*C22+G23*E23*C23 -> 0 | H24: =H7*C7*D7+H8*D8*C8+H9*D9*C9+C10*H10*D10+H11*C11*D11+H12*D12*C12+H13*D13*C13+H14*D14*C14+H15*D15*C15+H16*D16*C16+H17*D17*C17+H18*D18*C18+H19*D19*C19+D20*C20*H20+H21*C21*D21+H22*C22*D22+H23*C23*D23 -> 0 | I24: =I7*C7*E7+I8*E8*C8+I9*E9*C9+C10*I10*E10+I11*C11*E11+I12*E12*C12+I13*E13*C13+I14*E14*C14+I15*E15*C15+I16*E16*C16+I17*E17*C17+I18*E18*C18+I19*E19*C19+E20*C20*I20+I21*C21*E21+I22*C22*E22+I23*C23*E23 -> 0 | J24: =J7*D7*C7+J8*C8*D8+J9*C9*D9+D10*J10*C10+J11*D11*C11+J12*C12*D12+J13*C13*D13+J14*C14*D14+J15*C15*D15+J16*C16*D16+J17*C17*D17+J18*C18*D18+J19*C19*D19+C20*D20*J20+J21*D21*C21+J22*D22*C22+J23*D23*C23 -> 0 | K24: =K7*E7*C7+K8*C8*E8+K9*C9*E9+E10*K10*C10+K11*E11*C11+K12*C12*E12+K13*C13*E13+K14*C14*E14+K15*C15*E15+K16*C16*E16+K17*C17*E17+K18*C18*E18+K19*C19*E19+C20*E20*K20+K21*E21*C21+K22*E22*C22+K23*E23*C23 -> 0 | L24: =L7*C7*D7+L8*D8*C8+L9*D9*C9+C10*L10*D10+L11*C11*D11+L12*D12*C12+L13*D13*C13+L14*D14*C14+L15*D15*C15+L16*D16*C16+L17*D17*C17+L18*D18*C18+L19*D19*C19+D20*C20*L20+L21*C21*D21+L22*C22*D22+L23*C23*D23 -> 0 | M24: =M7*C7*E7+M8*E8*C8+M9*E9*C9+C10*M10*E10+M11*C11*E11+M12*E12*C12+M13*E13*C13+M14*E14*C14+M15*E15*C15+M16*E16*C16+M17*E17*C17+M18*E18*C18+M19*E19*C19+E20*C20*M20+M21*C21*E21+M22*C22*E22+M23*C23*E23 -> 0 | N24: =N7*D7*C7+N8*C8*D8+N9*C9*D9+D10*N10*C10+N11*D11*C11+N12*C12*D12+N13*C13*D13+N14*C14*D14+N15*C15*D15+N16*C16*D16+N17*C17*D17+N18*C18*D18+N19*C19*D19+C20*D20*N20+N21*D21*C21+N22*D22*C22+N23*D23*C23 -> 0 | O24: =O7*E7*C7+O8*C8*E8+O9*C9*E9+E10*O10*C10+O11*E11*C11+O12*C12*E12+O13*C13*E13+O14*C14*E14+O15*C15*E15+O16*C16*E16+O17*C17*E17+O18*C18*E18+O19*C19*E19+C20*E20*O20+O21*E21*C21+O22*E22*C22+O23*E23*C23 -> 0 | P24: TOTAL

Sheet NOVEMBRE
A5: MOIS | B5: ESPECE | C5: P.U. | D5: DOSE10 | E5: DOSE20 | F5: s45 | H5: s46 | J5: s47 | L5: s48
F6: D10 | G6: D20 | H6: D10 | I6: D20 | J6: D10 | K6: D20 | L6: D10 | M6: D20 | N6: D10 | O6: D20
A7: Aout | B7: Radis | C7: =IF(B7="","",VLOOKUP(B7,DATA!A2:D101,2,0)) -> 1.5 | D7: =IF(B7="","",VLOOKUP(B7,DATA!A2:D101,3,0)) -> 1 | E7: =IF(B7="","",VLOOKUP(B7,DATA!A2:D101,4,0)) -> 1
B8: Epinard | C8: =IF(B8="","",VLOOKUP(B8,DATA!A2:D101,2,0)) -> 5.5 | D8: =VLOOKUP(B8,DATA!A2:D101,3,0) -> 0.6 | E8: =VLOOKUP(B8,DATA!A2:D101,4,0) -> 1.2
B9: Roquette | C9: =IF(B9="","",VLOOKUP(B9,DATA!A2:D101,2,0)) -> 15 | D9: =VLOOKUP(B9,DATA!A2:D101,3,0) -> 0.1 | E9: =VLOOKUP(B9,DATA!A2:D101,4,0) -> 0.2
B10: Fêve | C10: =IF(B10="","",VLOOKUP(B10,DATA!A2:D101,2,0)) -> 2.5 | D10: =VLOOKUP(B10,DATA!A2:D101,3,0) -> 0.5 | E10: =VLOOKUP(B10,DATA!A2:D101,4,0) -> 0.5
B11: Laitue | C11: =IF(B11="","",VLOOKUP(B11,DATA!A2:D101,2,0)) -> 1.5 | D11: =VLOOKUP(B11,DATA!A2:D101,3,0) -> 1 | E11: =VLOOKUP(B11,DATA!A2:D101,4,0) -> 1
B12: Chou chinois | C12: =IF(B12="","",VLOOKUP(B12,DATA!A2:D101,2,0)) -> 1.5 | D12: =VLOOKUP(B12,DATA!A2:D101,3,0) -> 1 | E12: =VLOOKUP(B12,DATA!A2:D101,4,0) -> 1
B13: Bette | C13: =IF(B13="","",VLOOKUP(B13,DATA!A2:D101,2,0)) -> 2.25 | D13: =VLOOKUP(B13,DATA!A2:D101,3,0) -> 1 | E13: =VLOOKUP(B13,DATA!A2:D101,4,0) -> 1
B14: Laitue | C14: =IF(B14="","",VLOOKUP(B14,DATA!A2:D101,2,0)) -> 1.5 | D14: =VLOOKUP(B14,DATA!A2:D101,3,0) -> 1 | E14: =VLOOKUP(B14,DATA!A2:D101,4,0) -> 1
B15: Haricot | C15: =IF(B15="","",VLOOKUP(B15,DATA!A2:D101,2,0)) -> 7.5 | D15: =VLOOKUP(B15,DATA!A2:D101,3,0) -> 0.4 | E15: =VLOOKUP(B15,DATA!A2:D101,4,0) -> 0.8
B16: Bette | C16: =IF(B16="","",VLOOKUP(B16,DATA!A2:D101,2,0)) -> 2.25 | D16: =VLOOKUP(B16,DATA!A2:D101,3,0) -> 1 | E16: =VLOOKUP(B16,DATA!A2:D101,4,0) -> 1
B17: Oignon | C17: =IF(B17="","",VLOOKUP(B17,DATA!A2:D101,2,0)) -> 1.5 | D17: =VLOOKUP(B17,DATA!A2:D101,3,0) -> 1 | E17: =VLOOKUP(B17,DATA!A2:D101,4,0) -> 1.5
B18: Chou-fleur | C18: =IF(B18="","",VLOOKUP(B18,DATA!A2:D101,2,0)) -> 2.2 | D18: =VLOOKUP(B18,DATA!A2:D101,3,0) -> 1 | E18: =VLOOKUP(B18,DATA!A2:D101,4,0) -> 2.2
B19: Navet | C19: =IF(B19="","",VLOOKUP(B19,DATA!A2:D101,2,0)) -> 2 | D19: =VLOOKUP(B19,DATA!A2:D101,3,0) -> 0.4 | E19: =VLOOKUP(B19,DATA!A2:D101,4,0) -> 0.8
B20: Mâche | C20: =IF(B20="","",VLOOKUP(B20,DATA!A2:D101,2,0)) -> 15 | D20: =VLOOKUP(B20,DATA!A2:D101,3,0) -> 0.15 | E20: =VLOOKUP(B20,DATA!A2:D101,4,0) -> 2.25
B21: Fêve | C21: =VLOOKUP(B21,DATA!A2:D101,2,0) -> 2.5 | D21: =VLOOKUP(B21,DATA!A2:D101,3,0) -> 0.5 | E21: =VLOOKUP(B21,DATA!A2:D101,4,0) -> 0.5
B22: Laitue | C22: =VLOOKUP(B22,DATA!A2:D101,2,0) -> 1.5 | D22: =VLOOKUP(B22,DATA!A2:D101,3,0) -> 1 | E22: =VLOOKUP(B22,DATA!A2:D101,4,0) -> 1
B23: Mâche | C23: =VLOOKUP(B23,DATA!A2:D101,2,0) -> 15 | D23: =VLOOKUP(B23,DATA!A2:D101,3,0) -> 0.15 | E23: =VLOOKUP(B23,DATA!A2:D101,4,0) -> 2.25
F24: =F7*D7*C7+F8*C8*D8+F9*C9*D9+D10*F10*C10+F11*D11*C11+F12*C12*D12+F13*C13*D13+F14*C14*D14+F15*C15*D15+F16*C16*D16+F17*C17*D17+F18*C18*D18+F19*C19*D19+C20*D20*F20+F21*D21*C21+F22*D22*C22+F23*D23*C23 -> 0 | G24: =G7*E7*C7+G8*C8*E8+G9*C9*E9+E10*G10*C10+G11*E11*C11+G12*C12*E12+G13*C13*E13+G14*C14*E14+G15*C15*E15+G16*C16*E16+G17*C17*E17+G18*C18*E18+G19*C19*E19+C20*E20*G20+G21*E21*C21+G22*E22*C22+G23*E23*C23 -> 0 | H24: =H7*C7*D7+H8*D8*C8+H9*D9*C9+C10*H10*D10+H11*C11*D11+H12*D12*C12+H13*D13*C13+H14*D14*C14+H15*D15*C15+H16*D16*C16+H17*D17*C17+H18*D18*C18+H19*D19*C19+D20*C20*H20+H21*C21*D21+H22*C22*D22+H23*C23*D23 -> 0 | I24: =I7*C7*E7+I8*E8*C8+I9*E9*C9+C10*I10*E10+I11*C11*E11+I12*E12*C12+I13*E13*C13+I14*E14*C14+I15*E15*C15+I16*E16*C16+I17*E17*C17+I18*E18*C18+I19*E19*C19+E20*C20*I20+I21*C21*E21+I22*C22*E22+I23*C23*E23 -> 0 | J24: =J7*D7*C7+J8*C8*D8+J9*C9*D9+D10*J10*C10+J11*D11*C11+J12*C12*D12+J13*C13*D13+J14*C14*D14+J15*C15*D15+J16*C16*D16+J17*C17*D17+J18*C18*D18+J19*C19*D19+C20*D20*J20+J21*D21*C21+J22*D22*C22+J23*D23*C23 -> 0 | K24: =K7*E7*C7+K8*C8*E8+K9*C9*E9+E10*K10*C10+K11*E11*C11+K12*C12*E12+K13*C13*E13+K14*C14*E14+K15*C15*E15+K16*C16*E16+K17*C17*E17+K18*C18*E18+K19*C19*E19+C20*E20*K20+K21*E21*C21+K22*E22*C22+K23*E23*C23 -> 0 | L24: =L7*C7*D7+L8*D8*C8+L9*D9*C9+C10*L10*D10+L11*C11*D11+L12*D12*C12+L13*D13*C13+L14*D14*C14+L15*D15*C15+L16*D16*C16+L17*D17*C17+L18*D18*C18+L19*D19*C19+D20*C20*L20+L21*C21*D21+L22*C22*D22+L23*C23*D23 -> 0 | M24: =M7*C7*E7+M8*E8*C8+M9*E9*C9+C10*M10*E10+M11*C11*E11+M12*E12*C12+M13*E13*C13+M14*E14*C14+M15*E15*C15+M16*E16*C16+M17*E17*C17+M18*E18*C18+M19*E19*C19+E20*C20*M20+M21*C21*E21+M22*C22*E22+M23*C23*E23 -> 0 | N24: =N7*D7*C7+N8*C8*D8+N9*C9*D9+D10*N10*C10+N11*D11*C11+N12*C12*D12+N13*C13*D13+N14*C14*D14+N15*C15*D15+N16*C16*D16+N17*C17*D17+N18*C18*D18+N19*C19*D19+C20*D20*N20+N21*D21*C21+N22*D22*C22+N23*D23*C23 -> 0 | O24: =O7*E7*C7+O8*C8*E8+O9*C9*E9+E10*O10*C10+O11*E11*C11+O12*C12*E12+O13*C13*E13+O14*C14*E14+O15*C15*E15+O16*C16*E16+O17*C17*E17+O18*C18*E18+O19*C19*E19+C20*E20*O20+O21*E21*C21+O22*E22*C22+O23*E23*C23 -> 0 | P24: TOTAL

Sheet DECEMBRE
A5: MOIS | B5: ESPECE | C5: P.U. | D5: DOSE10 | E5: DOSE20 | F5: s49 | H5: s50 | J5: s51 | L5: s52
F6: D10 | G6: D20 | H6: D10 | I6: D20 | J6: D10 | K6: D20 | L6: D10 | M6: D20 | N6: D10 | O6: D20
A7: Aout | B7: Radis | C7: =IF(B7="","",VLOOKUP(B7,DATA!A2:D101,2,0)) -> 1.5 | D7: =IF(B7="","",VLOOKUP(B7,DATA!A2:D101,3,0)) -> 1 | E7: =IF(B7="","",VLOOKUP(B7,DATA!A2:D101,4,0)) -> 1
B8: Epinard | C8: =IF(B8="","",VLOOKUP(B8,DATA!A2:D101,2,0)) -> 5.5 | D8: =VLOOKUP(B8,DATA!A2:D101,3,0) -> 0.6 | E8: =VLOOKUP(B8,DATA!A2:D101,4,0) -> 1.2
B9: Roquette | C9: =IF(B9="","",VLOOKUP(B9,DATA!A2:D101,2,0)) -> 15 | D9: =VLOOKUP(B9,DATA!A2:D101,3,0) -> 0.1 | E9: =VLOOKUP(B9,DATA!A2:D101,4,0) -> 0.2
B10: Fêve | C10: =IF(B10="","",VLOOKUP(B10,DATA!A2:D101,2,0)) -> 2.5 | D10: =VLOOKUP(B10,DATA!A2:D101,3,0) -> 0.5 | E10: =VLOOKUP(B10,DATA!A2:D101,4,0) -> 0.5
B11: Laitue | C11: =IF(B11="","",VLOOKUP(B11,DATA!A2:D101,2,0)) -> 1.5 | D11: =VLOOKUP(B11,DATA!A2:D101,3,0) -> 1 | E11: =VLOOKUP(B11,DATA!A2:D101,4,0) -> 1
B12: Chou chinois | C12: =IF(B12="","",VLOOKUP(B12,DATA!A2:D101,2,0)) -> 1.5 | D12: =VLOOKUP(B12,DATA!A2:D101,3,0) -> 1 | E12: =VLOOKUP(B12,DATA!A2:D101,4,0) -> 1
B13: Bette | C13: =IF(B13="","",VLOOKUP(B13,DATA!A2:D101,2,0)) -> 2.25 | D13: =VLOOKUP(B13,DATA!A2:D101,3,0) -> 1 | E13: =VLOOKUP(B13,DATA!A2:D101,4,0) -> 1
B14: Laitue | C14: =IF(B14="","",VLOOKUP(B14,DATA!A2:D101,2,0)) -> 1.5 | D14: =VLOOKUP(B14,DATA!A2:D101,3,0) -> 1 | E14: =VLOOKUP(B14,DATA!A2:D101,4,0) -> 1
B15: Haricot | C15: =IF(B15="","",VLOOKUP(B15,DATA!A2:D101,2,0)) -> 7.5 | D15: =VLOOKUP(B15,DATA!A2:D101,3,0) -> 0.4 | E15: =VLOOKUP(B15,DATA!A2:D101,4,0) -> 0.8
B16: Bette | C16: =IF(B16="","",VLOOKUP(B16,DATA!A2:D101,2,0)) -> 2.25 | D16: =VLOOKUP(B16,DATA!A2:D101,3,0) -> 1 | E16: =VLOOKUP(B16,DATA!A2:D101,4,0) -> 1
B17: Oignon | C17: =IF(B17="","",VLOOKUP(B17,DATA!A2:D101,2,0)) -> 1.5 | D17: =VLOOKUP(B17,DATA!A2:D101,3,0) -> 1 | E17: =VLOOKUP(B17,DATA!A2:D101,4,0) -> 1.5
B18: Chou-fleur | C18: =IF(B18="","",VLOOKUP(B18,DATA!A2:D101,2,0)) -> 2.2 | D18: =VLOOKUP(B18,DATA!A2:D101,3,0) -> 1 | E18: =VLOOKUP(B18,DATA!A2:D101,4,0) -> 2.2
B19: Navet | C19: =IF(B19="","",VLOOKUP(B19,DATA!A2:D101,2,0)) -> 2 | D19: =VLOOKUP(B19,DATA!A2:D101,3,0) -> 0.4 | E19: =VLOOKUP(B19,DATA!A2:D101,4,0) -> 0.8
B20: Mâche | C20: =IF(B20="","",VLOOKUP(B20,DATA!A2:D101,2,0)) -> 15 | D20: =VLOOKUP(B20,DATA!A2:D101,3,0) -> 0.15 | E20: =VLOOKUP(B20,DATA!A2:D101,4,0) -> 2.25
B21: Fêve | C21: =VLOOKUP(B21,DATA!A2:D101,2,0) -> 2.5 | D21: =VLOOKUP(B21,DATA!A2:D101,3,0) -> 0.5 | E21: =VLOOKUP(B21,DATA!A2:D101,4,0) -> 0.5
B22: Laitue | C22: =VLOOKUP(B22,DATA!A2:D101,2,0) -> 1.5 | D22: =VLOOKUP(B22,DATA!A2:D101,3,0) -> 1 | E22: =VLOOKUP(B22,DATA!A2:D101,4,0) -> 1
B23: Mâche | C23: =VLOOKUP(B23,DATA!A2:D101,2,0) -> 15 | D23: =VLOOKUP(B23,DATA!A2:D101,3,0) -> 0.15 | E23: =VLOOKUP(B23,DATA!A2:D101,4,0) -> 2.25
F24: =F7*D7*C7+F8*C8*D8+F9*C9*D9+D10*F10*C10+F11*D11*C11+F12*C12*D12+F13*C13*D13+F14*C14*D14+F15*C15*D15+F16*C16*D16+F17*C17*D17+F18*C18*D18+F19*C19*D19+C20*D20*F20+F21*D21*C21+F22*D22*C22+F23*D23*C23 -> 0 | G24: =G7*E7*C7+G8*C8*E8+G9*C9*E9+E10*G10*C10+G11*E11*C11+G12*C12*E12+G13*C13*E13+G14*C14*E14+G15*C15*E15+G16*C16*E16+G17*C17*E17+G18*C18*E18+G19*C19*E19+C20*E20*G20+G21*E21*C21+G22*E22*C22+G23*E23*C23 -> 0 | H24: =H7*C7*D7+H8*D8*C8+H9*D9*C9+C10*H10*D10+H11*C11*D11+H12*D12*C12+H13*D13*C13+H14*D14*C14+H15*D15*C15+H16*D16*C16+H17*D17*C17+H18*D18*C18+H19*D19*C19+D20*C20*H20+H21*C21*D21+H22*C22*D22+H23*C23*D23 -> 0 | I24: =I7*C7*E7+I8*E8*C8+I9*E9*C9+C10*I10*E10+I11*C11*E11+I12*E12*C12+I13*E13*C13+I14*E14*C14+I15*E15*C15+I16*E16*C16+I17*E17*C17+I18*E18*C18+I19*E19*C19+E20*C20*I20+I21*C21*E21+I22*C22*E22+I23*C23*E23 -> 0 | J24: =J7*D7*C7+J8*C8*D8+J9*C9*D9+D10*J10*C10+J11*D11*C11+J12*C12*D12+J13*C13*D13+J14*C14*D14+J15*C15*D15+J16*C16*D16+J17*C17*D17+J18*C18*D18+J19*C19*D19+C20*D20*J20+J21*D21*C21+J22*D22*C22+J23*D23*C23 -> 0 | K24: =K7*E7*C7+K8*C8*E8+K9*C9*E9+E10*K10*C10+K11*E11*C11+K12*C12*E12+K13*C13*E13+K14*C14*E14+K15*C15*E15+K16*C16*E16+K17*C17*E17+K18*C18*E18+K19*C19*E19+C20*E20*K20+K21*E21*C21+K22*E22*C22+K23*E23*C23 -> 0 | L24: =L7*C7*D7+L8*D8*C8+L9*D9*C9+C10*L10*D10+L11*C11*D11+L12*D12*C12+L13*D13*C13+L14*D14*C14+L15*D15*C15+L16*D16*C16+L17*D17*C17+L18*D18*C18+L19*D19*C19+D20*C20*L20+L21*C21*D21+L22*C22*D22+L23*C23*D23 -> 0 | M24: =M7*C7*E7+M8*E8*C8+M9*E9*C9+C10*M10*E10+M11*C11*E11+M12*E12*C12+M13*E13*C13+M14*E14*C14+M15*E15*C15+M16*E16*C16+M17*E17*C17+M18*E18*C18+M19*E19*C19+E20*C20*M20+M21*C21*E21+M22*C22*E22+M23*C23*E23 -> 0 | N24: =N7*D7*C7+N8*C8*D8+N9*C9*D9+D10*N10*C10+N11*D11*C11+N12*C12*D12+N13*C13*D13+N14*C14*D14+N15*C15*D15+N16*C16*D16+N17*C17*D17+N18*C18*D18+N19*C19*D19+C20*D20*N20+N21*D21*C21+N22*D22*C22+N23*D23*C23 -> 0 | O24: =O7*E7*C7+O8*C8*E8+O9*C9*E9+E10*O10*C10+O11*E11*C11+O12*C12*E12+O13*C13*E13+O14*C14*E14+O15*C15*E15+O16*C16*E16+O17*C17*E17+O18*C18*E18+O19*C19*E19+C20*E20*O20+O21*E21*C21+O22*E22*C22+O23*E23*C23 -> 0 | P24: TOTAL
