Workbook
Name BDY.TA: test!$M$4:$N$34
Name LCN: IF(AND(WEEKDAY(INDEX(test!$B:$B,ROW()),2)<>7,INDEX(test!$A:$A,ROW())<>TRUE),ListeNoms,"")
Name LCS: IF(AND(WEEKDAY(INDEX(test!$B:$B,ROW()),2)<>7,INDEX(test!$A:$A,ROW())<>TRUE),ListeStatut,"")
Name ListeNoms: DONNÉES!$A$5:$A$12
Name ListeStatut: DONNÉES!$B$5:$B$7

Sheet DONNÉES
A1: test
A4: ÉQUIPES | B4: Statut
A5: gégé | B5: OK
A6: bibi | B6: KO
A7: lulu
A8: mimi
A9: momo
A10: nono
A11: lolo
A12: roro
A14: JOURS FÉRIÉS
A15: ANNÉE | B15: 2025
A16: Fériés fixes | B16: Dates
A17: Jour de l'an | B17: =DATE($B$15,1,1) -> 45658
A18: Lundi de Pâques | B18: =$B$29+1 -> 45768
A19: Fête du travail | B19: =DATE($B$15,5,1) -> 45778
A20: Liberation 1945 | B20: =DATE($B$15,5,8) -> 45785
A21: Ascension | B21: =$B$29+39 -> 45806
A22: Fête nationale | B22: =DATE($B$15,7,14) -> 45852
A23: Lundi de Pentecôte | B23: =$B$29+50 -> 45817
A24: Assomption | B24: =DATE($B$15,8,15) -> 45884
A25: Toussaint | B25: =DATE($B$15,11,1) -> 45962
A26: Armistice 1918 | B26: =DATE($B$15,11,11) -> 45972
A27: Noël | B27: =DATE($B$15,12,25) -> 46016
A28: Fériés variables | B28: Dates
A29: Pâques | B29: =FLOOR(DAY(MINUTE(B15/38)/2+56)&"/5/"&B15,7)-34 -> 45767
A30: Lundi de Pâques | B30: =$B$29+1 -> 45768
A31: Ascension | B31: =$B$29+39 -> 45806
A32: Pentecôte | B32: =B29+49 -> 45816
A33: Lundi de Pentecôte | B33: =$B$29+50 -> 45817
A34: Fériés Texte
A35: =DATE($B$15,1,1) -> 45658
A36: =$B$29+1 -> 45768
A37: =DATE($B$15,5,1) -> 45778
A38: =DATE($B$15,5,8) -> 45785
A39: =$B$29+39 -> 45806
A40: =DATE($B$15,7,14) -> 45852
A41: =$B$29+50 -> 45817
A42: =DATE($B$15,8,15) -> 45884
A43: =DATE($B$15,11,1) -> 45962
...

Sheet test
B1: 45778
B2: DATE
A3: NB.SI.ENS
A4: =COUNTIFS(DONNÉES!$B$17:$B$27,B4)=1 -> TRUE | B4: =DATE(YEAR($B$1),MONTH($B$1),1) -> 45778
A5: =COUNTIFS(DONNÉES!$B$17:$B$27,B5)=1 -> FALSE | B5: =B4+1 -> 45779
A6: =COUNTIFS(DONNÉES!$B$17:$B$27,B6)=1 -> FALSE | B6: =B5+1 -> 45780
A7: =COUNTIFS(DONNÉES!$B$17:$B$27,B7)=1 -> FALSE | B7: =B6+1 -> 45781
A8: =COUNTIFS(DONNÉES!$B$17:$B$27,B8)=1 -> FALSE | B8: =B7+1 -> 45782
A9: =COUNTIFS(DONNÉES!$B$17:$B$27,B9)=1 -> FALSE | B9: =B8+1 -> 45783
A10: =COUNTIFS(DONNÉES!$B$17:$B$27,B10)=1 -> FALSE | B10: =B9+1 -> 45784
A11: =COUNTIFS(DONNÉES!$B$17:$B$27,B11)=1 -> TRUE | B11: =B10+1 -> 45785
A12: =COUNTIFS(DONNÉES!$B$17:$B$27,B12)=1 -> FALSE | B12: =B11+1 -> 45786
A13: =COUNTIFS(DONNÉES!$B$17:$B$27,B13)=1 -> FALSE | B13: =B12+1 -> 45787
A14: =COUNTIFS(DONNÉES!$B$17:$B$27,B14)=1 -> FALSE | B14: =B13+1 -> 45788
A15: =COUNTIFS(DONNÉES!$B$17:$B$27,B15)=1 -> FALSE | B15: =B14+1 -> 45789
A16: =COUNTIFS(DONNÉES!$B$17:$B$27,B16)=1 -> FALSE | B16: =B15+1 -> 45790
... A34: =COUNTIFS(DONNÉES!$B$17:$B$27,B34)=1 -> FALSE | B34: =B33+1 -> 45808
