Workbook
Name actif: #REF!
Name ENR: #REF!
Name liste_mens: [1]Feuil4!$D$1:$D$40
Name liste_sem: [1]Feuil4!$G$1:$G$46

Sheet 2
A1: n° | B1: vérif
A2: 19176410925032 | B2: {=IFERROR(VLOOKUP(A2&"",'1'!$A$2:$A$86&"",1,0),"Non trouvé")} -> 19176410925032
A3: 24383067920920 | B3: {=IFERROR(VLOOKUP(A3&"",'1'!$A$2:$A$86&"",1,0),"Non trouvé")} -> 24383067920920
A4: 24383212638794 | B4: {=IFERROR(VLOOKUP(A4&"",'1'!$A$2:$A$86&"",1,0),"Non trouvé")} -> 24383212638794
A5: 19181910059353 | B5: {=IFERROR(VLOOKUP(A5&"",'1'!$A$2:$A$86&"",1,0),"Non trouvé")} -> 19181910059353
A6: 19176555642862 | B6: {=IFERROR(VLOOKUP(A6&"",'1'!$A$2:$A$86&"",1,0),"Non trouvé")} -> 19176555642862
A7: 19175976771620 | B7: {=IFERROR(VLOOKUP(A7&"",'1'!$A$2:$A$86&"",1,0),"Non trouvé")} -> 19175976771620
A8: 19176121489489 | B8: {=IFERROR(VLOOKUP(A8&"",'1'!$A$2:$A$86&"",1,0),"Non trouvé")} -> 19176121489489
A9: 19171779921782 | B9: {=IFERROR(VLOOKUP(A9&"",'1'!$A$2:$A$86&"",1,0),"Non trouvé")} -> 19171779921782
A10: 19102170645168 | B10: {=IFERROR(VLOOKUP(A10&"",'1'!$A$2:$A$86&"",1,0),"Non trouvé")} -> 19102170645168
A11: 19173806004633 | B11: {=IFERROR(VLOOKUP(A11&"",'1'!$A$2:$A$86&"",1,0),"Non trouvé")} -> 19173806004633
A12: 19181765357550 | B12: {=IFERROR(VLOOKUP(A12&"",'1'!$A$2:$A$86&"",1,0),"Non trouvé")} -> 19181765357550
A13: 19172937622075 | B13: {=IFERROR(VLOOKUP(A13&"",'1'!$A$2:$A$86&"",1,0),"Non trouvé")} -> 19172937622075
... A77: 19114327023460 | B77: {=IFERROR(VLOOKUP(A77&"",'1'!$A$2:$A$86&"",1,0),"Non trouvé")} -> 19114327023460

Sheet 1
A2: 24383067920920 | B2: {=IFERROR(VLOOKUP(A2&"",'2'!$A$2:$A$86&"",1,0),"Non trouvé")} -> 24383067920920
A3: 24383212638794 | B3: {=IFERROR(VLOOKUP(A3&"",'2'!$A$2:$A$86&"",1,0),"Non trouvé")} -> 24383212638794
A4: 24377568643816 | B4: {=IFERROR(VLOOKUP(A4&"",'2'!$A$2:$A$86&"",1,0),"Non trouvé")} -> 24377568643816
A5: 19173806004633 | B5: {=IFERROR(VLOOKUP(A5&"",'2'!$A$2:$A$86&"",1,0),"Non trouvé")} -> 19173806004633
A6: 19181765357550 | B6: {=IFERROR(VLOOKUP(A6&"",'2'!$A$2:$A$86&"",1,0),"Non trouvé")} -> 19181765357550
A7: 19172937622075 | B7: {=IFERROR(VLOOKUP(A7&"",'2'!$A$2:$A$86&"",1,0),"Non trouvé")} -> 19172937622075
A8: 19176989796205 | B8: {=IFERROR(VLOOKUP(A8&"",'2'!$A$2:$A$86&"",1,0),"Non trouvé")} -> 19176989796205
A9: 19176845078470 | B9: {=IFERROR(VLOOKUP(A9&"",'2'!$A$2:$A$86&"",1,0),"Non trouvé")} -> 19176845078470
A10: 19102170645168 | B10: {=IFERROR(VLOOKUP(A10&"",'2'!$A$2:$A$86&"",1,0),"Non trouvé")} -> 19102170645168
A11: 19118234320257 | B11: {=IFERROR(VLOOKUP(A11&"",'2'!$A$2:$A$86&"",1,0),"Non trouvé")} -> 19118234320257
A12: 19118379038085 | B12: {=IFERROR(VLOOKUP(A12&"",'2'!$A$2:$A$86&"",1,0),"Non trouvé")} -> 19118379038085
A13: 19178726365464 | B13: {=IFERROR(VLOOKUP(A13&"",'2'!$A$2:$A$86&"",1,0),"Non trouvé")} -> Non trouvé
... A85: 19186541040086 | B85: {=IFERROR(VLOOKUP(A85&"",'2'!$A$2:$A$86&"",1,0),"Non trouvé")} -> Non trouvé
