Workbook
Name equipe1: Planning!$A$5:$A$15
Name equipe2: Planning!$A$18:$A$28

Sheet Planning
A4: Equipe1
A5: TOTO
A7: TATA
A9: TITI
A11: TUTU
A13: ATAT
A17: Equipe2
A18: OTOT
A20: ATAT
A22: ITIT
A24: UTUT
A26: TOTO

Sheet Data
D1: Ligne 'Planning' | E1: LouReeD | G1: Ligne 'Planning'
B2: equipe1 | C2: TOTO | D2: =IF(C2<>"",MATCH(C2,Planning!$A:$A,0),"") -> 5 | E2: =IF(C2<>"",MATCH(C2,INDIRECT($B$2),0)+MATCH("Equipe1",Planning!A:A,0),"") -> 5 | F2: =IF(LEFT($B2,6)="Equipe",$B2,#REF!) -> equipe1 | G2: =IF($C2<>"",MATCH($C2,INDIRECT($H2),0),"") -> 2 | H2: =IF(LEFT($B2,6)="Equipe","'Planning'!A" & MATCH($F2,Planning!$A:$A,0) & ":A" & MATCH($F2,Planning!$A:$A,0) +COUNTA($C2:$C11)*2,$H1) -> 'Planning'!A4:A14 | J2: En colonne [D], mon calcul de recherche de la ligne du nom en 'Planning', qui fonctionne.
C3: TATA | D3: =IF(C3<>"",MATCH(C3,Planning!$A:$A,0),"") -> 7 | E3: =IF(C3<>"",MATCH(C3,INDIRECT($B$2),0)+MATCH("Equipe1",Planning!A:A,0),"") -> 7 | F3: =IF(LEFT($B3,6)="Equipe",$B3,$F2) -> equipe1 | G3: =IF($C3<>"",MATCH($C3,INDIRECT($H3),0),"") -> 4 | H3: =IF(LEFT($B3,6)="Equipe","'Planning'!A" & MATCH($F3,Planning!$A:$A,0) & ":A" & MATCH($F3,Planning!$A:$A,0) +COUNTA($C3:$C12)*2,$H2) -> 'Planning'!A4:A14
C4: TITI | D4: =IF(C4<>"",MATCH(C4,Planning!$A:$A,0),"") -> 9 | E4: =IF(C4<>"",MATCH(C4,INDIRECT($B$2),0)+MATCH("Equipe1",Planning!A:A,0),"") -> 9 | F4: =IF(LEFT($B4,6)="Equipe",$B4,$F3) -> equipe1 | G4: =IF($C4<>"",MATCH($C4,INDIRECT($H4),0),"") -> 6 | H4: =IF(LEFT($B4,6)="Equipe","'Planning'!A" & MATCH($F4,Planning!$A:$A,0) & ":A" & MATCH($F4,Planning!$A:$A,0) +COUNTA($C4:$C13)*2,$H3) -> 'Planning'!A4:A14 | J4: Problème si il y a un homonyme dans une autre équipe.
C5: TUTU | D5: =IF(C5<>"",MATCH(C5,Planning!$A:$A,0),"") -> 11 | E5: =IF(C5<>"",MATCH(C5,INDIRECT($B$2),0)+MATCH("Equipe1",Planning!A:A,0),"") -> 11 | F5: =IF(LEFT($B5,6)="Equipe",$B5,$F4) -> equipe1 | G5: =IF($C5<>"",MATCH($C5,INDIRECT($H5),0),"") -> 8 | H5: =IF(LEFT($B5,6)="Equipe","'Planning'!A" & MATCH($F5,Planning!$A:$A,0) & ":A" & MATCH($F5,Planning!$A:$A,0) +COUNTA($C5:$C14)*2,$H4) -> 'Planning'!A4:A14
C6: ATAT | D6: =IF(C6<>"",MATCH(C6,Planning!$A:$A,0),"") -> 13 | E6: =IF(C6<>"",MATCH(C6,INDIRECT($B$2),0)+MATCH("Equipe1",Planning!A:A,0),"") -> 13 | F6: =IF(LEFT($B6,6)="Equipe",$B6,$F5) -> equipe1 | G6: =IF($C6<>"",MATCH($C6,INDIRECT($H6),0),"") -> 10 | H6: =IF(LEFT($B6,6)="Equipe","'Planning'!A" & MATCH($F6,Planning!$A:$A,0) & ":A" & MATCH($F6,Planning!$A:$A,0) +COUNTA($C6:$C15)*2,$H5) -> 'Planning'!A4:A14 | J6: Dans le but de limiter la recherche de EQUIV, je veux limiter la RANGE.
D7: =IF(C7<>"",MATCH(C7,Planning!$A:$A,0),"") | E7: =IF(C7<>"",MATCH(C7,INDIRECT($B$2),0)+MATCH("Equipe1",Planning!A:A,0),"") | F7: =IF(LEFT($B7,6)="Equipe",$B7,$F6) -> equipe1 | G7: =IF($C7<>"",MATCH($C7,INDIRECT($H7),0),"") | H7: =IF(LEFT($B7,6)="Equipe","'Planning'!A" & MATCH($F7,Planning!$A:$A,0) & ":A" & MATCH($F7,Planning!$A:$A,0) +COUNTA($C7:$C16)*2,$H6) -> 'Planning'!A4:A14 | J7: En colonne [G], je calcule la plage correspondante à chaque équipe dans 'Planning'.
D8: =IF(C8<>"",MATCH(C8,Planning!$A:$A,0),"") | E8: =IF(C8<>"",MATCH(C8,INDIRECT($B$2),0)+MATCH("Equipe1",Planning!A:A,0),"") | F8: =IF(LEFT($B8,6)="Equipe",$B8,$F7) -> equipe1 | G8: =IF($C8<>"",MATCH($C8,INDIRECT($H8),0),"") | H8: =IF(LEFT($B8,6)="Equipe","'Planning'!A" & MATCH($F8,Planning!$A:$A,0) & ":A" & MATCH($F8,Planning!$A:$A,0) +COUNTA($C8:$C17)*2,$H7) -> 'Planning'!A4:A14
D9: =IF(C9<>"",MATCH(C9,Planning!$A:$A,0),"") | E9: =IF(C9<>"",MATCH(C9,INDIRECT($B$2),0)+MATCH("Equipe1",Planning!A:A,0),"") | F9: =IF(LEFT($B9,6)="Equipe",$B9,$F8) -> equipe1 | G9: =IF($C9<>"",MATCH($C9,INDIRECT($H9),0),"") | H9: =IF(LEFT($B9,6)="Equipe","'Planning'!A" & MATCH($F9,Planning!$A:$A,0) & ":A" & MATCH($F9,Planning!$A:$A,0) +COUNTA($C9:$C18)*2,$H8) -> 'Planning'!A4:A14
D10: =IF(C10<>"",MATCH(C10,Planning!$A:$A,0),"") | E10: =IF(C10<>"",MATCH(C10,INDIRECT($B$2),0)+MATCH("Equipe1",Planning!A:A,0),"") | F10: =IF(LEFT($B10,6)="Equipe",$B10,$F9) -> equipe1 | G10: =IF($C10<>"",MATCH($C10,INDIRECT($H10),0),"") | H10: =IF(LEFT($B10,6)="Equipe","'Planning'!A" & MATCH($F10,Planning!$A:$A,0) & ":A" & MATCH($F10,Planning!$A:$A,0) +COUNTA($C10:$C19)*2,$H9) -> 'Planning'!A4:A14 | J10: Pouvez-vous corriger les formules en [G] et/ou [F] pour obtenir en colonne [F] les résultats corrects ?
D11: =IF(C11<>"",MATCH(C11,Planning!$A:$A,0),"") | E11: =IF(C11<>"",MATCH(C11,INDIRECT($B$2),0)+MATCH("Equipe1",Planning!A:A,0),"") | F11: =IF(LEFT($B11,6)="Equipe",$B11,$F10) -> equipe1 | G11: =IF($C11<>"",MATCH($C11,INDIRECT($H11),0),"") | H11: =IF(LEFT($B11,6)="Equipe","'Planning'!A" & MATCH($F11,Planning!$A:$A,0) & ":A" & MATCH($F11,Planning!$A:$A,0) +COUNTA($C11:$C20)*2,$H10) -> 'Planning'!A4:A14
B12: equipe2 | C12: OTOT | D12: =IF(C12<>"",MATCH(C12,Planning!$A:$A,0),"") -> 18 | E12: =IF(C12<>"",MATCH(C12,INDIRECT($B$12),0)+MATCH("Equipe2",Planning!A:A,0),"") -> 18 | F12: =IF(LEFT($B12,6)="Equipe",$B12,$F11) -> equipe2 | G12: =IF($C12<>"",MATCH($C12,INDIRECT($H12),0),"") -> 2 | H12: =IF(LEFT($B12,6)="Equipe","'Planning'!A" & MATCH($F12,Planning!$A:$A,0) & ":A" & MATCH($F12,Planning!$A:$A,0) +COUNTA($C12:$C21)*2,$H11) -> 'Planning'!A17:A27 | J12: Merci, les cracks!
C13: ATAT | D13: =IF(C13<>"",MATCH(C13,Planning!$A:$A,0),"") -> 13 | E13: =IF(C13<>"",MATCH(C13,INDIRECT($B$12),0)+MATCH("Equipe2",Planning!A:A,0),"") -> 20 | F13: =IF(LEFT($B13,6)="Equipe",$B13,$F12) -> equipe2 | G13: =IF($C13<>"",MATCH($C13,INDIRECT($H13),0),"") -> 4 | H13: =IF(LEFT($B13,6)="Equipe","'Planning'!A" & MATCH($F13,Planning!$A:$A,0) & ":A" & MATCH($F13,Planning!$A:$A,0) +COUNTA($C13:$C22)*2,$H12) -> 'Planning'!A17:A27
C14: ITIT | D14: =IF(C14<>"",MATCH(C14,Planning!$A:$A,0),"") -> 22 | E14: =IF(C14<>"",MATCH(C14,INDIRECT($B$12),0)+MATCH("Equipe2",Planning!A:A,0),"") -> 22 | F14: =IF(LEFT($B14,6)="Equipe",$B14,$F13) -> equipe2 | G14: =IF($C14<>"",MATCH($C14,INDIRECT($H14),0),"") -> 6 | H14: =IF(LEFT($B14,6)="Equipe","'Planning'!A" & MATCH($F14,Planning!$A:$A,0) & ":A" & MATCH($F14,Planning!$A:$A,0) +COUNTA($C14:$C23)*2,$H13) -> 'Planning'!A17:A27
C15: UTUT | D15: =IF(C15<>"",MATCH(C15,Planning!$A:$A,0),"") -> 24 | E15: =IF(C15<>"",MATCH(C15,INDIRECT($B$12),0)+MATCH("Equipe2",Planning!A:A,0),"") -> 24 | F15: =IF(LEFT($B15,6)="Equipe",$B15,$F14) -> equipe2 | G15: =IF($C15<>"",MATCH($C15,INDIRECT($H15),0),"") -> 8 | H15: =IF(LEFT($B15,6)="Equipe","'Planning'!A" & MATCH($F15,Planning!$A:$A,0) & ":A" & MATCH($F15,Planning!$A:$A,0) +COUNTA($C15:$C24)*2,$H14) -> 'Planning'!A17:A27
C16: TOTO | D16: =IF(C16<>"",MATCH(C16,Planning!$A:$A,0),"") -> 5 | E16: =IF(C16<>"",MATCH(C16,INDIRECT($B$12),0)+MATCH("Equipe2",Planning!A:A,0),"") -> 26 | F16: =IF(LEFT($B16,6)="Equipe",$B16,$F15) -> equipe2 | G16: =IF($C16<>"",MATCH($C16,INDIRECT($H16),0),"") -> 10 | H16: =IF(LEFT($B16,6)="Equipe","'Planning'!A" & MATCH($F16,Planning!$A:$A,0) & ":A" & MATCH($F16,Planning!$A:$A,0) +COUNTA($C16:$C25)*2,$H15) -> 'Planning'!A17:A27
D17: =IF(C17<>"",MATCH(C17,Planning!$A:$A,0),"") | E17: =IF(C17<>"",MATCH(C17,INDIRECT($B$12),0)+MATCH("Equipe2",Planning!A:A,0),"") | F17: =IF(LEFT($B17,6)="Equipe",$B17,$F16) -> equipe2 | G17: =IF($C17<>"",MATCH($C17,INDIRECT($H17),0),"") | H17: =IF(LEFT($B17,6)="Equipe","'Planning'!A" & MATCH($F17,Planning!$A:$A,0) & ":A" & MATCH($F17,Planning!$A:$A,0) +COUNTA($C17:$C26)*2,$H16) -> 'Planning'!A17:A27
D18: =IF(C18<>"",MATCH(C18,Planning!$A:$A,0),"") | E18: =IF(C18<>"",MATCH(C18,INDIRECT($B$12),0)+MATCH("Equipe2",Planning!A:A,0),"") | F18: =IF(LEFT($B18,6)="Equipe",$B18,$F17) -> equipe2 | G18: =IF($C18<>"",MATCH($C18,INDIRECT($H18),0),"") | H18: =IF(LEFT($B18,6)="Equipe","'Planning'!A" & MATCH($F18,Planning!$A:$A,0) & ":A" & MATCH($F18,Planning!$A:$A,0) +COUNTA($C18:$C27)*2,$H17) -> 'Planning'!A17:A27
D19: =IF(C19<>"",MATCH(C19,Planning!$A:$A,0),"") | E19: =IF(C19<>"",MATCH(C19,INDIRECT($B$12),0)+MATCH("Equipe2",Planning!A:A,0),"") | F19: =IF(LEFT($B19,6)="Equipe",$B19,$F18) -> equipe2 | G19: =IF($C19<>"",MATCH($C19,INDIRECT($H19),0),"") | H19: =IF(LEFT($B19,6)="Equipe","'Planning'!A" & MATCH($F19,Planning!$A:$A,0) & ":A" & MATCH($F19,Planning!$A:$A,0) +COUNTA($C19:$C28)*2,$H18) -> 'Planning'!A17:A27
D20: =IF(C20<>"",MATCH(C20,Planning!$A:$A,0),"") | E20: =IF(C20<>"",MATCH(C20,INDIRECT($B$12),0)+MATCH("Equipe2",Planning!A:A,0),"") | F20: =IF(LEFT($B20,6)="Equipe",$B20,$F19) -> equipe2 | G20: =IF($C20<>"",MATCH($C20,INDIRECT($H20),0),"") | H20: =IF(LEFT($B20,6)="Equipe","'Planning'!A" & MATCH($F20,Planning!$A:$A,0) & ":A" & MATCH($F20,Planning!$A:$A,0) +COUNTA($C20:$C29)*2,$H19) -> 'Planning'!A17:A27
D21: =IF(C21<>"",MATCH(C21,Planning!$A:$A,0),"") | E21: =IF(C21<>"",MATCH(C21,INDIRECT($B$12),0)+MATCH("Equipe2",Planning!A:A,0),"") | F21: =IF(LEFT($B21,6)="Equipe",$B21,$F20) -> equipe2 | G21: =IF($C21<>"",MATCH($C21,INDIRECT($H21),0),"") | H21: =IF(LEFT($B21,6)="Equipe","'Planning'!A" & MATCH($F21,Planning!$A:$A,0) & ":A" & MATCH($F21,Planning!$A:$A,0) +COUNTA($C21:$C30)*2,$H20) -> 'Planning'!A17:A27
