Workbook

Sheet Données
A1: Année :
A2: 2021
A5: 7h 14h24ois :
A6: 1

Sheet Horaire
C1: 45352 | D1: Horaire
D3: =WEEKDAY(D6,2) -> 5 | E3: =WEEKDAY(E6,2) -> 6 | F3: =WEEKDAY(F6,2) -> 7 | G3: =WEEKDAY(G6,2) -> 1 | H3: =WEEKDAY(H6,2) -> 2 | I3: =WEEKDAY(I6,2) -> 3 | J3: =WEEKDAY(J6,2) -> 4 | K3: =WEEKDAY(K6,2) -> 5 | ... AH3: =WEEKDAY(AH6,2) -> 2
D4: 1 | E4: 2 | F4: 3 | G4: 4 | H4: 5 | I4: 6 | J4: 7 | K4: 8 | L4: 9 | M4: 10 | N4: 11 | O4: 12 | P4: 13 | Q4: 14 | R4: 15 | S4: 16 | T4: 17 | U4: 18 | V4: 19 | W4: 20 | X4: 21 | Y4: 22 | Z4: 23 | AA4: 24 | AB4: 25 | AC4: 26 | AD4: 27 | AE4: 28 | AF4: 29 | AG4: 30 | AH4: 31
D5: =DATE(Données!$A$2,Données!$A$6,D4) -> 44197 | E5: =DATE(Données!$A$2,Données!$A$6,E4) -> 44198 | F5: =DATE(Données!$A$2,Données!$A$6,F4) -> 44199 | G5: =DATE(Données!$A$2,Données!$A$6,G4) -> 44200 | H5: =DATE(Données!$A$2,Données!$A$6,H4) -> 44201 | I5: =DATE(Données!$A$2,Données!$A$6,I4) -> 44202 | J5: =DATE(Données!$A$2,Données!$A$6,J4) -> 44203 | K5: =DATE(Données!$A$2,Données!$A$6,K4) -> 44204 | ... AG5: =DATE(Données!$A$2,Données!$A$6,AG4) -> 44226 | AH5: dim
A6: Trio | C6: Qui ? | D6: =DATE(Données!$A$2,Données!$A$6,D4) -> 44197 | E6: =DATE(Données!$A$2,Données!$A$6,E4) -> 44198 | F6: =DATE(Données!$A$2,Données!$A$6,F4) -> 44199 | G6: =DATE(Données!$A$2,Données!$A$6,G4) -> 44200 | H6: =DATE(Données!$A$2,Données!$A$6,H4) -> 44201 | I6: =DATE(Données!$A$2,Données!$A$6,I4) -> 44202 | J6: =DATE(Données!$A$2,Données!$A$6,J4) -> 44203 | K6: =DATE(Données!$A$2,Données!$A$6,K4) -> 44204 | ... AE6: =DATE(Données!$A$2,Données!$A$6,AE4) -> 44224 | AF6: 29 | AG6: 30 | AH6: 31 | AI6: A prester | AJ6: Presté | AK6: Différence
A7: 1 | B7: 1 | C7: Nom01
A8: 1 | B8: 2 | C8: Nom01
A9: 2 | B9: 1 | C9: Nom02
A10: 2 | B10: 2 | C10: Nom02
A11: 3 | B11: 1 | C11: Nom03
A12: 3 | B12: 2 | C12: Nom03
A13: 4 | B13: 1 | C13: Nom04
A14: 4 | B14: 2 | C14: Nom04
A15: 5 | B15: 1 | C15: Nom05
A16: 5 | B16: 2 | C16: Nom05
A17: 6 | B17: 1 | C17: Nom06
A18: 6 | B18: 2 | C18: Nom06
... A42: 6 | B42: 2 | C42: Nom18
