Workbook

Sheet Janvier
A1: JANVIER
B3: 1 | C3: 2 | D3: 3 | E3: 4 | F3: 5 | G3: 6 | H3: 7 | I3: 8 | J3: 9 | K3: 10 | L3: 11 | M3: 12 | N3: 13 | O3: 14 | P3: 15 | Q3: 16 | R3: 17 | S3: 18 | T3: 19 | U3: 20 | V3: 21 | W3: 22 | X3: 23 | Y3: 24 | Z3: 25 | AA3: 26 | AB3: 27 | AC3: 28 | AD3: 29 | AE3: 30 | AF3: 31
B4: J | C4: V | D4: S | E4: D | F4: L | G4: M | H4: M | I4: J | J4: V | K4: S | L4: D | M4: L | N4: M | O4: M | P4: J | Q4: V | R4: S | S4: D | T4: L | U4: M | V4: M | W4: J | X4: V | Y4: S | Z4: D | AA4: L | AB4: M | AC4: M | AD4: J | AE4: V | AF4: S
A5: Bravo | B5: F | C5: M | D5: RH | E5: RH | F5: AM | G5: AM | H5: AM | I5: AM | J5: CA | K5: RH | L5: RH | M5: M | N5: M | O5: M | P5: M | Q5: M | R5: RH | S5: RH | T5: M | U5: AM | V5: AM | W5: AM | X5: RT | Y5: AM | AA5: RH | AB5: M | AC5: M | AD5: AM | AE5: M | AF5: RH
Z6: AM
A7: Charlie | B7: F | C7: CA | D7: RH | E7: RH | F7: AM | G7: AM | H7: AM | I7: RT | J7: AM | K7: AM | M7: RH | N7: M | O7: 1/2 M | P7: M | Q7: M | R7: RH | S7: RH | T7: AM | U7: AM | V7: AM | W7: AM | X7: AM | Y7: RT | Z7: RH | AA7: RH | AB7: M | AC7: 1/2 M | AD7: M | AE7: M | AF7: RH
L8: AM | O8: 1/2 RT | AC8: 1/2 RT
A9: Delta | B9: F | C9: M | D9: RH | E9: RH | F9: CA | G9: AM | H9: EQ | I9: AM | J9: M | K9: AM | M9: RH | N9: AM | O9: EQ | P9: M | Q9: AM | R9: RH | S9: RH | T9: AM | U9: M | V9: EQ | W9: AM | X9: AM | Y9: AM | Z9: RH | AA9: RH | AB9: M | AC9: EQ | AD9: M | AE9: M | AF9: RH
L10: AM
A11: Echo | B11: AT | C11: AT | D11: AT | E11: AT | F11: AT | G11: AT | H11: AT | I11: AT | J11: AT | K11: AT | L11: AT | M11: AT | N11: AT | O11: AT | P11: AT | Q11: AT | R11: AT | S11: AT | T11: AT | U11: AT | V11: AT | W11: AT | X11: AT | Y11: AT | Z11: AT | AA11: AT | AB11: AT | AC11: AT | AD11: AT | AE11: AT | AF11: AT
A15: Alpha | B15: MO | C15: MO | D15: MO | E15: MO | F15: MO | G15: MO | H15: MO | I15: MO | J15: MO | K15: MO | L15: MO | M15: M | N15: FORM | O15: FORM | P15: FORM | Q15: M | R15: RH | S15: RH | T15: M | U15: M | V15: M | W15: M | X15: M | Y15: RH | Z15: RH | AA15: M | AB15: M | AC15: M | AD15: M | AE15: M | AF15: RH
A19: Foxtrot | B19: F | C19: CA | D19: AM | E19: RH | F19: RH | G19: M | H19: M | I19: M | J19: M | K19: RH | L19: RH | M19: AM | N19: AM | O19: AM | P19: AM | Q19: M | R19: CA | S19: RH | T19: RH | U19: CA | V19: CA | W19: CA | X19: CA | Y19: RH | Z19: RH | AA19: AM | AB19: AM | AC19: AM | AD19: RT | AE19: AM | AF19: AM
A21: Golf | B21: F | C21: AM | D21: AM | E21: RH | F21: RH | G21: CA | H21: M | I21: AM | J21: AM | K21: RH | L21: RH | M21: AM | N21: AM | O21: CA | P21: AM | Q21: AM | R21: AM | S21: RH | T21: RH | U21: M | V21: M | W21: M | X21: M | Y21: RH | Z21: RH | AA21: AM | AB21: AM | AC21: AM | AD21: AM | AE21: AM | AF21: AM
A23: Hotel | B23: F | C23: AM | D23: AM | E23: RH | F23: RH | G23: M | H23: AM | I23: M | J23: CA | K23: RH | L23: RH | M23: RT | N23: M | O23: AM | P23: AM | Q23: M | R23: AM | S23: RH | T23: RH | U23: CA | V23: M | W23: M | X23: RT | Y23: RH | Z23: RH | AA23: CA | AB23: CA | AC23: CA | AD23: CA | AE23: CA | AF23: CA
A25: India | T25: M | U25: M | V25: M | W25: M | X25: M | Y25: RH | Z25: RH | AA25: AM | AB25: AM | AC25: AM | AD25: AM | AE25: AM | AF25: AM
A31: Présents | B31: =COUNTIF(B5:B30,"J")+(COUNTIF(B5:B30,"1/2 J")/2)+COUNTIF(B5:B30,"M")+(COUNTIF(B5:B30,"1/2 M")/2)+COUNTIF(B5:B30,"AM")+(COUNTIF(B5:B30,"1/2 AM")/2)+COUNTIF(B5:B30,"GTPI")+(COUNTIF(B5:B30,"1/2 GTPI")/2)+COUNTIF(B5:B30,"ZB")+(COUNTIF(B5:B30,"1/2 ZB")/2)+COUNTIF(B5:B30,"ZC")+(COUNTIF(B5:B30,"1/2 ZC")/2)+COUNTIF(B5:B30,"ZD")+(COUNTIF(B5:B30,"1/2 ZD")/2) -> 0 | C31: =COUNTIF(C5:C30,"J")+(COUNTIF(C5:C30,"1/2 J")/2)+COUNTIF(C5:C30,"M")+(COUNTIF(C5:C30,"1/2 M")/2)+COUNTIF(C5:C30,"AM")+(COUNTIF(C5:C30,"1/2 AM")/2)+COUNTIF(C5:C30,"GTPI")+(COUNTIF(C5:C30,"1/2 GTPI")/2)+COUNTIF(C5:C30,"ZB")+(COUNTIF(C5:C30,"1/2 ZB")/2)+COUNTIF(C5:C30,"ZC")+(COUNTIF(C5:C30,"1/2 ZC")/2)+COUNTIF(C5:C30,"ZD")+(COUNTIF(C5:C30,"1/2 ZD")/2) -> 4 | D31: =COUNTIF(D5:D30,"J")+(COUNTIF(D5:D30,"1/2 J")/2)+COUNTIF(D5:D30,"M")+(COUNTIF(D5:D30,"1/2 M")/2)+COUNTIF(D5:D30,"AM")+(COUNTIF(D5:D30,"1/2 AM")/2)+COUNTIF(D5:D30,"GTPI")+(COUNTIF(D5:D30,"1/2 GTPI")/2)+COUNTIF(D5:D30,"ZB")+(COUNTIF(D5:D30,"1/2 ZB")/2)+COUNTIF(D5:D30,"ZC")+(COUNTIF(D5:D30,"1/2 ZC")/2)+COUNTIF(D5:D30,"ZD")+(COUNTIF(D5:D30,"1/2 ZD")/2) -> 3 | E31: =COUNTIF(E5:E30,"J")+(COUNTIF(E5:E30,"1/2 J")/2)+COUNTIF(E5:E30,"M")+(COUNTIF(E5:E30,"1/2 M")/2)+COUNTIF(E5:E30,"AM")+(COUNTIF(E5:E30,"1/2 AM")/2)+COUNTIF(E5:E30,"GTPI")+(COUNTIF(E5:E30,"1/2 GTPI")/2)+COUNTIF(E5:E30,"ZB")+(COUNTIF(E5:E30,"1/2 ZB")/2)+COUNTIF(E5:E30,"ZC")+(COUNTIF(E5:E30,"1/2 ZC")/2)+COUNTIF(E5:E30,"ZD")+(COUNTIF(E5:E30,"1/2 ZD")/2) -> 0 | F31: =COUNTIF(F5:F30,"J")+(COUNTIF(F5:F30,"1/2 J")/2)+COUNTIF(F5:F30,"M")+(COUNTIF(F5:F30,"1/2 M")/2)+COUNTIF(F5:F30,"AM")+(COUNTIF(F5:F30,"1/2 AM")/2)+COUNTIF(F5:F30,"GTPI")+(COUNTIF(F5:F30,"1/2 GTPI")/2)+COUNTIF(F5:F30,"ZB")+(COUNTIF(F5:F30,"1/2 ZB")/2)+COUNTIF(F5:F30,"ZC")+(COUNTIF(F5:F30,"1/2 ZC")/2)+COUNTIF(F5:F30,"ZD")+(COUNTIF(F5:F30,"1/2 ZD")/2) -> 2 | G31: =COUNTIF(G5:G30,"J")+(COUNTIF(G5:G30,"1/2 J")/2)+COUNTIF(G5:G30,"M")+(COUNTIF(G5:G30,"1/2 M")/2)+COUNTIF(G5:G30,"AM")+(COUNTIF(G5:G30,"1/2 AM")/2)+COUNTIF(G5:G30,"GTPI")+(COUNTIF(G5:G30,"1/2 GTPI")/2)+COUNTIF(G5:G30,"ZB")+(COUNTIF(G5:G30,"1/2 ZB")/2)+COUNTIF(G5:G30,"ZC")+(COUNTIF(G5:G30,"1/2 ZC")/2)+COUNTIF(G5:G30,"ZD")+(COUNTIF(G5:G30,"1/2 ZD")/2) -> 5 | H31: =COUNTIF(H5:H30,"J")+(COUNTIF(H5:H30,"1/2 J")/2)+COUNTIF(H5:H30,"M")+(COUNTIF(H5:H30,"1/2 M")/2)+COUNTIF(H5:H30,"AM")+(COUNTIF(H5:H30,"1/2 AM")/2)+COUNTIF(H5:H30,"GTPI")+(COUNTIF(H5:H30,"1/2 GTPI")/2)+COUNTIF(H5:H30,"ZB")+(COUNTIF(H5:H30,"1/2 ZB")/2)+COUNTIF(H5:H30,"ZC")+(COUNTIF(H5:H30,"1/2 ZC")/2)+COUNTIF(H5:H30,"ZD")+(COUNTIF(H5:H30,"1/2 ZD")/2) -> 5 | I31: =COUNTIF(I5:I30,"J")+(COUNTIF(I5:I30,"1/2 J")/2)+COUNTIF(I5:I30,"M")+(COUNTIF(I5:I30,"1/2 M")/2)+COUNTIF(I5:I30,"AM")+(COUNTIF(I5:I30,"1/2 AM")/2)+COUNTIF(I5:I30,"GTPI")+(COUNTIF(I5:I30,"1/2 GTPI")/2)+COUNTIF(I5:I30,"ZB")+(COUNTIF(I5:I30,"1/2 ZB")/2)+COUNTIF(I5:I30,"ZC")+(COUNTIF(I5:I30,"1/2 ZC")/2)+COUNTIF(I5:I30,"ZD")+(COUNTIF(I5:I30,"1/2 ZD")/2) -> 5 | ... AF31: =COUNTIF(AF5:AF30,"J")+(COUNTIF(AF5:AF30,"1/2 J")/2)+COUNTIF(AF5:AF30,"M")+(COUNTIF(AF5:AF30,"1/2 M")/2)+COUNTIF(AF5:AF30,"AM")+(COUNTIF(AF5:AF30,"1/2 AM")/2)+COUNTIF(AF5:AF30,"GTPI")+(COUNTIF(AF5:AF30,"1/2 GTPI")/2)+COUNTIF(AF5:AF30,"ZB")+(COUNTIF(AF5:AF30,"1/2 ZB")/2)+COUNTIF(AF5:AF30,"ZC")+(COUNTIF(AF5:AF30,"1/2 ZC")/2)+COUNTIF(AF5:AF30,"ZD")+(COUNTIF(AF5:AF30,"1/2 ZD")/2) -> 3
A32: Absents | B32: =COUNTIF(B5:B30,"RH")+(COUNTIF(B5:B30,"1/2 RH")/2)+COUNTIF(B5:B30,"CA")+(COUNTIF(B5:B30,"1/2 CA")/2)+COUNTIF(B5:B30,"RT")+(COUNTIF(B5:B30,"1/2 RT")/2)+COUNTIF(B5:B30,"CE")+(COUNTIF(B5:B30,"1/2 CE")/2)+COUNTIF(B5:B30,"MO")+(COUNTIF(B5:B30,"1/2 MO")/2)+COUNTIF(B5:B30,"CAA")+(COUNTIF(B5:B30,"1/2 CAA")/2)+COUNTIF(B5:B30,"EF")+(COUNTIF(B5:B30,"1/2 EF")/2)+COUNTIF(B5:B30,"HSR")+(COUNTIF(B5:B30,"1/2 HSR")/2)+COUNTIF(B5:B30,"EM")+(COUNTIF(B5:B30,"1/2 EM")/2)+COUNTIF(B5:B30,"F")+(COUNTIF(B5:B30,"1/2 F")/2)+COUNTIF(B5:B30,"AT")+(COUNTIF(B5:B30,"1/2 AT")/2)+COUNTIF(B5:B30,"ZC")+(COUNTIF(B5:B30,"1/2 ZC")/2)+COUNTIF(B5:B30,"ZD")+(COUNTIF(B5:B30,"1/2 ZD")/2) -> 8 | C32: =COUNTIF(C5:C30,"RH")+(COUNTIF(C5:C30,"1/2 RH")/2)+COUNTIF(C5:C30,"CA")+(COUNTIF(C5:C30,"1/2 CA")/2)+COUNTIF(C5:C30,"RT")+(COUNTIF(C5:C30,"1/2 RT")/2)+COUNTIF(C5:C30,"CE")+(COUNTIF(C5:C30,"1/2 CE")/2)+COUNTIF(C5:C30,"MO")+(COUNTIF(C5:C30,"1/2 MO")/2)+COUNTIF(C5:C30,"CAA")+(COUNTIF(C5:C30,"1/2 CAA")/2)+COUNTIF(C5:C30,"EF")+(COUNTIF(C5:C30,"1/2 EF")/2)+COUNTIF(C5:C30,"HSR")+(COUNTIF(C5:C30,"1/2 HSR")/2)+COUNTIF(C5:C30,"EM")+(COUNTIF(C5:C30,"1/2 EM")/2)+COUNTIF(C5:C30,"F")+(COUNTIF(C5:C30,"1/2 F")/2)+COUNTIF(C5:C30,"AT")+(COUNTIF(C5:C30,"1/2 AT")/2)+COUNTIF(C5:C30,"ZC")+(COUNTIF(C5:C30,"1/2 ZC")/2)+COUNTIF(C5:C30,"ZD")+(COUNTIF(C5:C30,"1/2 ZD")/2) -> 4 | D32: =COUNTIF(D5:D30,"RH")+(COUNTIF(D5:D30,"1/2 RH")/2)+COUNTIF(D5:D30,"CA")+(COUNTIF(D5:D30,"1/2 CA")/2)+COUNTIF(D5:D30,"RT")+(COUNTIF(D5:D30,"1/2 RT")/2)+COUNTIF(D5:D30,"CE")+(COUNTIF(D5:D30,"1/2 CE")/2)+COUNTIF(D5:D30,"MO")+(COUNTIF(D5:D30,"1/2 MO")/2)+COUNTIF(D5:D30,"CAA")+(COUNTIF(D5:D30,"1/2 CAA")/2)+COUNTIF(D5:D30,"EF")+(COUNTIF(D5:D30,"1/2 EF")/2)+COUNTIF(D5:D30,"HSR")+(COUNTIF(D5:D30,"1/2 HSR")/2)+COUNTIF(D5:D30,"EM")+(COUNTIF(D5:D30,"1/2 EM")/2)+COUNTIF(D5:D30,"F")+(COUNTIF(D5:D30,"1/2 F")/2)+COUNTIF(D5:D30,"AT")+(COUNTIF(D5:D30,"1/2 AT")/2)+COUNTIF(D5:D30,"ZC")+(COUNTIF(D5:D30,"1/2 ZC")/2)+COUNTIF(D5:D30,"ZD")+(COUNTIF(D5:D30,"1/2 ZD")/2) -> 5 | E32: =COUNTIF(E5:E30,"RH")+(COUNTIF(E5:E30,"1/2 RH")/2)+COUNTIF(E5:E30,"CA")+(COUNTIF(E5:E30,"1/2 CA")/2)+COUNTIF(E5:E30,"RT")+(COUNTIF(E5:E30,"1/2 RT")/2)+COUNTIF(E5:E30,"CE")+(COUNTIF(E5:E30,"1/2 CE")/2)+COUNTIF(E5:E30,"MO")+(COUNTIF(E5:E30,"1/2 MO")/2)+COUNTIF(E5:E30,"CAA")+(COUNTIF(E5:E30,"1/2 CAA")/2)+COUNTIF(E5:E30,"EF")+(COUNTIF(E5:E30,"1/2 EF")/2)+COUNTIF(E5:E30,"HSR")+(COUNTIF(E5:E30,"1/2 HSR")/2)+COUNTIF(E5:E30,"EM")+(COUNTIF(E5:E30,"1/2 EM")/2)+COUNTIF(E5:E30,"F")+(COUNTIF(E5:E30,"1/2 F")/2)+COUNTIF(E5:E30,"AT")+(COUNTIF(E5:E30,"1/2 AT")/2)+COUNTIF(E5:E30,"ZC")+(COUNTIF(E5:E30,"1/2 ZC")/2)+COUNTIF(E5:E30,"ZD")+(COUNTIF(E5:E30,"1/2 ZD")/2) -> 8 | F32: =COUNTIF(F5:F30,"RH")+(COUNTIF(F5:F30,"1/2 RH")/2)+COUNTIF(F5:F30,"CA")+(COUNTIF(F5:F30,"1/2 CA")/2)+COUNTIF(F5:F30,"RT")+(COUNTIF(F5:F30,"1/2 RT")/2)+COUNTIF(F5:F30,"CE")+(COUNTIF(F5:F30,"1/2 CE")/2)+COUNTIF(F5:F30,"MO")+(COUNTIF(F5:F30,"1/2 MO")/2)+COUNTIF(F5:F30,"CAA")+(COUNTIF(F5:F30,"1/2 CAA")/2)+COUNTIF(F5:F30,"EF")+(COUNTIF(F5:F30,"1/2 EF")/2)+COUNTIF(F5:F30,"HSR")+(COUNTIF(F5:F30,"1/2 HSR")/2)+COUNTIF(F5:F30,"EM")+(COUNTIF(F5:F30,"1/2 EM")/2)+COUNTIF(F5:F30,"F")+(COUNTIF(F5:F30,"1/2 F")/2)+COUNTIF(F5:F30,"AT")+(COUNTIF(F5:F30,"1/2 AT")/2)+COUNTIF(F5:F30,"ZC")+(COUNTIF(F5:F30,"1/2 ZC")/2)+COUNTIF(F5:F30,"ZD")+(COUNTIF(F5:F30,"1/2 ZD")/2) -> 6 | G32: =COUNTIF(G5:G30,"RH")+(COUNTIF(G5:G30,"1/2 RH")/2)+COUNTIF(G5:G30,"CA")+(COUNTIF(G5:G30,"1/2 CA")/2)+COUNTIF(G5:G30,"RT")+(COUNTIF(G5:G30,"1/2 RT")/2)+COUNTIF(G5:G30,"CE")+(COUNTIF(G5:G30,"1/2 CE")/2)+COUNTIF(G5:G30,"MO")+(COUNTIF(G5:G30,"1/2 MO")/2)+COUNTIF(G5:G30,"CAA")+(COUNTIF(G5:G30,"1/2 CAA")/2)+COUNTIF(G5:G30,"EF")+(COUNTIF(G5:G30,"1/2 EF")/2)+COUNTIF(G5:G30,"HSR")+(COUNTIF(G5:G30,"1/2 HSR")/2)+COUNTIF(G5:G30,"EM")+(COUNTIF(G5:G30,"1/2 EM")/2)+COUNTIF(G5:G30,"F")+(COUNTIF(G5:G30,"1/2 F")/2)+COUNTIF(G5:G30,"AT")+(COUNTIF(G5:G30,"1/2 AT")/2)+COUNTIF(G5:G30,"ZC")+(COUNTIF(G5:G30,"1/2 ZC")/2)+COUNTIF(G5:G30,"ZD")+(COUNTIF(G5:G30,"1/2 ZD")/2) -> 3 | H32: =COUNTIF(H5:H30,"RH")+(COUNTIF(H5:H30,"1/2 RH")/2)+COUNTIF(H5:H30,"CA")+(COUNTIF(H5:H30,"1/2 CA")/2)+COUNTIF(H5:H30,"RT")+(COUNTIF(H5:H30,"1/2 RT")/2)+COUNTIF(H5:H30,"CE")+(COUNTIF(H5:H30,"1/2 CE")/2)+COUNTIF(H5:H30,"MO")+(COUNTIF(H5:H30,"1/2 MO")/2)+COUNTIF(H5:H30,"CAA")+(COUNTIF(H5:H30,"1/2 CAA")/2)+COUNTIF(H5:H30,"EF")+(COUNTIF(H5:H30,"1/2 EF")/2)+COUNTIF(H5:H30,"HSR")+(COUNTIF(H5:H30,"1/2 HSR")/2)+COUNTIF(H5:H30,"EM")+(COUNTIF(H5:H30,"1/2 EM")/2)+COUNTIF(H5:H30,"F")+(COUNTIF(H5:H30,"1/2 F")/2)+COUNTIF(H5:H30,"AT")+(COUNTIF(H5:H30,"1/2 AT")/2)+COUNTIF(H5:H30,"ZC")+(COUNTIF(H5:H30,"1/2 ZC")/2)+COUNTIF(H5:H30,"ZD")+(COUNTIF(H5:H30,"1/2 ZD")/2) -> 2 | I32: =COUNTIF(I5:I30,"RH")+(COUNTIF(I5:I30,"1/2 RH")/2)+COUNTIF(I5:I30,"CA")+(COUNTIF(I5:I30,"1/2 CA")/2)+COUNTIF(I5:I30,"RT")+(COUNTIF(I5:I30,"1/2 RT")/2)+COUNTIF(I5:I30,"CE")+(COUNTIF(I5:I30,"1/2 CE")/2)+COUNTIF(I5:I30,"MO")+(COUNTIF(I5:I30,"1/2 MO")/2)+COUNTIF(I5:I30,"CAA")+(COUNTIF(I5:I30,"1/2 CAA")/2)+COUNTIF(I5:I30,"EF")+(COUNTIF(I5:I30,"1/2 EF")/2)+COUNTIF(I5:I30,"HSR")+(COUNTIF(I5:I30,"1/2 HSR")/2)+COUNTIF(I5:I30,"EM")+(COUNTIF(I5:I30,"1/2 EM")/2)+COUNTIF(I5:I30,"F")+(COUNTIF(I5:I30,"1/2 F")/2)+COUNTIF(I5:I30,"AT")+(COUNTIF(I5:I30,"1/2 AT")/2)+COUNTIF(I5:I30,"ZC")+(COUNTIF(I5:I30,"1/2 ZC")/2)+COUNTIF(I5:I30,"ZD")+(COUNTIF(I5:I30,"1/2 ZD")/2) -> 3 | ... AF32: =COUNTIF(AF5:AF30,"RH")+(COUNTIF(AF5:AF30,"1/2 RH")/2)+COUNTIF(AF5:AF30,"CA")+(COUNTIF(AF5:AF30,"1/2 CA")/2)+COUNTIF(AF5:AF30,"RT")+(COUNTIF(AF5:AF30,"1/2 RT")/2)+COUNTIF(AF5:AF30,"CE")+(COUNTIF(AF5:AF30,"1/2 CE")/2)+COUNTIF(AF5:AF30,"MO")+(COUNTIF(AF5:AF30,"1/2 MO")/2)+COUNTIF(AF5:AF30,"CAA")+(COUNTIF(AF5:AF30,"1/2 CAA")/2)+COUNTIF(AF5:AF30,"EF")+(COUNTIF(AF5:AF30,"1/2 EF")/2)+COUNTIF(AF5:AF30,"HSR")+(COUNTIF(AF5:AF30,"1/2 HSR")/2)+COUNTIF(AF5:AF30,"EM")+(COUNTIF(AF5:AF30,"1/2 EM")/2)+COUNTIF(AF5:AF30,"F")+(COUNTIF(AF5:AF30,"1/2 F")/2)+COUNTIF(AF5:AF30,"AT")+(COUNTIF(AF5:AF30,"1/2 AT")/2)+COUNTIF(AF5:AF30,"ZC")+(COUNTIF(AF5:AF30,"1/2 ZC")/2)+COUNTIF(AF5:AF30,"ZD")+(COUNTIF(AF5:AF30,"1/2 ZD")/2) -> 6
A33: Prés. Indispo. | B33: =COUNTIF(B5:B30,"ST")+(COUNTIF(B5:B30,"1/2 ST")/2)+COUNTIF(B5:B30,"FORM")+(COUNTIF(B5:B30,"1/2 FORM")/2)+COUNTIF(B5:B30,"EQ")+(COUNTIF(B5:B30,"1/2 EQ")/2)+COUNTIF(B5:B30,"CSO")+(COUNTIF(B5:B30,"1/2 CSO")/2)+COUNTIF(B5:B30,"FOUR")+(COUNTIF(B5:B30,"1/2 FOUR")/2)+COUNTIF(B5:B30,"PR")+(COUNTIF(B5:B30,"1/2 PR")/2)+COUNTIF(B5:B30,"ZA")+(COUNTIF(B5:B30,"1/2 ZA")/2)+COUNTIF(B5:B30,"ZB")+(COUNTIF(B5:B30,"1/2 ZB")/2)+COUNTIF(B5:B30,"ZC")+(COUNTIF(B5:B30,"1/2 ZC")/2)+COUNTIF(B5:B30,"ZD")+(COUNTIF(B5:B30,"1/2 ZD")/2) -> 0 | C33: =COUNTIF(C5:C30,"ST")+(COUNTIF(C5:C30,"1/2 ST")/2)+COUNTIF(C5:C30,"FORM")+(COUNTIF(C5:C30,"1/2 FORM")/2)+COUNTIF(C5:C30,"EQ")+(COUNTIF(C5:C30,"1/2 EQ")/2)+COUNTIF(C5:C30,"CSO")+(COUNTIF(C5:C30,"1/2 CSO")/2)+COUNTIF(C5:C30,"FOUR")+(COUNTIF(C5:C30,"1/2 FOUR")/2)+COUNTIF(C5:C30,"PR")+(COUNTIF(C5:C30,"1/2 PR")/2)+COUNTIF(C5:C30,"ZA")+(COUNTIF(C5:C30,"1/2 ZA")/2)+COUNTIF(C5:C30,"ZB")+(COUNTIF(C5:C30,"1/2 ZB")/2)+COUNTIF(C5:C30,"ZC")+(COUNTIF(C5:C30,"1/2 ZC")/2)+COUNTIF(C5:C30,"ZD")+(COUNTIF(C5:C30,"1/2 ZD")/2) -> 0 | D33: =COUNTIF(D5:D30,"ST")+(COUNTIF(D5:D30,"1/2 ST")/2)+COUNTIF(D5:D30,"FORM")+(COUNTIF(D5:D30,"1/2 FORM")/2)+COUNTIF(D5:D30,"EQ")+(COUNTIF(D5:D30,"1/2 EQ")/2)+COUNTIF(D5:D30,"CSO")+(COUNTIF(D5:D30,"1/2 CSO")/2)+COUNTIF(D5:D30,"FOUR")+(COUNTIF(D5:D30,"1/2 FOUR")/2)+COUNTIF(D5:D30,"PR")+(COUNTIF(D5:D30,"1/2 PR")/2)+COUNTIF(D5:D30,"ZA")+(COUNTIF(D5:D30,"1/2 ZA")/2)+COUNTIF(D5:D30,"ZB")+(COUNTIF(D5:D30,"1/2 ZB")/2)+COUNTIF(D5:D30,"ZC")+(COUNTIF(D5:D30,"1/2 ZC")/2)+COUNTIF(D5:D30,"ZD")+(COUNTIF(D5:D30,"1/2 ZD")/2) -> 0 | E33: =COUNTIF(E5:E30,"ST")+(COUNTIF(E5:E30,"1/2 ST")/2)+COUNTIF(E5:E30,"FORM")+(COUNTIF(E5:E30,"1/2 FORM")/2)+COUNTIF(E5:E30,"EQ")+(COUNTIF(E5:E30,"1/2 EQ")/2)+COUNTIF(E5:E30,"CSO")+(COUNTIF(E5:E30,"1/2 CSO")/2)+COUNTIF(E5:E30,"FOUR")+(COUNTIF(E5:E30,"1/2 FOUR")/2)+COUNTIF(E5:E30,"PR")+(COUNTIF(E5:E30,"1/2 PR")/2)+COUNTIF(E5:E30,"ZA")+(COUNTIF(E5:E30,"1/2 ZA")/2)+COUNTIF(E5:E30,"ZB")+(COUNTIF(E5:E30,"1/2 ZB")/2)+COUNTIF(E5:E30,"ZC")+(COUNTIF(E5:E30,"1/2 ZC")/2)+COUNTIF(E5:E30,"ZD")+(COUNTIF(E5:E30,"1/2 ZD")/2) -> 0 | F33: =COUNTIF(F5:F30,"ST")+(COUNTIF(F5:F30,"1/2 ST")/2)+COUNTIF(F5:F30,"FORM")+(COUNTIF(F5:F30,"1/2 FORM")/2)+COUNTIF(F5:F30,"EQ")+(COUNTIF(F5:F30,"1/2 EQ")/2)+COUNTIF(F5:F30,"CSO")+(COUNTIF(F5:F30,"1/2 CSO")/2)+COUNTIF(F5:F30,"FOUR")+(COUNTIF(F5:F30,"1/2 FOUR")/2)+COUNTIF(F5:F30,"PR")+(COUNTIF(F5:F30,"1/2 PR")/2)+COUNTIF(F5:F30,"ZA")+(COUNTIF(F5:F30,"1/2 ZA")/2)+COUNTIF(F5:F30,"ZB")+(COUNTIF(F5:F30,"1/2 ZB")/2)+COUNTIF(F5:F30,"ZC")+(COUNTIF(F5:F30,"1/2 ZC")/2)+COUNTIF(F5:F30,"ZD")+(COUNTIF(F5:F30,"1/2 ZD")/2) -> 0 | G33: =COUNTIF(G5:G30,"ST")+(COUNTIF(G5:G30,"1/2 ST")/2)+COUNTIF(G5:G30,"FORM")+(COUNTIF(G5:G30,"1/2 FORM")/2)+COUNTIF(G5:G30,"EQ")+(COUNTIF(G5:G30,"1/2 EQ")/2)+COUNTIF(G5:G30,"CSO")+(COUNTIF(G5:G30,"1/2 CSO")/2)+COUNTIF(G5:G30,"FOUR")+(COUNTIF(G5:G30,"1/2 FOUR")/2)+COUNTIF(G5:G30,"PR")+(COUNTIF(G5:G30,"1/2 PR")/2)+COUNTIF(G5:G30,"ZA")+(COUNTIF(G5:G30,"1/2 ZA")/2)+COUNTIF(G5:G30,"ZB")+(COUNTIF(G5:G30,"1/2 ZB")/2)+COUNTIF(G5:G30,"ZC")+(COUNTIF(G5:G30,"1/2 ZC")/2)+COUNTIF(G5:G30,"ZD")+(COUNTIF(G5:G30,"1/2 ZD")/2) -> 0 | H33: =COUNTIF(H5:H30,"ST")+(COUNTIF(H5:H30,"1/2 ST")/2)+COUNTIF(H5:H30,"FORM")+(COUNTIF(H5:H30,"1/2 FORM")/2)+COUNTIF(H5:H30,"EQ")+(COUNTIF(H5:H30,"1/2 EQ")/2)+COUNTIF(H5:H30,"CSO")+(COUNTIF(H5:H30,"1/2 CSO")/2)+COUNTIF(H5:H30,"FOUR")+(COUNTIF(H5:H30,"1/2 FOUR")/2)+COUNTIF(H5:H30,"PR")+(COUNTIF(H5:H30,"1/2 PR")/2)+COUNTIF(H5:H30,"ZA")+(COUNTIF(H5:H30,"1/2 ZA")/2)+COUNTIF(H5:H30,"ZB")+(COUNTIF(H5:H30,"1/2 ZB")/2)+COUNTIF(H5:H30,"ZC")+(COUNTIF(H5:H30,"1/2 ZC")/2)+COUNTIF(H5:H30,"ZD")+(COUNTIF(H5:H30,"1/2 ZD")/2) -> 1 | I33: =COUNTIF(I5:I30,"ST")+(COUNTIF(I5:I30,"1/2 ST")/2)+COUNTIF(I5:I30,"FORM")+(COUNTIF(I5:I30,"1/2 FORM")/2)+COUNTIF(I5:I30,"EQ")+(COUNTIF(I5:I30,"1/2 EQ")/2)+COUNTIF(I5:I30,"CSO")+(COUNTIF(I5:I30,"1/2 CSO")/2)+COUNTIF(I5:I30,"FOUR")+(COUNTIF(I5:I30,"1/2 FOUR")/2)+COUNTIF(I5:I30,"PR")+(COUNTIF(I5:I30,"1/2 PR")/2)+COUNTIF(I5:I30,"ZA")+(COUNTIF(I5:I30,"1/2 ZA")/2)+COUNTIF(I5:I30,"ZB")+(COUNTIF(I5:I30,"1/2 ZB")/2)+COUNTIF(I5:I30,"ZC")+(COUNTIF(I5:I30,"1/2 ZC")/2)+COUNTIF(I5:I30,"ZD")+(COUNTIF(I5:I30,"1/2 ZD")/2) -> 0 | ... AF33: =COUNTIF(AF5:AF30,"ST")+(COUNTIF(AF5:AF30,"1/2 ST")/2)+COUNTIF(AF5:AF30,"FORM")+(COUNTIF(AF5:AF30,"1/2 FORM")/2)+COUNTIF(AF5:AF30,"EQ")+(COUNTIF(AF5:AF30,"1/2 EQ")/2)+COUNTIF(AF5:AF30,"CSO")+(COUNTIF(AF5:AF30,"1/2 CSO")/2)+COUNTIF(AF5:AF30,"FOUR")+(COUNTIF(AF5:AF30,"1/2 FOUR")/2)+COUNTIF(AF5:AF30,"PR")+(COUNTIF(AF5:AF30,"1/2 PR")/2)+COUNTIF(AF5:AF30,"ZA")+(COUNTIF(AF5:AF30,"1/2 ZA")/2)+COUNTIF(AF5:AF30,"ZB")+(COUNTIF(AF5:AF30,"1/2 ZB")/2)+COUNTIF(AF5:AF30,"ZC")+(COUNTIF(AF5:AF30,"1/2 ZC")/2)+COUNTIF(AF5:AF30,"ZD")+(COUNTIF(AF5:AF30,"1/2 ZD")/2) -> 0
B44: J | C44: M | D44: AM | E44: GTPI | F44: RH | G44: CA | H44: RT | I44: CE | J44: MO | K44: CAA | L44: EF | M44: HSR | N44: EM | O44: F | P44: ST | Q44: FORM | R44: EQ | S44: CSO | T44: FOUR | U44: PR | V44: AT
A45: Alpha | B45: =COUNTIF($B$15:$AF$16,"J")+(COUNTIF($B$15:$AF$16,"1/2 J")/2) -> 0 | C45: =COUNTIF($B$15:$AF$16,"M")+(COUNTIF($B$15:$AF$16,"1/2 M")/2) -> 12 | D45: =COUNTIF($B$15:$AF$16,"AM")+(COUNTIF($B$15:$AF$16,"1/2 AM")/2) -> 0 | E45: =COUNTIF($B$15:$AF$16,"GTPI")+(COUNTIF($B$15:$AF$16,"1/2 GTPI")/2) -> 0 | F45: =COUNTIF($B$15:$AF$16,"RH")+(COUNTIF($B$15:$AF$16,"1/2 RH")/2) -> 5 | G45: =COUNTIF($B$15:$AF$16,"CA")+(COUNTIF($B$15:$AF$16,"1/2 CA")/2) -> 0 | H45: =COUNTIF($B$15:$AF$16,"RT")+(COUNTIF($B$15:$AF$16,"1/2 RT")/2) -> 0 | I45: =COUNTIF($B$15:$AF$16,"CE")+(COUNTIF($B$15:$AF$16,"1/2 CE")/2) -> 0 | J45: =COUNTIF($B$15:$AF$16,"MO")+(COUNTIF($B$15:$AF$16,"1/2 MO")/2) -> 11 | K45: =COUNTIF($B$15:$AF$16,"CAA")+(COUNTIF($B$15:$AF$16,"1/2 CAA")/2) -> 0 | L45: =COUNTIF($B$15:$AF$16,"EF")+(COUNTIF($B$15:$AF$16,"1/2 EF")/2) -> 0 | M45: =COUNTIF($B$15:$AF$16,"HSR")+(COUNTIF($B$15:$AF$16,"1/2 HSR")/2) -> 0 | N45: =COUNTIF($B$15:$AF$16,"EM")+(COUNTIF($B$15:$AF$16,"1/2 EM")/2) -> 0 | O45: =COUNTIF($B$15:$AF$16,"F")+(COUNTIF($B$15:$AF$16,"1/2 F")/2) -> 0 | P45: =COUNTIF($B$15:$AF$16,"ST")+(COUNTIF($B$15:$AF$16,"1/2 ST")/2) -> 0 | Q45: =COUNTIF($B$15:$AF$16,"FORM")+(COUNTIF($B$15:$AF$16,"1/2 FORM")/2) -> 3 | R45: =COUNTIF($B$15:$AF$16,"EQ")+(COUNTIF($B$15:$AF$16,"1/2 EQ")/2) -> 0 | S45: =COUNTIF($B$15:$AF$16,"CSO")+(COUNTIF($B$15:$AF$16,"1/2 CSO")/2) -> 0 | T45: =COUNTIF($B$15:$AF$16,"FOUR")+(COUNTIF($B$15:$AF$16,"1/2 FOUR")/2) -> 0 | U45: =COUNTIF($B$15:$AF$16,"PR")+(COUNTIF($B$15:$AF$16,"1/2 PR")/2) -> 0 | V45: =COUNTIF($B$15:$AF$16,"AT")+(COUNTIF($B$15:$AF$16,"1/2 AT")/2) -> 0 | AF45: =SUM(B45:AE45) -> 31
A46: Bravo | B46: =COUNTIF($B$5:$AF$6,"J")+(COUNTIF($B$5:$AF$6,"1/2 J")/2) -> 0 | C46: =COUNTIF($B$5:$AF$6,"M")+(COUNTIF($B$5:$AF$6,"1/2 M")/2) -> 10 | D46: =COUNTIF($B$5:$AF$6,"AM")+(COUNTIF($B$5:$AF$6,"1/2 AM")/2) -> 10 | E46: =COUNTIF($B$5:$AF$6,"GTPI")+(COUNTIF($B$5:$AF$6,"1/2 GTPI")/2) -> 0 | F46: =COUNTIF($B$5:$AF$6,"RH")+(COUNTIF($B$5:$AF$6,"1/2 RH")/2) -> 8 | G46: =COUNTIF($B$5:$AF$6,"CA")+(COUNTIF($B$5:$AF$6,"1/2 CA")/2) -> 1 | H46: =COUNTIF($B$5:$AF$6,"RT")+(COUNTIF($B$5:$AF$6,"1/2 RT")/2) -> 1 | I46: =COUNTIF($B$5:$AF$6,"CE")+(COUNTIF($B$5:$AF$6,"1/2 CE")/2) -> 0 | J46: =COUNTIF($B$5:$AF$6,"MO")+(COUNTIF($B$5:$AF$6,"1/2 MO")/2) -> 0 | K46: =COUNTIF($B$5:$AF$6,"CAA")+(COUNTIF($B$5:$AF$6,"1/2 CAA")/2) -> 0 | L46: =COUNTIF($B$5:$AF$6,"EF")+(COUNTIF($B$5:$AF$6,"1/2 EF")/2) -> 0 | M46: =COUNTIF($B$5:$AF$6,"HSR")+(COUNTIF($B$5:$AF$6,"1/2 HSR")/2) -> 0 | N46: =COUNTIF($B$5:$AF$6,"EM")+(COUNTIF($B$5:$AF$6,"1/2 EM")/2) -> 0 | O46: =COUNTIF($B$5:$AF$6,"F")+(COUNTIF($B$5:$AF$6,"1/2 F")/2) -> 1 | P46: =COUNTIF($B$5:$AF$6,"ST")+(COUNTIF($B$5:$AF$6,"1/2 ST")/2) -> 0 | Q46: =COUNTIF($B$5:$AF$6,"FORM")+(COUNTIF($B$5:$AF$6,"1/2 FORM")/2) -> 0 | R46: =COUNTIF($B$5:$AF$6,"EQ")+(COUNTIF($B$5:$AF$6,"1/2 EQ")/2) -> 0 | S46: =COUNTIF($B$5:$AF$6,"CSO")+(COUNTIF($B$5:$AF$6,"1/2 CSO")/2) -> 0 | T46: =COUNTIF($B$5:$AF$6,"FOUR")+(COUNTIF($B$5:$AF$6,"1/2 FOUR")/2) -> 0 | U46: =COUNTIF($B$5:$AF$6,"PR")+(COUNTIF($B$5:$AF$6,"1/2 PR")/2) -> 0 | V46: =COUNTIF($B$15:$AF$16,"AT")+(COUNTIF($B$15:$AF$16,"1/2 AT")/2) -> 0 | AF46: =SUM(B46:AE46) -> 31
A47: Charlie | B47: =COUNTIF($B$7:$AF$8,"J")+(COUNTIF($B$7:$AF$8,"1/2 J")/2) -> 0 | C47: =COUNTIF($B$7:$AF$8,"M")+(COUNTIF($B$7:$AF$8,"1/2 M")/2) -> 7 | D47: =COUNTIF($B$7:$AF$8,"AM")+(COUNTIF($B$7:$AF$8,"1/2 AM")/2) -> 11 | E47: =COUNTIF($B$7:$AF$8,"GTPI")+(COUNTIF($B$7:$AF$8,"1/2 GTPI")/2) -> 0 | F47: =COUNTIF($B$7:$AF$8,"RH")+(COUNTIF($B$7:$AF$8,"1/2 RH")/2) -> 8 | G47: =COUNTIF($B$7:$AF$8,"CA")+(COUNTIF($B$7:$AF$8,"1/2 CA")/2) -> 1 | H47: =COUNTIF($B$7:$AF$8,"RT")+(COUNTIF($B$7:$AF$8,"1/2 RT")/2) -> 3 | I47: =COUNTIF($B$7:$AF$8,"CE")+(COUNTIF($B$7:$AF$8,"1/2 CE")/2) -> 0 | J47: =COUNTIF($B$7:$AF$8,"MO")+(COUNTIF($B$7:$AF$8,"1/2 MO")/2) -> 0 | K47: =COUNTIF($B$7:$AF$8,"CAA")+(COUNTIF($B$7:$AF$8,"1/2 CAA")/2) -> 0 | L47: =COUNTIF($B$7:$AF$8,"EF")+(COUNTIF($B$7:$AF$8,"1/2 EF")/2) -> 0 | M47: =COUNTIF($B$7:$AF$8,"HSR")+(COUNTIF($B$7:$AF$8,"1/2 HSR")/2) -> 0 | N47: =COUNTIF($B$7:$AF$8,"EM")+(COUNTIF($B$7:$AF$8,"1/2 EM")/2) -> 0 | O47: =COUNTIF($B$7:$AF$8,"F")+(COUNTIF($B$7:$AF$8,"1/2 F")/2) -> 1 | P47: =COUNTIF($B$7:$AF$8,"ST")+(COUNTIF($B$7:$AF$8,"1/2 ST")/2) -> 0 | Q47: =COUNTIF($B$7:$AF$8,"FORM")+(COUNTIF($B$7:$AF$8,"1/2 FORM")/2) -> 0 | R47: =COUNTIF($B$7:$AF$8,"EQ")+(COUNTIF($B$7:$AF$8,"1/2 EQ")/2) -> 0 | S47: =COUNTIF($B$7:$AF$8,"CSO")+(COUNTIF($B$7:$AF$8,"1/2 CSO")/2) -> 0 | T47: =COUNTIF($B$7:$AF$8,"FOUR")+(COUNTIF($B$7:$AF$8,"1/2 FOUR")/2) -> 0 | U47: =COUNTIF($B$7:$AF$8,"PR")+(COUNTIF($B$7:$AF$8,"1/2 PR")/2) -> 0 | V47: =COUNTIF($B$15:$AF$16,"AT")+(COUNTIF($B$15:$AF$16,"1/2 AT")/2) -> 0 | AF47: =SUM(B47:AE47) -> 31
A48: Delta | B48: =COUNTIF($B$9:$AF$10,"J")+(COUNTIF($B$9:$AF$10,"1/2 J")/2) -> 0 | C48: =COUNTIF($B$9:$AF$10,"M")+(COUNTIF($B$9:$AF$10,"1/2 M")/2) -> 7 | D48: =COUNTIF($B$9:$AF$10,"AM")+(COUNTIF($B$9:$AF$10,"1/2 AM")/2) -> 10 | E48: =COUNTIF($B$9:$AF$10,"GTPI")+(COUNTIF($B$9:$AF$10,"1/2 GTPI")/2) -> 0 | F48: =COUNTIF($B$9:$AF$10,"RH")+(COUNTIF($B$9:$AF$10,"1/2 RH")/2) -> 8 | G48: =COUNTIF($B$9:$AF$10,"CA")+(COUNTIF($B$9:$AF$10,"1/2 CA")/2) -> 1 | H48: =COUNTIF($B$9:$AF$10,"RT")+(COUNTIF($B$9:$AF$10,"1/2 RT")/2) -> 0 | I48: =COUNTIF($B$9:$AF$10,"CE")+(COUNTIF($B$9:$AF$10,"1/2 CE")/2) -> 0 | J48: =COUNTIF($B$9:$AF$10,"MO")+(COUNTIF($B$9:$AF$10,"1/2 MO")/2) -> 0 | K48: =COUNTIF($B$9:$AF$10,"CAA")+(COUNTIF($B$9:$AF$10,"1/2 CAA")/2) -> 0 | L48: =COUNTIF($B$9:$AF$10,"EF")+(COUNTIF($B$9:$AF$10,"1/2 EF")/2) -> 0 | M48: =COUNTIF($B$9:$AF$10,"HSR")+(COUNTIF($B$9:$AF$10,"1/2 HSR")/2) -> 0 | N48: =COUNTIF($B$9:$AF$10,"EM")+(COUNTIF($B$9:$AF$10,"1/2 EM")/2) -> 0 | O48: =COUNTIF($B$9:$AF$10,"F")+(COUNTIF($B$9:$AF$10,"1/2 F")/2) -> 1 | P48: =COUNTIF($B$9:$AF$10,"ST")+(COUNTIF($B$9:$AF$10,"1/2 ST")/2) -> 0 | Q48: =COUNTIF($B$9:$AF$10,"FORM")+(COUNTIF($B$9:$AF$10,"1/2 FORM")/2) -> 0 | R48: =COUNTIF($B$9:$AF$10,"EQ")+(COUNTIF($B$9:$AF$10,"1/2 EQ")/2) -> 4 | S48: =COUNTIF($B$9:$AF$10,"CSO")+(COUNTIF($B$9:$AF$10,"1/2 CSO")/2) -> 0 | T48: =COUNTIF($B$9:$AF$10,"FOUR")+(COUNTIF($B$9:$AF$10,"1/2 FOUR")/2) -> 0 | U48: =COUNTIF($B$9:$AF$10,"PR")+(COUNTIF($B$9:$AF$10,"1/2 PR")/2) -> 0 | V48: =COUNTIF($B$15:$AF$16,"AT")+(COUNTIF($B$15:$AF$16,"1/2 AT")/2) -> 0 | AF48: =SUM(B48:AE48) -> 31
A49: Echo | B49: =COUNTIF($B$11:$AF$12,"J")+(COUNTIF($B$11:$AF$12,"1/2 J")/2) -> 0 | C49: =COUNTIF($B$11:$AF$12,"M")+(COUNTIF($B$11:$AF$12,"1/2 M")/2) -> 0 | D49: =COUNTIF($B$11:$AF$12,"AM")+(COUNTIF($B$11:$AF$12,"1/2 AM")/2) -> 0 | E49: =COUNTIF($B$11:$AF$12,"GTPI")+(COUNTIF($B$11:$AF$12,"1/2 GTPI")/2) -> 0 | F49: =COUNTIF($B$11:$AF$12,"RH")+(COUNTIF($B$11:$AF$12,"1/2 RH")/2) -> 0 | G49: =COUNTIF($B$11:$AF$12,"CA")+(COUNTIF($B$11:$AF$12,"1/2 CA")/2) -> 0 | H49: =COUNTIF($B$11:$AF$12,"RT")+(COUNTIF($B$11:$AF$12,"1/2 RT")/2) -> 0 | I49: =COUNTIF($B$11:$AF$12,"CE")+(COUNTIF($B$11:$AF$12,"1/2 CE")/2) -> 0 | J49: =COUNTIF($B$11:$AF$12,"MO")+(COUNTIF($B$11:$AF$12,"1/2 MO")/2) -> 0 | K49: =COUNTIF($B$11:$AF$12,"CAA")+(COUNTIF($B$11:$AF$12,"1/2 CAA")/2) -> 0 | L49: =COUNTIF($B$11:$AF$12,"EF")+(COUNTIF($B$11:$AF$12,"1/2 EF")/2) -> 0 | M49: =COUNTIF($B$11:$AF$12,"HSR")+(COUNTIF($B$11:$AF$12,"1/2 HSR")/2) -> 0 | N49: =COUNTIF($B$11:$AF$12,"EM")+(COUNTIF($B$11:$AF$12,"1/2 EM")/2) -> 0 | O49: =COUNTIF($B$11:$AF$12,"F")+(COUNTIF($B$11:$AF$12,"1/2 F")/2) -> 0 | P49: =COUNTIF($B$11:$AF$12,"ST")+(COUNTIF($B$11:$AF$12,"1/2 ST")/2) -> 0 | Q49: =COUNTIF($B$11:$AF$12,"FORM")+(COUNTIF($B$11:$AF$12,"1/2 FORM")/2) -> 0 | R49: =COUNTIF($B$11:$AF$12,"EQ")+(COUNTIF($B$11:$AF$12,"1/2 EQ")/2) -> 0 | S49: =COUNTIF($B$11:$AF$12,"CSO")+(COUNTIF($B$11:$AF$12,"1/2 CSO")/2) -> 0 | T49: =COUNTIF($B$11:$AF$12,"FOUR")+(COUNTIF($B$11:$AF$12,"1/2 FOUR")/2) -> 0 | U49: =COUNTIF($B$11:$AF$12,"PR")+(COUNTIF($B$11:$AF$12,"1/2 PR")/2) -> 0 | V49: =COUNTIF($B$11:$AF$12,"AT")+(COUNTIF($B$11:$AF$12,"1/2 AT")/2) -> 31 | AF49: =SUM(B49:AE49) -> 31
B50: =COUNTIF($B$13:$AF$14,"J")+(COUNTIF($B$13:$AF$14,"1/2 J")/2) -> 0 | C50: =COUNTIF($B$13:$AF$14,"M")+(COUNTIF($B$13:$AF$14,"1/2 M")/2) -> 0 | D50: =COUNTIF($B$13:$AF$14,"AM")+(COUNTIF($B$13:$AF$14,"1/2 AM")/2) -> 0 | E50: =COUNTIF($B$13:$AF$14,"GTPI")+(COUNTIF($B$13:$AF$14,"1/2 GTPI")/2) -> 0 | F50: =COUNTIF($B$13:$AF$14,"RH")+(COUNTIF($B$13:$AF$14,"1/2 RH")/2) -> 0 | G50: =COUNTIF($B$13:$AF$14,"CA")+(COUNTIF($B$13:$AF$14,"1/2 CA")/2) -> 0 | H50: =COUNTIF($B$13:$AF$14,"RT")+(COUNTIF($B$13:$AF$14,"1/2 RT")/2) -> 0 | I50: =COUNTIF($B$13:$AF$14,"CE")+(COUNTIF($B$13:$AF$14,"1/2 CE")/2) -> 0 | J50: =COUNTIF($B$13:$AF$14,"MO")+(COUNTIF($B$13:$AF$14,"1/2 MO")/2) -> 0 | K50: =COUNTIF($B$13:$AF$14,"CAA")+(COUNTIF($B$13:$AF$14,"1/2 CAA")/2) -> 0 | L50: =COUNTIF($B$13:$AF$14,"EF")+(COUNTIF($B$13:$AF$14,"1/2 EF")/2) -> 0 | M50: =COUNTIF($B$13:$AF$14,"HSR")+(COUNTIF($B$13:$AF$14,"1/2 HSR")/2) -> 0 | N50: =COUNTIF($B$13:$AF$14,"EM")+(COUNTIF($B$13:$AF$14,"1/2 EM")/2) -> 0 | O50: =COUNTIF($B$13:$AF$14,"F")+(COUNTIF($B$13:$AF$14,"1/2 F")/2) -> 0 | P50: =COUNTIF($B$13:$AF$14,"ST")+(COUNTIF($B$13:$AF$14,"1/2 ST")/2) -> 0 | Q50: =COUNTIF($B$13:$AF$14,"FORM")+(COUNTIF($B$13:$AF$14,"1/2 FORM")/2) -> 0 | R50: =COUNTIF($B$13:$AF$14,"EQ")+(COUNTIF($B$13:$AF$14,"1/2 EQ")/2) -> 0 | S50: =COUNTIF($B$13:$AF$14,"CSO")+(COUNTIF($B$13:$AF$14,"1/2 CSO")/2) -> 0 | T50: =COUNTIF($B$13:$AF$14,"FOUR")+(COUNTIF($B$13:$AF$14,"1/2 FOUR")/2) -> 0 | U50: =COUNTIF($B$13:$AF$14,"PR")+(COUNTIF($B$13:$AF$14,"1/2 PR")/2) -> 0 | V50: =COUNTIF($B$15:$AF$16,"AT")+(COUNTIF($B$15:$AF$16,"1/2 AT")/2) -> 0 | AF50: =SUM(B50:AE50) -> 0
B51: =COUNTIF($B$17:$AF$18,"J")+(COUNTIF($B$17:$AF$18,"1/2 J")/2) -> 0 | C51: =COUNTIF($B$17:$AF$18,"M")+(COUNTIF($B$17:$AF$18,"1/2 M")/2) -> 0 | D51: =COUNTIF($B$17:$AF$18,"AM")+(COUNTIF($B$17:$AF$18,"1/2 AM")/2) -> 0 | E51: =COUNTIF($B$17:$AF$18,"GTPI")+(COUNTIF($B$17:$AF$18,"1/2 GTPI")/2) -> 0 | F51: =COUNTIF($B$17:$AF$18,"RH")+(COUNTIF($B$17:$AF$18,"1/2 RH")/2) -> 0 | G51: =COUNTIF($B$17:$AF$18,"CA")+(COUNTIF($B$17:$AF$18,"1/2 CA")/2) -> 0 | H51: =COUNTIF($B$17:$AF$18,"RT")+(COUNTIF($B$17:$AF$18,"1/2 RT")/2) -> 0 | I51: =COUNTIF($B$17:$AF$18,"CE")+(COUNTIF($B$17:$AF$18,"1/2 CE")/2) -> 0 | J51: =COUNTIF($B$17:$AF$18,"MO")+(COUNTIF($B$17:$AF$18,"1/2 MO")/2) -> 0 | K51: =COUNTIF($B$17:$AF$18,"CAA")+(COUNTIF($B$17:$AF$18,"1/2 CAA")/2) -> 0 | L51: =COUNTIF($B$17:$AF$18,"EF")+(COUNTIF($B$17:$AF$18,"1/2 EF")/2) -> 0 | M51: =COUNTIF($B$17:$AF$18,"HSR")+(COUNTIF($B$17:$AF$18,"1/2 HSR")/2) -> 0 | N51: =COUNTIF($B$17:$AF$18,"EM")+(COUNTIF($B$17:$AF$18,"1/2 EM")/2) -> 0 | O51: =COUNTIF($B$17:$AF$18,"F")+(COUNTIF($B$17:$AF$18,"1/2 F")/2) -> 0 | P51: =COUNTIF($B$17:$AF$18,"ST")+(COUNTIF($B$17:$AF$18,"1/2 ST")/2) -> 0 | Q51: =COUNTIF($B$17:$AF$18,"FORM")+(COUNTIF($B$17:$AF$18,"1/2 FORM")/2) -> 0 | R51: =COUNTIF($B$17:$AF$18,"EQ")+(COUNTIF($B$17:$AF$18,"1/2 EQ")/2) -> 0 | S51: =COUNTIF($B$17:$AF$18,"CSO")+(COUNTIF($B$17:$AF$18,"1/2 CSO")/2) -> 0 | T51: =COUNTIF($B$17:$AF$18,"FOUR")+(COUNTIF($B$17:$AF$18,"1/2 FOUR")/2) -> 0 | U51: =COUNTIF($B$17:$AF$18,"PR")+(COUNTIF($B$17:$AF$18,"1/2 PR")/2) -> 0 | V51: =COUNTIF($B$15:$AF$16,"AT")+(COUNTIF($B$15:$AF$16,"1/2 AT")/2) -> 0 | AF51: =SUM(B51:AE51) -> 0
A52: Foxtrot | B52: =COUNTIF($B$19:$AF$20,"J")+(COUNTIF($B$19:$AF$20,"1/2 J")/2) -> 0 | C52: =COUNTIF($B$19:$AF$20,"M")+(COUNTIF($B$19:$AF$20,"1/2 M")/2) -> 5 | D52: =COUNTIF($B$19:$AF$20,"AM")+(COUNTIF($B$19:$AF$20,"1/2 AM")/2) -> 10 | E52: =COUNTIF($B$19:$AF$20,"GTPI")+(COUNTIF($B$19:$AF$20,"1/2 GTPI")/2) -> 0 | F52: =COUNTIF($B$19:$AF$20,"RH")+(COUNTIF($B$19:$AF$20,"1/2 RH")/2) -> 8 | G52: =COUNTIF($B$19:$AF$20,"CA")+(COUNTIF($B$19:$AF$20,"1/2 CA")/2) -> 6 | H52: =COUNTIF($B$19:$AF$20,"RT")+(COUNTIF($B$19:$AF$20,"1/2 RT")/2) -> 1 | I52: =COUNTIF($B$19:$AF$20,"CE")+(COUNTIF($B$19:$AF$20,"1/2 CE")/2) -> 0 | J52: =COUNTIF($B$19:$AF$20,"MO")+(COUNTIF($B$19:$AF$20,"1/2 MO")/2) -> 0 | K52: =COUNTIF($B$19:$AF$20,"CAA")+(COUNTIF($B$19:$AF$20,"1/2 CAA")/2) -> 0 | L52: =COUNTIF($B$19:$AF$20,"EF")+(COUNTIF($B$19:$AF$20,"1/2 EF")/2) -> 0 | M52: =COUNTIF($B$19:$AF$20,"HSR")+(COUNTIF($B$19:$AF$20,"1/2 HSR")/2) -> 0 | N52: =COUNTIF($B$19:$AF$20,"EM")+(COUNTIF($B$19:$AF$20,"1/2 EM")/2) -> 0 | O52: =COUNTIF($B$19:$AF$20,"F")+(COUNTIF($B$19:$AF$20,"1/2 F")/2) -> 1 | P52: =COUNTIF($B$19:$AF$20,"ST")+(COUNTIF($B$19:$AF$20,"1/2 ST")/2) -> 0 | Q52: =COUNTIF($B$19:$AF$20,"FORM")+(COUNTIF($B$19:$AF$20,"1/2 FORM")/2) -> 0 | R52: =COUNTIF($B$19:$AF$20,"EQ")+(COUNTIF($B$19:$AF$20,"1/2 EQ")/2) -> 0 | S52: =COUNTIF($B$19:$AF$20,"CSO")+(COUNTIF($B$19:$AF$20,"1/2 CSO")/2) -> 0 | T52: =COUNTIF($B$19:$AF$20,"FOUR")+(COUNTIF($B$19:$AF$20,"1/2 FOUR")/2) -> 0 | U52: =COUNTIF($B$19:$AF$20,"PR")+(COUNTIF($B$19:$AF$20,"1/2 PR")/2) -> 0 | V52: =COUNTIF($B$15:$AF$16,"AT")+(COUNTIF($B$15:$AF$16,"1/2 AT")/2) -> 0 | AF52: =SUM(B52:AE52) -> 31
A53: Golf | B53: =COUNTIF($B$21:$AF$22,"J")+(COUNTIF($B$21:$AF$22,"1/2 J")/2) -> 0 | C53: =COUNTIF($B$21:$AF$22,"M")+(COUNTIF($B$21:$AF$22,"1/2 M")/2) -> 5 | D53: =COUNTIF($B$21:$AF$22,"AM")+(COUNTIF($B$21:$AF$22,"1/2 AM")/2) -> 15 | E53: =COUNTIF($B$21:$AF$22,"GTPI")+(COUNTIF($B$21:$AF$22,"1/2 GTPI")/2) -> 0 | F53: =COUNTIF($B$21:$AF$22,"RH")+(COUNTIF($B$21:$AF$22,"1/2 RH")/2) -> 8 | G53: =COUNTIF($B$21:$AF$22,"CA")+(COUNTIF($B$21:$AF$22,"1/2 CA")/2) -> 2 | H53: =COUNTIF($B$21:$AF$22,"RT")+(COUNTIF($B$21:$AF$22,"1/2 RT")/2) -> 0 | I53: =COUNTIF($B$21:$AF$22,"CE")+(COUNTIF($B$21:$AF$22,"1/2 CE")/2) -> 0 | J53: =COUNTIF($B$21:$AF$22,"MO")+(COUNTIF($B$21:$AF$22,"1/2 MO")/2) -> 0 | K53: =COUNTIF($B$21:$AF$22,"CAA")+(COUNTIF($B$21:$AF$22,"1/2 CAA")/2) -> 0 | L53: =COUNTIF($B$21:$AF$22,"EF")+(COUNTIF($B$21:$AF$22,"1/2 EF")/2) -> 0 | M53: =COUNTIF($B$21:$AF$22,"HSR")+(COUNTIF($B$21:$AF$22,"1/2 HSR")/2) -> 0 | N53: =COUNTIF($B$21:$AF$22,"EM")+(COUNTIF($B$21:$AF$22,"1/2 EM")/2) -> 0 | O53: =COUNTIF($B$21:$AF$22,"F")+(COUNTIF($B$21:$AF$22,"1/2 F")/2) -> 1 | P53: =COUNTIF($B$21:$AF$22,"ST")+(COUNTIF($B$21:$AF$22,"1/2 ST")/2) -> 0 | Q53: =COUNTIF($B$21:$AF$22,"FORM")+(COUNTIF($B$21:$AF$22,"1/2 FORM")/2) -> 0 | R53: =COUNTIF($B$21:$AF$22,"EQ")+(COUNTIF($B$21:$AF$22,"1/2 EQ")/2) -> 0 | S53: =COUNTIF($B$21:$AF$22,"CSO")+(COUNTIF($B$21:$AF$22,"1/2 CSO")/2) -> 0 | T53: =COUNTIF($B$21:$AF$22,"FOUR")+(COUNTIF($B$21:$AF$22,"1/2 FOUR")/2) -> 0 | U53: =COUNTIF($B$21:$AF$22,"PR")+(COUNTIF($B$21:$AF$22,"1/2 PR")/2) -> 0 | V53: =COUNTIF($B$15:$AF$16,"AT")+(COUNTIF($B$15:$AF$16,"1/2 AT")/2) -> 0 | AF53: =SUM(B53:AE53) -> 31
A54: Hotel | B54: =COUNTIF($B$23:$AF$24,"J")+(COUNTIF($B$23:$AF$24,"1/2 J")/2) -> 0 | C54: =COUNTIF($B$23:$AF$24,"M")+(COUNTIF($B$23:$AF$24,"1/2 M")/2) -> 6 | D54: =COUNTIF($B$23:$AF$24,"AM")+(COUNTIF($B$23:$AF$24,"1/2 AM")/2) -> 6 | E54: =COUNTIF($B$23:$AF$24,"GTPI")+(COUNTIF($B$23:$AF$24,"1/2 GTPI")/2) -> 0 | F54: =COUNTIF($B$23:$AF$24,"RH")+(COUNTIF($B$23:$AF$24,"1/2 RH")/2) -> 8 | G54: =COUNTIF($B$23:$AF$24,"CA")+(COUNTIF($B$23:$AF$24,"1/2 CA")/2) -> 8 | H54: =COUNTIF($B$23:$AF$24,"RT")+(COUNTIF($B$23:$AF$24,"1/2 RT")/2) -> 2 | I54: =COUNTIF($B$23:$AF$24,"CE")+(COUNTIF($B$23:$AF$24,"1/2 CE")/2) -> 0 | J54: =COUNTIF($B$23:$AF$24,"MO")+(COUNTIF($B$23:$AF$24,"1/2 MO")/2) -> 0 | K54: =COUNTIF($B$23:$AF$24,"CAA")+(COUNTIF($B$23:$AF$24,"1/2 CAA")/2) -> 0 | L54: =COUNTIF($B$23:$AF$24,"EF")+(COUNTIF($B$23:$AF$24,"1/2 EF")/2) -> 0 | M54: =COUNTIF($B$23:$AF$24,"HSR")+(COUNTIF($B$23:$AF$24,"1/2 HSR")/2) -> 0 | N54: =COUNTIF($B$23:$AF$24,"EM")+(COUNTIF($B$23:$AF$24,"1/2 EM")/2) -> 0 | O54: =COUNTIF($B$23:$AF$24,"F")+(COUNTIF($B$23:$AF$24,"1/2 F")/2) -> 1 | P54: =COUNTIF($B$23:$AF$24,"ST")+(COUNTIF($B$23:$AF$24,"1/2 ST")/2) -> 0 | Q54: =COUNTIF($B$23:$AF$24,"FORM")+(COUNTIF($B$23:$AF$24,"1/2 FORM")/2) -> 0 | R54: =COUNTIF($B$23:$AF$24,"EQ")+(COUNTIF($B$23:$AF$24,"1/2 EQ")/2) -> 0 | S54: =COUNTIF($B$23:$AF$24,"CSO")+(COUNTIF($B$23:$AF$24,"1/2 CSO")/2) -> 0 | T54: =COUNTIF($B$23:$AF$24,"FOUR")+(COUNTIF($B$23:$AF$24,"1/2 FOUR")/2) -> 0 | U54: =COUNTIF($B$23:$AF$24,"PR")+(COUNTIF($B$23:$AF$24,"1/2 PR")/2) -> 0 | V54: =COUNTIF($B$15:$AF$16,"AT")+(COUNTIF($B$15:$AF$16,"1/2 AT")/2) -> 0 | AF54: =SUM(B54:AE54) -> 31
A55: India | B55: =COUNTIF($B$25:$AF$26,"J")+(COUNTIF($B$25:$AF$26,"1/2 J")/2) -> 0 | C55: =COUNTIF($B$25:$AF$26,"M")+(COUNTIF($B$25:$AF$26,"1/2 M")/2) -> 5 | D55: =COUNTIF($B$25:$AF$26,"AM")+(COUNTIF($B$25:$AF$26,"1/2 AM")/2) -> 6 | E55: =COUNTIF($B$25:$AF$26,"GTPI")+(COUNTIF($B$25:$AF$26,"1/2 GTPI")/2) -> 0 | F55: =COUNTIF($B$25:$AF$26,"RH")+(COUNTIF($B$25:$AF$26,"1/2 RH")/2) -> 2 | G55: =COUNTIF($B$25:$AF$26,"CA")+(COUNTIF($B$25:$AF$26,"1/2 CA")/2) -> 0 | H55: =COUNTIF($B$25:$AF$26,"RT")+(COUNTIF($B$25:$AF$26,"1/2 RT")/2) -> 0 | I55: =COUNTIF($B$25:$AF$26,"CE")+(COUNTIF($B$25:$AF$26,"1/2 CE")/2) -> 0 | J55: =COUNTIF($B$25:$AF$26,"MO")+(COUNTIF($B$25:$AF$26,"1/2 MO")/2) -> 0 | K55: =COUNTIF($B$25:$AF$26,"CAA")+(COUNTIF($B$25:$AF$26,"1/2 CAA")/2) -> 0 | L55: =COUNTIF($B$25:$AF$26,"EF")+(COUNTIF($B$25:$AF$26,"1/2 EF")/2) -> 0 | M55: =COUNTIF($B$25:$AF$26,"HSR")+(COUNTIF($B$25:$AF$26,"1/2 HSR")/2) -> 0 | N55: =COUNTIF($B$25:$AF$26,"EM")+(COUNTIF($B$25:$AF$26,"1/2 EM")/2) -> 0 | O55: =COUNTIF($B$25:$AF$26,"F")+(COUNTIF($B$25:$AF$26,"1/2 F")/2) -> 0 | P55: =COUNTIF($B$25:$AF$26,"ST")+(COUNTIF($B$25:$AF$26,"1/2 ST")/2) -> 0 | Q55: =COUNTIF($B$25:$AF$26,"FORM")+(COUNTIF($B$25:$AF$26,"1/2 FORM")/2) -> 0 | R55: =COUNTIF($B$25:$AF$26,"EQ")+(COUNTIF($B$25:$AF$26,"1/2 EQ")/2) -> 0 | S55: =COUNTIF($B$25:$AF$26,"CSO")+(COUNTIF($B$25:$AF$26,"1/2 CSO")/2) -> 0 | T55: =COUNTIF($B$25:$AF$26,"FOUR")+(COUNTIF($B$25:$AF$26,"1/2 FOUR")/2) -> 0 | U55: =COUNTIF($B$25:$AF$26,"PR")+(COUNTIF($B$25:$AF$26,"1/2 PR")/2) -> 0 | V55: =COUNTIF($B$15:$AF$16,"AT")+(COUNTIF($B$15:$AF$16,"1/2 AT")/2) -> 0 | AF55: =SUM(B55:AE55) -> 13
B56: =COUNTIF($B$27:$AF$28,"J")+(COUNTIF($B$27:$AF$28,"1/2 J")/2) -> 0 | C56: =COUNTIF($B$27:$AF$28,"M")+(COUNTIF($B$27:$AF$28,"1/2 M")/2) -> 0 | D56: =COUNTIF($B$27:$AF$28,"AM")+(COUNTIF($B$27:$AF$28,"1/2 AM")/2) -> 0 | E56: =COUNTIF($B$27:$AF$28,"GTPI")+(COUNTIF($B$27:$AF$28,"1/2 GTPI")/2) -> 0 | F56: =COUNTIF($B$27:$AF$28,"RH")+(COUNTIF($B$27:$AF$28,"1/2 RH")/2) -> 0 | G56: =COUNTIF($B$27:$AF$28,"CA")+(COUNTIF($B$27:$AF$28,"1/2 CA")/2) -> 0 | H56: =COUNTIF($B$27:$AF$28,"RT")+(COUNTIF($B$27:$AF$28,"1/2 RT")/2) -> 0 | I56: =COUNTIF($B$27:$AF$28,"CE")+(COUNTIF($B$27:$AF$28,"1/2 CE")/2) -> 0 | J56: =COUNTIF($B$27:$AF$28,"MO")+(COUNTIF($B$27:$AF$28,"1/2 MO")/2) -> 0 | K56: =COUNTIF($B$27:$AF$28,"CAA")+(COUNTIF($B$27:$AF$28,"1/2 CAA")/2) -> 0 | L56: =COUNTIF($B$27:$AF$28,"EF")+(COUNTIF($B$27:$AF$28,"1/2 EF")/2) -> 0 | M56: =COUNTIF($B$27:$AF$28,"HSR")+(COUNTIF($B$27:$AF$28,"1/2 HSR")/2) -> 0 | N56: =COUNTIF($B$27:$AF$28,"EM")+(COUNTIF($B$27:$AF$28,"1/2 EM")/2) -> 0 | O56: =COUNTIF($B$27:$AF$28,"F")+(COUNTIF($B$27:$AF$28,"1/2 F")/2) -> 0 | P56: =COUNTIF($B$27:$AF$28,"ST")+(COUNTIF($B$27:$AF$28,"1/2 ST")/2) -> 0 | Q56: =COUNTIF($B$27:$AF$28,"FORM")+(COUNTIF($B$27:$AF$28,"1/2 FORM")/2) -> 0 | R56: =COUNTIF($B$27:$AF$28,"EQ")+(COUNTIF($B$27:$AF$28,"1/2 EQ")/2) -> 0 | S56: =COUNTIF($B$27:$AF$28,"CSO")+(COUNTIF($B$27:$AF$28,"1/2 CSO")/2) -> 0 | T56: =COUNTIF($B$27:$AF$28,"FOUR")+(COUNTIF($B$27:$AF$28,"1/2 FOUR")/2) -> 0 | U56: =COUNTIF($B$27:$AF$28,"PR")+(COUNTIF($B$27:$AF$28,"1/2 PR")/2) -> 0 | V56: =COUNTIF($B$15:$AF$16,"AT")+(COUNTIF($B$15:$AF$16,"1/2 AT")/2) -> 0 | AF56: =SUM(B56:AE56) -> 0
B57: =COUNTIF($B$29:$AF$30,"J")+(COUNTIF($B$29:$AF$30,"1/2 J")/2) -> 0 | C57: =COUNTIF($B$29:$AF$30,"M")+(COUNTIF($B$29:$AF$30,"1/2 M")/2) -> 0 | D57: =COUNTIF($B$29:$AF$30,"AM")+(COUNTIF($B$29:$AF$30,"1/2 AM")/2) -> 0 | E57: =COUNTIF($B$29:$AF$30,"GTPI")+(COUNTIF($B$29:$AF$30,"1/2 GTPI")/2) -> 0 | F57: =COUNTIF($B$29:$AF$30,"RH")+(COUNTIF($B$29:$AF$30,"1/2 RH")/2) -> 0 | G57: =COUNTIF($B$29:$AF$30,"CA")+(COUNTIF($B$29:$AF$30,"1/2 CA")/2) -> 0 | H57: =COUNTIF($B$29:$AF$30,"RT")+(COUNTIF($B$29:$AF$30,"1/2 RT")/2) -> 0 | I57: =COUNTIF($B$29:$AF$30,"CE")+(COUNTIF($B$29:$AF$30,"1/2 CE")/2) -> 0 | J57: =COUNTIF($B$29:$AF$30,"MO")+(COUNTIF($B$29:$AF$30,"1/2 MO")/2) -> 0 | K57: =COUNTIF($B$29:$AF$30,"CAA")+(COUNTIF($B$29:$AF$30,"1/2 CAA")/2) -> 0 | L57: =COUNTIF($B$29:$AF$30,"EF")+(COUNTIF($B$29:$AF$30,"1/2 EF")/2) -> 0 | M57: =COUNTIF($B$29:$AF$30,"HSR")+(COUNTIF($B$29:$AF$30,"1/2 HSR")/2) -> 0 | N57: =COUNTIF($B$29:$AF$30,"EM")+(COUNTIF($B$29:$AF$30,"1/2 EM")/2) -> 0 | O57: =COUNTIF($B$29:$AF$30,"F")+(COUNTIF($B$29:$AF$30,"1/2 F")/2) -> 0 | P57: =COUNTIF($B$29:$AF$30,"ST")+(COUNTIF($B$29:$AF$30,"1/2 ST")/2) -> 0 | Q57: =COUNTIF($B$29:$AF$30,"FORM")+(COUNTIF($B$29:$AF$30,"1/2 FORM")/2) -> 0 | R57: =COUNTIF($B$29:$AF$30,"EQ")+(COUNTIF($B$29:$AF$30,"1/2 EQ")/2) -> 0 | S57: =COUNTIF($B$29:$AF$30,"CSO")+(COUNTIF($B$29:$AF$30,"1/2 CSO")/2) -> 0 | T57: =COUNTIF($B$29:$AF$30,"FOUR")+(COUNTIF($B$29:$AF$30,"1/2 FOUR")/2) -> 0 | U57: =COUNTIF($B$29:$AF$30,"PR")+(COUNTIF($B$29:$AF$30,"1/2 PR")/2) -> 0 | V57: =COUNTIF($B$15:$AF$16,"AT")+(COUNTIF($B$15:$AF$16,"1/2 AT")/2) -> 0 | AF57: =SUM(B57:AE57) -> 0

Sheet Fevrier
A1: FEVRIER
V2: Vacances scolaires
B3: 1 | C3: 2 | D3: 3 | E3: 4 | F3: 5 | G3: 6 | H3: 7 | I3: 8 | J3: 9 | K3: 10 | L3: 11 | M3: 12 | N3: 13 | O3: 14 | P3: 15 | Q3: 16 | R3: 17 | S3: 18 | T3: 19 | U3: 20 | V3: 21 | W3: 22 | X3: 23 | Y3: 24 | Z3: 25 | AA3: 26 | AB3: 27 | AC3: 28
B4: D | C4: L | D4: M | E4: M | F4: J | G4: V | H4: S | I4: D | J4: L | K4: M | L4: M | M4: J | N4: V | O4: S | P4: D | Q4: L | R4: M | S4: M | T4: J | U4: V | V4: S | W4: D | X4: L | Y4: M | Z4: M | AA4: J | AB4: V | AC4: S
A5: Bravo | B5: RH | C5: AM | D5: AM | E5: AM | F5: AM | G5: M | H5: CA | I5: M | J5: RH | K5: M | L5: M | M5: M | N5: M | O5: RH | P5: RH | Q5: M | R5: AM | S5: AM | T5: AM | U5: AM | V5: AM | W5: RH | X5: RH | Y5: M | Z5: AM | AA5: AM | AB5: AM | AC5: RH
A7: Charlie | B7: RH | C7: AM | D7: AM | E7: AM | F7: AM | G7: AM | H7: AM | I7: RH | J7: RH | K7: M | L7: 1/2 M | M7: M | N7: M | O7: RH | P7: RH | Q7: AM | R7: AM | S7: AM | T7: AM | U7: AM | V7: RT | W7: RH | X7: RH | Y7: CA | Z7: CA | AA7: CA | AB7: CA | AC7: RH
L8: 1/2 RT
A9: Delta | C9: CA | D9: AM | E9: EQ | F9: AM | G9: AM | H9: AM | I9: RH | J9: RH | K9: M | L9: AM | M9: M | N9: M | O9: RH | P9: RH | Q9: AM | R9: AM | S9: EQ | T9: 1/2 FORM | U9: AM | V9: AM | W9: RH | X9: RH | Y9: CA | Z9: CA | AA9: CA | AB9: CA | AC9: RH
B10: AM | T10: 1/2 AM
A11: Echo | B11: AT | C11: AT | D11: AT | E11: AT | F11: AT | G11: AT | H11: AT | I11: AT | J11: AT | K11: AT | L11: AT | M11: AT | N11: AT | O11: AT | P11: AT | Q11: AT | R11: AT | S11: AT | T11: AT | U11: AT | V11: AT | W11: AT | X11: AT | Y11: AT | Z11: AT | AA11: AT | AB11: AT | AC11: AT
A17: Foxtrot | C17: RH | D17: M | E17: M | F17: M | G17: M | H17: RH | I17: RH | J17: AM | K17: AM | L17: AM | M17: AM | N17: AM | O17: AM | P17: RH | Q17: RH | R17: M | S17: M | T17: 1/2 FORM | U17: M | V17: RH | W17: RH | X17: AM | Y17: AM | Z17: AM | AA17: AM | AB17: AM | AC17: AM
B18: AM | T18: 1/2 M
A19: Golf | B19: RH | C19: RH | D19: M | E19: 1/2 M | F19: M | G19: AM | H19: RH | I19: M | J19: AM | K19: 1/2 AM | L19: AM | M19: AM | N19: AM | O19: RT | P19: RH | Q19: RH | R19: M | S19: M | T19: M | U19: M | V19: RH | W19: RH | X19: AM | Y19: AM | Z19: CA | AA19: CA | AB19: CA | AC19: AM
E20: 1/2 RT | K20: 1/2 RT
A21: Hotel | B21: RH | C21: RH | D21: CA | E21: CA | F21: CA | G21: CA | H21: RH | I21: RH | J21: AM | K21: AM | L21: AM | M21: AM | N21: AM | O21: AM | P21: RH | Q21: RH | R21: M | S21: AM | T21: M | U21: M | V21: RH | X21: AM | Y21: AM | Z21: AM | AA21: AM | AB21: AM | AC21: CA
W22: AM
A23: India
A27: Alpha | B27: RH | C27: M | D27: M | E27: M | F27: M | G27: HSR | H27: RH | I27: RH | J27: CA | K27: M | L27: M | M27: M | N27: M | O27: RH | P27: RH | Q27: M | R27: M | S27: M | T27: M | U27: M | V27: RH | W27: RH | X27: M | Y27: M | Z27: CA | AA27: CA | AB27: CA | AC27: RH
A31: Présents | B31: =COUNTIF(B5:B30,"J")+(COUNTIF(B5:B30,"1/2 J")/2)+COUNTIF(B5:B30,"M")+(COUNTIF(B5:B30,"1/2 M")/2)+COUNTIF(B5:B30,"AM")+(COUNTIF(B5:B30,"1/2 AM")/2)+COUNTIF(B5:B30,"GTPI")+(COUNTIF(B5:B30,"1/2 GTPI")/2)+COUNTIF(B5:B30,"ZB")+(COUNTIF(B5:B30,"1/2 ZB")/2)+COUNTIF(B5:B30,"ZC")+(COUNTIF(B5:B30,"1/2 ZC")/2)+COUNTIF(B5:B30,"ZD")+(COUNTIF(B5:B30,"1/2 ZD")/2) -> 2 | C31: =COUNTIF(C5:C30,"J")+(COUNTIF(C5:C30,"1/2 J")/2)+COUNTIF(C5:C30,"M")+(COUNTIF(C5:C30,"1/2 M")/2)+COUNTIF(C5:C30,"AM")+(COUNTIF(C5:C30,"1/2 AM")/2)+COUNTIF(C5:C30,"GTPI")+(COUNTIF(C5:C30,"1/2 GTPI")/2)+COUNTIF(C5:C30,"ZB")+(COUNTIF(C5:C30,"1/2 ZB")/2)+COUNTIF(C5:C30,"ZC")+(COUNTIF(C5:C30,"1/2 ZC")/2)+COUNTIF(C5:C30,"ZD")+(COUNTIF(C5:C30,"1/2 ZD")/2) -> 3 | D31: =COUNTIF(D5:D30,"J")+(COUNTIF(D5:D30,"1/2 J")/2)+COUNTIF(D5:D30,"M")+(COUNTIF(D5:D30,"1/2 M")/2)+COUNTIF(D5:D30,"AM")+(COUNTIF(D5:D30,"1/2 AM")/2)+COUNTIF(D5:D30,"GTPI")+(COUNTIF(D5:D30,"1/2 GTPI")/2)+COUNTIF(D5:D30,"ZB")+(COUNTIF(D5:D30,"1/2 ZB")/2)+COUNTIF(D5:D30,"ZC")+(COUNTIF(D5:D30,"1/2 ZC")/2)+COUNTIF(D5:D30,"ZD")+(COUNTIF(D5:D30,"1/2 ZD")/2) -> 6 | E31: =COUNTIF(E5:E30,"J")+(COUNTIF(E5:E30,"1/2 J")/2)+COUNTIF(E5:E30,"M")+(COUNTIF(E5:E30,"1/2 M")/2)+COUNTIF(E5:E30,"AM")+(COUNTIF(E5:E30,"1/2 AM")/2)+COUNTIF(E5:E30,"GTPI")+(COUNTIF(E5:E30,"1/2 GTPI")/2)+COUNTIF(E5:E30,"ZB")+(COUNTIF(E5:E30,"1/2 ZB")/2)+COUNTIF(E5:E30,"ZC")+(COUNTIF(E5:E30,"1/2 ZC")/2)+COUNTIF(E5:E30,"ZD")+(COUNTIF(E5:E30,"1/2 ZD")/2) -> 4.5 | F31: =COUNTIF(F5:F30,"J")+(COUNTIF(F5:F30,"1/2 J")/2)+COUNTIF(F5:F30,"M")+(COUNTIF(F5:F30,"1/2 M")/2)+COUNTIF(F5:F30,"AM")+(COUNTIF(F5:F30,"1/2 AM")/2)+COUNTIF(F5:F30,"GTPI")+(COUNTIF(F5:F30,"1/2 GTPI")/2)+COUNTIF(F5:F30,"ZB")+(COUNTIF(F5:F30,"1/2 ZB")/2)+COUNTIF(F5:F30,"ZC")+(COUNTIF(F5:F30,"1/2 ZC")/2)+COUNTIF(F5:F30,"ZD")+(COUNTIF(F5:F30,"1/2 ZD")/2) -> 6 | G31: =COUNTIF(G5:G30,"J")+(COUNTIF(G5:G30,"1/2 J")/2)+COUNTIF(G5:G30,"M")+(COUNTIF(G5:G30,"1/2 M")/2)+COUNTIF(G5:G30,"AM")+(COUNTIF(G5:G30,"1/2 AM")/2)+COUNTIF(G5:G30,"GTPI")+(COUNTIF(G5:G30,"1/2 GTPI")/2)+COUNTIF(G5:G30,"ZB")+(COUNTIF(G5:G30,"1/2 ZB")/2)+COUNTIF(G5:G30,"ZC")+(COUNTIF(G5:G30,"1/2 ZC")/2)+COUNTIF(G5:G30,"ZD")+(COUNTIF(G5:G30,"1/2 ZD")/2) -> 5 | H31: =COUNTIF(H5:H30,"J")+(COUNTIF(H5:H30,"1/2 J")/2)+COUNTIF(H5:H30,"M")+(COUNTIF(H5:H30,"1/2 M")/2)+COUNTIF(H5:H30,"AM")+(COUNTIF(H5:H30,"1/2 AM")/2)+COUNTIF(H5:H30,"GTPI")+(COUNTIF(H5:H30,"1/2 GTPI")/2)+COUNTIF(H5:H30,"ZB")+(COUNTIF(H5:H30,"1/2 ZB")/2)+COUNTIF(H5:H30,"ZC")+(COUNTIF(H5:H30,"1/2 ZC")/2)+COUNTIF(H5:H30,"ZD")+(COUNTIF(H5:H30,"1/2 ZD")/2) -> 2 | I31: =COUNTIF(I5:I30,"J")+(COUNTIF(I5:I30,"1/2 J")/2)+COUNTIF(I5:I30,"M")+(COUNTIF(I5:I30,"1/2 M")/2)+COUNTIF(I5:I30,"AM")+(COUNTIF(I5:I30,"1/2 AM")/2)+COUNTIF(I5:I30,"GTPI")+(COUNTIF(I5:I30,"1/2 GTPI")/2)+COUNTIF(I5:I30,"ZB")+(COUNTIF(I5:I30,"1/2 ZB")/2)+COUNTIF(I5:I30,"ZC")+(COUNTIF(I5:I30,"1/2 ZC")/2)+COUNTIF(I5:I30,"ZD")+(COUNTIF(I5:I30,"1/2 ZD")/2) -> 2 | ... AF31: =COUNTIF(AF5:AF30,"J")+(COUNTIF(AF5:AF30,"1/2 J")/2)+COUNTIF(AF5:AF30,"M")+(COUNTIF(AF5:AF30,"1/2 M")/2)+COUNTIF(AF5:AF30,"AM")+(COUNTIF(AF5:AF30,"1/2 AM")/2)+COUNTIF(AF5:AF30,"GTPI")+(COUNTIF(AF5:AF30,"1/2 GTPI")/2)+COUNTIF(AF5:AF30,"ZB")+(COUNTIF(AF5:AF30,"1/2 ZB")/2)+COUNTIF(AF5:AF30,"ZC")+(COUNTIF(AF5:AF30,"1/2 ZC")/2)+COUNTIF(AF5:AF30,"ZD")+(COUNTIF(AF5:AF30,"1/2 ZD")/2) -> 0
A32: Absents | B32: =COUNTIF(B5:B30,"RH")+(COUNTIF(B5:B30,"1/2 RH")/2)+COUNTIF(B5:B30,"CA")+(COUNTIF(B5:B30,"1/2 CA")/2)+COUNTIF(B5:B30,"RT")+(COUNTIF(B5:B30,"1/2 RT")/2)+COUNTIF(B5:B30,"CE")+(COUNTIF(B5:B30,"1/2 CE")/2)+COUNTIF(B5:B30,"MO")+(COUNTIF(B5:B30,"1/2 MO")/2)+COUNTIF(B5:B30,"CAA")+(COUNTIF(B5:B30,"1/2 CAA")/2)+COUNTIF(B5:B30,"EF")+(COUNTIF(B5:B30,"1/2 EF")/2)+COUNTIF(B5:B30,"HSR")+(COUNTIF(B5:B30,"1/2 HSR")/2)+COUNTIF(B5:B30,"EM")+(COUNTIF(B5:B30,"1/2 EM")/2)+COUNTIF(B5:B30,"F")+(COUNTIF(B5:B30,"1/2 F")/2)+COUNTIF(B5:B30,"AT")+(COUNTIF(B5:B30,"1/2 AT")/2)+COUNTIF(B5:B30,"ZC")+(COUNTIF(B5:B30,"1/2 ZC")/2)+COUNTIF(B5:B30,"ZD")+(COUNTIF(B5:B30,"1/2 ZD")/2) -> 6 | C32: =COUNTIF(C5:C30,"RH")+(COUNTIF(C5:C30,"1/2 RH")/2)+COUNTIF(C5:C30,"CA")+(COUNTIF(C5:C30,"1/2 CA")/2)+COUNTIF(C5:C30,"RT")+(COUNTIF(C5:C30,"1/2 RT")/2)+COUNTIF(C5:C30,"CE")+(COUNTIF(C5:C30,"1/2 CE")/2)+COUNTIF(C5:C30,"MO")+(COUNTIF(C5:C30,"1/2 MO")/2)+COUNTIF(C5:C30,"CAA")+(COUNTIF(C5:C30,"1/2 CAA")/2)+COUNTIF(C5:C30,"EF")+(COUNTIF(C5:C30,"1/2 EF")/2)+COUNTIF(C5:C30,"HSR")+(COUNTIF(C5:C30,"1/2 HSR")/2)+COUNTIF(C5:C30,"EM")+(COUNTIF(C5:C30,"1/2 EM")/2)+COUNTIF(C5:C30,"F")+(COUNTIF(C5:C30,"1/2 F")/2)+COUNTIF(C5:C30,"AT")+(COUNTIF(C5:C30,"1/2 AT")/2)+COUNTIF(C5:C30,"ZC")+(COUNTIF(C5:C30,"1/2 ZC")/2)+COUNTIF(C5:C30,"ZD")+(COUNTIF(C5:C30,"1/2 ZD")/2) -> 5 | D32: =COUNTIF(D5:D30,"RH")+(COUNTIF(D5:D30,"1/2 RH")/2)+COUNTIF(D5:D30,"CA")+(COUNTIF(D5:D30,"1/2 CA")/2)+COUNTIF(D5:D30,"RT")+(COUNTIF(D5:D30,"1/2 RT")/2)+COUNTIF(D5:D30,"CE")+(COUNTIF(D5:D30,"1/2 CE")/2)+COUNTIF(D5:D30,"MO")+(COUNTIF(D5:D30,"1/2 MO")/2)+COUNTIF(D5:D30,"CAA")+(COUNTIF(D5:D30,"1/2 CAA")/2)+COUNTIF(D5:D30,"EF")+(COUNTIF(D5:D30,"1/2 EF")/2)+COUNTIF(D5:D30,"HSR")+(COUNTIF(D5:D30,"1/2 HSR")/2)+COUNTIF(D5:D30,"EM")+(COUNTIF(D5:D30,"1/2 EM")/2)+COUNTIF(D5:D30,"F")+(COUNTIF(D5:D30,"1/2 F")/2)+COUNTIF(D5:D30,"AT")+(COUNTIF(D5:D30,"1/2 AT")/2)+COUNTIF(D5:D30,"ZC")+(COUNTIF(D5:D30,"1/2 ZC")/2)+COUNTIF(D5:D30,"ZD")+(COUNTIF(D5:D30,"1/2 ZD")/2) -> 2 | E32: =COUNTIF(E5:E30,"RH")+(COUNTIF(E5:E30,"1/2 RH")/2)+COUNTIF(E5:E30,"CA")+(COUNTIF(E5:E30,"1/2 CA")/2)+COUNTIF(E5:E30,"RT")+(COUNTIF(E5:E30,"1/2 RT")/2)+COUNTIF(E5:E30,"CE")+(COUNTIF(E5:E30,"1/2 CE")/2)+COUNTIF(E5:E30,"MO")+(COUNTIF(E5:E30,"1/2 MO")/2)+COUNTIF(E5:E30,"CAA")+(COUNTIF(E5:E30,"1/2 CAA")/2)+COUNTIF(E5:E30,"EF")+(COUNTIF(E5:E30,"1/2 EF")/2)+COUNTIF(E5:E30,"HSR")+(COUNTIF(E5:E30,"1/2 HSR")/2)+COUNTIF(E5:E30,"EM")+(COUNTIF(E5:E30,"1/2 EM")/2)+COUNTIF(E5:E30,"F")+(COUNTIF(E5:E30,"1/2 F")/2)+COUNTIF(E5:E30,"AT")+(COUNTIF(E5:E30,"1/2 AT")/2)+COUNTIF(E5:E30,"ZC")+(COUNTIF(E5:E30,"1/2 ZC")/2)+COUNTIF(E5:E30,"ZD")+(COUNTIF(E5:E30,"1/2 ZD")/2) -> 2.5 | F32: =COUNTIF(F5:F30,"RH")+(COUNTIF(F5:F30,"1/2 RH")/2)+COUNTIF(F5:F30,"CA")+(COUNTIF(F5:F30,"1/2 CA")/2)+COUNTIF(F5:F30,"RT")+(COUNTIF(F5:F30,"1/2 RT")/2)+COUNTIF(F5:F30,"CE")+(COUNTIF(F5:F30,"1/2 CE")/2)+COUNTIF(F5:F30,"MO")+(COUNTIF(F5:F30,"1/2 MO")/2)+COUNTIF(F5:F30,"CAA")+(COUNTIF(F5:F30,"1/2 CAA")/2)+COUNTIF(F5:F30,"EF")+(COUNTIF(F5:F30,"1/2 EF")/2)+COUNTIF(F5:F30,"HSR")+(COUNTIF(F5:F30,"1/2 HSR")/2)+COUNTIF(F5:F30,"EM")+(COUNTIF(F5:F30,"1/2 EM")/2)+COUNTIF(F5:F30,"F")+(COUNTIF(F5:F30,"1/2 F")/2)+COUNTIF(F5:F30,"AT")+(COUNTIF(F5:F30,"1/2 AT")/2)+COUNTIF(F5:F30,"ZC")+(COUNTIF(F5:F30,"1/2 ZC")/2)+COUNTIF(F5:F30,"ZD")+(COUNTIF(F5:F30,"1/2 ZD")/2) -> 2 | G32: =COUNTIF(G5:G30,"RH")+(COUNTIF(G5:G30,"1/2 RH")/2)+COUNTIF(G5:G30,"CA")+(COUNTIF(G5:G30,"1/2 CA")/2)+COUNTIF(G5:G30,"RT")+(COUNTIF(G5:G30,"1/2 RT")/2)+COUNTIF(G5:G30,"CE")+(COUNTIF(G5:G30,"1/2 CE")/2)+COUNTIF(G5:G30,"MO")+(COUNTIF(G5:G30,"1/2 MO")/2)+COUNTIF(G5:G30,"CAA")+(COUNTIF(G5:G30,"1/2 CAA")/2)+COUNTIF(G5:G30,"EF")+(COUNTIF(G5:G30,"1/2 EF")/2)+COUNTIF(G5:G30,"HSR")+(COUNTIF(G5:G30,"1/2 HSR")/2)+COUNTIF(G5:G30,"EM")+(COUNTIF(G5:G30,"1/2 EM")/2)+COUNTIF(G5:G30,"F")+(COUNTIF(G5:G30,"1/2 F")/2)+COUNTIF(G5:G30,"AT")+(COUNTIF(G5:G30,"1/2 AT")/2)+COUNTIF(G5:G30,"ZC")+(COUNTIF(G5:G30,"1/2 ZC")/2)+COUNTIF(G5:G30,"ZD")+(COUNTIF(G5:G30,"1/2 ZD")/2) -> 3 | H32: =COUNTIF(H5:H30,"RH")+(COUNTIF(H5:H30,"1/2 RH")/2)+COUNTIF(H5:H30,"CA")+(COUNTIF(H5:H30,"1/2 CA")/2)+COUNTIF(H5:H30,"RT")+(COUNTIF(H5:H30,"1/2 RT")/2)+COUNTIF(H5:H30,"CE")+(COUNTIF(H5:H30,"1/2 CE")/2)+COUNTIF(H5:H30,"MO")+(COUNTIF(H5:H30,"1/2 MO")/2)+COUNTIF(H5:H30,"CAA")+(COUNTIF(H5:H30,"1/2 CAA")/2)+COUNTIF(H5:H30,"EF")+(COUNTIF(H5:H30,"1/2 EF")/2)+COUNTIF(H5:H30,"HSR")+(COUNTIF(H5:H30,"1/2 HSR")/2)+COUNTIF(H5:H30,"EM")+(COUNTIF(H5:H30,"1/2 EM")/2)+COUNTIF(H5:H30,"F")+(COUNTIF(H5:H30,"1/2 F")/2)+COUNTIF(H5:H30,"AT")+(COUNTIF(H5:H30,"1/2 AT")/2)+COUNTIF(H5:H30,"ZC")+(COUNTIF(H5:H30,"1/2 ZC")/2)+COUNTIF(H5:H30,"ZD")+(COUNTIF(H5:H30,"1/2 ZD")/2) -> 6 | I32: =COUNTIF(I5:I30,"RH")+(COUNTIF(I5:I30,"1/2 RH")/2)+COUNTIF(I5:I30,"CA")+(COUNTIF(I5:I30,"1/2 CA")/2)+COUNTIF(I5:I30,"RT")+(COUNTIF(I5:I30,"1/2 RT")/2)+COUNTIF(I5:I30,"CE")+(COUNTIF(I5:I30,"1/2 CE")/2)+COUNTIF(I5:I30,"MO")+(COUNTIF(I5:I30,"1/2 MO")/2)+COUNTIF(I5:I30,"CAA")+(COUNTIF(I5:I30,"1/2 CAA")/2)+COUNTIF(I5:I30,"EF")+(COUNTIF(I5:I30,"1/2 EF")/2)+COUNTIF(I5:I30,"HSR")+(COUNTIF(I5:I30,"1/2 HSR")/2)+COUNTIF(I5:I30,"EM")+(COUNTIF(I5:I30,"1/2 EM")/2)+COUNTIF(I5:I30,"F")+(COUNTIF(I5:I30,"1/2 F")/2)+COUNTIF(I5:I30,"AT")+(COUNTIF(I5:I30,"1/2 AT")/2)+COUNTIF(I5:I30,"ZC")+(COUNTIF(I5:I30,"1/2 ZC")/2)+COUNTIF(I5:I30,"ZD")+(COUNTIF(I5:I30,"1/2 ZD")/2) -> 6 | ... AF32: =COUNTIF(AF5:AF30,"RH")+(COUNTIF(AF5:AF30,"1/2 RH")/2)+COUNTIF(AF5:AF30,"CA")+(COUNTIF(AF5:AF30,"1/2 CA")/2)+COUNTIF(AF5:AF30,"RT")+(COUNTIF(AF5:AF30,"1/2 RT")/2)+COUNTIF(AF5:AF30,"CE")+(COUNTIF(AF5:AF30,"1/2 CE")/2)+COUNTIF(AF5:AF30,"MO")+(COUNTIF(AF5:AF30,"1/2 MO")/2)+COUNTIF(AF5:AF30,"CAA")+(COUNTIF(AF5:AF30,"1/2 CAA")/2)+COUNTIF(AF5:AF30,"EF")+(COUNTIF(AF5:AF30,"1/2 EF")/2)+COUNTIF(AF5:AF30,"HSR")+(COUNTIF(AF5:AF30,"1/2 HSR")/2)+COUNTIF(AF5:AF30,"EM")+(COUNTIF(AF5:AF30,"1/2 EM")/2)+COUNTIF(AF5:AF30,"F")+(COUNTIF(AF5:AF30,"1/2 F")/2)+COUNTIF(AF5:AF30,"AT")+(COUNTIF(AF5:AF30,"1/2 AT")/2)+COUNTIF(AF5:AF30,"ZC")+(COUNTIF(AF5:AF30,"1/2 ZC")/2)+COUNTIF(AF5:AF30,"ZD")+(COUNTIF(AF5:AF30,"1/2 ZD")/2) -> 0
A33: Prés. Indispo. | B33: =COUNTIF(B5:B30,"ST")+(COUNTIF(B5:B30,"1/2 ST")/2)+COUNTIF(B5:B30,"FORM")+(COUNTIF(B5:B30,"1/2 FORM")/2)+COUNTIF(B5:B30,"EQ")+(COUNTIF(B5:B30,"1/2 EQ")/2)+COUNTIF(B5:B30,"CSO")+(COUNTIF(B5:B30,"1/2 CSO")/2)+COUNTIF(B5:B30,"FOUR")+(COUNTIF(B5:B30,"1/2 FOUR")/2)+COUNTIF(B5:B30,"PR")+(COUNTIF(B5:B30,"1/2 PR")/2)+COUNTIF(B5:B30,"ZA")+(COUNTIF(B5:B30,"1/2 ZA")/2)+COUNTIF(B5:B30,"ZB")+(COUNTIF(B5:B30,"1/2 ZB")/2)+COUNTIF(B5:B30,"ZC")+(COUNTIF(B5:B30,"1/2 ZC")/2)+COUNTIF(B5:B30,"ZD")+(COUNTIF(B5:B30,"1/2 ZD")/2) -> 0 | C33: =COUNTIF(C5:C30,"ST")+(COUNTIF(C5:C30,"1/2 ST")/2)+COUNTIF(C5:C30,"FORM")+(COUNTIF(C5:C30,"1/2 FORM")/2)+COUNTIF(C5:C30,"EQ")+(COUNTIF(C5:C30,"1/2 EQ")/2)+COUNTIF(C5:C30,"CSO")+(COUNTIF(C5:C30,"1/2 CSO")/2)+COUNTIF(C5:C30,"FOUR")+(COUNTIF(C5:C30,"1/2 FOUR")/2)+COUNTIF(C5:C30,"PR")+(COUNTIF(C5:C30,"1/2 PR")/2)+COUNTIF(C5:C30,"ZA")+(COUNTIF(C5:C30,"1/2 ZA")/2)+COUNTIF(C5:C30,"ZB")+(COUNTIF(C5:C30,"1/2 ZB")/2)+COUNTIF(C5:C30,"ZC")+(COUNTIF(C5:C30,"1/2 ZC")/2)+COUNTIF(C5:C30,"ZD")+(COUNTIF(C5:C30,"1/2 ZD")/2) -> 0 | D33: =COUNTIF(D5:D30,"ST")+(COUNTIF(D5:D30,"1/2 ST")/2)+COUNTIF(D5:D30,"FORM")+(COUNTIF(D5:D30,"1/2 FORM")/2)+COUNTIF(D5:D30,"EQ")+(COUNTIF(D5:D30,"1/2 EQ")/2)+COUNTIF(D5:D30,"CSO")+(COUNTIF(D5:D30,"1/2 CSO")/2)+COUNTIF(D5:D30,"FOUR")+(COUNTIF(D5:D30,"1/2 FOUR")/2)+COUNTIF(D5:D30,"PR")+(COUNTIF(D5:D30,"1/2 PR")/2)+COUNTIF(D5:D30,"ZA")+(COUNTIF(D5:D30,"1/2 ZA")/2)+COUNTIF(D5:D30,"ZB")+(COUNTIF(D5:D30,"1/2 ZB")/2)+COUNTIF(D5:D30,"ZC")+(COUNTIF(D5:D30,"1/2 ZC")/2)+COUNTIF(D5:D30,"ZD")+(COUNTIF(D5:D30,"1/2 ZD")/2) -> 0 | E33: =COUNTIF(E5:E30,"ST")+(COUNTIF(E5:E30,"1/2 ST")/2)+COUNTIF(E5:E30,"FORM")+(COUNTIF(E5:E30,"1/2 FORM")/2)+COUNTIF(E5:E30,"EQ")+(COUNTIF(E5:E30,"1/2 EQ")/2)+COUNTIF(E5:E30,"CSO")+(COUNTIF(E5:E30,"1/2 CSO")/2)+COUNTIF(E5:E30,"FOUR")+(COUNTIF(E5:E30,"1/2 FOUR")/2)+COUNTIF(E5:E30,"PR")+(COUNTIF(E5:E30,"1/2 PR")/2)+COUNTIF(E5:E30,"ZA")+(COUNTIF(E5:E30,"1/2 ZA")/2)+COUNTIF(E5:E30,"ZB")+(COUNTIF(E5:E30,"1/2 ZB")/2)+COUNTIF(E5:E30,"ZC")+(COUNTIF(E5:E30,"1/2 ZC")/2)+COUNTIF(E5:E30,"ZD")+(COUNTIF(E5:E30,"1/2 ZD")/2) -> 1 | F33: =COUNTIF(F5:F30,"ST")+(COUNTIF(F5:F30,"1/2 ST")/2)+COUNTIF(F5:F30,"FORM")+(COUNTIF(F5:F30,"1/2 FORM")/2)+COUNTIF(F5:F30,"EQ")+(COUNTIF(F5:F30,"1/2 EQ")/2)+COUNTIF(F5:F30,"CSO")+(COUNTIF(F5:F30,"1/2 CSO")/2)+COUNTIF(F5:F30,"FOUR")+(COUNTIF(F5:F30,"1/2 FOUR")/2)+COUNTIF(F5:F30,"PR")+(COUNTIF(F5:F30,"1/2 PR")/2)+COUNTIF(F5:F30,"ZA")+(COUNTIF(F5:F30,"1/2 ZA")/2)+COUNTIF(F5:F30,"ZB")+(COUNTIF(F5:F30,"1/2 ZB")/2)+COUNTIF(F5:F30,"ZC")+(COUNTIF(F5:F30,"1/2 ZC")/2)+COUNTIF(F5:F30,"ZD")+(COUNTIF(F5:F30,"1/2 ZD")/2) -> 0 | G33: =COUNTIF(G5:G30,"ST")+(COUNTIF(G5:G30,"1/2 ST")/2)+COUNTIF(G5:G30,"FORM")+(COUNTIF(G5:G30,"1/2 FORM")/2)+COUNTIF(G5:G30,"EQ")+(COUNTIF(G5:G30,"1/2 EQ")/2)+COUNTIF(G5:G30,"CSO")+(COUNTIF(G5:G30,"1/2 CSO")/2)+COUNTIF(G5:G30,"FOUR")+(COUNTIF(G5:G30,"1/2 FOUR")/2)+COUNTIF(G5:G30,"PR")+(COUNTIF(G5:G30,"1/2 PR")/2)+COUNTIF(G5:G30,"ZA")+(COUNTIF(G5:G30,"1/2 ZA")/2)+COUNTIF(G5:G30,"ZB")+(COUNTIF(G5:G30,"1/2 ZB")/2)+COUNTIF(G5:G30,"ZC")+(COUNTIF(G5:G30,"1/2 ZC")/2)+COUNTIF(G5:G30,"ZD")+(COUNTIF(G5:G30,"1/2 ZD")/2) -> 0 | H33: =COUNTIF(H5:H30,"ST")+(COUNTIF(H5:H30,"1/2 ST")/2)+COUNTIF(H5:H30,"FORM")+(COUNTIF(H5:H30,"1/2 FORM")/2)+COUNTIF(H5:H30,"EQ")+(COUNTIF(H5:H30,"1/2 EQ")/2)+COUNTIF(H5:H30,"CSO")+(COUNTIF(H5:H30,"1/2 CSO")/2)+COUNTIF(H5:H30,"FOUR")+(COUNTIF(H5:H30,"1/2 FOUR")/2)+COUNTIF(H5:H30,"PR")+(COUNTIF(H5:H30,"1/2 PR")/2)+COUNTIF(H5:H30,"ZA")+(COUNTIF(H5:H30,"1/2 ZA")/2)+COUNTIF(H5:H30,"ZB")+(COUNTIF(H5:H30,"1/2 ZB")/2)+COUNTIF(H5:H30,"ZC")+(COUNTIF(H5:H30,"1/2 ZC")/2)+COUNTIF(H5:H30,"ZD")+(COUNTIF(H5:H30,"1/2 ZD")/2) -> 0 | I33: =COUNTIF(I5:I30,"ST")+(COUNTIF(I5:I30,"1/2 ST")/2)+COUNTIF(I5:I30,"FORM")+(COUNTIF(I5:I30,"1/2 FORM")/2)+COUNTIF(I5:I30,"EQ")+(COUNTIF(I5:I30,"1/2 EQ")/2)+COUNTIF(I5:I30,"CSO")+(COUNTIF(I5:I30,"1/2 CSO")/2)+COUNTIF(I5:I30,"FOUR")+(COUNTIF(I5:I30,"1/2 FOUR")/2)+COUNTIF(I5:I30,"PR")+(COUNTIF(I5:I30,"1/2 PR")/2)+COUNTIF(I5:I30,"ZA")+(COUNTIF(I5:I30,"1/2 ZA")/2)+COUNTIF(I5:I30,"ZB")+(COUNTIF(I5:I30,"1/2 ZB")/2)+COUNTIF(I5:I30,"ZC")+(COUNTIF(I5:I30,"1/2 ZC")/2)+COUNTIF(I5:I30,"ZD")+(COUNTIF(I5:I30,"1/2 ZD")/2) -> 0 | ... AF33: =COUNTIF(AF5:AF30,"ST")+(COUNTIF(AF5:AF30,"1/2 ST")/2)+COUNTIF(AF5:AF30,"FORM")+(COUNTIF(AF5:AF30,"1/2 FORM")/2)+COUNTIF(AF5:AF30,"EQ")+(COUNTIF(AF5:AF30,"1/2 EQ")/2)+COUNTIF(AF5:AF30,"CSO")+(COUNTIF(AF5:AF30,"1/2 CSO")/2)+COUNTIF(AF5:AF30,"FOUR")+(COUNTIF(AF5:AF30,"1/2 FOUR")/2)+COUNTIF(AF5:AF30,"PR")+(COUNTIF(AF5:AF30,"1/2 PR")/2)+COUNTIF(AF5:AF30,"ZA")+(COUNTIF(AF5:AF30,"1/2 ZA")/2)+COUNTIF(AF5:AF30,"ZB")+(COUNTIF(AF5:AF30,"1/2 ZB")/2)+COUNTIF(AF5:AF30,"ZC")+(COUNTIF(AF5:AF30,"1/2 ZC")/2)+COUNTIF(AF5:AF30,"ZD")+(COUNTIF(AF5:AF30,"1/2 ZD")/2) -> 0
B44: J | C44: M | D44: AM | E44: GTPI | F44: RH | G44: CA | H44: RT | I44: CE | J44: MO | K44: CAA | L44: EF | M44: HSR | N44: EM | O44: F | P44: ST | Q44: FORM | R44: EQ | S44: CSO | T44: FOUR | U44: PR | V44: AT
A45: Alpha | B45: =COUNTIF($B$27:$AF$28,"J")+(COUNTIF($B$27:$AF$28,"1/2 J")/2) -> 0 | C45: =COUNTIF($B$27:$AF$28,"M")+(COUNTIF($B$27:$AF$28,"1/2 M")/2) -> 15 | D45: =COUNTIF($B$27:$AF$28,"AM")+(COUNTIF($B$27:$AF$28,"1/2 AM")/2) -> 0 | E45: =COUNTIF($B$27:$AF$28,"GTPI")+(COUNTIF($B$27:$AF$28,"1/2 GTPI")/2) -> 0 | F45: =COUNTIF($B$27:$AF$28,"RH")+(COUNTIF($B$27:$AF$28,"1/2 RH")/2) -> 8 | G45: =COUNTIF($B$27:$AF$28,"CA")+(COUNTIF($B$27:$AF$28,"1/2 CA")/2) -> 4 | H45: =COUNTIF($B$27:$AF$28,"RT")+(COUNTIF($B$27:$AF$28,"1/2 RT")/2) -> 0 | I45: =COUNTIF($B$27:$AF$28,"CE")+(COUNTIF($B$27:$AF$28,"1/2 CE")/2) -> 0 | J45: =COUNTIF($B$27:$AF$28,"MO")+(COUNTIF($B$27:$AF$28,"1/2 MO")/2) -> 0 | K45: =COUNTIF($B$27:$AF$28,"CAA")+(COUNTIF($B$27:$AF$28,"1/2 CAA")/2) -> 0 | L45: =COUNTIF($B$27:$AF$28,"EF")+(COUNTIF($B$27:$AF$28,"1/2 EF")/2) -> 0 | M45: =COUNTIF($B$27:$AF$28,"HSR")+(COUNTIF($B$27:$AF$28,"1/2 HSR")/2) -> 1 | N45: =COUNTIF($B$27:$AF$28,"EM")+(COUNTIF($B$27:$AF$28,"1/2 EM")/2) -> 0 | O45: =COUNTIF($B$27:$AF$28,"F")+(COUNTIF($B$27:$AF$28,"1/2 F")/2) -> 0 | P45: =COUNTIF($B$27:$AF$28,"ST")+(COUNTIF($B$27:$AF$28,"1/2 ST")/2) -> 0 | Q45: =COUNTIF($B$27:$AF$28,"FORM")+(COUNTIF($B$27:$AF$28,"1/2 FORM")/2) -> 0 | R45: =COUNTIF($B$27:$AF$28,"EQ")+(COUNTIF($B$27:$AF$28,"1/2 EQ")/2) -> 0 | S45: =COUNTIF($B$27:$AF$28,"CSO")+(COUNTIF($B$27:$AF$28,"1/2 CSO")/2) -> 0 | T45: =COUNTIF($B$27:$AF$28,"FOUR")+(COUNTIF($B$27:$AF$28,"1/2 FOUR")/2) -> 0 | U45: =COUNTIF($B$27:$AF$28,"PR")+(COUNTIF($B$27:$AF$28,"1/2 PR")/2) -> 0 | V45: =COUNTIF($B$27:$AF$28,"AT")+(COUNTIF($B$27:$AF$28,"1/2 AT")/2) -> 0 | AF45: =SUM(B45:AE45) -> 28
A46: Bravo | B46: =COUNTIF($B$5:$AF$6,"J")+(COUNTIF($B$5:$AF$6,"1/2 J")/2) -> 0 | C46: =COUNTIF($B$5:$AF$6,"M")+(COUNTIF($B$5:$AF$6,"1/2 M")/2) -> 8 | D46: =COUNTIF($B$5:$AF$6,"AM")+(COUNTIF($B$5:$AF$6,"1/2 AM")/2) -> 12 | E46: =COUNTIF($B$5:$AF$6,"GTPI")+(COUNTIF($B$5:$AF$6,"1/2 GTPI")/2) -> 0 | F46: =COUNTIF($B$5:$AF$6,"RH")+(COUNTIF($B$5:$AF$6,"1/2 RH")/2) -> 7 | G46: =COUNTIF($B$5:$AF$6,"CA")+(COUNTIF($B$5:$AF$6,"1/2 CA")/2) -> 1 | H46: =COUNTIF($B$5:$AF$6,"RT")+(COUNTIF($B$5:$AF$6,"1/2 RT")/2) -> 0 | I46: =COUNTIF($B$5:$AF$6,"CE")+(COUNTIF($B$5:$AF$6,"1/2 CE")/2) -> 0 | J46: =COUNTIF($B$5:$AF$6,"MO")+(COUNTIF($B$5:$AF$6,"1/2 MO")/2) -> 0 | K46: =COUNTIF($B$5:$AF$6,"CAA")+(COUNTIF($B$5:$AF$6,"1/2 CAA")/2) -> 0 | L46: =COUNTIF($B$5:$AF$6,"EF")+(COUNTIF($B$5:$AF$6,"1/2 EF")/2) -> 0 | M46: =COUNTIF($B$5:$AF$6,"HSR")+(COUNTIF($B$5:$AF$6,"1/2 HSR")/2) -> 0 | N46: =COUNTIF($B$5:$AF$6,"EM")+(COUNTIF($B$5:$AF$6,"1/2 EM")/2) -> 0 | O46: =COUNTIF($B$5:$AF$6,"F")+(COUNTIF($B$5:$AF$6,"1/2 F")/2) -> 0 | P46: =COUNTIF($B$5:$AF$6,"ST")+(COUNTIF($B$5:$AF$6,"1/2 ST")/2) -> 0 | Q46: =COUNTIF($B$5:$AF$6,"FORM")+(COUNTIF($B$5:$AF$6,"1/2 FORM")/2) -> 0 | R46: =COUNTIF($B$5:$AF$6,"EQ")+(COUNTIF($B$5:$AF$6,"1/2 EQ")/2) -> 0 | S46: =COUNTIF($B$5:$AF$6,"CSO")+(COUNTIF($B$5:$AF$6,"1/2 CSO")/2) -> 0 | T46: =COUNTIF($B$5:$AF$6,"FOUR")+(COUNTIF($B$5:$AF$6,"1/2 FOUR")/2) -> 0 | U46: =COUNTIF($B$5:$AF$6,"PR")+(COUNTIF($B$5:$AF$6,"1/2 PR")/2) -> 0 | V46: =COUNTIF($B$5:$AF$6,"AT")+(COUNTIF($B$5:$AF$6,"1/2 AT")/2) -> 0 | AF46: =SUM(B46:AE46) -> 28
A47: Charlie | B47: =COUNTIF($B$7:$AF$8,"J")+(COUNTIF($B$7:$AF$8,"1/2 J")/2) -> 0 | C47: =COUNTIF($B$7:$AF$8,"M")+(COUNTIF($B$7:$AF$8,"1/2 M")/2) -> 3.5 | D47: =COUNTIF($B$7:$AF$8,"AM")+(COUNTIF($B$7:$AF$8,"1/2 AM")/2) -> 11 | E47: =COUNTIF($B$7:$AF$8,"GTPI")+(COUNTIF($B$7:$AF$8,"1/2 GTPI")/2) -> 0 | F47: =COUNTIF($B$7:$AF$8,"RH")+(COUNTIF($B$7:$AF$8,"1/2 RH")/2) -> 8 | G47: =COUNTIF($B$7:$AF$8,"CA")+(COUNTIF($B$7:$AF$8,"1/2 CA")/2) -> 4 | H47: =COUNTIF($B$7:$AF$8,"RT")+(COUNTIF($B$7:$AF$8,"1/2 RT")/2) -> 1.5 | I47: =COUNTIF($B$7:$AF$8,"CE")+(COUNTIF($B$7:$AF$8,"1/2 CE")/2) -> 0 | J47: =COUNTIF($B$7:$AF$8,"MO")+(COUNTIF($B$7:$AF$8,"1/2 MO")/2) -> 0 | K47: =COUNTIF($B$7:$AF$8,"CAA")+(COUNTIF($B$7:$AF$8,"1/2 CAA")/2) -> 0 | L47: =COUNTIF($B$7:$AF$8,"EF")+(COUNTIF($B$7:$AF$8,"1/2 EF")/2) -> 0 | M47: =COUNTIF($B$7:$AF$8,"HSR")+(COUNTIF($B$7:$AF$8,"1/2 HSR")/2) -> 0 | N47: =COUNTIF($B$7:$AF$8,"EM")+(COUNTIF($B$7:$AF$8,"1/2 EM")/2) -> 0 | O47: =COUNTIF($B$7:$AF$8,"F")+(COUNTIF($B$7:$AF$8,"1/2 F")/2) -> 0 | P47: =COUNTIF($B$7:$AF$8,"ST")+(COUNTIF($B$7:$AF$8,"1/2 ST")/2) -> 0 | Q47: =COUNTIF($B$7:$AF$8,"FORM")+(COUNTIF($B$7:$AF$8,"1/2 FORM")/2) -> 0 | R47: =COUNTIF($B$7:$AF$8,"EQ")+(COUNTIF($B$7:$AF$8,"1/2 EQ")/2) -> 0 | S47: =COUNTIF($B$7:$AF$8,"CSO")+(COUNTIF($B$7:$AF$8,"1/2 CSO")/2) -> 0 | T47: =COUNTIF($B$7:$AF$8,"FOUR")+(COUNTIF($B$7:$AF$8,"1/2 FOUR")/2) -> 0 | U47: =COUNTIF($B$7:$AF$8,"PR")+(COUNTIF($B$7:$AF$8,"1/2 PR")/2) -> 0 | V47: =COUNTIF($B$7:$AF$8,"AT")+(COUNTIF($B$7:$AF$8,"1/2 AT")/2) -> 0 | AF47: =SUM(B47:AE47) -> 28
A48: Delta | B48: =COUNTIF($B$9:$AF$10,"J")+(COUNTIF($B$9:$AF$10,"1/2 J")/2) -> 0 | C48: =COUNTIF($B$9:$AF$10,"M")+(COUNTIF($B$9:$AF$10,"1/2 M")/2) -> 3 | D48: =COUNTIF($B$9:$AF$10,"AM")+(COUNTIF($B$9:$AF$10,"1/2 AM")/2) -> 10.5 | E48: =COUNTIF($B$9:$AF$10,"GTPI")+(COUNTIF($B$9:$AF$10,"1/2 GTPI")/2) -> 0 | F48: =COUNTIF($B$9:$AF$10,"RH")+(COUNTIF($B$9:$AF$10,"1/2 RH")/2) -> 7 | G48: =COUNTIF($B$9:$AF$10,"CA")+(COUNTIF($B$9:$AF$10,"1/2 CA")/2) -> 5 | H48: =COUNTIF($B$9:$AF$10,"RT")+(COUNTIF($B$9:$AF$10,"1/2 RT")/2) -> 0 | I48: =COUNTIF($B$9:$AF$10,"CE")+(COUNTIF($B$9:$AF$10,"1/2 CE")/2) -> 0 | J48: =COUNTIF($B$9:$AF$10,"MO")+(COUNTIF($B$9:$AF$10,"1/2 MO")/2) -> 0 | K48: =COUNTIF($B$9:$AF$10,"CAA")+(COUNTIF($B$9:$AF$10,"1/2 CAA")/2) -> 0 | L48: =COUNTIF($B$9:$AF$10,"EF")+(COUNTIF($B$9:$AF$10,"1/2 EF")/2) -> 0 | M48: =COUNTIF($B$9:$AF$10,"HSR")+(COUNTIF($B$9:$AF$10,"1/2 HSR")/2) -> 0 | N48: =COUNTIF($B$9:$AF$10,"EM")+(COUNTIF($B$9:$AF$10,"1/2 EM")/2) -> 0 | O48: =COUNTIF($B$9:$AF$10,"F")+(COUNTIF($B$9:$AF$10,"1/2 F")/2) -> 0 | P48: =COUNTIF($B$9:$AF$10,"ST")+(COUNTIF($B$9:$AF$10,"1/2 ST")/2) -> 0 | Q48: =COUNTIF($B$9:$AF$10,"FORM")+(COUNTIF($B$9:$AF$10,"1/2 FORM")/2) -> 0.5 | R48: =COUNTIF($B$9:$AF$10,"EQ")+(COUNTIF($B$9:$AF$10,"1/2 EQ")/2) -> 2 | S48: =COUNTIF($B$9:$AF$10,"CSO")+(COUNTIF($B$9:$AF$10,"1/2 CSO")/2) -> 0 | T48: =COUNTIF($B$9:$AF$10,"FOUR")+(COUNTIF($B$9:$AF$10,"1/2 FOUR")/2) -> 0 | U48: =COUNTIF($B$9:$AF$10,"PR")+(COUNTIF($B$9:$AF$10,"1/2 PR")/2) -> 0 | V48: =COUNTIF($B$9:$AF$10,"AT")+(COUNTIF($B$9:$AF$10,"1/2 AT")/2) -> 0 | AF48: =SUM(B48:AE48) -> 28
A49: Echo | B49: =COUNTIF($B$11:$AF$12,"J")+(COUNTIF($B$11:$AF$12,"1/2 J")/2) -> 0 | C49: =COUNTIF($B$11:$AF$12,"M")+(COUNTIF($B$11:$AF$12,"1/2 M")/2) -> 0 | D49: =COUNTIF($B$11:$AF$12,"AM")+(COUNTIF($B$11:$AF$12,"1/2 AM")/2) -> 0 | E49: =COUNTIF($B$11:$AF$12,"GTPI")+(COUNTIF($B$11:$AF$12,"1/2 GTPI")/2) -> 0 | F49: =COUNTIF($B$11:$AF$12,"RH")+(COUNTIF($B$11:$AF$12,"1/2 RH")/2) -> 0 | G49: =COUNTIF($B$11:$AF$12,"CA")+(COUNTIF($B$11:$AF$12,"1/2 CA")/2) -> 0 | H49: =COUNTIF($B$11:$AF$12,"RT")+(COUNTIF($B$11:$AF$12,"1/2 RT")/2) -> 0 | I49: =COUNTIF($B$11:$AF$12,"CE")+(COUNTIF($B$11:$AF$12,"1/2 CE")/2) -> 0 | J49: =COUNTIF($B$11:$AF$12,"MO")+(COUNTIF($B$11:$AF$12,"1/2 MO")/2) -> 0 | K49: =COUNTIF($B$11:$AF$12,"CAA")+(COUNTIF($B$11:$AF$12,"1/2 CAA")/2) -> 0 | L49: =COUNTIF($B$11:$AF$12,"EF")+(COUNTIF($B$11:$AF$12,"1/2 EF")/2) -> 0 | M49: =COUNTIF($B$11:$AF$12,"HSR")+(COUNTIF($B$11:$AF$12,"1/2 HSR")/2) -> 0 | N49: =COUNTIF($B$11:$AF$12,"EM")+(COUNTIF($B$11:$AF$12,"1/2 EM")/2) -> 0 | O49: =COUNTIF($B$11:$AF$12,"F")+(COUNTIF($B$11:$AF$12,"1/2 F")/2) -> 0 | P49: =COUNTIF($B$11:$AF$12,"ST")+(COUNTIF($B$11:$AF$12,"1/2 ST")/2) -> 0 | Q49: =COUNTIF($B$11:$AF$12,"FORM")+(COUNTIF($B$11:$AF$12,"1/2 FORM")/2) -> 0 | R49: =COUNTIF($B$11:$AF$12,"EQ")+(COUNTIF($B$11:$AF$12,"1/2 EQ")/2) -> 0 | S49: =COUNTIF($B$11:$AF$12,"CSO")+(COUNTIF($B$11:$AF$12,"1/2 CSO")/2) -> 0 | T49: =COUNTIF($B$11:$AF$12,"FOUR")+(COUNTIF($B$11:$AF$12,"1/2 FOUR")/2) -> 0 | U49: =COUNTIF($B$11:$AF$12,"PR")+(COUNTIF($B$11:$AF$12,"1/2 PR")/2) -> 0 | V49: =COUNTIF($B$11:$AF$12,"AT")+(COUNTIF($B$11:$AF$12,"1/2 AT")/2) -> 28 | AF49: =SUM(B49:AE49) -> 28
B50: =COUNTIF($B$13:$AF$14,"J")+(COUNTIF($B$13:$AF$14,"1/2 J")/2) -> 0 | C50: =COUNTIF($B$13:$AF$14,"M")+(COUNTIF($B$13:$AF$14,"1/2 M")/2) -> 0 | D50: =COUNTIF($B$13:$AF$14,"AM")+(COUNTIF($B$13:$AF$14,"1/2 AM")/2) -> 0 | E50: =COUNTIF($B$13:$AF$14,"GTPI")+(COUNTIF($B$13:$AF$14,"1/2 GTPI")/2) -> 0 | F50: =COUNTIF($B$13:$AF$14,"RH")+(COUNTIF($B$13:$AF$14,"1/2 RH")/2) -> 0 | G50: =COUNTIF($B$13:$AF$14,"CA")+(COUNTIF($B$13:$AF$14,"1/2 CA")/2) -> 0 | H50: =COUNTIF($B$13:$AF$14,"RT")+(COUNTIF($B$13:$AF$14,"1/2 RT")/2) -> 0 | I50: =COUNTIF($B$13:$AF$14,"CE")+(COUNTIF($B$13:$AF$14,"1/2 CE")/2) -> 0 | J50: =COUNTIF($B$13:$AF$14,"MO")+(COUNTIF($B$13:$AF$14,"1/2 MO")/2) -> 0 | K50: =COUNTIF($B$13:$AF$14,"CAA")+(COUNTIF($B$13:$AF$14,"1/2 CAA")/2) -> 0 | L50: =COUNTIF($B$13:$AF$14,"EF")+(COUNTIF($B$13:$AF$14,"1/2 EF")/2) -> 0 | M50: =COUNTIF($B$13:$AF$14,"HSR")+(COUNTIF($B$13:$AF$14,"1/2 HSR")/2) -> 0 | N50: =COUNTIF($B$13:$AF$14,"EM")+(COUNTIF($B$13:$AF$14,"1/2 EM")/2) -> 0 | O50: =COUNTIF($B$13:$AF$14,"F")+(COUNTIF($B$13:$AF$14,"1/2 F")/2) -> 0 | P50: =COUNTIF($B$13:$AF$14,"ST")+(COUNTIF($B$13:$AF$14,"1/2 ST")/2) -> 0 | Q50: =COUNTIF($B$13:$AF$14,"FORM")+(COUNTIF($B$13:$AF$14,"1/2 FORM")/2) -> 0 | R50: =COUNTIF($B$13:$AF$14,"EQ")+(COUNTIF($B$13:$AF$14,"1/2 EQ")/2) -> 0 | S50: =COUNTIF($B$13:$AF$14,"CSO")+(COUNTIF($B$13:$AF$14,"1/2 CSO")/2) -> 0 | T50: =COUNTIF($B$13:$AF$14,"FOUR")+(COUNTIF($B$13:$AF$14,"1/2 FOUR")/2) -> 0 | U50: =COUNTIF($B$13:$AF$14,"PR")+(COUNTIF($B$13:$AF$14,"1/2 PR")/2) -> 0 | V50: =COUNTIF($B$13:$AF$14,"AT")+(COUNTIF($B$13:$AF$14,"1/2 AT")/2) -> 0 | AF50: =SUM(B50:AE50) -> 0
B51: =COUNTIF($B$15:$AF$16,"J")+(COUNTIF($B$15:$AF$16,"1/2 J")/2) -> 0 | C51: =COUNTIF($B$15:$AF$16,"M")+(COUNTIF($B$15:$AF$16,"1/2 M")/2) -> 0 | D51: =COUNTIF($B$15:$AF$16,"AM")+(COUNTIF($B$15:$AF$16,"1/2 AM")/2) -> 0 | E51: =COUNTIF($B$15:$AF$16,"GTPI")+(COUNTIF($B$15:$AF$16,"1/2 GTPI")/2) -> 0 | F51: =COUNTIF($B$15:$AF$16,"RH")+(COUNTIF($B$15:$AF$16,"1/2 RH")/2) -> 0 | G51: =COUNTIF($B$15:$AF$16,"CA")+(COUNTIF($B$15:$AF$16,"1/2 CA")/2) -> 0 | H51: =COUNTIF($B$15:$AF$16,"RT")+(COUNTIF($B$15:$AF$16,"1/2 RT")/2) -> 0 | I51: =COUNTIF($B$15:$AF$16,"CE")+(COUNTIF($B$15:$AF$16,"1/2 CE")/2) -> 0 | J51: =COUNTIF($B$15:$AF$16,"MO")+(COUNTIF($B$15:$AF$16,"1/2 MO")/2) -> 0 | K51: =COUNTIF($B$15:$AF$16,"CAA")+(COUNTIF($B$15:$AF$16,"1/2 CAA")/2) -> 0 | L51: =COUNTIF($B$15:$AF$16,"EF")+(COUNTIF($B$15:$AF$16,"1/2 EF")/2) -> 0 | M51: =COUNTIF($B$15:$AF$16,"HSR")+(COUNTIF($B$15:$AF$16,"1/2 HSR")/2) -> 0 | N51: =COUNTIF($B$15:$AF$16,"EM")+(COUNTIF($B$15:$AF$16,"1/2 EM")/2) -> 0 | O51: =COUNTIF($B$15:$AF$16,"F")+(COUNTIF($B$15:$AF$16,"1/2 F")/2) -> 0 | P51: =COUNTIF($B$15:$AF$16,"ST")+(COUNTIF($B$15:$AF$16,"1/2 ST")/2) -> 0 | Q51: =COUNTIF($B$15:$AF$16,"FORM")+(COUNTIF($B$15:$AF$16,"1/2 FORM")/2) -> 0 | R51: =COUNTIF($B$15:$AF$16,"EQ")+(COUNTIF($B$15:$AF$16,"1/2 EQ")/2) -> 0 | S51: =COUNTIF($B$15:$AF$16,"CSO")+(COUNTIF($B$15:$AF$16,"1/2 CSO")/2) -> 0 | T51: =COUNTIF($B$15:$AF$16,"FOUR")+(COUNTIF($B$15:$AF$16,"1/2 FOUR")/2) -> 0 | U51: =COUNTIF($B$15:$AF$16,"PR")+(COUNTIF($B$15:$AF$16,"1/2 PR")/2) -> 0 | V51: =COUNTIF($B$15:$AF$16,"AT")+(COUNTIF($B$15:$AF$16,"1/2 AT")/2) -> 0 | AF51: =SUM(B51:AE51) -> 0
A52: Foxtrot | B52: =COUNTIF($B$17:$AF$18,"J")+(COUNTIF($B$17:$AF$18,"1/2 J")/2) -> 0 | C52: =COUNTIF($B$17:$AF$18,"M")+(COUNTIF($B$17:$AF$18,"1/2 M")/2) -> 7.5 | D52: =COUNTIF($B$17:$AF$18,"AM")+(COUNTIF($B$17:$AF$18,"1/2 AM")/2) -> 13 | E52: =COUNTIF($B$17:$AF$18,"GTPI")+(COUNTIF($B$17:$AF$18,"1/2 GTPI")/2) -> 0 | F52: =COUNTIF($B$17:$AF$18,"RH")+(COUNTIF($B$17:$AF$18,"1/2 RH")/2) -> 7 | G52: =COUNTIF($B$17:$AF$18,"CA")+(COUNTIF($B$17:$AF$18,"1/2 CA")/2) -> 0 | H52: =COUNTIF($B$17:$AF$18,"RT")+(COUNTIF($B$17:$AF$18,"1/2 RT")/2) -> 0 | I52: =COUNTIF($B$17:$AF$18,"CE")+(COUNTIF($B$17:$AF$18,"1/2 CE")/2) -> 0 | J52: =COUNTIF($B$17:$AF$18,"MO")+(COUNTIF($B$17:$AF$18,"1/2 MO")/2) -> 0 | K52: =COUNTIF($B$17:$AF$18,"CAA")+(COUNTIF($B$17:$AF$18,"1/2 CAA")/2) -> 0 | L52: =COUNTIF($B$17:$AF$18,"EF")+(COUNTIF($B$17:$AF$18,"1/2 EF")/2) -> 0 | M52: =COUNTIF($B$17:$AF$18,"HSR")+(COUNTIF($B$17:$AF$18,"1/2 HSR")/2) -> 0 | N52: =COUNTIF($B$17:$AF$18,"EM")+(COUNTIF($B$17:$AF$18,"1/2 EM")/2) -> 0 | O52: =COUNTIF($B$17:$AF$18,"F")+(COUNTIF($B$17:$AF$18,"1/2 F")/2) -> 0 | P52: =COUNTIF($B$17:$AF$18,"ST")+(COUNTIF($B$17:$AF$18,"1/2 ST")/2) -> 0 | Q52: =COUNTIF($B$17:$AF$18,"FORM")+(COUNTIF($B$17:$AF$18,"1/2 FORM")/2) -> 0.5 | R52: =COUNTIF($B$17:$AF$18,"EQ")+(COUNTIF($B$17:$AF$18,"1/2 EQ")/2) -> 0 | S52: =COUNTIF($B$17:$AF$18,"CSO")+(COUNTIF($B$17:$AF$18,"1/2 CSO")/2) -> 0 | T52: =COUNTIF($B$17:$AF$18,"FOUR")+(COUNTIF($B$17:$AF$18,"1/2 FOUR")/2) -> 0 | U52: =COUNTIF($B$17:$AF$18,"PR")+(COUNTIF($B$17:$AF$18,"1/2 PR")/2) -> 0 | V52: =COUNTIF($B$17:$AF$18,"AT")+(COUNTIF($B$17:$AF$18,"1/2 AT")/2) -> 0 | AF52: =SUM(B52:AE52) -> 28
A53: Golf | B53: =COUNTIF($B$19:$AF$20,"J")+(COUNTIF($B$19:$AF$20,"1/2 J")/2) -> 0 | C53: =COUNTIF($B$19:$AF$20,"M")+(COUNTIF($B$19:$AF$20,"1/2 M")/2) -> 7.5 | D53: =COUNTIF($B$19:$AF$20,"AM")+(COUNTIF($B$19:$AF$20,"1/2 AM")/2) -> 8.5 | E53: =COUNTIF($B$19:$AF$20,"GTPI")+(COUNTIF($B$19:$AF$20,"1/2 GTPI")/2) -> 0 | F53: =COUNTIF($B$19:$AF$20,"RH")+(COUNTIF($B$19:$AF$20,"1/2 RH")/2) -> 7 | G53: =COUNTIF($B$19:$AF$20,"CA")+(COUNTIF($B$19:$AF$20,"1/2 CA")/2) -> 3 | H53: =COUNTIF($B$19:$AF$20,"RT")+(COUNTIF($B$19:$AF$20,"1/2 RT")/2) -> 2 | I53: =COUNTIF($B$19:$AF$20,"CE")+(COUNTIF($B$19:$AF$20,"1/2 CE")/2) -> 0 | J53: =COUNTIF($B$19:$AF$20,"MO")+(COUNTIF($B$19:$AF$20,"1/2 MO")/2) -> 0 | K53: =COUNTIF($B$19:$AF$20,"CAA")+(COUNTIF($B$19:$AF$20,"1/2 CAA")/2) -> 0 | L53: =COUNTIF($B$19:$AF$20,"EF")+(COUNTIF($B$19:$AF$20,"1/2 EF")/2) -> 0 | M53: =COUNTIF($B$19:$AF$20,"HSR")+(COUNTIF($B$19:$AF$20,"1/2 HSR")/2) -> 0 | N53: =COUNTIF($B$19:$AF$20,"EM")+(COUNTIF($B$19:$AF$20,"1/2 EM")/2) -> 0 | O53: =COUNTIF($B$19:$AF$20,"F")+(COUNTIF($B$19:$AF$20,"1/2 F")/2) -> 0 | P53: =COUNTIF($B$19:$AF$20,"ST")+(COUNTIF($B$19:$AF$20,"1/2 ST")/2) -> 0 | Q53: =COUNTIF($B$19:$AF$20,"FORM")+(COUNTIF($B$19:$AF$20,"1/2 FORM")/2) -> 0 | R53: =COUNTIF($B$19:$AF$20,"EQ")+(COUNTIF($B$19:$AF$20,"1/2 EQ")/2) -> 0 | S53: =COUNTIF($B$19:$AF$20,"CSO")+(COUNTIF($B$19:$AF$20,"1/2 CSO")/2) -> 0 | T53: =COUNTIF($B$19:$AF$20,"FOUR")+(COUNTIF($B$19:$AF$20,"1/2 FOUR")/2) -> 0 | U53: =COUNTIF($B$19:$AF$20,"PR")+(COUNTIF($B$19:$AF$20,"1/2 PR")/2) -> 0 | V53: =COUNTIF($B$19:$AF$20,"AT")+(COUNTIF($B$19:$AF$20,"1/2 AT")/2) -> 0 | AF53: =SUM(B53:AE53) -> 28
A54: Hotel | B54: =COUNTIF($B$21:$AF$22,"J")+(COUNTIF($B$21:$AF$22,"1/2 J")/2) -> 0 | C54: =COUNTIF($B$21:$AF$22,"M")+(COUNTIF($B$21:$AF$22,"1/2 M")/2) -> 3 | D54: =COUNTIF($B$21:$AF$22,"AM")+(COUNTIF($B$21:$AF$22,"1/2 AM")/2) -> 13 | E54: =COUNTIF($B$21:$AF$22,"GTPI")+(COUNTIF($B$21:$AF$22,"1/2 GTPI")/2) -> 0 | F54: =COUNTIF($B$21:$AF$22,"RH")+(COUNTIF($B$21:$AF$22,"1/2 RH")/2) -> 7 | G54: =COUNTIF($B$21:$AF$22,"CA")+(COUNTIF($B$21:$AF$22,"1/2 CA")/2) -> 5 | H54: =COUNTIF($B$21:$AF$22,"RT")+(COUNTIF($B$21:$AF$22,"1/2 RT")/2) -> 0 | I54: =COUNTIF($B$21:$AF$22,"CE")+(COUNTIF($B$21:$AF$22,"1/2 CE")/2) -> 0 | J54: =COUNTIF($B$21:$AF$22,"MO")+(COUNTIF($B$21:$AF$22,"1/2 MO")/2) -> 0 | K54: =COUNTIF($B$21:$AF$22,"CAA")+(COUNTIF($B$21:$AF$22,"1/2 CAA")/2) -> 0 | L54: =COUNTIF($B$21:$AF$22,"EF")+(COUNTIF($B$21:$AF$22,"1/2 EF")/2) -> 0 | M54: =COUNTIF($B$21:$AF$22,"HSR")+(COUNTIF($B$21:$AF$22,"1/2 HSR")/2) -> 0 | N54: =COUNTIF($B$21:$AF$22,"EM")+(COUNTIF($B$21:$AF$22,"1/2 EM")/2) -> 0 | O54: =COUNTIF($B$21:$AF$22,"F")+(COUNTIF($B$21:$AF$22,"1/2 F")/2) -> 0 | P54: =COUNTIF($B$21:$AF$22,"ST")+(COUNTIF($B$21:$AF$22,"1/2 ST")/2) -> 0 | Q54: =COUNTIF($B$21:$AF$22,"FORM")+(COUNTIF($B$21:$AF$22,"1/2 FORM")/2) -> 0 | R54: =COUNTIF($B$21:$AF$22,"EQ")+(COUNTIF($B$21:$AF$22,"1/2 EQ")/2) -> 0 | S54: =COUNTIF($B$21:$AF$22,"CSO")+(COUNTIF($B$21:$AF$22,"1/2 CSO")/2) -> 0 | T54: =COUNTIF($B$21:$AF$22,"FOUR")+(COUNTIF($B$21:$AF$22,"1/2 FOUR")/2) -> 0 | U54: =COUNTIF($B$21:$AF$22,"PR")+(COUNTIF($B$21:$AF$22,"1/2 PR")/2) -> 0 | V54: =COUNTIF($B$21:$AF$22,"AT")+(COUNTIF($B$21:$AF$22,"1/2 AT")/2) -> 0 | AF54: =SUM(B54:AE54) -> 28
A55: India | B55: =COUNTIF($B$23:$AF$24,"J")+(COUNTIF($B$23:$AF$24,"1/2 J")/2) -> 0 | C55: =COUNTIF($B$23:$AF$24,"M")+(COUNTIF($B$23:$AF$24,"1/2 M")/2) -> 0 | D55: =COUNTIF($B$23:$AF$24,"AM")+(COUNTIF($B$23:$AF$24,"1/2 AM")/2) -> 0 | E55: =COUNTIF($B$23:$AF$24,"GTPI")+(COUNTIF($B$23:$AF$24,"1/2 GTPI")/2) -> 0 | F55: =COUNTIF($B$23:$AF$24,"RH")+(COUNTIF($B$23:$AF$24,"1/2 RH")/2) -> 0 | G55: =COUNTIF($B$23:$AF$24,"CA")+(COUNTIF($B$23:$AF$24,"1/2 CA")/2) -> 0 | H55: =COUNTIF($B$23:$AF$24,"RT")+(COUNTIF($B$23:$AF$24,"1/2 RT")/2) -> 0 | I55: =COUNTIF($B$23:$AF$24,"CE")+(COUNTIF($B$23:$AF$24,"1/2 CE")/2) -> 0 | J55: =COUNTIF($B$23:$AF$24,"MO")+(COUNTIF($B$23:$AF$24,"1/2 MO")/2) -> 0 | K55: =COUNTIF($B$23:$AF$24,"CAA")+(COUNTIF($B$23:$AF$24,"1/2 CAA")/2) -> 0 | L55: =COUNTIF($B$23:$AF$24,"EF")+(COUNTIF($B$23:$AF$24,"1/2 EF")/2) -> 0 | M55: =COUNTIF($B$23:$AF$24,"HSR")+(COUNTIF($B$23:$AF$24,"1/2 HSR")/2) -> 0 | N55: =COUNTIF($B$23:$AF$24,"EM")+(COUNTIF($B$23:$AF$24,"1/2 EM")/2) -> 0 | O55: =COUNTIF($B$23:$AF$24,"F")+(COUNTIF($B$23:$AF$24,"1/2 F")/2) -> 0 | P55: =COUNTIF($B$23:$AF$24,"ST")+(COUNTIF($B$23:$AF$24,"1/2 ST")/2) -> 0 | Q55: =COUNTIF($B$23:$AF$24,"FORM")+(COUNTIF($B$23:$AF$24,"1/2 FORM")/2) -> 0 | R55: =COUNTIF($B$23:$AF$24,"EQ")+(COUNTIF($B$23:$AF$24,"1/2 EQ")/2) -> 0 | S55: =COUNTIF($B$23:$AF$24,"CSO")+(COUNTIF($B$23:$AF$24,"1/2 CSO")/2) -> 0 | T55: =COUNTIF($B$23:$AF$24,"FOUR")+(COUNTIF($B$23:$AF$24,"1/2 FOUR")/2) -> 0 | U55: =COUNTIF($B$23:$AF$24,"PR")+(COUNTIF($B$23:$AF$24,"1/2 PR")/2) -> 0 | V55: =COUNTIF($B$23:$AF$24,"AT")+(COUNTIF($B$23:$AF$24,"1/2 AT")/2) -> 0 | AF55: =SUM(B55:AE55) -> 0
B56: =COUNTIF($B$25:$AF$26,"J")+(COUNTIF($B$25:$AF$26,"1/2 J")/2) -> 0 | C56: =COUNTIF($B$25:$AF$26,"M")+(COUNTIF($B$25:$AF$26,"1/2 M")/2) -> 0 | D56: =COUNTIF($B$25:$AF$26,"AM")+(COUNTIF($B$25:$AF$26,"1/2 AM")/2) -> 0 | E56: =COUNTIF($B$25:$AF$26,"GTPI")+(COUNTIF($B$25:$AF$26,"1/2 GTPI")/2) -> 0 | F56: =COUNTIF($B$25:$AF$26,"RH")+(COUNTIF($B$25:$AF$26,"1/2 RH")/2) -> 0 | G56: =COUNTIF($B$25:$AF$26,"CA")+(COUNTIF($B$25:$AF$26,"1/2 CA")/2) -> 0 | H56: =COUNTIF($B$25:$AF$26,"RT")+(COUNTIF($B$25:$AF$26,"1/2 RT")/2) -> 0 | I56: =COUNTIF($B$25:$AF$26,"CE")+(COUNTIF($B$25:$AF$26,"1/2 CE")/2) -> 0 | J56: =COUNTIF($B$25:$AF$26,"MO")+(COUNTIF($B$25:$AF$26,"1/2 MO")/2) -> 0 | K56: =COUNTIF($B$25:$AF$26,"CAA")+(COUNTIF($B$25:$AF$26,"1/2 CAA")/2) -> 0 | L56: =COUNTIF($B$25:$AF$26,"EF")+(COUNTIF($B$25:$AF$26,"1/2 EF")/2) -> 0 | M56: =COUNTIF($B$25:$AF$26,"HSR")+(COUNTIF($B$25:$AF$26,"1/2 HSR")/2) -> 0 | N56: =COUNTIF($B$25:$AF$26,"EM")+(COUNTIF($B$25:$AF$26,"1/2 EM")/2) -> 0 | O56: =COUNTIF($B$25:$AF$26,"F")+(COUNTIF($B$25:$AF$26,"1/2 F")/2) -> 0 | P56: =COUNTIF($B$25:$AF$26,"ST")+(COUNTIF($B$25:$AF$26,"1/2 ST")/2) -> 0 | Q56: =COUNTIF($B$25:$AF$26,"FORM")+(COUNTIF($B$25:$AF$26,"1/2 FORM")/2) -> 0 | R56: =COUNTIF($B$25:$AF$26,"EQ")+(COUNTIF($B$25:$AF$26,"1/2 EQ")/2) -> 0 | S56: =COUNTIF($B$25:$AF$26,"CSO")+(COUNTIF($B$25:$AF$26,"1/2 CSO")/2) -> 0 | T56: =COUNTIF($B$25:$AF$26,"FOUR")+(COUNTIF($B$25:$AF$26,"1/2 FOUR")/2) -> 0 | U56: =COUNTIF($B$25:$AF$26,"PR")+(COUNTIF($B$25:$AF$26,"1/2 PR")/2) -> 0 | V56: =COUNTIF($B$25:$AF$26,"AT")+(COUNTIF($B$25:$AF$26,"1/2 AT")/2) -> 0 | AF56: =SUM(B56:AE56) -> 0
B57: =COUNTIF($B$29:$AF$30,"J")+(COUNTIF($B$29:$AF$30,"1/2 J")/2) -> 0 | C57: =COUNTIF($B$29:$AF$30,"M")+(COUNTIF($B$29:$AF$30,"1/2 M")/2) -> 0 | D57: =COUNTIF($B$29:$AF$30,"AM")+(COUNTIF($B$29:$AF$30,"1/2 AM")/2) -> 0 | E57: =COUNTIF($B$29:$AF$30,"GTPI")+(COUNTIF($B$29:$AF$30,"1/2 GTPI")/2) -> 0 | F57: =COUNTIF($B$29:$AF$30,"RH")+(COUNTIF($B$29:$AF$30,"1/2 RH")/2) -> 0 | G57: =COUNTIF($B$29:$AF$30,"CA")+(COUNTIF($B$29:$AF$30,"1/2 CA")/2) -> 0 | H57: =COUNTIF($B$29:$AF$30,"RT")+(COUNTIF($B$29:$AF$30,"1/2 RT")/2) -> 0 | I57: =COUNTIF($B$29:$AF$30,"CE")+(COUNTIF($B$29:$AF$30,"1/2 CE")/2) -> 0 | J57: =COUNTIF($B$29:$AF$30,"MO")+(COUNTIF($B$29:$AF$30,"1/2 MO")/2) -> 0 | K57: =COUNTIF($B$29:$AF$30,"CAA")+(COUNTIF($B$29:$AF$30,"1/2 CAA")/2) -> 0 | L57: =COUNTIF($B$29:$AF$30,"EF")+(COUNTIF($B$29:$AF$30,"1/2 EF")/2) -> 0 | M57: =COUNTIF($B$29:$AF$30,"HSR")+(COUNTIF($B$29:$AF$30,"1/2 HSR")/2) -> 0 | N57: =COUNTIF($B$29:$AF$30,"EM")+(COUNTIF($B$29:$AF$30,"1/2 EM")/2) -> 0 | O57: =COUNTIF($B$29:$AF$30,"F")+(COUNTIF($B$29:$AF$30,"1/2 F")/2) -> 0 | P57: =COUNTIF($B$29:$AF$30,"ST")+(COUNTIF($B$29:$AF$30,"1/2 ST")/2) -> 0 | Q57: =COUNTIF($B$29:$AF$30,"FORM")+(COUNTIF($B$29:$AF$30,"1/2 FORM")/2) -> 0 | R57: =COUNTIF($B$29:$AF$30,"EQ")+(COUNTIF($B$29:$AF$30,"1/2 EQ")/2) -> 0 | S57: =COUNTIF($B$29:$AF$30,"CSO")+(COUNTIF($B$29:$AF$30,"1/2 CSO")/2) -> 0 | T57: =COUNTIF($B$29:$AF$30,"FOUR")+(COUNTIF($B$29:$AF$30,"1/2 FOUR")/2) -> 0 | U57: =COUNTIF($B$29:$AF$30,"PR")+(COUNTIF($B$29:$AF$30,"1/2 PR")/2) -> 0 | V57: =COUNTIF($B$29:$AF$30,"AT")+(COUNTIF($B$29:$AF$30,"1/2 AT")/2) -> 0 | AF57: =SUM(B57:AE57) -> 0

Sheet Mars
A1: MARS
B2: Vacances scolaires
B3: 1 | C3: 2 | D3: 3 | E3: 4 | F3: 5 | G3: 6 | H3: 7 | I3: 8 | J3: 9 | K3: 10 | L3: 11 | M3: 12 | N3: 13 | O3: 14 | P3: 15 | Q3: 16 | R3: 17 | S3: 18 | T3: 19 | U3: 20 | V3: 21 | W3: 22 | X3: 23 | Y3: 24 | Z3: 25 | AA3: 26 | AB3: 27 | AC3: 28 | AD3: 29 | AE3: 30 | AF3: 31
B4: D | C4: L | D4: M | E4: M | F4: J | G4: V | H4: S | I4: D | J4: L | K4: M | L4: M | M4: J | N4: V | O4: S | P4: D | Q4: L | R4: M | S4: M | T4: J | U4: V | V4: S | W4: D | X4: L | Y4: M | Z4: M | AA4: J | AB4: V | AC4: S | AD4: D | AE4: L | AF4: M
A5: Alpha | B5: RH | C5: CA | D5: CA
A7: Bravo | C7: RT | D7: AM | E7: AM | F7: AM | G7: AM | H7: AM | I7: RH | J7: RH | K7: M | L7: M | M7: M | N7: M | O7: RH | P7: RH | Q7: AM | R7: AM | S7: AM | T7: AM | U7: AM | V7: AM | W7: RH | X7: RH | Y7: M | Z7: M | AA7: RT | AB7: RT | AC7: RH | AD7: RH | AE7: CA | AF7: CA
B8: AM
A9: Charlie | B9: RH | C9: AM | D9: AM | E9: AM | F9: AM | G9: AM | H9: AM | I9: RH | J9: RH | K9: M | L9: 1/2 M | M9: M | N9: M | O9: RH | P9: RH | Q9: AM | R9: AM | S9: AM | T9: AM | U9: AM | V9: AM | W9: RH | X9: RH | Y9: M | Z9: 1/2 M | AA9: M | AB9: M | AC9: RH | AD9: RH | AE9: AM | AF9: AM
L10: 1/2 RT | Z10: 1/2 RT
A11: Delta | B11: RH | C11: AM | D11: AM | E11: AM | F11: AM | G11: AM | H11: CA | J11: RH | K11: M | L11: M | M11: M | N11: M | O11: RH | P11: RH | Q11: AM | R11: AM | S11: AM | T11: AM | U11: AM | V11: AM | W11: RH | X11: RH | Y11: M | Z11: M | AA11: M | AB11: M | AC11: RH | AD11: RH | AE11: AM | AF11: AM
I12: AM
A13: Echo | B13: AT | C13: AT | D13: AT | E13: AT | F13: AT | G13: AT | H13: AT | I13: AT | J13: AT | K13: AT | L13: AT | M13: AT | N13: AT | O13: AT | P13: AT | Q13: AT | R13: AT | S13: AT | T13: AT | U13: AT | V13: AT | W13: AT | X13: AT | Y13: AT | Z13: AT | AA13: AT | AB13: AT | AC13: AT | AD13: AT | AE13: AT | AF13: AT
A19: Foxtrot | B19: RH | C19: RH | D19: M | E19: M | F19: M | G19: M | H19: RH | I19: RH | J19: AM | K19: AM | L19: AM | M19: AM | N19: AM | O19: CA | P19: RH | Q19: RH | R19: M | S19: M | T19: M | U19: M | V19: RH | W19: RH | X19: AM | Y19: AM | Z19: AM | AA19: AM | AB19: AM | AC19: AM | AD19: RH | AE19: RH | AF19: M
A21: Golf | B21: RH | C21: RH | D21: M | E21: M | F21: RT | G21: M | H21: RH | J21: AM | K21: RT | L21: AM | M21: AM | N21: AM | O21: AM | P21: RH | Q21: RH | R21: M | S21: M | T21: M | U21: M | V21: RH | W21: M | X21: AM | Y21: AM | Z21: AM | AA21: RT | AB21: AM | AC21: AM | AE21: RH | AF21: M
I22: AM | AD22: AM
A23: Hotel | C23: RH | D23: M | E23: M | F23: M | G23: M | H23: RH | I23: RH | J23: RT | K23: AM | L23: AM | M23: AM | N23: AM | O23: AM | P23: RH | Q23: RH | R23: M | S23: M | T23: M | U23: M | V23: RH | W23: RH | X23: CA | Y23: AM | Z23: AM | AA23: AM | AB23: AM | AC23: AM | AE23: RH | AF23: M
B24: AM | AD24: AM
A25: India
A31: Présents | B31: =COUNTIF(B5:B30,"J")+(COUNTIF(B5:B30,"1/2 J")/2)+COUNTIF(B5:B30,"M")+(COUNTIF(B5:B30,"1/2 M")/2)+COUNTIF(B5:B30,"AM")+(COUNTIF(B5:B30,"1/2 AM")/2)+COUNTIF(B5:B30,"GTPI")+(COUNTIF(B5:B30,"1/2 GTPI")/2)+COUNTIF(B5:B30,"ZB")+(COUNTIF(B5:B30,"1/2 ZB")/2)+COUNTIF(B5:B30,"ZC")+(COUNTIF(B5:B30,"1/2 ZC")/2)+COUNTIF(B5:B30,"ZD")+(COUNTIF(B5:B30,"1/2 ZD")/2) -> 2 | C31: =COUNTIF(C5:C30,"J")+(COUNTIF(C5:C30,"1/2 J")/2)+COUNTIF(C5:C30,"M")+(COUNTIF(C5:C30,"1/2 M")/2)+COUNTIF(C5:C30,"AM")+(COUNTIF(C5:C30,"1/2 AM")/2)+COUNTIF(C5:C30,"GTPI")+(COUNTIF(C5:C30,"1/2 GTPI")/2)+COUNTIF(C5:C30,"ZB")+(COUNTIF(C5:C30,"1/2 ZB")/2)+COUNTIF(C5:C30,"ZC")+(COUNTIF(C5:C30,"1/2 ZC")/2)+COUNTIF(C5:C30,"ZD")+(COUNTIF(C5:C30,"1/2 ZD")/2) -> 2 | D31: =COUNTIF(D5:D30,"J")+(COUNTIF(D5:D30,"1/2 J")/2)+COUNTIF(D5:D30,"M")+(COUNTIF(D5:D30,"1/2 M")/2)+COUNTIF(D5:D30,"AM")+(COUNTIF(D5:D30,"1/2 AM")/2)+COUNTIF(D5:D30,"GTPI")+(COUNTIF(D5:D30,"1/2 GTPI")/2)+COUNTIF(D5:D30,"ZB")+(COUNTIF(D5:D30,"1/2 ZB")/2)+COUNTIF(D5:D30,"ZC")+(COUNTIF(D5:D30,"1/2 ZC")/2)+COUNTIF(D5:D30,"ZD")+(COUNTIF(D5:D30,"1/2 ZD")/2) -> 6 | E31: =COUNTIF(E5:E30,"J")+(COUNTIF(E5:E30,"1/2 J")/2)+COUNTIF(E5:E30,"M")+(COUNTIF(E5:E30,"1/2 M")/2)+COUNTIF(E5:E30,"AM")+(COUNTIF(E5:E30,"1/2 AM")/2)+COUNTIF(E5:E30,"GTPI")+(COUNTIF(E5:E30,"1/2 GTPI")/2)+COUNTIF(E5:E30,"ZB")+(COUNTIF(E5:E30,"1/2 ZB")/2)+COUNTIF(E5:E30,"ZC")+(COUNTIF(E5:E30,"1/2 ZC")/2)+COUNTIF(E5:E30,"ZD")+(COUNTIF(E5:E30,"1/2 ZD")/2) -> 6 | F31: =COUNTIF(F5:F30,"J")+(COUNTIF(F5:F30,"1/2 J")/2)+COUNTIF(F5:F30,"M")+(COUNTIF(F5:F30,"1/2 M")/2)+COUNTIF(F5:F30,"AM")+(COUNTIF(F5:F30,"1/2 AM")/2)+COUNTIF(F5:F30,"GTPI")+(COUNTIF(F5:F30,"1/2 GTPI")/2)+COUNTIF(F5:F30,"ZB")+(COUNTIF(F5:F30,"1/2 ZB")/2)+COUNTIF(F5:F30,"ZC")+(COUNTIF(F5:F30,"1/2 ZC")/2)+COUNTIF(F5:F30,"ZD")+(COUNTIF(F5:F30,"1/2 ZD")/2) -> 5 | G31: =COUNTIF(G5:G30,"J")+(COUNTIF(G5:G30,"1/2 J")/2)+COUNTIF(G5:G30,"M")+(COUNTIF(G5:G30,"1/2 M")/2)+COUNTIF(G5:G30,"AM")+(COUNTIF(G5:G30,"1/2 AM")/2)+COUNTIF(G5:G30,"GTPI")+(COUNTIF(G5:G30,"1/2 GTPI")/2)+COUNTIF(G5:G30,"ZB")+(COUNTIF(G5:G30,"1/2 ZB")/2)+COUNTIF(G5:G30,"ZC")+(COUNTIF(G5:G30,"1/2 ZC")/2)+COUNTIF(G5:G30,"ZD")+(COUNTIF(G5:G30,"1/2 ZD")/2) -> 6 | H31: =COUNTIF(H5:H30,"J")+(COUNTIF(H5:H30,"1/2 J")/2)+COUNTIF(H5:H30,"M")+(COUNTIF(H5:H30,"1/2 M")/2)+COUNTIF(H5:H30,"AM")+(COUNTIF(H5:H30,"1/2 AM")/2)+COUNTIF(H5:H30,"GTPI")+(COUNTIF(H5:H30,"1/2 GTPI")/2)+COUNTIF(H5:H30,"ZB")+(COUNTIF(H5:H30,"1/2 ZB")/2)+COUNTIF(H5:H30,"ZC")+(COUNTIF(H5:H30,"1/2 ZC")/2)+COUNTIF(H5:H30,"ZD")+(COUNTIF(H5:H30,"1/2 ZD")/2) -> 2 | I31: =COUNTIF(I5:I30,"J")+(COUNTIF(I5:I30,"1/2 J")/2)+COUNTIF(I5:I30,"M")+(COUNTIF(I5:I30,"1/2 M")/2)+COUNTIF(I5:I30,"AM")+(COUNTIF(I5:I30,"1/2 AM")/2)+COUNTIF(I5:I30,"GTPI")+(COUNTIF(I5:I30,"1/2 GTPI")/2)+COUNTIF(I5:I30,"ZB")+(COUNTIF(I5:I30,"1/2 ZB")/2)+COUNTIF(I5:I30,"ZC")+(COUNTIF(I5:I30,"1/2 ZC")/2)+COUNTIF(I5:I30,"ZD")+(COUNTIF(I5:I30,"1/2 ZD")/2) -> 2 | ... AF31: =COUNTIF(AF5:AF30,"J")+(COUNTIF(AF5:AF30,"1/2 J")/2)+COUNTIF(AF5:AF30,"M")+(COUNTIF(AF5:AF30,"1/2 M")/2)+COUNTIF(AF5:AF30,"AM")+(COUNTIF(AF5:AF30,"1/2 AM")/2)+COUNTIF(AF5:AF30,"GTPI")+(COUNTIF(AF5:AF30,"1/2 GTPI")/2)+COUNTIF(AF5:AF30,"ZB")+(COUNTIF(AF5:AF30,"1/2 ZB")/2)+COUNTIF(AF5:AF30,"ZC")+(COUNTIF(AF5:AF30,"1/2 ZC")/2)+COUNTIF(AF5:AF30,"ZD")+(COUNTIF(AF5:AF30,"1/2 ZD")/2) -> 5
A32: Absents | B32: =COUNTIF(B5:B30,"RH")+(COUNTIF(B5:B30,"1/2 RH")/2)+COUNTIF(B5:B30,"CA")+(COUNTIF(B5:B30,"1/2 CA")/2)+COUNTIF(B5:B30,"RT")+(COUNTIF(B5:B30,"1/2 RT")/2)+COUNTIF(B5:B30,"CE")+(COUNTIF(B5:B30,"1/2 CE")/2)+COUNTIF(B5:B30,"MO")+(COUNTIF(B5:B30,"1/2 MO")/2)+COUNTIF(B5:B30,"CAA")+(COUNTIF(B5:B30,"1/2 CAA")/2)+COUNTIF(B5:B30,"EF")+(COUNTIF(B5:B30,"1/2 EF")/2)+COUNTIF(B5:B30,"HSR")+(COUNTIF(B5:B30,"1/2 HSR")/2)+COUNTIF(B5:B30,"EM")+(COUNTIF(B5:B30,"1/2 EM")/2)+COUNTIF(B5:B30,"F")+(COUNTIF(B5:B30,"1/2 F")/2)+COUNTIF(B5:B30,"AT")+(COUNTIF(B5:B30,"1/2 AT")/2)+COUNTIF(B5:B30,"ZC")+(COUNTIF(B5:B30,"1/2 ZC")/2)+COUNTIF(B5:B30,"ZD")+(COUNTIF(B5:B30,"1/2 ZD")/2) -> 6 | C32: =COUNTIF(C5:C30,"RH")+(COUNTIF(C5:C30,"1/2 RH")/2)+COUNTIF(C5:C30,"CA")+(COUNTIF(C5:C30,"1/2 CA")/2)+COUNTIF(C5:C30,"RT")+(COUNTIF(C5:C30,"1/2 RT")/2)+COUNTIF(C5:C30,"CE")+(COUNTIF(C5:C30,"1/2 CE")/2)+COUNTIF(C5:C30,"MO")+(COUNTIF(C5:C30,"1/2 MO")/2)+COUNTIF(C5:C30,"CAA")+(COUNTIF(C5:C30,"1/2 CAA")/2)+COUNTIF(C5:C30,"EF")+(COUNTIF(C5:C30,"1/2 EF")/2)+COUNTIF(C5:C30,"HSR")+(COUNTIF(C5:C30,"1/2 HSR")/2)+COUNTIF(C5:C30,"EM")+(COUNTIF(C5:C30,"1/2 EM")/2)+COUNTIF(C5:C30,"F")+(COUNTIF(C5:C30,"1/2 F")/2)+COUNTIF(C5:C30,"AT")+(COUNTIF(C5:C30,"1/2 AT")/2)+COUNTIF(C5:C30,"ZC")+(COUNTIF(C5:C30,"1/2 ZC")/2)+COUNTIF(C5:C30,"ZD")+(COUNTIF(C5:C30,"1/2 ZD")/2) -> 6 | D32: =COUNTIF(D5:D30,"RH")+(COUNTIF(D5:D30,"1/2 RH")/2)+COUNTIF(D5:D30,"CA")+(COUNTIF(D5:D30,"1/2 CA")/2)+COUNTIF(D5:D30,"RT")+(COUNTIF(D5:D30,"1/2 RT")/2)+COUNTIF(D5:D30,"CE")+(COUNTIF(D5:D30,"1/2 CE")/2)+COUNTIF(D5:D30,"MO")+(COUNTIF(D5:D30,"1/2 MO")/2)+COUNTIF(D5:D30,"CAA")+(COUNTIF(D5:D30,"1/2 CAA")/2)+COUNTIF(D5:D30,"EF")+(COUNTIF(D5:D30,"1/2 EF")/2)+COUNTIF(D5:D30,"HSR")+(COUNTIF(D5:D30,"1/2 HSR")/2)+COUNTIF(D5:D30,"EM")+(COUNTIF(D5:D30,"1/2 EM")/2)+COUNTIF(D5:D30,"F")+(COUNTIF(D5:D30,"1/2 F")/2)+COUNTIF(D5:D30,"AT")+(COUNTIF(D5:D30,"1/2 AT")/2)+COUNTIF(D5:D30,"ZC")+(COUNTIF(D5:D30,"1/2 ZC")/2)+COUNTIF(D5:D30,"ZD")+(COUNTIF(D5:D30,"1/2 ZD")/2) -> 2 | E32: =COUNTIF(E5:E30,"RH")+(COUNTIF(E5:E30,"1/2 RH")/2)+COUNTIF(E5:E30,"CA")+(COUNTIF(E5:E30,"1/2 CA")/2)+COUNTIF(E5:E30,"RT")+(COUNTIF(E5:E30,"1/2 RT")/2)+COUNTIF(E5:E30,"CE")+(COUNTIF(E5:E30,"1/2 CE")/2)+COUNTIF(E5:E30,"MO")+(COUNTIF(E5:E30,"1/2 MO")/2)+COUNTIF(E5:E30,"CAA")+(COUNTIF(E5:E30,"1/2 CAA")/2)+COUNTIF(E5:E30,"EF")+(COUNTIF(E5:E30,"1/2 EF")/2)+COUNTIF(E5:E30,"HSR")+(COUNTIF(E5:E30,"1/2 HSR")/2)+COUNTIF(E5:E30,"EM")+(COUNTIF(E5:E30,"1/2 EM")/2)+COUNTIF(E5:E30,"F")+(COUNTIF(E5:E30,"1/2 F")/2)+COUNTIF(E5:E30,"AT")+(COUNTIF(E5:E30,"1/2 AT")/2)+COUNTIF(E5:E30,"ZC")+(COUNTIF(E5:E30,"1/2 ZC")/2)+COUNTIF(E5:E30,"ZD")+(COUNTIF(E5:E30,"1/2 ZD")/2) -> 1 | F32: =COUNTIF(F5:F30,"RH")+(COUNTIF(F5:F30,"1/2 RH")/2)+COUNTIF(F5:F30,"CA")+(COUNTIF(F5:F30,"1/2 CA")/2)+COUNTIF(F5:F30,"RT")+(COUNTIF(F5:F30,"1/2 RT")/2)+COUNTIF(F5:F30,"CE")+(COUNTIF(F5:F30,"1/2 CE")/2)+COUNTIF(F5:F30,"MO")+(COUNTIF(F5:F30,"1/2 MO")/2)+COUNTIF(F5:F30,"CAA")+(COUNTIF(F5:F30,"1/2 CAA")/2)+COUNTIF(F5:F30,"EF")+(COUNTIF(F5:F30,"1/2 EF")/2)+COUNTIF(F5:F30,"HSR")+(COUNTIF(F5:F30,"1/2 HSR")/2)+COUNTIF(F5:F30,"EM")+(COUNTIF(F5:F30,"1/2 EM")/2)+COUNTIF(F5:F30,"F")+(COUNTIF(F5:F30,"1/2 F")/2)+COUNTIF(F5:F30,"AT")+(COUNTIF(F5:F30,"1/2 AT")/2)+COUNTIF(F5:F30,"ZC")+(COUNTIF(F5:F30,"1/2 ZC")/2)+COUNTIF(F5:F30,"ZD")+(COUNTIF(F5:F30,"1/2 ZD")/2) -> 2 | G32: =COUNTIF(G5:G30,"RH")+(COUNTIF(G5:G30,"1/2 RH")/2)+COUNTIF(G5:G30,"CA")+(COUNTIF(G5:G30,"1/2 CA")/2)+COUNTIF(G5:G30,"RT")+(COUNTIF(G5:G30,"1/2 RT")/2)+COUNTIF(G5:G30,"CE")+(COUNTIF(G5:G30,"1/2 CE")/2)+COUNTIF(G5:G30,"MO")+(COUNTIF(G5:G30,"1/2 MO")/2)+COUNTIF(G5:G30,"CAA")+(COUNTIF(G5:G30,"1/2 CAA")/2)+COUNTIF(G5:G30,"EF")+(COUNTIF(G5:G30,"1/2 EF")/2)+COUNTIF(G5:G30,"HSR")+(COUNTIF(G5:G30,"1/2 HSR")/2)+COUNTIF(G5:G30,"EM")+(COUNTIF(G5:G30,"1/2 EM")/2)+COUNTIF(G5:G30,"F")+(COUNTIF(G5:G30,"1/2 F")/2)+COUNTIF(G5:G30,"AT")+(COUNTIF(G5:G30,"1/2 AT")/2)+COUNTIF(G5:G30,"ZC")+(COUNTIF(G5:G30,"1/2 ZC")/2)+COUNTIF(G5:G30,"ZD")+(COUNTIF(G5:G30,"1/2 ZD")/2) -> 1 | H32: =COUNTIF(H5:H30,"RH")+(COUNTIF(H5:H30,"1/2 RH")/2)+COUNTIF(H5:H30,"CA")+(COUNTIF(H5:H30,"1/2 CA")/2)+COUNTIF(H5:H30,"RT")+(COUNTIF(H5:H30,"1/2 RT")/2)+COUNTIF(H5:H30,"CE")+(COUNTIF(H5:H30,"1/2 CE")/2)+COUNTIF(H5:H30,"MO")+(COUNTIF(H5:H30,"1/2 MO")/2)+COUNTIF(H5:H30,"CAA")+(COUNTIF(H5:H30,"1/2 CAA")/2)+COUNTIF(H5:H30,"EF")+(COUNTIF(H5:H30,"1/2 EF")/2)+COUNTIF(H5:H30,"HSR")+(COUNTIF(H5:H30,"1/2 HSR")/2)+COUNTIF(H5:H30,"EM")+(COUNTIF(H5:H30,"1/2 EM")/2)+COUNTIF(H5:H30,"F")+(COUNTIF(H5:H30,"1/2 F")/2)+COUNTIF(H5:H30,"AT")+(COUNTIF(H5:H30,"1/2 AT")/2)+COUNTIF(H5:H30,"ZC")+(COUNTIF(H5:H30,"1/2 ZC")/2)+COUNTIF(H5:H30,"ZD")+(COUNTIF(H5:H30,"1/2 ZD")/2) -> 5 | I32: =COUNTIF(I5:I30,"RH")+(COUNTIF(I5:I30,"1/2 RH")/2)+COUNTIF(I5:I30,"CA")+(COUNTIF(I5:I30,"1/2 CA")/2)+COUNTIF(I5:I30,"RT")+(COUNTIF(I5:I30,"1/2 RT")/2)+COUNTIF(I5:I30,"CE")+(COUNTIF(I5:I30,"1/2 CE")/2)+COUNTIF(I5:I30,"MO")+(COUNTIF(I5:I30,"1/2 MO")/2)+COUNTIF(I5:I30,"CAA")+(COUNTIF(I5:I30,"1/2 CAA")/2)+COUNTIF(I5:I30,"EF")+(COUNTIF(I5:I30,"1/2 EF")/2)+COUNTIF(I5:I30,"HSR")+(COUNTIF(I5:I30,"1/2 HSR")/2)+COUNTIF(I5:I30,"EM")+(COUNTIF(I5:I30,"1/2 EM")/2)+COUNTIF(I5:I30,"F")+(COUNTIF(I5:I30,"1/2 F")/2)+COUNTIF(I5:I30,"AT")+(COUNTIF(I5:I30,"1/2 AT")/2)+COUNTIF(I5:I30,"ZC")+(COUNTIF(I5:I30,"1/2 ZC")/2)+COUNTIF(I5:I30,"ZD")+(COUNTIF(I5:I30,"1/2 ZD")/2) -> 5 | ... AF32: =COUNTIF(AF5:AF30,"RH")+(COUNTIF(AF5:AF30,"1/2 RH")/2)+COUNTIF(AF5:AF30,"CA")+(COUNTIF(AF5:AF30,"1/2 CA")/2)+COUNTIF(AF5:AF30,"RT")+(COUNTIF(AF5:AF30,"1/2 RT")/2)+COUNTIF(AF5:AF30,"CE")+(COUNTIF(AF5:AF30,"1/2 CE")/2)+COUNTIF(AF5:AF30,"MO")+(COUNTIF(AF5:AF30,"1/2 MO")/2)+COUNTIF(AF5:AF30,"CAA")+(COUNTIF(AF5:AF30,"1/2 CAA")/2)+COUNTIF(AF5:AF30,"EF")+(COUNTIF(AF5:AF30,"1/2 EF")/2)+COUNTIF(AF5:AF30,"HSR")+(COUNTIF(AF5:AF30,"1/2 HSR")/2)+COUNTIF(AF5:AF30,"EM")+(COUNTIF(AF5:AF30,"1/2 EM")/2)+COUNTIF(AF5:AF30,"F")+(COUNTIF(AF5:AF30,"1/2 F")/2)+COUNTIF(AF5:AF30,"AT")+(COUNTIF(AF5:AF30,"1/2 AT")/2)+COUNTIF(AF5:AF30,"ZC")+(COUNTIF(AF5:AF30,"1/2 ZC")/2)+COUNTIF(AF5:AF30,"ZD")+(COUNTIF(AF5:AF30,"1/2 ZD")/2) -> 2
A33: Prés. Indispo. | B33: =COUNTIF(B5:B30,"ST")+(COUNTIF(B5:B30,"1/2 ST")/2)+COUNTIF(B5:B30,"FORM")+(COUNTIF(B5:B30,"1/2 FORM")/2)+COUNTIF(B5:B30,"EQ")+(COUNTIF(B5:B30,"1/2 EQ")/2)+COUNTIF(B5:B30,"CSO")+(COUNTIF(B5:B30,"1/2 CSO")/2)+COUNTIF(B5:B30,"FOUR")+(COUNTIF(B5:B30,"1/2 FOUR")/2)+COUNTIF(B5:B30,"PR")+(COUNTIF(B5:B30,"1/2 PR")/2)+COUNTIF(B5:B30,"ZA")+(COUNTIF(B5:B30,"1/2 ZA")/2)+COUNTIF(B5:B30,"ZB")+(COUNTIF(B5:B30,"1/2 ZB")/2)+COUNTIF(B5:B30,"ZC")+(COUNTIF(B5:B30,"1/2 ZC")/2)+COUNTIF(B5:B30,"ZD")+(COUNTIF(B5:B30,"1/2 ZD")/2) -> 0 | C33: =COUNTIF(C5:C30,"ST")+(COUNTIF(C5:C30,"1/2 ST")/2)+COUNTIF(C5:C30,"FORM")+(COUNTIF(C5:C30,"1/2 FORM")/2)+COUNTIF(C5:C30,"EQ")+(COUNTIF(C5:C30,"1/2 EQ")/2)+COUNTIF(C5:C30,"CSO")+(COUNTIF(C5:C30,"1/2 CSO")/2)+COUNTIF(C5:C30,"FOUR")+(COUNTIF(C5:C30,"1/2 FOUR")/2)+COUNTIF(C5:C30,"PR")+(COUNTIF(C5:C30,"1/2 PR")/2)+COUNTIF(C5:C30,"ZA")+(COUNTIF(C5:C30,"1/2 ZA")/2)+COUNTIF(C5:C30,"ZB")+(COUNTIF(C5:C30,"1/2 ZB")/2)+COUNTIF(C5:C30,"ZC")+(COUNTIF(C5:C30,"1/2 ZC")/2)+COUNTIF(C5:C30,"ZD")+(COUNTIF(C5:C30,"1/2 ZD")/2) -> 0 | D33: =COUNTIF(D5:D30,"ST")+(COUNTIF(D5:D30,"1/2 ST")/2)+COUNTIF(D5:D30,"FORM")+(COUNTIF(D5:D30,"1/2 FORM")/2)+COUNTIF(D5:D30,"EQ")+(COUNTIF(D5:D30,"1/2 EQ")/2)+COUNTIF(D5:D30,"CSO")+(COUNTIF(D5:D30,"1/2 CSO")/2)+COUNTIF(D5:D30,"FOUR")+(COUNTIF(D5:D30,"1/2 FOUR")/2)+COUNTIF(D5:D30,"PR")+(COUNTIF(D5:D30,"1/2 PR")/2)+COUNTIF(D5:D30,"ZA")+(COUNTIF(D5:D30,"1/2 ZA")/2)+COUNTIF(D5:D30,"ZB")+(COUNTIF(D5:D30,"1/2 ZB")/2)+COUNTIF(D5:D30,"ZC")+(COUNTIF(D5:D30,"1/2 ZC")/2)+COUNTIF(D5:D30,"ZD")+(COUNTIF(D5:D30,"1/2 ZD")/2) -> 0 | E33: =COUNTIF(E5:E30,"ST")+(COUNTIF(E5:E30,"1/2 ST")/2)+COUNTIF(E5:E30,"FORM")+(COUNTIF(E5:E30,"1/2 FORM")/2)+COUNTIF(E5:E30,"EQ")+(COUNTIF(E5:E30,"1/2 EQ")/2)+COUNTIF(E5:E30,"CSO")+(COUNTIF(E5:E30,"1/2 CSO")/2)+COUNTIF(E5:E30,"FOUR")+(COUNTIF(E5:E30,"1/2 FOUR")/2)+COUNTIF(E5:E30,"PR")+(COUNTIF(E5:E30,"1/2 PR")/2)+COUNTIF(E5:E30,"ZA")+(COUNTIF(E5:E30,"1/2 ZA")/2)+COUNTIF(E5:E30,"ZB")+(COUNTIF(E5:E30,"1/2 ZB")/2)+COUNTIF(E5:E30,"ZC")+(COUNTIF(E5:E30,"1/2 ZC")/2)+COUNTIF(E5:E30,"ZD")+(COUNTIF(E5:E30,"1/2 ZD")/2) -> 0 | F33: =COUNTIF(F5:F30,"ST")+(COUNTIF(F5:F30,"1/2 ST")/2)+COUNTIF(F5:F30,"FORM")+(COUNTIF(F5:F30,"1/2 FORM")/2)+COUNTIF(F5:F30,"EQ")+(COUNTIF(F5:F30,"1/2 EQ")/2)+COUNTIF(F5:F30,"CSO")+(COUNTIF(F5:F30,"1/2 CSO")/2)+COUNTIF(F5:F30,"FOUR")+(COUNTIF(F5:F30,"1/2 FOUR")/2)+COUNTIF(F5:F30,"PR")+(COUNTIF(F5:F30,"1/2 PR")/2)+COUNTIF(F5:F30,"ZA")+(COUNTIF(F5:F30,"1/2 ZA")/2)+COUNTIF(F5:F30,"ZB")+(COUNTIF(F5:F30,"1/2 ZB")/2)+COUNTIF(F5:F30,"ZC")+(COUNTIF(F5:F30,"1/2 ZC")/2)+COUNTIF(F5:F30,"ZD")+(COUNTIF(F5:F30,"1/2 ZD")/2) -> 0 | G33: =COUNTIF(G5:G30,"ST")+(COUNTIF(G5:G30,"1/2 ST")/2)+COUNTIF(G5:G30,"FORM")+(COUNTIF(G5:G30,"1/2 FORM")/2)+COUNTIF(G5:G30,"EQ")+(COUNTIF(G5:G30,"1/2 EQ")/2)+COUNTIF(G5:G30,"CSO")+(COUNTIF(G5:G30,"1/2 CSO")/2)+COUNTIF(G5:G30,"FOUR")+(COUNTIF(G5:G30,"1/2 FOUR")/2)+COUNTIF(G5:G30,"PR")+(COUNTIF(G5:G30,"1/2 PR")/2)+COUNTIF(G5:G30,"ZA")+(COUNTIF(G5:G30,"1/2 ZA")/2)+COUNTIF(G5:G30,"ZB")+(COUNTIF(G5:G30,"1/2 ZB")/2)+COUNTIF(G5:G30,"ZC")+(COUNTIF(G5:G30,"1/2 ZC")/2)+COUNTIF(G5:G30,"ZD")+(COUNTIF(G5:G30,"1/2 ZD")/2) -> 0 | H33: =COUNTIF(H5:H30,"ST")+(COUNTIF(H5:H30,"1/2 ST")/2)+COUNTIF(H5:H30,"FORM")+(COUNTIF(H5:H30,"1/2 FORM")/2)+COUNTIF(H5:H30,"EQ")+(COUNTIF(H5:H30,"1/2 EQ")/2)+COUNTIF(H5:H30,"CSO")+(COUNTIF(H5:H30,"1/2 CSO")/2)+COUNTIF(H5:H30,"FOUR")+(COUNTIF(H5:H30,"1/2 FOUR")/2)+COUNTIF(H5:H30,"PR")+(COUNTIF(H5:H30,"1/2 PR")/2)+COUNTIF(H5:H30,"ZA")+(COUNTIF(H5:H30,"1/2 ZA")/2)+COUNTIF(H5:H30,"ZB")+(COUNTIF(H5:H30,"1/2 ZB")/2)+COUNTIF(H5:H30,"ZC")+(COUNTIF(H5:H30,"1/2 ZC")/2)+COUNTIF(H5:H30,"ZD")+(COUNTIF(H5:H30,"1/2 ZD")/2) -> 0 | I33: =COUNTIF(I5:I30,"ST")+(COUNTIF(I5:I30,"1/2 ST")/2)+COUNTIF(I5:I30,"FORM")+(COUNTIF(I5:I30,"1/2 FORM")/2)+COUNTIF(I5:I30,"EQ")+(COUNTIF(I5:I30,"1/2 EQ")/2)+COUNTIF(I5:I30,"CSO")+(COUNTIF(I5:I30,"1/2 CSO")/2)+COUNTIF(I5:I30,"FOUR")+(COUNTIF(I5:I30,"1/2 FOUR")/2)+COUNTIF(I5:I30,"PR")+(COUNTIF(I5:I30,"1/2 PR")/2)+COUNTIF(I5:I30,"ZA")+(COUNTIF(I5:I30,"1/2 ZA")/2)+COUNTIF(I5:I30,"ZB")+(COUNTIF(I5:I30,"1/2 ZB")/2)+COUNTIF(I5:I30,"ZC")+(COUNTIF(I5:I30,"1/2 ZC")/2)+COUNTIF(I5:I30,"ZD")+(COUNTIF(I5:I30,"1/2 ZD")/2) -> 0 | ... AF33: =COUNTIF(AF5:AF30,"ST")+(COUNTIF(AF5:AF30,"1/2 ST")/2)+COUNTIF(AF5:AF30,"FORM")+(COUNTIF(AF5:AF30,"1/2 FORM")/2)+COUNTIF(AF5:AF30,"EQ")+(COUNTIF(AF5:AF30,"1/2 EQ")/2)+COUNTIF(AF5:AF30,"CSO")+(COUNTIF(AF5:AF30,"1/2 CSO")/2)+COUNTIF(AF5:AF30,"FOUR")+(COUNTIF(AF5:AF30,"1/2 FOUR")/2)+COUNTIF(AF5:AF30,"PR")+(COUNTIF(AF5:AF30,"1/2 PR")/2)+COUNTIF(AF5:AF30,"ZA")+(COUNTIF(AF5:AF30,"1/2 ZA")/2)+COUNTIF(AF5:AF30,"ZB")+(COUNTIF(AF5:AF30,"1/2 ZB")/2)+COUNTIF(AF5:AF30,"ZC")+(COUNTIF(AF5:AF30,"1/2 ZC")/2)+COUNTIF(AF5:AF30,"ZD")+(COUNTIF(AF5:AF30,"1/2 ZD")/2) -> 0
B44: J | C44: M | D44: AM | E44: GTPI | F44: RH | G44: CA | H44: RT | I44: CE | J44: MO | K44: CAA | L44: EF | M44: HSR | N44: EM | O44: F | P44: ST | Q44: FORM | R44: EQ | S44: CSO | T44: FOUR | U44: PR | V44: AT
A45: Alpha | B45: =COUNTIF($B$5:$AF$6,"J")+(COUNTIF($B$5:$AF$6,"1/2 J")/2) -> 0 | C45: =COUNTIF($B$5:$AF$6,"M")+(COUNTIF($B$5:$AF$6,"1/2 M")/2) -> 0 | D45: =COUNTIF($B$5:$AF$6,"AM")+(COUNTIF($B$5:$AF$6,"1/2 AM")/2) -> 0 | E45: =COUNTIF($B$5:$AF$6,"GTPI")+(COUNTIF($B$5:$AF$6,"1/2 GTPI")/2) -> 0 | F45: =COUNTIF($B$5:$AF$6,"RH")+(COUNTIF($B$5:$AF$6,"1/2 RH")/2) -> 1 | G45: =COUNTIF($B$5:$AF$6,"CA")+(COUNTIF($B$5:$AF$6,"1/2 CA")/2) -> 2 | H45: =COUNTIF($B$5:$AF$6,"RT")+(COUNTIF($B$5:$AF$6,"1/2 RT")/2) -> 0 | I45: =COUNTIF($B$5:$AF$6,"CE")+(COUNTIF($B$5:$AF$6,"1/2 CE")/2) -> 0 | J45: =COUNTIF($B$5:$AF$6,"MO")+(COUNTIF($B$5:$AF$6,"1/2 MO")/2) -> 0 | K45: =COUNTIF($B$5:$AF$6,"CAA")+(COUNTIF($B$5:$AF$6,"1/2 CAA")/2) -> 0 | L45: =COUNTIF($B$5:$AF$6,"EF")+(COUNTIF($B$5:$AF$6,"1/2 EF")/2) -> 0 | M45: =COUNTIF($B$5:$AF$6,"HSR")+(COUNTIF($B$5:$AF$6,"1/2 HSR")/2) -> 0 | N45: =COUNTIF($B$5:$AF$6,"EM")+(COUNTIF($B$5:$AF$6,"1/2 EM")/2) -> 0 | O45: =COUNTIF($B$5:$AF$6,"F")+(COUNTIF($B$5:$AF$6,"1/2 F")/2) -> 0 | P45: =COUNTIF($B$5:$AF$6,"ST")+(COUNTIF($B$5:$AF$6,"1/2 ST")/2) -> 0 | Q45: =COUNTIF($B$5:$AF$6,"FORM")+(COUNTIF($B$5:$AF$6,"1/2 FORM")/2) -> 0 | R45: =COUNTIF($B$5:$AF$6,"EQ")+(COUNTIF($B$5:$AF$6,"1/2 EQ")/2) -> 0 | S45: =COUNTIF($B$5:$AF$6,"CSO")+(COUNTIF($B$5:$AF$6,"1/2 CSO")/2) -> 0 | T45: =COUNTIF($B$5:$AF$6,"FOUR")+(COUNTIF($B$5:$AF$6,"1/2 FOUR")/2) -> 0 | U45: =COUNTIF($B$5:$AF$6,"PR")+(COUNTIF($B$5:$AF$6,"1/2 PR")/2) -> 0 | V45: =COUNTIF($B$5:$AF$6,"AT")+(COUNTIF($B$5:$AF$6,"1/2 AT")/2) -> 0 | AF45: =SUM(B45:AE45) -> 3
A46: Bravo | B46: =COUNTIF($B$7:$AF$8,"J")+(COUNTIF($B$7:$AF$8,"1/2 J")/2) -> 0 | C46: =COUNTIF($B$7:$AF$8,"M")+(COUNTIF($B$7:$AF$8,"1/2 M")/2) -> 6 | D46: =COUNTIF($B$7:$AF$8,"AM")+(COUNTIF($B$7:$AF$8,"1/2 AM")/2) -> 12 | E46: =COUNTIF($B$7:$AF$8,"GTPI")+(COUNTIF($B$7:$AF$8,"1/2 GTPI")/2) -> 0 | F46: =COUNTIF($B$7:$AF$8,"RH")+(COUNTIF($B$7:$AF$8,"1/2 RH")/2) -> 8 | G46: =COUNTIF($B$7:$AF$8,"CA")+(COUNTIF($B$7:$AF$8,"1/2 CA")/2) -> 2 | H46: =COUNTIF($B$7:$AF$8,"RT")+(COUNTIF($B$7:$AF$8,"1/2 RT")/2) -> 3 | I46: =COUNTIF($B$7:$AF$8,"CE")+(COUNTIF($B$7:$AF$8,"1/2 CE")/2) -> 0 | J46: =COUNTIF($B$7:$AF$8,"MO")+(COUNTIF($B$7:$AF$8,"1/2 MO")/2) -> 0 | K46: =COUNTIF($B$7:$AF$8,"CAA")+(COUNTIF($B$7:$AF$8,"1/2 CAA")/2) -> 0 | L46: =COUNTIF($B$7:$AF$8,"EF")+(COUNTIF($B$7:$AF$8,"1/2 EF")/2) -> 0 | M46: =COUNTIF($B$7:$AF$8,"HSR")+(COUNTIF($B$7:$AF$8,"1/2 HSR")/2) -> 0 | N46: =COUNTIF($B$7:$AF$8,"EM")+(COUNTIF($B$7:$AF$8,"1/2 EM")/2) -> 0 | O46: =COUNTIF($B$7:$AF$8,"F")+(COUNTIF($B$7:$AF$8,"1/2 F")/2) -> 0 | P46: =COUNTIF($B$7:$AF$8,"ST")+(COUNTIF($B$7:$AF$8,"1/2 ST")/2) -> 0 | Q46: =COUNTIF($B$7:$AF$8,"FORM")+(COUNTIF($B$7:$AF$8,"1/2 FORM")/2) -> 0 | R46: =COUNTIF($B$7:$AF$8,"EQ")+(COUNTIF($B$7:$AF$8,"1/2 EQ")/2) -> 0 | S46: =COUNTIF($B$7:$AF$8,"CSO")+(COUNTIF($B$7:$AF$8,"1/2 CSO")/2) -> 0 | T46: =COUNTIF($B$7:$AF$8,"FOUR")+(COUNTIF($B$7:$AF$8,"1/2 FOUR")/2) -> 0 | U46: =COUNTIF($B$7:$AF$8,"PR")+(COUNTIF($B$7:$AF$8,"1/2 PR")/2) -> 0 | V46: =COUNTIF($B$7:$AF$8,"AT")+(COUNTIF($B$7:$AF$8,"1/2 AT")/2) -> 0 | AF46: =SUM(B46:AE46) -> 31
A47: Charlie | B47: =COUNTIF($B$9:$AF$10,"J")+(COUNTIF($B$9:$AF$10,"1/2 J")/2) -> 0 | C47: =COUNTIF($B$9:$AF$10,"M")+(COUNTIF($B$9:$AF$10,"1/2 M")/2) -> 7 | D47: =COUNTIF($B$9:$AF$10,"AM")+(COUNTIF($B$9:$AF$10,"1/2 AM")/2) -> 14 | E47: =COUNTIF($B$9:$AF$10,"GTPI")+(COUNTIF($B$9:$AF$10,"1/2 GTPI")/2) -> 0 | F47: =COUNTIF($B$9:$AF$10,"RH")+(COUNTIF($B$9:$AF$10,"1/2 RH")/2) -> 9 | G47: =COUNTIF($B$9:$AF$10,"CA")+(COUNTIF($B$9:$AF$10,"1/2 CA")/2) -> 0 | H47: =COUNTIF($B$9:$AF$10,"RT")+(COUNTIF($B$9:$AF$10,"1/2 RT")/2) -> 1 | I47: =COUNTIF($B$9:$AF$10,"CE")+(COUNTIF($B$9:$AF$10,"1/2 CE")/2) -> 0 | J47: =COUNTIF($B$9:$AF$10,"MO")+(COUNTIF($B$9:$AF$10,"1/2 MO")/2) -> 0 | K47: =COUNTIF($B$9:$AF$10,"CAA")+(COUNTIF($B$9:$AF$10,"1/2 CAA")/2) -> 0 | L47: =COUNTIF($B$9:$AF$10,"EF")+(COUNTIF($B$9:$AF$10,"1/2 EF")/2) -> 0 | M47: =COUNTIF($B$9:$AF$10,"HSR")+(COUNTIF($B$9:$AF$10,"1/2 HSR")/2) -> 0 | N47: =COUNTIF($B$9:$AF$10,"EM")+(COUNTIF($B$9:$AF$10,"1/2 EM")/2) -> 0 | O47: =COUNTIF($B$9:$AF$10,"F")+(COUNTIF($B$9:$AF$10,"1/2 F")/2) -> 0 | P47: =COUNTIF($B$9:$AF$10,"ST")+(COUNTIF($B$9:$AF$10,"1/2 ST")/2) -> 0 | Q47: =COUNTIF($B$9:$AF$10,"FORM")+(COUNTIF($B$9:$AF$10,"1/2 FORM")/2) -> 0 | R47: =COUNTIF($B$9:$AF$10,"EQ")+(COUNTIF($B$9:$AF$10,"1/2 EQ")/2) -> 0 | S47: =COUNTIF($B$9:$AF$10,"CSO")+(COUNTIF($B$9:$AF$10,"1/2 CSO")/2) -> 0 | T47: =COUNTIF($B$9:$AF$10,"FOUR")+(COUNTIF($B$9:$AF$10,"1/2 FOUR")/2) -> 0 | U47: =COUNTIF($B$9:$AF$10,"PR")+(COUNTIF($B$9:$AF$10,"1/2 PR")/2) -> 0 | V47: =COUNTIF($B$9:$AF$10,"AT")+(COUNTIF($B$9:$AF$10,"1/2 AT")/2) -> 0 | AF47: =SUM(B47:AE47) -> 31
A48: Delta | B48: =COUNTIF($B$11:$AF$12,"J")+(COUNTIF($B$11:$AF$12,"1/2 J")/2) -> 0 | C48: =COUNTIF($B$11:$AF$12,"M")+(COUNTIF($B$11:$AF$12,"1/2 M")/2) -> 8 | D48: =COUNTIF($B$11:$AF$12,"AM")+(COUNTIF($B$11:$AF$12,"1/2 AM")/2) -> 14 | E48: =COUNTIF($B$11:$AF$12,"GTPI")+(COUNTIF($B$11:$AF$12,"1/2 GTPI")/2) -> 0 | F48: =COUNTIF($B$11:$AF$12,"RH")+(COUNTIF($B$11:$AF$12,"1/2 RH")/2) -> 8 | G48: =COUNTIF($B$11:$AF$12,"CA")+(COUNTIF($B$11:$AF$12,"1/2 CA")/2) -> 1 | H48: =COUNTIF($B$11:$AF$12,"RT")+(COUNTIF($B$11:$AF$12,"1/2 RT")/2) -> 0 | I48: =COUNTIF($B$11:$AF$12,"CE")+(COUNTIF($B$11:$AF$12,"1/2 CE")/2) -> 0 | J48: =COUNTIF($B$11:$AF$12,"MO")+(COUNTIF($B$11:$AF$12,"1/2 MO")/2) -> 0 | K48: =COUNTIF($B$11:$AF$12,"CAA")+(COUNTIF($B$11:$AF$12,"1/2 CAA")/2) -> 0 | L48: =COUNTIF($B$11:$AF$12,"EF")+(COUNTIF($B$11:$AF$12,"1/2 EF")/2) -> 0 | M48: =COUNTIF($B$11:$AF$12,"HSR")+(COUNTIF($B$11:$AF$12,"1/2 HSR")/2) -> 0 | N48: =COUNTIF($B$11:$AF$12,"EM")+(COUNTIF($B$11:$AF$12,"1/2 EM")/2) -> 0 | O48: =COUNTIF($B$11:$AF$12,"F")+(COUNTIF($B$11:$AF$12,"1/2 F")/2) -> 0 | P48: =COUNTIF($B$11:$AF$12,"ST")+(COUNTIF($B$11:$AF$12,"1/2 ST")/2) -> 0 | Q48: =COUNTIF($B$11:$AF$12,"FORM")+(COUNTIF($B$11:$AF$12,"1/2 FORM")/2) -> 0 | R48: =COUNTIF($B$11:$AF$12,"EQ")+(COUNTIF($B$11:$AF$12,"1/2 EQ")/2) -> 0 | S48: =COUNTIF($B$11:$AF$12,"CSO")+(COUNTIF($B$11:$AF$12,"1/2 CSO")/2) -> 0 | T48: =COUNTIF($B$11:$AF$12,"FOUR")+(COUNTIF($B$11:$AF$12,"1/2 FOUR")/2) -> 0 | U48: =COUNTIF($B$11:$AF$12,"PR")+(COUNTIF($B$11:$AF$12,"1/2 PR")/2) -> 0 | V48: =COUNTIF($B$11:$AF$12,"AT")+(COUNTIF($B$11:$AF$12,"1/2 AT")/2) -> 0 | AF48: =SUM(B48:AE48) -> 31
A49: Echo | B49: =COUNTIF($B$13:$AF$14,"J")+(COUNTIF($B$13:$AF$14,"1/2 J")/2) -> 0 | C49: =COUNTIF($B$13:$AF$14,"M")+(COUNTIF($B$13:$AF$14,"1/2 M")/2) -> 0 | D49: =COUNTIF($B$13:$AF$14,"AM")+(COUNTIF($B$13:$AF$14,"1/2 AM")/2) -> 0 | E49: =COUNTIF($B$13:$AF$14,"GTPI")+(COUNTIF($B$13:$AF$14,"1/2 GTPI")/2) -> 0 | F49: =COUNTIF($B$13:$AF$14,"RH")+(COUNTIF($B$13:$AF$14,"1/2 RH")/2) -> 0 | G49: =COUNTIF($B$13:$AF$14,"CA")+(COUNTIF($B$13:$AF$14,"1/2 CA")/2) -> 0 | H49: =COUNTIF($B$13:$AF$14,"RT")+(COUNTIF($B$13:$AF$14,"1/2 RT")/2) -> 0 | I49: =COUNTIF($B$13:$AF$14,"CE")+(COUNTIF($B$13:$AF$14,"1/2 CE")/2) -> 0 | J49: =COUNTIF($B$13:$AF$14,"MO")+(COUNTIF($B$13:$AF$14,"1/2 MO")/2) -> 0 | K49: =COUNTIF($B$13:$AF$14,"CAA")+(COUNTIF($B$13:$AF$14,"1/2 CAA")/2) -> 0 | L49: =COUNTIF($B$13:$AF$14,"EF")+(COUNTIF($B$13:$AF$14,"1/2 EF")/2) -> 0 | M49: =COUNTIF($B$13:$AF$14,"HSR")+(COUNTIF($B$13:$AF$14,"1/2 HSR")/2) -> 0 | N49: =COUNTIF($B$13:$AF$14,"EM")+(COUNTIF($B$13:$AF$14,"1/2 EM")/2) -> 0 | O49: =COUNTIF($B$13:$AF$14,"F")+(COUNTIF($B$13:$AF$14,"1/2 F")/2) -> 0 | P49: =COUNTIF($B$13:$AF$14,"ST")+(COUNTIF($B$13:$AF$14,"1/2 ST")/2) -> 0 | Q49: =COUNTIF($B$13:$AF$14,"FORM")+(COUNTIF($B$13:$AF$14,"1/2 FORM")/2) -> 0 | R49: =COUNTIF($B$13:$AF$14,"EQ")+(COUNTIF($B$13:$AF$14,"1/2 EQ")/2) -> 0 | S49: =COUNTIF($B$13:$AF$14,"CSO")+(COUNTIF($B$13:$AF$14,"1/2 CSO")/2) -> 0 | T49: =COUNTIF($B$13:$AF$14,"FOUR")+(COUNTIF($B$13:$AF$14,"1/2 FOUR")/2) -> 0 | U49: =COUNTIF($B$13:$AF$14,"PR")+(COUNTIF($B$13:$AF$14,"1/2 PR")/2) -> 0 | V49: =COUNTIF($B$13:$AF$14,"AT")+(COUNTIF($B$13:$AF$14,"1/2 AT")/2) -> 31 | AF49: =SUM(B49:AE49) -> 31
B50: =COUNTIF($B$15:$AF$16,"J")+(COUNTIF($B$15:$AF$16,"1/2 J")/2) -> 0 | C50: =COUNTIF($B$15:$AF$16,"M")+(COUNTIF($B$15:$AF$16,"1/2 M")/2) -> 0 | D50: =COUNTIF($B$15:$AF$16,"AM")+(COUNTIF($B$15:$AF$16,"1/2 AM")/2) -> 0 | E50: =COUNTIF($B$15:$AF$16,"GTPI")+(COUNTIF($B$15:$AF$16,"1/2 GTPI")/2) -> 0 | F50: =COUNTIF($B$15:$AF$16,"RH")+(COUNTIF($B$15:$AF$16,"1/2 RH")/2) -> 0 | G50: =COUNTIF($B$15:$AF$16,"CA")+(COUNTIF($B$15:$AF$16,"1/2 CA")/2) -> 0 | H50: =COUNTIF($B$15:$AF$16,"RT")+(COUNTIF($B$15:$AF$16,"1/2 RT")/2) -> 0 | I50: =COUNTIF($B$15:$AF$16,"CE")+(COUNTIF($B$15:$AF$16,"1/2 CE")/2) -> 0 | J50: =COUNTIF($B$15:$AF$16,"MO")+(COUNTIF($B$15:$AF$16,"1/2 MO")/2) -> 0 | K50: =COUNTIF($B$15:$AF$16,"CAA")+(COUNTIF($B$15:$AF$16,"1/2 CAA")/2) -> 0 | L50: =COUNTIF($B$15:$AF$16,"EF")+(COUNTIF($B$15:$AF$16,"1/2 EF")/2) -> 0 | M50: =COUNTIF($B$15:$AF$16,"HSR")+(COUNTIF($B$15:$AF$16,"1/2 HSR")/2) -> 0 | N50: =COUNTIF($B$15:$AF$16,"EM")+(COUNTIF($B$15:$AF$16,"1/2 EM")/2) -> 0 | O50: =COUNTIF($B$15:$AF$16,"F")+(COUNTIF($B$15:$AF$16,"1/2 F")/2) -> 0 | P50: =COUNTIF($B$15:$AF$16,"ST")+(COUNTIF($B$15:$AF$16,"1/2 ST")/2) -> 0 | Q50: =COUNTIF($B$15:$AF$16,"FORM")+(COUNTIF($B$15:$AF$16,"1/2 FORM")/2) -> 0 | R50: =COUNTIF($B$15:$AF$16,"EQ")+(COUNTIF($B$15:$AF$16,"1/2 EQ")/2) -> 0 | S50: =COUNTIF($B$15:$AF$16,"CSO")+(COUNTIF($B$15:$AF$16,"1/2 CSO")/2) -> 0 | T50: =COUNTIF($B$15:$AF$16,"FOUR")+(COUNTIF($B$15:$AF$16,"1/2 FOUR")/2) -> 0 | U50: =COUNTIF($B$15:$AF$16,"PR")+(COUNTIF($B$15:$AF$16,"1/2 PR")/2) -> 0 | V50: =COUNTIF($B$15:$AF$16,"AT")+(COUNTIF($B$15:$AF$16,"1/2 AT")/2) -> 0 | AF50: =SUM(B50:AE50) -> 0
B51: =COUNTIF($B$17:$AF$18,"J")+(COUNTIF($B$17:$AF$18,"1/2 J")/2) -> 0 | C51: =COUNTIF($B$17:$AF$18,"M")+(COUNTIF($B$17:$AF$18,"1/2 M")/2) -> 0 | D51: =COUNTIF($B$17:$AF$18,"AM")+(COUNTIF($B$17:$AF$18,"1/2 AM")/2) -> 0 | E51: =COUNTIF($B$17:$AF$18,"GTPI")+(COUNTIF($B$17:$AF$18,"1/2 GTPI")/2) -> 0 | F51: =COUNTIF($B$17:$AF$18,"RH")+(COUNTIF($B$17:$AF$18,"1/2 RH")/2) -> 0 | G51: =COUNTIF($B$17:$AF$18,"CA")+(COUNTIF($B$17:$AF$18,"1/2 CA")/2) -> 0 | H51: =COUNTIF($B$17:$AF$18,"RT")+(COUNTIF($B$17:$AF$18,"1/2 RT")/2) -> 0 | I51: =COUNTIF($B$17:$AF$18,"CE")+(COUNTIF($B$17:$AF$18,"1/2 CE")/2) -> 0 | J51: =COUNTIF($B$17:$AF$18,"MO")+(COUNTIF($B$17:$AF$18,"1/2 MO")/2) -> 0 | K51: =COUNTIF($B$17:$AF$18,"CAA")+(COUNTIF($B$17:$AF$18,"1/2 CAA")/2) -> 0 | L51: =COUNTIF($B$17:$AF$18,"EF")+(COUNTIF($B$17:$AF$18,"1/2 EF")/2) -> 0 | M51: =COUNTIF($B$17:$AF$18,"HSR")+(COUNTIF($B$17:$AF$18,"1/2 HSR")/2) -> 0 | N51: =COUNTIF($B$17:$AF$18,"EM")+(COUNTIF($B$17:$AF$18,"1/2 EM")/2) -> 0 | O51: =COUNTIF($B$17:$AF$18,"F")+(COUNTIF($B$17:$AF$18,"1/2 F")/2) -> 0 | P51: =COUNTIF($B$17:$AF$18,"ST")+(COUNTIF($B$17:$AF$18,"1/2 ST")/2) -> 0 | Q51: =COUNTIF($B$17:$AF$18,"FORM")+(COUNTIF($B$17:$AF$18,"1/2 FORM")/2) -> 0 | R51: =COUNTIF($B$17:$AF$18,"EQ")+(COUNTIF($B$17:$AF$18,"1/2 EQ")/2) -> 0 | S51: =COUNTIF($B$17:$AF$18,"CSO")+(COUNTIF($B$17:$AF$18,"1/2 CSO")/2) -> 0 | T51: =COUNTIF($B$17:$AF$18,"FOUR")+(COUNTIF($B$17:$AF$18,"1/2 FOUR")/2) -> 0 | U51: =COUNTIF($B$17:$AF$18,"PR")+(COUNTIF($B$17:$AF$18,"1/2 PR")/2) -> 0 | V51: =COUNTIF($B$17:$AF$18,"AT")+(COUNTIF($B$17:$AF$18,"1/2 AT")/2) -> 0 | AF51: =SUM(B51:AE51) -> 0
A52: Foxtrot | B52: =COUNTIF($B$19:$AF$20,"J")+(COUNTIF($B$19:$AF$20,"1/2 J")/2) -> 0 | C52: =COUNTIF($B$19:$AF$20,"M")+(COUNTIF($B$19:$AF$20,"1/2 M")/2) -> 9 | D52: =COUNTIF($B$19:$AF$20,"AM")+(COUNTIF($B$19:$AF$20,"1/2 AM")/2) -> 11 | E52: =COUNTIF($B$19:$AF$20,"GTPI")+(COUNTIF($B$19:$AF$20,"1/2 GTPI")/2) -> 0 | F52: =COUNTIF($B$19:$AF$20,"RH")+(COUNTIF($B$19:$AF$20,"1/2 RH")/2) -> 10 | G52: =COUNTIF($B$19:$AF$20,"CA")+(COUNTIF($B$19:$AF$20,"1/2 CA")/2) -> 1 | H52: =COUNTIF($B$19:$AF$20,"RT")+(COUNTIF($B$19:$AF$20,"1/2 RT")/2) -> 0 | I52: =COUNTIF($B$19:$AF$20,"CE")+(COUNTIF($B$19:$AF$20,"1/2 CE")/2) -> 0 | J52: =COUNTIF($B$19:$AF$20,"MO")+(COUNTIF($B$19:$AF$20,"1/2 MO")/2) -> 0 | K52: =COUNTIF($B$19:$AF$20,"CAA")+(COUNTIF($B$19:$AF$20,"1/2 CAA")/2) -> 0 | L52: =COUNTIF($B$19:$AF$20,"EF")+(COUNTIF($B$19:$AF$20,"1/2 EF")/2) -> 0 | M52: =COUNTIF($B$19:$AF$20,"HSR")+(COUNTIF($B$19:$AF$20,"1/2 HSR")/2) -> 0 | N52: =COUNTIF($B$19:$AF$20,"EM")+(COUNTIF($B$19:$AF$20,"1/2 EM")/2) -> 0 | O52: =COUNTIF($B$19:$AF$20,"F")+(COUNTIF($B$19:$AF$20,"1/2 F")/2) -> 0 | P52: =COUNTIF($B$19:$AF$20,"ST")+(COUNTIF($B$19:$AF$20,"1/2 ST")/2) -> 0 | Q52: =COUNTIF($B$19:$AF$20,"FORM")+(COUNTIF($B$19:$AF$20,"1/2 FORM")/2) -> 0 | R52: =COUNTIF($B$19:$AF$20,"EQ")+(COUNTIF($B$19:$AF$20,"1/2 EQ")/2) -> 0 | S52: =COUNTIF($B$19:$AF$20,"CSO")+(COUNTIF($B$19:$AF$20,"1/2 CSO")/2) -> 0 | T52: =COUNTIF($B$19:$AF$20,"FOUR")+(COUNTIF($B$19:$AF$20,"1/2 FOUR")/2) -> 0 | U52: =COUNTIF($B$19:$AF$20,"PR")+(COUNTIF($B$19:$AF$20,"1/2 PR")/2) -> 0 | V52: =COUNTIF($B$19:$AF$20,"AT")+(COUNTIF($B$19:$AF$20,"1/2 AT")/2) -> 0 | AF52: =SUM(B52:AE52) -> 31
A53: Golf | B53: =COUNTIF($B$21:$AF$22,"J")+(COUNTIF($B$21:$AF$22,"1/2 J")/2) -> 0 | C53: =COUNTIF($B$21:$AF$22,"M")+(COUNTIF($B$21:$AF$22,"1/2 M")/2) -> 9 | D53: =COUNTIF($B$21:$AF$22,"AM")+(COUNTIF($B$21:$AF$22,"1/2 AM")/2) -> 12 | E53: =COUNTIF($B$21:$AF$22,"GTPI")+(COUNTIF($B$21:$AF$22,"1/2 GTPI")/2) -> 0 | F53: =COUNTIF($B$21:$AF$22,"RH")+(COUNTIF($B$21:$AF$22,"1/2 RH")/2) -> 7 | G53: =COUNTIF($B$21:$AF$22,"CA")+(COUNTIF($B$21:$AF$22,"1/2 CA")/2) -> 0 | H53: =COUNTIF($B$21:$AF$22,"RT")+(COUNTIF($B$21:$AF$22,"1/2 RT")/2) -> 3 | I53: =COUNTIF($B$21:$AF$22,"CE")+(COUNTIF($B$21:$AF$22,"1/2 CE")/2) -> 0 | J53: =COUNTIF($B$21:$AF$22,"MO")+(COUNTIF($B$21:$AF$22,"1/2 MO")/2) -> 0 | K53: =COUNTIF($B$21:$AF$22,"CAA")+(COUNTIF($B$21:$AF$22,"1/2 CAA")/2) -> 0 | L53: =COUNTIF($B$21:$AF$22,"EF")+(COUNTIF($B$21:$AF$22,"1/2 EF")/2) -> 0 | M53: =COUNTIF($B$21:$AF$22,"HSR")+(COUNTIF($B$21:$AF$22,"1/2 HSR")/2) -> 0 | N53: =COUNTIF($B$21:$AF$22,"EM")+(COUNTIF($B$21:$AF$22,"1/2 EM")/2) -> 0 | O53: =COUNTIF($B$21:$AF$22,"F")+(COUNTIF($B$21:$AF$22,"1/2 F")/2) -> 0 | P53: =COUNTIF($B$21:$AF$22,"ST")+(COUNTIF($B$21:$AF$22,"1/2 ST")/2) -> 0 | Q53: =COUNTIF($B$21:$AF$22,"FORM")+(COUNTIF($B$21:$AF$22,"1/2 FORM")/2) -> 0 | R53: =COUNTIF($B$21:$AF$22,"EQ")+(COUNTIF($B$21:$AF$22,"1/2 EQ")/2) -> 0 | S53: =COUNTIF($B$21:$AF$22,"CSO")+(COUNTIF($B$21:$AF$22,"1/2 CSO")/2) -> 0 | T53: =COUNTIF($B$21:$AF$22,"FOUR")+(COUNTIF($B$21:$AF$22,"1/2 FOUR")/2) -> 0 | U53: =COUNTIF($B$21:$AF$22,"PR")+(COUNTIF($B$21:$AF$22,"1/2 PR")/2) -> 0 | V53: =COUNTIF($B$21:$AF$22,"AT")+(COUNTIF($B$21:$AF$22,"1/2 AT")/2) -> 0 | AF53: =SUM(B53:AE53) -> 31
A54: Hotel | B54: =COUNTIF($B$23:$AF$24,"J")+(COUNTIF($B$23:$AF$24,"1/2 J")/2) -> 0 | C54: =COUNTIF($B$23:$AF$24,"M")+(COUNTIF($B$23:$AF$24,"1/2 M")/2) -> 9 | D54: =COUNTIF($B$23:$AF$24,"AM")+(COUNTIF($B$23:$AF$24,"1/2 AM")/2) -> 12 | E54: =COUNTIF($B$23:$AF$24,"GTPI")+(COUNTIF($B$23:$AF$24,"1/2 GTPI")/2) -> 0 | F54: =COUNTIF($B$23:$AF$24,"RH")+(COUNTIF($B$23:$AF$24,"1/2 RH")/2) -> 8 | G54: =COUNTIF($B$23:$AF$24,"CA")+(COUNTIF($B$23:$AF$24,"1/2 CA")/2) -> 1 | H54: =COUNTIF($B$23:$AF$24,"RT")+(COUNTIF($B$23:$AF$24,"1/2 RT")/2) -> 1 | I54: =COUNTIF($B$23:$AF$24,"CE")+(COUNTIF($B$23:$AF$24,"1/2 CE")/2) -> 0 | J54: =COUNTIF($B$23:$AF$24,"MO")+(COUNTIF($B$23:$AF$24,"1/2 MO")/2) -> 0 | K54: =COUNTIF($B$23:$AF$24,"CAA")+(COUNTIF($B$23:$AF$24,"1/2 CAA")/2) -> 0 | L54: =COUNTIF($B$23:$AF$24,"EF")+(COUNTIF($B$23:$AF$24,"1/2 EF")/2) -> 0 | M54: =COUNTIF($B$23:$AF$24,"HSR")+(COUNTIF($B$23:$AF$24,"1/2 HSR")/2) -> 0 | N54: =COUNTIF($B$23:$AF$24,"EM")+(COUNTIF($B$23:$AF$24,"1/2 EM")/2) -> 0 | O54: =COUNTIF($B$23:$AF$24,"F")+(COUNTIF($B$23:$AF$24,"1/2 F")/2) -> 0 | P54: =COUNTIF($B$23:$AF$24,"ST")+(COUNTIF($B$23:$AF$24,"1/2 ST")/2) -> 0 | Q54: =COUNTIF($B$23:$AF$24,"FORM")+(COUNTIF($B$23:$AF$24,"1/2 FORM")/2) -> 0 | R54: =COUNTIF($B$23:$AF$24,"EQ")+(COUNTIF($B$23:$AF$24,"1/2 EQ")/2) -> 0 | S54: =COUNTIF($B$23:$AF$24,"CSO")+(COUNTIF($B$23:$AF$24,"1/2 CSO")/2) -> 0 | T54: =COUNTIF($B$23:$AF$24,"FOUR")+(COUNTIF($B$23:$AF$24,"1/2 FOUR")/2) -> 0 | U54: =COUNTIF($B$23:$AF$24,"PR")+(COUNTIF($B$23:$AF$24,"1/2 PR")/2) -> 0 | V54: =COUNTIF($B$23:$AF$24,"AT")+(COUNTIF($B$23:$AF$24,"1/2 AT")/2) -> 0 | AF54: =SUM(B54:AE54) -> 31
A55: India | B55: =COUNTIF($B$25:$AF$26,"J")+(COUNTIF($B$25:$AF$26,"1/2 J")/2) -> 0 | C55: =COUNTIF($B$25:$AF$26,"M")+(COUNTIF($B$25:$AF$26,"1/2 M")/2) -> 0 | D55: =COUNTIF($B$25:$AF$26,"AM")+(COUNTIF($B$25:$AF$26,"1/2 AM")/2) -> 0 | E55: =COUNTIF($B$25:$AF$26,"GTPI")+(COUNTIF($B$25:$AF$26,"1/2 GTPI")/2) -> 0 | F55: =COUNTIF($B$25:$AF$26,"RH")+(COUNTIF($B$25:$AF$26,"1/2 RH")/2) -> 0 | G55: =COUNTIF($B$25:$AF$26,"CA")+(COUNTIF($B$25:$AF$26,"1/2 CA")/2) -> 0 | H55: =COUNTIF($B$25:$AF$26,"RT")+(COUNTIF($B$25:$AF$26,"1/2 RT")/2) -> 0 | I55: =COUNTIF($B$25:$AF$26,"CE")+(COUNTIF($B$25:$AF$26,"1/2 CE")/2) -> 0 | J55: =COUNTIF($B$25:$AF$26,"MO")+(COUNTIF($B$25:$AF$26,"1/2 MO")/2) -> 0 | K55: =COUNTIF($B$25:$AF$26,"CAA")+(COUNTIF($B$25:$AF$26,"1/2 CAA")/2) -> 0 | L55: =COUNTIF($B$25:$AF$26,"EF")+(COUNTIF($B$25:$AF$26,"1/2 EF")/2) -> 0 | M55: =COUNTIF($B$25:$AF$26,"HSR")+(COUNTIF($B$25:$AF$26,"1/2 HSR")/2) -> 0 | N55: =COUNTIF($B$25:$AF$26,"EM")+(COUNTIF($B$25:$AF$26,"1/2 EM")/2) -> 0 | O55: =COUNTIF($B$25:$AF$26,"F")+(COUNTIF($B$25:$AF$26,"1/2 F")/2) -> 0 | P55: =COUNTIF($B$25:$AF$26,"ST")+(COUNTIF($B$25:$AF$26,"1/2 ST")/2) -> 0 | Q55: =COUNTIF($B$25:$AF$26,"FORM")+(COUNTIF($B$25:$AF$26,"1/2 FORM")/2) -> 0 | R55: =COUNTIF($B$25:$AF$26,"EQ")+(COUNTIF($B$25:$AF$26,"1/2 EQ")/2) -> 0 | S55: =COUNTIF($B$25:$AF$26,"CSO")+(COUNTIF($B$25:$AF$26,"1/2 CSO")/2) -> 0 | T55: =COUNTIF($B$25:$AF$26,"FOUR")+(COUNTIF($B$25:$AF$26,"1/2 FOUR")/2) -> 0 | U55: =COUNTIF($B$25:$AF$26,"PR")+(COUNTIF($B$25:$AF$26,"1/2 PR")/2) -> 0 | V55: =COUNTIF($B$25:$AF$26,"AT")+(COUNTIF($B$25:$AF$26,"1/2 AT")/2) -> 0 | AF55: =SUM(B55:AE55) -> 0
B56: =COUNTIF($B$27:$AF$28,"J")+(COUNTIF($B$27:$AF$28,"1/2 J")/2) -> 0 | C56: =COUNTIF($B$27:$AF$28,"M")+(COUNTIF($B$27:$AF$28,"1/2 M")/2) -> 0 | D56: =COUNTIF($B$27:$AF$28,"AM")+(COUNTIF($B$27:$AF$28,"1/2 AM")/2) -> 0 | E56: =COUNTIF($B$27:$AF$28,"GTPI")+(COUNTIF($B$27:$AF$28,"1/2 GTPI")/2) -> 0 | F56: =COUNTIF($B$27:$AF$28,"RH")+(COUNTIF($B$27:$AF$28,"1/2 RH")/2) -> 0 | G56: =COUNTIF($B$27:$AF$28,"CA")+(COUNTIF($B$27:$AF$28,"1/2 CA")/2) -> 0 | H56: =COUNTIF($B$27:$AF$28,"RT")+(COUNTIF($B$27:$AF$28,"1/2 RT")/2) -> 0 | I56: =COUNTIF($B$27:$AF$28,"CE")+(COUNTIF($B$27:$AF$28,"1/2 CE")/2) -> 0 | J56: =COUNTIF($B$27:$AF$28,"MO")+(COUNTIF($B$27:$AF$28,"1/2 MO")/2) -> 0 | K56: =COUNTIF($B$27:$AF$28,"CAA")+(COUNTIF($B$27:$AF$28,"1/2 CAA")/2) -> 0 | L56: =COUNTIF($B$27:$AF$28,"EF")+(COUNTIF($B$27:$AF$28,"1/2 EF")/2) -> 0 | M56: =COUNTIF($B$27:$AF$28,"HSR")+(COUNTIF($B$27:$AF$28,"1/2 HSR")/2) -> 0 | N56: =COUNTIF($B$27:$AF$28,"EM")+(COUNTIF($B$27:$AF$28,"1/2 EM")/2) -> 0 | O56: =COUNTIF($B$27:$AF$28,"F")+(COUNTIF($B$27:$AF$28,"1/2 F")/2) -> 0 | P56: =COUNTIF($B$27:$AF$28,"ST")+(COUNTIF($B$27:$AF$28,"1/2 ST")/2) -> 0 | Q56: =COUNTIF($B$27:$AF$28,"FORM")+(COUNTIF($B$27:$AF$28,"1/2 FORM")/2) -> 0 | R56: =COUNTIF($B$27:$AF$28,"EQ")+(COUNTIF($B$27:$AF$28,"1/2 EQ")/2) -> 0 | S56: =COUNTIF($B$27:$AF$28,"CSO")+(COUNTIF($B$27:$AF$28,"1/2 CSO")/2) -> 0 | T56: =COUNTIF($B$27:$AF$28,"FOUR")+(COUNTIF($B$27:$AF$28,"1/2 FOUR")/2) -> 0 | U56: =COUNTIF($B$27:$AF$28,"PR")+(COUNTIF($B$27:$AF$28,"1/2 PR")/2) -> 0 | V56: =COUNTIF($B$27:$AF$28,"AT")+(COUNTIF($B$27:$AF$28,"1/2 AT")/2) -> 0 | AF56: =SUM(B56:AE56) -> 0
B57: =COUNTIF($B$29:$AF$30,"J")+(COUNTIF($B$29:$AF$30,"1/2 J")/2) -> 0 | C57: =COUNTIF($B$29:$AF$30,"M")+(COUNTIF($B$29:$AF$30,"1/2 M")/2) -> 0 | D57: =COUNTIF($B$29:$AF$30,"AM")+(COUNTIF($B$29:$AF$30,"1/2 AM")/2) -> 0 | E57: =COUNTIF($B$29:$AF$30,"GTPI")+(COUNTIF($B$29:$AF$30,"1/2 GTPI")/2) -> 0 | F57: =COUNTIF($B$29:$AF$30,"RH")+(COUNTIF($B$29:$AF$30,"1/2 RH")/2) -> 0 | G57: =COUNTIF($B$29:$AF$30,"CA")+(COUNTIF($B$29:$AF$30,"1/2 CA")/2) -> 0 | H57: =COUNTIF($B$29:$AF$30,"RT")+(COUNTIF($B$29:$AF$30,"1/2 RT")/2) -> 0 | I57: =COUNTIF($B$29:$AF$30,"CE")+(COUNTIF($B$29:$AF$30,"1/2 CE")/2) -> 0 | J57: =COUNTIF($B$29:$AF$30,"MO")+(COUNTIF($B$29:$AF$30,"1/2 MO")/2) -> 0 | K57: =COUNTIF($B$29:$AF$30,"CAA")+(COUNTIF($B$29:$AF$30,"1/2 CAA")/2) -> 0 | L57: =COUNTIF($B$29:$AF$30,"EF")+(COUNTIF($B$29:$AF$30,"1/2 EF")/2) -> 0 | M57: =COUNTIF($B$29:$AF$30,"HSR")+(COUNTIF($B$29:$AF$30,"1/2 HSR")/2) -> 0 | N57: =COUNTIF($B$29:$AF$30,"EM")+(COUNTIF($B$29:$AF$30,"1/2 EM")/2) -> 0 | O57: =COUNTIF($B$29:$AF$30,"F")+(COUNTIF($B$29:$AF$30,"1/2 F")/2) -> 0 | P57: =COUNTIF($B$29:$AF$30,"ST")+(COUNTIF($B$29:$AF$30,"1/2 ST")/2) -> 0 | Q57: =COUNTIF($B$29:$AF$30,"FORM")+(COUNTIF($B$29:$AF$30,"1/2 FORM")/2) -> 0 | R57: =COUNTIF($B$29:$AF$30,"EQ")+(COUNTIF($B$29:$AF$30,"1/2 EQ")/2) -> 0 | S57: =COUNTIF($B$29:$AF$30,"CSO")+(COUNTIF($B$29:$AF$30,"1/2 CSO")/2) -> 0 | T57: =COUNTIF($B$29:$AF$30,"FOUR")+(COUNTIF($B$29:$AF$30,"1/2 FOUR")/2) -> 0 | U57: =COUNTIF($B$29:$AF$30,"PR")+(COUNTIF($B$29:$AF$30,"1/2 PR")/2) -> 0 | V57: =COUNTIF($B$29:$AF$30,"AT")+(COUNTIF($B$29:$AF$30,"1/2 AT")/2) -> 0 | AF57: =SUM(B57:AE57) -> 0

Sheet Avril
A1: AVRIL
Z2: Vacances scolaires
B3: 1 | C3: 2 | D3: 3 | E3: 4 | F3: 5 | G3: 6 | H3: 7 | I3: 8 | J3: 9 | K3: 10 | L3: 11 | M3: 12 | N3: 13 | O3: 14 | P3: 15 | Q3: 16 | R3: 17 | S3: 18 | T3: 19 | U3: 20 | V3: 21 | W3: 22 | X3: 23 | Y3: 24 | Z3: 25 | AA3: 26 | AB3: 27 | AC3: 28 | AD3: 29 | AE3: 30
B4: M | C4: J | D4: V | E4: S | F4: D | G4: L | H4: M | I4: M | J4: J | K4: V | L4: S | M4: D | N4: L | O4: M | P4: M | Q4: J | R4: V | S4: S | T4: D | U4: L | V4: M | W4: M | X4: J | Y4: V | Z4: S | AA4: D | AB4: L | AC4: M | AD4: M | AE4: J
A5: Alpha
A7: Bravo | B7: CA | C7: CA | D7: CA | E7: CA | F7: RH | G7: F | H7: M | I7: M | J7: M | K7: M | L7: RH | M7: RH | N7: AM | O7: AM | P7: AM | Q7: AM | R7: AM | S7: AM | T7: RH | U7: RH | V7: M | W7: M | X7: M | Y7: M | Z7: RH | AA7: RH | AB7: AM | AC7: AM | AD7: AM | AE7: AM
A9: Charlie | B9: AM | C9: AM | D9: AM | E9: AM | F9: RH | G9: F | H9: M | I9: M | J9: M | K9: M | L9: RH | M9: RH | N9: AM | O9: AM | P9: AM | Q9: AM | R9: AM | S9: AM | T9: RH | U9: RH | V9: M | W9: M | X9: M | Y9: M | Z9: RH | AA9: RH | AB9: CA | AC9: CA | AD9: CA | AE9: CA
A11: Delta | B11: AM | C11: AM | D11: AM | E11: AM | F11: RH | G11: F | H11: M | I11: M | J11: M | K11: M | L11: RH | M11: RH | N11: AM | O11: AM | P11: AM | Q11: AM | R11: AM | S11: AM | T11: RH | U11: RH | V11: M | W11: M | X11: M | Y11: M | Z11: RH | AA11: RH | AB11: AM | AC11: AM | AD11: AM | AE11: AM
A13: Echo | B13: AT | C13: AT | D13: AT | E13: CA | F13: RH | G13: F | H13: M | I13: M | J13: M | K13: M | L13: RH | M13: RH | N13: AM | O13: AM | P13: AM | Q13: AM | R13: AM | S13: AM | T13: RH | U13: RH | V13: M | W13: M | X13: M | Y13: M | Z13: RH | AA13: RH | AB13: AM | AC13: AM | AD13: AM | AE13: AM
A19: Foxtrot | B19: M | C19: M | D19: M | E19: RH | F19: RH | G19: F | H19: CA | I19: CA | J19: CA | K19: CA | L19: CA | M19: RH | N19: RH | O19: RT | P19: RT | Q19: RT | R19: RT | S19: RH | T19: RH | U19: AM | V19: AM | W19: AM | X19: AM | Y19: AM | Z19: AM | AA19: RH | AB19: RH | AC19: M | AD19: M | AE19: M
A21: Golf | B21: M | C21: M | D21: M | E21: RH | F21: RH | G21: F | H21: AM | I21: AM | J21: AM | K21: AM | L21: AM | M21: RH | N21: RH | O21: M | P21: M | Q21: M | R21: M | S21: RH | T21: RH | U21: AM | V21: AM | W21: AM | X21: AM | Y21: AM | Z21: AM | AA21: RH | AB21: RH | AC21: M | AD21: M | AE21: M
A23: Hotel | B23: M | C23: M | D23: M | E23: RH | F23: RH | G23: F | H23: AM | I23: AM | J23: AM | K23: AM | L23: AM | M23: RH | N23: RH | O23: M | P23: M | Q23: M | R23: M | S23: RH | T23: RH | U23: AM | V23: M | W23: AM | X23: M | Y23: M | Z23: AM | AA23: RH | AB23: RH | AC23: M | AD23: M | AE23: M
A25: India
A31: Présents | B31: =COUNTIF(B9:B30,"J")+(COUNTIF(B9:B30,"1/2 J")/2)+COUNTIF(B9:B30,"M")+(COUNTIF(B9:B30,"1/2 M")/2)+COUNTIF(B9:B30,"AM")+(COUNTIF(B9:B30,"1/2 AM")/2)+COUNTIF(B9:B30,"GTPI")+(COUNTIF(B9:B30,"1/2 GTPI")/2)+COUNTIF(B9:B30,"ZB")+(COUNTIF(B9:B30,"1/2 ZB")/2)+COUNTIF(B9:B30,"ZC")+(COUNTIF(B9:B30,"1/2 ZC")/2)+COUNTIF(B9:B30,"ZD")+(COUNTIF(B9:B30,"1/2 ZD")/2) -> 5 | C31: =COUNTIF(C9:C30,"J")+(COUNTIF(C9:C30,"1/2 J")/2)+COUNTIF(C9:C30,"M")+(COUNTIF(C9:C30,"1/2 M")/2)+COUNTIF(C9:C30,"AM")+(COUNTIF(C9:C30,"1/2 AM")/2)+COUNTIF(C9:C30,"GTPI")+(COUNTIF(C9:C30,"1/2 GTPI")/2)+COUNTIF(C9:C30,"ZB")+(COUNTIF(C9:C30,"1/2 ZB")/2)+COUNTIF(C9:C30,"ZC")+(COUNTIF(C9:C30,"1/2 ZC")/2)+COUNTIF(C9:C30,"ZD")+(COUNTIF(C9:C30,"1/2 ZD")/2) -> 5 | D31: =COUNTIF(D9:D30,"J")+(COUNTIF(D9:D30,"1/2 J")/2)+COUNTIF(D9:D30,"M")+(COUNTIF(D9:D30,"1/2 M")/2)+COUNTIF(D9:D30,"AM")+(COUNTIF(D9:D30,"1/2 AM")/2)+COUNTIF(D9:D30,"GTPI")+(COUNTIF(D9:D30,"1/2 GTPI")/2)+COUNTIF(D9:D30,"ZB")+(COUNTIF(D9:D30,"1/2 ZB")/2)+COUNTIF(D9:D30,"ZC")+(COUNTIF(D9:D30,"1/2 ZC")/2)+COUNTIF(D9:D30,"ZD")+(COUNTIF(D9:D30,"1/2 ZD")/2) -> 5 | E31: =COUNTIF(E9:E30,"J")+(COUNTIF(E9:E30,"1/2 J")/2)+COUNTIF(E9:E30,"M")+(COUNTIF(E9:E30,"1/2 M")/2)+COUNTIF(E9:E30,"AM")+(COUNTIF(E9:E30,"1/2 AM")/2)+COUNTIF(E9:E30,"GTPI")+(COUNTIF(E9:E30,"1/2 GTPI")/2)+COUNTIF(E9:E30,"ZB")+(COUNTIF(E9:E30,"1/2 ZB")/2)+COUNTIF(E9:E30,"ZC")+(COUNTIF(E9:E30,"1/2 ZC")/2)+COUNTIF(E9:E30,"ZD")+(COUNTIF(E9:E30,"1/2 ZD")/2) -> 2 | F31: =COUNTIF(F9:F30,"J")+(COUNTIF(F9:F30,"1/2 J")/2)+COUNTIF(F9:F30,"M")+(COUNTIF(F9:F30,"1/2 M")/2)+COUNTIF(F9:F30,"AM")+(COUNTIF(F9:F30,"1/2 AM")/2)+COUNTIF(F9:F30,"GTPI")+(COUNTIF(F9:F30,"1/2 GTPI")/2)+COUNTIF(F9:F30,"ZB")+(COUNTIF(F9:F30,"1/2 ZB")/2)+COUNTIF(F9:F30,"ZC")+(COUNTIF(F9:F30,"1/2 ZC")/2)+COUNTIF(F9:F30,"ZD")+(COUNTIF(F9:F30,"1/2 ZD")/2) -> 0 | G31: =COUNTIF(G9:G30,"J")+(COUNTIF(G9:G30,"1/2 J")/2)+COUNTIF(G9:G30,"M")+(COUNTIF(G9:G30,"1/2 M")/2)+COUNTIF(G9:G30,"AM")+(COUNTIF(G9:G30,"1/2 AM")/2)+COUNTIF(G9:G30,"GTPI")+(COUNTIF(G9:G30,"1/2 GTPI")/2)+COUNTIF(G9:G30,"ZB")+(COUNTIF(G9:G30,"1/2 ZB")/2)+COUNTIF(G9:G30,"ZC")+(COUNTIF(G9:G30,"1/2 ZC")/2)+COUNTIF(G9:G30,"ZD")+(COUNTIF(G9:G30,"1/2 ZD")/2) -> 0 | H31: =COUNTIF(H9:H30,"J")+(COUNTIF(H9:H30,"1/2 J")/2)+COUNTIF(H9:H30,"M")+(COUNTIF(H9:H30,"1/2 M")/2)+COUNTIF(H9:H30,"AM")+(COUNTIF(H9:H30,"1/2 AM")/2)+COUNTIF(H9:H30,"GTPI")+(COUNTIF(H9:H30,"1/2 GTPI")/2)+COUNTIF(H9:H30,"ZB")+(COUNTIF(H9:H30,"1/2 ZB")/2)+COUNTIF(H9:H30,"ZC")+(COUNTIF(H9:H30,"1/2 ZC")/2)+COUNTIF(H9:H30,"ZD")+(COUNTIF(H9:H30,"1/2 ZD")/2) -> 5 | I31: =COUNTIF(I9:I30,"J")+(COUNTIF(I9:I30,"1/2 J")/2)+COUNTIF(I9:I30,"M")+(COUNTIF(I9:I30,"1/2 M")/2)+COUNTIF(I9:I30,"AM")+(COUNTIF(I9:I30,"1/2 AM")/2)+COUNTIF(I9:I30,"GTPI")+(COUNTIF(I9:I30,"1/2 GTPI")/2)+COUNTIF(I9:I30,"ZB")+(COUNTIF(I9:I30,"1/2 ZB")/2)+COUNTIF(I9:I30,"ZC")+(COUNTIF(I9:I30,"1/2 ZC")/2)+COUNTIF(I9:I30,"ZD")+(COUNTIF(I9:I30,"1/2 ZD")/2) -> 5 | ... AF31: =COUNTIF(AF9:AF30,"J")+(COUNTIF(AF9:AF30,"1/2 J")/2)+COUNTIF(AF9:AF30,"M")+(COUNTIF(AF9:AF30,"1/2 M")/2)+COUNTIF(AF9:AF30,"AM")+(COUNTIF(AF9:AF30,"1/2 AM")/2)+COUNTIF(AF9:AF30,"GTPI")+(COUNTIF(AF9:AF30,"1/2 GTPI")/2)+COUNTIF(AF9:AF30,"ZB")+(COUNTIF(AF9:AF30,"1/2 ZB")/2)+COUNTIF(AF9:AF30,"ZC")+(COUNTIF(AF9:AF30,"1/2 ZC")/2)+COUNTIF(AF9:AF30,"ZD")+(COUNTIF(AF9:AF30,"1/2 ZD")/2) -> 0
A32: Absents | B32: =COUNTIF(B9:B30,"RH")+(COUNTIF(B9:B30,"1/2 RH")/2)+COUNTIF(B9:B30,"CA")+(COUNTIF(B9:B30,"1/2 CA")/2)+COUNTIF(B9:B30,"RT")+(COUNTIF(B9:B30,"1/2 RT")/2)+COUNTIF(B9:B30,"CE")+(COUNTIF(B9:B30,"1/2 CE")/2)+COUNTIF(B9:B30,"MO")+(COUNTIF(B9:B30,"1/2 MO")/2)+COUNTIF(B9:B30,"CAA")+(COUNTIF(B9:B30,"1/2 CAA")/2)+COUNTIF(B9:B30,"EF")+(COUNTIF(B9:B30,"1/2 EF")/2)+COUNTIF(B9:B30,"HSR")+(COUNTIF(B9:B30,"1/2 HSR")/2)+COUNTIF(B9:B30,"EM")+(COUNTIF(B9:B30,"1/2 EM")/2)+COUNTIF(B9:B30,"F")+(COUNTIF(B9:B30,"1/2 F")/2)+COUNTIF(B9:B30,"AT")+(COUNTIF(B9:B30,"1/2 AT")/2)+COUNTIF(B9:B30,"ZC")+(COUNTIF(B9:B30,"1/2 ZC")/2)+COUNTIF(B9:B30,"ZD")+(COUNTIF(B9:B30,"1/2 ZD")/2) -> 1 | C32: =COUNTIF(C9:C30,"RH")+(COUNTIF(C9:C30,"1/2 RH")/2)+COUNTIF(C9:C30,"CA")+(COUNTIF(C9:C30,"1/2 CA")/2)+COUNTIF(C9:C30,"RT")+(COUNTIF(C9:C30,"1/2 RT")/2)+COUNTIF(C9:C30,"CE")+(COUNTIF(C9:C30,"1/2 CE")/2)+COUNTIF(C9:C30,"MO")+(COUNTIF(C9:C30,"1/2 MO")/2)+COUNTIF(C9:C30,"CAA")+(COUNTIF(C9:C30,"1/2 CAA")/2)+COUNTIF(C9:C30,"EF")+(COUNTIF(C9:C30,"1/2 EF")/2)+COUNTIF(C9:C30,"HSR")+(COUNTIF(C9:C30,"1/2 HSR")/2)+COUNTIF(C9:C30,"EM")+(COUNTIF(C9:C30,"1/2 EM")/2)+COUNTIF(C9:C30,"F")+(COUNTIF(C9:C30,"1/2 F")/2)+COUNTIF(C9:C30,"AT")+(COUNTIF(C9:C30,"1/2 AT")/2)+COUNTIF(C9:C30,"ZC")+(COUNTIF(C9:C30,"1/2 ZC")/2)+COUNTIF(C9:C30,"ZD")+(COUNTIF(C9:C30,"1/2 ZD")/2) -> 1 | D32: =COUNTIF(D9:D30,"RH")+(COUNTIF(D9:D30,"1/2 RH")/2)+COUNTIF(D9:D30,"CA")+(COUNTIF(D9:D30,"1/2 CA")/2)+COUNTIF(D9:D30,"RT")+(COUNTIF(D9:D30,"1/2 RT")/2)+COUNTIF(D9:D30,"CE")+(COUNTIF(D9:D30,"1/2 CE")/2)+COUNTIF(D9:D30,"MO")+(COUNTIF(D9:D30,"1/2 MO")/2)+COUNTIF(D9:D30,"CAA")+(COUNTIF(D9:D30,"1/2 CAA")/2)+COUNTIF(D9:D30,"EF")+(COUNTIF(D9:D30,"1/2 EF")/2)+COUNTIF(D9:D30,"HSR")+(COUNTIF(D9:D30,"1/2 HSR")/2)+COUNTIF(D9:D30,"EM")+(COUNTIF(D9:D30,"1/2 EM")/2)+COUNTIF(D9:D30,"F")+(COUNTIF(D9:D30,"1/2 F")/2)+COUNTIF(D9:D30,"AT")+(COUNTIF(D9:D30,"1/2 AT")/2)+COUNTIF(D9:D30,"ZC")+(COUNTIF(D9:D30,"1/2 ZC")/2)+COUNTIF(D9:D30,"ZD")+(COUNTIF(D9:D30,"1/2 ZD")/2) -> 1 | E32: =COUNTIF(E9:E30,"RH")+(COUNTIF(E9:E30,"1/2 RH")/2)+COUNTIF(E9:E30,"CA")+(COUNTIF(E9:E30,"1/2 CA")/2)+COUNTIF(E9:E30,"RT")+(COUNTIF(E9:E30,"1/2 RT")/2)+COUNTIF(E9:E30,"CE")+(COUNTIF(E9:E30,"1/2 CE")/2)+COUNTIF(E9:E30,"MO")+(COUNTIF(E9:E30,"1/2 MO")/2)+COUNTIF(E9:E30,"CAA")+(COUNTIF(E9:E30,"1/2 CAA")/2)+COUNTIF(E9:E30,"EF")+(COUNTIF(E9:E30,"1/2 EF")/2)+COUNTIF(E9:E30,"HSR")+(COUNTIF(E9:E30,"1/2 HSR")/2)+COUNTIF(E9:E30,"EM")+(COUNTIF(E9:E30,"1/2 EM")/2)+COUNTIF(E9:E30,"F")+(COUNTIF(E9:E30,"1/2 F")/2)+COUNTIF(E9:E30,"AT")+(COUNTIF(E9:E30,"1/2 AT")/2)+COUNTIF(E9:E30,"ZC")+(COUNTIF(E9:E30,"1/2 ZC")/2)+COUNTIF(E9:E30,"ZD")+(COUNTIF(E9:E30,"1/2 ZD")/2) -> 4 | F32: =COUNTIF(F9:F30,"RH")+(COUNTIF(F9:F30,"1/2 RH")/2)+COUNTIF(F9:F30,"CA")+(COUNTIF(F9:F30,"1/2 CA")/2)+COUNTIF(F9:F30,"RT")+(COUNTIF(F9:F30,"1/2 RT")/2)+COUNTIF(F9:F30,"CE")+(COUNTIF(F9:F30,"1/2 CE")/2)+COUNTIF(F9:F30,"MO")+(COUNTIF(F9:F30,"1/2 MO")/2)+COUNTIF(F9:F30,"CAA")+(COUNTIF(F9:F30,"1/2 CAA")/2)+COUNTIF(F9:F30,"EF")+(COUNTIF(F9:F30,"1/2 EF")/2)+COUNTIF(F9:F30,"HSR")+(COUNTIF(F9:F30,"1/2 HSR")/2)+COUNTIF(F9:F30,"EM")+(COUNTIF(F9:F30,"1/2 EM")/2)+COUNTIF(F9:F30,"F")+(COUNTIF(F9:F30,"1/2 F")/2)+COUNTIF(F9:F30,"AT")+(COUNTIF(F9:F30,"1/2 AT")/2)+COUNTIF(F9:F30,"ZC")+(COUNTIF(F9:F30,"1/2 ZC")/2)+COUNTIF(F9:F30,"ZD")+(COUNTIF(F9:F30,"1/2 ZD")/2) -> 6 | G32: =COUNTIF(G9:G30,"RH")+(COUNTIF(G9:G30,"1/2 RH")/2)+COUNTIF(G9:G30,"CA")+(COUNTIF(G9:G30,"1/2 CA")/2)+COUNTIF(G9:G30,"RT")+(COUNTIF(G9:G30,"1/2 RT")/2)+COUNTIF(G9:G30,"CE")+(COUNTIF(G9:G30,"1/2 CE")/2)+COUNTIF(G9:G30,"MO")+(COUNTIF(G9:G30,"1/2 MO")/2)+COUNTIF(G9:G30,"CAA")+(COUNTIF(G9:G30,"1/2 CAA")/2)+COUNTIF(G9:G30,"EF")+(COUNTIF(G9:G30,"1/2 EF")/2)+COUNTIF(G9:G30,"HSR")+(COUNTIF(G9:G30,"1/2 HSR")/2)+COUNTIF(G9:G30,"EM")+(COUNTIF(G9:G30,"1/2 EM")/2)+COUNTIF(G9:G30,"F")+(COUNTIF(G9:G30,"1/2 F")/2)+COUNTIF(G9:G30,"AT")+(COUNTIF(G9:G30,"1/2 AT")/2)+COUNTIF(G9:G30,"ZC")+(COUNTIF(G9:G30,"1/2 ZC")/2)+COUNTIF(G9:G30,"ZD")+(COUNTIF(G9:G30,"1/2 ZD")/2) -> 6 | H32: =COUNTIF(H9:H30,"RH")+(COUNTIF(H9:H30,"1/2 RH")/2)+COUNTIF(H9:H30,"CA")+(COUNTIF(H9:H30,"1/2 CA")/2)+COUNTIF(H9:H30,"RT")+(COUNTIF(H9:H30,"1/2 RT")/2)+COUNTIF(H9:H30,"CE")+(COUNTIF(H9:H30,"1/2 CE")/2)+COUNTIF(H9:H30,"MO")+(COUNTIF(H9:H30,"1/2 MO")/2)+COUNTIF(H9:H30,"CAA")+(COUNTIF(H9:H30,"1/2 CAA")/2)+COUNTIF(H9:H30,"EF")+(COUNTIF(H9:H30,"1/2 EF")/2)+COUNTIF(H9:H30,"HSR")+(COUNTIF(H9:H30,"1/2 HSR")/2)+COUNTIF(H9:H30,"EM")+(COUNTIF(H9:H30,"1/2 EM")/2)+COUNTIF(H9:H30,"F")+(COUNTIF(H9:H30,"1/2 F")/2)+COUNTIF(H9:H30,"AT")+(COUNTIF(H9:H30,"1/2 AT")/2)+COUNTIF(H9:H30,"ZC")+(COUNTIF(H9:H30,"1/2 ZC")/2)+COUNTIF(H9:H30,"ZD")+(COUNTIF(H9:H30,"1/2 ZD")/2) -> 1 | I32: =COUNTIF(I9:I30,"RH")+(COUNTIF(I9:I30,"1/2 RH")/2)+COUNTIF(I9:I30,"CA")+(COUNTIF(I9:I30,"1/2 CA")/2)+COUNTIF(I9:I30,"RT")+(COUNTIF(I9:I30,"1/2 RT")/2)+COUNTIF(I9:I30,"CE")+(COUNTIF(I9:I30,"1/2 CE")/2)+COUNTIF(I9:I30,"MO")+(COUNTIF(I9:I30,"1/2 MO")/2)+COUNTIF(I9:I30,"CAA")+(COUNTIF(I9:I30,"1/2 CAA")/2)+COUNTIF(I9:I30,"EF")+(COUNTIF(I9:I30,"1/2 EF")/2)+COUNTIF(I9:I30,"HSR")+(COUNTIF(I9:I30,"1/2 HSR")/2)+COUNTIF(I9:I30,"EM")+(COUNTIF(I9:I30,"1/2 EM")/2)+COUNTIF(I9:I30,"F")+(COUNTIF(I9:I30,"1/2 F")/2)+COUNTIF(I9:I30,"AT")+(COUNTIF(I9:I30,"1/2 AT")/2)+COUNTIF(I9:I30,"ZC")+(COUNTIF(I9:I30,"1/2 ZC")/2)+COUNTIF(I9:I30,"ZD")+(COUNTIF(I9:I30,"1/2 ZD")/2) -> 1 | ... AF32: =COUNTIF(AF9:AF30,"RH")+(COUNTIF(AF9:AF30,"1/2 RH")/2)+COUNTIF(AF9:AF30,"CA")+(COUNTIF(AF9:AF30,"1/2 CA")/2)+COUNTIF(AF9:AF30,"RT")+(COUNTIF(AF9:AF30,"1/2 RT")/2)+COUNTIF(AF9:AF30,"CE")+(COUNTIF(AF9:AF30,"1/2 CE")/2)+COUNTIF(AF9:AF30,"MO")+(COUNTIF(AF9:AF30,"1/2 MO")/2)+COUNTIF(AF9:AF30,"CAA")+(COUNTIF(AF9:AF30,"1/2 CAA")/2)+COUNTIF(AF9:AF30,"EF")+(COUNTIF(AF9:AF30,"1/2 EF")/2)+COUNTIF(AF9:AF30,"HSR")+(COUNTIF(AF9:AF30,"1/2 HSR")/2)+COUNTIF(AF9:AF30,"EM")+(COUNTIF(AF9:AF30,"1/2 EM")/2)+COUNTIF(AF9:AF30,"F")+(COUNTIF(AF9:AF30,"1/2 F")/2)+COUNTIF(AF9:AF30,"AT")+(COUNTIF(AF9:AF30,"1/2 AT")/2)+COUNTIF(AF9:AF30,"ZC")+(COUNTIF(AF9:AF30,"1/2 ZC")/2)+COUNTIF(AF9:AF30,"ZD")+(COUNTIF(AF9:AF30,"1/2 ZD")/2) -> 0
A33: Prés. Indispo. | B33: =COUNTIF(B9:B30,"ST")+(COUNTIF(B9:B30,"1/2 ST")/2)+COUNTIF(B9:B30,"FORM")+(COUNTIF(B9:B30,"1/2 FORM")/2)+COUNTIF(B9:B30,"EQ")+(COUNTIF(B9:B30,"1/2 EQ")/2)+COUNTIF(B9:B30,"CSO")+(COUNTIF(B9:B30,"1/2 CSO")/2)+COUNTIF(B9:B30,"FOUR")+(COUNTIF(B9:B30,"1/2 FOUR")/2)+COUNTIF(B9:B30,"PR")+(COUNTIF(B9:B30,"1/2 PR")/2)+COUNTIF(B9:B30,"ZA")+(COUNTIF(B9:B30,"1/2 ZA")/2)+COUNTIF(B9:B30,"ZB")+(COUNTIF(B9:B30,"1/2 ZB")/2)+COUNTIF(B9:B30,"ZC")+(COUNTIF(B9:B30,"1/2 ZC")/2)+COUNTIF(B9:B30,"ZD")+(COUNTIF(B9:B30,"1/2 ZD")/2) -> 0 | C33: =COUNTIF(C9:C30,"ST")+(COUNTIF(C9:C30,"1/2 ST")/2)+COUNTIF(C9:C30,"FORM")+(COUNTIF(C9:C30,"1/2 FORM")/2)+COUNTIF(C9:C30,"EQ")+(COUNTIF(C9:C30,"1/2 EQ")/2)+COUNTIF(C9:C30,"CSO")+(COUNTIF(C9:C30,"1/2 CSO")/2)+COUNTIF(C9:C30,"FOUR")+(COUNTIF(C9:C30,"1/2 FOUR")/2)+COUNTIF(C9:C30,"PR")+(COUNTIF(C9:C30,"1/2 PR")/2)+COUNTIF(C9:C30,"ZA")+(COUNTIF(C9:C30,"1/2 ZA")/2)+COUNTIF(C9:C30,"ZB")+(COUNTIF(C9:C30,"1/2 ZB")/2)+COUNTIF(C9:C30,"ZC")+(COUNTIF(C9:C30,"1/2 ZC")/2)+COUNTIF(C9:C30,"ZD")+(COUNTIF(C9:C30,"1/2 ZD")/2) -> 0 | D33: =COUNTIF(D9:D30,"ST")+(COUNTIF(D9:D30,"1/2 ST")/2)+COUNTIF(D9:D30,"FORM")+(COUNTIF(D9:D30,"1/2 FORM")/2)+COUNTIF(D9:D30,"EQ")+(COUNTIF(D9:D30,"1/2 EQ")/2)+COUNTIF(D9:D30,"CSO")+(COUNTIF(D9:D30,"1/2 CSO")/2)+COUNTIF(D9:D30,"FOUR")+(COUNTIF(D9:D30,"1/2 FOUR")/2)+COUNTIF(D9:D30,"PR")+(COUNTIF(D9:D30,"1/2 PR")/2)+COUNTIF(D9:D30,"ZA")+(COUNTIF(D9:D30,"1/2 ZA")/2)+COUNTIF(D9:D30,"ZB")+(COUNTIF(D9:D30,"1/2 ZB")/2)+COUNTIF(D9:D30,"ZC")+(COUNTIF(D9:D30,"1/2 ZC")/2)+COUNTIF(D9:D30,"ZD")+(COUNTIF(D9:D30,"1/2 ZD")/2) -> 0 | E33: =COUNTIF(E9:E30,"ST")+(COUNTIF(E9:E30,"1/2 ST")/2)+COUNTIF(E9:E30,"FORM")+(COUNTIF(E9:E30,"1/2 FORM")/2)+COUNTIF(E9:E30,"EQ")+(COUNTIF(E9:E30,"1/2 EQ")/2)+COUNTIF(E9:E30,"CSO")+(COUNTIF(E9:E30,"1/2 CSO")/2)+COUNTIF(E9:E30,"FOUR")+(COUNTIF(E9:E30,"1/2 FOUR")/2)+COUNTIF(E9:E30,"PR")+(COUNTIF(E9:E30,"1/2 PR")/2)+COUNTIF(E9:E30,"ZA")+(COUNTIF(E9:E30,"1/2 ZA")/2)+COUNTIF(E9:E30,"ZB")+(COUNTIF(E9:E30,"1/2 ZB")/2)+COUNTIF(E9:E30,"ZC")+(COUNTIF(E9:E30,"1/2 ZC")/2)+COUNTIF(E9:E30,"ZD")+(COUNTIF(E9:E30,"1/2 ZD")/2) -> 0 | F33: =COUNTIF(F9:F30,"ST")+(COUNTIF(F9:F30,"1/2 ST")/2)+COUNTIF(F9:F30,"FORM")+(COUNTIF(F9:F30,"1/2 FORM")/2)+COUNTIF(F9:F30,"EQ")+(COUNTIF(F9:F30,"1/2 EQ")/2)+COUNTIF(F9:F30,"CSO")+(COUNTIF(F9:F30,"1/2 CSO")/2)+COUNTIF(F9:F30,"FOUR")+(COUNTIF(F9:F30,"1/2 FOUR")/2)+COUNTIF(F9:F30,"PR")+(COUNTIF(F9:F30,"1/2 PR")/2)+COUNTIF(F9:F30,"ZA")+(COUNTIF(F9:F30,"1/2 ZA")/2)+COUNTIF(F9:F30,"ZB")+(COUNTIF(F9:F30,"1/2 ZB")/2)+COUNTIF(F9:F30,"ZC")+(COUNTIF(F9:F30,"1/2 ZC")/2)+COUNTIF(F9:F30,"ZD")+(COUNTIF(F9:F30,"1/2 ZD")/2) -> 0 | G33: =COUNTIF(G9:G30,"ST")+(COUNTIF(G9:G30,"1/2 ST")/2)+COUNTIF(G9:G30,"FORM")+(COUNTIF(G9:G30,"1/2 FORM")/2)+COUNTIF(G9:G30,"EQ")+(COUNTIF(G9:G30,"1/2 EQ")/2)+COUNTIF(G9:G30,"CSO")+(COUNTIF(G9:G30,"1/2 CSO")/2)+COUNTIF(G9:G30,"FOUR")+(COUNTIF(G9:G30,"1/2 FOUR")/2)+COUNTIF(G9:G30,"PR")+(COUNTIF(G9:G30,"1/2 PR")/2)+COUNTIF(G9:G30,"ZA")+(COUNTIF(G9:G30,"1/2 ZA")/2)+COUNTIF(G9:G30,"ZB")+(COUNTIF(G9:G30,"1/2 ZB")/2)+COUNTIF(G9:G30,"ZC")+(COUNTIF(G9:G30,"1/2 ZC")/2)+COUNTIF(G9:G30,"ZD")+(COUNTIF(G9:G30,"1/2 ZD")/2) -> 0 | H33: =COUNTIF(H9:H30,"ST")+(COUNTIF(H9:H30,"1/2 ST")/2)+COUNTIF(H9:H30,"FORM")+(COUNTIF(H9:H30,"1/2 FORM")/2)+COUNTIF(H9:H30,"EQ")+(COUNTIF(H9:H30,"1/2 EQ")/2)+COUNTIF(H9:H30,"CSO")+(COUNTIF(H9:H30,"1/2 CSO")/2)+COUNTIF(H9:H30,"FOUR")+(COUNTIF(H9:H30,"1/2 FOUR")/2)+COUNTIF(H9:H30,"PR")+(COUNTIF(H9:H30,"1/2 PR")/2)+COUNTIF(H9:H30,"ZA")+(COUNTIF(H9:H30,"1/2 ZA")/2)+COUNTIF(H9:H30,"ZB")+(COUNTIF(H9:H30,"1/2 ZB")/2)+COUNTIF(H9:H30,"ZC")+(COUNTIF(H9:H30,"1/2 ZC")/2)+COUNTIF(H9:H30,"ZD")+(COUNTIF(H9:H30,"1/2 ZD")/2) -> 0 | I33: =COUNTIF(I9:I30,"ST")+(COUNTIF(I9:I30,"1/2 ST")/2)+COUNTIF(I9:I30,"FORM")+(COUNTIF(I9:I30,"1/2 FORM")/2)+COUNTIF(I9:I30,"EQ")+(COUNTIF(I9:I30,"1/2 EQ")/2)+COUNTIF(I9:I30,"CSO")+(COUNTIF(I9:I30,"1/2 CSO")/2)+COUNTIF(I9:I30,"FOUR")+(COUNTIF(I9:I30,"1/2 FOUR")/2)+COUNTIF(I9:I30,"PR")+(COUNTIF(I9:I30,"1/2 PR")/2)+COUNTIF(I9:I30,"ZA")+(COUNTIF(I9:I30,"1/2 ZA")/2)+COUNTIF(I9:I30,"ZB")+(COUNTIF(I9:I30,"1/2 ZB")/2)+COUNTIF(I9:I30,"ZC")+(COUNTIF(I9:I30,"1/2 ZC")/2)+COUNTIF(I9:I30,"ZD")+(COUNTIF(I9:I30,"1/2 ZD")/2) -> 0 | ... AF33: =COUNTIF(AF9:AF30,"ST")+(COUNTIF(AF9:AF30,"1/2 ST")/2)+COUNTIF(AF9:AF30,"FORM")+(COUNTIF(AF9:AF30,"1/2 FORM")/2)+COUNTIF(AF9:AF30,"EQ")+(COUNTIF(AF9:AF30,"1/2 EQ")/2)+COUNTIF(AF9:AF30,"CSO")+(COUNTIF(AF9:AF30,"1/2 CSO")/2)+COUNTIF(AF9:AF30,"FOUR")+(COUNTIF(AF9:AF30,"1/2 FOUR")/2)+COUNTIF(AF9:AF30,"PR")+(COUNTIF(AF9:AF30,"1/2 PR")/2)+COUNTIF(AF9:AF30,"ZA")+(COUNTIF(AF9:AF30,"1/2 ZA")/2)+COUNTIF(AF9:AF30,"ZB")+(COUNTIF(AF9:AF30,"1/2 ZB")/2)+COUNTIF(AF9:AF30,"ZC")+(COUNTIF(AF9:AF30,"1/2 ZC")/2)+COUNTIF(AF9:AF30,"ZD")+(COUNTIF(AF9:AF30,"1/2 ZD")/2) -> 0
B44: J | C44: M | D44: AM | E44: GTPI | F44: RH | G44: CA | H44: RT | I44: CE | J44: MO | K44: CAA | L44: EF | M44: HSR | N44: EM | O44: F | P44: ST | Q44: FORM | R44: EQ | S44: CSO | T44: FOUR | U44: PR | V44: AT
A45: Alpha | B45: =COUNTIF($B$29:$AF$30,"J")+(COUNTIF($B$29:$AF$30,"1/2 J")/2) -> 0 | C45: =COUNTIF($B$29:$AF$30,"M")+(COUNTIF($B$29:$AF$30,"1/2 M")/2) -> 0 | D45: =COUNTIF($B$29:$AF$30,"AM")+(COUNTIF($B$29:$AF$30,"1/2 AM")/2) -> 0 | E45: =COUNTIF($B$29:$AF$30,"GTPI")+(COUNTIF($B$29:$AF$30,"1/2 GTPI")/2) -> 0 | F45: =COUNTIF($B$29:$AF$30,"RH")+(COUNTIF($B$29:$AF$30,"1/2 RH")/2) -> 0 | G45: =COUNTIF($B$29:$AF$30,"CA")+(COUNTIF($B$29:$AF$30,"1/2 CA")/2) -> 0 | H45: =COUNTIF($B$29:$AF$30,"RT")+(COUNTIF($B$29:$AF$30,"1/2 RT")/2) -> 0 | I45: =COUNTIF($B$29:$AF$30,"CE")+(COUNTIF($B$29:$AF$30,"1/2 CE")/2) -> 0 | J45: =COUNTIF($B$29:$AF$30,"MO")+(COUNTIF($B$29:$AF$30,"1/2 MO")/2) -> 0 | K45: =COUNTIF($B$29:$AF$30,"CAA")+(COUNTIF($B$29:$AF$30,"1/2 CAA")/2) -> 0 | L45: =COUNTIF($B$29:$AF$30,"EF")+(COUNTIF($B$29:$AF$30,"1/2 EF")/2) -> 0 | M45: =COUNTIF($B$29:$AF$30,"HSR")+(COUNTIF($B$29:$AF$30,"1/2 HSR")/2) -> 0 | N45: =COUNTIF($B$29:$AF$30,"EM")+(COUNTIF($B$29:$AF$30,"1/2 EM")/2) -> 0 | O45: =COUNTIF($B$29:$AF$30,"F")+(COUNTIF($B$29:$AF$30,"1/2 F")/2) -> 0 | P45: =COUNTIF($B$29:$AF$30,"ST")+(COUNTIF($B$29:$AF$30,"1/2 ST")/2) -> 0 | Q45: =COUNTIF($B$29:$AF$30,"FORM")+(COUNTIF($B$29:$AF$30,"1/2 FORM")/2) -> 0 | R45: =COUNTIF($B$29:$AF$30,"EQ")+(COUNTIF($B$29:$AF$30,"1/2 EQ")/2) -> 0 | S45: =COUNTIF($B$29:$AF$30,"CSO")+(COUNTIF($B$29:$AF$30,"1/2 CSO")/2) -> 0 | T45: =COUNTIF($B$29:$AF$30,"FOUR")+(COUNTIF($B$29:$AF$30,"1/2 FOUR")/2) -> 0 | U45: =COUNTIF($B$29:$AF$30,"PR")+(COUNTIF($B$29:$AF$30,"1/2 PR")/2) -> 0 | V45: =COUNTIF($B$29:$AF$30,"AT")+(COUNTIF($B$29:$AF$30,"1/2 AT")/2) -> 0 | AF45: =SUM(B45:AE45) -> 0
A46: Bravo | B46: =COUNTIF($B$19:$AF$20,"J")+(COUNTIF($B$19:$AF$20,"1/2 J")/2) -> 0 | C46: =COUNTIF($B$19:$AF$20,"M")+(COUNTIF($B$19:$AF$20,"1/2 M")/2) -> 6 | D46: =COUNTIF($B$19:$AF$20,"AM")+(COUNTIF($B$19:$AF$20,"1/2 AM")/2) -> 6 | E46: =COUNTIF($B$19:$AF$20,"GTPI")+(COUNTIF($B$19:$AF$20,"1/2 GTPI")/2) -> 0 | F46: =COUNTIF($B$19:$AF$20,"RH")+(COUNTIF($B$19:$AF$20,"1/2 RH")/2) -> 8 | G46: =COUNTIF($B$19:$AF$20,"CA")+(COUNTIF($B$19:$AF$20,"1/2 CA")/2) -> 5 | H46: =COUNTIF($B$19:$AF$20,"RT")+(COUNTIF($B$19:$AF$20,"1/2 RT")/2) -> 4 | I46: =COUNTIF($B$19:$AF$20,"CE")+(COUNTIF($B$19:$AF$20,"1/2 CE")/2) -> 0 | J46: =COUNTIF($B$19:$AF$20,"MO")+(COUNTIF($B$19:$AF$20,"1/2 MO")/2) -> 0 | K46: =COUNTIF($B$19:$AF$20,"CAA")+(COUNTIF($B$19:$AF$20,"1/2 CAA")/2) -> 0 | L46: =COUNTIF($B$19:$AF$20,"EF")+(COUNTIF($B$19:$AF$20,"1/2 EF")/2) -> 0 | M46: =COUNTIF($B$19:$AF$20,"HSR")+(COUNTIF($B$19:$AF$20,"1/2 HSR")/2) -> 0 | N46: =COUNTIF($B$19:$AF$20,"EM")+(COUNTIF($B$19:$AF$20,"1/2 EM")/2) -> 0 | O46: =COUNTIF($B$19:$AF$20,"F")+(COUNTIF($B$19:$AF$20,"1/2 F")/2) -> 1 | P46: =COUNTIF($B$19:$AF$20,"ST")+(COUNTIF($B$19:$AF$20,"1/2 ST")/2) -> 0 | Q46: =COUNTIF($B$19:$AF$20,"FORM")+(COUNTIF($B$19:$AF$20,"1/2 FORM")/2) -> 0 | R46: =COUNTIF($B$19:$AF$20,"EQ")+(COUNTIF($B$19:$AF$20,"1/2 EQ")/2) -> 0 | S46: =COUNTIF($B$19:$AF$20,"CSO")+(COUNTIF($B$19:$AF$20,"1/2 CSO")/2) -> 0 | T46: =COUNTIF($B$19:$AF$20,"FOUR")+(COUNTIF($B$19:$AF$20,"1/2 FOUR")/2) -> 0 | U46: =COUNTIF($B$19:$AF$20,"PR")+(COUNTIF($B$19:$AF$20,"1/2 PR")/2) -> 0 | V46: =COUNTIF($B$19:$AF$20,"AT")+(COUNTIF($B$19:$AF$20,"1/2 AT")/2) -> 0 | AF46: =SUM(B46:AE46) -> 30
A47: Charlie | B47: =COUNTIF($B$9:$AF$10,"J")+(COUNTIF($B$9:$AF$10,"1/2 J")/2) -> 0 | C47: =COUNTIF($B$9:$AF$10,"M")+(COUNTIF($B$9:$AF$10,"1/2 M")/2) -> 8 | D47: =COUNTIF($B$9:$AF$10,"AM")+(COUNTIF($B$9:$AF$10,"1/2 AM")/2) -> 10 | E47: =COUNTIF($B$9:$AF$10,"GTPI")+(COUNTIF($B$9:$AF$10,"1/2 GTPI")/2) -> 0 | F47: =COUNTIF($B$9:$AF$10,"RH")+(COUNTIF($B$9:$AF$10,"1/2 RH")/2) -> 7 | G47: =COUNTIF($B$9:$AF$10,"CA")+(COUNTIF($B$9:$AF$10,"1/2 CA")/2) -> 4 | H47: =COUNTIF($B$9:$AF$10,"RT")+(COUNTIF($B$9:$AF$10,"1/2 RT")/2) -> 0 | I47: =COUNTIF($B$9:$AF$10,"CE")+(COUNTIF($B$9:$AF$10,"1/2 CE")/2) -> 0 | J47: =COUNTIF($B$9:$AF$10,"MO")+(COUNTIF($B$9:$AF$10,"1/2 MO")/2) -> 0 | K47: =COUNTIF($B$9:$AF$10,"CAA")+(COUNTIF($B$9:$AF$10,"1/2 CAA")/2) -> 0 | L47: =COUNTIF($B$9:$AF$10,"EF")+(COUNTIF($B$9:$AF$10,"1/2 EF")/2) -> 0 | M47: =COUNTIF($B$9:$AF$10,"HSR")+(COUNTIF($B$9:$AF$10,"1/2 HSR")/2) -> 0 | N47: =COUNTIF($B$9:$AF$10,"EM")+(COUNTIF($B$9:$AF$10,"1/2 EM")/2) -> 0 | O47: =COUNTIF($B$9:$AF$10,"F")+(COUNTIF($B$9:$AF$10,"1/2 F")/2) -> 1 | P47: =COUNTIF($B$9:$AF$10,"ST")+(COUNTIF($B$9:$AF$10,"1/2 ST")/2) -> 0 | Q47: =COUNTIF($B$9:$AF$10,"FORM")+(COUNTIF($B$9:$AF$10,"1/2 FORM")/2) -> 0 | R47: =COUNTIF($B$9:$AF$10,"EQ")+(COUNTIF($B$9:$AF$10,"1/2 EQ")/2) -> 0 | S47: =COUNTIF($B$9:$AF$10,"CSO")+(COUNTIF($B$9:$AF$10,"1/2 CSO")/2) -> 0 | T47: =COUNTIF($B$9:$AF$10,"FOUR")+(COUNTIF($B$9:$AF$10,"1/2 FOUR")/2) -> 0 | U47: =COUNTIF($B$9:$AF$10,"PR")+(COUNTIF($B$9:$AF$10,"1/2 PR")/2) -> 0 | V47: =COUNTIF($B$9:$AF$10,"AT")+(COUNTIF($B$9:$AF$10,"1/2 AT")/2) -> 0 | AF47: =SUM(B47:AE47) -> 30
A48: Delta | B48: =COUNTIF($B$11:$AF$12,"J")+(COUNTIF($B$11:$AF$12,"1/2 J")/2) -> 0 | C48: =COUNTIF($B$11:$AF$12,"M")+(COUNTIF($B$11:$AF$12,"1/2 M")/2) -> 8 | D48: =COUNTIF($B$11:$AF$12,"AM")+(COUNTIF($B$11:$AF$12,"1/2 AM")/2) -> 14 | E48: =COUNTIF($B$11:$AF$12,"GTPI")+(COUNTIF($B$11:$AF$12,"1/2 GTPI")/2) -> 0 | F48: =COUNTIF($B$11:$AF$12,"RH")+(COUNTIF($B$11:$AF$12,"1/2 RH")/2) -> 7 | G48: =COUNTIF($B$11:$AF$12,"CA")+(COUNTIF($B$11:$AF$12,"1/2 CA")/2) -> 0 | H48: =COUNTIF($B$11:$AF$12,"RT")+(COUNTIF($B$11:$AF$12,"1/2 RT")/2) -> 0 | I48: =COUNTIF($B$11:$AF$12,"CE")+(COUNTIF($B$11:$AF$12,"1/2 CE")/2) -> 0 | J48: =COUNTIF($B$11:$AF$12,"MO")+(COUNTIF($B$11:$AF$12,"1/2 MO")/2) -> 0 | K48: =COUNTIF($B$11:$AF$12,"CAA")+(COUNTIF($B$11:$AF$12,"1/2 CAA")/2) -> 0 | L48: =COUNTIF($B$11:$AF$12,"EF")+(COUNTIF($B$11:$AF$12,"1/2 EF")/2) -> 0 | M48: =COUNTIF($B$11:$AF$12,"HSR")+(COUNTIF($B$11:$AF$12,"1/2 HSR")/2) -> 0 | N48: =COUNTIF($B$11:$AF$12,"EM")+(COUNTIF($B$11:$AF$12,"1/2 EM")/2) -> 0 | O48: =COUNTIF($B$11:$AF$12,"F")+(COUNTIF($B$11:$AF$12,"1/2 F")/2) -> 1 | P48: =COUNTIF($B$11:$AF$12,"ST")+(COUNTIF($B$11:$AF$12,"1/2 ST")/2) -> 0 | Q48: =COUNTIF($B$11:$AF$12,"FORM")+(COUNTIF($B$11:$AF$12,"1/2 FORM")/2) -> 0 | R48: =COUNTIF($B$11:$AF$12,"EQ")+(COUNTIF($B$11:$AF$12,"1/2 EQ")/2) -> 0 | S48: =COUNTIF($B$11:$AF$12,"CSO")+(COUNTIF($B$11:$AF$12,"1/2 CSO")/2) -> 0 | T48: =COUNTIF($B$11:$AF$12,"FOUR")+(COUNTIF($B$11:$AF$12,"1/2 FOUR")/2) -> 0 | U48: =COUNTIF($B$11:$AF$12,"PR")+(COUNTIF($B$11:$AF$12,"1/2 PR")/2) -> 0 | V48: =COUNTIF($B$11:$AF$12,"AT")+(COUNTIF($B$11:$AF$12,"1/2 AT")/2) -> 0 | AF48: =SUM(B48:AE48) -> 30
A49: Echo | B49: =COUNTIF($B$13:$AF$14,"J")+(COUNTIF($B$13:$AF$14,"1/2 J")/2) -> 0 | C49: =COUNTIF($B$13:$AF$14,"M")+(COUNTIF($B$13:$AF$14,"1/2 M")/2) -> 8 | D49: =COUNTIF($B$13:$AF$14,"AM")+(COUNTIF($B$13:$AF$14,"1/2 AM")/2) -> 10 | E49: =COUNTIF($B$13:$AF$14,"GTPI")+(COUNTIF($B$13:$AF$14,"1/2 GTPI")/2) -> 0 | F49: =COUNTIF($B$13:$AF$14,"RH")+(COUNTIF($B$13:$AF$14,"1/2 RH")/2) -> 7 | G49: =COUNTIF($B$13:$AF$14,"CA")+(COUNTIF($B$13:$AF$14,"1/2 CA")/2) -> 1 | H49: =COUNTIF($B$13:$AF$14,"RT")+(COUNTIF($B$13:$AF$14,"1/2 RT")/2) -> 0 | I49: =COUNTIF($B$13:$AF$14,"CE")+(COUNTIF($B$13:$AF$14,"1/2 CE")/2) -> 0 | J49: =COUNTIF($B$13:$AF$14,"MO")+(COUNTIF($B$13:$AF$14,"1/2 MO")/2) -> 0 | K49: =COUNTIF($B$13:$AF$14,"CAA")+(COUNTIF($B$13:$AF$14,"1/2 CAA")/2) -> 0 | L49: =COUNTIF($B$13:$AF$14,"EF")+(COUNTIF($B$13:$AF$14,"1/2 EF")/2) -> 0 | M49: =COUNTIF($B$13:$AF$14,"HSR")+(COUNTIF($B$13:$AF$14,"1/2 HSR")/2) -> 0 | N49: =COUNTIF($B$13:$AF$14,"EM")+(COUNTIF($B$13:$AF$14,"1/2 EM")/2) -> 0 | O49: =COUNTIF($B$13:$AF$14,"F")+(COUNTIF($B$13:$AF$14,"1/2 F")/2) -> 1 | P49: =COUNTIF($B$13:$AF$14,"ST")+(COUNTIF($B$13:$AF$14,"1/2 ST")/2) -> 0 | Q49: =COUNTIF($B$13:$AF$14,"FORM")+(COUNTIF($B$13:$AF$14,"1/2 FORM")/2) -> 0 | R49: =COUNTIF($B$13:$AF$14,"EQ")+(COUNTIF($B$13:$AF$14,"1/2 EQ")/2) -> 0 | S49: =COUNTIF($B$13:$AF$14,"CSO")+(COUNTIF($B$13:$AF$14,"1/2 CSO")/2) -> 0 | T49: =COUNTIF($B$13:$AF$14,"FOUR")+(COUNTIF($B$13:$AF$14,"1/2 FOUR")/2) -> 0 | U49: =COUNTIF($B$13:$AF$14,"PR")+(COUNTIF($B$13:$AF$14,"1/2 PR")/2) -> 0 | V49: =COUNTIF($B$13:$AF$14,"AT")+(COUNTIF($B$13:$AF$14,"1/2 AT")/2) -> 3 | AF49: =SUM(B49:AE49) -> 30
B50: =COUNTIF($B$15:$AF$16,"J")+(COUNTIF($B$15:$AF$16,"1/2 J")/2) -> 0 | C50: =COUNTIF($B$15:$AF$16,"M")+(COUNTIF($B$15:$AF$16,"1/2 M")/2) -> 0 | D50: =COUNTIF($B$15:$AF$16,"AM")+(COUNTIF($B$15:$AF$16,"1/2 AM")/2) -> 0 | E50: =COUNTIF($B$15:$AF$16,"GTPI")+(COUNTIF($B$15:$AF$16,"1/2 GTPI")/2) -> 0 | F50: =COUNTIF($B$15:$AF$16,"RH")+(COUNTIF($B$15:$AF$16,"1/2 RH")/2) -> 0 | G50: =COUNTIF($B$15:$AF$16,"CA")+(COUNTIF($B$15:$AF$16,"1/2 CA")/2) -> 0 | H50: =COUNTIF($B$15:$AF$16,"RT")+(COUNTIF($B$15:$AF$16,"1/2 RT")/2) -> 0 | I50: =COUNTIF($B$15:$AF$16,"CE")+(COUNTIF($B$15:$AF$16,"1/2 CE")/2) -> 0 | J50: =COUNTIF($B$15:$AF$16,"MO")+(COUNTIF($B$15:$AF$16,"1/2 MO")/2) -> 0 | K50: =COUNTIF($B$15:$AF$16,"CAA")+(COUNTIF($B$15:$AF$16,"1/2 CAA")/2) -> 0 | L50: =COUNTIF($B$15:$AF$16,"EF")+(COUNTIF($B$15:$AF$16,"1/2 EF")/2) -> 0 | M50: =COUNTIF($B$15:$AF$16,"HSR")+(COUNTIF($B$15:$AF$16,"1/2 HSR")/2) -> 0 | N50: =COUNTIF($B$15:$AF$16,"EM")+(COUNTIF($B$15:$AF$16,"1/2 EM")/2) -> 0 | O50: =COUNTIF($B$15:$AF$16,"F")+(COUNTIF($B$15:$AF$16,"1/2 F")/2) -> 0 | P50: =COUNTIF($B$15:$AF$16,"ST")+(COUNTIF($B$15:$AF$16,"1/2 ST")/2) -> 0 | Q50: =COUNTIF($B$15:$AF$16,"FORM")+(COUNTIF($B$15:$AF$16,"1/2 FORM")/2) -> 0 | R50: =COUNTIF($B$15:$AF$16,"EQ")+(COUNTIF($B$15:$AF$16,"1/2 EQ")/2) -> 0 | S50: =COUNTIF($B$15:$AF$16,"CSO")+(COUNTIF($B$15:$AF$16,"1/2 CSO")/2) -> 0 | T50: =COUNTIF($B$15:$AF$16,"FOUR")+(COUNTIF($B$15:$AF$16,"1/2 FOUR")/2) -> 0 | U50: =COUNTIF($B$15:$AF$16,"PR")+(COUNTIF($B$15:$AF$16,"1/2 PR")/2) -> 0 | V50: =COUNTIF($B$15:$AF$16,"AT")+(COUNTIF($B$15:$AF$16,"1/2 AT")/2) -> 0 | AF50: =SUM(B50:AE50) -> 0
B51: =COUNTIF($B$17:$AF$18,"J")+(COUNTIF($B$17:$AF$18,"1/2 J")/2) -> 0 | C51: =COUNTIF($B$17:$AF$18,"M")+(COUNTIF($B$17:$AF$18,"1/2 M")/2) -> 0 | D51: =COUNTIF($B$17:$AF$18,"AM")+(COUNTIF($B$17:$AF$18,"1/2 AM")/2) -> 0 | E51: =COUNTIF($B$17:$AF$18,"GTPI")+(COUNTIF($B$17:$AF$18,"1/2 GTPI")/2) -> 0 | F51: =COUNTIF($B$17:$AF$18,"RH")+(COUNTIF($B$17:$AF$18,"1/2 RH")/2) -> 0 | G51: =COUNTIF($B$17:$AF$18,"CA")+(COUNTIF($B$17:$AF$18,"1/2 CA")/2) -> 0 | H51: =COUNTIF($B$17:$AF$18,"RT")+(COUNTIF($B$17:$AF$18,"1/2 RT")/2) -> 0 | I51: =COUNTIF($B$17:$AF$18,"CE")+(COUNTIF($B$17:$AF$18,"1/2 CE")/2) -> 0 | J51: =COUNTIF($B$17:$AF$18,"MO")+(COUNTIF($B$17:$AF$18,"1/2 MO")/2) -> 0 | K51: =COUNTIF($B$17:$AF$18,"CAA")+(COUNTIF($B$17:$AF$18,"1/2 CAA")/2) -> 0 | L51: =COUNTIF($B$17:$AF$18,"EF")+(COUNTIF($B$17:$AF$18,"1/2 EF")/2) -> 0 | M51: =COUNTIF($B$17:$AF$18,"HSR")+(COUNTIF($B$17:$AF$18,"1/2 HSR")/2) -> 0 | N51: =COUNTIF($B$17:$AF$18,"EM")+(COUNTIF($B$17:$AF$18,"1/2 EM")/2) -> 0 | O51: =COUNTIF($B$17:$AF$18,"F")+(COUNTIF($B$17:$AF$18,"1/2 F")/2) -> 0 | P51: =COUNTIF($B$17:$AF$18,"ST")+(COUNTIF($B$17:$AF$18,"1/2 ST")/2) -> 0 | Q51: =COUNTIF($B$17:$AF$18,"FORM")+(COUNTIF($B$17:$AF$18,"1/2 FORM")/2) -> 0 | R51: =COUNTIF($B$17:$AF$18,"EQ")+(COUNTIF($B$17:$AF$18,"1/2 EQ")/2) -> 0 | S51: =COUNTIF($B$17:$AF$18,"CSO")+(COUNTIF($B$17:$AF$18,"1/2 CSO")/2) -> 0 | T51: =COUNTIF($B$17:$AF$18,"FOUR")+(COUNTIF($B$17:$AF$18,"1/2 FOUR")/2) -> 0 | U51: =COUNTIF($B$17:$AF$18,"PR")+(COUNTIF($B$17:$AF$18,"1/2 PR")/2) -> 0 | V51: =COUNTIF($B$17:$AF$18,"AT")+(COUNTIF($B$17:$AF$18,"1/2 AT")/2) -> 0 | AF51: =SUM(B51:AE51) -> 0
A52: Foxtrot | B52: =COUNTIF($B$5:$AF$6,"J")+(COUNTIF($B$5:$AF$6,"1/2 J")/2) -> 0 | C52: =COUNTIF($B$5:$AF$6,"M")+(COUNTIF($B$5:$AF$6,"1/2 M")/2) -> 0 | D52: =COUNTIF($B$5:$AF$6,"AM")+(COUNTIF($B$5:$AF$6,"1/2 AM")/2) -> 0 | E52: =COUNTIF($B$5:$AF$6,"GTPI")+(COUNTIF($B$5:$AF$6,"1/2 GTPI")/2) -> 0 | F52: =COUNTIF($B$5:$AF$6,"RH")+(COUNTIF($B$5:$AF$6,"1/2 RH")/2) -> 0 | G52: =COUNTIF($B$5:$AF$6,"CA")+(COUNTIF($B$5:$AF$6,"1/2 CA")/2) -> 0 | H52: =COUNTIF($B$5:$AF$6,"RT")+(COUNTIF($B$5:$AF$6,"1/2 RT")/2) -> 0 | I52: =COUNTIF($B$5:$AF$6,"CE")+(COUNTIF($B$5:$AF$6,"1/2 CE")/2) -> 0 | J52: =COUNTIF($B$5:$AF$6,"MO")+(COUNTIF($B$5:$AF$6,"1/2 MO")/2) -> 0 | K52: =COUNTIF($B$5:$AF$6,"CAA")+(COUNTIF($B$5:$AF$6,"1/2 CAA")/2) -> 0 | L52: =COUNTIF($B$5:$AF$6,"EF")+(COUNTIF($B$5:$AF$6,"1/2 EF")/2) -> 0 | M52: =COUNTIF($B$5:$AF$6,"HSR")+(COUNTIF($B$5:$AF$6,"1/2 HSR")/2) -> 0 | N52: =COUNTIF($B$5:$AF$6,"EM")+(COUNTIF($B$5:$AF$6,"1/2 EM")/2) -> 0 | O52: =COUNTIF($B$5:$AF$6,"F")+(COUNTIF($B$5:$AF$6,"1/2 F")/2) -> 0 | P52: =COUNTIF($B$5:$AF$6,"ST")+(COUNTIF($B$5:$AF$6,"1/2 ST")/2) -> 0 | Q52: =COUNTIF($B$5:$AF$6,"FORM")+(COUNTIF($B$5:$AF$6,"1/2 FORM")/2) -> 0 | R52: =COUNTIF($B$5:$AF$6,"EQ")+(COUNTIF($B$5:$AF$6,"1/2 EQ")/2) -> 0 | S52: =COUNTIF($B$5:$AF$6,"CSO")+(COUNTIF($B$5:$AF$6,"1/2 CSO")/2) -> 0 | T52: =COUNTIF($B$5:$AF$6,"FOUR")+(COUNTIF($B$5:$AF$6,"1/2 FOUR")/2) -> 0 | U52: =COUNTIF($B$5:$AF$6,"PR")+(COUNTIF($B$5:$AF$6,"1/2 PR")/2) -> 0 | V52: =COUNTIF($B$5:$AF$6,"AT")+(COUNTIF($B$5:$AF$6,"1/2 AT")/2) -> 0 | AF52: =SUM(B52:AE52) -> 0
A53: Golf | B53: =COUNTIF($B$21:$AF$22,"J")+(COUNTIF($B$21:$AF$22,"1/2 J")/2) -> 0 | C53: =COUNTIF($B$21:$AF$22,"M")+(COUNTIF($B$21:$AF$22,"1/2 M")/2) -> 10 | D53: =COUNTIF($B$21:$AF$22,"AM")+(COUNTIF($B$21:$AF$22,"1/2 AM")/2) -> 11 | E53: =COUNTIF($B$21:$AF$22,"GTPI")+(COUNTIF($B$21:$AF$22,"1/2 GTPI")/2) -> 0 | F53: =COUNTIF($B$21:$AF$22,"RH")+(COUNTIF($B$21:$AF$22,"1/2 RH")/2) -> 8 | G53: =COUNTIF($B$21:$AF$22,"CA")+(COUNTIF($B$21:$AF$22,"1/2 CA")/2) -> 0 | H53: =COUNTIF($B$21:$AF$22,"RT")+(COUNTIF($B$21:$AF$22,"1/2 RT")/2) -> 0 | I53: =COUNTIF($B$21:$AF$22,"CE")+(COUNTIF($B$21:$AF$22,"1/2 CE")/2) -> 0 | J53: =COUNTIF($B$21:$AF$22,"MO")+(COUNTIF($B$21:$AF$22,"1/2 MO")/2) -> 0 | K53: =COUNTIF($B$21:$AF$22,"CAA")+(COUNTIF($B$21:$AF$22,"1/2 CAA")/2) -> 0 | L53: =COUNTIF($B$21:$AF$22,"EF")+(COUNTIF($B$21:$AF$22,"1/2 EF")/2) -> 0 | M53: =COUNTIF($B$21:$AF$22,"HSR")+(COUNTIF($B$21:$AF$22,"1/2 HSR")/2) -> 0 | N53: =COUNTIF($B$21:$AF$22,"EM")+(COUNTIF($B$21:$AF$22,"1/2 EM")/2) -> 0 | O53: =COUNTIF($B$21:$AF$22,"F")+(COUNTIF($B$21:$AF$22,"1/2 F")/2) -> 1 | P53: =COUNTIF($B$21:$AF$22,"ST")+(COUNTIF($B$21:$AF$22,"1/2 ST")/2) -> 0 | Q53: =COUNTIF($B$21:$AF$22,"FORM")+(COUNTIF($B$21:$AF$22,"1/2 FORM")/2) -> 0 | R53: =COUNTIF($B$21:$AF$22,"EQ")+(COUNTIF($B$21:$AF$22,"1/2 EQ")/2) -> 0 | S53: =COUNTIF($B$21:$AF$22,"CSO")+(COUNTIF($B$21:$AF$22,"1/2 CSO")/2) -> 0 | T53: =COUNTIF($B$21:$AF$22,"FOUR")+(COUNTIF($B$21:$AF$22,"1/2 FOUR")/2) -> 0 | U53: =COUNTIF($B$21:$AF$22,"PR")+(COUNTIF($B$21:$AF$22,"1/2 PR")/2) -> 0 | V53: =COUNTIF($B$21:$AF$22,"AT")+(COUNTIF($B$21:$AF$22,"1/2 AT")/2) -> 0 | AF53: =SUM(B53:AE53) -> 30
A54: Hotel | B54: =COUNTIF($B$23:$AF$24,"J")+(COUNTIF($B$23:$AF$24,"1/2 J")/2) -> 0 | C54: =COUNTIF($B$23:$AF$24,"M")+(COUNTIF($B$23:$AF$24,"1/2 M")/2) -> 13 | D54: =COUNTIF($B$23:$AF$24,"AM")+(COUNTIF($B$23:$AF$24,"1/2 AM")/2) -> 8 | E54: =COUNTIF($B$23:$AF$24,"GTPI")+(COUNTIF($B$23:$AF$24,"1/2 GTPI")/2) -> 0 | F54: =COUNTIF($B$23:$AF$24,"RH")+(COUNTIF($B$23:$AF$24,"1/2 RH")/2) -> 8 | G54: =COUNTIF($B$23:$AF$24,"CA")+(COUNTIF($B$23:$AF$24,"1/2 CA")/2) -> 0 | H54: =COUNTIF($B$23:$AF$24,"RT")+(COUNTIF($B$23:$AF$24,"1/2 RT")/2) -> 0 | I54: =COUNTIF($B$23:$AF$24,"CE")+(COUNTIF($B$23:$AF$24,"1/2 CE")/2) -> 0 | J54: =COUNTIF($B$23:$AF$24,"MO")+(COUNTIF($B$23:$AF$24,"1/2 MO")/2) -> 0 | K54: =COUNTIF($B$23:$AF$24,"CAA")+(COUNTIF($B$23:$AF$24,"1/2 CAA")/2) -> 0 | L54: =COUNTIF($B$23:$AF$24,"EF")+(COUNTIF($B$23:$AF$24,"1/2 EF")/2) -> 0 | M54: =COUNTIF($B$23:$AF$24,"HSR")+(COUNTIF($B$23:$AF$24,"1/2 HSR")/2) -> 0 | N54: =COUNTIF($B$23:$AF$24,"EM")+(COUNTIF($B$23:$AF$24,"1/2 EM")/2) -> 0 | O54: =COUNTIF($B$23:$AF$24,"F")+(COUNTIF($B$23:$AF$24,"1/2 F")/2) -> 1 | P54: =COUNTIF($B$23:$AF$24,"ST")+(COUNTIF($B$23:$AF$24,"1/2 ST")/2) -> 0 | Q54: =COUNTIF($B$23:$AF$24,"FORM")+(COUNTIF($B$23:$AF$24,"1/2 FORM")/2) -> 0 | R54: =COUNTIF($B$23:$AF$24,"EQ")+(COUNTIF($B$23:$AF$24,"1/2 EQ")/2) -> 0 | S54: =COUNTIF($B$23:$AF$24,"CSO")+(COUNTIF($B$23:$AF$24,"1/2 CSO")/2) -> 0 | T54: =COUNTIF($B$23:$AF$24,"FOUR")+(COUNTIF($B$23:$AF$24,"1/2 FOUR")/2) -> 0 | U54: =COUNTIF($B$23:$AF$24,"PR")+(COUNTIF($B$23:$AF$24,"1/2 PR")/2) -> 0 | V54: =COUNTIF($B$23:$AF$24,"AT")+(COUNTIF($B$23:$AF$24,"1/2 AT")/2) -> 0 | AF54: =SUM(B54:AE54) -> 30
A55: India | B55: =COUNTIF($B$25:$AF$26,"J")+(COUNTIF($B$25:$AF$26,"1/2 J")/2) -> 0 | C55: =COUNTIF($B$25:$AF$26,"M")+(COUNTIF($B$25:$AF$26,"1/2 M")/2) -> 0 | D55: =COUNTIF($B$25:$AF$26,"AM")+(COUNTIF($B$25:$AF$26,"1/2 AM")/2) -> 0 | E55: =COUNTIF($B$25:$AF$26,"GTPI")+(COUNTIF($B$25:$AF$26,"1/2 GTPI")/2) -> 0 | F55: =COUNTIF($B$25:$AF$26,"RH")+(COUNTIF($B$25:$AF$26,"1/2 RH")/2) -> 0 | G55: =COUNTIF($B$25:$AF$26,"CA")+(COUNTIF($B$25:$AF$26,"1/2 CA")/2) -> 0 | H55: =COUNTIF($B$25:$AF$26,"RT")+(COUNTIF($B$25:$AF$26,"1/2 RT")/2) -> 0 | I55: =COUNTIF($B$25:$AF$26,"CE")+(COUNTIF($B$25:$AF$26,"1/2 CE")/2) -> 0 | J55: =COUNTIF($B$25:$AF$26,"MO")+(COUNTIF($B$25:$AF$26,"1/2 MO")/2) -> 0 | K55: =COUNTIF($B$25:$AF$26,"CAA")+(COUNTIF($B$25:$AF$26,"1/2 CAA")/2) -> 0 | L55: =COUNTIF($B$25:$AF$26,"EF")+(COUNTIF($B$25:$AF$26,"1/2 EF")/2) -> 0 | M55: =COUNTIF($B$25:$AF$26,"HSR")+(COUNTIF($B$25:$AF$26,"1/2 HSR")/2) -> 0 | N55: =COUNTIF($B$25:$AF$26,"EM")+(COUNTIF($B$25:$AF$26,"1/2 EM")/2) -> 0 | O55: =COUNTIF($B$25:$AF$26,"F")+(COUNTIF($B$25:$AF$26,"1/2 F")/2) -> 0 | P55: =COUNTIF($B$25:$AF$26,"ST")+(COUNTIF($B$25:$AF$26,"1/2 ST")/2) -> 0 | Q55: =COUNTIF($B$25:$AF$26,"FORM")+(COUNTIF($B$25:$AF$26,"1/2 FORM")/2) -> 0 | R55: =COUNTIF($B$25:$AF$26,"EQ")+(COUNTIF($B$25:$AF$26,"1/2 EQ")/2) -> 0 | S55: =COUNTIF($B$25:$AF$26,"CSO")+(COUNTIF($B$25:$AF$26,"1/2 CSO")/2) -> 0 | T55: =COUNTIF($B$25:$AF$26,"FOUR")+(COUNTIF($B$25:$AF$26,"1/2 FOUR")/2) -> 0 | U55: =COUNTIF($B$25:$AF$26,"PR")+(COUNTIF($B$25:$AF$26,"1/2 PR")/2) -> 0 | V55: =COUNTIF($B$25:$AF$26,"AT")+(COUNTIF($B$25:$AF$26,"1/2 AT")/2) -> 0 | AF55: =SUM(B55:AE55) -> 0
B56: =COUNTIF($B$27:$AF$28,"J")+(COUNTIF($B$27:$AF$28,"1/2 J")/2) -> 0 | C56: =COUNTIF($B$27:$AF$28,"M")+(COUNTIF($B$27:$AF$28,"1/2 M")/2) -> 0 | D56: =COUNTIF($B$27:$AF$28,"AM")+(COUNTIF($B$27:$AF$28,"1/2 AM")/2) -> 0 | E56: =COUNTIF($B$27:$AF$28,"GTPI")+(COUNTIF($B$27:$AF$28,"1/2 GTPI")/2) -> 0 | F56: =COUNTIF($B$27:$AF$28,"RH")+(COUNTIF($B$27:$AF$28,"1/2 RH")/2) -> 0 | G56: =COUNTIF($B$27:$AF$28,"CA")+(COUNTIF($B$27:$AF$28,"1/2 CA")/2) -> 0 | H56: =COUNTIF($B$27:$AF$28,"RT")+(COUNTIF($B$27:$AF$28,"1/2 RT")/2) -> 0 | I56: =COUNTIF($B$27:$AF$28,"CE")+(COUNTIF($B$27:$AF$28,"1/2 CE")/2) -> 0 | J56: =COUNTIF($B$27:$AF$28,"MO")+(COUNTIF($B$27:$AF$28,"1/2 MO")/2) -> 0 | K56: =COUNTIF($B$27:$AF$28,"CAA")+(COUNTIF($B$27:$AF$28,"1/2 CAA")/2) -> 0 | L56: =COUNTIF($B$27:$AF$28,"EF")+(COUNTIF($B$27:$AF$28,"1/2 EF")/2) -> 0 | M56: =COUNTIF($B$27:$AF$28,"HSR")+(COUNTIF($B$27:$AF$28,"1/2 HSR")/2) -> 0 | N56: =COUNTIF($B$27:$AF$28,"EM")+(COUNTIF($B$27:$AF$28,"1/2 EM")/2) -> 0 | O56: =COUNTIF($B$27:$AF$28,"F")+(COUNTIF($B$27:$AF$28,"1/2 F")/2) -> 0 | P56: =COUNTIF($B$27:$AF$28,"ST")+(COUNTIF($B$27:$AF$28,"1/2 ST")/2) -> 0 | Q56: =COUNTIF($B$27:$AF$28,"FORM")+(COUNTIF($B$27:$AF$28,"1/2 FORM")/2) -> 0 | R56: =COUNTIF($B$27:$AF$28,"EQ")+(COUNTIF($B$27:$AF$28,"1/2 EQ")/2) -> 0 | S56: =COUNTIF($B$27:$AF$28,"CSO")+(COUNTIF($B$27:$AF$28,"1/2 CSO")/2) -> 0 | T56: =COUNTIF($B$27:$AF$28,"FOUR")+(COUNTIF($B$27:$AF$28,"1/2 FOUR")/2) -> 0 | U56: =COUNTIF($B$27:$AF$28,"PR")+(COUNTIF($B$27:$AF$28,"1/2 PR")/2) -> 0 | V56: =COUNTIF($B$27:$AF$28,"AT")+(COUNTIF($B$27:$AF$28,"1/2 AT")/2) -> 0 | AF56: =SUM(B56:AE56) -> 0
B57: =COUNTIF(#REF!,"J")+(COUNTIF(#REF!,"1/2 J")/2) -> #REF! | C57: =COUNTIF(#REF!,"M")+(COUNTIF(#REF!,"1/2 M")/2) -> #REF! | D57: =COUNTIF(#REF!,"AM")+(COUNTIF(#REF!,"1/2 AM")/2) -> #REF! | E57: =COUNTIF(#REF!,"GTPI")+(COUNTIF(#REF!,"1/2 GTPI")/2) -> #REF! | F57: =COUNTIF(#REF!,"RH")+(COUNTIF(#REF!,"1/2 RH")/2) -> #REF! | G57: =COUNTIF(#REF!,"CA")+(COUNTIF(#REF!,"1/2 CA")/2) -> #REF! | H57: =COUNTIF(#REF!,"RT")+(COUNTIF(#REF!,"1/2 RT")/2) -> #REF! | I57: =COUNTIF(#REF!,"CE")+(COUNTIF(#REF!,"1/2 CE")/2) -> #REF! | J57: =COUNTIF(#REF!,"MO")+(COUNTIF(#REF!,"1/2 MO")/2) -> #REF! | K57: =COUNTIF(#REF!,"CAA")+(COUNTIF(#REF!,"1/2 CAA")/2) -> #REF! | L57: =COUNTIF(#REF!,"EF")+(COUNTIF(#REF!,"1/2 EF")/2) -> #REF! | M57: =COUNTIF(#REF!,"HSR")+(COUNTIF(#REF!,"1/2 HSR")/2) -> #REF! | N57: =COUNTIF(#REF!,"EM")+(COUNTIF(#REF!,"1/2 EM")/2) -> #REF! | O57: =COUNTIF(#REF!,"F")+(COUNTIF(#REF!,"1/2 F")/2) -> #REF! | P57: =COUNTIF(#REF!,"ST")+(COUNTIF(#REF!,"1/2 ST")/2) -> #REF! | Q57: =COUNTIF(#REF!,"FORM")+(COUNTIF(#REF!,"1/2 FORM")/2) -> #REF! | R57: =COUNTIF(#REF!,"EQ")+(COUNTIF(#REF!,"1/2 EQ")/2) -> #REF! | S57: =COUNTIF(#REF!,"CSO")+(COUNTIF(#REF!,"1/2 CSO")/2) -> #REF! | T57: =COUNTIF(#REF!,"FOUR")+(COUNTIF(#REF!,"1/2 FOUR")/2) -> #REF! | U57: =COUNTIF(#REF!,"PR")+(COUNTIF(#REF!,"1/2 PR")/2) -> #REF! | V57: =COUNTIF(#REF!,"AT")+(COUNTIF(#REF!,"1/2 AT")/2) -> #REF! | AF57: =SUM(B57:AE57) -> #REF!

Sheet Mai
A1: MAI
B2: Vacances scolaires
B3: 1 | C3: 2 | D3: 3 | E3: 4 | F3: 5 | G3: 6 | H3: 7 | I3: 8 | J3: 9 | K3: 10 | L3: 11 | M3: 12 | N3: 13 | O3: 14 | P3: 15 | Q3: 16 | R3: 17 | S3: 18 | T3: 19 | U3: 20 | V3: 21 | W3: 22 | X3: 23 | Y3: 24 | Z3: 25 | AA3: 26 | AB3: 27 | AC3: 28 | AD3: 29 | AE3: 30 | AF3: 31
B4: V | C4: S | D4: D | E4: L | F4: M | G4: M | H4: J | I4: V | J4: S | K4: D | L4: L | M4: M | N4: M | O4: J | P4: V | Q4: S | R4: D | S4: L | T4: M | U4: M | V4: J | W4: V | X4: S | Y4: D | Z4: L | AA4: M | AB4: M | AC4: J | AD4: V | AE4: S | AF4: D
A5: Alpha
A7: Bravo | B7: F | C7: AM | D7: RH | E7: RH | F7: M | G7: M | H7: M | I7: F | J7: RH | K7: RH | L7: AM | M7: AM | N7: AM | O7: F | P7: AM | Q7: AM | R7: RH | S7: RH | T7: M | U7: M | V7: M | W7: M | X7: RH | Y7: RH | Z7: F | AA7: AM | AB7: AM | AC7: AM | AD7: AM | AE7: AM | AF7: RH
A9: Charlie | B9: F | C9: CA | D9: RH | E9: RH | F9: M | G9: M | H9: M | I9: F | J9: RH | K9: RH | L9: AM | M9: AM | N9: AM | O9: F | P9: AM | Q9: AM | R9: RH | S9: RH | T9: M | U9: M | V9: M | W9: M | X9: RH | Y9: RH | Z9: F | AA9: AM | AB9: AM | AC9: AM | AD9: AM | AE9: AM | AF9: RH
A11: Delta | B11: F | C11: AM | D11: RH | E11: RH | F11: M | G11: M | H11: M | I11: F | J11: RH | K11: RH | L11: AM | M11: AM | N11: AM | O11: F | P11: AM | Q11: AM | R11: RH | S11: RH | T11: M | U11: M | V11: M | W11: M | X11: RH | Y11: RH | Z11: F | AA11: AM | AB11: AM | AC11: AM | AD11: AM | AE11: AM | AF11: RH
A13: Echo | B13: F | C13: AM | D13: RH | E13: RH | F13: M | G13: M | H13: M | I13: F | J13: RH | K13: RH | L13: AM | M13: AM | N13: AM | O13: F | P13: AM | Q13: AM | R13: RH | S13: RH | T13: M | U13: M | V13: M | W13: M | X13: RH | Y13: RH | Z13: F | AA13: AM | AB13: AM | AC13: AM | AD13: AM | AE13: AM | AF13: RH
A19: Foxtrot | B19: F | C19: RH | D19: RH | E19: AM | F19: AM | G19: AM | H19: AM | I19: F | J19: AM | K19: RH | L19: RH | M19: M | N19: M | O19: F | P19: M | Q19: RH | R19: RH | S19: AM | T19: AM | U19: AM | V19: AM | W19: AM | X19: AM | Y19: RH | Z19: F | AA19: M | AB19: M | AC19: M | AD19: M | AE19: RH | AF19: RH
A21: Golf | B21: F | C21: RH | D21: RH | E21: AM | F21: AM | G21: AM | H21: AM | I21: F | J21: AM | K21: RH | L21: RH | M21: M | N21: M | O21: F | P21: M | Q21: RH | R21: RH | S21: AM | T21: AM | U21: AM | V21: AM | W21: AM | X21: AM | Y21: RH | Z21: F | AA21: M | AB21: M | AC21: M | AD21: M | AE21: RH | AF21: RH
A23: Hotel | B23: F | C23: RH | D23: RH | E23: AM | F23: AM | G23: AM | H23: AM | I23: F | J23: AM | K23: RH | L23: RH | M23: M | N23: M | O23: F | P23: M | Q23: RH | R23: RH | S23: AM | T23: AM | U23: AM | V23: AM | W23: AM | X23: AM | Y23: RH | Z23: F | AA23: M | AB23: M | AC23: M | AD23: M | AE23: RH | AF23: RH
A25: India
A31: Présents | B31: =COUNTIF(B5:B30,"J")+(COUNTIF(B5:B30,"1/2 J")/2)+COUNTIF(B5:B30,"M")+(COUNTIF(B5:B30,"1/2 M")/2)+COUNTIF(B5:B30,"AM")+(COUNTIF(B5:B30,"1/2 AM")/2)+COUNTIF(B5:B30,"GTPI")+(COUNTIF(B5:B30,"1/2 GTPI")/2)+COUNTIF(B5:B30,"ZB")+(COUNTIF(B5:B30,"1/2 ZB")/2)+COUNTIF(B5:B30,"ZC")+(COUNTIF(B5:B30,"1/2 ZC")/2)+COUNTIF(B5:B30,"ZD")+(COUNTIF(B5:B30,"1/2 ZD")/2) -> 0 | C31: =COUNTIF(C5:C30,"J")+(COUNTIF(C5:C30,"1/2 J")/2)+COUNTIF(C5:C30,"M")+(COUNTIF(C5:C30,"1/2 M")/2)+COUNTIF(C5:C30,"AM")+(COUNTIF(C5:C30,"1/2 AM")/2)+COUNTIF(C5:C30,"GTPI")+(COUNTIF(C5:C30,"1/2 GTPI")/2)+COUNTIF(C5:C30,"ZB")+(COUNTIF(C5:C30,"1/2 ZB")/2)+COUNTIF(C5:C30,"ZC")+(COUNTIF(C5:C30,"1/2 ZC")/2)+COUNTIF(C5:C30,"ZD")+(COUNTIF(C5:C30,"1/2 ZD")/2) -> 3 | D31: =COUNTIF(D5:D30,"J")+(COUNTIF(D5:D30,"1/2 J")/2)+COUNTIF(D5:D30,"M")+(COUNTIF(D5:D30,"1/2 M")/2)+COUNTIF(D5:D30,"AM")+(COUNTIF(D5:D30,"1/2 AM")/2)+COUNTIF(D5:D30,"GTPI")+(COUNTIF(D5:D30,"1/2 GTPI")/2)+COUNTIF(D5:D30,"ZB")+(COUNTIF(D5:D30,"1/2 ZB")/2)+COUNTIF(D5:D30,"ZC")+(COUNTIF(D5:D30,"1/2 ZC")/2)+COUNTIF(D5:D30,"ZD")+(COUNTIF(D5:D30,"1/2 ZD")/2) -> 0 | E31: =COUNTIF(E5:E30,"J")+(COUNTIF(E5:E30,"1/2 J")/2)+COUNTIF(E5:E30,"M")+(COUNTIF(E5:E30,"1/2 M")/2)+COUNTIF(E5:E30,"AM")+(COUNTIF(E5:E30,"1/2 AM")/2)+COUNTIF(E5:E30,"GTPI")+(COUNTIF(E5:E30,"1/2 GTPI")/2)+COUNTIF(E5:E30,"ZB")+(COUNTIF(E5:E30,"1/2 ZB")/2)+COUNTIF(E5:E30,"ZC")+(COUNTIF(E5:E30,"1/2 ZC")/2)+COUNTIF(E5:E30,"ZD")+(COUNTIF(E5:E30,"1/2 ZD")/2) -> 3 | F31: =COUNTIF(F5:F30,"J")+(COUNTIF(F5:F30,"1/2 J")/2)+COUNTIF(F5:F30,"M")+(COUNTIF(F5:F30,"1/2 M")/2)+COUNTIF(F5:F30,"AM")+(COUNTIF(F5:F30,"1/2 AM")/2)+COUNTIF(F5:F30,"GTPI")+(COUNTIF(F5:F30,"1/2 GTPI")/2)+COUNTIF(F5:F30,"ZB")+(COUNTIF(F5:F30,"1/2 ZB")/2)+COUNTIF(F5:F30,"ZC")+(COUNTIF(F5:F30,"1/2 ZC")/2)+COUNTIF(F5:F30,"ZD")+(COUNTIF(F5:F30,"1/2 ZD")/2) -> 7 | G31: =COUNTIF(G5:G30,"J")+(COUNTIF(G5:G30,"1/2 J")/2)+COUNTIF(G5:G30,"M")+(COUNTIF(G5:G30,"1/2 M")/2)+COUNTIF(G5:G30,"AM")+(COUNTIF(G5:G30,"1/2 AM")/2)+COUNTIF(G5:G30,"GTPI")+(COUNTIF(G5:G30,"1/2 GTPI")/2)+COUNTIF(G5:G30,"ZB")+(COUNTIF(G5:G30,"1/2 ZB")/2)+COUNTIF(G5:G30,"ZC")+(COUNTIF(G5:G30,"1/2 ZC")/2)+COUNTIF(G5:G30,"ZD")+(COUNTIF(G5:G30,"1/2 ZD")/2) -> 7 | H31: =COUNTIF(H5:H30,"J")+(COUNTIF(H5:H30,"1/2 J")/2)+COUNTIF(H5:H30,"M")+(COUNTIF(H5:H30,"1/2 M")/2)+COUNTIF(H5:H30,"AM")+(COUNTIF(H5:H30,"1/2 AM")/2)+COUNTIF(H5:H30,"GTPI")+(COUNTIF(H5:H30,"1/2 GTPI")/2)+COUNTIF(H5:H30,"ZB")+(COUNTIF(H5:H30,"1/2 ZB")/2)+COUNTIF(H5:H30,"ZC")+(COUNTIF(H5:H30,"1/2 ZC")/2)+COUNTIF(H5:H30,"ZD")+(COUNTIF(H5:H30,"1/2 ZD")/2) -> 7 | I31: =COUNTIF(I5:I30,"J")+(COUNTIF(I5:I30,"1/2 J")/2)+COUNTIF(I5:I30,"M")+(COUNTIF(I5:I30,"1/2 M")/2)+COUNTIF(I5:I30,"AM")+(COUNTIF(I5:I30,"1/2 AM")/2)+COUNTIF(I5:I30,"GTPI")+(COUNTIF(I5:I30,"1/2 GTPI")/2)+COUNTIF(I5:I30,"ZB")+(COUNTIF(I5:I30,"1/2 ZB")/2)+COUNTIF(I5:I30,"ZC")+(COUNTIF(I5:I30,"1/2 ZC")/2)+COUNTIF(I5:I30,"ZD")+(COUNTIF(I5:I30,"1/2 ZD")/2) -> 0 | ... AF31: =COUNTIF(AF5:AF30,"J")+(COUNTIF(AF5:AF30,"1/2 J")/2)+COUNTIF(AF5:AF30,"M")+(COUNTIF(AF5:AF30,"1/2 M")/2)+COUNTIF(AF5:AF30,"AM")+(COUNTIF(AF5:AF30,"1/2 AM")/2)+COUNTIF(AF5:AF30,"GTPI")+(COUNTIF(AF5:AF30,"1/2 GTPI")/2)+COUNTIF(AF5:AF30,"ZB")+(COUNTIF(AF5:AF30,"1/2 ZB")/2)+COUNTIF(AF5:AF30,"ZC")+(COUNTIF(AF5:AF30,"1/2 ZC")/2)+COUNTIF(AF5:AF30,"ZD")+(COUNTIF(AF5:AF30,"1/2 ZD")/2) -> 0
A32: Absents | B32: =COUNTIF(B5:B30,"RH")+(COUNTIF(B5:B30,"1/2 RH")/2)+COUNTIF(B5:B30,"CA")+(COUNTIF(B5:B30,"1/2 CA")/2)+COUNTIF(B5:B30,"RT")+(COUNTIF(B5:B30,"1/2 RT")/2)+COUNTIF(B5:B30,"CE")+(COUNTIF(B5:B30,"1/2 CE")/2)+COUNTIF(B5:B30,"MO")+(COUNTIF(B5:B30,"1/2 MO")/2)+COUNTIF(B5:B30,"CAA")+(COUNTIF(B5:B30,"1/2 CAA")/2)+COUNTIF(B5:B30,"EF")+(COUNTIF(B5:B30,"1/2 EF")/2)+COUNTIF(B5:B30,"HSR")+(COUNTIF(B5:B30,"1/2 HSR")/2)+COUNTIF(B5:B30,"EM")+(COUNTIF(B5:B30,"1/2 EM")/2)+COUNTIF(B5:B30,"F")+(COUNTIF(B5:B30,"1/2 F")/2)+COUNTIF(B5:B30,"AT")+(COUNTIF(B5:B30,"1/2 AT")/2)+COUNTIF(B5:B30,"ZC")+(COUNTIF(B5:B30,"1/2 ZC")/2)+COUNTIF(B5:B30,"ZD")+(COUNTIF(B5:B30,"1/2 ZD")/2) -> 7 | C32: =COUNTIF(C5:C30,"RH")+(COUNTIF(C5:C30,"1/2 RH")/2)+COUNTIF(C5:C30,"CA")+(COUNTIF(C5:C30,"1/2 CA")/2)+COUNTIF(C5:C30,"RT")+(COUNTIF(C5:C30,"1/2 RT")/2)+COUNTIF(C5:C30,"CE")+(COUNTIF(C5:C30,"1/2 CE")/2)+COUNTIF(C5:C30,"MO")+(COUNTIF(C5:C30,"1/2 MO")/2)+COUNTIF(C5:C30,"CAA")+(COUNTIF(C5:C30,"1/2 CAA")/2)+COUNTIF(C5:C30,"EF")+(COUNTIF(C5:C30,"1/2 EF")/2)+COUNTIF(C5:C30,"HSR")+(COUNTIF(C5:C30,"1/2 HSR")/2)+COUNTIF(C5:C30,"EM")+(COUNTIF(C5:C30,"1/2 EM")/2)+COUNTIF(C5:C30,"F")+(COUNTIF(C5:C30,"1/2 F")/2)+COUNTIF(C5:C30,"AT")+(COUNTIF(C5:C30,"1/2 AT")/2)+COUNTIF(C5:C30,"ZC")+(COUNTIF(C5:C30,"1/2 ZC")/2)+COUNTIF(C5:C30,"ZD")+(COUNTIF(C5:C30,"1/2 ZD")/2) -> 4 | D32: =COUNTIF(D5:D30,"RH")+(COUNTIF(D5:D30,"1/2 RH")/2)+COUNTIF(D5:D30,"CA")+(COUNTIF(D5:D30,"1/2 CA")/2)+COUNTIF(D5:D30,"RT")+(COUNTIF(D5:D30,"1/2 RT")/2)+COUNTIF(D5:D30,"CE")+(COUNTIF(D5:D30,"1/2 CE")/2)+COUNTIF(D5:D30,"MO")+(COUNTIF(D5:D30,"1/2 MO")/2)+COUNTIF(D5:D30,"CAA")+(COUNTIF(D5:D30,"1/2 CAA")/2)+COUNTIF(D5:D30,"EF")+(COUNTIF(D5:D30,"1/2 EF")/2)+COUNTIF(D5:D30,"HSR")+(COUNTIF(D5:D30,"1/2 HSR")/2)+COUNTIF(D5:D30,"EM")+(COUNTIF(D5:D30,"1/2 EM")/2)+COUNTIF(D5:D30,"F")+(COUNTIF(D5:D30,"1/2 F")/2)+COUNTIF(D5:D30,"AT")+(COUNTIF(D5:D30,"1/2 AT")/2)+COUNTIF(D5:D30,"ZC")+(COUNTIF(D5:D30,"1/2 ZC")/2)+COUNTIF(D5:D30,"ZD")+(COUNTIF(D5:D30,"1/2 ZD")/2) -> 7 | E32: =COUNTIF(E5:E30,"RH")+(COUNTIF(E5:E30,"1/2 RH")/2)+COUNTIF(E5:E30,"CA")+(COUNTIF(E5:E30,"1/2 CA")/2)+COUNTIF(E5:E30,"RT")+(COUNTIF(E5:E30,"1/2 RT")/2)+COUNTIF(E5:E30,"CE")+(COUNTIF(E5:E30,"1/2 CE")/2)+COUNTIF(E5:E30,"MO")+(COUNTIF(E5:E30,"1/2 MO")/2)+COUNTIF(E5:E30,"CAA")+(COUNTIF(E5:E30,"1/2 CAA")/2)+COUNTIF(E5:E30,"EF")+(COUNTIF(E5:E30,"1/2 EF")/2)+COUNTIF(E5:E30,"HSR")+(COUNTIF(E5:E30,"1/2 HSR")/2)+COUNTIF(E5:E30,"EM")+(COUNTIF(E5:E30,"1/2 EM")/2)+COUNTIF(E5:E30,"F")+(COUNTIF(E5:E30,"1/2 F")/2)+COUNTIF(E5:E30,"AT")+(COUNTIF(E5:E30,"1/2 AT")/2)+COUNTIF(E5:E30,"ZC")+(COUNTIF(E5:E30,"1/2 ZC")/2)+COUNTIF(E5:E30,"ZD")+(COUNTIF(E5:E30,"1/2 ZD")/2) -> 4 | F32: =COUNTIF(F5:F30,"RH")+(COUNTIF(F5:F30,"1/2 RH")/2)+COUNTIF(F5:F30,"CA")+(COUNTIF(F5:F30,"1/2 CA")/2)+COUNTIF(F5:F30,"RT")+(COUNTIF(F5:F30,"1/2 RT")/2)+COUNTIF(F5:F30,"CE")+(COUNTIF(F5:F30,"1/2 CE")/2)+COUNTIF(F5:F30,"MO")+(COUNTIF(F5:F30,"1/2 MO")/2)+COUNTIF(F5:F30,"CAA")+(COUNTIF(F5:F30,"1/2 CAA")/2)+COUNTIF(F5:F30,"EF")+(COUNTIF(F5:F30,"1/2 EF")/2)+COUNTIF(F5:F30,"HSR")+(COUNTIF(F5:F30,"1/2 HSR")/2)+COUNTIF(F5:F30,"EM")+(COUNTIF(F5:F30,"1/2 EM")/2)+COUNTIF(F5:F30,"F")+(COUNTIF(F5:F30,"1/2 F")/2)+COUNTIF(F5:F30,"AT")+(COUNTIF(F5:F30,"1/2 AT")/2)+COUNTIF(F5:F30,"ZC")+(COUNTIF(F5:F30,"1/2 ZC")/2)+COUNTIF(F5:F30,"ZD")+(COUNTIF(F5:F30,"1/2 ZD")/2) -> 0 | G32: =COUNTIF(G5:G30,"RH")+(COUNTIF(G5:G30,"1/2 RH")/2)+COUNTIF(G5:G30,"CA")+(COUNTIF(G5:G30,"1/2 CA")/2)+COUNTIF(G5:G30,"RT")+(COUNTIF(G5:G30,"1/2 RT")/2)+COUNTIF(G5:G30,"CE")+(COUNTIF(G5:G30,"1/2 CE")/2)+COUNTIF(G5:G30,"MO")+(COUNTIF(G5:G30,"1/2 MO")/2)+COUNTIF(G5:G30,"CAA")+(COUNTIF(G5:G30,"1/2 CAA")/2)+COUNTIF(G5:G30,"EF")+(COUNTIF(G5:G30,"1/2 EF")/2)+COUNTIF(G5:G30,"HSR")+(COUNTIF(G5:G30,"1/2 HSR")/2)+COUNTIF(G5:G30,"EM")+(COUNTIF(G5:G30,"1/2 EM")/2)+COUNTIF(G5:G30,"F")+(COUNTIF(G5:G30,"1/2 F")/2)+COUNTIF(G5:G30,"AT")+(COUNTIF(G5:G30,"1/2 AT")/2)+COUNTIF(G5:G30,"ZC")+(COUNTIF(G5:G30,"1/2 ZC")/2)+COUNTIF(G5:G30,"ZD")+(COUNTIF(G5:G30,"1/2 ZD")/2) -> 0 | H32: =COUNTIF(H5:H30,"RH")+(COUNTIF(H5:H30,"1/2 RH")/2)+COUNTIF(H5:H30,"CA")+(COUNTIF(H5:H30,"1/2 CA")/2)+COUNTIF(H5:H30,"RT")+(COUNTIF(H5:H30,"1/2 RT")/2)+COUNTIF(H5:H30,"CE")+(COUNTIF(H5:H30,"1/2 CE")/2)+COUNTIF(H5:H30,"MO")+(COUNTIF(H5:H30,"1/2 MO")/2)+COUNTIF(H5:H30,"CAA")+(COUNTIF(H5:H30,"1/2 CAA")/2)+COUNTIF(H5:H30,"EF")+(COUNTIF(H5:H30,"1/2 EF")/2)+COUNTIF(H5:H30,"HSR")+(COUNTIF(H5:H30,"1/2 HSR")/2)+COUNTIF(H5:H30,"EM")+(COUNTIF(H5:H30,"1/2 EM")/2)+COUNTIF(H5:H30,"F")+(COUNTIF(H5:H30,"1/2 F")/2)+COUNTIF(H5:H30,"AT")+(COUNTIF(H5:H30,"1/2 AT")/2)+COUNTIF(H5:H30,"ZC")+(COUNTIF(H5:H30,"1/2 ZC")/2)+COUNTIF(H5:H30,"ZD")+(COUNTIF(H5:H30,"1/2 ZD")/2) -> 0 | I32: =COUNTIF(I5:I30,"RH")+(COUNTIF(I5:I30,"1/2 RH")/2)+COUNTIF(I5:I30,"CA")+(COUNTIF(I5:I30,"1/2 CA")/2)+COUNTIF(I5:I30,"RT")+(COUNTIF(I5:I30,"1/2 RT")/2)+COUNTIF(I5:I30,"CE")+(COUNTIF(I5:I30,"1/2 CE")/2)+COUNTIF(I5:I30,"MO")+(COUNTIF(I5:I30,"1/2 MO")/2)+COUNTIF(I5:I30,"CAA")+(COUNTIF(I5:I30,"1/2 CAA")/2)+COUNTIF(I5:I30,"EF")+(COUNTIF(I5:I30,"1/2 EF")/2)+COUNTIF(I5:I30,"HSR")+(COUNTIF(I5:I30,"1/2 HSR")/2)+COUNTIF(I5:I30,"EM")+(COUNTIF(I5:I30,"1/2 EM")/2)+COUNTIF(I5:I30,"F")+(COUNTIF(I5:I30,"1/2 F")/2)+COUNTIF(I5:I30,"AT")+(COUNTIF(I5:I30,"1/2 AT")/2)+COUNTIF(I5:I30,"ZC")+(COUNTIF(I5:I30,"1/2 ZC")/2)+COUNTIF(I5:I30,"ZD")+(COUNTIF(I5:I30,"1/2 ZD")/2) -> 7 | ... AF32: =COUNTIF(AF5:AF30,"RH")+(COUNTIF(AF5:AF30,"1/2 RH")/2)+COUNTIF(AF5:AF30,"CA")+(COUNTIF(AF5:AF30,"1/2 CA")/2)+COUNTIF(AF5:AF30,"RT")+(COUNTIF(AF5:AF30,"1/2 RT")/2)+COUNTIF(AF5:AF30,"CE")+(COUNTIF(AF5:AF30,"1/2 CE")/2)+COUNTIF(AF5:AF30,"MO")+(COUNTIF(AF5:AF30,"1/2 MO")/2)+COUNTIF(AF5:AF30,"CAA")+(COUNTIF(AF5:AF30,"1/2 CAA")/2)+COUNTIF(AF5:AF30,"EF")+(COUNTIF(AF5:AF30,"1/2 EF")/2)+COUNTIF(AF5:AF30,"HSR")+(COUNTIF(AF5:AF30,"1/2 HSR")/2)+COUNTIF(AF5:AF30,"EM")+(COUNTIF(AF5:AF30,"1/2 EM")/2)+COUNTIF(AF5:AF30,"F")+(COUNTIF(AF5:AF30,"1/2 F")/2)+COUNTIF(AF5:AF30,"AT")+(COUNTIF(AF5:AF30,"1/2 AT")/2)+COUNTIF(AF5:AF30,"ZC")+(COUNTIF(AF5:AF30,"1/2 ZC")/2)+COUNTIF(AF5:AF30,"ZD")+(COUNTIF(AF5:AF30,"1/2 ZD")/2) -> 7
A33: Prés. Indispo. | B33: =COUNTIF(B5:B30,"ST")+(COUNTIF(B5:B30,"1/2 ST")/2)+COUNTIF(B5:B30,"FORM")+(COUNTIF(B5:B30,"1/2 FORM")/2)+COUNTIF(B5:B30,"EQ")+(COUNTIF(B5:B30,"1/2 EQ")/2)+COUNTIF(B5:B30,"CSO")+(COUNTIF(B5:B30,"1/2 CSO")/2)+COUNTIF(B5:B30,"FOUR")+(COUNTIF(B5:B30,"1/2 FOUR")/2)+COUNTIF(B5:B30,"PR")+(COUNTIF(B5:B30,"1/2 PR")/2)+COUNTIF(B5:B30,"ZA")+(COUNTIF(B5:B30,"1/2 ZA")/2)+COUNTIF(B5:B30,"ZB")+(COUNTIF(B5:B30,"1/2 ZB")/2)+COUNTIF(B5:B30,"ZC")+(COUNTIF(B5:B30,"1/2 ZC")/2)+COUNTIF(B5:B30,"ZD")+(COUNTIF(B5:B30,"1/2 ZD")/2) -> 0 | C33: =COUNTIF(C5:C30,"ST")+(COUNTIF(C5:C30,"1/2 ST")/2)+COUNTIF(C5:C30,"FORM")+(COUNTIF(C5:C30,"1/2 FORM")/2)+COUNTIF(C5:C30,"EQ")+(COUNTIF(C5:C30,"1/2 EQ")/2)+COUNTIF(C5:C30,"CSO")+(COUNTIF(C5:C30,"1/2 CSO")/2)+COUNTIF(C5:C30,"FOUR")+(COUNTIF(C5:C30,"1/2 FOUR")/2)+COUNTIF(C5:C30,"PR")+(COUNTIF(C5:C30,"1/2 PR")/2)+COUNTIF(C5:C30,"ZA")+(COUNTIF(C5:C30,"1/2 ZA")/2)+COUNTIF(C5:C30,"ZB")+(COUNTIF(C5:C30,"1/2 ZB")/2)+COUNTIF(C5:C30,"ZC")+(COUNTIF(C5:C30,"1/2 ZC")/2)+COUNTIF(C5:C30,"ZD")+(COUNTIF(C5:C30,"1/2 ZD")/2) -> 0 | D33: =COUNTIF(D5:D30,"ST")+(COUNTIF(D5:D30,"1/2 ST")/2)+COUNTIF(D5:D30,"FORM")+(COUNTIF(D5:D30,"1/2 FORM")/2)+COUNTIF(D5:D30,"EQ")+(COUNTIF(D5:D30,"1/2 EQ")/2)+COUNTIF(D5:D30,"CSO")+(COUNTIF(D5:D30,"1/2 CSO")/2)+COUNTIF(D5:D30,"FOUR")+(COUNTIF(D5:D30,"1/2 FOUR")/2)+COUNTIF(D5:D30,"PR")+(COUNTIF(D5:D30,"1/2 PR")/2)+COUNTIF(D5:D30,"ZA")+(COUNTIF(D5:D30,"1/2 ZA")/2)+COUNTIF(D5:D30,"ZB")+(COUNTIF(D5:D30,"1/2 ZB")/2)+COUNTIF(D5:D30,"ZC")+(COUNTIF(D5:D30,"1/2 ZC")/2)+COUNTIF(D5:D30,"ZD")+(COUNTIF(D5:D30,"1/2 ZD")/2) -> 0 | E33: =COUNTIF(E5:E30,"ST")+(COUNTIF(E5:E30,"1/2 ST")/2)+COUNTIF(E5:E30,"FORM")+(COUNTIF(E5:E30,"1/2 FORM")/2)+COUNTIF(E5:E30,"EQ")+(COUNTIF(E5:E30,"1/2 EQ")/2)+COUNTIF(E5:E30,"CSO")+(COUNTIF(E5:E30,"1/2 CSO")/2)+COUNTIF(E5:E30,"FOUR")+(COUNTIF(E5:E30,"1/2 FOUR")/2)+COUNTIF(E5:E30,"PR")+(COUNTIF(E5:E30,"1/2 PR")/2)+COUNTIF(E5:E30,"ZA")+(COUNTIF(E5:E30,"1/2 ZA")/2)+COUNTIF(E5:E30,"ZB")+(COUNTIF(E5:E30,"1/2 ZB")/2)+COUNTIF(E5:E30,"ZC")+(COUNTIF(E5:E30,"1/2 ZC")/2)+COUNTIF(E5:E30,"ZD")+(COUNTIF(E5:E30,"1/2 ZD")/2) -> 0 | F33: =COUNTIF(F5:F30,"ST")+(COUNTIF(F5:F30,"1/2 ST")/2)+COUNTIF(F5:F30,"FORM")+(COUNTIF(F5:F30,"1/2 FORM")/2)+COUNTIF(F5:F30,"EQ")+(COUNTIF(F5:F30,"1/2 EQ")/2)+COUNTIF(F5:F30,"CSO")+(COUNTIF(F5:F30,"1/2 CSO")/2)+COUNTIF(F5:F30,"FOUR")+(COUNTIF(F5:F30,"1/2 FOUR")/2)+COUNTIF(F5:F30,"PR")+(COUNTIF(F5:F30,"1/2 PR")/2)+COUNTIF(F5:F30,"ZA")+(COUNTIF(F5:F30,"1/2 ZA")/2)+COUNTIF(F5:F30,"ZB")+(COUNTIF(F5:F30,"1/2 ZB")/2)+COUNTIF(F5:F30,"ZC")+(COUNTIF(F5:F30,"1/2 ZC")/2)+COUNTIF(F5:F30,"ZD")+(COUNTIF(F5:F30,"1/2 ZD")/2) -> 0 | G33: =COUNTIF(G5:G30,"ST")+(COUNTIF(G5:G30,"1/2 ST")/2)+COUNTIF(G5:G30,"FORM")+(COUNTIF(G5:G30,"1/2 FORM")/2)+COUNTIF(G5:G30,"EQ")+(COUNTIF(G5:G30,"1/2 EQ")/2)+COUNTIF(G5:G30,"CSO")+(COUNTIF(G5:G30,"1/2 CSO")/2)+COUNTIF(G5:G30,"FOUR")+(COUNTIF(G5:G30,"1/2 FOUR")/2)+COUNTIF(G5:G30,"PR")+(COUNTIF(G5:G30,"1/2 PR")/2)+COUNTIF(G5:G30,"ZA")+(COUNTIF(G5:G30,"1/2 ZA")/2)+COUNTIF(G5:G30,"ZB")+(COUNTIF(G5:G30,"1/2 ZB")/2)+COUNTIF(G5:G30,"ZC")+(COUNTIF(G5:G30,"1/2 ZC")/2)+COUNTIF(G5:G30,"ZD")+(COUNTIF(G5:G30,"1/2 ZD")/2) -> 0 | H33: =COUNTIF(H5:H30,"ST")+(COUNTIF(H5:H30,"1/2 ST")/2)+COUNTIF(H5:H30,"FORM")+(COUNTIF(H5:H30,"1/2 FORM")/2)+COUNTIF(H5:H30,"EQ")+(COUNTIF(H5:H30,"1/2 EQ")/2)+COUNTIF(H5:H30,"CSO")+(COUNTIF(H5:H30,"1/2 CSO")/2)+COUNTIF(H5:H30,"FOUR")+(COUNTIF(H5:H30,"1/2 FOUR")/2)+COUNTIF(H5:H30,"PR")+(COUNTIF(H5:H30,"1/2 PR")/2)+COUNTIF(H5:H30,"ZA")+(COUNTIF(H5:H30,"1/2 ZA")/2)+COUNTIF(H5:H30,"ZB")+(COUNTIF(H5:H30,"1/2 ZB")/2)+COUNTIF(H5:H30,"ZC")+(COUNTIF(H5:H30,"1/2 ZC")/2)+COUNTIF(H5:H30,"ZD")+(COUNTIF(H5:H30,"1/2 ZD")/2) -> 0 | I33: =COUNTIF(I5:I30,"ST")+(COUNTIF(I5:I30,"1/2 ST")/2)+COUNTIF(I5:I30,"FORM")+(COUNTIF(I5:I30,"1/2 FORM")/2)+COUNTIF(I5:I30,"EQ")+(COUNTIF(I5:I30,"1/2 EQ")/2)+COUNTIF(I5:I30,"CSO")+(COUNTIF(I5:I30,"1/2 CSO")/2)+COUNTIF(I5:I30,"FOUR")+(COUNTIF(I5:I30,"1/2 FOUR")/2)+COUNTIF(I5:I30,"PR")+(COUNTIF(I5:I30,"1/2 PR")/2)+COUNTIF(I5:I30,"ZA")+(COUNTIF(I5:I30,"1/2 ZA")/2)+COUNTIF(I5:I30,"ZB")+(COUNTIF(I5:I30,"1/2 ZB")/2)+COUNTIF(I5:I30,"ZC")+(COUNTIF(I5:I30,"1/2 ZC")/2)+COUNTIF(I5:I30,"ZD")+(COUNTIF(I5:I30,"1/2 ZD")/2) -> 0 | ... AF33: =COUNTIF(AF5:AF30,"ST")+(COUNTIF(AF5:AF30,"1/2 ST")/2)+COUNTIF(AF5:AF30,"FORM")+(COUNTIF(AF5:AF30,"1/2 FORM")/2)+COUNTIF(AF5:AF30,"EQ")+(COUNTIF(AF5:AF30,"1/2 EQ")/2)+COUNTIF(AF5:AF30,"CSO")+(COUNTIF(AF5:AF30,"1/2 CSO")/2)+COUNTIF(AF5:AF30,"FOUR")+(COUNTIF(AF5:AF30,"1/2 FOUR")/2)+COUNTIF(AF5:AF30,"PR")+(COUNTIF(AF5:AF30,"1/2 PR")/2)+COUNTIF(AF5:AF30,"ZA")+(COUNTIF(AF5:AF30,"1/2 ZA")/2)+COUNTIF(AF5:AF30,"ZB")+(COUNTIF(AF5:AF30,"1/2 ZB")/2)+COUNTIF(AF5:AF30,"ZC")+(COUNTIF(AF5:AF30,"1/2 ZC")/2)+COUNTIF(AF5:AF30,"ZD")+(COUNTIF(AF5:AF30,"1/2 ZD")/2) -> 0
B44: J | C44: M | D44: AM | E44: GTPI | F44: RH | G44: CA | H44: RT | I44: CE | J44: MO | K44: CAA | L44: EF | M44: HSR | N44: EM | O44: F | P44: ST | Q44: FORM | R44: EQ | S44: CSO | T44: FOUR | U44: PR | V44: AT
A45: Alpha | B45: =COUNTIF($B$5:$AF$6,"J")+(COUNTIF($B$5:$AF$6,"1/2 J")/2) -> 0 | C45: =COUNTIF($B$5:$AF$6,"M")+(COUNTIF($B$5:$AF$6,"1/2 M")/2) -> 0 | D45: =COUNTIF($B$5:$AF$6,"AM")+(COUNTIF($B$5:$AF$6,"1/2 AM")/2) -> 0 | E45: =COUNTIF($B$5:$AF$6,"GTPI")+(COUNTIF($B$5:$AF$6,"1/2 GTPI")/2) -> 0 | F45: =COUNTIF($B$5:$AF$6,"RH")+(COUNTIF($B$5:$AF$6,"1/2 RH")/2) -> 0 | G45: =COUNTIF($B$5:$AF$6,"CA")+(COUNTIF($B$5:$AF$6,"1/2 CA")/2) -> 0 | H45: =COUNTIF($B$5:$AF$6,"RT")+(COUNTIF($B$5:$AF$6,"1/2 RT")/2) -> 0 | I45: =COUNTIF($B$5:$AF$6,"CE")+(COUNTIF($B$5:$AF$6,"1/2 CE")/2) -> 0 | J45: =COUNTIF($B$5:$AF$6,"MO")+(COUNTIF($B$5:$AF$6,"1/2 MO")/2) -> 0 | K45: =COUNTIF($B$5:$AF$6,"CAA")+(COUNTIF($B$5:$AF$6,"1/2 CAA")/2) -> 0 | L45: =COUNTIF($B$5:$AF$6,"EF")+(COUNTIF($B$5:$AF$6,"1/2 EF")/2) -> 0 | M45: =COUNTIF($B$5:$AF$6,"HSR")+(COUNTIF($B$5:$AF$6,"1/2 HSR")/2) -> 0 | N45: =COUNTIF($B$5:$AF$6,"EM")+(COUNTIF($B$5:$AF$6,"1/2 EM")/2) -> 0 | O45: =COUNTIF($B$5:$AF$6,"F")+(COUNTIF($B$5:$AF$6,"1/2 F")/2) -> 0 | P45: =COUNTIF($B$5:$AF$6,"ST")+(COUNTIF($B$5:$AF$6,"1/2 ST")/2) -> 0 | Q45: =COUNTIF($B$5:$AF$6,"FORM")+(COUNTIF($B$5:$AF$6,"1/2 FORM")/2) -> 0 | R45: =COUNTIF($B$5:$AF$6,"EQ")+(COUNTIF($B$5:$AF$6,"1/2 EQ")/2) -> 0 | S45: =COUNTIF($B$5:$AF$6,"CSO")+(COUNTIF($B$5:$AF$6,"1/2 CSO")/2) -> 0 | T45: =COUNTIF($B$5:$AF$6,"FOUR")+(COUNTIF($B$5:$AF$6,"1/2 FOUR")/2) -> 0 | U45: =COUNTIF($B$5:$AF$6,"PR")+(COUNTIF($B$5:$AF$6,"1/2 PR")/2) -> 0 | V45: =COUNTIF($B$5:$AF$6,"AT")+(COUNTIF($B$5:$AF$6,"1/2 AT")/2) -> 0 | AF45: =SUM(B45:AE45) -> 0
A46: Bravo | B46: =COUNTIF($B$7:$AF$8,"J")+(COUNTIF($B$7:$AF$8,"1/2 J")/2) -> 0 | C46: =COUNTIF($B$7:$AF$8,"M")+(COUNTIF($B$7:$AF$8,"1/2 M")/2) -> 7 | D46: =COUNTIF($B$7:$AF$8,"AM")+(COUNTIF($B$7:$AF$8,"1/2 AM")/2) -> 11 | E46: =COUNTIF($B$7:$AF$8,"GTPI")+(COUNTIF($B$7:$AF$8,"1/2 GTPI")/2) -> 0 | F46: =COUNTIF($B$7:$AF$8,"RH")+(COUNTIF($B$7:$AF$8,"1/2 RH")/2) -> 9 | G46: =COUNTIF($B$7:$AF$8,"CA")+(COUNTIF($B$7:$AF$8,"1/2 CA")/2) -> 0 | H46: =COUNTIF($B$7:$AF$8,"RT")+(COUNTIF($B$7:$AF$8,"1/2 RT")/2) -> 0 | I46: =COUNTIF($B$7:$AF$8,"CE")+(COUNTIF($B$7:$AF$8,"1/2 CE")/2) -> 0 | J46: =COUNTIF($B$7:$AF$8,"MO")+(COUNTIF($B$7:$AF$8,"1/2 MO")/2) -> 0 | K46: =COUNTIF($B$7:$AF$8,"CAA")+(COUNTIF($B$7:$AF$8,"1/2 CAA")/2) -> 0 | L46: =COUNTIF($B$7:$AF$8,"EF")+(COUNTIF($B$7:$AF$8,"1/2 EF")/2) -> 0 | M46: =COUNTIF($B$7:$AF$8,"HSR")+(COUNTIF($B$7:$AF$8,"1/2 HSR")/2) -> 0 | N46: =COUNTIF($B$7:$AF$8,"EM")+(COUNTIF($B$7:$AF$8,"1/2 EM")/2) -> 0 | O46: =COUNTIF($B$7:$AF$8,"F")+(COUNTIF($B$7:$AF$8,"1/2 F")/2) -> 4 | P46: =COUNTIF($B$7:$AF$8,"ST")+(COUNTIF($B$7:$AF$8,"1/2 ST")/2) -> 0 | Q46: =COUNTIF($B$7:$AF$8,"FORM")+(COUNTIF($B$7:$AF$8,"1/2 FORM")/2) -> 0 | R46: =COUNTIF($B$7:$AF$8,"EQ")+(COUNTIF($B$7:$AF$8,"1/2 EQ")/2) -> 0 | S46: =COUNTIF($B$7:$AF$8,"CSO")+(COUNTIF($B$7:$AF$8,"1/2 CSO")/2) -> 0 | T46: =COUNTIF($B$7:$AF$8,"FOUR")+(COUNTIF($B$7:$AF$8,"1/2 FOUR")/2) -> 0 | U46: =COUNTIF($B$7:$AF$8,"PR")+(COUNTIF($B$7:$AF$8,"1/2 PR")/2) -> 0 | V46: =COUNTIF($B$7:$AF$8,"AT")+(COUNTIF($B$7:$AF$8,"1/2 AT")/2) -> 0 | AF46: =SUM(B46:AE46) -> 31
A47: Charlie | B47: =COUNTIF($B$9:$AF$10,"J")+(COUNTIF($B$9:$AF$10,"1/2 J")/2) -> 0 | C47: =COUNTIF($B$9:$AF$10,"M")+(COUNTIF($B$9:$AF$10,"1/2 M")/2) -> 7 | D47: =COUNTIF($B$9:$AF$10,"AM")+(COUNTIF($B$9:$AF$10,"1/2 AM")/2) -> 10 | E47: =COUNTIF($B$9:$AF$10,"GTPI")+(COUNTIF($B$9:$AF$10,"1/2 GTPI")/2) -> 0 | F47: =COUNTIF($B$9:$AF$10,"RH")+(COUNTIF($B$9:$AF$10,"1/2 RH")/2) -> 9 | G47: =COUNTIF($B$9:$AF$10,"CA")+(COUNTIF($B$9:$AF$10,"1/2 CA")/2) -> 1 | H47: =COUNTIF($B$9:$AF$10,"RT")+(COUNTIF($B$9:$AF$10,"1/2 RT")/2) -> 0 | I47: =COUNTIF($B$9:$AF$10,"CE")+(COUNTIF($B$9:$AF$10,"1/2 CE")/2) -> 0 | J47: =COUNTIF($B$9:$AF$10,"MO")+(COUNTIF($B$9:$AF$10,"1/2 MO")/2) -> 0 | K47: =COUNTIF($B$9:$AF$10,"CAA")+(COUNTIF($B$9:$AF$10,"1/2 CAA")/2) -> 0 | L47: =COUNTIF($B$9:$AF$10,"EF")+(COUNTIF($B$9:$AF$10,"1/2 EF")/2) -> 0 | M47: =COUNTIF($B$9:$AF$10,"HSR")+(COUNTIF($B$9:$AF$10,"1/2 HSR")/2) -> 0 | N47: =COUNTIF($B$9:$AF$10,"EM")+(COUNTIF($B$9:$AF$10,"1/2 EM")/2) -> 0 | O47: =COUNTIF($B$9:$AF$10,"F")+(COUNTIF($B$9:$AF$10,"1/2 F")/2) -> 4 | P47: =COUNTIF($B$9:$AF$10,"ST")+(COUNTIF($B$9:$AF$10,"1/2 ST")/2) -> 0 | Q47: =COUNTIF($B$9:$AF$10,"FORM")+(COUNTIF($B$9:$AF$10,"1/2 FORM")/2) -> 0 | R47: =COUNTIF($B$9:$AF$10,"EQ")+(COUNTIF($B$9:$AF$10,"1/2 EQ")/2) -> 0 | S47: =COUNTIF($B$9:$AF$10,"CSO")+(COUNTIF($B$9:$AF$10,"1/2 CSO")/2) -> 0 | T47: =COUNTIF($B$9:$AF$10,"FOUR")+(COUNTIF($B$9:$AF$10,"1/2 FOUR")/2) -> 0 | U47: =COUNTIF($B$9:$AF$10,"PR")+(COUNTIF($B$9:$AF$10,"1/2 PR")/2) -> 0 | V47: =COUNTIF($B$9:$AF$10,"AT")+(COUNTIF($B$9:$AF$10,"1/2 AT")/2) -> 0 | AF47: =SUM(B47:AE47) -> 31
A48: Delta | B48: =COUNTIF($B$11:$AF$12,"J")+(COUNTIF($B$11:$AF$12,"1/2 J")/2) -> 0 | C48: =COUNTIF($B$11:$AF$12,"M")+(COUNTIF($B$11:$AF$12,"1/2 M")/2) -> 7 | D48: =COUNTIF($B$11:$AF$12,"AM")+(COUNTIF($B$11:$AF$12,"1/2 AM")/2) -> 11 | E48: =COUNTIF($B$11:$AF$12,"GTPI")+(COUNTIF($B$11:$AF$12,"1/2 GTPI")/2) -> 0 | F48: =COUNTIF($B$11:$AF$12,"RH")+(COUNTIF($B$11:$AF$12,"1/2 RH")/2) -> 9 | G48: =COUNTIF($B$11:$AF$12,"CA")+(COUNTIF($B$11:$AF$12,"1/2 CA")/2) -> 0 | H48: =COUNTIF($B$11:$AF$12,"RT")+(COUNTIF($B$11:$AF$12,"1/2 RT")/2) -> 0 | I48: =COUNTIF($B$11:$AF$12,"CE")+(COUNTIF($B$11:$AF$12,"1/2 CE")/2) -> 0 | J48: =COUNTIF($B$11:$AF$12,"MO")+(COUNTIF($B$11:$AF$12,"1/2 MO")/2) -> 0 | K48: =COUNTIF($B$11:$AF$12,"CAA")+(COUNTIF($B$11:$AF$12,"1/2 CAA")/2) -> 0 | L48: =COUNTIF($B$11:$AF$12,"EF")+(COUNTIF($B$11:$AF$12,"1/2 EF")/2) -> 0 | M48: =COUNTIF($B$11:$AF$12,"HSR")+(COUNTIF($B$11:$AF$12,"1/2 HSR")/2) -> 0 | N48: =COUNTIF($B$11:$AF$12,"EM")+(COUNTIF($B$11:$AF$12,"1/2 EM")/2) -> 0 | O48: =COUNTIF($B$11:$AF$12,"F")+(COUNTIF($B$11:$AF$12,"1/2 F")/2) -> 4 | P48: =COUNTIF($B$11:$AF$12,"ST")+(COUNTIF($B$11:$AF$12,"1/2 ST")/2) -> 0 | Q48: =COUNTIF($B$11:$AF$12,"FORM")+(COUNTIF($B$11:$AF$12,"1/2 FORM")/2) -> 0 | R48: =COUNTIF($B$11:$AF$12,"EQ")+(COUNTIF($B$11:$AF$12,"1/2 EQ")/2) -> 0 | S48: =COUNTIF($B$11:$AF$12,"CSO")+(COUNTIF($B$11:$AF$12,"1/2 CSO")/2) -> 0 | T48: =COUNTIF($B$11:$AF$12,"FOUR")+(COUNTIF($B$11:$AF$12,"1/2 FOUR")/2) -> 0 | U48: =COUNTIF($B$11:$AF$12,"PR")+(COUNTIF($B$11:$AF$12,"1/2 PR")/2) -> 0 | V48: =COUNTIF($B$11:$AF$12,"AT")+(COUNTIF($B$11:$AF$12,"1/2 AT")/2) -> 0 | AF48: =SUM(B48:AE48) -> 31
A49: Echo | B49: =COUNTIF($B$13:$AF$14,"J")+(COUNTIF($B$13:$AF$14,"1/2 J")/2) -> 0 | C49: =COUNTIF($B$13:$AF$14,"M")+(COUNTIF($B$13:$AF$14,"1/2 M")/2) -> 7 | D49: =COUNTIF($B$13:$AF$14,"AM")+(COUNTIF($B$13:$AF$14,"1/2 AM")/2) -> 11 | E49: =COUNTIF($B$13:$AF$14,"GTPI")+(COUNTIF($B$13:$AF$14,"1/2 GTPI")/2) -> 0 | F49: =COUNTIF($B$13:$AF$14,"RH")+(COUNTIF($B$13:$AF$14,"1/2 RH")/2) -> 9 | G49: =COUNTIF($B$13:$AF$14,"CA")+(COUNTIF($B$13:$AF$14,"1/2 CA")/2) -> 0 | H49: =COUNTIF($B$13:$AF$14,"RT")+(COUNTIF($B$13:$AF$14,"1/2 RT")/2) -> 0 | I49: =COUNTIF($B$13:$AF$14,"CE")+(COUNTIF($B$13:$AF$14,"1/2 CE")/2) -> 0 | J49: =COUNTIF($B$13:$AF$14,"MO")+(COUNTIF($B$13:$AF$14,"1/2 MO")/2) -> 0 | K49: =COUNTIF($B$13:$AF$14,"CAA")+(COUNTIF($B$13:$AF$14,"1/2 CAA")/2) -> 0 | L49: =COUNTIF($B$13:$AF$14,"EF")+(COUNTIF($B$13:$AF$14,"1/2 EF")/2) -> 0 | M49: =COUNTIF($B$13:$AF$14,"HSR")+(COUNTIF($B$13:$AF$14,"1/2 HSR")/2) -> 0 | N49: =COUNTIF($B$13:$AF$14,"EM")+(COUNTIF($B$13:$AF$14,"1/2 EM")/2) -> 0 | O49: =COUNTIF($B$13:$AF$14,"F")+(COUNTIF($B$13:$AF$14,"1/2 F")/2) -> 4 | P49: =COUNTIF($B$13:$AF$14,"ST")+(COUNTIF($B$13:$AF$14,"1/2 ST")/2) -> 0 | Q49: =COUNTIF($B$13:$AF$14,"FORM")+(COUNTIF($B$13:$AF$14,"1/2 FORM")/2) -> 0 | R49: =COUNTIF($B$13:$AF$14,"EQ")+(COUNTIF($B$13:$AF$14,"1/2 EQ")/2) -> 0 | S49: =COUNTIF($B$13:$AF$14,"CSO")+(COUNTIF($B$13:$AF$14,"1/2 CSO")/2) -> 0 | T49: =COUNTIF($B$13:$AF$14,"FOUR")+(COUNTIF($B$13:$AF$14,"1/2 FOUR")/2) -> 0 | U49: =COUNTIF($B$13:$AF$14,"PR")+(COUNTIF($B$13:$AF$14,"1/2 PR")/2) -> 0 | V49: =COUNTIF($B$13:$AF$14,"AT")+(COUNTIF($B$13:$AF$14,"1/2 AT")/2) -> 0 | AF49: =SUM(B49:AE49) -> 31
B50: =COUNTIF($B$15:$AF$16,"J")+(COUNTIF($B$15:$AF$16,"1/2 J")/2) -> 0 | C50: =COUNTIF($B$15:$AF$16,"M")+(COUNTIF($B$15:$AF$16,"1/2 M")/2) -> 0 | D50: =COUNTIF($B$15:$AF$16,"AM")+(COUNTIF($B$15:$AF$16,"1/2 AM")/2) -> 0 | E50: =COUNTIF($B$15:$AF$16,"GTPI")+(COUNTIF($B$15:$AF$16,"1/2 GTPI")/2) -> 0 | F50: =COUNTIF($B$15:$AF$16,"RH")+(COUNTIF($B$15:$AF$16,"1/2 RH")/2) -> 0 | G50: =COUNTIF($B$15:$AF$16,"CA")+(COUNTIF($B$15:$AF$16,"1/2 CA")/2) -> 0 | H50: =COUNTIF($B$15:$AF$16,"RT")+(COUNTIF($B$15:$AF$16,"1/2 RT")/2) -> 0 | I50: =COUNTIF($B$15:$AF$16,"CE")+(COUNTIF($B$15:$AF$16,"1/2 CE")/2) -> 0 | J50: =COUNTIF($B$15:$AF$16,"MO")+(COUNTIF($B$15:$AF$16,"1/2 MO")/2) -> 0 | K50: =COUNTIF($B$15:$AF$16,"CAA")+(COUNTIF($B$15:$AF$16,"1/2 CAA")/2) -> 0 | L50: =COUNTIF($B$15:$AF$16,"EF")+(COUNTIF($B$15:$AF$16,"1/2 EF")/2) -> 0 | M50: =COUNTIF($B$15:$AF$16,"HSR")+(COUNTIF($B$15:$AF$16,"1/2 HSR")/2) -> 0 | N50: =COUNTIF($B$15:$AF$16,"EM")+(COUNTIF($B$15:$AF$16,"1/2 EM")/2) -> 0 | O50: =COUNTIF($B$15:$AF$16,"F")+(COUNTIF($B$15:$AF$16,"1/2 F")/2) -> 0 | P50: =COUNTIF($B$15:$AF$16,"ST")+(COUNTIF($B$15:$AF$16,"1/2 ST")/2) -> 0 | Q50: =COUNTIF($B$15:$AF$16,"FORM")+(COUNTIF($B$15:$AF$16,"1/2 FORM")/2) -> 0 | R50: =COUNTIF($B$15:$AF$16,"EQ")+(COUNTIF($B$15:$AF$16,"1/2 EQ")/2) -> 0 | S50: =COUNTIF($B$15:$AF$16,"CSO")+(COUNTIF($B$15:$AF$16,"1/2 CSO")/2) -> 0 | T50: =COUNTIF($B$15:$AF$16,"FOUR")+(COUNTIF($B$15:$AF$16,"1/2 FOUR")/2) -> 0 | U50: =COUNTIF($B$15:$AF$16,"PR")+(COUNTIF($B$15:$AF$16,"1/2 PR")/2) -> 0 | V50: =COUNTIF($B$15:$AF$16,"AT")+(COUNTIF($B$15:$AF$16,"1/2 AT")/2) -> 0 | AF50: =SUM(B50:AE50) -> 0
B51: =COUNTIF($B$17:$AF$18,"J")+(COUNTIF($B$17:$AF$18,"1/2 J")/2) -> 0 | C51: =COUNTIF($B$17:$AF$18,"M")+(COUNTIF($B$17:$AF$18,"1/2 M")/2) -> 0 | D51: =COUNTIF($B$17:$AF$18,"AM")+(COUNTIF($B$17:$AF$18,"1/2 AM")/2) -> 0 | E51: =COUNTIF($B$17:$AF$18,"GTPI")+(COUNTIF($B$17:$AF$18,"1/2 GTPI")/2) -> 0 | F51: =COUNTIF($B$17:$AF$18,"RH")+(COUNTIF($B$17:$AF$18,"1/2 RH")/2) -> 0 | G51: =COUNTIF($B$17:$AF$18,"CA")+(COUNTIF($B$17:$AF$18,"1/2 CA")/2) -> 0 | H51: =COUNTIF($B$17:$AF$18,"RT")+(COUNTIF($B$17:$AF$18,"1/2 RT")/2) -> 0 | I51: =COUNTIF($B$17:$AF$18,"CE")+(COUNTIF($B$17:$AF$18,"1/2 CE")/2) -> 0 | J51: =COUNTIF($B$17:$AF$18,"MO")+(COUNTIF($B$17:$AF$18,"1/2 MO")/2) -> 0 | K51: =COUNTIF($B$17:$AF$18,"CAA")+(COUNTIF($B$17:$AF$18,"1/2 CAA")/2) -> 0 | L51: =COUNTIF($B$17:$AF$18,"EF")+(COUNTIF($B$17:$AF$18,"1/2 EF")/2) -> 0 | M51: =COUNTIF($B$17:$AF$18,"HSR")+(COUNTIF($B$17:$AF$18,"1/2 HSR")/2) -> 0 | N51: =COUNTIF($B$17:$AF$18,"EM")+(COUNTIF($B$17:$AF$18,"1/2 EM")/2) -> 0 | O51: =COUNTIF($B$17:$AF$18,"F")+(COUNTIF($B$17:$AF$18,"1/2 F")/2) -> 0 | P51: =COUNTIF($B$17:$AF$18,"ST")+(COUNTIF($B$17:$AF$18,"1/2 ST")/2) -> 0 | Q51: =COUNTIF($B$17:$AF$18,"FORM")+(COUNTIF($B$17:$AF$18,"1/2 FORM")/2) -> 0 | R51: =COUNTIF($B$17:$AF$18,"EQ")+(COUNTIF($B$17:$AF$18,"1/2 EQ")/2) -> 0 | S51: =COUNTIF($B$17:$AF$18,"CSO")+(COUNTIF($B$17:$AF$18,"1/2 CSO")/2) -> 0 | T51: =COUNTIF($B$17:$AF$18,"FOUR")+(COUNTIF($B$17:$AF$18,"1/2 FOUR")/2) -> 0 | U51: =COUNTIF($B$17:$AF$18,"PR")+(COUNTIF($B$17:$AF$18,"1/2 PR")/2) -> 0 | V51: =COUNTIF($B$17:$AF$18,"AT")+(COUNTIF($B$17:$AF$18,"1/2 AT")/2) -> 0 | AF51: =SUM(B51:AE51) -> 0
A52: Foxtrot | B52: =COUNTIF($B$19:$AF$20,"J")+(COUNTIF($B$19:$AF$20,"1/2 J")/2) -> 0 | C52: =COUNTIF($B$19:$AF$20,"M")+(COUNTIF($B$19:$AF$20,"1/2 M")/2) -> 7 | D52: =COUNTIF($B$19:$AF$20,"AM")+(COUNTIF($B$19:$AF$20,"1/2 AM")/2) -> 11 | E52: =COUNTIF($B$19:$AF$20,"GTPI")+(COUNTIF($B$19:$AF$20,"1/2 GTPI")/2) -> 0 | F52: =COUNTIF($B$19:$AF$20,"RH")+(COUNTIF($B$19:$AF$20,"1/2 RH")/2) -> 9 | G52: =COUNTIF($B$19:$AF$20,"CA")+(COUNTIF($B$19:$AF$20,"1/2 CA")/2) -> 0 | H52: =COUNTIF($B$19:$AF$20,"RT")+(COUNTIF($B$19:$AF$20,"1/2 RT")/2) -> 0 | I52: =COUNTIF($B$19:$AF$20,"CE")+(COUNTIF($B$19:$AF$20,"1/2 CE")/2) -> 0 | J52: =COUNTIF($B$19:$AF$20,"MO")+(COUNTIF($B$19:$AF$20,"1/2 MO")/2) -> 0 | K52: =COUNTIF($B$19:$AF$20,"CAA")+(COUNTIF($B$19:$AF$20,"1/2 CAA")/2) -> 0 | L52: =COUNTIF($B$19:$AF$20,"EF")+(COUNTIF($B$19:$AF$20,"1/2 EF")/2) -> 0 | M52: =COUNTIF($B$19:$AF$20,"HSR")+(COUNTIF($B$19:$AF$20,"1/2 HSR")/2) -> 0 | N52: =COUNTIF($B$19:$AF$20,"EM")+(COUNTIF($B$19:$AF$20,"1/2 EM")/2) -> 0 | O52: =COUNTIF($B$19:$AF$20,"F")+(COUNTIF($B$19:$AF$20,"1/2 F")/2) -> 4 | P52: =COUNTIF($B$19:$AF$20,"ST")+(COUNTIF($B$19:$AF$20,"1/2 ST")/2) -> 0 | Q52: =COUNTIF($B$19:$AF$20,"FORM")+(COUNTIF($B$19:$AF$20,"1/2 FORM")/2) -> 0 | R52: =COUNTIF($B$19:$AF$20,"EQ")+(COUNTIF($B$19:$AF$20,"1/2 EQ")/2) -> 0 | S52: =COUNTIF($B$19:$AF$20,"CSO")+(COUNTIF($B$19:$AF$20,"1/2 CSO")/2) -> 0 | T52: =COUNTIF($B$19:$AF$20,"FOUR")+(COUNTIF($B$19:$AF$20,"1/2 FOUR")/2) -> 0 | U52: =COUNTIF($B$19:$AF$20,"PR")+(COUNTIF($B$19:$AF$20,"1/2 PR")/2) -> 0 | V52: =COUNTIF($B$19:$AF$20,"AT")+(COUNTIF($B$19:$AF$20,"1/2 AT")/2) -> 0 | AF52: =SUM(B52:AE52) -> 31
A53: Golf | B53: =COUNTIF($B$21:$AF$22,"J")+(COUNTIF($B$21:$AF$22,"1/2 J")/2) -> 0 | C53: =COUNTIF($B$21:$AF$22,"M")+(COUNTIF($B$21:$AF$22,"1/2 M")/2) -> 7 | D53: =COUNTIF($B$21:$AF$22,"AM")+(COUNTIF($B$21:$AF$22,"1/2 AM")/2) -> 11 | E53: =COUNTIF($B$21:$AF$22,"GTPI")+(COUNTIF($B$21:$AF$22,"1/2 GTPI")/2) -> 0 | F53: =COUNTIF($B$21:$AF$22,"RH")+(COUNTIF($B$21:$AF$22,"1/2 RH")/2) -> 9 | G53: =COUNTIF($B$21:$AF$22,"CA")+(COUNTIF($B$21:$AF$22,"1/2 CA")/2) -> 0 | H53: =COUNTIF($B$21:$AF$22,"RT")+(COUNTIF($B$21:$AF$22,"1/2 RT")/2) -> 0 | I53: =COUNTIF($B$21:$AF$22,"CE")+(COUNTIF($B$21:$AF$22,"1/2 CE")/2) -> 0 | J53: =COUNTIF($B$21:$AF$22,"MO")+(COUNTIF($B$21:$AF$22,"1/2 MO")/2) -> 0 | K53: =COUNTIF($B$21:$AF$22,"CAA")+(COUNTIF($B$21:$AF$22,"1/2 CAA")/2) -> 0 | L53: =COUNTIF($B$21:$AF$22,"EF")+(COUNTIF($B$21:$AF$22,"1/2 EF")/2) -> 0 | M53: =COUNTIF($B$21:$AF$22,"HSR")+(COUNTIF($B$21:$AF$22,"1/2 HSR")/2) -> 0 | N53: =COUNTIF($B$21:$AF$22,"EM")+(COUNTIF($B$21:$AF$22,"1/2 EM")/2) -> 0 | O53: =COUNTIF($B$21:$AF$22,"F")+(COUNTIF($B$21:$AF$22,"1/2 F")/2) -> 4 | P53: =COUNTIF($B$21:$AF$22,"ST")+(COUNTIF($B$21:$AF$22,"1/2 ST")/2) -> 0 | Q53: =COUNTIF($B$21:$AF$22,"FORM")+(COUNTIF($B$21:$AF$22,"1/2 FORM")/2) -> 0 | R53: =COUNTIF($B$21:$AF$22,"EQ")+(COUNTIF($B$21:$AF$22,"1/2 EQ")/2) -> 0 | S53: =COUNTIF($B$21:$AF$22,"CSO")+(COUNTIF($B$21:$AF$22,"1/2 CSO")/2) -> 0 | T53: =COUNTIF($B$21:$AF$22,"FOUR")+(COUNTIF($B$21:$AF$22,"1/2 FOUR")/2) -> 0 | U53: =COUNTIF($B$21:$AF$22,"PR")+(COUNTIF($B$21:$AF$22,"1/2 PR")/2) -> 0 | V53: =COUNTIF($B$21:$AF$22,"AT")+(COUNTIF($B$21:$AF$22,"1/2 AT")/2) -> 0 | AF53: =SUM(B53:AE53) -> 31
A54: Hotel | B54: =COUNTIF($B$23:$AF$24,"J")+(COUNTIF($B$23:$AF$24,"1/2 J")/2) -> 0 | C54: =COUNTIF($B$23:$AF$24,"M")+(COUNTIF($B$23:$AF$24,"1/2 M")/2) -> 7 | D54: =COUNTIF($B$23:$AF$24,"AM")+(COUNTIF($B$23:$AF$24,"1/2 AM")/2) -> 11 | E54: =COUNTIF($B$23:$AF$24,"GTPI")+(COUNTIF($B$23:$AF$24,"1/2 GTPI")/2) -> 0 | F54: =COUNTIF($B$23:$AF$24,"RH")+(COUNTIF($B$23:$AF$24,"1/2 RH")/2) -> 9 | G54: =COUNTIF($B$23:$AF$24,"CA")+(COUNTIF($B$23:$AF$24,"1/2 CA")/2) -> 0 | H54: =COUNTIF($B$23:$AF$24,"RT")+(COUNTIF($B$23:$AF$24,"1/2 RT")/2) -> 0 | I54: =COUNTIF($B$23:$AF$24,"CE")+(COUNTIF($B$23:$AF$24,"1/2 CE")/2) -> 0 | J54: =COUNTIF($B$23:$AF$24,"MO")+(COUNTIF($B$23:$AF$24,"1/2 MO")/2) -> 0 | K54: =COUNTIF($B$23:$AF$24,"CAA")+(COUNTIF($B$23:$AF$24,"1/2 CAA")/2) -> 0 | L54: =COUNTIF($B$23:$AF$24,"EF")+(COUNTIF($B$23:$AF$24,"1/2 EF")/2) -> 0 | M54: =COUNTIF($B$23:$AF$24,"HSR")+(COUNTIF($B$23:$AF$24,"1/2 HSR")/2) -> 0 | N54: =COUNTIF($B$23:$AF$24,"EM")+(COUNTIF($B$23:$AF$24,"1/2 EM")/2) -> 0 | O54: =COUNTIF($B$23:$AF$24,"F")+(COUNTIF($B$23:$AF$24,"1/2 F")/2) -> 4 | P54: =COUNTIF($B$23:$AF$24,"ST")+(COUNTIF($B$23:$AF$24,"1/2 ST")/2) -> 0 | Q54: =COUNTIF($B$23:$AF$24,"FORM")+(COUNTIF($B$23:$AF$24,"1/2 FORM")/2) -> 0 | R54: =COUNTIF($B$23:$AF$24,"EQ")+(COUNTIF($B$23:$AF$24,"1/2 EQ")/2) -> 0 | S54: =COUNTIF($B$23:$AF$24,"CSO")+(COUNTIF($B$23:$AF$24,"1/2 CSO")/2) -> 0 | T54: =COUNTIF($B$23:$AF$24,"FOUR")+(COUNTIF($B$23:$AF$24,"1/2 FOUR")/2) -> 0 | U54: =COUNTIF($B$23:$AF$24,"PR")+(COUNTIF($B$23:$AF$24,"1/2 PR")/2) -> 0 | V54: =COUNTIF($B$23:$AF$24,"AT")+(COUNTIF($B$23:$AF$24,"1/2 AT")/2) -> 0 | AF54: =SUM(B54:AE54) -> 31
A55: India | B55: =COUNTIF($B$25:$AF$26,"J")+(COUNTIF($B$25:$AF$26,"1/2 J")/2) -> 0 | C55: =COUNTIF($B$25:$AF$26,"M")+(COUNTIF($B$25:$AF$26,"1/2 M")/2) -> 0 | D55: =COUNTIF($B$25:$AF$26,"AM")+(COUNTIF($B$25:$AF$26,"1/2 AM")/2) -> 0 | E55: =COUNTIF($B$25:$AF$26,"GTPI")+(COUNTIF($B$25:$AF$26,"1/2 GTPI")/2) -> 0 | F55: =COUNTIF($B$25:$AF$26,"RH")+(COUNTIF($B$25:$AF$26,"1/2 RH")/2) -> 0 | G55: =COUNTIF($B$25:$AF$26,"CA")+(COUNTIF($B$25:$AF$26,"1/2 CA")/2) -> 0 | H55: =COUNTIF($B$25:$AF$26,"RT")+(COUNTIF($B$25:$AF$26,"1/2 RT")/2) -> 0 | I55: =COUNTIF($B$25:$AF$26,"CE")+(COUNTIF($B$25:$AF$26,"1/2 CE")/2) -> 0 | J55: =COUNTIF($B$25:$AF$26,"MO")+(COUNTIF($B$25:$AF$26,"1/2 MO")/2) -> 0 | K55: =COUNTIF($B$25:$AF$26,"CAA")+(COUNTIF($B$25:$AF$26,"1/2 CAA")/2) -> 0 | L55: =COUNTIF($B$25:$AF$26,"EF")+(COUNTIF($B$25:$AF$26,"1/2 EF")/2) -> 0 | M55: =COUNTIF($B$25:$AF$26,"HSR")+(COUNTIF($B$25:$AF$26,"1/2 HSR")/2) -> 0 | N55: =COUNTIF($B$25:$AF$26,"EM")+(COUNTIF($B$25:$AF$26,"1/2 EM")/2) -> 0 | O55: =COUNTIF($B$25:$AF$26,"F")+(COUNTIF($B$25:$AF$26,"1/2 F")/2) -> 0 | P55: =COUNTIF($B$25:$AF$26,"ST")+(COUNTIF($B$25:$AF$26,"1/2 ST")/2) -> 0 | Q55: =COUNTIF($B$25:$AF$26,"FORM")+(COUNTIF($B$25:$AF$26,"1/2 FORM")/2) -> 0 | R55: =COUNTIF($B$25:$AF$26,"EQ")+(COUNTIF($B$25:$AF$26,"1/2 EQ")/2) -> 0 | S55: =COUNTIF($B$25:$AF$26,"CSO")+(COUNTIF($B$25:$AF$26,"1/2 CSO")/2) -> 0 | T55: =COUNTIF($B$25:$AF$26,"FOUR")+(COUNTIF($B$25:$AF$26,"1/2 FOUR")/2) -> 0 | U55: =COUNTIF($B$25:$AF$26,"PR")+(COUNTIF($B$25:$AF$26,"1/2 PR")/2) -> 0 | V55: =COUNTIF($B$25:$AF$26,"AT")+(COUNTIF($B$25:$AF$26,"1/2 AT")/2) -> 0 | AF55: =SUM(B55:AE55) -> 0
B56: =COUNTIF($B$27:$AF$28,"J")+(COUNTIF($B$27:$AF$28,"1/2 J")/2) -> 0 | C56: =COUNTIF($B$27:$AF$28,"M")+(COUNTIF($B$27:$AF$28,"1/2 M")/2) -> 0 | D56: =COUNTIF($B$27:$AF$28,"AM")+(COUNTIF($B$27:$AF$28,"1/2 AM")/2) -> 0 | E56: =COUNTIF($B$27:$AF$28,"GTPI")+(COUNTIF($B$27:$AF$28,"1/2 GTPI")/2) -> 0 | F56: =COUNTIF($B$27:$AF$28,"RH")+(COUNTIF($B$27:$AF$28,"1/2 RH")/2) -> 0 | G56: =COUNTIF($B$27:$AF$28,"CA")+(COUNTIF($B$27:$AF$28,"1/2 CA")/2) -> 0 | H56: =COUNTIF($B$27:$AF$28,"RT")+(COUNTIF($B$27:$AF$28,"1/2 RT")/2) -> 0 | I56: =COUNTIF($B$27:$AF$28,"CE")+(COUNTIF($B$27:$AF$28,"1/2 CE")/2) -> 0 | J56: =COUNTIF($B$27:$AF$28,"MO")+(COUNTIF($B$27:$AF$28,"1/2 MO")/2) -> 0 | K56: =COUNTIF($B$27:$AF$28,"CAA")+(COUNTIF($B$27:$AF$28,"1/2 CAA")/2) -> 0 | L56: =COUNTIF($B$27:$AF$28,"EF")+(COUNTIF($B$27:$AF$28,"1/2 EF")/2) -> 0 | M56: =COUNTIF($B$27:$AF$28,"HSR")+(COUNTIF($B$27:$AF$28,"1/2 HSR")/2) -> 0 | N56: =COUNTIF($B$27:$AF$28,"EM")+(COUNTIF($B$27:$AF$28,"1/2 EM")/2) -> 0 | O56: =COUNTIF($B$27:$AF$28,"F")+(COUNTIF($B$27:$AF$28,"1/2 F")/2) -> 0 | P56: =COUNTIF($B$27:$AF$28,"ST")+(COUNTIF($B$27:$AF$28,"1/2 ST")/2) -> 0 | Q56: =COUNTIF($B$27:$AF$28,"FORM")+(COUNTIF($B$27:$AF$28,"1/2 FORM")/2) -> 0 | R56: =COUNTIF($B$27:$AF$28,"EQ")+(COUNTIF($B$27:$AF$28,"1/2 EQ")/2) -> 0 | S56: =COUNTIF($B$27:$AF$28,"CSO")+(COUNTIF($B$27:$AF$28,"1/2 CSO")/2) -> 0 | T56: =COUNTIF($B$27:$AF$28,"FOUR")+(COUNTIF($B$27:$AF$28,"1/2 FOUR")/2) -> 0 | U56: =COUNTIF($B$27:$AF$28,"PR")+(COUNTIF($B$27:$AF$28,"1/2 PR")/2) -> 0 | V56: =COUNTIF($B$27:$AF$28,"AT")+(COUNTIF($B$27:$AF$28,"1/2 AT")/2) -> 0 | AF56: =SUM(B56:AE56) -> 0
B57: =COUNTIF($B$29:$AF$30,"J")+(COUNTIF($B$29:$AF$30,"1/2 J")/2) -> 0 | C57: =COUNTIF($B$29:$AF$30,"M")+(COUNTIF($B$29:$AF$30,"1/2 M")/2) -> 0 | D57: =COUNTIF($B$29:$AF$30,"AM")+(COUNTIF($B$29:$AF$30,"1/2 AM")/2) -> 0 | E57: =COUNTIF($B$29:$AF$30,"GTPI")+(COUNTIF($B$29:$AF$30,"1/2 GTPI")/2) -> 0 | F57: =COUNTIF($B$29:$AF$30,"RH")+(COUNTIF($B$29:$AF$30,"1/2 RH")/2) -> 0 | G57: =COUNTIF($B$29:$AF$30,"CA")+(COUNTIF($B$29:$AF$30,"1/2 CA")/2) -> 0 | H57: =COUNTIF($B$29:$AF$30,"RT")+(COUNTIF($B$29:$AF$30,"1/2 RT")/2) -> 0 | I57: =COUNTIF($B$29:$AF$30,"CE")+(COUNTIF($B$29:$AF$30,"1/2 CE")/2) -> 0 | J57: =COUNTIF($B$29:$AF$30,"MO")+(COUNTIF($B$29:$AF$30,"1/2 MO")/2) -> 0 | K57: =COUNTIF($B$29:$AF$30,"CAA")+(COUNTIF($B$29:$AF$30,"1/2 CAA")/2) -> 0 | L57: =COUNTIF($B$29:$AF$30,"EF")+(COUNTIF($B$29:$AF$30,"1/2 EF")/2) -> 0 | M57: =COUNTIF($B$29:$AF$30,"HSR")+(COUNTIF($B$29:$AF$30,"1/2 HSR")/2) -> 0 | N57: =COUNTIF($B$29:$AF$30,"EM")+(COUNTIF($B$29:$AF$30,"1/2 EM")/2) -> 0 | O57: =COUNTIF($B$29:$AF$30,"F")+(COUNTIF($B$29:$AF$30,"1/2 F")/2) -> 0 | P57: =COUNTIF($B$29:$AF$30,"ST")+(COUNTIF($B$29:$AF$30,"1/2 ST")/2) -> 0 | Q57: =COUNTIF($B$29:$AF$30,"FORM")+(COUNTIF($B$29:$AF$30,"1/2 FORM")/2) -> 0 | R57: =COUNTIF($B$29:$AF$30,"EQ")+(COUNTIF($B$29:$AF$30,"1/2 EQ")/2) -> 0 | S57: =COUNTIF($B$29:$AF$30,"CSO")+(COUNTIF($B$29:$AF$30,"1/2 CSO")/2) -> 0 | T57: =COUNTIF($B$29:$AF$30,"FOUR")+(COUNTIF($B$29:$AF$30,"1/2 FOUR")/2) -> 0 | U57: =COUNTIF($B$29:$AF$30,"PR")+(COUNTIF($B$29:$AF$30,"1/2 PR")/2) -> 0 | V57: =COUNTIF($B$29:$AF$30,"AT")+(COUNTIF($B$29:$AF$30,"1/2 AT")/2) -> 0 | AF57: =SUM(B57:AE57) -> 0

Sheet Juin
A1: JUIN
B3: 1 | C3: 2 | D3: 3 | E3: 4 | F3: 5 | G3: 6 | H3: 7 | I3: 8 | J3: 9 | K3: 10 | L3: 11 | M3: 12 | N3: 13 | O3: 14 | P3: 15 | Q3: 16 | R3: 17 | S3: 18 | T3: 19 | U3: 20 | V3: 21 | W3: 22 | X3: 23 | Y3: 24 | Z3: 25 | AA3: 26 | AB3: 27 | AC3: 28 | AD3: 29 | AE3: 30
B4: L | C4: M | D4: M | E4: J | F4: V | G4: S | H4: D | I4: L | J4: M | K4: M | L4: J | M4: V | N4: S | O4: D | P4: L | Q4: M | R4: M | S4: J | T4: V | U4: S | V4: D | W4: L | X4: M | Y4: M | Z4: J | AA4: V | AB4: S | AC4: D | AD4: L | AE4: M
A5: Alpha | B5: M | C5: M | D5: M | E5: M | F5: M | G5: RH | H5: RH | I5: M | J5: M | K5: M | L5: M | M5: M | N5: RH | O5: RH | P5: M | Q5: M | R5: M | S5: M | T5: M | U5: RH | V5: RH | W5: M | X5: M | Y5: M | Z5: M | AA5: M | AB5: RH | AC5: RH | AD5: M | AE5: M
A7: Bravo | B7: RH | C7: M | D7: M | E7: M | F7: M | G7: RH | H7: RH | I7: AM | J7: AM | K7: AM | L7: AM | M7: AM | N7: AM | O7: RH | P7: RH | Q7: M | R7: M | S7: M | T7: M | U7: RH | V7: RH | W7: CA | X7: CA | Y7: CA | Z7: CA | AA7: CA | AB7: CA | AC7: RH | AD7: RH | AE7: CA
A9: Charlie | B9: RH | C9: M | D9: M | E9: M | F9: M | G9: RH | H9: RH | I9: AM | J9: AM | K9: AM | L9: AM | M9: AM | N9: AM | O9: RH | P9: RH | Q9: M | R9: M | S9: M | T9: M | U9: RH | V9: RH | W9: AM | X9: AM | Y9: AM | Z9: AM | AA9: AM | AB9: AM | AC9: RH | AD9: RH | AE9: M
A11: Delta | B11: RH | C11: M | D11: M | E11: M | F11: M | G11: RH | H11: RH | I11: AM | J11: AM | K11: AM | L11: AM | M11: AM | N11: AM | O11: RH | P11: RH | Q11: M | R11: M | S11: M | T11: M | U11: RH | V11: RH | W11: AM | X11: AM | Y11: AM | Z11: AM | AA11: AM | AB11: AM | AC11: RH | AD11: RH | AE11: M
A13: Echo | B13: RH | C13: M | D13: M | E13: M | F13: M | G13: RH | H13: RH | I13: AM | J13: AM | K13: AM | L13: AM | M13: AM | N13: AM | O13: RH | P13: RH | Q13: M | R13: M | S13: M | T13: M | U13: RH | V13: RH | W13: AM | X13: AM | Y13: AM | Z13: AM | AA13: AM | AB13: AM | AC13: RH | AD13: RH | AE13: M
A19: Foxtrot | B19: AM | C19: AM | D19: AM | E19: AM | F19: AM | G19: CA | H19: RH | I19: RH | J19: CA | K19: CA | L19: CA | M19: CA | N19: RH | O19: RH | P19: AM | Q19: AM | R19: AM | S19: AM | T19: AM | U19: AM | V19: RH | W19: RH | X19: M | Y19: M | Z19: M | AA19: M | AB19: RH | AC19: RH | AD19: AM | AE19: AM
A21: Golf | B21: AM | C21: AM | D21: AM | E21: AM | F21: AM | G21: AM | H21: RH | I21: RH | J21: M | K21: M | L21: M | M21: M | N21: RH | O21: RH | P21: AM | Q21: AM | R21: AM | S21: AM | T21: AM | U21: AM | V21: RH | W21: RH | X21: M | Y21: M | Z21: M | AA21: M | AB21: RH | AC21: RH | AD21: AM | AE21: AM
A23: Hotel | B23: AM | C23: AM | D23: AM | E23: AM | F23: AM | G23: AM | H23: RH | I23: RH | J23: M | K23: M | L23: M | M23: M | N23: RH | O23: RH | P23: AM | Q23: AM | R23: AM | S23: AM | T23: AM | U23: AM | V23: RH | W23: RH | X23: M | Y23: M | Z23: M | AA23: M | AB23: RH | AC23: RH | AD23: CA | AE23: CA
A25: India
A31: Présents | B31: =COUNTIF(B5:B30,"J")+(COUNTIF(B5:B30,"1/2 J")/2)+COUNTIF(B5:B30,"M")+(COUNTIF(B5:B30,"1/2 M")/2)+COUNTIF(B5:B30,"AM")+(COUNTIF(B5:B30,"1/2 AM")/2)+COUNTIF(B5:B30,"GTPI")+(COUNTIF(B5:B30,"1/2 GTPI")/2)+COUNTIF(B5:B30,"ZB")+(COUNTIF(B5:B30,"1/2 ZB")/2)+COUNTIF(B5:B30,"ZC")+(COUNTIF(B5:B30,"1/2 ZC")/2)+COUNTIF(B5:B30,"ZD")+(COUNTIF(B5:B30,"1/2 ZD")/2) -> 4 | C31: =COUNTIF(C5:C30,"J")+(COUNTIF(C5:C30,"1/2 J")/2)+COUNTIF(C5:C30,"M")+(COUNTIF(C5:C30,"1/2 M")/2)+COUNTIF(C5:C30,"AM")+(COUNTIF(C5:C30,"1/2 AM")/2)+COUNTIF(C5:C30,"GTPI")+(COUNTIF(C5:C30,"1/2 GTPI")/2)+COUNTIF(C5:C30,"ZB")+(COUNTIF(C5:C30,"1/2 ZB")/2)+COUNTIF(C5:C30,"ZC")+(COUNTIF(C5:C30,"1/2 ZC")/2)+COUNTIF(C5:C30,"ZD")+(COUNTIF(C5:C30,"1/2 ZD")/2) -> 8 | D31: =COUNTIF(D5:D30,"J")+(COUNTIF(D5:D30,"1/2 J")/2)+COUNTIF(D5:D30,"M")+(COUNTIF(D5:D30,"1/2 M")/2)+COUNTIF(D5:D30,"AM")+(COUNTIF(D5:D30,"1/2 AM")/2)+COUNTIF(D5:D30,"GTPI")+(COUNTIF(D5:D30,"1/2 GTPI")/2)+COUNTIF(D5:D30,"ZB")+(COUNTIF(D5:D30,"1/2 ZB")/2)+COUNTIF(D5:D30,"ZC")+(COUNTIF(D5:D30,"1/2 ZC")/2)+COUNTIF(D5:D30,"ZD")+(COUNTIF(D5:D30,"1/2 ZD")/2) -> 8 | E31: =COUNTIF(E5:E30,"J")+(COUNTIF(E5:E30,"1/2 J")/2)+COUNTIF(E5:E30,"M")+(COUNTIF(E5:E30,"1/2 M")/2)+COUNTIF(E5:E30,"AM")+(COUNTIF(E5:E30,"1/2 AM")/2)+COUNTIF(E5:E30,"GTPI")+(COUNTIF(E5:E30,"1/2 GTPI")/2)+COUNTIF(E5:E30,"ZB")+(COUNTIF(E5:E30,"1/2 ZB")/2)+COUNTIF(E5:E30,"ZC")+(COUNTIF(E5:E30,"1/2 ZC")/2)+COUNTIF(E5:E30,"ZD")+(COUNTIF(E5:E30,"1/2 ZD")/2) -> 8 | F31: =COUNTIF(F5:F30,"J")+(COUNTIF(F5:F30,"1/2 J")/2)+COUNTIF(F5:F30,"M")+(COUNTIF(F5:F30,"1/2 M")/2)+COUNTIF(F5:F30,"AM")+(COUNTIF(F5:F30,"1/2 AM")/2)+COUNTIF(F5:F30,"GTPI")+(COUNTIF(F5:F30,"1/2 GTPI")/2)+COUNTIF(F5:F30,"ZB")+(COUNTIF(F5:F30,"1/2 ZB")/2)+COUNTIF(F5:F30,"ZC")+(COUNTIF(F5:F30,"1/2 ZC")/2)+COUNTIF(F5:F30,"ZD")+(COUNTIF(F5:F30,"1/2 ZD")/2) -> 8 | G31: =COUNTIF(G5:G30,"J")+(COUNTIF(G5:G30,"1/2 J")/2)+COUNTIF(G5:G30,"M")+(COUNTIF(G5:G30,"1/2 M")/2)+COUNTIF(G5:G30,"AM")+(COUNTIF(G5:G30,"1/2 AM")/2)+COUNTIF(G5:G30,"GTPI")+(COUNTIF(G5:G30,"1/2 GTPI")/2)+COUNTIF(G5:G30,"ZB")+(COUNTIF(G5:G30,"1/2 ZB")/2)+COUNTIF(G5:G30,"ZC")+(COUNTIF(G5:G30,"1/2 ZC")/2)+COUNTIF(G5:G30,"ZD")+(COUNTIF(G5:G30,"1/2 ZD")/2) -> 2 | H31: =COUNTIF(H5:H30,"J")+(COUNTIF(H5:H30,"1/2 J")/2)+COUNTIF(H5:H30,"M")+(COUNTIF(H5:H30,"1/2 M")/2)+COUNTIF(H5:H30,"AM")+(COUNTIF(H5:H30,"1/2 AM")/2)+COUNTIF(H5:H30,"GTPI")+(COUNTIF(H5:H30,"1/2 GTPI")/2)+COUNTIF(H5:H30,"ZB")+(COUNTIF(H5:H30,"1/2 ZB")/2)+COUNTIF(H5:H30,"ZC")+(COUNTIF(H5:H30,"1/2 ZC")/2)+COUNTIF(H5:H30,"ZD")+(COUNTIF(H5:H30,"1/2 ZD")/2) -> 0 | I31: =COUNTIF(I5:I30,"J")+(COUNTIF(I5:I30,"1/2 J")/2)+COUNTIF(I5:I30,"M")+(COUNTIF(I5:I30,"1/2 M")/2)+COUNTIF(I5:I30,"AM")+(COUNTIF(I5:I30,"1/2 AM")/2)+COUNTIF(I5:I30,"GTPI")+(COUNTIF(I5:I30,"1/2 GTPI")/2)+COUNTIF(I5:I30,"ZB")+(COUNTIF(I5:I30,"1/2 ZB")/2)+COUNTIF(I5:I30,"ZC")+(COUNTIF(I5:I30,"1/2 ZC")/2)+COUNTIF(I5:I30,"ZD")+(COUNTIF(I5:I30,"1/2 ZD")/2) -> 5 | ... AF31: =COUNTIF(AF5:AF30,"J")+(COUNTIF(AF5:AF30,"1/2 J")/2)+COUNTIF(AF5:AF30,"M")+(COUNTIF(AF5:AF30,"1/2 M")/2)+COUNTIF(AF5:AF30,"AM")+(COUNTIF(AF5:AF30,"1/2 AM")/2)+COUNTIF(AF5:AF30,"GTPI")+(COUNTIF(AF5:AF30,"1/2 GTPI")/2)+COUNTIF(AF5:AF30,"ZB")+(COUNTIF(AF5:AF30,"1/2 ZB")/2)+COUNTIF(AF5:AF30,"ZC")+(COUNTIF(AF5:AF30,"1/2 ZC")/2)+COUNTIF(AF5:AF30,"ZD")+(COUNTIF(AF5:AF30,"1/2 ZD")/2) -> 0
