Workbook

Sheet TABLEAU
C3: LIBELLE | D3: CODE MOTS CLES A RENSEIGNER
C4: FRAIS/OUV CREDOC IMPORT DOSSIER | D4: =SUMPRODUCT((ISNUMBER(FIND(KEYWORD!C$3:E$7,TABLEAU!C4))*(KEYWORD!C$3:E$7<>""))*(KEYWORD!B$3:B$7)) -> 4
C5: FRAIS/OUV CREDOC IMPORT DOSSIER | D5: =SUMPRODUCT((ISNUMBER(FIND(KEYWORD!C$3:E$7,TABLEAU!C5))*(KEYWORD!C$3:E$7<>""))*(KEYWORD!B$3:B$7)) -> 4
C6: FRAIS/OUV CREDOC IMPORT DOSSIER | D6: =SUMPRODUCT((ISNUMBER(FIND(KEYWORD!C$3:E$7,TABLEAU!C6))*(KEYWORD!C$3:E$7<>""))*(KEYWORD!B$3:B$7)) -> 4
C7: VIR FAVEUR | D7: =SUMPRODUCT((ISNUMBER(FIND(KEYWORD!C$3:E$7,TABLEAU!C7))*(KEYWORD!C$3:E$7<>""))*(KEYWORD!B$3:B$7)) -> 0
C8: FRAIS/DOMICILIAT IMPORT MONTANT | D8: =SUMPRODUCT((ISNUMBER(FIND(KEYWORD!C$3:E$7,TABLEAU!C8))*(KEYWORD!C$3:E$7<>""))*(KEYWORD!B$3:B$7)) -> 4
C9: RET CHQ 3 | D9: =SUMPRODUCT((ISNUMBER(FIND(KEYWORD!C$3:E$7,TABLEAU!C9))*(KEYWORD!C$3:E$7<>""))*(KEYWORD!B$3:B$7)) -> 100
C10: FRAIS DE FORCAGE | D10: =SUMPRODUCT((ISNUMBER(FIND(KEYWORD!C$3:E$7,TABLEAU!C10))*(KEYWORD!C$3:E$7<>""))*(KEYWORD!B$3:B$7)) -> 4
C11: RET CHQ 4 | D11: =SUMPRODUCT((ISNUMBER(FIND(KEYWORD!C$3:E$7,TABLEAU!C11))*(KEYWORD!C$3:E$7<>""))*(KEYWORD!B$3:B$7)) -> 100
C12: FRAIS DE FORCAGE | D12: =SUMPRODUCT((ISNUMBER(FIND(KEYWORD!C$3:E$7,TABLEAU!C12))*(KEYWORD!C$3:E$7<>""))*(KEYWORD!B$3:B$7)) -> 4
C13: FRAIS/DOMICILIAT IMPORT MONTANT | D13: =SUMPRODUCT((ISNUMBER(FIND(KEYWORD!C$3:E$7,TABLEAU!C13))*(KEYWORD!C$3:E$7<>""))*(KEYWORD!B$3:B$7)) -> 4
C14: FRAIS/DOMICILIAT IMPORT MONTANT | D14: =SUMPRODUCT((ISNUMBER(FIND(KEYWORD!C$3:E$7,TABLEAU!C14))*(KEYWORD!C$3:E$7<>""))*(KEYWORD!B$3:B$7)) -> 4
C15: FRAIS/ESCPTE EFFET | D15: =SUMPRODUCT((ISNUMBER(FIND(KEYWORD!C$3:E$7,TABLEAU!C15))*(KEYWORD!C$3:E$7<>""))*(KEYWORD!B$3:B$7)) -> 4
... C34: FRAIS TRANSFERT NATIONAL | D34: =SUMPRODUCT((ISNUMBER(FIND(KEYWORD!C$3:E$7,TABLEAU!C34))*(KEYWORD!C$3:E$7<>""))*(KEYWORD!B$3:B$7)) -> 3

Sheet KEYWORD
B2: CODE | C2: KEYWORD 1 | D2: KEYWORD 2 | E2: KEYWORD 3
B3: 100 | C3: CHQ | D3: CHEQ | E3: CHEQUE | G3: chaque keyword devra être recherché dans "LIBELLE" sous "TABLEAU"
B4: 2 | C4: EFF | D4: EFFET | G4: Chaque fois que l'un ou l'autre des mots clés est trouvé
B5: 3 | C5: TRF | D5: TRANSFERT | G5: le CODE de la ligne correspondant au mot clé devra être renseigné dans la colonne CODE sous "TABLEAU"
B6: 4 | C6: CREDOC | D6: FORCAGE | E6: DOMI
B7: 5 | C7: AGIOS | G7: Exemple : les mots clés CHQ, CHEQ, CHEQUE trouvés dans LIBELLE sous TABLEAU auront pour code "1" ainsi de suite
E9: Attention ! cellule vide = "non vide" il y a l'espace insécable code Alt+0160
