Workbook

Sheet TEST
H1: PLANNING DE LA SEMAINE N° 26 | U1: DU | V1: =F4 -> 44375 | AB1: AU | AC1: =X4 -> 44381
D3: SOLDE CP -RECUP | E3: HRS À RECUP | F3: LUNDI | I3: MARDI | L3: MERCREDI | O3: JEUDI | R3: VENDREDI | U3: SAMEDI | X3: DIMANCHE | AA3: TOTAL HRS SEM. | AB3: DIFF | AC3: SOLDE CP -RECUP | AD3: HRS À RECUP | AE3: COMMENTAIRES | AF3: SIGNATURE
F4: 44375 | I4: =F4+1 -> 44376 | L4: =I4+1 -> 44377 | O4: =L4+1 -> 44378 | R4: =O4+1 -> 44379 | U4: =R4+1 -> 44380 | X4: =U4+1 -> 44381
B8: JEAN | F8: OUVERTURE | I8: OUVERTURE | L8: FERMETURE | O8: OUVERTURE | R8: REPOS HEBDO | U8: REPOS HEBDO | X8: FERMETURE | AA8: =H9+K9+N9+Q9+T9+W9+Z9 -> 45.75 | AB8: =AA8-C10 -> 45.75 | AE8: =AA8/C10 -> #DIV/0!
B9: XXX | D9: =#REF! -> #REF! | F9: 0 | G9: 0.75 | H9: =24*(IF(TIME(HOUR(G10),MINUTE(G10),0)-TIME(HOUR(F10),MINUTE(F10),0)<0,TIME(HOUR(G10),MINUTE(G10),0)-TIME(HOUR(F10),MINUTE(F10),0)+1,TIME(HOUR(G10),MINUTE(G10),0)-TIME(HOUR(F10),MINUTE(F10),0)))+24*(IF(TIME(HOUR(G9),MINUTE(G9),0)-TIME(HOUR(F9),MINUTE(F9),0)<0,TIME(HOUR(G9),MINUTE(G9),0)-TIME(HOUR(F9),MINUTE(F9),0)+1,TIME(HOUR(G9),MINUTE(G9),0)-TIME(HOUR(F9),MINUTE(F9),0)))+24*(IF(TIME(HOUR(G10),MINUTE(G10),0)<0.25,TIME(HOUR(G10),MINUTE(G10),0),0))+24*(IF(TIME(HOUR(G9),MINUTE(G9),0)<0.25,TIME(HOUR(G9),MINUTE(G9),0),0))-24*(TIME(HOUR(H10),MINUTE(H10),0)) -> 18 | I9: 0.375 | J9: 0.48958333 | K9: =24*(IF(TIME(HOUR(J10),MINUTE(J10),0)-TIME(HOUR(I10),MINUTE(I10),0)<0,TIME(HOUR(J10),MINUTE(J10),0)-TIME(HOUR(I10),MINUTE(I10),0)+1,TIME(HOUR(J10),MINUTE(J10),0)-TIME(HOUR(I10),MINUTE(I10),0)))+24*(IF(TIME(HOUR(J9),MINUTE(J9),0)-TIME(HOUR(I9),MINUTE(I9),0)<0,TIME(HOUR(J9),MINUTE(J9),0)-TIME(HOUR(I9),MINUTE(I9),0)+1,TIME(HOUR(J9),MINUTE(J9),0)-TIME(HOUR(I9),MINUTE(I9),0)))+24*(IF(TIME(HOUR(J10),MINUTE(J10),0)<0.25,TIME(HOUR(J10),MINUTE(J10),0),0))+24*(IF(TIME(HOUR(J9),MINUTE(J9),0)<0.25,TIME(HOUR(J9),MINUTE(J9),0),0))-24*(TIME(HOUR(K10),MINUTE(K10),0)) -> 7.25 | L9: 0.70833333 | M9: 0 | N9: =24*(IF(TIME(HOUR(M10),MINUTE(M10),0)-TIME(HOUR(L10),MINUTE(L10),0)<0,TIME(HOUR(M10),MINUTE(M10),0)-TIME(HOUR(L10),MINUTE(L10),0)+1,TIME(HOUR(M10),MINUTE(M10),0)-TIME(HOUR(L10),MINUTE(L10),0)))+24*(IF(TIME(HOUR(M9),MINUTE(M9),0)-TIME(HOUR(L9),MINUTE(L9),0)<0,TIME(HOUR(M9),MINUTE(M9),0)-TIME(HOUR(L9),MINUTE(L9),0)+1,TIME(HOUR(M9),MINUTE(M9),0)-TIME(HOUR(L9),MINUTE(L9),0)))+24*(IF(TIME(HOUR(M10),MINUTE(M10),0)<0.25,TIME(HOUR(M10),MINUTE(M10),0),0))+24*(IF(TIME(HOUR(M9),MINUTE(M9),0)<0.25,TIME(HOUR(M9),MINUTE(M9),0),0))-24*(TIME(HOUR(N10),MINUTE(N10),0)) -> 7 | O9: 0.375 | P9: 0.48958333 | Q9: =24*(IF(TIME(HOUR(P10),MINUTE(P10),0)-TIME(HOUR(O10),MINUTE(O10),0)<0,TIME(HOUR(P10),MINUTE(P10),0)-TIME(HOUR(O10),MINUTE(O10),0)+1,TIME(HOUR(P10),MINUTE(P10),0)-TIME(HOUR(O10),MINUTE(O10),0)))+24*(IF(TIME(HOUR(P9),MINUTE(P9),0)-TIME(HOUR(O9),MINUTE(O9),0)<0,TIME(HOUR(P9),MINUTE(P9),0)-TIME(HOUR(O9),MINUTE(O9),0)+1,TIME(HOUR(P9),MINUTE(P9),0)-TIME(HOUR(O9),MINUTE(O9),0)))+24*(IF(TIME(HOUR(P10),MINUTE(P10),0)<0.25,TIME(HOUR(P10),MINUTE(P10),0),0))+24*(IF(TIME(HOUR(P9),MINUTE(P9),0)<0.25,TIME(HOUR(P9),MINUTE(P9),0),0))-24*(TIME(HOUR(Q10),MINUTE(Q10),0)) -> 6.5 | T9: =24*(IF(TIME(HOUR(S10),MINUTE(S10),0)-TIME(HOUR(R10),MINUTE(R10),0)<0,TIME(HOUR(S10),MINUTE(S10),0)-TIME(HOUR(R10),MINUTE(R10),0)+1,TIME(HOUR(S10),MINUTE(S10),0)-TIME(HOUR(R10),MINUTE(R10),0)))+24*(IF(TIME(HOUR(S9),MINUTE(S9),0)-TIME(HOUR(R9),MINUTE(R9),0)<0,TIME(HOUR(S9),MINUTE(S9),0)-TIME(HOUR(R9),MINUTE(R9),0)+1,TIME(HOUR(S9),MINUTE(S9),0)-TIME(HOUR(R9),MINUTE(R9),0)))+24*(IF(TIME(HOUR(S10),MINUTE(S10),0)<0.25,TIME(HOUR(S10),MINUTE(S10),0),0))+24*(IF(TIME(HOUR(S9),MINUTE(S9),0)<0.25,TIME(HOUR(S9),MINUTE(S9),0),0))-24*(TIME(HOUR(T10),MINUTE(T10),0)) -> 0 | W9: =24*(IF(TIME(HOUR(V10),MINUTE(V10),0)-TIME(HOUR(U10),MINUTE(U10),0)<0,TIME(HOUR(V10),MINUTE(V10),0)-TIME(HOUR(U10),MINUTE(U10),0)+1,TIME(HOUR(V10),MINUTE(V10),0)-TIME(HOUR(U10),MINUTE(U10),0)))+24*(IF(TIME(HOUR(V9),MINUTE(V9),0)-TIME(HOUR(U9),MINUTE(U9),0)<0,TIME(HOUR(V9),MINUTE(V9),0)-TIME(HOUR(U9),MINUTE(U9),0)+1,TIME(HOUR(V9),MINUTE(V9),0)-TIME(HOUR(U9),MINUTE(U9),0)))+24*(IF(TIME(HOUR(V10),MINUTE(V10),0)<0.25,TIME(HOUR(V10),MINUTE(V10),0),0))+24*(IF(TIME(HOUR(V9),MINUTE(V9),0)<0.25,TIME(HOUR(V9),MINUTE(V9),0),0))-24*(TIME(HOUR(W10),MINUTE(W10),0)) -> 0 | X9: 0.70833333 | Y9: 0 | Z9: =24*(IF(TIME(HOUR(Y10),MINUTE(Y10),0)-TIME(HOUR(X10),MINUTE(X10),0)<0,TIME(HOUR(Y10),MINUTE(Y10),0)-TIME(HOUR(X10),MINUTE(X10),0)+1,TIME(HOUR(Y10),MINUTE(Y10),0)-TIME(HOUR(X10),MINUTE(X10),0)))+24*(IF(TIME(HOUR(Y9),MINUTE(Y9),0)-TIME(HOUR(X9),MINUTE(X9),0)<0,TIME(HOUR(Y9),MINUTE(Y9),0)-TIME(HOUR(X9),MINUTE(X9),0)+1,TIME(HOUR(Y9),MINUTE(Y9),0)-TIME(HOUR(X9),MINUTE(X9),0)))+24*(IF(TIME(HOUR(Y10),MINUTE(Y10),0)<0.25,TIME(HOUR(Y10),MINUTE(Y10),0),0))+24*(IF(TIME(HOUR(Y9),MINUTE(Y9),0)<0.25,TIME(HOUR(Y9),MINUTE(Y9),0),0))-24*(TIME(HOUR(Z10),MINUTE(Z10),0)) -> 7 | AC9: =D9-H8-K8-N8-Q8-T8-W8-Z8 -> #REF!
B10: XXX | C10: 0 | I10: 0.54166667 | J10: 0.72916667 | O10: 0.54166667 | P10: 0.69791667
B11: JEANNE | F11: REPOS HEBDO | I11: FERMETURE | L11: RALL / OUV | O11: FERMETURE | R11: OUVERTURE | U11: FERMETURE | X11: REPOS HEBDO | AA11: =H12+K12+N12+Q12+T12+W12+Z12 -> 41 | AB11: =AA11-C13 -> 41 | AE11: =AA11/C13 -> #DIV/0!
B12: XXX | D12: =#REF! -> #REF! | F12: 0.39583333 | G12: 0.47916667 | H12: =24*(IF(TIME(HOUR(G13),MINUTE(G13),0)-TIME(HOUR(F13),MINUTE(F13),0)<0,TIME(HOUR(G13),MINUTE(G13),0)-TIME(HOUR(F13),MINUTE(F13),0)+1,TIME(HOUR(G13),MINUTE(G13),0)-TIME(HOUR(F13),MINUTE(F13),0)))+24*(IF(TIME(HOUR(G12),MINUTE(G12),0)-TIME(HOUR(F12),MINUTE(F12),0)<0,TIME(HOUR(G12),MINUTE(G12),0)-TIME(HOUR(F12),MINUTE(F12),0)+1,TIME(HOUR(G12),MINUTE(G12),0)-TIME(HOUR(F12),MINUTE(F12),0)))+24*(IF(TIME(HOUR(G13),MINUTE(G13),0)<0.25,TIME(HOUR(G13),MINUTE(G13),0),0))+24*(IF(TIME(HOUR(G12),MINUTE(G12),0)<0.25,TIME(HOUR(G12),MINUTE(G12),0),0))-24*(TIME(HOUR(H13),MINUTE(H13),0)) -> 6 | I12: 0.75 | J12: 0 | K12: =24*(IF(TIME(HOUR(J13),MINUTE(J13),0)-TIME(HOUR(I13),MINUTE(I13),0)<0,TIME(HOUR(J13),MINUTE(J13),0)-TIME(HOUR(I13),MINUTE(I13),0)+1,TIME(HOUR(J13),MINUTE(J13),0)-TIME(HOUR(I13),MINUTE(I13),0)))+24*(IF(TIME(HOUR(J12),MINUTE(J12),0)-TIME(HOUR(I12),MINUTE(I12),0)<0,TIME(HOUR(J12),MINUTE(J12),0)-TIME(HOUR(I12),MINUTE(I12),0)+1,TIME(HOUR(J12),MINUTE(J12),0)-TIME(HOUR(I12),MINUTE(I12),0)))+24*(IF(TIME(HOUR(J13),MINUTE(J13),0)<0.25,TIME(HOUR(J13),MINUTE(J13),0),0))+24*(IF(TIME(HOUR(J12),MINUTE(J12),0)<0.25,TIME(HOUR(J12),MINUTE(J12),0),0))-24*(TIME(HOUR(K13),MINUTE(K13),0)) -> 6 | L12: 0.41666667 | M12: 0.47916667 | N12: =24*(IF(TIME(HOUR(M13),MINUTE(M13),0)-TIME(HOUR(L13),MINUTE(L13),0)<0,TIME(HOUR(M13),MINUTE(M13),0)-TIME(HOUR(L13),MINUTE(L13),0)+1,TIME(HOUR(M13),MINUTE(M13),0)-TIME(HOUR(L13),MINUTE(L13),0)))+24*(IF(TIME(HOUR(M12),MINUTE(M12),0)-TIME(HOUR(L12),MINUTE(L12),0)<0,TIME(HOUR(M12),MINUTE(M12),0)-TIME(HOUR(L12),MINUTE(L12),0)+1,TIME(HOUR(M12),MINUTE(M12),0)-TIME(HOUR(L12),MINUTE(L12),0)))+24*(IF(TIME(HOUR(M13),MINUTE(M13),0)<0.25,TIME(HOUR(M13),MINUTE(M13),0),0))+24*(IF(TIME(HOUR(M12),MINUTE(M12),0)<0.25,TIME(HOUR(M12),MINUTE(M12),0),0))-24*(TIME(HOUR(N13),MINUTE(N13),0)) -> 7.5 | O12: 0.66666667 | P12: 0 | Q12: =24*(IF(TIME(HOUR(P13),MINUTE(P13),0)-TIME(HOUR(O13),MINUTE(O13),0)<0,TIME(HOUR(P13),MINUTE(P13),0)-TIME(HOUR(O13),MINUTE(O13),0)+1,TIME(HOUR(P13),MINUTE(P13),0)-TIME(HOUR(O13),MINUTE(O13),0)))+24*(IF(TIME(HOUR(P12),MINUTE(P12),0)-TIME(HOUR(O12),MINUTE(O12),0)<0,TIME(HOUR(P12),MINUTE(P12),0)-TIME(HOUR(O12),MINUTE(O12),0)+1,TIME(HOUR(P12),MINUTE(P12),0)-TIME(HOUR(O12),MINUTE(O12),0)))+24*(IF(TIME(HOUR(P13),MINUTE(P13),0)<0.25,TIME(HOUR(P13),MINUTE(P13),0),0))+24*(IF(TIME(HOUR(P12),MINUTE(P12),0)<0.25,TIME(HOUR(P12),MINUTE(P12),0),0))-24*(TIME(HOUR(Q13),MINUTE(Q13),0)) -> 8 | R12: 0.54166667 | S12: 0.8125 | T12: =24*(IF(TIME(HOUR(S13),MINUTE(S13),0)-TIME(HOUR(R13),MINUTE(R13),0)<0,TIME(HOUR(S13),MINUTE(S13),0)-TIME(HOUR(R13),MINUTE(R13),0)+1,TIME(HOUR(S13),MINUTE(S13),0)-TIME(HOUR(R13),MINUTE(R13),0)))+24*(IF(TIME(HOUR(S12),MINUTE(S12),0)-TIME(HOUR(R12),MINUTE(R12),0)<0,TIME(HOUR(S12),MINUTE(S12),0)-TIME(HOUR(R12),MINUTE(R12),0)+1,TIME(HOUR(S12),MINUTE(S12),0)-TIME(HOUR(R12),MINUTE(R12),0)))+24*(IF(TIME(HOUR(S13),MINUTE(S13),0)<0.25,TIME(HOUR(S13),MINUTE(S13),0),0))+24*(IF(TIME(HOUR(S12),MINUTE(S12),0)<0.25,TIME(HOUR(S12),MINUTE(S12),0),0))-24*(TIME(HOUR(T13),MINUTE(T13),0)) -> 6.5 | U12: 0.70833333 | V12: 0 | W12: =24*(IF(TIME(HOUR(V13),MINUTE(V13),0)-TIME(HOUR(U13),MINUTE(U13),0)<0,TIME(HOUR(V13),MINUTE(V13),0)-TIME(HOUR(U13),MINUTE(U13),0)+1,TIME(HOUR(V13),MINUTE(V13),0)-TIME(HOUR(U13),MINUTE(U13),0)))+24*(IF(TIME(HOUR(V12),MINUTE(V12),0)-TIME(HOUR(U12),MINUTE(U12),0)<0,TIME(HOUR(V12),MINUTE(V12),0)-TIME(HOUR(U12),MINUTE(U12),0)+1,TIME(HOUR(V12),MINUTE(V12),0)-TIME(HOUR(U12),MINUTE(U12),0)))+24*(IF(TIME(HOUR(V13),MINUTE(V13),0)<0.25,TIME(HOUR(V13),MINUTE(V13),0),0))+24*(IF(TIME(HOUR(V12),MINUTE(V12),0)<0.25,TIME(HOUR(V12),MINUTE(V12),0),0))-24*(TIME(HOUR(W13),MINUTE(W13),0)) -> 7 | Z12: =24*(IF(TIME(HOUR(Y13),MINUTE(Y13),0)-TIME(HOUR(X13),MINUTE(X13),0)<0,TIME(HOUR(Y13),MINUTE(Y13),0)-TIME(HOUR(X13),MINUTE(X13),0)+1,TIME(HOUR(Y13),MINUTE(Y13),0)-TIME(HOUR(X13),MINUTE(X13),0)))+24*(IF(TIME(HOUR(Y12),MINUTE(Y12),0)-TIME(HOUR(X12),MINUTE(X12),0)<0,TIME(HOUR(Y12),MINUTE(Y12),0)-TIME(HOUR(X12),MINUTE(X12),0)+1,TIME(HOUR(Y12),MINUTE(Y12),0)-TIME(HOUR(X12),MINUTE(X12),0)))+24*(IF(TIME(HOUR(Y13),MINUTE(Y13),0)<0.25,TIME(HOUR(Y13),MINUTE(Y13),0),0))+24*(IF(TIME(HOUR(Y12),MINUTE(Y12),0)<0.25,TIME(HOUR(Y12),MINUTE(Y12),0),0))-24*(TIME(HOUR(Z13),MINUTE(Z13),0)) -> 0 | AC12: =D12-H11-K11-N11-Q11-T11-W11-Z11 -> #REF!
B13: XXX | C13: 0 | F13: 0.75 | G13: 0.91666667 | L13: 0.54166667 | M13: 0.79166667
B14: LUC | F14: OUVERTURE | I14: REPOS HEBDO | L14: REPOS HEBDO | O14: CP | Q14: 1 | R14: CP | T14: 1 | U14: CP | W14: 1 | X14: CP | Z14: 1 | AA14: =H15+K15+N15+Q15+T15+W15+Z15 -> 7.5 | AB14: =AA14-C16 -> 7.5 | AE14: =AA14/C16 -> #DIV/0!
B15: XXX | D15: =#REF! -> #REF! | F15: 0.375 | G15: 0.46875 | H15: =24*(IF(TIME(HOUR(G16),MINUTE(G16),0)-TIME(HOUR(F16),MINUTE(F16),0)<0,TIME(HOUR(G16),MINUTE(G16),0)-TIME(HOUR(F16),MINUTE(F16),0)+1,TIME(HOUR(G16),MINUTE(G16),0)-TIME(HOUR(F16),MINUTE(F16),0)))+24*(IF(TIME(HOUR(G15),MINUTE(G15),0)-TIME(HOUR(F15),MINUTE(F15),0)<0,TIME(HOUR(G15),MINUTE(G15),0)-TIME(HOUR(F15),MINUTE(F15),0)+1,TIME(HOUR(G15),MINUTE(G15),0)-TIME(HOUR(F15),MINUTE(F15),0)))+24*(IF(TIME(HOUR(G16),MINUTE(G16),0)<0.25,TIME(HOUR(G16),MINUTE(G16),0),0))+24*(IF(TIME(HOUR(G15),MINUTE(G15),0)<0.25,TIME(HOUR(G15),MINUTE(G15),0),0))-24*(TIME(HOUR(H16),MINUTE(H16),0)) -> 7.5 | K15: =24*(IF(TIME(HOUR(J16),MINUTE(J16),0)-TIME(HOUR(I16),MINUTE(I16),0)<0,TIME(HOUR(J16),MINUTE(J16),0)-TIME(HOUR(I16),MINUTE(I16),0)+1,TIME(HOUR(J16),MINUTE(J16),0)-TIME(HOUR(I16),MINUTE(I16),0)))+24*(IF(TIME(HOUR(J15),MINUTE(J15),0)-TIME(HOUR(I15),MINUTE(I15),0)<0,TIME(HOUR(J15),MINUTE(J15),0)-TIME(HOUR(I15),MINUTE(I15),0)+1,TIME(HOUR(J15),MINUTE(J15),0)-TIME(HOUR(I15),MINUTE(I15),0)))+24*(IF(TIME(HOUR(J16),MINUTE(J16),0)<0.25,TIME(HOUR(J16),MINUTE(J16),0),0))+24*(IF(TIME(HOUR(J15),MINUTE(J15),0)<0.25,TIME(HOUR(J15),MINUTE(J15),0),0))-24*(TIME(HOUR(K16),MINUTE(K16),0)) -> 0 | N15: =24*(IF(TIME(HOUR(M16),MINUTE(M16),0)-TIME(HOUR(L16),MINUTE(L16),0)<0,TIME(HOUR(M16),MINUTE(M16),0)-TIME(HOUR(L16),MINUTE(L16),0)+1,TIME(HOUR(M16),MINUTE(M16),0)-TIME(HOUR(L16),MINUTE(L16),0)))+24*(IF(TIME(HOUR(M15),MINUTE(M15),0)-TIME(HOUR(L15),MINUTE(L15),0)<0,TIME(HOUR(M15),MINUTE(M15),0)-TIME(HOUR(L15),MINUTE(L15),0)+1,TIME(HOUR(M15),MINUTE(M15),0)-TIME(HOUR(L15),MINUTE(L15),0)))+24*(IF(TIME(HOUR(M16),MINUTE(M16),0)<0.25,TIME(HOUR(M16),MINUTE(M16),0),0))+24*(IF(TIME(HOUR(M15),MINUTE(M15),0)<0.25,TIME(HOUR(M15),MINUTE(M15),0),0))-24*(TIME(HOUR(N16),MINUTE(N16),0)) -> 0 | Q15: =24*(IF(TIME(HOUR(P16),MINUTE(P16),0)-TIME(HOUR(O16),MINUTE(O16),0)<0,TIME(HOUR(P16),MINUTE(P16),0)-TIME(HOUR(O16),MINUTE(O16),0)+1,TIME(HOUR(P16),MINUTE(P16),0)-TIME(HOUR(O16),MINUTE(O16),0)))+24*(IF(TIME(HOUR(P15),MINUTE(P15),0)-TIME(HOUR(O15),MINUTE(O15),0)<0,TIME(HOUR(P15),MINUTE(P15),0)-TIME(HOUR(O15),MINUTE(O15),0)+1,TIME(HOUR(P15),MINUTE(P15),0)-TIME(HOUR(O15),MINUTE(O15),0)))+24*(IF(TIME(HOUR(P16),MINUTE(P16),0)<0.25,TIME(HOUR(P16),MINUTE(P16),0),0))+24*(IF(TIME(HOUR(P15),MINUTE(P15),0)<0.25,TIME(HOUR(P15),MINUTE(P15),0),0))-24*(TIME(HOUR(Q16),MINUTE(Q16),0)) -> 0 | T15: =24*(IF(TIME(HOUR(S16),MINUTE(S16),0)-TIME(HOUR(R16),MINUTE(R16),0)<0,TIME(HOUR(S16),MINUTE(S16),0)-TIME(HOUR(R16),MINUTE(R16),0)+1,TIME(HOUR(S16),MINUTE(S16),0)-TIME(HOUR(R16),MINUTE(R16),0)))+24*(IF(TIME(HOUR(S15),MINUTE(S15),0)-TIME(HOUR(R15),MINUTE(R15),0)<0,TIME(HOUR(S15),MINUTE(S15),0)-TIME(HOUR(R15),MINUTE(R15),0)+1,TIME(HOUR(S15),MINUTE(S15),0)-TIME(HOUR(R15),MINUTE(R15),0)))+24*(IF(TIME(HOUR(S16),MINUTE(S16),0)<0.25,TIME(HOUR(S16),MINUTE(S16),0),0))+24*(IF(TIME(HOUR(S15),MINUTE(S15),0)<0.25,TIME(HOUR(S15),MINUTE(S15),0),0))-24*(TIME(HOUR(T16),MINUTE(T16),0)) -> 0 | W15: =24*(IF(TIME(HOUR(V16),MINUTE(V16),0)-TIME(HOUR(U16),MINUTE(U16),0)<0,TIME(HOUR(V16),MINUTE(V16),0)-TIME(HOUR(U16),MINUTE(U16),0)+1,TIME(HOUR(V16),MINUTE(V16),0)-TIME(HOUR(U16),MINUTE(U16),0)))+24*(IF(TIME(HOUR(V15),MINUTE(V15),0)-TIME(HOUR(U15),MINUTE(U15),0)<0,TIME(HOUR(V15),MINUTE(V15),0)-TIME(HOUR(U15),MINUTE(U15),0)+1,TIME(HOUR(V15),MINUTE(V15),0)-TIME(HOUR(U15),MINUTE(U15),0)))+24*(IF(TIME(HOUR(V16),MINUTE(V16),0)<0.25,TIME(HOUR(V16),MINUTE(V16),0),0))+24*(IF(TIME(HOUR(V15),MINUTE(V15),0)<0.25,TIME(HOUR(V15),MINUTE(V15),0),0))-24*(TIME(HOUR(W16),MINUTE(W16),0)) -> 0 | Z15: =24*(IF(TIME(HOUR(Y16),MINUTE(Y16),0)-TIME(HOUR(X16),MINUTE(X16),0)<0,TIME(HOUR(Y16),MINUTE(Y16),0)-TIME(HOUR(X16),MINUTE(X16),0)+1,TIME(HOUR(Y16),MINUTE(Y16),0)-TIME(HOUR(X16),MINUTE(X16),0)))+24*(IF(TIME(HOUR(Y15),MINUTE(Y15),0)-TIME(HOUR(X15),MINUTE(X15),0)<0,TIME(HOUR(Y15),MINUTE(Y15),0)-TIME(HOUR(X15),MINUTE(X15),0)+1,TIME(HOUR(Y15),MINUTE(Y15),0)-TIME(HOUR(X15),MINUTE(X15),0)))+24*(IF(TIME(HOUR(Y16),MINUTE(Y16),0)<0.25,TIME(HOUR(Y16),MINUTE(Y16),0),0))+24*(IF(TIME(HOUR(Y15),MINUTE(Y15),0)<0.25,TIME(HOUR(Y15),MINUTE(Y15),0),0))-24*(TIME(HOUR(Z16),MINUTE(Z16),0)) -> 0 | AC15: =D15-H14-K14-N14-Q14-T14-W14-Z14 -> #REF!
B16: XXX | C16: 0 | F16: 0.70833333 | G16: 0.92708333
B17: PIERRE | F17: FERMETURE | I17: OUVERTURE | L17: REPOS HEBDO | O17: REPOS HEBDO | R17: FERMETURE | U17: OUV / SOIR | X17: OUVERTURE | AA17: =H18+K18+N18+Q18+T18+W18+Z18 -> 30 | AB17: =AA17-C19 -> 30 | AE17: =AA17/C19 -> #DIV/0!
B18: XXX | D18: =#REF! -> #REF! | F18: 0.45833333 | G18: 0.5 | H18: =24*(IF(TIME(HOUR(G19),MINUTE(G19),0)-TIME(HOUR(F19),MINUTE(F19),0)<0,TIME(HOUR(G19),MINUTE(G19),0)-TIME(HOUR(F19),MINUTE(F19),0)+1,TIME(HOUR(G19),MINUTE(G19),0)-TIME(HOUR(F19),MINUTE(F19),0)))+24*(IF(TIME(HOUR(G18),MINUTE(G18),0)-TIME(HOUR(F18),MINUTE(F18),0)<0,TIME(HOUR(G18),MINUTE(G18),0)-TIME(HOUR(F18),MINUTE(F18),0)+1,TIME(HOUR(G18),MINUTE(G18),0)-TIME(HOUR(F18),MINUTE(F18),0)))+24*(IF(TIME(HOUR(G19),MINUTE(G19),0)<0.25,TIME(HOUR(G19),MINUTE(G19),0),0))+24*(IF(TIME(HOUR(G18),MINUTE(G18),0)<0.25,TIME(HOUR(G18),MINUTE(G18),0),0))-24*(TIME(HOUR(H19),MINUTE(H19),0)) -> 1 | I18: 0.54166667 | J18: 0.83333333 | K18: =24*(IF(TIME(HOUR(J19),MINUTE(J19),0)-TIME(HOUR(I19),MINUTE(I19),0)<0,TIME(HOUR(J19),MINUTE(J19),0)-TIME(HOUR(I19),MINUTE(I19),0)+1,TIME(HOUR(J19),MINUTE(J19),0)-TIME(HOUR(I19),MINUTE(I19),0)))+24*(IF(TIME(HOUR(J18),MINUTE(J18),0)-TIME(HOUR(I18),MINUTE(I18),0)<0,TIME(HOUR(J18),MINUTE(J18),0)-TIME(HOUR(I18),MINUTE(I18),0)+1,TIME(HOUR(J18),MINUTE(J18),0)-TIME(HOUR(I18),MINUTE(I18),0)))+24*(IF(TIME(HOUR(J19),MINUTE(J19),0)<0.25,TIME(HOUR(J19),MINUTE(J19),0),0))+24*(IF(TIME(HOUR(J18),MINUTE(J18),0)<0.25,TIME(HOUR(J18),MINUTE(J18),0),0))-24*(TIME(HOUR(K19),MINUTE(K19),0)) -> 7 | N18: =24*(IF(TIME(HOUR(M19),MINUTE(M19),0)-TIME(HOUR(L19),MINUTE(L19),0)<0,TIME(HOUR(M19),MINUTE(M19),0)-TIME(HOUR(L19),MINUTE(L19),0)+1,TIME(HOUR(M19),MINUTE(M19),0)-TIME(HOUR(L19),MINUTE(L19),0)))+24*(IF(TIME(HOUR(M18),MINUTE(M18),0)-TIME(HOUR(L18),MINUTE(L18),0)<0,TIME(HOUR(M18),MINUTE(M18),0)-TIME(HOUR(L18),MINUTE(L18),0)+1,TIME(HOUR(M18),MINUTE(M18),0)-TIME(HOUR(L18),MINUTE(L18),0)))+24*(IF(TIME(HOUR(M19),MINUTE(M19),0)<0.25,TIME(HOUR(M19),MINUTE(M19),0),0))+24*(IF(TIME(HOUR(M18),MINUTE(M18),0)<0.25,TIME(HOUR(M18),MINUTE(M18),0),0))-24*(TIME(HOUR(N19),MINUTE(N19),0)) -> 0 | Q18: =24*(IF(TIME(HOUR(P19),MINUTE(P19),0)-TIME(HOUR(O19),MINUTE(O19),0)<0,TIME(HOUR(P19),MINUTE(P19),0)-TIME(HOUR(O19),MINUTE(O19),0)+1,TIME(HOUR(P19),MINUTE(P19),0)-TIME(HOUR(O19),MINUTE(O19),0)))+24*(IF(TIME(HOUR(P18),MINUTE(P18),0)-TIME(HOUR(O18),MINUTE(O18),0)<0,TIME(HOUR(P18),MINUTE(P18),0)-TIME(HOUR(O18),MINUTE(O18),0)+1,TIME(HOUR(P18),MINUTE(P18),0)-TIME(HOUR(O18),MINUTE(O18),0)))+24*(IF(TIME(HOUR(P19),MINUTE(P19),0)<0.25,TIME(HOUR(P19),MINUTE(P19),0),0))+24*(IF(TIME(HOUR(P18),MINUTE(P18),0)<0.25,TIME(HOUR(P18),MINUTE(P18),0),0))-24*(TIME(HOUR(Q19),MINUTE(Q19),0)) -> 0 | R18: 0.70833333 | S18: 0 | T18: =24*(IF(TIME(HOUR(S19),MINUTE(S19),0)-TIME(HOUR(R19),MINUTE(R19),0)<0,TIME(HOUR(S19),MINUTE(S19),0)-TIME(HOUR(R19),MINUTE(R19),0)+1,TIME(HOUR(S19),MINUTE(S19),0)-TIME(HOUR(R19),MINUTE(R19),0)))+24*(IF(TIME(HOUR(S18),MINUTE(S18),0)-TIME(HOUR(R18),MINUTE(R18),0)<0,TIME(HOUR(S18),MINUTE(S18),0)-TIME(HOUR(R18),MINUTE(R18),0)+1,TIME(HOUR(S18),MINUTE(S18),0)-TIME(HOUR(R18),MINUTE(R18),0)))+24*(IF(TIME(HOUR(S19),MINUTE(S19),0)<0.25,TIME(HOUR(S19),MINUTE(S19),0),0))+24*(IF(TIME(HOUR(S18),MINUTE(S18),0)<0.25,TIME(HOUR(S18),MINUTE(S18),0),0))-24*(TIME(HOUR(T19),MINUTE(T19),0)) -> 7 | U18: 0.54166667 | V18: 0.70833333 | W18: =24*(IF(TIME(HOUR(V19),MINUTE(V19),0)-TIME(HOUR(U19),MINUTE(U19),0)<0,TIME(HOUR(V19),MINUTE(V19),0)-TIME(HOUR(U19),MINUTE(U19),0)+1,TIME(HOUR(V19),MINUTE(V19),0)-TIME(HOUR(U19),MINUTE(U19),0)))+24*(IF(TIME(HOUR(V18),MINUTE(V18),0)-TIME(HOUR(U18),MINUTE(U18),0)<0,TIME(HOUR(V18),MINUTE(V18),0)-TIME(HOUR(U18),MINUTE(U18),0)+1,TIME(HOUR(V18),MINUTE(V18),0)-TIME(HOUR(U18),MINUTE(U18),0)))+24*(IF(TIME(HOUR(V19),MINUTE(V19),0)<0.25,TIME(HOUR(V19),MINUTE(V19),0),0))+24*(IF(TIME(HOUR(V18),MINUTE(V18),0)<0.25,TIME(HOUR(V18),MINUTE(V18),0),0))-24*(TIME(HOUR(W19),MINUTE(W19),0)) -> 8 | X18: 0.41666667 | Y18: 0.70833333 | Z18: =24*(IF(TIME(HOUR(Y19),MINUTE(Y19),0)-TIME(HOUR(X19),MINUTE(X19),0)<0,TIME(HOUR(Y19),MINUTE(Y19),0)-TIME(HOUR(X19),MINUTE(X19),0)+1,TIME(HOUR(Y19),MINUTE(Y19),0)-TIME(HOUR(X19),MINUTE(X19),0)))+24*(IF(TIME(HOUR(Y18),MINUTE(Y18),0)-TIME(HOUR(X18),MINUTE(X18),0)<0,TIME(HOUR(Y18),MINUTE(Y18),0)-TIME(HOUR(X18),MINUTE(X18),0)+1,TIME(HOUR(Y18),MINUTE(Y18),0)-TIME(HOUR(X18),MINUTE(X18),0)))+24*(IF(TIME(HOUR(Y19),MINUTE(Y19),0)<0.25,TIME(HOUR(Y19),MINUTE(Y19),0),0))+24*(IF(TIME(HOUR(Y18),MINUTE(Y18),0)<0.25,TIME(HOUR(Y18),MINUTE(Y18),0),0))-24*(TIME(HOUR(Z19),MINUTE(Z19),0)) -> 7 | AC18: =D18-H17-K17-N17-Q17-T17-W17-Z17 -> #REF!
B19: XXX | C19: 0 | U19: 0.76041667 | V19: 0.92708333
B20: XXX | AA20: =H21+K21+N21+Q21+T21+W21+Z21 -> 0 | AB20: =AA20-C22 -> 0
B21: XXX | D21: =#REF! -> #REF! | H21: =24*(IF(TIME(HOUR(G22),MINUTE(G22),0)-TIME(HOUR(F22),MINUTE(F22),0)<0,TIME(HOUR(G22),MINUTE(G22),0)-TIME(HOUR(F22),MINUTE(F22),0)+1,TIME(HOUR(G22),MINUTE(G22),0)-TIME(HOUR(F22),MINUTE(F22),0)))+24*(IF(TIME(HOUR(G21),MINUTE(G21),0)-TIME(HOUR(F21),MINUTE(F21),0)<0,TIME(HOUR(G21),MINUTE(G21),0)-TIME(HOUR(F21),MINUTE(F21),0)+1,TIME(HOUR(G21),MINUTE(G21),0)-TIME(HOUR(F21),MINUTE(F21),0)))+24*(IF(TIME(HOUR(G22),MINUTE(G22),0)<0.25,TIME(HOUR(G22),MINUTE(G22),0),0))+24*(IF(TIME(HOUR(G21),MINUTE(G21),0)<0.25,TIME(HOUR(G21),MINUTE(G21),0),0))-24*(TIME(HOUR(H22),MINUTE(H22),0)) -> 0 | K21: =24*(IF(TIME(HOUR(J22),MINUTE(J22),0)-TIME(HOUR(I22),MINUTE(I22),0)<0,TIME(HOUR(J22),MINUTE(J22),0)-TIME(HOUR(I22),MINUTE(I22),0)+1,TIME(HOUR(J22),MINUTE(J22),0)-TIME(HOUR(I22),MINUTE(I22),0)))+24*(IF(TIME(HOUR(J21),MINUTE(J21),0)-TIME(HOUR(I21),MINUTE(I21),0)<0,TIME(HOUR(J21),MINUTE(J21),0)-TIME(HOUR(I21),MINUTE(I21),0)+1,TIME(HOUR(J21),MINUTE(J21),0)-TIME(HOUR(I21),MINUTE(I21),0)))+24*(IF(TIME(HOUR(J22),MINUTE(J22),0)<0.25,TIME(HOUR(J22),MINUTE(J22),0),0))+24*(IF(TIME(HOUR(J21),MINUTE(J21),0)<0.25,TIME(HOUR(J21),MINUTE(J21),0),0))-24*(TIME(HOUR(K22),MINUTE(K22),0)) -> 0 | N21: =24*(IF(TIME(HOUR(M22),MINUTE(M22),0)-TIME(HOUR(L22),MINUTE(L22),0)<0,TIME(HOUR(M22),MINUTE(M22),0)-TIME(HOUR(L22),MINUTE(L22),0)+1,TIME(HOUR(M22),MINUTE(M22),0)-TIME(HOUR(L22),MINUTE(L22),0)))+24*(IF(TIME(HOUR(M21),MINUTE(M21),0)-TIME(HOUR(L21),MINUTE(L21),0)<0,TIME(HOUR(M21),MINUTE(M21),0)-TIME(HOUR(L21),MINUTE(L21),0)+1,TIME(HOUR(M21),MINUTE(M21),0)-TIME(HOUR(L21),MINUTE(L21),0)))+24*(IF(TIME(HOUR(M22),MINUTE(M22),0)<0.25,TIME(HOUR(M22),MINUTE(M22),0),0))+24*(IF(TIME(HOUR(M21),MINUTE(M21),0)<0.25,TIME(HOUR(M21),MINUTE(M21),0),0))-24*(TIME(HOUR(N22),MINUTE(N22),0)) -> 0 | Q21: =24*(IF(TIME(HOUR(P22),MINUTE(P22),0)-TIME(HOUR(O22),MINUTE(O22),0)<0,TIME(HOUR(P22),MINUTE(P22),0)-TIME(HOUR(O22),MINUTE(O22),0)+1,TIME(HOUR(P22),MINUTE(P22),0)-TIME(HOUR(O22),MINUTE(O22),0)))+24*(IF(TIME(HOUR(P21),MINUTE(P21),0)-TIME(HOUR(O21),MINUTE(O21),0)<0,TIME(HOUR(P21),MINUTE(P21),0)-TIME(HOUR(O21),MINUTE(O21),0)+1,TIME(HOUR(P21),MINUTE(P21),0)-TIME(HOUR(O21),MINUTE(O21),0)))+24*(IF(TIME(HOUR(P22),MINUTE(P22),0)<0.25,TIME(HOUR(P22),MINUTE(P22),0),0))+24*(IF(TIME(HOUR(P21),MINUTE(P21),0)<0.25,TIME(HOUR(P21),MINUTE(P21),0),0))-24*(TIME(HOUR(Q22),MINUTE(Q22),0)) -> 0 | T21: =24*(IF(TIME(HOUR(S22),MINUTE(S22),0)-TIME(HOUR(R22),MINUTE(R22),0)<0,TIME(HOUR(S22),MINUTE(S22),0)-TIME(HOUR(R22),MINUTE(R22),0)+1,TIME(HOUR(S22),MINUTE(S22),0)-TIME(HOUR(R22),MINUTE(R22),0)))+24*(IF(TIME(HOUR(S21),MINUTE(S21),0)-TIME(HOUR(R21),MINUTE(R21),0)<0,TIME(HOUR(S21),MINUTE(S21),0)-TIME(HOUR(R21),MINUTE(R21),0)+1,TIME(HOUR(S21),MINUTE(S21),0)-TIME(HOUR(R21),MINUTE(R21),0)))+24*(IF(TIME(HOUR(S22),MINUTE(S22),0)<0.25,TIME(HOUR(S22),MINUTE(S22),0),0))+24*(IF(TIME(HOUR(S21),MINUTE(S21),0)<0.25,TIME(HOUR(S21),MINUTE(S21),0),0))-24*(TIME(HOUR(T22),MINUTE(T22),0)) -> 0 | W21: =24*(IF(TIME(HOUR(V22),MINUTE(V22),0)-TIME(HOUR(U22),MINUTE(U22),0)<0,TIME(HOUR(V22),MINUTE(V22),0)-TIME(HOUR(U22),MINUTE(U22),0)+1,TIME(HOUR(V22),MINUTE(V22),0)-TIME(HOUR(U22),MINUTE(U22),0)))+24*(IF(TIME(HOUR(V21),MINUTE(V21),0)-TIME(HOUR(U21),MINUTE(U21),0)<0,TIME(HOUR(V21),MINUTE(V21),0)-TIME(HOUR(U21),MINUTE(U21),0)+1,TIME(HOUR(V21),MINUTE(V21),0)-TIME(HOUR(U21),MINUTE(U21),0)))+24*(IF(TIME(HOUR(V22),MINUTE(V22),0)<0.25,TIME(HOUR(V22),MINUTE(V22),0),0))+24*(IF(TIME(HOUR(V21),MINUTE(V21),0)<0.25,TIME(HOUR(V21),MINUTE(V21),0),0))-24*(TIME(HOUR(W22),MINUTE(W22),0)) -> 0 | Z21: =24*(IF(TIME(HOUR(Y22),MINUTE(Y22),0)-TIME(HOUR(X22),MINUTE(X22),0)<0,TIME(HOUR(Y22),MINUTE(Y22),0)-TIME(HOUR(X22),MINUTE(X22),0)+1,TIME(HOUR(Y22),MINUTE(Y22),0)-TIME(HOUR(X22),MINUTE(X22),0)))+24*(IF(TIME(HOUR(Y21),MINUTE(Y21),0)-TIME(HOUR(X21),MINUTE(X21),0)<0,TIME(HOUR(Y21),MINUTE(Y21),0)-TIME(HOUR(X21),MINUTE(X21),0)+1,TIME(HOUR(Y21),MINUTE(Y21),0)-TIME(HOUR(X21),MINUTE(X21),0)))+24*(IF(TIME(HOUR(Y22),MINUTE(Y22),0)<0.25,TIME(HOUR(Y22),MINUTE(Y22),0),0))+24*(IF(TIME(HOUR(Y21),MINUTE(Y21),0)<0.25,TIME(HOUR(Y21),MINUTE(Y21),0),0))-24*(TIME(HOUR(Z22),MINUTE(Z22),0)) -> 0 | AC21: =D21-H20-K20-N20-Q20-T20-W20-Z20 -> #REF!
B22: XXX | C22: 0
B23: XXX | AA23: =H24+K24+N24+Q24+T24+W24+Z24 -> 0 | AB23: =AA23-C25 -> 0
B24: XXX | D24: =#REF! -> #REF! | H24: =24*(IF(TIME(HOUR(G25),MINUTE(G25),0)-TIME(HOUR(F25),MINUTE(F25),0)<0,TIME(HOUR(G25),MINUTE(G25),0)-TIME(HOUR(F25),MINUTE(F25),0)+1,TIME(HOUR(G25),MINUTE(G25),0)-TIME(HOUR(F25),MINUTE(F25),0)))+24*(IF(TIME(HOUR(G24),MINUTE(G24),0)-TIME(HOUR(F24),MINUTE(F24),0)<0,TIME(HOUR(G24),MINUTE(G24),0)-TIME(HOUR(F24),MINUTE(F24),0)+1,TIME(HOUR(G24),MINUTE(G24),0)-TIME(HOUR(F24),MINUTE(F24),0)))+24*(IF(TIME(HOUR(G25),MINUTE(G25),0)<0.25,TIME(HOUR(G25),MINUTE(G25),0),0))+24*(IF(TIME(HOUR(G24),MINUTE(G24),0)<0.25,TIME(HOUR(G24),MINUTE(G24),0),0))-24*(TIME(HOUR(H25),MINUTE(H25),0)) -> 0 | K24: =24*(IF(TIME(HOUR(J25),MINUTE(J25),0)-TIME(HOUR(I25),MINUTE(I25),0)<0,TIME(HOUR(J25),MINUTE(J25),0)-TIME(HOUR(I25),MINUTE(I25),0)+1,TIME(HOUR(J25),MINUTE(J25),0)-TIME(HOUR(I25),MINUTE(I25),0)))+24*(IF(TIME(HOUR(J24),MINUTE(J24),0)-TIME(HOUR(I24),MINUTE(I24),0)<0,TIME(HOUR(J24),MINUTE(J24),0)-TIME(HOUR(I24),MINUTE(I24),0)+1,TIME(HOUR(J24),MINUTE(J24),0)-TIME(HOUR(I24),MINUTE(I24),0)))+24*(IF(TIME(HOUR(J25),MINUTE(J25),0)<0.25,TIME(HOUR(J25),MINUTE(J25),0),0))+24*(IF(TIME(HOUR(J24),MINUTE(J24),0)<0.25,TIME(HOUR(J24),MINUTE(J24),0),0))-24*(TIME(HOUR(K25),MINUTE(K25),0)) -> 0 | N24: =24*(IF(TIME(HOUR(M25),MINUTE(M25),0)-TIME(HOUR(L25),MINUTE(L25),0)<0,TIME(HOUR(M25),MINUTE(M25),0)-TIME(HOUR(L25),MINUTE(L25),0)+1,TIME(HOUR(M25),MINUTE(M25),0)-TIME(HOUR(L25),MINUTE(L25),0)))+24*(IF(TIME(HOUR(M24),MINUTE(M24),0)-TIME(HOUR(L24),MINUTE(L24),0)<0,TIME(HOUR(M24),MINUTE(M24),0)-TIME(HOUR(L24),MINUTE(L24),0)+1,TIME(HOUR(M24),MINUTE(M24),0)-TIME(HOUR(L24),MINUTE(L24),0)))+24*(IF(TIME(HOUR(M25),MINUTE(M25),0)<0.25,TIME(HOUR(M25),MINUTE(M25),0),0))+24*(IF(TIME(HOUR(M24),MINUTE(M24),0)<0.25,TIME(HOUR(M24),MINUTE(M24),0),0))-24*(TIME(HOUR(N25),MINUTE(N25),0)) -> 0 | Q24: =24*(IF(TIME(HOUR(P25),MINUTE(P25),0)-TIME(HOUR(O25),MINUTE(O25),0)<0,TIME(HOUR(P25),MINUTE(P25),0)-TIME(HOUR(O25),MINUTE(O25),0)+1,TIME(HOUR(P25),MINUTE(P25),0)-TIME(HOUR(O25),MINUTE(O25),0)))+24*(IF(TIME(HOUR(P24),MINUTE(P24),0)-TIME(HOUR(O24),MINUTE(O24),0)<0,TIME(HOUR(P24),MINUTE(P24),0)-TIME(HOUR(O24),MINUTE(O24),0)+1,TIME(HOUR(P24),MINUTE(P24),0)-TIME(HOUR(O24),MINUTE(O24),0)))+24*(IF(TIME(HOUR(P25),MINUTE(P25),0)<0.25,TIME(HOUR(P25),MINUTE(P25),0),0))+24*(IF(TIME(HOUR(P24),MINUTE(P24),0)<0.25,TIME(HOUR(P24),MINUTE(P24),0),0))-24*(TIME(HOUR(Q25),MINUTE(Q25),0)) -> 0 | T24: =24*(IF(TIME(HOUR(S25),MINUTE(S25),0)-TIME(HOUR(R25),MINUTE(R25),0)<0,TIME(HOUR(S25),MINUTE(S25),0)-TIME(HOUR(R25),MINUTE(R25),0)+1,TIME(HOUR(S25),MINUTE(S25),0)-TIME(HOUR(R25),MINUTE(R25),0)))+24*(IF(TIME(HOUR(S24),MINUTE(S24),0)-TIME(HOUR(R24),MINUTE(R24),0)<0,TIME(HOUR(S24),MINUTE(S24),0)-TIME(HOUR(R24),MINUTE(R24),0)+1,TIME(HOUR(S24),MINUTE(S24),0)-TIME(HOUR(R24),MINUTE(R24),0)))+24*(IF(TIME(HOUR(S25),MINUTE(S25),0)<0.25,TIME(HOUR(S25),MINUTE(S25),0),0))+24*(IF(TIME(HOUR(S24),MINUTE(S24),0)<0.25,TIME(HOUR(S24),MINUTE(S24),0),0))-24*(TIME(HOUR(T25),MINUTE(T25),0)) -> 0 | W24: =24*(IF(TIME(HOUR(V25),MINUTE(V25),0)-TIME(HOUR(U25),MINUTE(U25),0)<0,TIME(HOUR(V25),MINUTE(V25),0)-TIME(HOUR(U25),MINUTE(U25),0)+1,TIME(HOUR(V25),MINUTE(V25),0)-TIME(HOUR(U25),MINUTE(U25),0)))+24*(IF(TIME(HOUR(V24),MINUTE(V24),0)-TIME(HOUR(U24),MINUTE(U24),0)<0,TIME(HOUR(V24),MINUTE(V24),0)-TIME(HOUR(U24),MINUTE(U24),0)+1,TIME(HOUR(V24),MINUTE(V24),0)-TIME(HOUR(U24),MINUTE(U24),0)))+24*(IF(TIME(HOUR(V25),MINUTE(V25),0)<0.25,TIME(HOUR(V25),MINUTE(V25),0),0))+24*(IF(TIME(HOUR(V24),MINUTE(V24),0)<0.25,TIME(HOUR(V24),MINUTE(V24),0),0))-24*(TIME(HOUR(W25),MINUTE(W25),0)) -> 0 | Z24: =24*(IF(TIME(HOUR(Y25),MINUTE(Y25),0)-TIME(HOUR(X25),MINUTE(X25),0)<0,TIME(HOUR(Y25),MINUTE(Y25),0)-TIME(HOUR(X25),MINUTE(X25),0)+1,TIME(HOUR(Y25),MINUTE(Y25),0)-TIME(HOUR(X25),MINUTE(X25),0)))+24*(IF(TIME(HOUR(Y24),MINUTE(Y24),0)-TIME(HOUR(X24),MINUTE(X24),0)<0,TIME(HOUR(Y24),MINUTE(Y24),0)-TIME(HOUR(X24),MINUTE(X24),0)+1,TIME(HOUR(Y24),MINUTE(Y24),0)-TIME(HOUR(X24),MINUTE(X24),0)))+24*(IF(TIME(HOUR(Y25),MINUTE(Y25),0)<0.25,TIME(HOUR(Y25),MINUTE(Y25),0),0))+24*(IF(TIME(HOUR(Y24),MINUTE(Y24),0)<0.25,TIME(HOUR(Y24),MINUTE(Y24),0),0))-24*(TIME(HOUR(Z25),MINUTE(Z25),0)) -> 0 | AC24: =D24-H23-K23-N23-Q23-T23-W23-Z23 -> #REF!
B25: XXX | C25: 0
B26: QUENTIN | F26: OUVERTURE | I26: FERMETURE | L26: REPOS HEBDO | O26: REPOS HEBDO | R26: OUVERTURE | U26: OUV / FERM | X26: SOIR | AA26: =H27+K27+N27+Q27+T27+W27+Z27 -> 35 | AB26: =AA26-C28 -> 35 | AE26: =AA26/C28 -> #DIV/0!
B27: XXX | D27: =#REF! -> #REF! | F27: 0.54166667 | G27: 0.79166667 | H27: =24*(IF(TIME(HOUR(G28),MINUTE(G28),0)-TIME(HOUR(F28),MINUTE(F28),0)<0,TIME(HOUR(G28),MINUTE(G28),0)-TIME(HOUR(F28),MINUTE(F28),0)+1,TIME(HOUR(G28),MINUTE(G28),0)-TIME(HOUR(F28),MINUTE(F28),0)))+24*(IF(TIME(HOUR(G27),MINUTE(G27),0)-TIME(HOUR(F27),MINUTE(F27),0)<0,TIME(HOUR(G27),MINUTE(G27),0)-TIME(HOUR(F27),MINUTE(F27),0)+1,TIME(HOUR(G27),MINUTE(G27),0)-TIME(HOUR(F27),MINUTE(F27),0)))+24*(IF(TIME(HOUR(G28),MINUTE(G28),0)<0.25,TIME(HOUR(G28),MINUTE(G28),0),0))+24*(IF(TIME(HOUR(G27),MINUTE(G27),0)<0.25,TIME(HOUR(G27),MINUTE(G27),0),0))-24*(TIME(HOUR(H28),MINUTE(H28),0)) -> 6 | I27: 0.71875 | J27: 0 | K27: =24*(IF(TIME(HOUR(J28),MINUTE(J28),0)-TIME(HOUR(I28),MINUTE(I28),0)<0,TIME(HOUR(J28),MINUTE(J28),0)-TIME(HOUR(I28),MINUTE(I28),0)+1,TIME(HOUR(J28),MINUTE(J28),0)-TIME(HOUR(I28),MINUTE(I28),0)))+24*(IF(TIME(HOUR(J27),MINUTE(J27),0)-TIME(HOUR(I27),MINUTE(I27),0)<0,TIME(HOUR(J27),MINUTE(J27),0)-TIME(HOUR(I27),MINUTE(I27),0)+1,TIME(HOUR(J27),MINUTE(J27),0)-TIME(HOUR(I27),MINUTE(I27),0)))+24*(IF(TIME(HOUR(J28),MINUTE(J28),0)<0.25,TIME(HOUR(J28),MINUTE(J28),0),0))+24*(IF(TIME(HOUR(J27),MINUTE(J27),0)<0.25,TIME(HOUR(J27),MINUTE(J27),0),0))-24*(TIME(HOUR(K28),MINUTE(K28),0)) -> 6.75 | N27: =24*(IF(TIME(HOUR(M28),MINUTE(M28),0)-TIME(HOUR(L28),MINUTE(L28),0)<0,TIME(HOUR(M28),MINUTE(M28),0)-TIME(HOUR(L28),MINUTE(L28),0)+1,TIME(HOUR(M28),MINUTE(M28),0)-TIME(HOUR(L28),MINUTE(L28),0)))+24*(IF(TIME(HOUR(M27),MINUTE(M27),0)-TIME(HOUR(L27),MINUTE(L27),0)<0,TIME(HOUR(M27),MINUTE(M27),0)-TIME(HOUR(L27),MINUTE(L27),0)+1,TIME(HOUR(M27),MINUTE(M27),0)-TIME(HOUR(L27),MINUTE(L27),0)))+24*(IF(TIME(HOUR(M28),MINUTE(M28),0)<0.25,TIME(HOUR(M28),MINUTE(M28),0),0))+24*(IF(TIME(HOUR(M27),MINUTE(M27),0)<0.25,TIME(HOUR(M27),MINUTE(M27),0),0))-24*(TIME(HOUR(N28),MINUTE(N28),0)) -> 0 | Q27: =24*(IF(TIME(HOUR(P28),MINUTE(P28),0)-TIME(HOUR(O28),MINUTE(O28),0)<0,TIME(HOUR(P28),MINUTE(P28),0)-TIME(HOUR(O28),MINUTE(O28),0)+1,TIME(HOUR(P28),MINUTE(P28),0)-TIME(HOUR(O28),MINUTE(O28),0)))+24*(IF(TIME(HOUR(P27),MINUTE(P27),0)-TIME(HOUR(O27),MINUTE(O27),0)<0,TIME(HOUR(P27),MINUTE(P27),0)-TIME(HOUR(O27),MINUTE(O27),0)+1,TIME(HOUR(P27),MINUTE(P27),0)-TIME(HOUR(O27),MINUTE(O27),0)))+24*(IF(TIME(HOUR(P28),MINUTE(P28),0)<0.25,TIME(HOUR(P28),MINUTE(P28),0),0))+24*(IF(TIME(HOUR(P27),MINUTE(P27),0)<0.25,TIME(HOUR(P27),MINUTE(P27),0),0))-24*(TIME(HOUR(Q28),MINUTE(Q28),0)) -> 0 | R27: 0.55208333 | S27: 0.83333333 | T27: =24*(IF(TIME(HOUR(S28),MINUTE(S28),0)-TIME(HOUR(R28),MINUTE(R28),0)<0,TIME(HOUR(S28),MINUTE(S28),0)-TIME(HOUR(R28),MINUTE(R28),0)+1,TIME(HOUR(S28),MINUTE(S28),0)-TIME(HOUR(R28),MINUTE(R28),0)))+24*(IF(TIME(HOUR(S27),MINUTE(S27),0)-TIME(HOUR(R27),MINUTE(R27),0)<0,TIME(HOUR(S27),MINUTE(S27),0)-TIME(HOUR(R27),MINUTE(R27),0)+1,TIME(HOUR(S27),MINUTE(S27),0)-TIME(HOUR(R27),MINUTE(R27),0)))+24*(IF(TIME(HOUR(S28),MINUTE(S28),0)<0.25,TIME(HOUR(S28),MINUTE(S28),0),0))+24*(IF(TIME(HOUR(S27),MINUTE(S27),0)<0.25,TIME(HOUR(S27),MINUTE(S27),0),0))-24*(TIME(HOUR(T28),MINUTE(T28),0)) -> 6.75 | U27: 0.55208333 | V27: 0.70833333 | W27: =24*(IF(TIME(HOUR(V28),MINUTE(V28),0)-TIME(HOUR(U28),MINUTE(U28),0)<0,TIME(HOUR(V28),MINUTE(V28),0)-TIME(HOUR(U28),MINUTE(U28),0)+1,TIME(HOUR(V28),MINUTE(V28),0)-TIME(HOUR(U28),MINUTE(U28),0)))+24*(IF(TIME(HOUR(V27),MINUTE(V27),0)-TIME(HOUR(U27),MINUTE(U27),0)<0,TIME(HOUR(V27),MINUTE(V27),0)-TIME(HOUR(U27),MINUTE(U27),0)+1,TIME(HOUR(V27),MINUTE(V27),0)-TIME(HOUR(U27),MINUTE(U27),0)))+24*(IF(TIME(HOUR(V28),MINUTE(V28),0)<0.25,TIME(HOUR(V28),MINUTE(V28),0),0))+24*(IF(TIME(HOUR(V27),MINUTE(V27),0)<0.25,TIME(HOUR(V27),MINUTE(V27),0),0))-24*(TIME(HOUR(W28),MINUTE(W28),0)) -> 9.25 | X27: 0.66666667 | Y27: 0.92708333 | Z27: =24*(IF(TIME(HOUR(Y28),MINUTE(Y28),0)-TIME(HOUR(X28),MINUTE(X28),0)<0,TIME(HOUR(Y28),MINUTE(Y28),0)-TIME(HOUR(X28),MINUTE(X28),0)+1,TIME(HOUR(Y28),MINUTE(Y28),0)-TIME(HOUR(X28),MINUTE(X28),0)))+24*(IF(TIME(HOUR(Y27),MINUTE(Y27),0)-TIME(HOUR(X27),MINUTE(X27),0)<0,TIME(HOUR(Y27),MINUTE(Y27),0)-TIME(HOUR(X27),MINUTE(X27),0)+1,TIME(HOUR(Y27),MINUTE(Y27),0)-TIME(HOUR(X27),MINUTE(X27),0)))+24*(IF(TIME(HOUR(Y28),MINUTE(Y28),0)<0.25,TIME(HOUR(Y28),MINUTE(Y28),0),0))+24*(IF(TIME(HOUR(Y27),MINUTE(Y27),0)<0.25,TIME(HOUR(Y27),MINUTE(Y27),0),0))-24*(TIME(HOUR(Z28),MINUTE(Z28),0)) -> 6.25 | AC27: =D27-H26-K26-N26-Q26-T26-W26-Z26 -> #REF!
B28: XXX | C28: 0 | U28: 0.77083333 | V28: 0
B29: AURELIE | F29: AM | I29: AM | L29: AM | O29: AM | R29: AM | U29: AM | X29: AM | AA29: =H30+K30+N30+Q30+T30+W30+Z30 -> 0 | AB29: =AA29-C31 -> 0 | AE29: =AA29/C31 -> #DIV/0!
B30: XXX | D30: =#REF! -> #REF! | H30: =24*(IF(TIME(HOUR(G31),MINUTE(G31),0)-TIME(HOUR(F31),MINUTE(F31),0)<0,TIME(HOUR(G31),MINUTE(G31),0)-TIME(HOUR(F31),MINUTE(F31),0)+1,TIME(HOUR(G31),MINUTE(G31),0)-TIME(HOUR(F31),MINUTE(F31),0)))+24*(IF(TIME(HOUR(G30),MINUTE(G30),0)-TIME(HOUR(F30),MINUTE(F30),0)<0,TIME(HOUR(G30),MINUTE(G30),0)-TIME(HOUR(F30),MINUTE(F30),0)+1,TIME(HOUR(G30),MINUTE(G30),0)-TIME(HOUR(F30),MINUTE(F30),0)))+24*(IF(TIME(HOUR(G31),MINUTE(G31),0)<0.25,TIME(HOUR(G31),MINUTE(G31),0),0))+24*(IF(TIME(HOUR(G30),MINUTE(G30),0)<0.25,TIME(HOUR(G30),MINUTE(G30),0),0))-24*(TIME(HOUR(H31),MINUTE(H31),0)) -> 0 | K30: =24*(IF(TIME(HOUR(J31),MINUTE(J31),0)-TIME(HOUR(I31),MINUTE(I31),0)<0,TIME(HOUR(J31),MINUTE(J31),0)-TIME(HOUR(I31),MINUTE(I31),0)+1,TIME(HOUR(J31),MINUTE(J31),0)-TIME(HOUR(I31),MINUTE(I31),0)))+24*(IF(TIME(HOUR(J30),MINUTE(J30),0)-TIME(HOUR(I30),MINUTE(I30),0)<0,TIME(HOUR(J30),MINUTE(J30),0)-TIME(HOUR(I30),MINUTE(I30),0)+1,TIME(HOUR(J30),MINUTE(J30),0)-TIME(HOUR(I30),MINUTE(I30),0)))+24*(IF(TIME(HOUR(J31),MINUTE(J31),0)<0.25,TIME(HOUR(J31),MINUTE(J31),0),0))+24*(IF(TIME(HOUR(J30),MINUTE(J30),0)<0.25,TIME(HOUR(J30),MINUTE(J30),0),0))-24*(TIME(HOUR(K31),MINUTE(K31),0)) -> 0 | N30: =24*(IF(TIME(HOUR(M31),MINUTE(M31),0)-TIME(HOUR(L31),MINUTE(L31),0)<0,TIME(HOUR(M31),MINUTE(M31),0)-TIME(HOUR(L31),MINUTE(L31),0)+1,TIME(HOUR(M31),MINUTE(M31),0)-TIME(HOUR(L31),MINUTE(L31),0)))+24*(IF(TIME(HOUR(M30),MINUTE(M30),0)-TIME(HOUR(L30),MINUTE(L30),0)<0,TIME(HOUR(M30),MINUTE(M30),0)-TIME(HOUR(L30),MINUTE(L30),0)+1,TIME(HOUR(M30),MINUTE(M30),0)-TIME(HOUR(L30),MINUTE(L30),0)))+24*(IF(TIME(HOUR(M31),MINUTE(M31),0)<0.25,TIME(HOUR(M31),MINUTE(M31),0),0))+24*(IF(TIME(HOUR(M30),MINUTE(M30),0)<0.25,TIME(HOUR(M30),MINUTE(M30),0),0))-24*(TIME(HOUR(N31),MINUTE(N31),0)) -> 0 | Q30: =24*(IF(TIME(HOUR(P31),MINUTE(P31),0)-TIME(HOUR(O31),MINUTE(O31),0)<0,TIME(HOUR(P31),MINUTE(P31),0)-TIME(HOUR(O31),MINUTE(O31),0)+1,TIME(HOUR(P31),MINUTE(P31),0)-TIME(HOUR(O31),MINUTE(O31),0)))+24*(IF(TIME(HOUR(P30),MINUTE(P30),0)-TIME(HOUR(O30),MINUTE(O30),0)<0,TIME(HOUR(P30),MINUTE(P30),0)-TIME(HOUR(O30),MINUTE(O30),0)+1,TIME(HOUR(P30),MINUTE(P30),0)-TIME(HOUR(O30),MINUTE(O30),0)))+24*(IF(TIME(HOUR(P31),MINUTE(P31),0)<0.25,TIME(HOUR(P31),MINUTE(P31),0),0))+24*(IF(TIME(HOUR(P30),MINUTE(P30),0)<0.25,TIME(HOUR(P30),MINUTE(P30),0),0))-24*(TIME(HOUR(Q31),MINUTE(Q31),0)) -> 0 | T30: =24*(IF(TIME(HOUR(S31),MINUTE(S31),0)-TIME(HOUR(R31),MINUTE(R31),0)<0,TIME(HOUR(S31),MINUTE(S31),0)-TIME(HOUR(R31),MINUTE(R31),0)+1,TIME(HOUR(S31),MINUTE(S31),0)-TIME(HOUR(R31),MINUTE(R31),0)))+24*(IF(TIME(HOUR(S30),MINUTE(S30),0)-TIME(HOUR(R30),MINUTE(R30),0)<0,TIME(HOUR(S30),MINUTE(S30),0)-TIME(HOUR(R30),MINUTE(R30),0)+1,TIME(HOUR(S30),MINUTE(S30),0)-TIME(HOUR(R30),MINUTE(R30),0)))+24*(IF(TIME(HOUR(S31),MINUTE(S31),0)<0.25,TIME(HOUR(S31),MINUTE(S31),0),0))+24*(IF(TIME(HOUR(S30),MINUTE(S30),0)<0.25,TIME(HOUR(S30),MINUTE(S30),0),0))-24*(TIME(HOUR(T31),MINUTE(T31),0)) -> 0 | W30: =24*(IF(TIME(HOUR(V31),MINUTE(V31),0)-TIME(HOUR(U31),MINUTE(U31),0)<0,TIME(HOUR(V31),MINUTE(V31),0)-TIME(HOUR(U31),MINUTE(U31),0)+1,TIME(HOUR(V31),MINUTE(V31),0)-TIME(HOUR(U31),MINUTE(U31),0)))+24*(IF(TIME(HOUR(V30),MINUTE(V30),0)-TIME(HOUR(U30),MINUTE(U30),0)<0,TIME(HOUR(V30),MINUTE(V30),0)-TIME(HOUR(U30),MINUTE(U30),0)+1,TIME(HOUR(V30),MINUTE(V30),0)-TIME(HOUR(U30),MINUTE(U30),0)))+24*(IF(TIME(HOUR(V31),MINUTE(V31),0)<0.25,TIME(HOUR(V31),MINUTE(V31),0),0))+24*(IF(TIME(HOUR(V30),MINUTE(V30),0)<0.25,TIME(HOUR(V30),MINUTE(V30),0),0))-24*(TIME(HOUR(W31),MINUTE(W31),0)) -> 0 | Z30: =24*(IF(TIME(HOUR(Y31),MINUTE(Y31),0)-TIME(HOUR(X31),MINUTE(X31),0)<0,TIME(HOUR(Y31),MINUTE(Y31),0)-TIME(HOUR(X31),MINUTE(X31),0)+1,TIME(HOUR(Y31),MINUTE(Y31),0)-TIME(HOUR(X31),MINUTE(X31),0)))+24*(IF(TIME(HOUR(Y30),MINUTE(Y30),0)-TIME(HOUR(X30),MINUTE(X30),0)<0,TIME(HOUR(Y30),MINUTE(Y30),0)-TIME(HOUR(X30),MINUTE(X30),0)+1,TIME(HOUR(Y30),MINUTE(Y30),0)-TIME(HOUR(X30),MINUTE(X30),0)))+24*(IF(TIME(HOUR(Y31),MINUTE(Y31),0)<0.25,TIME(HOUR(Y31),MINUTE(Y31),0),0))+24*(IF(TIME(HOUR(Y30),MINUTE(Y30),0)<0.25,TIME(HOUR(Y30),MINUTE(Y30),0),0))-24*(TIME(HOUR(Z31),MINUTE(Z31),0)) -> 0 | AC30: =D30-H29-K29-N29-Q29-T29-W29-Z29 -> #REF!
B31: XXX | C31: 0
B32: MICHEL | F32: REPOS HEBDO | I32: REPOS HEBDO | L32: SOIR | O32: FERMETURE | R32: OUVERTURE | U32: OUVERTURE | X32: OUVERTURE | AA32: =H33+K33+N33+Q33+T33+W33+Z33 -> 24 | AB32: =AA32-C34 -> 24 | AE32: =AA32/C34 -> #DIV/0!
B33: XXX | D33: =#REF! -> #REF! | H33: =24*(IF(TIME(HOUR(G34),MINUTE(G34),0)-TIME(HOUR(F34),MINUTE(F34),0)<0,TIME(HOUR(G34),MINUTE(G34),0)-TIME(HOUR(F34),MINUTE(F34),0)+1,TIME(HOUR(G34),MINUTE(G34),0)-TIME(HOUR(F34),MINUTE(F34),0)))+24*(IF(TIME(HOUR(G33),MINUTE(G33),0)-TIME(HOUR(F33),MINUTE(F33),0)<0,TIME(HOUR(G33),MINUTE(G33),0)-TIME(HOUR(F33),MINUTE(F33),0)+1,TIME(HOUR(G33),MINUTE(G33),0)-TIME(HOUR(F33),MINUTE(F33),0)))+24*(IF(TIME(HOUR(G34),MINUTE(G34),0)<0.25,TIME(HOUR(G34),MINUTE(G34),0),0))+24*(IF(TIME(HOUR(G33),MINUTE(G33),0)<0.25,TIME(HOUR(G33),MINUTE(G33),0),0))-24*(TIME(HOUR(H34),MINUTE(H34),0)) -> 0 | K33: =24*(IF(TIME(HOUR(J34),MINUTE(J34),0)-TIME(HOUR(I34),MINUTE(I34),0)<0,TIME(HOUR(J34),MINUTE(J34),0)-TIME(HOUR(I34),MINUTE(I34),0)+1,TIME(HOUR(J34),MINUTE(J34),0)-TIME(HOUR(I34),MINUTE(I34),0)))+24*(IF(TIME(HOUR(J33),MINUTE(J33),0)-TIME(HOUR(I33),MINUTE(I33),0)<0,TIME(HOUR(J33),MINUTE(J33),0)-TIME(HOUR(I33),MINUTE(I33),0)+1,TIME(HOUR(J33),MINUTE(J33),0)-TIME(HOUR(I33),MINUTE(I33),0)))+24*(IF(TIME(HOUR(J34),MINUTE(J34),0)<0.25,TIME(HOUR(J34),MINUTE(J34),0),0))+24*(IF(TIME(HOUR(J33),MINUTE(J33),0)<0.25,TIME(HOUR(J33),MINUTE(J33),0),0))-24*(TIME(HOUR(K34),MINUTE(K34),0)) -> 0 | L33: 0.72916667 | M33: 0.92708333 | N33: =24*(IF(TIME(HOUR(M34),MINUTE(M34),0)-TIME(HOUR(L34),MINUTE(L34),0)<0,TIME(HOUR(M34),MINUTE(M34),0)-TIME(HOUR(L34),MINUTE(L34),0)+1,TIME(HOUR(M34),MINUTE(M34),0)-TIME(HOUR(L34),MINUTE(L34),0)))+24*(IF(TIME(HOUR(M33),MINUTE(M33),0)-TIME(HOUR(L33),MINUTE(L33),0)<0,TIME(HOUR(M33),MINUTE(M33),0)-TIME(HOUR(L33),MINUTE(L33),0)+1,TIME(HOUR(M33),MINUTE(M33),0)-TIME(HOUR(L33),MINUTE(L33),0)))+24*(IF(TIME(HOUR(M34),MINUTE(M34),0)<0.25,TIME(HOUR(M34),MINUTE(M34),0),0))+24*(IF(TIME(HOUR(M33),MINUTE(M33),0)<0.25,TIME(HOUR(M33),MINUTE(M33),0),0))-24*(TIME(HOUR(N34),MINUTE(N34),0)) -> 4.75 | O33: 0.77083333 | P33: 0 | Q33: =24*(IF(TIME(HOUR(P34),MINUTE(P34),0)-TIME(HOUR(O34),MINUTE(O34),0)<0,TIME(HOUR(P34),MINUTE(P34),0)-TIME(HOUR(O34),MINUTE(O34),0)+1,TIME(HOUR(P34),MINUTE(P34),0)-TIME(HOUR(O34),MINUTE(O34),0)))+24*(IF(TIME(HOUR(P33),MINUTE(P33),0)-TIME(HOUR(O33),MINUTE(O33),0)<0,TIME(HOUR(P33),MINUTE(P33),0)-TIME(HOUR(O33),MINUTE(O33),0)+1,TIME(HOUR(P33),MINUTE(P33),0)-TIME(HOUR(O33),MINUTE(O33),0)))+24*(IF(TIME(HOUR(P34),MINUTE(P34),0)<0.25,TIME(HOUR(P34),MINUTE(P34),0),0))+24*(IF(TIME(HOUR(P33),MINUTE(P33),0)<0.25,TIME(HOUR(P33),MINUTE(P33),0),0))-24*(TIME(HOUR(Q34),MINUTE(Q34),0)) -> 5.5 | R33: 0.55208333 | S33: 0.71875 | T33: =24*(IF(TIME(HOUR(S34),MINUTE(S34),0)-TIME(HOUR(R34),MINUTE(R34),0)<0,TIME(HOUR(S34),MINUTE(S34),0)-TIME(HOUR(R34),MINUTE(R34),0)+1,TIME(HOUR(S34),MINUTE(S34),0)-TIME(HOUR(R34),MINUTE(R34),0)))+24*(IF(TIME(HOUR(S33),MINUTE(S33),0)-TIME(HOUR(R33),MINUTE(R33),0)<0,TIME(HOUR(S33),MINUTE(S33),0)-TIME(HOUR(R33),MINUTE(R33),0)+1,TIME(HOUR(S33),MINUTE(S33),0)-TIME(HOUR(R33),MINUTE(R33),0)))+24*(IF(TIME(HOUR(S34),MINUTE(S34),0)<0.25,TIME(HOUR(S34),MINUTE(S34),0),0))+24*(IF(TIME(HOUR(S33),MINUTE(S33),0)<0.25,TIME(HOUR(S33),MINUTE(S33),0),0))-24*(TIME(HOUR(T34),MINUTE(T34),0)) -> 4 | U33: 0.55208333 | V33: 0.75 | W33: =24*(IF(TIME(HOUR(V34),MINUTE(V34),0)-TIME(HOUR(U34),MINUTE(U34),0)<0,TIME(HOUR(V34),MINUTE(V34),0)-TIME(HOUR(U34),MINUTE(U34),0)+1,TIME(HOUR(V34),MINUTE(V34),0)-TIME(HOUR(U34),MINUTE(U34),0)))+24*(IF(TIME(HOUR(V33),MINUTE(V33),0)-TIME(HOUR(U33),MINUTE(U33),0)<0,TIME(HOUR(V33),MINUTE(V33),0)-TIME(HOUR(U33),MINUTE(U33),0)+1,TIME(HOUR(V33),MINUTE(V33),0)-TIME(HOUR(U33),MINUTE(U33),0)))+24*(IF(TIME(HOUR(V34),MINUTE(V34),0)<0.25,TIME(HOUR(V34),MINUTE(V34),0),0))+24*(IF(TIME(HOUR(V33),MINUTE(V33),0)<0.25,TIME(HOUR(V33),MINUTE(V33),0),0))-24*(TIME(HOUR(W34),MINUTE(W34),0)) -> 4.75 | X33: 0.41666667 | Y33: 0.47916667 | Z33: =24*(IF(TIME(HOUR(Y34),MINUTE(Y34),0)-TIME(HOUR(X34),MINUTE(X34),0)<0,TIME(HOUR(Y34),MINUTE(Y34),0)-TIME(HOUR(X34),MINUTE(X34),0)+1,TIME(HOUR(Y34),MINUTE(Y34),0)-TIME(HOUR(X34),MINUTE(X34),0)))+24*(IF(TIME(HOUR(Y33),MINUTE(Y33),0)-TIME(HOUR(X33),MINUTE(X33),0)<0,TIME(HOUR(Y33),MINUTE(Y33),0)-TIME(HOUR(X33),MINUTE(X33),0)+1,TIME(HOUR(Y33),MINUTE(Y33),0)-TIME(HOUR(X33),MINUTE(X33),0)))+24*(IF(TIME(HOUR(Y34),MINUTE(Y34),0)<0.25,TIME(HOUR(Y34),MINUTE(Y34),0),0))+24*(IF(TIME(HOUR(Y33),MINUTE(Y33),0)<0.25,TIME(HOUR(Y33),MINUTE(Y33),0),0))-24*(TIME(HOUR(Z34),MINUTE(Z34),0)) -> 5 | AC33: =D33-H32-K32-N32-Q32-T32-W32-Z32 -> #REF!
B34: XXX | C34: 0 | X34: 0.5625 | Y34: 0.70833333
B35: VINCENT | F35: FERMETURE | I35: OUVERTURE | L35: OUVERTURE | O35: REPOS HEBDO | R35: REPOS HEBDO | U35: SOIR | X35: JOURNÉE | AA35: =H36+K36+N36+Q36+T36+W36+Z36 -> 24 | AB35: =AA35-C37 -> 24 | AE35: =AA35/C37 -> #DIV/0!
B36: XXX | D36: =#REF! -> #REF! | F36: 0.77083333 | G36: 0 | H36: =24*(IF(TIME(HOUR(G37),MINUTE(G37),0)-TIME(HOUR(F37),MINUTE(F37),0)<0,TIME(HOUR(G37),MINUTE(G37),0)-TIME(HOUR(F37),MINUTE(F37),0)+1,TIME(HOUR(G37),MINUTE(G37),0)-TIME(HOUR(F37),MINUTE(F37),0)))+24*(IF(TIME(HOUR(G36),MINUTE(G36),0)-TIME(HOUR(F36),MINUTE(F36),0)<0,TIME(HOUR(G36),MINUTE(G36),0)-TIME(HOUR(F36),MINUTE(F36),0)+1,TIME(HOUR(G36),MINUTE(G36),0)-TIME(HOUR(F36),MINUTE(F36),0)))+24*(IF(TIME(HOUR(G37),MINUTE(G37),0)<0.25,TIME(HOUR(G37),MINUTE(G37),0),0))+24*(IF(TIME(HOUR(G36),MINUTE(G36),0)<0.25,TIME(HOUR(G36),MINUTE(G36),0),0))-24*(TIME(HOUR(H37),MINUTE(H37),0)) -> 5.5 | I36: 0.55208333 | J36: 0.76041667 | K36: =24*(IF(TIME(HOUR(J37),MINUTE(J37),0)-TIME(HOUR(I37),MINUTE(I37),0)<0,TIME(HOUR(J37),MINUTE(J37),0)-TIME(HOUR(I37),MINUTE(I37),0)+1,TIME(HOUR(J37),MINUTE(J37),0)-TIME(HOUR(I37),MINUTE(I37),0)))+24*(IF(TIME(HOUR(J36),MINUTE(J36),0)-TIME(HOUR(I36),MINUTE(I36),0)<0,TIME(HOUR(J36),MINUTE(J36),0)-TIME(HOUR(I36),MINUTE(I36),0)+1,TIME(HOUR(J36),MINUTE(J36),0)-TIME(HOUR(I36),MINUTE(I36),0)))+24*(IF(TIME(HOUR(J37),MINUTE(J37),0)<0.25,TIME(HOUR(J37),MINUTE(J37),0),0))+24*(IF(TIME(HOUR(J36),MINUTE(J36),0)<0.25,TIME(HOUR(J36),MINUTE(J36),0),0))-24*(TIME(HOUR(K37),MINUTE(K37),0)) -> 5 | L36: 0.54166667 | M36: 0.77083333 | N36: =24*(IF(TIME(HOUR(M37),MINUTE(M37),0)-TIME(HOUR(L37),MINUTE(L37),0)<0,TIME(HOUR(M37),MINUTE(M37),0)-TIME(HOUR(L37),MINUTE(L37),0)+1,TIME(HOUR(M37),MINUTE(M37),0)-TIME(HOUR(L37),MINUTE(L37),0)))+24*(IF(TIME(HOUR(M36),MINUTE(M36),0)-TIME(HOUR(L36),MINUTE(L36),0)<0,TIME(HOUR(M36),MINUTE(M36),0)-TIME(HOUR(L36),MINUTE(L36),0)+1,TIME(HOUR(M36),MINUTE(M36),0)-TIME(HOUR(L36),MINUTE(L36),0)))+24*(IF(TIME(HOUR(M37),MINUTE(M37),0)<0.25,TIME(HOUR(M37),MINUTE(M37),0),0))+24*(IF(TIME(HOUR(M36),MINUTE(M36),0)<0.25,TIME(HOUR(M36),MINUTE(M36),0),0))-24*(TIME(HOUR(N37),MINUTE(N37),0)) -> 5.5 | Q36: =24*(IF(TIME(HOUR(P37),MINUTE(P37),0)-TIME(HOUR(O37),MINUTE(O37),0)<0,TIME(HOUR(P37),MINUTE(P37),0)-TIME(HOUR(O37),MINUTE(O37),0)+1,TIME(HOUR(P37),MINUTE(P37),0)-TIME(HOUR(O37),MINUTE(O37),0)))+24*(IF(TIME(HOUR(P36),MINUTE(P36),0)-TIME(HOUR(O36),MINUTE(O36),0)<0,TIME(HOUR(P36),MINUTE(P36),0)-TIME(HOUR(O36),MINUTE(O36),0)+1,TIME(HOUR(P36),MINUTE(P36),0)-TIME(HOUR(O36),MINUTE(O36),0)))+24*(IF(TIME(HOUR(P37),MINUTE(P37),0)<0.25,TIME(HOUR(P37),MINUTE(P37),0),0))+24*(IF(TIME(HOUR(P36),MINUTE(P36),0)<0.25,TIME(HOUR(P36),MINUTE(P36),0),0))-24*(TIME(HOUR(Q37),MINUTE(Q37),0)) -> 0 | T36: =24*(IF(TIME(HOUR(S37),MINUTE(S37),0)-TIME(HOUR(R37),MINUTE(R37),0)<0,TIME(HOUR(S37),MINUTE(S37),0)-TIME(HOUR(R37),MINUTE(R37),0)+1,TIME(HOUR(S37),MINUTE(S37),0)-TIME(HOUR(R37),MINUTE(R37),0)))+24*(IF(TIME(HOUR(S36),MINUTE(S36),0)-TIME(HOUR(R36),MINUTE(R36),0)<0,TIME(HOUR(S36),MINUTE(S36),0)-TIME(HOUR(R36),MINUTE(R36),0)+1,TIME(HOUR(S36),MINUTE(S36),0)-TIME(HOUR(R36),MINUTE(R36),0)))+24*(IF(TIME(HOUR(S37),MINUTE(S37),0)<0.25,TIME(HOUR(S37),MINUTE(S37),0),0))+24*(IF(TIME(HOUR(S36),MINUTE(S36),0)<0.25,TIME(HOUR(S36),MINUTE(S36),0),0))-24*(TIME(HOUR(T37),MINUTE(T37),0)) -> 0 | U36: 0.75 | V36: 0.92708333 | W36: =24*(IF(TIME(HOUR(V37),MINUTE(V37),0)-TIME(HOUR(U37),MINUTE(U37),0)<0,TIME(HOUR(V37),MINUTE(V37),0)-TIME(HOUR(U37),MINUTE(U37),0)+1,TIME(HOUR(V37),MINUTE(V37),0)-TIME(HOUR(U37),MINUTE(U37),0)))+24*(IF(TIME(HOUR(V36),MINUTE(V36),0)-TIME(HOUR(U36),MINUTE(U36),0)<0,TIME(HOUR(V36),MINUTE(V36),0)-TIME(HOUR(U36),MINUTE(U36),0)+1,TIME(HOUR(V36),MINUTE(V36),0)-TIME(HOUR(U36),MINUTE(U36),0)))+24*(IF(TIME(HOUR(V37),MINUTE(V37),0)<0.25,TIME(HOUR(V37),MINUTE(V37),0),0))+24*(IF(TIME(HOUR(V36),MINUTE(V36),0)<0.25,TIME(HOUR(V36),MINUTE(V36),0),0))-24*(TIME(HOUR(W37),MINUTE(W37),0)) -> 4.25 | X36: 0.55208333 | Y36: 0.70833333 | Z36: =24*(IF(TIME(HOUR(Y37),MINUTE(Y37),0)-TIME(HOUR(X37),MINUTE(X37),0)<0,TIME(HOUR(Y37),MINUTE(Y37),0)-TIME(HOUR(X37),MINUTE(X37),0)+1,TIME(HOUR(Y37),MINUTE(Y37),0)-TIME(HOUR(X37),MINUTE(X37),0)))+24*(IF(TIME(HOUR(Y36),MINUTE(Y36),0)-TIME(HOUR(X36),MINUTE(X36),0)<0,TIME(HOUR(Y36),MINUTE(Y36),0)-TIME(HOUR(X36),MINUTE(X36),0)+1,TIME(HOUR(Y36),MINUTE(Y36),0)-TIME(HOUR(X36),MINUTE(X36),0)))+24*(IF(TIME(HOUR(Y37),MINUTE(Y37),0)<0.25,TIME(HOUR(Y37),MINUTE(Y37),0),0))+24*(IF(TIME(HOUR(Y36),MINUTE(Y36),0)<0.25,TIME(HOUR(Y36),MINUTE(Y36),0),0))-24*(TIME(HOUR(Z37),MINUTE(Z37),0)) -> 3.75 | AC36: =D36-H35-K35-N35-Q35-T35-W35-Z35 -> #REF!
B37: XXX | C37: 0
B38: XXX | L38: FERMETURE | O38: OUVERTURE | R38: FERMETURE | U38: OUVERTURE | X38: OUVERTURE | AA38: =H39+K39+N39+Q39+T39+W39+Z39 -> 26.75 | AB38: =AA38-C40 -> 26.75
B39: XXX | D39: =#REF! -> #REF! | H39: =24*(IF(TIME(HOUR(G40),MINUTE(G40),0)-TIME(HOUR(F40),MINUTE(F40),0)<0,TIME(HOUR(G40),MINUTE(G40),0)-TIME(HOUR(F40),MINUTE(F40),0)+1,TIME(HOUR(G40),MINUTE(G40),0)-TIME(HOUR(F40),MINUTE(F40),0)))+24*(IF(TIME(HOUR(G39),MINUTE(G39),0)-TIME(HOUR(F39),MINUTE(F39),0)<0,TIME(HOUR(G39),MINUTE(G39),0)-TIME(HOUR(F39),MINUTE(F39),0)+1,TIME(HOUR(G39),MINUTE(G39),0)-TIME(HOUR(F39),MINUTE(F39),0)))+24*(IF(TIME(HOUR(G40),MINUTE(G40),0)<0.25,TIME(HOUR(G40),MINUTE(G40),0),0))+24*(IF(TIME(HOUR(G39),MINUTE(G39),0)<0.25,TIME(HOUR(G39),MINUTE(G39),0),0))-24*(TIME(HOUR(H40),MINUTE(H40),0)) -> 0 | K39: =24*(IF(TIME(HOUR(J40),MINUTE(J40),0)-TIME(HOUR(I40),MINUTE(I40),0)<0,TIME(HOUR(J40),MINUTE(J40),0)-TIME(HOUR(I40),MINUTE(I40),0)+1,TIME(HOUR(J40),MINUTE(J40),0)-TIME(HOUR(I40),MINUTE(I40),0)))+24*(IF(TIME(HOUR(J39),MINUTE(J39),0)-TIME(HOUR(I39),MINUTE(I39),0)<0,TIME(HOUR(J39),MINUTE(J39),0)-TIME(HOUR(I39),MINUTE(I39),0)+1,TIME(HOUR(J39),MINUTE(J39),0)-TIME(HOUR(I39),MINUTE(I39),0)))+24*(IF(TIME(HOUR(J40),MINUTE(J40),0)<0.25,TIME(HOUR(J40),MINUTE(J40),0),0))+24*(IF(TIME(HOUR(J39),MINUTE(J39),0)<0.25,TIME(HOUR(J39),MINUTE(J39),0),0))-24*(TIME(HOUR(K40),MINUTE(K40),0)) -> 0 | L39: 0.77083333 | M39: 0 | N39: =24*(IF(TIME(HOUR(M40),MINUTE(M40),0)-TIME(HOUR(L40),MINUTE(L40),0)<0,TIME(HOUR(M40),MINUTE(M40),0)-TIME(HOUR(L40),MINUTE(L40),0)+1,TIME(HOUR(M40),MINUTE(M40),0)-TIME(HOUR(L40),MINUTE(L40),0)))+24*(IF(TIME(HOUR(M39),MINUTE(M39),0)-TIME(HOUR(L39),MINUTE(L39),0)<0,TIME(HOUR(M39),MINUTE(M39),0)-TIME(HOUR(L39),MINUTE(L39),0)+1,TIME(HOUR(M39),MINUTE(M39),0)-TIME(HOUR(L39),MINUTE(L39),0)))+24*(IF(TIME(HOUR(M40),MINUTE(M40),0)<0.25,TIME(HOUR(M40),MINUTE(M40),0),0))+24*(IF(TIME(HOUR(M39),MINUTE(M39),0)<0.25,TIME(HOUR(M39),MINUTE(M39),0),0))-24*(TIME(HOUR(N40),MINUTE(N40),0)) -> 5.5 | O39: 0.54166667 | P39: 0.77083333 | Q39: =24*(IF(TIME(HOUR(P40),MINUTE(P40),0)-TIME(HOUR(O40),MINUTE(O40),0)<0,TIME(HOUR(P40),MINUTE(P40),0)-TIME(HOUR(O40),MINUTE(O40),0)+1,TIME(HOUR(P40),MINUTE(P40),0)-TIME(HOUR(O40),MINUTE(O40),0)))+24*(IF(TIME(HOUR(P39),MINUTE(P39),0)-TIME(HOUR(O39),MINUTE(O39),0)<0,TIME(HOUR(P39),MINUTE(P39),0)-TIME(HOUR(O39),MINUTE(O39),0)+1,TIME(HOUR(P39),MINUTE(P39),0)-TIME(HOUR(O39),MINUTE(O39),0)))+24*(IF(TIME(HOUR(P40),MINUTE(P40),0)<0.25,TIME(HOUR(P40),MINUTE(P40),0),0))+24*(IF(TIME(HOUR(P39),MINUTE(P39),0)<0.25,TIME(HOUR(P39),MINUTE(P39),0),0))-24*(TIME(HOUR(Q40),MINUTE(Q40),0)) -> 5.5 | R39: 0.77083333 | S39: 0 | T39: =24*(IF(TIME(HOUR(S40),MINUTE(S40),0)-TIME(HOUR(R40),MINUTE(R40),0)<0,TIME(HOUR(S40),MINUTE(S40),0)-TIME(HOUR(R40),MINUTE(R40),0)+1,TIME(HOUR(S40),MINUTE(S40),0)-TIME(HOUR(R40),MINUTE(R40),0)))+24*(IF(TIME(HOUR(S39),MINUTE(S39),0)-TIME(HOUR(R39),MINUTE(R39),0)<0,TIME(HOUR(S39),MINUTE(S39),0)-TIME(HOUR(R39),MINUTE(R39),0)+1,TIME(HOUR(S39),MINUTE(S39),0)-TIME(HOUR(R39),MINUTE(R39),0)))+24*(IF(TIME(HOUR(S40),MINUTE(S40),0)<0.25,TIME(HOUR(S40),MINUTE(S40),0),0))+24*(IF(TIME(HOUR(S39),MINUTE(S39),0)<0.25,TIME(HOUR(S39),MINUTE(S39),0),0))-24*(TIME(HOUR(T40),MINUTE(T40),0)) -> 5.5 | U39: 0.54166667 | V39: 0.75 | W39: =24*(IF(TIME(HOUR(V40),MINUTE(V40),0)-TIME(HOUR(U40),MINUTE(U40),0)<0,TIME(HOUR(V40),MINUTE(V40),0)-TIME(HOUR(U40),MINUTE(U40),0)+1,TIME(HOUR(V40),MINUTE(V40),0)-TIME(HOUR(U40),MINUTE(U40),0)))+24*(IF(TIME(HOUR(V39),MINUTE(V39),0)-TIME(HOUR(U39),MINUTE(U39),0)<0,TIME(HOUR(V39),MINUTE(V39),0)-TIME(HOUR(U39),MINUTE(U39),0)+1,TIME(HOUR(V39),MINUTE(V39),0)-TIME(HOUR(U39),MINUTE(U39),0)))+24*(IF(TIME(HOUR(V40),MINUTE(V40),0)<0.25,TIME(HOUR(V40),MINUTE(V40),0),0))+24*(IF(TIME(HOUR(V39),MINUTE(V39),0)<0.25,TIME(HOUR(V39),MINUTE(V39),0),0))-24*(TIME(HOUR(W40),MINUTE(W40),0)) -> 5 | X39: 0.41666667 | Y39: 0.47916667 | Z39: =24*(IF(TIME(HOUR(Y40),MINUTE(Y40),0)-TIME(HOUR(X40),MINUTE(X40),0)<0,TIME(HOUR(Y40),MINUTE(Y40),0)-TIME(HOUR(X40),MINUTE(X40),0)+1,TIME(HOUR(Y40),MINUTE(Y40),0)-TIME(HOUR(X40),MINUTE(X40),0)))+24*(IF(TIME(HOUR(Y39),MINUTE(Y39),0)-TIME(HOUR(X39),MINUTE(X39),0)<0,TIME(HOUR(Y39),MINUTE(Y39),0)-TIME(HOUR(X39),MINUTE(X39),0)+1,TIME(HOUR(Y39),MINUTE(Y39),0)-TIME(HOUR(X39),MINUTE(X39),0)))+24*(IF(TIME(HOUR(Y40),MINUTE(Y40),0)<0.25,TIME(HOUR(Y40),MINUTE(Y40),0),0))+24*(IF(TIME(HOUR(Y39),MINUTE(Y39),0)<0.25,TIME(HOUR(Y39),MINUTE(Y39),0),0))-24*(TIME(HOUR(Z40),MINUTE(Z40),0)) -> 5.25 | AC39: =D39-H38-K38-N38-Q38-T38-W38-Z38 -> #REF!
B40: XXX | C40: 0 | X40: 0.55208333 | Y40: 0.70833333
B41: XXX | L41: OUVERTURE | O41: OUV / FERM | R41: SOIR | X41: FERMETURE | AA41: =H42+K42+N42+Q42+T42+W42+Z42 -> 25.75 | AB41: =AA41-C43 -> 25.75
B42: XXX | D42: =#REF! -> #REF! | H42: =24*(IF(TIME(HOUR(G43),MINUTE(G43),0)-TIME(HOUR(F43),MINUTE(F43),0)<0,TIME(HOUR(G43),MINUTE(G43),0)-TIME(HOUR(F43),MINUTE(F43),0)+1,TIME(HOUR(G43),MINUTE(G43),0)-TIME(HOUR(F43),MINUTE(F43),0)))+24*(IF(TIME(HOUR(G42),MINUTE(G42),0)-TIME(HOUR(F42),MINUTE(F42),0)<0,TIME(HOUR(G42),MINUTE(G42),0)-TIME(HOUR(F42),MINUTE(F42),0)+1,TIME(HOUR(G42),MINUTE(G42),0)-TIME(HOUR(F42),MINUTE(F42),0)))+24*(IF(TIME(HOUR(G43),MINUTE(G43),0)<0.25,TIME(HOUR(G43),MINUTE(G43),0),0))+24*(IF(TIME(HOUR(G42),MINUTE(G42),0)<0.25,TIME(HOUR(G42),MINUTE(G42),0),0))-24*(TIME(HOUR(H43),MINUTE(H43),0)) -> 0 | K42: =24*(IF(TIME(HOUR(J43),MINUTE(J43),0)-TIME(HOUR(I43),MINUTE(I43),0)<0,TIME(HOUR(J43),MINUTE(J43),0)-TIME(HOUR(I43),MINUTE(I43),0)+1,TIME(HOUR(J43),MINUTE(J43),0)-TIME(HOUR(I43),MINUTE(I43),0)))+24*(IF(TIME(HOUR(J42),MINUTE(J42),0)-TIME(HOUR(I42),MINUTE(I42),0)<0,TIME(HOUR(J42),MINUTE(J42),0)-TIME(HOUR(I42),MINUTE(I42),0)+1,TIME(HOUR(J42),MINUTE(J42),0)-TIME(HOUR(I42),MINUTE(I42),0)))+24*(IF(TIME(HOUR(J43),MINUTE(J43),0)<0.25,TIME(HOUR(J43),MINUTE(J43),0),0))+24*(IF(TIME(HOUR(J42),MINUTE(J42),0)<0.25,TIME(HOUR(J42),MINUTE(J42),0),0))-24*(TIME(HOUR(K43),MINUTE(K43),0)) -> 0 | L42: 0.54166667 | M42: 0.77083333 | N42: =24*(IF(TIME(HOUR(M43),MINUTE(M43),0)-TIME(HOUR(L43),MINUTE(L43),0)<0,TIME(HOUR(M43),MINUTE(M43),0)-TIME(HOUR(L43),MINUTE(L43),0)+1,TIME(HOUR(M43),MINUTE(M43),0)-TIME(HOUR(L43),MINUTE(L43),0)))+24*(IF(TIME(HOUR(M42),MINUTE(M42),0)-TIME(HOUR(L42),MINUTE(L42),0)<0,TIME(HOUR(M42),MINUTE(M42),0)-TIME(HOUR(L42),MINUTE(L42),0)+1,TIME(HOUR(M42),MINUTE(M42),0)-TIME(HOUR(L42),MINUTE(L42),0)))+24*(IF(TIME(HOUR(M43),MINUTE(M43),0)<0.25,TIME(HOUR(M43),MINUTE(M43),0),0))+24*(IF(TIME(HOUR(M42),MINUTE(M42),0)<0.25,TIME(HOUR(M42),MINUTE(M42),0),0))-24*(TIME(HOUR(N43),MINUTE(N43),0)) -> 5.5 | O42: 0.54166667 | P42: 0.70833333 | Q42: =24*(IF(TIME(HOUR(P43),MINUTE(P43),0)-TIME(HOUR(O43),MINUTE(O43),0)<0,TIME(HOUR(P43),MINUTE(P43),0)-TIME(HOUR(O43),MINUTE(O43),0)+1,TIME(HOUR(P43),MINUTE(P43),0)-TIME(HOUR(O43),MINUTE(O43),0)))+24*(IF(TIME(HOUR(P42),MINUTE(P42),0)-TIME(HOUR(O42),MINUTE(O42),0)<0,TIME(HOUR(P42),MINUTE(P42),0)-TIME(HOUR(O42),MINUTE(O42),0)+1,TIME(HOUR(P42),MINUTE(P42),0)-TIME(HOUR(O42),MINUTE(O42),0)))+24*(IF(TIME(HOUR(P43),MINUTE(P43),0)<0.25,TIME(HOUR(P43),MINUTE(P43),0),0))+24*(IF(TIME(HOUR(P42),MINUTE(P42),0)<0.25,TIME(HOUR(P42),MINUTE(P42),0),0))-24*(TIME(HOUR(Q43),MINUTE(Q43),0)) -> 9.5 | R42: 0.77083333 | S42: 0.92708333 | T42: =24*(IF(TIME(HOUR(S43),MINUTE(S43),0)-TIME(HOUR(R43),MINUTE(R43),0)<0,TIME(HOUR(S43),MINUTE(S43),0)-TIME(HOUR(R43),MINUTE(R43),0)+1,TIME(HOUR(S43),MINUTE(S43),0)-TIME(HOUR(R43),MINUTE(R43),0)))+24*(IF(TIME(HOUR(S42),MINUTE(S42),0)-TIME(HOUR(R42),MINUTE(R42),0)<0,TIME(HOUR(S42),MINUTE(S42),0)-TIME(HOUR(R42),MINUTE(R42),0)+1,TIME(HOUR(S42),MINUTE(S42),0)-TIME(HOUR(R42),MINUTE(R42),0)))+24*(IF(TIME(HOUR(S43),MINUTE(S43),0)<0.25,TIME(HOUR(S43),MINUTE(S43),0),0))+24*(IF(TIME(HOUR(S42),MINUTE(S42),0)<0.25,TIME(HOUR(S42),MINUTE(S42),0),0))-24*(TIME(HOUR(T43),MINUTE(T43),0)) -> 3.75 | W42: =24*(IF(TIME(HOUR(V43),MINUTE(V43),0)-TIME(HOUR(U43),MINUTE(U43),0)<0,TIME(HOUR(V43),MINUTE(V43),0)-TIME(HOUR(U43),MINUTE(U43),0)+1,TIME(HOUR(V43),MINUTE(V43),0)-TIME(HOUR(U43),MINUTE(U43),0)))+24*(IF(TIME(HOUR(V42),MINUTE(V42),0)-TIME(HOUR(U42),MINUTE(U42),0)<0,TIME(HOUR(V42),MINUTE(V42),0)-TIME(HOUR(U42),MINUTE(U42),0)+1,TIME(HOUR(V42),MINUTE(V42),0)-TIME(HOUR(U42),MINUTE(U42),0)))+24*(IF(TIME(HOUR(V43),MINUTE(V43),0)<0.25,TIME(HOUR(V43),MINUTE(V43),0),0))+24*(IF(TIME(HOUR(V42),MINUTE(V42),0)<0.25,TIME(HOUR(V42),MINUTE(V42),0),0))-24*(TIME(HOUR(W43),MINUTE(W43),0)) -> 0 | X42: 0.70833333 | Y42: 0 | Z42: =24*(IF(TIME(HOUR(Y43),MINUTE(Y43),0)-TIME(HOUR(X43),MINUTE(X43),0)<0,TIME(HOUR(Y43),MINUTE(Y43),0)-TIME(HOUR(X43),MINUTE(X43),0)+1,TIME(HOUR(Y43),MINUTE(Y43),0)-TIME(HOUR(X43),MINUTE(X43),0)))+24*(IF(TIME(HOUR(Y42),MINUTE(Y42),0)-TIME(HOUR(X42),MINUTE(X42),0)<0,TIME(HOUR(Y42),MINUTE(Y42),0)-TIME(HOUR(X42),MINUTE(X42),0)+1,TIME(HOUR(Y42),MINUTE(Y42),0)-TIME(HOUR(X42),MINUTE(X42),0)))+24*(IF(TIME(HOUR(Y43),MINUTE(Y43),0)<0.25,TIME(HOUR(Y43),MINUTE(Y43),0),0))+24*(IF(TIME(HOUR(Y42),MINUTE(Y42),0)<0.25,TIME(HOUR(Y42),MINUTE(Y42),0),0))-24*(TIME(HOUR(Z43),MINUTE(Z43),0)) -> 7 | AC42: =D42-H41-K41-N41-Q41-T41-W41-Z41 -> #REF!
B43: XXX | C43: 0 | O43: 0.77083333 | P43: 0
B44: XXX | AA44: =H45+K45+N45+Q45+T45+W45+Z45 -> 8 | AB44: =AA44-C46 -> 8
...

Sheet VERIF
A1: CINÉMAZARIN | R1: VÉRIFICATION | AN1: =TEST!H1 -> PLANNING DE LA SEMAINE N° 26
B3: =TEST!F4 -> 44375
D5: 0.32361111 | E5: 0.33402778 | F5: 0.34444444 | G5: 0.35486111 | H5: 0.36527778 | I5: 0.37569444 | J5: 0.38611111 | K5: 0.39652778 | L5: 0.40694444 | M5: 0.41736111 | N5: 0.42777778 | O5: 0.43819444 | P5: 0.44861111 | Q5: 0.45902778 | R5: 0.46944444 | S5: 0.47986111 | T5: 0.49027778 | U5: 0.50069444 | V5: 0.51111111 | W5: 0.52152778 | X5: 0.53194444 | Y5: 0.54236111 | Z5: 0.55277778 | AA5: 0.56319444 | AB5: 0.57361111 | AC5: 0.58402778 | AD5: 0.59444444 | AE5: 0.60486111 | AF5: 0.61527778 | AG5: 0.62569444 | AH5: 0.63611111 | AI5: 0.64652778 | AJ5: 0.65694444 | AK5: 0.66736111 | AL5: 0.67777778 | AM5: 0.68819444 | AN5: 0.69861111 | AO5: 0.70902778 | AP5: 0.71944444 | AQ5: 0.72986111 | AR5: 0.74027778 | AS5: 0.75069444 | AT5: 0.76111111 | AU5: 0.77152778 | AV5: 0.78194444 | AW5: 0.79236111 | AX5: 0.80277778 | AY5: 0.81319444 | AZ5: 0.82361111 | BA5: 0.83402778 | BB5: 0.84444444 | BC5: 0.85486111 | BD5: 0.86527778 | BE5: 0.87569444 | BF5: 0.88611111 | BG5: 0.89652778 | BH5: 0.90694444 | BI5: 0.91736111 | BJ5: 0.92777778 | BK5: 0.93819444 | BL5: 0.94861111 | BM5: 0.95902778 | BN5: 0.96944444 | BO5: 0.97986111 | BP5: 0.99027778 | BQ5: 1.0006944 | BR5: 0.010416667
D6: 8H | H6: 9H | L6: 10H | P6: 11H | T6: 12H | X6: 13H | AB6: 14H | AF6: 15H | AJ6: 16H | AN6: 17H | AR6: 18H | AV6: 19H | AZ6: 20H | BD6: 21H | BH6: 22H | BL6: 23H | BP6: 00H
A8: =TEST!$B$8 -> JEAN | B8: =IF(TEST!F9<>"",IF(TEST!F9=0,0,TEST!F9),"") -> 0 | C8: =IF(TEST!G9<>"",IF(TEST!G9=0,1,TEST!G9),"") -> 0.75 | E8: =IF(OR($B$8>=E5,$C$8<=E5)=TRUE,"1","0") -> 0 | F8: =IF(OR($B$8>=F5,$C$8<F5)=TRUE,"1","0") -> 0 | G8: =IF(OR($B$8>=G5,$C$8<G5)=TRUE,"1","0") -> 0 | H8: =IF(OR($B$8>=H5,$C$8<H5)=TRUE,"1","0") -> 0 | I8: =IF(OR($B$8>=I5,$C$8<I5)=TRUE,"1","0") -> 0 | J8: =IF(OR($B$8>=J5,$C$8<J5)=TRUE,"1","0") -> 0 | K8: =IF(OR($B$8>=K5,$C$8<K5)=TRUE,"1","0") -> 0 | L8: =IF(OR($B$8>=L5,$C$8<L5)=TRUE,"1","0") -> 0 | M8: =IF(OR($B$8>=M5,$C$8<M5)=TRUE,"1","0") -> 0 | ... BO8: =IF(OR($B$8>=BO5,$C$8<BO5)=TRUE,"1","0") -> 1 | BP8: =IF(OR($B$8>=BP5,$C$8<=BP5)=TRUE,"1","0") -> 1 | BQ8: =IF(OR($B$8>=BQ5,$C$8<=BQ5)=TRUE,"1","0") -> 1
B9: =IF(TEST!F10="","",TEST!F10) | C9: =IF(TEST!G10="","",TEST!G10) | E9: =IF(OR($B$9>=E5,$C$9<=E5)=TRUE,"1","0") -> 1 | F9: =IF(OR($B$9>=F5,$C$9<=F5)=TRUE,"1","0") -> 1 | G9: =IF(OR($B$9>=G5,$C$9<=G5)=TRUE,"1","0") -> 1 | H9: =IF(OR($B$9>=H5,$C$9<=H5)=TRUE,"1","0") -> 1 | I9: =IF(OR($B$9>=I5,$C$9<=I5)=TRUE,"1","0") -> 1 | J9: =IF(OR($B$9>=J5,$C$9<=J5)=TRUE,"1","0") -> 1 | K9: =IF(OR($B$9>=K5,$C$9<=K5)=TRUE,"1","0") -> 1 | L9: =IF(OR($B$9>=L5,$C$9<=L5)=TRUE,"1","0") -> 1 | ... BQ9: =IF(OR($B$9>=BQ5,$C$9<=BQ5)=TRUE,"1","0") -> 1
A11: =TEST!$B$11 -> JEANNE | B11: =IF(TEST!F12="","",TEST!F12) -> 0.39583333 | C11: =IF(TEST!G12="","",TEST!G12) -> 0.47916667 | E11: =IF(OR($B$11>=E5,$C$11<E5)=TRUE,"1","0") -> 1 | F11: =IF(OR($B$11>=F5,$C$11<F5)=TRUE,"1","0") -> 1 | G11: =IF(OR($B$11>=G5,$C$11<G5)=TRUE,"1","0") -> 1 | H11: =IF(OR($B$11>=H5,$C$11<H5)=TRUE,"1","0") -> 1 | I11: =IF(OR($B$11>=I5,$C$11<I5)=TRUE,"1","0") -> 1 | J11: =IF(OR($B$11>=J5,$C$11<J5)=TRUE,"1","0") -> 1 | K11: =IF(OR($B$11>=K5,$C$11<K5)=TRUE,"1","0") -> 0 | L11: =IF(OR($B$11>=L5,$C$11<L5)=TRUE,"1","0") -> 0 | ... BP11: =IF(OR($B$11>=BP5,$C$11<BP5)=TRUE,"1","0") -> 1 | BQ11: =IF(BP11="1","1","0") -> 1
B12: =IF(TEST!F13="","",TEST!F13) -> 0.75 | C12: =IF(TEST!G13="","",TEST!G13) -> 0.91666667 | E12: =IF(OR($B$12>=E5,$C$12<E5)=TRUE,"1","0") -> 1 | F12: =IF(OR($B$12>=F5,$C$12<F5)=TRUE,"1","0") -> 1 | G12: =IF(OR($B$12>=G5,$C$12<G5)=TRUE,"1","0") -> 1 | H12: =IF(OR($B$12>=H5,$C$12<H5)=TRUE,"1","0") -> 1 | I12: =IF(OR($B$12>=I5,$C$12<I5)=TRUE,"1","0") -> 1 | J12: =IF(OR($B$12>=J5,$C$12<J5)=TRUE,"1","0") -> 1 | K12: =IF(OR($B$12>=K5,$C$12<K5)=TRUE,"1","0") -> 1 | L12: =IF(OR($B$12>=L5,$C$12<L5)=TRUE,"1","0") -> 1 | ... BP12: =IF(OR($B$12>=BP5,$C$12<BP5)=TRUE,"1","0") -> 1 | BQ12: =IF(BP12="1","1","0") -> 1
A14: =TEST!$B$14 -> LUC | B14: =IF(TEST!F15="","",TEST!F15) -> 0.375 | C14: =IF(TEST!G15="","",TEST!G15) -> 0.46875 | E14: =IF(OR($B$14>=E5,$C$14<E5)=TRUE,"1","0") -> 1 | F14: =IF(OR($B$14>=F5,$C$14<F5)=TRUE,"1","0") -> 1 | G14: =IF(OR($B$14>=G5,$C$14<G5)=TRUE,"1","0") -> 1 | H14: =IF(OR($B$14>=H5,$C$14<H5)=TRUE,"1","0") -> 1 | I14: =IF(OR($B$14>=I5,$C$14<I5)=TRUE,"1","0") -> 0 | J14: =IF(OR($B$14>=J5,$C$14<J5)=TRUE,"1","0") -> 0 | K14: =IF(OR($B$14>=K5,$C$14<K5)=TRUE,"1","0") -> 0 | L14: =IF(OR($B$14>=L5,$C$14<L5)=TRUE,"1","0") -> 0 | ... BP14: =IF(OR($B$14>=BP5,$C$14<BP5)=TRUE,"1","0") -> 1 | BQ14: =IF(BP14="1","1","0") -> 1
