Workbook

Sheet 1
A1: CLASSEMENT MER SAMEDI 7 MARS 2015
A5: NOM | B5: PLACE | C5: TIRAGE AU SORT | E5: POIDS | G5: POINTS | I5: CLASSEMENT
A6: 1 | E6: 150 | G6: =IF(E6=0,14,RANK(E6,$E$6:$E$45,0)) -> 8 | I6: =IF(G6=14,14,RANK(G6,$G$6:$G$50,1)) -> 8
A7: 2 | E7: 250 | G7: =IF(E7=0,14,RANK(E7,$E$6:$E$45,0)) -> 6 | I7: =IF(G7=14,14,RANK(G7,$G$6:$G$50,1)) -> 6
A8: 3 | E8: 256 | G8: =IF(E8=0,14,RANK(E8,$E$6:$E$45,0)) -> 5 | I8: =IF(G8=14,14,RANK(G8,$G$6:$G$50,1)) -> 5
A9: 4 | E9: 2569 | G9: =IF(E9=0,14,RANK(E9,$E$6:$E$45,0)) -> 1 | I9: =IF(G9=14,14,RANK(G9,$G$6:$G$50,1)) -> 1
A10: 5 | E10: 215 | G10: =IF(E10=0,14,RANK(E10,$E$6:$E$45,0)) -> 7 | I10: =IF(G10=14,14,RANK(G10,$G$6:$G$50,1)) -> 7
A11: 6 | E11: 0 | G11: =IF(E11=0,14,RANK(E11,$E$6:$E$45,0)) -> 14 | I11: =IF(G11=14,14,RANK(G11,$G$6:$G$50,1)) -> 14
A12: 7 | E12: 0 | G12: =IF(E12=0,14,RANK(E12,$E$6:$E$45,0)) -> 14 | I12: =IF(G12=14,14,RANK(G12,$G$6:$G$50,1)) -> 14
A13: 8 | E13: 21 | G13: =IF(E13=0,14,RANK(E13,$E$6:$E$45,0)) -> 10 | I13: =IF(G13=14,14,RANK(G13,$G$6:$G$50,1)) -> 10
A14: 9 | E14: 20 | G14: =IF(E14=0,14,RANK(E14,$E$6:$E$45,0)) -> 11 | I14: =IF(G14=14,14,RANK(G14,$G$6:$G$50,1)) -> 11
A15: 10 | E15: 66 | G15: =IF(E15=0,14,RANK(E15,$E$6:$E$45,0)) -> 9 | I15: =IF(G15=14,14,RANK(G15,$G$6:$G$50,1)) -> 9
A16: 11 | E16: 789 | G16: =IF(E16=0,14,RANK(E16,$E$6:$E$45,0)) -> 2 | I16: =IF(G16=14,14,RANK(G16,$G$6:$G$50,1)) -> 2
A17: 12 | E17: 268 | G17: =IF(E17=0,14,RANK(E17,$E$6:$E$45,0)) -> 3 | I17: =IF(G17=14,14,RANK(G17,$G$6:$G$50,1)) -> 3
A18: 13 | E18: 268 | G18: =IF(E18=0,14,RANK(E18,$E$6:$E$45,0)) -> 3 | I18: =IF(G18=14,14,RANK(G18,$G$6:$G$50,1)) -> 3

Sheet 2
A1: CLASSEMENT MER SAMEDI 4 AVRIL 2015
A5: NOM | B5: PLACE | C5: TIRAGE AU SORT | E5: POIDS | G5: POINTS | I5: CLASSEMENT
A6: 1 | E6: 3000 | G6: =IF(E6=0,RANK(E6,$E$6:$E$45,0)+1,RANK(E6,$E$6:$E$45,0)) -> 3 | I6: =RANK(G6,$G$6:$G$50,0) -> 11
A7: 2 | E7: 150 | G7: =IF(E7=0,RANK(E7,$E$6:$E$45,0)+1,RANK(E7,$E$6:$E$45,0)) -> 9 | I7: =RANK(G7,$G$6:$G$50,0) -> 5
A8: 3 | E8: 256 | G8: =IF(E8=0,RANK(E8,$E$6:$E$45,0)+1,RANK(E8,$E$6:$E$45,0)) -> 6 | I8: =RANK(G8,$G$6:$G$50,1) -> 6
A9: 4 | E9: 1536 | G9: =IF(E9=0,RANK(E9,$E$6:$E$45,0)+1,RANK(E9,$E$6:$E$45,0)) -> 5 | I9: =RANK(G9,$G$6:$G$50,1) -> 5
A10: 5 | E10: 157 | G10: =IF(E10=0,RANK(E10,$E$6:$E$45,0)+1,RANK(E10,$E$6:$E$45,0)) -> 8 | I10: =RANK(G10,$G$6:$G$50,1) -> 8
A11: 6 | E11: 0 | G11: =IF(E11=0,RANK(E11,$E$6:$E$45,0)+1,RANK(E11,$E$6:$E$45,0)) -> 13 | I11: =RANK(G11,$G$6:$G$50,1) -> 12
A12: 7 | E12: 0 | G12: =IF(E12=0,RANK(E12,$E$6:$E$45,0)+1,RANK(E12,$E$6:$E$45,0)) -> 13 | I12: =RANK(G12,$G$6:$G$50,1) -> 12
A13: 8 | E13: 23 | G13: =IF(E13=0,RANK(E13,$E$6:$E$45,0)+1,RANK(E13,$E$6:$E$45,0)) -> 11 | I13: =RANK(G13,$G$6:$G$50,1) -> 11
A14: 9 | E14: 26 | G14: =IF(E14=0,RANK(E14,$E$6:$E$45,0)+1,RANK(E14,$E$6:$E$45,0)) -> 10 | I14: =RANK(G14,$G$6:$G$50,1) -> 10
A15: 10 | E15: 2689 | G15: =IF(E15=0,RANK(E15,$E$6:$E$45,0)+1,RANK(E15,$E$6:$E$45,0)) -> 4 | I15: =RANK(G15,$G$6:$G$50,1) -> 4
A16: 11 | E16: 5698 | G16: =IF(E16=0,RANK(E16,$E$6:$E$45,0)+1,RANK(E16,$E$6:$E$45,0)) -> 1 | I16: =RANK(G16,$G$6:$G$50,1) -> 1
A17: 12 | E17: 4521 | G17: =IF(E17=0,RANK(E17,$E$6:$E$45,0)+1,RANK(E17,$E$6:$E$45,0)) -> 2 | I17: =RANK(G17,$G$6:$G$50,1) -> 2
A18: 13 | E18: 165 | G18: =IF(E18=0,RANK(E18,$E$6:$E$45,0)+1,RANK(E18,$E$6:$E$45,0)) -> 7 | I18: =RANK(G18,$G$6:$G$50,1) -> 7

Sheet 3
A5: NOM | B5: PLACE | C5: TIRAGE AU SORT | E5: POIDS | G5: POINTS | I5: CLASSEMENT
A6: 1 | E6: 150 | G6: =IF(E6=0,RANK(E6,$E$6:$E$45,0)+1,RANK(E6,$E$6:$E$45,0)) -> 8 | I6: =RANK(G6,$G$6:$G$50,1) -> 8
A7: 2 | E7: 250 | G7: =IF(E7=0,RANK(E7,$E$6:$E$45,0)+1,RANK(E7,$E$6:$E$45,0)) -> 6 | I7: =RANK(G7,$G$6:$G$50,1) -> 6
A8: 3 | E8: 256 | G8: =IF(E8=0,RANK(E8,$E$6:$E$45,0)+1,RANK(E8,$E$6:$E$45,0)) -> 5 | I8: =RANK(G8,$G$6:$G$50,1) -> 5
A9: 4 | E9: 2569 | G9: =IF(E9=0,RANK(E9,$E$6:$E$45,0)+1,RANK(E9,$E$6:$E$45,0)) -> 1 | I9: =RANK(G9,$G$6:$G$50,1) -> 1
A10: 5 | E10: 215 | G10: =IF(E10=0,RANK(E10,$E$6:$E$45,0)+1,RANK(E10,$E$6:$E$45,0)) -> 7 | I10: =RANK(G10,$G$6:$G$50,1) -> 7
A11: 6 | E11: 0 | G11: =IF(E11=0,RANK(E11,$E$6:$E$45,0)+1,RANK(E11,$E$6:$E$45,0)) -> 14 | I11: =RANK(G11,$G$6:$G$50,1) -> 13
A12: 7 | E12: 25 | G12: =IF(E12=0,RANK(E12,$E$6:$E$45,0)+1,RANK(E12,$E$6:$E$45,0)) -> 10 | I12: =RANK(G12,$G$6:$G$50,1) -> 10
A13: 8 | E13: 21 | G13: =IF(E13=0,RANK(E13,$E$6:$E$45,0)+1,RANK(E13,$E$6:$E$45,0)) -> 11 | I13: =RANK(G13,$G$6:$G$50,1) -> 11
A14: 9 | E14: 20 | G14: =IF(E14=0,RANK(E14,$E$6:$E$45,0)+1,RANK(E14,$E$6:$E$45,0)) -> 12 | I14: =RANK(G14,$G$6:$G$50,1) -> 12
A15: 10 | E15: 66 | G15: =IF(E15=0,RANK(E15,$E$6:$E$45,0)+1,RANK(E15,$E$6:$E$45,0)) -> 9 | I15: =RANK(G15,$G$6:$G$50,1) -> 9
A16: 11 | E16: 789 | G16: =IF(E16=0,RANK(E16,$E$6:$E$45,0)+1,RANK(E16,$E$6:$E$45,0)) -> 2 | I16: =RANK(G16,$G$6:$G$50,1) -> 2
A17: 12 | E17: 269 | G17: =IF(E17=0,RANK(E17,$E$6:$E$45,0)+1,RANK(E17,$E$6:$E$45,0)) -> 3 | I17: =RANK(G17,$G$6:$G$50,1) -> 3
A18: 13 | E18: 268 | G18: =IF(E18=0,RANK(E18,$E$6:$E$45,0)+1,RANK(E18,$E$6:$E$45,0)) -> 4 | I18: =RANK(G18,$G$6:$G$50,1) -> 4

Sheet 4
A1: classement mer 07-03
A5: NOM | B5: PLACE | C5: TIRAGE AU SORT | E5: POIDS | G5: POINTS | I5: CLASSEMENT | K5: 1
A6: 1 | E6: 150 | G6: =IF(E6=0,RANK(E6,$E$6:$E$45,0)+1,RANK(E6,$E$6:$E$45,0)) -> 8 | I6: =RANK(G6,$G$6:$G$50,1) -> 8
A7: 2 | E7: 250 | G7: =IF(E7=0,RANK(E7,$E$6:$E$45,0)+1,RANK(E7,$E$6:$E$45,0)) -> 6 | I7: =RANK(G7,$G$6:$G$50,1) -> 6
A8: 3 | E8: 256 | G8: =IF(E8=0,RANK(E8,$E$6:$E$45,0)+1,RANK(E8,$E$6:$E$45,0)) -> 5 | I8: =RANK(G8,$G$6:$G$50,1) -> 5
A9: 4 | E9: 2569 | G9: =IF(E9=0,RANK(E9,$E$6:$E$45,0)+1,RANK(E9,$E$6:$E$45,0)) -> 1 | I9: =RANK(G9,$G$6:$G$50,1) -> 1
A10: 5 | E10: 215 | G10: =IF(E10=0,RANK(E10,$E$6:$E$45,0)+1,RANK(E10,$E$6:$E$45,0)) -> 7 | I10: =RANK(G10,$G$6:$G$50,1) -> 7
A11: 6 | E11: 0 | G11: =IF(E11=0,RANK(E11,$E$6:$E$45,0)+1,RANK(E11,$E$6:$E$45,0)) -> 14 | I11: =RANK(G11,$G$6:$G$50,1) -> 13
A12: 7 | E12: 25 | G12: =IF(E12=0,RANK(E12,$E$6:$E$45,0)+1,RANK(E12,$E$6:$E$45,0)) -> 10 | I12: =RANK(G12,$G$6:$G$50,1) -> 10
A13: 8 | E13: 21 | G13: =IF(E13=0,RANK(E13,$E$6:$E$45,0)+1,RANK(E13,$E$6:$E$45,0)) -> 11 | I13: =RANK(G13,$G$6:$G$50,1) -> 11
A14: 9 | E14: 20 | G14: =IF(E14=0,RANK(E14,$E$6:$E$45,0)+1,RANK(E14,$E$6:$E$45,0)) -> 12 | I14: =RANK(G14,$G$6:$G$50,1) -> 12
A15: 10 | E15: 66 | G15: =IF(E15=0,RANK(E15,$E$6:$E$45,0)+1,RANK(E15,$E$6:$E$45,0)) -> 9 | I15: =RANK(G15,$G$6:$G$50,1) -> 9
A16: 11 | E16: 789 | G16: =IF(E16=0,RANK(E16,$E$6:$E$45,0)+1,RANK(E16,$E$6:$E$45,0)) -> 2 | I16: =RANK(G16,$G$6:$G$50,1) -> 2
A17: 12 | E17: 268 | G17: =IF(E17=0,RANK(E17,$E$6:$E$45,0)+1,RANK(E17,$E$6:$E$45,0)) -> 3 | I17: =RANK(G17,$G$6:$G$50,1) -> 3
A18: 13 | E18: 268 | G18: =IF(E18=0,RANK(E18,$E$6:$E$45,0)+1,RANK(E18,$E$6:$E$45,0)) -> 3 | I18: =RANK(G18,$G$6:$G$50,1) -> 3

Sheet 5
A1: classement mer 07-03
A5: NOM | B5: PLACE | C5: TIRAGE AU SORT | E5: POIDS | G5: POINTS | I5: CLASSEMENT
A6: 1 | E6: 150 | G6: =IF(E6=0,RANK(E6,$E$6:$E$45,0)+1,RANK(E6,$E$6:$E$45,0)) -> 8 | I6: =RANK(G6,$G$6:$G$50,1) -> 8
A7: 2 | E7: 250 | G7: =IF(E7=0,RANK(E7,$E$6:$E$45,0)+1,RANK(E7,$E$6:$E$45,0)) -> 6 | I7: =RANK(G7,$G$6:$G$50,1) -> 6
A8: 3 | E8: 256 | G8: =IF(E8=0,RANK(E8,$E$6:$E$45,0)+1,RANK(E8,$E$6:$E$45,0)) -> 5 | I8: =RANK(G8,$G$6:$G$50,1) -> 5
A9: 4 | E9: 2569 | G9: =IF(E9=0,RANK(E9,$E$6:$E$45,0)+1,RANK(E9,$E$6:$E$45,0)) -> 1 | I9: =RANK(G9,$G$6:$G$50,1) -> 1
A10: 5 | E10: 215 | G10: =IF(E10=0,RANK(E10,$E$6:$E$45,0)+1,RANK(E10,$E$6:$E$45,0)) -> 7 | I10: =RANK(G10,$G$6:$G$50,1) -> 7
A11: 6 | E11: 0 | G11: =IF(E11=0,RANK(E11,$E$6:$E$45,0)+1,RANK(E11,$E$6:$E$45,0)) -> 14 | I11: =RANK(G11,$G$6:$G$50,1) -> 13
A12: 7 | E12: 25 | G12: =IF(E12=0,RANK(E12,$E$6:$E$45,0)+1,RANK(E12,$E$6:$E$45,0)) -> 10 | I12: =RANK(G12,$G$6:$G$50,1) -> 10
A13: 8 | E13: 21 | G13: =IF(E13=0,RANK(E13,$E$6:$E$45,0)+1,RANK(E13,$E$6:$E$45,0)) -> 11 | I13: =RANK(G13,$G$6:$G$50,1) -> 11
A14: 9 | E14: 20 | G14: =IF(E14=0,RANK(E14,$E$6:$E$45,0)+1,RANK(E14,$E$6:$E$45,0)) -> 12 | I14: =RANK(G14,$G$6:$G$50,1) -> 12
A15: 10 | E15: 66 | G15: =IF(E15=0,RANK(E15,$E$6:$E$45,0)+1,RANK(E15,$E$6:$E$45,0)) -> 9 | I15: =RANK(G15,$G$6:$G$50,1) -> 9
A16: 11 | E16: 789 | G16: =IF(E16=0,RANK(E16,$E$6:$E$45,0)+1,RANK(E16,$E$6:$E$45,0)) -> 2 | I16: =RANK(G16,$G$6:$G$50,1) -> 2
A17: 12 | E17: 268 | G17: =IF(E17=0,RANK(E17,$E$6:$E$45,0)+1,RANK(E17,$E$6:$E$45,0)) -> 3 | I17: =RANK(G17,$G$6:$G$50,1) -> 3
A18: 13 | E18: 268 | G18: =IF(E18=0,RANK(E18,$E$6:$E$45,0)+1,RANK(E18,$E$6:$E$45,0)) -> 3 | I18: =RANK(G18,$G$6:$G$50,1) -> 3

Sheet 6
A1: classement mer 07-03
A5: NOM | B5: PLACE | C5: TIRAGE AU SORT | E5: POIDS | G5: POINTS | I5: CLASSEMENT
A6: 1 | E6: 150 | G6: =IF(E6=0,RANK(E6,$E$6:$E$45,0)+1,RANK(E6,$E$6:$E$45,0)) -> 8 | I6: =RANK(G6,$G$6:$G$50,1) -> 8
A7: 2 | E7: 250 | G7: =IF(E7=0,RANK(E7,$E$6:$E$45,0)+1,RANK(E7,$E$6:$E$45,0)) -> 6 | I7: =RANK(G7,$G$6:$G$50,1) -> 6
A8: 3 | E8: 256 | G8: =IF(E8=0,RANK(E8,$E$6:$E$45,0)+1,RANK(E8,$E$6:$E$45,0)) -> 5 | I8: =RANK(G8,$G$6:$G$50,1) -> 5
A9: 4 | E9: 2569 | G9: =IF(E9=0,RANK(E9,$E$6:$E$45,0)+1,RANK(E9,$E$6:$E$45,0)) -> 1 | I9: =RANK(G9,$G$6:$G$50,1) -> 1
A10: 5 | E10: 215 | G10: =IF(E10=0,RANK(E10,$E$6:$E$45,0)+1,RANK(E10,$E$6:$E$45,0)) -> 7 | I10: =RANK(G10,$G$6:$G$50,1) -> 7
A11: 6 | E11: 0 | G11: =IF(E11=0,RANK(E11,$E$6:$E$45,0)+1,RANK(E11,$E$6:$E$45,0)) -> 14 | I11: =RANK(G11,$G$6:$G$50,1) -> 13
A12: 7 | E12: 25 | G12: =IF(E12=0,RANK(E12,$E$6:$E$45,0)+1,RANK(E12,$E$6:$E$45,0)) -> 10 | I12: =RANK(G12,$G$6:$G$50,1) -> 10
A13: 8 | E13: 21 | G13: =IF(E13=0,RANK(E13,$E$6:$E$45,0)+1,RANK(E13,$E$6:$E$45,0)) -> 11 | I13: =RANK(G13,$G$6:$G$50,1) -> 11
A14: 9 | E14: 20 | G14: =IF(E14=0,RANK(E14,$E$6:$E$45,0)+1,RANK(E14,$E$6:$E$45,0)) -> 12 | I14: =RANK(G14,$G$6:$G$50,1) -> 12
A15: 10 | E15: 66 | G15: =IF(E15=0,RANK(E15,$E$6:$E$45,0)+1,RANK(E15,$E$6:$E$45,0)) -> 9 | I15: =RANK(G15,$G$6:$G$50,1) -> 9
A16: 11 | E16: 789 | G16: =IF(E16=0,RANK(E16,$E$6:$E$45,0)+1,RANK(E16,$E$6:$E$45,0)) -> 2 | I16: =RANK(G16,$G$6:$G$50,1) -> 2
A17: 12 | E17: 268 | G17: =IF(E17=0,RANK(E17,$E$6:$E$45,0)+1,RANK(E17,$E$6:$E$45,0)) -> 3 | I17: =RANK(G17,$G$6:$G$50,1) -> 3
A18: 13 | E18: 268 | G18: =IF(E18=0,RANK(E18,$E$6:$E$45,0)+1,RANK(E18,$E$6:$E$45,0)) -> 3 | I18: =RANK(G18,$G$6:$G$50,1) -> 3

Sheet 7
A1: classement mer 07-03
A5: NOM | B5: PLACE | C5: TIRAGE AU SORT | E5: POIDS | G5: POINTS | I5: CLASSEMENT
A6: 1 | E6: 150 | G6: =IF(E6=0,RANK(E6,$E$6:$E$45,0)+1,RANK(E6,$E$6:$E$45,0)) -> 8 | I6: =RANK(G6,$G$6:$G$50,1) -> 8
A7: 2 | E7: 250 | G7: =IF(E7=0,RANK(E7,$E$6:$E$45,0)+1,RANK(E7,$E$6:$E$45,0)) -> 6 | I7: =RANK(G7,$G$6:$G$50,1) -> 6
A8: 3 | E8: 256 | G8: =IF(E8=0,RANK(E8,$E$6:$E$45,0)+1,RANK(E8,$E$6:$E$45,0)) -> 5 | I8: =RANK(G8,$G$6:$G$50,1) -> 5
A9: 4 | E9: 2569 | G9: =IF(E9=0,RANK(E9,$E$6:$E$45,0)+1,RANK(E9,$E$6:$E$45,0)) -> 1 | I9: =RANK(G9,$G$6:$G$50,1) -> 1
A10: 5 | E10: 215 | G10: =IF(E10=0,RANK(E10,$E$6:$E$45,0)+1,RANK(E10,$E$6:$E$45,0)) -> 7 | I10: =RANK(G10,$G$6:$G$50,1) -> 7
A11: 6 | E11: 0 | G11: =IF(E11=0,RANK(E11,$E$6:$E$45,0)+1,RANK(E11,$E$6:$E$45,0)) -> 14 | I11: =RANK(G11,$G$6:$G$50,1) -> 13
A12: 7 | E12: 25 | G12: =IF(E12=0,RANK(E12,$E$6:$E$45,0)+1,RANK(E12,$E$6:$E$45,0)) -> 10 | I12: =RANK(G12,$G$6:$G$50,1) -> 10
A13: 8 | E13: 21 | G13: =IF(E13=0,RANK(E13,$E$6:$E$45,0)+1,RANK(E13,$E$6:$E$45,0)) -> 11 | I13: =RANK(G13,$G$6:$G$50,1) -> 11
A14: 9 | E14: 20 | G14: =IF(E14=0,RANK(E14,$E$6:$E$45,0)+1,RANK(E14,$E$6:$E$45,0)) -> 12 | I14: =RANK(G14,$G$6:$G$50,1) -> 12
A15: 10 | E15: 66 | G15: =IF(E15=0,RANK(E15,$E$6:$E$45,0)+1,RANK(E15,$E$6:$E$45,0)) -> 9 | I15: =RANK(G15,$G$6:$G$50,1) -> 9
A16: 11 | E16: 789 | G16: =IF(E16=0,RANK(E16,$E$6:$E$45,0)+1,RANK(E16,$E$6:$E$45,0)) -> 2 | I16: =RANK(G16,$G$6:$G$50,1) -> 2
A17: 12 | E17: 268 | G17: =IF(E17=0,RANK(E17,$E$6:$E$45,0)+1,RANK(E17,$E$6:$E$45,0)) -> 3 | I17: =RANK(G17,$G$6:$G$50,1) -> 3
A18: 13 | E18: 268 | G18: =IF(E18=0,RANK(E18,$E$6:$E$45,0)+1,RANK(E18,$E$6:$E$45,0)) -> 3 | I18: =RANK(G18,$G$6:$G$50,1) -> 3

Sheet général
A1: CLASSEMENT GENERAL
A5: NOM | B5: PLACE | C5: TIRAGE AU SORT | E5: POIDS | G5: POINTS | I5: CLASSEMENT
A6: 1 | E6: =SUM('1'!E6+'2'!E6+'3'!E6+'4'!E6+'5'!E6+'6'!E6+'7'!E6) -> 3900 | G6: =SUM('1'!G6+'2'!G6+'3'!G6+'4'!G6+'5'!G6+'6'!G6+'7'!G6) -> 51 | I6: =RANK(G6,$G$6:$G$50,1) -> 8
A7: 2 | E7: =SUM('1'!E7+'2'!E7+'3'!E7+'4'!E7+'5'!E7+'6'!E7+'7'!E7) -> 1650 | G7: =SUM('1'!G7+'2'!G7+'3'!G7+'4'!G7+'5'!G7+'6'!G7+'7'!G7) -> 45 | I7: =RANK(G7,$G$6:$G$50,1) -> 6
A8: 3 | E8: =SUM('1'!E8+'2'!E8+'3'!E8+'4'!E8+'5'!E8+'6'!E8+'7'!E8) -> 1792 | G8: =SUM('1'!G8+'2'!G8+'3'!G8+'4'!G8+'5'!G8+'6'!G8+'7'!G8) -> 36 | I8: =RANK(G8,$G$6:$G$50,1) -> 5
A9: 4 | E9: =SUM('1'!E9+'2'!E9+'3'!E9+'4'!E9+'5'!E9+'6'!E9+'7'!E9) -> 16950 | G9: =SUM('1'!G9+'2'!G9+'3'!G9+'4'!G9+'5'!G9+'6'!G9+'7'!G9) -> 11 | I9: =RANK(G9,$G$6:$G$50,1) -> 1
A10: 5 | E10: =SUM('1'!E10+'2'!E10+'3'!E10+'4'!E10+'5'!E10+'6'!E10+'7'!E10) -> 1447 | G10: =SUM('1'!G10+'2'!G10+'3'!G10+'4'!G10+'5'!G10+'6'!G10+'7'!G10) -> 50 | I10: =RANK(G10,$G$6:$G$50,1) -> 7
A11: 6 | E11: =SUM('1'!E11+'2'!E11+'3'!E11+'4'!E11+'5'!E11+'6'!E11+'7'!E11) -> 0 | G11: =SUM('1'!G11+'2'!G11+'3'!G11+'4'!G11+'5'!G11+'6'!G11+'7'!G11) -> 97 | I11: =RANK(G11,$G$6:$G$50,1) -> 13
A12: 7 | E12: =SUM('1'!E12+'2'!E12+'3'!E12+'4'!E12+'5'!E12+'6'!E12+'7'!E12) -> 125 | G12: =SUM('1'!G12+'2'!G12+'3'!G12+'4'!G12+'5'!G12+'6'!G12+'7'!G12) -> 77 | I12: =RANK(G12,$G$6:$G$50,1) -> 11
A13: 8 | E13: =SUM('1'!E13+'2'!E13+'3'!E13+'4'!E13+'5'!E13+'6'!E13+'7'!E13) -> 149 | G13: =SUM('1'!G13+'2'!G13+'3'!G13+'4'!G13+'5'!G13+'6'!G13+'7'!G13) -> 76 | I13: =RANK(G13,$G$6:$G$50,1) -> 10
A14: 9 | E14: =SUM('1'!E14+'2'!E14+'3'!E14+'4'!E14+'5'!E14+'6'!E14+'7'!E14) -> 146 | G14: =SUM('1'!G14+'2'!G14+'3'!G14+'4'!G14+'5'!G14+'6'!G14+'7'!G14) -> 81 | I14: =RANK(G14,$G$6:$G$50,1) -> 12
A15: 10 | E15: =SUM('1'!E15+'2'!E15+'3'!E15+'4'!E15+'5'!E15+'6'!E15+'7'!E15) -> 3085 | G15: =SUM('1'!G15+'2'!G15+'3'!G15+'4'!G15+'5'!G15+'6'!G15+'7'!G15) -> 58 | I15: =RANK(G15,$G$6:$G$50,1) -> 9
A16: 11 | E16: =SUM('1'!E16+'2'!E16+'3'!E16+'4'!E16+'5'!E16+'6'!E16+'7'!E16) -> 10432 | G16: =SUM('1'!G16+'2'!G16+'3'!G16+'4'!G16+'5'!G16+'6'!G16+'7'!G16) -> 13 | I16: =RANK(G16,$G$6:$G$50,1) -> 2
A17: 12 | E17: =SUM('1'!E17+'2'!E17+'3'!E17+'4'!E17+'5'!E17+'6'!E17+'7'!E17) -> 6130 | G17: =SUM('1'!G17+'2'!G17+'3'!G17+'4'!G17+'5'!G17+'6'!G17+'7'!G17) -> 20 | I17: =RANK(G17,$G$6:$G$50,1) -> 3
A18: 13 | E18: =SUM('1'!E18+'2'!E18+'3'!E18+'4'!E18+'5'!E18+'6'!E18+'7'!E18) -> 1773 | G18: =SUM('1'!G18+'2'!G18+'3'!G18+'4'!G18+'5'!G18+'6'!G18+'7'!G18) -> 26 | I18: =RANK(G18,$G$6:$G$50,1) -> 4
