Workbook

Sheet Données
A1: A/C Type | B1: Type | C1: Document No | D1: Title | E1: Rev | F1: Date | G1: Partnumber | H1: exemple
A2: A330,A340 | B2: CMM | C2: 21-62-02 | D2: Rotary Actuator | E2: 0 | F2: 6/20/1992 | G2: 3128 | H2: =VLOOKUP(G2,base!A:I,8,TRUE) -> 0 | J2: Note, Les lignes qui fonctonnent ci après ont une correspondances exactent dans la Feuille Base
A3: A330,A340 | B3: CMM | C3: 27-50-50 | D3: Rotary Actuator Type A | E3: 2 | F3: 35043 | G3: 6975 | H3: =VLOOKUP(G3,base!A:I,8,TRUE) -> 0.03
A4: A330,A340 | B4: SB | C4: 5909193-29-001 | D4: P/N 5909193 - Changed Setting of Pressure Sensor | E4: 0 | F4: 9/27/1997 | G4: 5909193 | H4: =VLOOKUP(G4,base!A:I,8,TRUE) -> 0.06
A5: A330,A340 | B5: SB | C5: 1560A-29-01 | D5: Behaviour Improvement Over Time - Elimination of Stress Concentr | E5: 0 | F5: 11/14/2000 | G5: 5911326 | H5: =VLOOKUP(G5,base!A:I,8,TRUE) -> 0.09
A6: A330,A340 | B6: SB | C6: 697510-27-01 | D6: Redesign of Flap Rotary Actuator Type A - P/N 697510004 | E6: 0 | F6: 36592 | G6: 697510004 | H6: =VLOOKUP(G6,base!A:I,8,TRUE) -> 0.15
A7: A330,A340,A340-500/600 | B7: SB | C7: 697510-27-03 | D7: FLIGHT CONTROLS - Rotary Actuator Type A P/N 697510004 into P/N | E7: 2 | F7: 12/17/2009 | G7: 697510004 | H7: =VLOOKUP(G7,base!A:I,8,TRUE) -> 0.15
A8: A330,A340 | B8: SB | C8: 697511-27-01 | D8: Re-Design of Flap Rotary Actuator Type B - P/N 697511006 | E8: 0 | F8: 36592 | G8: 697511006 | H8: =VLOOKUP(G8,base!A:I,8,TRUE) -> 0.18
A9: A300,A300-600,A310 | B9: CMM | C9: 27-80-03 | D9: Krueger Actuator | E9: 5 | F9: 9/20/2013 | G9: 094B0000-01 | H9: =VLOOKUP(G9,base!A:I,8,TRUE) -> 0.21
A10: A300,A300-600,A310 | B10: SB | C10: 406A-52-01 | D10: Introduction of Modified Eye-End | E10: 0 | F10: 10/14/1993 | G10: 0A406-0000 | H10: =VLOOKUP(G10,base!A:I,8,TRUE) -> 0.27
A11: A300,A300-600,A310 | B11: CMM | C11: 52-33-11 | D11: Door Actuator | E11: 1 | F11: 11/18/1994 | G11: 0A406-0000 | H11: =VLOOKUP(G11,base!A:I,8,TRUE) -> 0.27
A12: A400M | B12: CRM | C12: AJ-A-21-52-46 | D12: WATER INJECTOR | E12: 1 | F12: 6/30/2014 | G12: 1091A0000-01 | H12: =VLOOKUP(G12,base!A:I,8,TRUE) -> 0.33
A13: A319,A320,A321,A330,A340,A340-500/600 | B13: CMM | C13: 21-52-35 | D13: Water Injector | E13: 2 | F13: 4/15/2009 | G13: 1091A0000-01 | H13: =VLOOKUP(G13,base!A:I,8,TRUE) -> 0.33 | J13: Problématique
A14: A300-600,A310 | B14: SB | C14: 1098A-52-01 | D14: Replacement of Piston Rod and Eye-End | E14: 1 | F14: 34829 | G14: 1098A0000-02 | H14: =VLOOKUP(G14,base!A:I,8,TRUE) -> 0.84666667 | J14: Trouver dans la feuille "base" le % correspondant à "Matu 12M" lorsque les caractéres des lignes de la colonne A concordent avec les caractéres de la ligne "Données" Part Number"
A15: A300-600,A310 | B15: CMM | C15: 52-33-10 | D15: Door Actuator | E15: 0 | F15: 34374 | G15: 1098A0000-02 | H15: =VLOOKUP(G15,base!A:I,8,TRUE) -> 0.84666667
A16: A300-600,A310 | B16: SB | C16: 1098A-52-02 | D16: Re-Design of Piston and Eye-End | E16: 1 | F16: 35524 | G16: 1098A0000-03 | H16: =VLOOKUP(G16,base!A:I,8,TRUE) -> 0.84666667
A17: A300-600,A310 | B17: SB | C17: 1098A-52-04 | D17: Reduction of Leakage from Valve Block P/N 1098A1000-02 | E17: 0 | F17: 7/31/2001 | G17: 1098A0000-04 | H17: =VLOOKUP(G17,base!A:I,8,TRUE) -> 0.84666667
A18: A300-600,A310 | B18: SB | C18: 1098A-52-05 | D18: Improved Preformed Packing | E18: 1 | F18: 8/23/2002 | G18: 1098A0000-04 | H18: =VLOOKUP(G18,base!A:I,8,TRUE) -> 0.84666667
A19: A300,A310 | B19: CMM | C19: 52-33-09 | D19: Door Actuator | E19: 4 | F19: 40854 | G19: 1098A0000-04 | H19: =VLOOKUP(G19,base!A:I,8,TRUE) -> 0.84666667
A20: A300,A310 | B20: CRM | C20: 52-33-09-RM | D20: Door Actuator | E20: 0 | F20: 6/27/2011 | G20: 1098A0000-04 | H20: =VLOOKUP(G20,base!A:I,8,TRUE) -> 0.84666667
A21: A319,A320,A321,A330,A340,BD100,Superjet 100 | B21: CMM | C21: 16342 | D21: SOLENOID VALVE | E21: 3 | F21: 4/30/2012 | G21: 5751A0000-01 | H21: =VLOOKUP(G21,base!A:I,8,TRUE) -> 0.57
A22: A330,A340,A340-500/600 | B22: SB | C22: 918A-27-01 | D22: Installation of Re-Designed Solenoid Valves 1111A0000-01 | E22: 0 | F22: 8/19/1993 | G22: 1106A0000-01 | H22: =VLOOKUP(G22,base!A:I,8,TRUE) -> 0.6
A23: A330,A340 | B23: CMM | C23: 18898 | D23: Solenoid Valve | E23: 0 | F23: 8/29/1996 | G23: 1155B0000-01 | H23: =VLOOKUP(G23,base!A:I,8,TRUE) -> 0.80257143
A24: A330 | B24: SB | C24: 11-811538-36-01 | D24: Improvement of the Mechanical Strength | E24: 0 | F24: 36260 | G24: 11-811538 | H24: =VLOOKUP(G24,base!A:I,8,TRUE) -> 0.80257143
A25: A330 | B25: SB | C25: 11-811538-36-02 | D25: Improvement of the Mechanical Strength for Core and Truss Assemb | E25: 0 | F25: 1/26/2000 | G25: 11-811538 | H25: =VLOOKUP(G25,base!A:I,8,TRUE) -> 0.80257143
A26: A330 | B26: CMM | C26: 36-11-32 | D26: Precooler Exchanger | E26: 4 | F26: 41642 | G26: 11-811538 | H26: =VLOOKUP(G26,base!A:I,8,TRUE) -> 0.80257143
A27: A319,A320,A321 | B27: CMM | C27: 36-11-42 | D27: Precooler Exchanger | E27: 4 | F27: 38364 | G27: 11-851154 | H27: =VLOOKUP(G27,base!A:I,8,TRUE) -> 0.80257143
A28: A319,A320,A321 | B28: SB | C28: 11-851154-36-01 | D28: Replace precooler with repaired unit fitted with improved protec | E28: 0 | F28: 3/15/2003 | G28: 11-851154-6 | H28: =VLOOKUP(G28,base!A:I,8,TRUE) -> 0.80257143
A29: A340 | B29: CMM | C29: 36-11-62 | D29: Precooler Exchanger | E29: 1 | F29: 12/15/1997 | G29: 11-851433 | H29: =VLOOKUP(G29,base!A:I,8,TRUE) -> 0.80257143
A30: A300,A300-600,A310 | B30: CMM | C30: 21-24-16 | D30: Non-Return Valve | E30: 0 | F30: 27766 | G30: 121102TA01 | H30: =VLOOKUP(G30,base!A:I,8,TRUE) -> 0.80257143
A31: A300 | B31: CMM | C31: 21-32-16 | D31: Electric Motor | E31: 4 | F31: 7/29/1998 | G31: 1221EB2 | H31: =VLOOKUP(G31,base!A:I,8,TRUE) -> 0.80257143
A32: A319,A320,A321 | B32: SB | C32: 1263A-21-01 | D32: Turbine Wheel Improvement | E32: 0 | F32: 36438 | G32: 1263A0000-02 | H32: =VLOOKUP(G32,base!A:I,8,TRUE) -> 0.24
A33: A319,A320,A321 | B33: SB | C33: 1263A-21-02 | D33: Inspection of the De-Icing Inlet Port | E33: 0 | F33: 8/31/2000 | G33: 1263A0000-03 | H33: =VLOOKUP(G33,base!A:I,8,TRUE) -> 0.24
A34: A318,A319,A320,A321 | B34: CMM | C34: 21-62-15 | D34: Trim-Air Check-Valve | E34: 5 | F34: 11/25/2009 | G34: 1298A0000-01 | H34: =VLOOKUP(G34,base!A:I,8,TRUE) -> 0.27
A35: A319,A320,A321 | B35: SB | C35: 1303-21-04-CN-1A | D35: New Valve Body | E35: 1A | F35: 1/30/2003 | G35: 1303A0000-00 | H35: =VLOOKUP(G35,base!A:I,8,TRUE) -> 0.05836874
A36: A319,A320,A321 | B36: SB | C36: 1303-21-04 | D36: New Valve Body | E36: 0 | F36: 11/15/2002 | G36: 1303A0000-01 | H36: =VLOOKUP(G36,base!A:I,8,TRUE) -> 0.05836874
A37: A319,A320,A321 | B37: SB | C37: 1303-21-05 | D37: Obsolescence of Current Guide Material | E37: 0 | F37: 9/20/2002 | G37: 1303A0000-01 | H37: =VLOOKUP(G37,base!A:I,8,TRUE) -> 0.05836874
A38: A319,A320,A321 | B38: CMM | C38: 21-51-14 | D38: Flow Control Valve | E38: 11 | F38: 41276 | G38: 1303A0000-01 | H38: =VLOOKUP(G38,base!A:I,8,TRUE) -> 0.05836874
A39: A319,A320,A321 | B39: SB | C39: 1303-21-03 | D39: Reliability Improvement - New Limitation Clapper | E39: 2 | F39: 9/20/2002 | G39: 1303A0000-02 | H39: =VLOOKUP(G39,base!A:I,8,TRUE) -> 0.05836874
A40: A319,A320,A321 | B40: SB | C40: 1303-21-06 | D40: Reliability Improvement by microswitch replacement | E40: 3 | F40: 11/18/2009 | G40: 1303A0000-02 | H40: =VLOOKUP(G40,base!A:I,8,TRUE) -> 0.05836874
...

Sheet base
A1: Partnumber | B1: QPA | C1: Program | D1: Garantee | E1: Mode calcul | F1: Value | G1: Last date | H1: Matu 12M | I1: Matu 24M
A2: 3128 | B2: 2 | C2: A300 | D2: 30000 | E2: MTBDE 6 month | F2: 25314 | G2: fev-15 | H2: 0 | I2: 0.12
A3: 6975 | B3: 14 | C3: A300-600 | D3: 2500 | E3: MTBDE 6 month | F3: 25114 | G3: fev-15 | H3: 0.03 | I3: 0.14
A4: 5909193 | B4: 1 | C4: A351 | D4: 45522 | E4: MTBDE 6 month | F4: 3544 | G4: fev-15 | H4: 0.06 | I4: 0.16
A5: 5911326 | B5: 5 | C5: A318 | D5: 15444 | E5: MTBDE 6 month | F5: 14457 | G5: fev-15 | H5: 0.09 | I5: 0.18
A6: 697510004 | B6: 8 | C6: A324 | D6: 622200 | E6: MTBDE 6 month | F6: 25314 | G6: fev-15 | H6: 0.12 | I6: 0.2
A7: 697510004 | B7: 4 | C7: A541 | D7: 98000 | E7: MTBDE 6 month | F7: 25114 | G7: fev-15 | H7: 0.15 | I7: 0.22
A8: 697511006 | B8: 6 | C8: A532 | D8: 44000 | E8: MTBDE 6 month | F8: 3544 | G8: fev-15 | H8: 0.18 | I8: 0.24
A9: 094B | B9: 7 | C9: A301 | D9: 440 | E9: MTBDE 6 month | F9: 14457 | G9: fev-15 | H9: 0.21 | I9: 0.26
A10: 0A406* | B10: 5 | C10: A300-601 | D10: 55100 | E10: MTBDE 6 month | F10: 25314 | G10: fev-15 | H10: 0.24 | I10: 0.28
A11: 0A406* | B11: 6 | C11: A351 | D11: 115945 | E11: MTBDE 6 month | F11: 25114 | G11: fev-15 | H11: 0.27 | I11: 0.3
A12: 1091A* | B12: 4 | C12: A318 | D12: 118840.53 | E12: MTBDE 6 month | F12: 3544 | G12: fev-15 | H12: 0.3 | I12: 0.32
A13: 1091A* | B13: 7 | C13: A324 | D13: 121736.07 | E13: MTBDE 6 month | F13: 14457 | G13: fev-15 | H13: 0.33 | I13: 0.34
A14: 1098A* | B14: 5 | C14: A541 | D14: 124631.6 | E14: MTBDE 6 month | F14: 25314 | G14: fev-15 | H14: 0.44 | I14: 0.74
A15: 1098A* | B15: 6 | C15: A532 | D15: 127527.13 | E15: MTBDE 6 month | F15: 25114 | G15: fev-15 | H15: 0.49666667 | I15: 0.88666667
A16: 1098A* | B16: 1 | C16: A302 | D16: 130422.67 | E16: MTBDE 6 month | F16: 3544 | G16: fev-15 | H16: 0.56666667 | I16: 0.47
A17: 1098A* | B17: 4.3714286 | C17: A300-602 | D17: 133318.2 | E17: MTBDE 6 month | F17: 14457 | G17: fev-15 | H17: 0.63666667 | I17: 0.78
A18: 1098A* | B18: 4.2428571 | C18: A351 | D18: 136213.73 | E18: MTBDE 6 month | F18: 25314 | G18: fev-15 | H18: 0.70666667 | I18: 0.85
A19: 1098A* | B19: 4.1142857 | C19: A318 | D19: 139109.27 | E19: MTBDE 6 month | F19: 25114 | G19: fev-15 | H19: 0.77666667 | I19: 0.98
A20: 1098A* | B20: 3.9857143 | C20: A324 | D20: 142004.8 | E20: MTBDE 6 month | F20: 3544 | G20: fev-15 | H20: 0.84666667 | I20: 0.89
... A49: 5751A* | B49: 3.8571429 | C49: A541 | D49: 144900.33 | E49: MTBDE 6 month | F49: 14457 | G49: fev-15 | H49: 0.57 | I49: 0.5
