Workbook

Sheet Feuille 1
C2: Ce qui fonctionne actuellement
C3: Ce qui ne fonctionne pas
A6: Hypothèses de Calcul | D6: Cases à remplir
A7: Recouvrement règles alu | D7: 0.5 | E7: m | G7: 2) | H7: Valeurs renvoyée par 'BASE DONNEE'
E9: Liste Règles alu
E10: 2.45 | F10: 2.9 | G10: 3.9 | H10: 4.9
A11: Longueur | B11: 8.27 | C11: =CEILING(B11,0.05) -> 8.3 | D11: 8.3 | E11: =LOOKUP(B11,'BASE DONNEE'!$H$6:$H$44,'BASE DONNEE'!$B$6:$B$44) -> 1 | F11: =LOOKUP(C11,'BASE DONNEE'!$H$6:$H$44,'BASE DONNEE'!$C$6:$C$44) -> 0 | G11: =LOOKUP(C11,'BASE DONNEE'!$H$6:$H$44,'BASE DONNEE'!$D$6:$D$44) -> 1 | H11: =LOOKUP(C11,'BASE DONNEE'!$H$6:$H$44,'BASE DONNEE'!$E$6:$E$44) -> 1 | I11: 3) | J11: Liste de matériel ligne 12 de BASE DONNEE
A12: Longueur | B12: 5.85 | C12: =CEILING(B12,0.05) -> 5.85 | E12: =LOOKUP(B12,'BASE DONNEE'!$H$6:$H$44,'BASE DONNEE'!$B$6:$B$44) -> 1 | F12: =LOOKUP(B12,'BASE DONNEE'!$H$6:$H$44,'BASE DONNEE'!$C$6:$C$44) -> 0 | G12: =LOOKUP(B12,'BASE DONNEE'!$H$6:$H$44,'BASE DONNEE'!$D$6:$D$44) -> 1 | H12: =LOOKUP(B12,'BASE DONNEE'!$H$6:$H$44,'BASE DONNEE'!$E$6:$E$44) -> 0
K14: Ne renvoit pas ligne 17 de BASE DONNEE ?
A15: 1) | B15: Recherche dans la colonne H de BASE DONNEE (au 0,05 près supérieur)
F16: (Peut être réduite au 0,10 près)

Sheet BASE DONNEE
I3: Fonction du recouvrement (D7 Feuille 1)
B4: Listes de règles alu(m) | J4: Ex: 3 éléments = 2 recouvrements
B5: 2.45 | C5: 2.9 | D5: 3.9 | E5: 4.9 | F5: Nombre | G5: Longueur théorique | H5: Longueur réelle
F6: =B6+C6+D6+E6 -> 0 | G6: =SUMPRODUCT($B$5:$E$5*B6:E6) -> 0 | H6: =IF(B6+C6+D6+E6>1,G6-(F6-1)*'Feuille 1'!$D$7,G6) -> 0
F7: =B7+C7+D7+E7 -> 0 | G7: =SUMPRODUCT($B$5:$E$5*B7:E7) -> 0 | H7: =IF(B7+C7+D7+E7>1,G7-(F7-1)*'Feuille 1'!$D$7,G7) -> 0
F8: =B8+C8+D8+E8 -> 0 | G8: =SUMPRODUCT($B$5:$E$5*B8:E8) -> 0 | H8: =IF(B8+C8+D8+E8>1,G8-(F8-1)*'Feuille 1'!$D$7,G8) -> 0
F9: =B9+C9+D9+E9 -> 0 | G9: =SUMPRODUCT($B$5:$E$5*B9:E9) -> 0 | H9: =IF(B9+C9+D9+E9>1,G9-(F9-1)*'Feuille 1'!$D$7,G9) -> 0
F10: =B10+C10+D10+E10 -> 0 | G10: =SUMPRODUCT($B$5:$E$5*B10:E10) -> 0 | H10: =IF(B10+C10+D10+E10>1,G10-(F10-1)*'Feuille 1'!$D$7,G10) -> 0
B11: 1 | F11: =B11+C11+D11+E11 -> 1 | G11: =SUMPRODUCT($B$5:$E$5*B11:E11) -> 2.45 | H11: =IF(B11+C11+D11+E11>1,G11-(F11-1)*'Feuille 1'!$D$7,G11) -> 2.45
C12: 1 | F12: =B12+C12+D12+E12 -> 1 | G12: =SUMPRODUCT($B$5:$E$5*B12:E12) -> 2.9 | H12: =IF(B12+C12+D12+E12>1,G12-(F12-1)*'Feuille 1'!$D$7,G12) -> 2.9
D13: 1 | F13: =B13+C13+D13+E13 -> 1 | G13: =SUMPRODUCT($B$5:$E$5*B13:E13) -> 3.9 | H13: =IF(B13+C13+D13+E13>1,G13-(F13-1)*'Feuille 1'!$D$7,G13) -> 3.9
B14: 2 | F14: =B14+C14+D14+E14 -> 2 | G14: =SUMPRODUCT($B$5:$E$5*B14:E14) -> 4.9 | H14: =IF(B14+C14+D14+E14>1,G14-(F14-1)*'Feuille 1'!$D$7,G14) -> 4.4
B15: 1 | C15: 1 | F15: =B15+C15+D15+E15 -> 2 | G15: =SUMPRODUCT($B$5:$E$5*B15:E15) -> 5.35 | H15: =IF(B15+C15+D15+E15>1,G15-(F15-1)*'Feuille 1'!$D$7,G15) -> 4.85
E16: 1 | F16: =B16+C16+D16+E16 -> 1 | G16: =SUMPRODUCT($B$5:$E$5*B16:E16) -> 4.9 | H16: =IF(B16+C16+D16+E16>1,G16-(F16-1)*'Feuille 1'!$D$7,G16) -> 4.9
C17: 2 | F17: =B17+C17+D17+E17 -> 2 | G17: =SUMPRODUCT($B$5:$E$5*B17:E17) -> 5.8 | H17: =IF(B17+C17+D17+E17>1,G17-(F17-1)*'Feuille 1'!$D$7,G17) -> 5.3
B18: 1 | D18: 1 | F18: =B18+C18+D18+E18 -> 2 | G18: =SUMPRODUCT($B$5:$E$5*B18:E18) -> 6.35 | H18: =IF(B18+C18+D18+E18>1,G18-(F18-1)*'Feuille 1'!$D$7,G18) -> 5.85
C19: 1 | D19: 1 | F19: =B19+C19+D19+E19 -> 2 | G19: =SUMPRODUCT($B$5:$E$5*B19:E19) -> 6.8 | H19: =IF(B19+C19+D19+E19>1,G19-(F19-1)*'Feuille 1'!$D$7,G19) -> 6.3
B20: 2 | C20: 1 | F20: =B20+C20+D20+E20 -> 3 | G20: =SUMPRODUCT($B$5:$E$5*B20:E20) -> 7.8 | H20: =IF(B20+C20+D20+E20>1,G20-(F20-1)*'Feuille 1'!$D$7,G20) -> 6.8
B21: 1 | E21: 1 | F21: =B21+C21+D21+E21 -> 2 | G21: =SUMPRODUCT($B$5:$E$5*B21:E21) -> 7.35 | H21: =IF(B21+C21+D21+E21>1,G21-(F21-1)*'Feuille 1'!$D$7,G21) -> 6.85
B22: 1 | C22: 2 | F22: =B22+C22+D22+E22 -> 3 | G22: =SUMPRODUCT($B$5:$E$5*B22:E22) -> 8.25 | H22: =IF(B22+C22+D22+E22>1,G22-(F22-1)*'Feuille 1'!$D$7,G22) -> 7.25
D23: 2 | F23: =B23+C23+D23+E23 -> 2 | G23: =SUMPRODUCT($B$5:$E$5*B23:E23) -> 7.8 | H23: =IF(B23+C23+D23+E23>1,G23-(F23-1)*'Feuille 1'!$D$7,G23) -> 7.3
C24: 1 | E24: 1 | F24: =B24+C24+D24+E24 -> 2 | G24: =SUMPRODUCT($B$5:$E$5*B24:E24) -> 7.8 | H24: =IF(B24+C24+D24+E24>1,G24-(F24-1)*'Feuille 1'!$D$7,G24) -> 7.3
B25: 1 | C25: 1 | D25: 1 | F25: =B25+C25+D25+E25 -> 3 | G25: =SUMPRODUCT($B$5:$E$5*B25:E25) -> 9.25 | H25: =IF(B25+C25+D25+E25>1,G25-(F25-1)*'Feuille 1'!$D$7,G25) -> 8.25
D26: 1 | E26: 1 | F26: =B26+C26+D26+E26 -> 2 | G26: =SUMPRODUCT($B$5:$E$5*B26:E26) -> 8.8 | H26: =IF(B26+C26+D26+E26>1,G26-(F26-1)*'Feuille 1'!$D$7,G26) -> 8.3
B27: 1 | D27: 2 | F27: =B27+C27+D27+E27 -> 3 | G27: =SUMPRODUCT($B$5:$E$5*B27:E27) -> 10.25 | H27: =IF(B27+C27+D27+E27>1,G27-(F27-1)*'Feuille 1'!$D$7,G27) -> 9.25
E28: 2 | F28: =B28+C28+D28+E28 -> 2 | G28: =SUMPRODUCT($B$5:$E$5*B28:E28) -> 9.8 | H28: =IF(B28+C28+D28+E28>1,G28-(F28-1)*'Feuille 1'!$D$7,G28) -> 9.3
B29: 2 | C29: 1 | D29: 1 | F29: =B29+C29+D29+E29 -> 4 | G29: =SUMPRODUCT($B$5:$E$5*B29:E29) -> 11.7 | H29: =IF(B29+C29+D29+E29>1,G29-(F29-1)*'Feuille 1'!$D$7,G29) -> 10.2
B30: 1 | D30: 1 | E30: 1 | F30: =B30+C30+D30+E30 -> 3 | G30: =SUMPRODUCT($B$5:$E$5*B30:E30) -> 11.25 | H30: =IF(B30+C30+D30+E30>1,G30-(F30-1)*'Feuille 1'!$D$7,G30) -> 10.25
B31: 1 | C31: 2 | D31: 1 | F31: =B31+C31+D31+E31 -> 4 | G31: =SUMPRODUCT($B$5:$E$5*B31:E31) -> 12.15 | H31: =IF(B31+C31+D31+E31>1,G31-(F31-1)*'Feuille 1'!$D$7,G31) -> 10.65
C32: 1 | D32: 1 | E32: 1 | F32: =B32+C32+D32+E32 -> 3 | G32: =SUMPRODUCT($B$5:$E$5*B32:E32) -> 11.7 | H32: =IF(B32+C32+D32+E32>1,G32-(F32-1)*'Feuille 1'!$D$7,G32) -> 10.7
B33: 1 | E33: 2 | F33: =B33+C33+D33+E33 -> 3 | G33: =SUMPRODUCT($B$5:$E$5*B33:E33) -> 12.25 | H33: =IF(B33+C33+D33+E33>1,G33-(F33-1)*'Feuille 1'!$D$7,G33) -> 11.25
B34: 1 | C34: 1 | D34: 2 | F34: =B34+C34+D34+E34 -> 4 | G34: =SUMPRODUCT($B$5:$E$5*B34:E34) -> 13.15 | H34: =IF(B34+C34+D34+E34>1,G34-(F34-1)*'Feuille 1'!$D$7,G34) -> 11.65
B35: 1 | C35: 1 | D35: 1 | E35: 1 | F35: =B35+C35+D35+E35 -> 4 | G35: =SUMPRODUCT($B$5:$E$5*B35:E35) -> 14.15 | H35: =IF(B35+C35+D35+E35>1,G35-(F35-1)*'Feuille 1'!$D$7,G35) -> 12.65
B36: 1 | C36: 1 | E36: 2 | F36: =B36+C36+D36+E36 -> 4 | G36: =SUMPRODUCT($B$5:$E$5*B36:E36) -> 15.15 | H36: =IF(B36+C36+D36+E36>1,G36-(F36-1)*'Feuille 1'!$D$7,G36) -> 13.65 | J36: Jusqu'à la limite de 10 règles de 4,90 et pas plus de 3 en plus pour les autres longueurs
B37: 2 | C37: 1 | D37: 1 | E37: 1 | F37: =B37+C37+D37+E37 -> 5 | G37: =SUMPRODUCT($B$5:$E$5*B37:E37) -> 16.6 | H37: =IF(B37+C37+D37+E37>1,G37-(F37-1)*'Feuille 1'!$D$7,G37) -> 14.6
B38: 1 | C38: 2 | D38: 1 | E38: 1 | F38: =B38+C38+D38+E38 -> 5 | G38: =SUMPRODUCT($B$5:$E$5*B38:E38) -> 17.05 | H38: =IF(B38+C38+D38+E38>1,G38-(F38-1)*'Feuille 1'!$D$7,G38) -> 15.05
B39: 1 | C39: 1 | D39: 2 | E39: 1 | F39: =B39+C39+D39+E39 -> 5 | G39: =SUMPRODUCT($B$5:$E$5*B39:E39) -> 18.05 | H39: =IF(B39+C39+D39+E39>1,G39-(F39-1)*'Feuille 1'!$D$7,G39) -> 16.05
B40: 1 | C40: 1 | D40: 1 | E40: 2 | F40: =B40+C40+D40+E40 -> 5 | G40: =SUMPRODUCT($B$5:$E$5*B40:E40) -> 19.05 | H40: =IF(B40+C40+D40+E40>1,G40-(F40-1)*'Feuille 1'!$D$7,G40) -> 17.05
B41: 2 | C41: 2 | D41: 2 | E41: 1 | F41: =B41+C41+D41+E41 -> 7 | G41: =SUMPRODUCT($B$5:$E$5*B41:E41) -> 23.4 | H41: =IF(B41+C41+D41+E41>1,G41-(F41-1)*'Feuille 1'!$D$7,G41) -> 20.4 | J41: Eliminer les cas où les 4 Types sont utilisés
D42: 2 | E42: 3 | F42: =B42+C42+D42+E42 -> 5 | G42: =SUMPRODUCT($B$5:$E$5*B42:E42) -> 22.5 | H42: =IF(B42+C42+D42+E42>1,G42-(F42-1)*'Feuille 1'!$D$7,G42) -> 20.5 | J42: Privilégier le N le plus petit possible pour les longueurs proches
C43: 2 | E43: 10 | F43: =B43+C43+D43+E43 -> 12 | G43: =SUMPRODUCT($B$5:$E$5*B43:E43) -> 54.8 | H43: =IF(B43+C43+D43+E43>1,G43-(F43-1)*'Feuille 1'!$D$7,G43) -> 49.3
B44: 1 | D44: 2 | E44: 10 | F44: =B44+C44+D44+E44 -> 13 | G44: =SUMPRODUCT($B$5:$E$5*B44:E44) -> 59.25 | H44: =IF(B44+C44+D44+E44>1,G44-(F44-1)*'Feuille 1'!$D$7,G44) -> 53.25
C45: …
