Workbook

Sheet AN
A1: Libellé | B1: Qté | C1: Libellé hors tirets et espaces | D1: présence dans AA ? | E1: quantité dans AN ? | F1: écart sur quantité
A2: ABC10902 | B2: 6 | C2: =SUBSTITUTE(SUBSTITUTE(A2," ",""),"-","") -> ABC10902 | D2: =IFERROR(MATCH(C2,AA!C:C,0),"absent") -> 2 | E2: =IF(D2="absent","",INDEX(AA!B:B,D2)) -> 6 | F2: =IF(D2="absent","",E2-B2) -> 0
A3: ABF112 | B3: 2 | C3: =SUBSTITUTE(SUBSTITUTE(A3," ",""),"-","") -> ABF112 | D3: =IFERROR(MATCH(C3,AA!C:C,0),"absent") -> 3 | E3: =IF(D3="absent","",INDEX(AA!B:B,D3)) -> 2 | F3: =IF(D3="absent","",E3-B3) -> 0
A4: ABF112 | B4: 15 | C4: =SUBSTITUTE(SUBSTITUTE(A4," ",""),"-","") -> ABF112 | D4: =IFERROR(MATCH(C4,AA!C:C,0),"absent") -> 3 | E4: =IF(D4="absent","",INDEX(AA!B:B,D4)) -> 2 | F4: =IF(D4="absent","",E4-B4) -> -13
A5: ACE110 | B5: 3 | C5: =SUBSTITUTE(SUBSTITUTE(A5," ",""),"-","") -> ACE110 | D5: =IFERROR(MATCH(C5,AA!C:C,0),"absent") -> 4 | E5: =IF(D5="absent","",INDEX(AA!B:B,D5)) -> 15 | F5: =IF(D5="absent","",E5-B5) -> 12
A6: ACO133 | B6: 2 | C6: =SUBSTITUTE(SUBSTITUTE(A6," ",""),"-","") -> ACO133 | D6: =IFERROR(MATCH(C6,AA!C:C,0),"absent") -> absent | E6: =IF(D6="absent","",INDEX(AA!B:B,D6)) | F6: =IF(D6="absent","",E6-B6)
A7: ACU1022 | B7: 2 | C7: =SUBSTITUTE(SUBSTITUTE(A7," ",""),"-","") -> ACU1022 | D7: =IFERROR(MATCH(C7,AA!C:C,0),"absent") -> absent | E7: =IF(D7="absent","",INDEX(AA!B:B,D7)) | F7: =IF(D7="absent","",E7-B7)
A8: ACU131 | B8: 4 | C8: =SUBSTITUTE(SUBSTITUTE(A8," ",""),"-","") -> ACU131 | D8: =IFERROR(MATCH(C8,AA!C:C,0),"absent") -> absent | E8: =IF(D8="absent","",INDEX(AA!B:B,D8)) | F8: =IF(D8="absent","",E8-B8)
A9: ACU131 | B9: 2 | C9: =SUBSTITUTE(SUBSTITUTE(A9," ",""),"-","") -> ACU131 | D9: =IFERROR(MATCH(C9,AA!C:C,0),"absent") -> absent | E9: =IF(D9="absent","",INDEX(AA!B:B,D9)) | F9: =IF(D9="absent","",E9-B9)
A10: ACU131 | B10: 3 | C10: =SUBSTITUTE(SUBSTITUTE(A10," ",""),"-","") -> ACU131 | D10: =IFERROR(MATCH(C10,AA!C:C,0),"absent") -> absent | E10: =IF(D10="absent","",INDEX(AA!B:B,D10)) | F10: =IF(D10="absent","",E10-B10)
A11: ACU131 | B11: 2 | C11: =SUBSTITUTE(SUBSTITUTE(A11," ",""),"-","") -> ACU131 | D11: =IFERROR(MATCH(C11,AA!C:C,0),"absent") -> absent | E11: =IF(D11="absent","",INDEX(AA!B:B,D11)) | F11: =IF(D11="absent","",E11-B11)
A12: ACU131 | B12: 1 | C12: =SUBSTITUTE(SUBSTITUTE(A12," ",""),"-","") -> ACU131 | D12: =IFERROR(MATCH(C12,AA!C:C,0),"absent") -> absent | E12: =IF(D12="absent","",INDEX(AA!B:B,D12)) | F12: =IF(D12="absent","",E12-B12)
A13: ACV101 | B13: 1 | C13: =SUBSTITUTE(SUBSTITUTE(A13," ",""),"-","") -> ACV101 | D13: =IFERROR(MATCH(C13,AA!C:C,0),"absent") -> absent | E13: =IF(D13="absent","",INDEX(AA!B:B,D13)) | F13: =IF(D13="absent","",E13-B13)
... A23: AFB140 | B23: 13 | C23: =SUBSTITUTE(SUBSTITUTE(A23," ",""),"-","") -> AFB140 | D23: =IFERROR(MATCH(C23,AA!C:C,0),"absent") -> absent | E23: =IF(D23="absent","",INDEX(AA!B:B,D23)) | F23: =IF(D23="absent","",E23-B23)

Sheet AA
A1: Libellé | B1: Qté | C1: Libellé hors tirets et espaces | D1: présence dans AN ? | E1: quantité dans AN ? | F1: écart sur quantité
A2: ABC109-02 | B2: 6 | C2: =SUBSTITUTE(SUBSTITUTE(A2," ",""),"-","") -> ABC10902 | D2: =IFERROR(MATCH(C2,AN!C:C,0),"absent") -> 2 | E2: =IF(D2="absent","",INDEX(AN!B:B,D2)) -> 6 | F2: =IF(D2="absent","",E2-B2) -> 0
A3: ABF112 | B3: 2 | C3: =SUBSTITUTE(SUBSTITUTE(A3," ",""),"-","") -> ABF112 | D3: =IFERROR(MATCH(C3,AN!C:C,0),"absent") -> 3 | E3: =IF(D3="absent","",INDEX(AN!B:B,D3)) -> 2 | F3: =IF(D3="absent","",E3-B3) -> 0
A4: ACE110 | B4: 15 | C4: =SUBSTITUTE(SUBSTITUTE(A4," ",""),"-","") -> ACE110 | D4: =IFERROR(MATCH(C4,AN!C:C,0),"absent") -> 5 | E4: =IF(D4="absent","",INDEX(AN!B:B,D4)) -> 3 | F4: =IF(D4="absent","",E4-B4) -> -12
A5: ACE120 | B5: 3 | C5: =SUBSTITUTE(SUBSTITUTE(A5," ",""),"-","") -> ACE120 | D5: =IFERROR(MATCH(C5,AN!C:C,0),"absent") -> absent | E5: =IF(D5="absent","",INDEX(AN!B:B,D5)) | F5: =IF(D5="absent","",E5-B5)
A6: AHF101 | B6: 2 | C6: =SUBSTITUTE(SUBSTITUTE(A6," ",""),"-","") -> AHF101 | D6: =IFERROR(MATCH(C6,AN!C:C,0),"absent") -> absent | E6: =IF(D6="absent","",INDEX(AN!B:B,D6)) | F6: =IF(D6="absent","",E6-B6)
A7: AHJ110-30 | B7: 2 | C7: =SUBSTITUTE(SUBSTITUTE(A7," ",""),"-","") -> AHJ11030 | D7: =IFERROR(MATCH(C7,AN!C:C,0),"absent") -> absent | E7: =IF(D7="absent","",INDEX(AN!B:B,D7)) | F7: =IF(D7="absent","",E7-B7)
A8: AJC103 | B8: 4 | C8: =SUBSTITUTE(SUBSTITUTE(A8," ",""),"-","") -> AJC103 | D8: =IFERROR(MATCH(C8,AN!C:C,0),"absent") -> absent | E8: =IF(D8="absent","",INDEX(AN!B:B,D8)) | F8: =IF(D8="absent","",E8-B8)
A9: AJE001 | B9: 2 | C9: =SUBSTITUTE(SUBSTITUTE(A9," ",""),"-","") -> AJE001 | D9: =IFERROR(MATCH(C9,AN!C:C,0),"absent") -> absent | E9: =IF(D9="absent","",INDEX(AN!B:B,D9)) | F9: =IF(D9="absent","",E9-B9)
A10: AJF109 | B10: 3 | C10: =SUBSTITUTE(SUBSTITUTE(A10," ",""),"-","") -> AJF109 | D10: =IFERROR(MATCH(C10,AN!C:C,0),"absent") -> absent | E10: =IF(D10="absent","",INDEX(AN!B:B,D10)) | F10: =IF(D10="absent","",E10-B10)
A11: AJF111 | B11: 2 | C11: =SUBSTITUTE(SUBSTITUTE(A11," ",""),"-","") -> AJF111 | D11: =IFERROR(MATCH(C11,AN!C:C,0),"absent") -> absent | E11: =IF(D11="absent","",INDEX(AN!B:B,D11)) | F11: =IF(D11="absent","",E11-B11)
A12: AJF119 | B12: 1 | C12: =SUBSTITUTE(SUBSTITUTE(A12," ",""),"-","") -> AJF119 | D12: =IFERROR(MATCH(C12,AN!C:C,0),"absent") -> absent | E12: =IF(D12="absent","",INDEX(AN!B:B,D12)) | F12: =IF(D12="absent","",E12-B12)
A13: ALB155 | B13: 1 | C13: =SUBSTITUTE(SUBSTITUTE(A13," ",""),"-","") -> ALB155 | D13: =IFERROR(MATCH(C13,AN!C:C,0),"absent") -> absent | E13: =IF(D13="absent","",INDEX(AN!B:B,D13)) | F13: =IF(D13="absent","",E13-B13)
... A27: GHJ110-15 | B27: 2 | C27: =SUBSTITUTE(SUBSTITUTE(A27," ",""),"-","") -> GHJ11015 | D27: =IFERROR(MATCH(C27,AN!C:C,0),"absent") -> absent | E27: =IF(D27="absent","",INDEX(AN!B:B,D27)) | F27: =IF(D27="absent","",E27-B27)
