Workbook
Name Liste: 'Marketing_ Global'!$H$95:$H$98
Name Status: '[1]Task list'!$G$4:$G$6

Sheet Marketing_ Global
E2: Do not modify column B or line 9
E3: Blue lines are output lines and should not be modified
E4: Grey lines are calculated lines. However, you can change the formulas.
E5: Template should be filled in one currency only : EUR, USD, AUD or HKD
E6: You can insert as many lines as you wish for your calculations, however, there must be only one blue line per category
E8: P&L | H8: 1 | I8: 2 | J8: 3 | K8: 4 | L8: 5 | M8: 6 | N8: 7 | O8: 8 | P8: 9 | Q8: 10 | R8: 11 | S8: 12 | T8: 13 | U8: 14 | V8: 15
H9: Oct 19 | I9: Nov 19 | J9: Dec 19 | K9: Jan 20 | L9: Feb 20 | M9: Mar 20 | N9: Apr 20 | O9: May 20 | P9: Jun 20 | Q9: Jul 20 | R9: Aug 20 | S9: Sep 20 | T9: Oct 20 | U9: Nov 20 | V9: Dec 20
B11: Mapping | E11: € in thousands | G11: Assumption | H11: Oct 19 Budget | I11: Nov 19 Budget | J11: Dec 19 Budget | K11: Jan 20 Budget | L11: Feb 20 Budget | M11: Mar 20 Budget | N11: Apr 20 Budget | O11: May 20 Budget | P11: Jun 20 Budget | Q11: Jul 20 Budget | R11: Aug 20 Budget | S11: Sep 20 Budget | T11: Oct 20 Budget | U11: Nov 20 Budget | V11: Dec 20 Budget | X11: Comments / Explanation
B13: A | E13: A | H13: =SUM(d:f!H13) -> 1 | I13: =SUM(d:f!I13) -> 0 | J13: =SUM(d:f!J13) -> 0 | K13: =SUM(d:f!K13) -> 0 | L13: =SUM(d:f!L13) -> 0 | M13: =SUM(d:f!M13) -> 0 | N13: =SUM(d:f!N13) -> 0 | O13: =SUM(d:f!O13) -> 0 | ... V13: =SUM(d:f!V13) -> 0
B14: B | E14: B | H14: =SUM(d:f!H14) -> 1010 | I14: =SUM(d:f!I14) -> 0 | J14: =SUM(d:f!J14) -> 0 | K14: =SUM(d:f!K14) -> 0 | L14: =SUM(d:f!L14) -> 0 | M14: =SUM(d:f!M14) -> 0 | N14: =SUM(d:f!N14) -> 0 | O14: =SUM(d:f!O14) -> 0 | ... V14: =SUM(d:f!V14) -> 0
B15: C | E15: C | H15: =SUM(d:f!H15) -> 0 | I15: =SUM(d:f!I15) -> 0 | J15: =SUM(d:f!J15) -> 0 | K15: =SUM(d:f!K15) -> 0 | L15: =SUM(d:f!L15) -> 0 | M15: =SUM(d:f!M15) -> 0 | N15: =SUM(d:f!N15) -> 0 | O15: =SUM(d:f!O15) -> 0 | ... V15: =SUM(d:f!V15) -> 0
B16: D | E16: D | H16: =SUM(d:f!H16) -> 0 | I16: =SUM(d:f!I16) -> 0 | J16: =SUM(d:f!J16) -> 0 | K16: =SUM(d:f!K16) -> 0 | L16: =SUM(d:f!L16) -> 0 | M16: =SUM(d:f!M16) -> 0 | N16: =SUM(d:f!N16) -> 0 | O16: =SUM(d:f!O16) -> 0 | ... V16: =SUM(d:f!V16) -> 0
B17: E | E17: E | H17: =SUM(d:f!H17) -> 0 | I17: =SUM(d:f!I17) -> 0 | J17: =SUM(d:f!J17) -> 0 | K17: =SUM(d:f!K17) -> 0 | L17: =SUM(d:f!L17) -> 0 | M17: =SUM(d:f!M17) -> 0 | N17: =SUM(d:f!N17) -> 0 | O17: =SUM(d:f!O17) -> 0 | ... V17: =SUM(d:f!V17) -> 0
C18: =E18 -> Production cost - Scanbox | E18: Production cost - Scanbox | H18: =SUM(H13:H17) -> 1011 | I18: =SUM(I13:I17) -> 0 | J18: =SUM(J13:J17) -> 0 | K18: =SUM(K13:K17) -> 0 | L18: =SUM(L13:L17) -> 0 | M18: =SUM(M13:M17) -> 0 | N18: =SUM(N13:N17) -> 0 | O18: =SUM(O13:O17) -> 0 | ... V18: =SUM(V13:V17) -> 0
B19: F | E19: F | H19: =SUM(d:f!H19) -> 0 | I19: =SUM(d:f!I19) -> 0 | J19: =SUM(d:f!J19) -> 0 | K19: =SUM(d:f!K19) -> 0 | L19: =SUM(d:f!L19) -> 0 | M19: =SUM(d:f!M19) -> 0 | N19: =SUM(d:f!N19) -> 0 | O19: =SUM(d:f!O19) -> 0 | ... V19: =SUM(d:f!V19) -> 0
B20: G | E20: G | H20: =SUM(d:f!H20) -> 0 | I20: =SUM(d:f!I20) -> 0 | J20: =SUM(d:f!J20) -> 0 | K20: =SUM(d:f!K20) -> 0 | L20: =SUM(d:f!L20) -> 0 | M20: =SUM(d:f!M20) -> 0 | N20: =SUM(d:f!N20) -> 0 | O20: =SUM(d:f!O20) -> 0 | ... V20: =SUM(d:f!V20) -> 0
B21: H | E21: H | H21: =SUM(d:f!H21) -> 0 | I21: =SUM(d:f!I21) -> 0 | J21: =SUM(d:f!J21) -> 0 | K21: =SUM(d:f!K21) -> 0 | L21: =SUM(d:f!L21) -> 0 | M21: =SUM(d:f!M21) -> 0 | N21: =SUM(d:f!N21) -> 0 | O21: =SUM(d:f!O21) -> 0 | ... V21: =SUM(d:f!V21) -> 0
B22: I | E22: I | H22: =SUM(d:f!H22) -> 0 | I22: =SUM(d:f!I22) -> 0 | J22: =SUM(d:f!J22) -> 0 | K22: =SUM(d:f!K22) -> 0 | L22: =SUM(d:f!L22) -> 0 | M22: =SUM(d:f!M22) -> 0 | N22: =SUM(d:f!N22) -> 0 | O22: =SUM(d:f!O22) -> 0 | ... V22: =SUM(d:f!V22) -> 0
B23: J | E23: J | H23: =SUM(d:f!H23) -> 0 | I23: =SUM(d:f!I23) -> 0 | J23: =SUM(d:f!J23) -> 0 | K23: =SUM(d:f!K23) -> 0 | L23: =SUM(d:f!L23) -> 0 | M23: =SUM(d:f!M23) -> 0 | N23: =SUM(d:f!N23) -> 0 | O23: =SUM(d:f!O23) -> 0 | ... V23: =SUM(d:f!V23) -> 0
C24: =E24 -> Production cost - Starterkit | E24: Production cost - Starterkit | H24: =SUM(H19:H23) -> 0 | I24: =SUM(I19:I23) -> 0 | J24: =SUM(J19:J23) -> 0 | K24: =SUM(K19:K23) -> 0 | L24: =SUM(L19:L23) -> 0 | M24: =SUM(M19:M23) -> 0 | N24: =SUM(N19:N23) -> 0 | O24: =SUM(O19:O23) -> 0 | ... V24: =SUM(V19:V23) -> 0
B25: K | E25: K | H25: =SUM(d:f!H25) -> 0 | I25: =SUM(d:f!I25) -> 0 | J25: =SUM(d:f!J25) -> 0 | K25: =SUM(d:f!K25) -> 0 | L25: =SUM(d:f!L25) -> 0 | M25: =SUM(d:f!M25) -> 0 | N25: =SUM(d:f!N25) -> 0 | O25: =SUM(d:f!O25) -> 0 | ... V25: =SUM(d:f!V25) -> 0
B26: L | E26: L | H26: =SUM(d:f!H26) -> 0 | I26: =SUM(d:f!I26) -> 0 | J26: =SUM(d:f!J26) -> 0 | K26: =SUM(d:f!K26) -> 0 | L26: =SUM(d:f!L26) -> 0 | M26: =SUM(d:f!M26) -> 0 | N26: =SUM(d:f!N26) -> 0 | O26: =SUM(d:f!O26) -> 0 | ... V26: =SUM(d:f!V26) -> 0
B27: M | E27: M | H27: =SUM(d:f!H27) -> 0 | I27: =SUM(d:f!I27) -> 0 | J27: =SUM(d:f!J27) -> 0 | K27: =SUM(d:f!K27) -> 0 | L27: =SUM(d:f!L27) -> 0 | M27: =SUM(d:f!M27) -> 0 | N27: =SUM(d:f!N27) -> 0 | O27: =SUM(d:f!O27) -> 0 | ... V27: =SUM(d:f!V27) -> 0
B28: N | E28: N | H28: =SUM(d:f!H28) -> 0 | I28: =SUM(d:f!I28) -> 0 | J28: =SUM(d:f!J28) -> 0 | K28: =SUM(d:f!K28) -> 0 | L28: =SUM(d:f!L28) -> 0 | M28: =SUM(d:f!M28) -> 0 | N28: =SUM(d:f!N28) -> 0 | O28: =SUM(d:f!O28) -> 0 | ... V28: =SUM(d:f!V28) -> 0
B29: O | E29: O | H29: =SUM(d:f!H29) -> 0 | I29: =SUM(d:f!I29) -> 0 | J29: =SUM(d:f!J29) -> 0 | K29: =SUM(d:f!K29) -> 0 | L29: =SUM(d:f!L29) -> 0 | M29: =SUM(d:f!M29) -> 0 | N29: =SUM(d:f!N29) -> 0 | O29: =SUM(d:f!O29) -> 0 | ... V29: =SUM(d:f!V29) -> 0
C30: =E30 -> Production cost - Cheek retractor | E30: Production cost - Cheek retractor | H30: =SUM(H25:H29) -> 0 | I30: =SUM(I25:I29) -> 0 | J30: =SUM(J25:J29) -> 0 | K30: =SUM(K25:K29) -> 0 | L30: =SUM(L25:L29) -> 0 | M30: =SUM(M25:M29) -> 0 | N30: =SUM(N25:N29) -> 0 | O30: =SUM(O25:O29) -> 0 | ... V30: =SUM(V25:V29) -> 0
E31: Cost of Goods Sold | H31: =SUM(H18,H24,H30) -> 1011 | I31: =SUM(I18,I24,I30) -> 0 | J31: =SUM(J18,J24,J30) -> 0 | K31: =SUM(K18,K24,K30) -> 0 | L31: =SUM(L18,L24,L30) -> 0 | M31: =SUM(M18,M24,M30) -> 0 | N31: =SUM(N18,N24,N30) -> 0 | O31: =SUM(O18,O24,O30) -> 0 | ... V31: =SUM(V18,V24,V30) -> 0
B33: Advertising - Offline | E33: Advertising - Offline
B34: Advertising - Online | E34: Advertising - Online
C35: Advertising expenses | E35: Advertising expenses | H35: =SUM(H33:H34) -> 0 | I35: =SUM(I33:I34) -> 0 | J35: =SUM(J33:J34) -> 0 | K35: =SUM(K33:K34) -> 0 | L35: =SUM(L33:L34) -> 0 | M35: =SUM(M33:M34) -> 0 | N35: =SUM(N33:N34) -> 0 | O35: =SUM(O33:O34) -> 0 | ... V35: =SUM(V33:V34) -> 0
B37: Rental - Booth | E37: Rental - Booth
B38: Booth customization | E38: Booth customization
C39: Event costs | E39: Event costs | H39: =SUM(H37:H38) -> 0 | I39: =SUM(I37:I38) -> 0 | J39: =SUM(J37:J38) -> 0 | K39: =SUM(K37:K38) -> 0 | L39: =SUM(L37:L38) -> 0 | M39: =SUM(M37:M38) -> 0 | N39: =SUM(N37:N38) -> 0 | O39: =SUM(O37:O38) -> 0 | ... V39: =SUM(V37:V38) -> 0
B40: Type of fees (ex: auditor fees) | E40: Type of fees (ex: auditor fees)
B41: Type of fees (ex: translation fees) | E41: Type of fees (ex: translation fees)
B42: Type of fees (ex: KOL) | E42: Type of fees (ex: KOL)
B43: Type of fees (ex: developer fees) | E43: Type of fees (ex: developer fees)
C44: Professional fees | E44: Professional fees | H44: =SUM(H40,H41,H43) -> 0 | I44: =SUM(I40,I41,I43) -> 0 | J44: =SUM(J40,J41,J43) -> 0 | K44: =SUM(K40,K41,K43) -> 0 | L44: =SUM(L40,L41,L43) -> 0 | M44: =SUM(M40,M41,M43) -> 0 | N44: =SUM(N40,N41,N43) -> 0 | O44: =SUM(O40,O41,O43) -> 0 | ... V44: =SUM(V40,V41,V43) -> 0
B46: Software 1 | E46: Software 1
B47: Software 2 | E47: Software 2
B48: Software 3 | E48: Software 3
C49: Software costs | E49: Software costs | H49: =SUM(H46:H48) -> 0 | I49: =SUM(I46:I48) -> 0 | J49: =SUM(J46:J48) -> 0 | K49: =SUM(K46:K48) -> 0 | L49: =SUM(L46:L48) -> 0 | M49: =SUM(M46:M48) -> 0 | N49: =SUM(N46:N48) -> 0 | O49: =SUM(O46:O48) -> 0 | ... V49: =SUM(V46:V48) -> 0
C51: Patent fees | E51: Patent fees
B53: Meals & Entertainment - Staff | E53: Meals & Entertainment - Staff
B54: Meals & Entertainment - External | E54: Meals & Entertainment - External
C55: Meals & Entertainment | E55: Meals & Entertainment | H55: =SUM(H53:H54) -> 0 | I55: =SUM(I53:I54) -> 0 | J55: =SUM(J53:J54) -> 0 | K55: =SUM(K53:K54) -> 0 | L55: =SUM(L53:L54) -> 0 | M55: =SUM(M53:M54) -> 0 | N55: =SUM(N53:N54) -> 0 | O55: =SUM(O53:O54) -> 0 | ... V55: =SUM(V53:V54) -> 0
B56: Rental - Office | E56: Rental - Office
B57: Rental - Furniture | E57: Rental - Furniture
B58: Utilities (Water & Electricity) | E58: Utilities (Water & Electricity)
B59: Office maintenance | E59: Office maintenance
C60: Rental and offices costs | E60: Rental and offices costs | H60: =SUM(H56:H59) -> 0 | I60: =SUM(I56:I59) -> 0 | J60: =SUM(J56:J59) -> 0 | K60: =SUM(K56:K59) -> 0 | L60: =SUM(L56:L59) -> 0 | M60: =SUM(M56:M59) -> 0 | N60: =SUM(N56:N59) -> 0 | O60: =SUM(O56:O59) -> 0 | ... V60: =SUM(V56:V59) -> 0
B61: Space Rental | E61: Space Rental
B62: Goodies | E62: Goodies
B63: Brochures | E63: Brochures
B64: Other marketing costs | E64: Other marketing costs
C65: Marketing costs | E65: Marketing costs | H65: =SUM(H61:H64) -> 0 | I65: =SUM(I61:I64) -> 0 | J65: =SUM(J61:J64) -> 0 | K65: =SUM(K61:K64) -> 0 | L65: =SUM(L61:L64) -> 0 | M65: =SUM(M61:M64) -> 0 | N65: =SUM(N61:N64) -> 0 | O65: =SUM(O61:O64) -> 0 | ... V65: =SUM(V61:V64) -> 0
B67: Software 2 | E67: Software 2
B68: Software 3 | E68: Software 3
C69: Software costs | E69: Software costs | H69: =SUM(H67:H68) -> 0 | I69: =SUM(I67:I68) -> 0 | J69: =SUM(J67:J68) -> 0 | K69: =SUM(K67:K68) -> 0 | L69: =SUM(L67:L68) -> 0 | M69: =SUM(M67:M68) -> 0 | N69: =SUM(N67:N68) -> 0 | O69: =SUM(O67:O68) -> 0 | ... V69: =SUM(V67:V68) -> 0
C71: Server costs | E71: Server costs
B72: Internet | E72: Internet
B73: Phone | E73: Phone
C74: Phone and internet | E74: Phone and internet | H74: =SUM(H72:H73) -> 0 | I74: =SUM(I72:I73) -> 0 | J74: =SUM(J72:J73) -> 0 | K74: =SUM(K72:K73) -> 0 | L74: =SUM(L72:L73) -> 0 | M74: =SUM(M72:M73) -> 0 | N74: =SUM(N72:N73) -> 0 | O74: =SUM(O72:O73) -> 0 | ... V74: =SUM(V72:V73) -> 0
B75: Product insurance | E75: Product insurance
B76: Office insurance | E76: Office insurance
B77: Other insurance | E77: Other insurance
C78: Insurance | E78: Insurance | H78: =SUM(H75:H76) -> 0 | I78: =SUM(I75:I76) -> 0 | J78: =SUM(J75:J76) -> 0 | K78: =SUM(K75:K76) -> 0 | L78: =SUM(L75:L76) -> 0 | M78: =SUM(M75:M76) -> 0 | N78: =SUM(N75:N76) -> 0 | O78: =SUM(O75:O76) -> 0 | ... V78: =SUM(V75:V76) -> 0
C80: Travel | E80: Travel
B81: Gifts - External | E81: Gifts - External
B82: Gifts - Staff | E82: Gifts - Staff
B83: Postage | E83: Postage
B84: Printing | E84: Printing
B85: Other operating expenses | E85: Other operating expenses
B86: Purchases of administrative supplies | E86: Purchases of administrative supplies
C87: Other expenses | E87: Other expenses | H87: =SUM(H53:H85) -> 0 | I87: =SUM(I53:I85) -> 0 | J87: =SUM(J53:J85) -> 0 | K87: =SUM(K53:K85) -> 0 | L87: =SUM(L53:L85) -> 0 | M87: =SUM(M53:M85) -> 0 | N87: =SUM(N53:N85) -> 0 | O87: =SUM(O53:O85) -> 0 | ... V87: =SUM(V53:V85) -> 0
E89: Other operating expenses | H89: =SUM(H35,H39,H44,H49,H51,H55,H60,H65,H69,H71,H74,H78,H80,H87) -> 0 | I89: =SUM(I35,I39,I44,I49,I51,I55,I60,I65,I69,I71,I74,I78,I80,I87) -> 0 | J89: =SUM(J35,J39,J44,J49,J51,J55,J60,J65,J69,J71,J74,J78,J80,J87) -> 0 | K89: =SUM(K35,K39,K44,K49,K51,K55,K60,K65,K69,K71,K74,K78,K80,K87) -> 0 | L89: =SUM(L35,L39,L44,L49,L51,L55,L60,L65,L69,L71,L74,L78,L80,L87) -> 0 | M89: =SUM(M35,M39,M44,M49,M51,M55,M60,M65,M69,M71,M74,M78,M80,M87) -> 0 | N89: =SUM(N35,N39,N44,N49,N51,N55,N60,N65,N69,N71,N74,N78,N80,N87) -> 0 | O89: =SUM(O35,O39,O44,O49,O51,O55,O60,O65,O69,O71,O74,O78,O80,O87) -> 0 | ... V89: =SUM(V35,V39,V44,V49,V51,V55,V60,V65,V69,V71,V74,V78,V80,V87) -> 0
H95: Marketing - FR
H96: Marketing - HK
H97: Marketing - USA
H98: Marketing - AU

Sheet d

Sheet Marketing_FR
E2: Do not modify column B or line 9
E3: Blue lines are output lines and should not be modified
E4: Grey lines are calculated lines. However, you can change the formulas.
E5: Template should be filled in one currency only : EUR, USD, AUD or HKD
E6: You can insert as many lines as you wish for your calculations, however, there must be only one blue line per category
E8: P&L | H8: 1 | I8: 2 | J8: 3 | K8: 4 | L8: 5 | M8: 6 | N8: 7 | O8: 8 | P8: 9 | Q8: 10 | R8: 11 | S8: 12 | T8: 13 | U8: 14 | V8: 15
H9: Oct 19 | I9: Nov 19 | J9: Dec 19 | K9: Jan 20 | L9: Feb 20 | M9: Mar 20 | N9: Apr 20 | O9: May 20 | P9: Jun 20 | Q9: Jul 20 | R9: Aug 20 | S9: Sep 20 | T9: Oct 20 | U9: Nov 20 | V9: Dec 20
B11: Mapping | E11: € in thousands | G11: Assumption | H11: Oct 19 Budget | I11: Nov 19 Budget | J11: Dec 19 Budget | K11: Jan 20 Budget | L11: Feb 20 Budget | M11: Mar 20 Budget | N11: Apr 20 Budget | O11: May 20 Budget | P11: Jun 20 Budget | Q11: Jul 20 Budget | R11: Aug 20 Budget | S11: Sep 20 Budget | T11: Oct 20 Budget | U11: Nov 20 Budget | V11: Dec 20 Budget | X11: Comments / Explanation
B13: A | E13: A | H13: 0
B14: B | E14: B | H14: 1010
B15: C | E15: C
B16: D | E16: D
B17: E | E17: E
C18: =E18 -> Production cost - Scanbox | E18: Production cost - Scanbox | H18: =SUM(H13:H17) -> 1010 | I18: =SUM(I13:I17) -> 0 | J18: =SUM(J13:J17) -> 0 | K18: =SUM(K13:K17) -> 0 | L18: =SUM(L13:L17) -> 0 | M18: =SUM(M13:M17) -> 0 | N18: =SUM(N13:N17) -> 0 | O18: =SUM(O13:O17) -> 0 | ... V18: =SUM(V13:V17) -> 0
B19: F | E19: F
B20: G | E20: G
B21: H | E21: H
B22: I | E22: I
B23: J | E23: J
C24: =E24 -> Production cost - Starterkit | E24: Production cost - Starterkit | H24: =SUM(H19:H23) -> 0 | I24: =SUM(I19:I23) -> 0 | J24: =SUM(J19:J23) -> 0 | K24: =SUM(K19:K23) -> 0 | L24: =SUM(L19:L23) -> 0 | M24: =SUM(M19:M23) -> 0 | N24: =SUM(N19:N23) -> 0 | O24: =SUM(O19:O23) -> 0 | ... V24: =SUM(V19:V23) -> 0
B25: K | E25: K
B26: L | E26: L
B27: M | E27: M
B28: N | E28: N
B29: O | E29: O
C30: =E30 -> Production cost - Cheek retractor | E30: Production cost - Cheek retractor | H30: =SUM(H25:H29) -> 0 | I30: =SUM(I25:I29) -> 0 | J30: =SUM(J25:J29) -> 0 | K30: =SUM(K25:K29) -> 0 | L30: =SUM(L25:L29) -> 0 | M30: =SUM(M25:M29) -> 0 | N30: =SUM(N25:N29) -> 0 | O30: =SUM(O25:O29) -> 0 | ... V30: =SUM(V25:V29) -> 0
E31: Cost of Goods Sold | H31: =SUM(H18,H24,H30) -> 1010 | I31: =SUM(I18,I24,I30) -> 0 | J31: =SUM(J18,J24,J30) -> 0 | K31: =SUM(K18,K24,K30) -> 0 | L31: =SUM(L18,L24,L30) -> 0 | M31: =SUM(M18,M24,M30) -> 0 | N31: =SUM(N18,N24,N30) -> 0 | O31: =SUM(O18,O24,O30) -> 0 | ... V31: =SUM(V18,V24,V30) -> 0
B33: Advertising - Offline | E33: Advertising - Offline
B34: Advertising - Online | E34: Advertising - Online
C35: Advertising expenses | E35: Advertising expenses | H35: =SUM(H33:H34) -> 0 | I35: =SUM(I33:I34) -> 0 | J35: =SUM(J33:J34) -> 0 | K35: =SUM(K33:K34) -> 0 | L35: =SUM(L33:L34) -> 0 | M35: =SUM(M33:M34) -> 0 | N35: =SUM(N33:N34) -> 0 | O35: =SUM(O33:O34) -> 0 | ... V35: =SUM(V33:V34) -> 0
B37: Rental - Booth | E37: Rental - Booth
B38: Booth customization | E38: Booth customization
C39: Event costs | E39: Event costs | H39: =SUM(H37:H38) -> 0 | I39: =SUM(I37:I38) -> 0 | J39: =SUM(J37:J38) -> 0 | K39: =SUM(K37:K38) -> 0 | L39: =SUM(L37:L38) -> 0 | M39: =SUM(M37:M38) -> 0 | N39: =SUM(N37:N38) -> 0 | O39: =SUM(O37:O38) -> 0 | ... V39: =SUM(V37:V38) -> 0
B40: Type of fees (ex: auditor fees) | E40: Type of fees (ex: auditor fees)
B41: Type of fees (ex: translation fees) | E41: Type of fees (ex: translation fees)
B42: Type of fees (ex: KOL) | E42: Type of fees (ex: KOL)
B43: Type of fees (ex: developer fees) | E43: Type of fees (ex: developer fees)
C44: Professional fees | E44: Professional fees | H44: =SUM(H40,H41,H43) -> 0 | I44: =SUM(I40,I41,I43) -> 0 | J44: =SUM(J40,J41,J43) -> 0 | K44: =SUM(K40,K41,K43) -> 0 | L44: =SUM(L40,L41,L43) -> 0 | M44: =SUM(M40,M41,M43) -> 0 | N44: =SUM(N40,N41,N43) -> 0 | O44: =SUM(O40,O41,O43) -> 0 | ... V44: =SUM(V40,V41,V43) -> 0
B46: Software 1 | E46: Software 1
B47: Software 2 | E47: Software 2
B48: Software 3 | E48: Software 3
C49: Software costs | E49: Software costs | H49: =SUM(H46:H48) -> 0 | I49: =SUM(I46:I48) -> 0 | J49: =SUM(J46:J48) -> 0 | K49: =SUM(K46:K48) -> 0 | L49: =SUM(L46:L48) -> 0 | M49: =SUM(M46:M48) -> 0 | N49: =SUM(N46:N48) -> 0 | O49: =SUM(O46:O48) -> 0 | ... V49: =SUM(V46:V48) -> 0
C51: Patent fees | E51: Patent fees
B53: Meals & Entertainment - Staff | E53: Meals & Entertainment - Staff
B54: Meals & Entertainment - External | E54: Meals & Entertainment - External
C55: Meals & Entertainment | E55: Meals & Entertainment | H55: =SUM(H53:H54) -> 0 | I55: =SUM(I53:I54) -> 0 | J55: =SUM(J53:J54) -> 0 | K55: =SUM(K53:K54) -> 0 | L55: =SUM(L53:L54) -> 0 | M55: =SUM(M53:M54) -> 0 | N55: =SUM(N53:N54) -> 0 | O55: =SUM(O53:O54) -> 0 | ... V55: =SUM(V53:V54) -> 0
B56: Rental - Office | E56: Rental - Office
B57: Rental - Furniture | E57: Rental - Furniture
B58: Utilities (Water & Electricity) | E58: Utilities (Water & Electricity)
B59: Office maintenance | E59: Office maintenance
C60: Rental and offices costs | E60: Rental and offices costs | H60: =SUM(H56:H59) -> 0 | I60: =SUM(I56:I59) -> 0 | J60: =SUM(J56:J59) -> 0 | K60: =SUM(K56:K59) -> 0 | L60: =SUM(L56:L59) -> 0 | M60: =SUM(M56:M59) -> 0 | N60: =SUM(N56:N59) -> 0 | O60: =SUM(O56:O59) -> 0 | ... V60: =SUM(V56:V59) -> 0
B61: Space Rental | E61: Space Rental
B62: Goodies | E62: Goodies
B63: Brochures | E63: Brochures
B64: Other marketing costs | E64: Other marketing costs
C65: Marketing costs | E65: Marketing costs | H65: =SUM(H61:H64) -> 0 | I65: =SUM(I61:I64) -> 0 | J65: =SUM(J61:J64) -> 0 | K65: =SUM(K61:K64) -> 0 | L65: =SUM(L61:L64) -> 0 | M65: =SUM(M61:M64) -> 0 | N65: =SUM(N61:N64) -> 0 | O65: =SUM(O61:O64) -> 0 | ... V65: =SUM(V61:V64) -> 0
B67: Software 2 | E67: Software 2
B68: Software 3 | E68: Software 3
C69: Software costs | E69: Software costs | H69: =SUM(H67:H68) -> 0 | I69: =SUM(I67:I68) -> 0 | J69: =SUM(J67:J68) -> 0 | K69: =SUM(K67:K68) -> 0 | L69: =SUM(L67:L68) -> 0 | M69: =SUM(M67:M68) -> 0 | N69: =SUM(N67:N68) -> 0 | O69: =SUM(O67:O68) -> 0 | ... V69: =SUM(V67:V68) -> 0
C71: Server costs | E71: Server costs
B72: Internet | E72: Internet
B73: Phone | E73: Phone
C74: Phone and internet | E74: Phone and internet | H74: =SUM(H72:H73) -> 0 | I74: =SUM(I72:I73) -> 0 | J74: =SUM(J72:J73) -> 0 | K74: =SUM(K72:K73) -> 0 | L74: =SUM(L72:L73) -> 0 | M74: =SUM(M72:M73) -> 0 | N74: =SUM(N72:N73) -> 0 | O74: =SUM(O72:O73) -> 0 | ... V74: =SUM(V72:V73) -> 0
B75: Product insurance | E75: Product insurance
B76: Office insurance | E76: Office insurance
B77: Other insurance | E77: Other insurance
C78: Insurance | E78: Insurance | H78: =SUM(H75:H76) -> 0 | I78: =SUM(I75:I76) -> 0 | J78: =SUM(J75:J76) -> 0 | K78: =SUM(K75:K76) -> 0 | L78: =SUM(L75:L76) -> 0 | M78: =SUM(M75:M76) -> 0 | N78: =SUM(N75:N76) -> 0 | O78: =SUM(O75:O76) -> 0 | ... V78: =SUM(V75:V76) -> 0
C80: Travel | E80: Travel
B81: Gifts - External | E81: Gifts - External
B82: Gifts - Staff | E82: Gifts - Staff
B83: Postage | E83: Postage
B84: Printing | E84: Printing
B85: Other operating expenses | E85: Other operating expenses
B86: Purchases of administrative supplies | E86: Purchases of administrative supplies
C87: Other expenses | E87: Other expenses | H87: =SUM(H53:H85) -> 0 | I87: =SUM(I53:I85) -> 0 | J87: =SUM(J53:J85) -> 0 | K87: =SUM(K53:K85) -> 0 | L87: =SUM(L53:L85) -> 0 | M87: =SUM(M53:M85) -> 0 | N87: =SUM(N53:N85) -> 0 | O87: =SUM(O53:O85) -> 0 | ... V87: =SUM(V53:V85) -> 0
E89: Other operating expenses | H89: =SUM(H35,H39,H44,H49,H51,H55,H60,H65,H69,H71,H74,H78,H80,H87) -> 0 | I89: =SUM(I35,I39,I44,I49,I51,I55,I60,I65,I69,I71,I74,I78,I80,I87) -> 0 | J89: =SUM(J35,J39,J44,J49,J51,J55,J60,J65,J69,J71,J74,J78,J80,J87) -> 0 | K89: =SUM(K35,K39,K44,K49,K51,K55,K60,K65,K69,K71,K74,K78,K80,K87) -> 0 | L89: =SUM(L35,L39,L44,L49,L51,L55,L60,L65,L69,L71,L74,L78,L80,L87) -> 0 | M89: =SUM(M35,M39,M44,M49,M51,M55,M60,M65,M69,M71,M74,M78,M80,M87) -> 0 | N89: =SUM(N35,N39,N44,N49,N51,N55,N60,N65,N69,N71,N74,N78,N80,N87) -> 0 | O89: =SUM(O35,O39,O44,O49,O51,O55,O60,O65,O69,O71,O74,O78,O80,O87) -> 0 | ... V89: =SUM(V35,V39,V44,V49,V51,V55,V60,V65,V69,V71,V74,V78,V80,V87) -> 0

Sheet Marketing - HK
E2: Do not modify column B or line 9
E3: Blue lines are output lines and should not be modified
E4: Grey lines are calculated lines. However, you can change the formulas.
E5: Template should be filled in one currency only : EUR, USD, AUD or HKD
E6: You can insert as many lines as you wish for your calculations, however, there must be only one blue line per category
E8: P&L
H9: Oct 19 | I9: Nov 19 | J9: Dec 19 | K9: Jan 20 | L9: Feb 20 | M9: Mar 20 | N9: Apr 20 | O9: May 20 | P9: Jun 20 | Q9: Jul 20 | R9: Aug 20 | S9: Sep 20 | T9: Oct 20 | U9: Nov 20 | V9: Dec 20
B11: Mapping | E11: € in thousands | G11: Assumption | H11: Oct 19 Budget | I11: Nov 19 Budget | J11: Dec 19 Budget | K11: Jan 20 Budget | L11: Feb 20 Budget | M11: Mar 20 Budget | N11: Apr 20 Budget | O11: May 20 Budget | P11: Jun 20 Budget | Q11: Jul 20 Budget | R11: Aug 20 Budget | S11: Sep 20 Budget | T11: Oct 20 Budget | U11: Nov 20 Budget | V11: Dec 20 Budget | X11: Comments / Explanation
B13: A | E13: A | H13: 1
B14: B | E14: B
B15: C | E15: C
B16: D | E16: D
B17: E | E17: E
C18: =E18 -> Production cost - Scanbox | E18: Production cost - Scanbox | H18: =SUM(H13:H17) -> 1 | I18: =SUM(I13:I17) -> 0 | J18: =SUM(J13:J17) -> 0 | K18: =SUM(K13:K17) -> 0 | L18: =SUM(L13:L17) -> 0 | M18: =SUM(M13:M17) -> 0 | N18: =SUM(N13:N17) -> 0 | O18: =SUM(O13:O17) -> 0 | ... V18: =SUM(V13:V17) -> 0
B19: F | E19: F
B20: G | E20: G
B21: H | E21: H
B22: I | E22: I
B23: J | E23: J
C24: =E24 -> Production cost - Starterkit | E24: Production cost - Starterkit | H24: =SUM(H19:H23) -> 0 | I24: =SUM(I19:I23) -> 0 | J24: =SUM(J19:J23) -> 0 | K24: =SUM(K19:K23) -> 0 | L24: =SUM(L19:L23) -> 0 | M24: =SUM(M19:M23) -> 0 | N24: =SUM(N19:N23) -> 0 | O24: =SUM(O19:O23) -> 0 | ... V24: =SUM(V19:V23) -> 0
B25: K | E25: K
B26: L | E26: L
B27: M | E27: M
B28: N | E28: N
B29: O | E29: O
C30: =E30 -> Production cost - Cheek retractor | E30: Production cost - Cheek retractor | H30: =SUM(H25:H29) -> 0 | I30: =SUM(I25:I29) -> 0 | J30: =SUM(J25:J29) -> 0 | K30: =SUM(K25:K29) -> 0 | L30: =SUM(L25:L29) -> 0 | M30: =SUM(M25:M29) -> 0 | N30: =SUM(N25:N29) -> 0 | O30: =SUM(O25:O29) -> 0 | ... V30: =SUM(V25:V29) -> 0
E31: Cost of Goods Sold | H31: =SUM(H18,H24,H30) -> 1 | I31: =SUM(I18,I24,I30) -> 0 | J31: =SUM(J18,J24,J30) -> 0 | K31: =SUM(K18,K24,K30) -> 0 | L31: =SUM(L18,L24,L30) -> 0 | M31: =SUM(M18,M24,M30) -> 0 | N31: =SUM(N18,N24,N30) -> 0 | O31: =SUM(O18,O24,O30) -> 0 | ... V31: =SUM(V18,V24,V30) -> 0
B33: Advertising - Offline | E33: Advertising - Offline
B34: Advertising - Online | E34: Advertising - Online
C35: Advertising expenses | E35: Advertising expenses | H35: =SUM(H33:H34) -> 0 | I35: =SUM(I33:I34) -> 0 | J35: =SUM(J33:J34) -> 0 | K35: =SUM(K33:K34) -> 0 | L35: =SUM(L33:L34) -> 0 | M35: =SUM(M33:M34) -> 0 | N35: =SUM(N33:N34) -> 0 | O35: =SUM(O33:O34) -> 0 | ... V35: =SUM(V33:V34) -> 0
B37: Rental - Booth | E37: Rental - Booth
B38: Booth customization | E38: Booth customization
C39: Event costs | E39: Event costs | H39: =SUM(H37:H38) -> 0 | I39: =SUM(I37:I38) -> 0 | J39: =SUM(J37:J38) -> 0 | K39: =SUM(K37:K38) -> 0 | L39: =SUM(L37:L38) -> 0 | M39: =SUM(M37:M38) -> 0 | N39: =SUM(N37:N38) -> 0 | O39: =SUM(O37:O38) -> 0 | ... V39: =SUM(V37:V38) -> 0
B40: Type of fees (ex: auditor fees) | E40: Type of fees (ex: auditor fees)
B41: Type of fees (ex: translation fees) | E41: Type of fees (ex: translation fees)
B42: Type of fees (ex: KOL) | E42: Type of fees (ex: KOL)
B43: Type of fees (ex: developer fees) | E43: Type of fees (ex: developer fees)
C44: Professional fees | E44: Professional fees | H44: =SUM(H40,H41,H43) -> 0 | I44: =SUM(I40,I41,I43) -> 0 | J44: =SUM(J40,J41,J43) -> 0 | K44: =SUM(K40,K41,K43) -> 0 | L44: =SUM(L40,L41,L43) -> 0 | M44: =SUM(M40,M41,M43) -> 0 | N44: =SUM(N40,N41,N43) -> 0 | O44: =SUM(O40,O41,O43) -> 0 | ... V44: =SUM(V40,V41,V43) -> 0
B46: Software 1 | E46: Software 1
B47: Software 2 | E47: Software 2
B48: Software 3 | E48: Software 3
C49: Software costs | E49: Software costs | H49: =SUM(H46:H48) -> 0 | I49: =SUM(I46:I48) -> 0 | J49: =SUM(J46:J48) -> 0 | K49: =SUM(K46:K48) -> 0 | L49: =SUM(L46:L48) -> 0 | M49: =SUM(M46:M48) -> 0 | N49: =SUM(N46:N48) -> 0 | O49: =SUM(O46:O48) -> 0 | ... V49: =SUM(V46:V48) -> 0
C51: Patent fees | E51: Patent fees
B53: Meals & Entertainment - Staff | E53: Meals & Entertainment - Staff
B54: Meals & Entertainment - External | E54: Meals & Entertainment - External
C55: Meals & Entertainment | E55: Meals & Entertainment | H55: =SUM(H53:H54) -> 0 | I55: =SUM(I53:I54) -> 0 | J55: =SUM(J53:J54) -> 0 | K55: =SUM(K53:K54) -> 0 | L55: =SUM(L53:L54) -> 0 | M55: =SUM(M53:M54) -> 0 | N55: =SUM(N53:N54) -> 0 | O55: =SUM(O53:O54) -> 0 | ... V55: =SUM(V53:V54) -> 0
B56: Rental - Office | E56: Rental - Office
B57: Rental - Furniture | E57: Rental - Furniture
B58: Utilities (Water & Electricity) | E58: Utilities (Water & Electricity)
B59: Office maintenance | E59: Office maintenance
C60: Rental and offices costs | E60: Rental and offices costs | H60: =SUM(H56:H59) -> 0 | I60: =SUM(I56:I59) -> 0 | J60: =SUM(J56:J59) -> 0 | K60: =SUM(K56:K59) -> 0 | L60: =SUM(L56:L59) -> 0 | M60: =SUM(M56:M59) -> 0 | N60: =SUM(N56:N59) -> 0 | O60: =SUM(O56:O59) -> 0 | ... V60: =SUM(V56:V59) -> 0
B61: Space Rental | E61: Space Rental
B62: Goodies | E62: Goodies
B63: Brochures | E63: Brochures
B64: Other marketing costs | E64: Other marketing costs
C65: Marketing costs | E65: Marketing costs | H65: =SUM(H61:H64) -> 0 | I65: =SUM(I61:I64) -> 0 | J65: =SUM(J61:J64) -> 0 | K65: =SUM(K61:K64) -> 0 | L65: =SUM(L61:L64) -> 0 | M65: =SUM(M61:M64) -> 0 | N65: =SUM(N61:N64) -> 0 | O65: =SUM(O61:O64) -> 0 | ... V65: =SUM(V61:V64) -> 0
B67: Software 2 | E67: Software 2
B68: Software 3 | E68: Software 3
C69: Software costs | E69: Software costs | H69: =SUM(H67:H68) -> 0 | I69: =SUM(I67:I68) -> 0 | J69: =SUM(J67:J68) -> 0 | K69: =SUM(K67:K68) -> 0 | L69: =SUM(L67:L68) -> 0 | M69: =SUM(M67:M68) -> 0 | N69: =SUM(N67:N68) -> 0 | O69: =SUM(O67:O68) -> 0 | ... V69: =SUM(V67:V68) -> 0
C71: Server costs | E71: Server costs
B72: Internet | E72: Internet
B73: Phone | E73: Phone
C74: Phone and internet | E74: Phone and internet | H74: =SUM(H72:H73) -> 0 | I74: =SUM(I72:I73) -> 0 | J74: =SUM(J72:J73) -> 0 | K74: =SUM(K72:K73) -> 0 | L74: =SUM(L72:L73) -> 0 | M74: =SUM(M72:M73) -> 0 | N74: =SUM(N72:N73) -> 0 | O74: =SUM(O72:O73) -> 0 | ... V74: =SUM(V72:V73) -> 0
B75: Product insurance | E75: Product insurance
B76: Office insurance | E76: Office insurance
B77: Other insurance | E77: Other insurance
C78: Insurance | E78: Insurance | H78: =SUM(H75:H76) -> 0 | I78: =SUM(I75:I76) -> 0 | J78: =SUM(J75:J76) -> 0 | K78: =SUM(K75:K76) -> 0 | L78: =SUM(L75:L76) -> 0 | M78: =SUM(M75:M76) -> 0 | N78: =SUM(N75:N76) -> 0 | O78: =SUM(O75:O76) -> 0 | ... V78: =SUM(V75:V76) -> 0
C80: Travel | E80: Travel
B81: Gifts - External | E81: Gifts - External
B82: Gifts - Staff | E82: Gifts - Staff
B83: Postage | E83: Postage
B84: Printing | E84: Printing
B85: Other operating expenses | E85: Other operating expenses
B86: Purchases of administrative supplies | E86: Purchases of administrative supplies
C87: Other expenses | E87: Other expenses | H87: =SUM(H53:H85) -> 0 | I87: =SUM(I53:I85) -> 0 | J87: =SUM(J53:J85) -> 0 | K87: =SUM(K53:K85) -> 0 | L87: =SUM(L53:L85) -> 0 | M87: =SUM(M53:M85) -> 0 | N87: =SUM(N53:N85) -> 0 | O87: =SUM(O53:O85) -> 0 | ... V87: =SUM(V53:V85) -> 0
E89: Other operating expenses | H89: =SUM(H35,H39,H44,H49,H51,H55,H60,H65,H69,H71,H74,H78,H80,H87) -> 0 | I89: =SUM(I35,I39,I44,I49,I51,I55,I60,I65,I69,I71,I74,I78,I80,I87) -> 0 | J89: =SUM(J35,J39,J44,J49,J51,J55,J60,J65,J69,J71,J74,J78,J80,J87) -> 0 | K89: =SUM(K35,K39,K44,K49,K51,K55,K60,K65,K69,K71,K74,K78,K80,K87) -> 0 | L89: =SUM(L35,L39,L44,L49,L51,L55,L60,L65,L69,L71,L74,L78,L80,L87) -> 0 | M89: =SUM(M35,M39,M44,M49,M51,M55,M60,M65,M69,M71,M74,M78,M80,M87) -> 0 | N89: =SUM(N35,N39,N44,N49,N51,N55,N60,N65,N69,N71,N74,N78,N80,N87) -> 0 | O89: =SUM(O35,O39,O44,O49,O51,O55,O60,O65,O69,O71,O74,O78,O80,O87) -> 0 | ... V89: =SUM(V35,V39,V44,V49,V51,V55,V60,V65,V69,V71,V74,V78,V80,V87) -> 0

Sheet Marketing - USA
E2: Do not modify column B or line 9
E3: Blue lines are output lines and should not be modified
E4: Grey lines are calculated lines. However, you can change the formulas.
E5: Template should be filled in one currency only : EUR, USD, AUD or HKD
E6: You can insert as many lines as you wish for your calculations, however, there must be only one blue line per category
E8: P&L
H9: Oct 19 | I9: Nov 19 | J9: Dec 19 | K9: Jan 20 | L9: Feb 20 | M9: Mar 20 | N9: Apr 20 | O9: May 20 | P9: Jun 20 | Q9: Jul 20 | R9: Aug 20 | S9: Sep 20 | T9: Oct 20 | U9: Nov 20 | V9: Dec 20
B11: Mapping | E11: € in thousands | G11: Assumption | H11: Oct 19 Budget | I11: Nov 19 Budget | J11: Dec 19 Budget | K11: Jan 20 Budget | L11: Feb 20 Budget | M11: Mar 20 Budget | N11: Apr 20 Budget | O11: May 20 Budget | P11: Jun 20 Budget | Q11: Jul 20 Budget | R11: Aug 20 Budget | S11: Sep 20 Budget | T11: Oct 20 Budget | U11: Nov 20 Budget | V11: Dec 20 Budget | X11: Comments / Explanation
B13: A | E13: A | H13: 0
B14: B | E14: B
B15: C | E15: C
B16: D | E16: D
B17: E | E17: E
C18: =E18 -> Production cost - Scanbox | E18: Production cost - Scanbox | H18: =SUM(H13:H17) -> 0 | I18: =SUM(I13:I17) -> 0 | J18: =SUM(J13:J17) -> 0 | K18: =SUM(K13:K17) -> 0 | L18: =SUM(L13:L17) -> 0 | M18: =SUM(M13:M17) -> 0 | N18: =SUM(N13:N17) -> 0 | O18: =SUM(O13:O17) -> 0 | ... V18: =SUM(V13:V17) -> 0
B19: F | E19: F
B20: G | E20: G
B21: H | E21: H
B22: I | E22: I
B23: J | E23: J
C24: =E24 -> Production cost - Starterkit | E24: Production cost - Starterkit | H24: =SUM(H19:H23) -> 0 | I24: =SUM(I19:I23) -> 0 | J24: =SUM(J19:J23) -> 0 | K24: =SUM(K19:K23) -> 0 | L24: =SUM(L19:L23) -> 0 | M24: =SUM(M19:M23) -> 0 | N24: =SUM(N19:N23) -> 0 | O24: =SUM(O19:O23) -> 0 | ... V24: =SUM(V19:V23) -> 0
B25: K | E25: K
B26: L | E26: L
B27: M | E27: M
B28: N | E28: N
B29: O | E29: O
C30: =E30 -> Production cost - Cheek retractor | E30: Production cost - Cheek retractor | H30: =SUM(H25:H29) -> 0 | I30: =SUM(I25:I29) -> 0 | J30: =SUM(J25:J29) -> 0 | K30: =SUM(K25:K29) -> 0 | L30: =SUM(L25:L29) -> 0 | M30: =SUM(M25:M29) -> 0 | N30: =SUM(N25:N29) -> 0 | O30: =SUM(O25:O29) -> 0 | ... V30: =SUM(V25:V29) -> 0
E31: Cost of Goods Sold | H31: =SUM(H18,H24,H30) -> 0 | I31: =SUM(I18,I24,I30) -> 0 | J31: =SUM(J18,J24,J30) -> 0 | K31: =SUM(K18,K24,K30) -> 0 | L31: =SUM(L18,L24,L30) -> 0 | M31: =SUM(M18,M24,M30) -> 0 | N31: =SUM(N18,N24,N30) -> 0 | O31: =SUM(O18,O24,O30) -> 0 | ... V31: =SUM(V18,V24,V30) -> 0
B33: Advertising - Offline | E33: Advertising - Offline
B34: Advertising - Online | E34: Advertising - Online
C35: Advertising expenses | E35: Advertising expenses | H35: =SUM(H33:H34) -> 0 | I35: =SUM(I33:I34) -> 0 | J35: =SUM(J33:J34) -> 0 | K35: =SUM(K33:K34) -> 0 | L35: =SUM(L33:L34) -> 0 | M35: =SUM(M33:M34) -> 0 | N35: =SUM(N33:N34) -> 0 | O35: =SUM(O33:O34) -> 0 | ... V35: =SUM(V33:V34) -> 0
B37: Rental - Booth | E37: Rental - Booth
B38: Booth customization | E38: Booth customization
C39: Event costs | E39: Event costs | H39: =SUM(H37:H38) -> 0 | I39: =SUM(I37:I38) -> 0 | J39: =SUM(J37:J38) -> 0 | K39: =SUM(K37:K38) -> 0 | L39: =SUM(L37:L38) -> 0 | M39: =SUM(M37:M38) -> 0 | N39: =SUM(N37:N38) -> 0 | O39: =SUM(O37:O38) -> 0 | ... V39: =SUM(V37:V38) -> 0
B40: Type of fees (ex: auditor fees) | E40: Type of fees (ex: auditor fees)
B41: Type of fees (ex: translation fees) | E41: Type of fees (ex: translation fees)
B42: Type of fees (ex: KOL) | E42: Type of fees (ex: KOL)
B43: Type of fees (ex: developer fees) | E43: Type of fees (ex: developer fees)
C44: Professional fees | E44: Professional fees | H44: =SUM(H40,H41,H43) -> 0 | I44: =SUM(I40,I41,I43) -> 0 | J44: =SUM(J40,J41,J43) -> 0 | K44: =SUM(K40,K41,K43) -> 0 | L44: =SUM(L40,L41,L43) -> 0 | M44: =SUM(M40,M41,M43) -> 0 | N44: =SUM(N40,N41,N43) -> 0 | O44: =SUM(O40,O41,O43) -> 0 | ... V44: =SUM(V40,V41,V43) -> 0
B46: Software 1 | E46: Software 1
B47: Software 2 | E47: Software 2
B48: Software 3 | E48: Software 3
C49: Software costs | E49: Software costs | H49: =SUM(H46:H48) -> 0 | I49: =SUM(I46:I48) -> 0 | J49: =SUM(J46:J48) -> 0 | K49: =SUM(K46:K48) -> 0 | L49: =SUM(L46:L48) -> 0 | M49: =SUM(M46:M48) -> 0 | N49: =SUM(N46:N48) -> 0 | O49: =SUM(O46:O48) -> 0 | ... V49: =SUM(V46:V48) -> 0
C51: Patent fees | E51: Patent fees
B53: Meals & Entertainment - Staff | E53: Meals & Entertainment - Staff
B54: Meals & Entertainment - External | E54: Meals & Entertainment - External
C55: Meals & Entertainment | E55: Meals & Entertainment | H55: =SUM(H53:H54) -> 0 | I55: =SUM(I53:I54) -> 0 | J55: =SUM(J53:J54) -> 0 | K55: =SUM(K53:K54) -> 0 | L55: =SUM(L53:L54) -> 0 | M55: =SUM(M53:M54) -> 0 | N55: =SUM(N53:N54) -> 0 | O55: =SUM(O53:O54) -> 0 | ... V55: =SUM(V53:V54) -> 0
B56: Rental - Office | E56: Rental - Office
B57: Rental - Furniture | E57: Rental - Furniture
B58: Utilities (Water & Electricity) | E58: Utilities (Water & Electricity)
B59: Office maintenance | E59: Office maintenance
C60: Rental and offices costs | E60: Rental and offices costs | H60: =SUM(H56:H59) -> 0 | I60: =SUM(I56:I59) -> 0 | J60: =SUM(J56:J59) -> 0 | K60: =SUM(K56:K59) -> 0 | L60: =SUM(L56:L59) -> 0 | M60: =SUM(M56:M59) -> 0 | N60: =SUM(N56:N59) -> 0 | O60: =SUM(O56:O59) -> 0 | ... V60: =SUM(V56:V59) -> 0
B61: Space Rental | E61: Space Rental
B62: Goodies | E62: Goodies
B63: Brochures | E63: Brochures
B64: Other marketing costs | E64: Other marketing costs
C65: Marketing costs | E65: Marketing costs | H65: =SUM(H61:H64) -> 0 | I65: =SUM(I61:I64) -> 0 | J65: =SUM(J61:J64) -> 0 | K65: =SUM(K61:K64) -> 0 | L65: =SUM(L61:L64) -> 0 | M65: =SUM(M61:M64) -> 0 | N65: =SUM(N61:N64) -> 0 | O65: =SUM(O61:O64) -> 0 | ... V65: =SUM(V61:V64) -> 0
B67: Software 2 | E67: Software 2
B68: Software 3 | E68: Software 3
C69: Software costs | E69: Software costs | H69: =SUM(H67:H68) -> 0 | I69: =SUM(I67:I68) -> 0 | J69: =SUM(J67:J68) -> 0 | K69: =SUM(K67:K68) -> 0 | L69: =SUM(L67:L68) -> 0 | M69: =SUM(M67:M68) -> 0 | N69: =SUM(N67:N68) -> 0 | O69: =SUM(O67:O68) -> 0 | ... V69: =SUM(V67:V68) -> 0
C71: Server costs | E71: Server costs
B72: Internet | E72: Internet
B73: Phone | E73: Phone
C74: Phone and internet | E74: Phone and internet | H74: =SUM(H72:H73) -> 0 | I74: =SUM(I72:I73) -> 0 | J74: =SUM(J72:J73) -> 0 | K74: =SUM(K72:K73) -> 0 | L74: =SUM(L72:L73) -> 0 | M74: =SUM(M72:M73) -> 0 | N74: =SUM(N72:N73) -> 0 | O74: =SUM(O72:O73) -> 0 | ... V74: =SUM(V72:V73) -> 0
B75: Product insurance | E75: Product insurance
B76: Office insurance | E76: Office insurance
B77: Other insurance | E77: Other insurance
C78: Insurance | E78: Insurance | H78: =SUM(H75:H76) -> 0 | I78: =SUM(I75:I76) -> 0 | J78: =SUM(J75:J76) -> 0 | K78: =SUM(K75:K76) -> 0 | L78: =SUM(L75:L76) -> 0 | M78: =SUM(M75:M76) -> 0 | N78: =SUM(N75:N76) -> 0 | O78: =SUM(O75:O76) -> 0 | ... V78: =SUM(V75:V76) -> 0
C80: Travel | E80: Travel
B81: Gifts - External | E81: Gifts - External
B82: Gifts - Staff | E82: Gifts - Staff
B83: Postage | E83: Postage
B84: Printing | E84: Printing
B85: Other operating expenses | E85: Other operating expenses
B86: Purchases of administrative supplies | E86: Purchases of administrative supplies
C87: Other expenses | E87: Other expenses | H87: =SUM(H53:H85) -> 0 | I87: =SUM(I53:I85) -> 0 | J87: =SUM(J53:J85) -> 0 | K87: =SUM(K53:K85) -> 0 | L87: =SUM(L53:L85) -> 0 | M87: =SUM(M53:M85) -> 0 | N87: =SUM(N53:N85) -> 0 | O87: =SUM(O53:O85) -> 0 | ... V87: =SUM(V53:V85) -> 0
E89: Other operating expenses | H89: =SUM(H35,H39,H44,H49,H51,H55,H60,H65,H69,H71,H74,H78,H80,H87) -> 0 | I89: =SUM(I35,I39,I44,I49,I51,I55,I60,I65,I69,I71,I74,I78,I80,I87) -> 0 | J89: =SUM(J35,J39,J44,J49,J51,J55,J60,J65,J69,J71,J74,J78,J80,J87) -> 0 | K89: =SUM(K35,K39,K44,K49,K51,K55,K60,K65,K69,K71,K74,K78,K80,K87) -> 0 | L89: =SUM(L35,L39,L44,L49,L51,L55,L60,L65,L69,L71,L74,L78,L80,L87) -> 0 | M89: =SUM(M35,M39,M44,M49,M51,M55,M60,M65,M69,M71,M74,M78,M80,M87) -> 0 | N89: =SUM(N35,N39,N44,N49,N51,N55,N60,N65,N69,N71,N74,N78,N80,N87) -> 0 | O89: =SUM(O35,O39,O44,O49,O51,O55,O60,O65,O69,O71,O74,O78,O80,O87) -> 0 | ... V89: =SUM(V35,V39,V44,V49,V51,V55,V60,V65,V69,V71,V74,V78,V80,V87) -> 0

Sheet Marketing - AU
E8: P&L
H9: Oct 19 | I9: Nov 19 | J9: Dec 19 | K9: Jan 20 | L9: Feb 20 | M9: Mar 20 | N9: Apr 20 | O9: May 20 | P9: Jun 20 | Q9: Jul 20 | R9: Aug 20 | S9: Sep 20 | T9: Oct 20 | U9: Nov 20 | V9: Dec 20
B11: Mapping | E11: € in thousands | G11: Assumption | H11: Oct 19 Budget | I11: Nov 19 Budget | J11: Dec 19 Budget | K11: Jan 20 Budget | L11: Feb 20 Budget | M11: Mar 20 Budget | N11: Apr 20 Budget | O11: May 20 Budget | P11: Jun 20 Budget | Q11: Jul 20 Budget | R11: Aug 20 Budget | S11: Sep 20 Budget | T11: Oct 20 Budget | U11: Nov 20 Budget | V11: Dec 20 Budget | X11: Comments / Explanation
B13: A | E13: A | H13: 0
B14: B | E14: B
B15: C | E15: C
B16: D | E16: D
B17: E | E17: E
C18: =E18 -> Production cost - Scanbox | E18: Production cost - Scanbox | H18: =SUM(H13:H17) -> 0 | I18: =SUM(I13:I17) -> 0 | J18: =SUM(J13:J17) -> 0 | K18: =SUM(K13:K17) -> 0 | L18: =SUM(L13:L17) -> 0 | M18: =SUM(M13:M17) -> 0 | N18: =SUM(N13:N17) -> 0 | O18: =SUM(O13:O17) -> 0 | ... V18: =SUM(V13:V17) -> 0
B19: F | E19: F
B20: G | E20: G
B21: H | E21: H
B22: I | E22: I
B23: J | E23: J
C24: =E24 -> Production cost - Starterkit | E24: Production cost - Starterkit | H24: =SUM(H19:H23) -> 0 | I24: =SUM(I19:I23) -> 0 | J24: =SUM(J19:J23) -> 0 | K24: =SUM(K19:K23) -> 0 | L24: =SUM(L19:L23) -> 0 | M24: =SUM(M19:M23) -> 0 | N24: =SUM(N19:N23) -> 0 | O24: =SUM(O19:O23) -> 0 | ... V24: =SUM(V19:V23) -> 0
B25: K | E25: K
B26: L | E26: L
B27: M | E27: M
B28: N | E28: N
B29: O | E29: O
C30: =E30 -> Production cost - Cheek retractor | E30: Production cost - Cheek retractor | H30: =SUM(H25:H29) -> 0 | I30: =SUM(I25:I29) -> 0 | J30: =SUM(J25:J29) -> 0 | K30: =SUM(K25:K29) -> 0 | L30: =SUM(L25:L29) -> 0 | M30: =SUM(M25:M29) -> 0 | N30: =SUM(N25:N29) -> 0 | O30: =SUM(O25:O29) -> 0 | ... V30: =SUM(V25:V29) -> 0
E31: Cost of Goods Sold | H31: =SUM(H18,H24,H30) -> 0 | I31: =SUM(I18,I24,I30) -> 0 | J31: =SUM(J18,J24,J30) -> 0 | K31: =SUM(K18,K24,K30) -> 0 | L31: =SUM(L18,L24,L30) -> 0 | M31: =SUM(M18,M24,M30) -> 0 | N31: =SUM(N18,N24,N30) -> 0 | O31: =SUM(O18,O24,O30) -> 0 | ... V31: =SUM(V18,V24,V30) -> 0
B33: Advertising - Offline | E33: Advertising - Offline
B34: Advertising - Online | E34: Advertising - Online
C35: Advertising expenses | E35: Advertising expenses | H35: =SUM(H33:H34) -> 0 | I35: =SUM(I33:I34) -> 0 | J35: =SUM(J33:J34) -> 0 | K35: =SUM(K33:K34) -> 0 | L35: =SUM(L33:L34) -> 0 | M35: =SUM(M33:M34) -> 0 | N35: =SUM(N33:N34) -> 0 | O35: =SUM(O33:O34) -> 0 | ... V35: =SUM(V33:V34) -> 0
B37: Rental - Booth | E37: Rental - Booth
B38: Booth customization | E38: Booth customization
C39: Event costs | E39: Event costs | H39: =SUM(H37:H38) -> 0 | I39: =SUM(I37:I38) -> 0 | J39: =SUM(J37:J38) -> 0 | K39: =SUM(K37:K38) -> 0 | L39: =SUM(L37:L38) -> 0 | M39: =SUM(M37:M38) -> 0 | N39: =SUM(N37:N38) -> 0 | O39: =SUM(O37:O38) -> 0 | ... V39: =SUM(V37:V38) -> 0
B40: Type of fees (ex: auditor fees) | E40: Type of fees (ex: auditor fees)
B41: Type of fees (ex: translation fees) | E41: Type of fees (ex: translation fees)
B42: Type of fees (ex: KOL) | E42: Type of fees (ex: KOL)
B43: Type of fees (ex: developer fees) | E43: Type of fees (ex: developer fees)
C44: Professional fees | E44: Professional fees | H44: =SUM(H40,H41,H43) -> 0 | I44: =SUM(I40,I41,I43) -> 0 | J44: =SUM(J40,J41,J43) -> 0 | K44: =SUM(K40,K41,K43) -> 0 | L44: =SUM(L40,L41,L43) -> 0 | M44: =SUM(M40,M41,M43) -> 0 | N44: =SUM(N40,N41,N43) -> 0 | O44: =SUM(O40,O41,O43) -> 0 | ... V44: =SUM(V40,V41,V43) -> 0
B46: Software 1 | E46: Software 1
B47: Software 2 | E47: Software 2
B48: Software 3 | E48: Software 3
C49: Software costs | E49: Software costs | H49: =SUM(H46:H48) -> 0 | I49: =SUM(I46:I48) -> 0 | J49: =SUM(J46:J48) -> 0 | K49: =SUM(K46:K48) -> 0 | L49: =SUM(L46:L48) -> 0 | M49: =SUM(M46:M48) -> 0 | N49: =SUM(N46:N48) -> 0 | O49: =SUM(O46:O48) -> 0 | ... V49: =SUM(V46:V48) -> 0
C51: Patent fees | E51: Patent fees
B53: Meals & Entertainment - Staff | E53: Meals & Entertainment - Staff
B54: Meals & Entertainment - External | E54: Meals & Entertainment - External
C55: Meals & Entertainment | E55: Meals & Entertainment | H55: =SUM(H53:H54) -> 0 | I55: =SUM(I53:I54) -> 0 | J55: =SUM(J53:J54) -> 0 | K55: =SUM(K53:K54) -> 0 | L55: =SUM(L53:L54) -> 0 | M55: =SUM(M53:M54) -> 0 | N55: =SUM(N53:N54) -> 0 | O55: =SUM(O53:O54) -> 0 | ... V55: =SUM(V53:V54) -> 0
B56: Rental - Office | E56: Rental - Office
B57: Rental - Furniture | E57: Rental - Furniture
B58: Utilities (Water & Electricity) | E58: Utilities (Water & Electricity)
B59: Office maintenance | E59: Office maintenance
C60: Rental and offices costs | E60: Rental and offices costs | H60: =SUM(H56:H59) -> 0 | I60: =SUM(I56:I59) -> 0 | J60: =SUM(J56:J59) -> 0 | K60: =SUM(K56:K59) -> 0 | L60: =SUM(L56:L59) -> 0 | M60: =SUM(M56:M59) -> 0 | N60: =SUM(N56:N59) -> 0 | O60: =SUM(O56:O59) -> 0 | ... V60: =SUM(V56:V59) -> 0
B61: Space Rental | E61: Space Rental
B62: Goodies | E62: Goodies
B63: Brochures | E63: Brochures
B64: Other marketing costs | E64: Other marketing costs
C65: Marketing costs | E65: Marketing costs | H65: =SUM(H61:H64) -> 0 | I65: =SUM(I61:I64) -> 0 | J65: =SUM(J61:J64) -> 0 | K65: =SUM(K61:K64) -> 0 | L65: =SUM(L61:L64) -> 0 | M65: =SUM(M61:M64) -> 0 | N65: =SUM(N61:N64) -> 0 | O65: =SUM(O61:O64) -> 0 | ... V65: =SUM(V61:V64) -> 0
B67: Software 2 | E67: Software 2
B68: Software 3 | E68: Software 3
C69: Software costs | E69: Software costs | H69: =SUM(H67:H68) -> 0 | I69: =SUM(I67:I68) -> 0 | J69: =SUM(J67:J68) -> 0 | K69: =SUM(K67:K68) -> 0 | L69: =SUM(L67:L68) -> 0 | M69: =SUM(M67:M68) -> 0 | N69: =SUM(N67:N68) -> 0 | O69: =SUM(O67:O68) -> 0 | ... V69: =SUM(V67:V68) -> 0
C71: Server costs | E71: Server costs
B72: Internet | E72: Internet
B73: Phone | E73: Phone
C74: Phone and internet | E74: Phone and internet | H74: =SUM(H72:H73) -> 0 | I74: =SUM(I72:I73) -> 0 | J74: =SUM(J72:J73) -> 0 | K74: =SUM(K72:K73) -> 0 | L74: =SUM(L72:L73) -> 0 | M74: =SUM(M72:M73) -> 0 | N74: =SUM(N72:N73) -> 0 | O74: =SUM(O72:O73) -> 0 | ... V74: =SUM(V72:V73) -> 0
B75: Product insurance | E75: Product insurance
B76: Office insurance | E76: Office insurance
B77: Other insurance | E77: Other insurance
C78: Insurance | E78: Insurance | H78: =SUM(H75:H76) -> 0 | I78: =SUM(I75:I76) -> 0 | J78: =SUM(J75:J76) -> 0 | K78: =SUM(K75:K76) -> 0 | L78: =SUM(L75:L76) -> 0 | M78: =SUM(M75:M76) -> 0 | N78: =SUM(N75:N76) -> 0 | O78: =SUM(O75:O76) -> 0 | ... V78: =SUM(V75:V76) -> 0
C80: Travel | E80: Travel
B81: Gifts - External | E81: Gifts - External
B82: Gifts - Staff | E82: Gifts - Staff
B83: Postage | E83: Postage
B84: Printing | E84: Printing
B85: Other operating expenses | E85: Other operating expenses
B86: Purchases of administrative supplies | E86: Purchases of administrative supplies
C87: Other expenses | E87: Other expenses | H87: =SUM(H53:H85) -> 0 | I87: =SUM(I53:I85) -> 0 | J87: =SUM(J53:J85) -> 0 | K87: =SUM(K53:K85) -> 0 | L87: =SUM(L53:L85) -> 0 | M87: =SUM(M53:M85) -> 0 | N87: =SUM(N53:N85) -> 0 | O87: =SUM(O53:O85) -> 0 | ... V87: =SUM(V53:V85) -> 0
E89: Other operating expenses | H89: =SUM(H35,H39,H44,H49,H51,H55,H60,H65,H69,H71,H74,H78,H80,H87) -> 0 | I89: =SUM(I35,I39,I44,I49,I51,I55,I60,I65,I69,I71,I74,I78,I80,I87) -> 0 | J89: =SUM(J35,J39,J44,J49,J51,J55,J60,J65,J69,J71,J74,J78,J80,J87) -> 0 | K89: =SUM(K35,K39,K44,K49,K51,K55,K60,K65,K69,K71,K74,K78,K80,K87) -> 0 | L89: =SUM(L35,L39,L44,L49,L51,L55,L60,L65,L69,L71,L74,L78,L80,L87) -> 0 | M89: =SUM(M35,M39,M44,M49,M51,M55,M60,M65,M69,M71,M74,M78,M80,M87) -> 0 | N89: =SUM(N35,N39,N44,N49,N51,N55,N60,N65,N69,N71,N74,N78,N80,N87) -> 0 | O89: =SUM(O35,O39,O44,O49,O51,O55,O60,O65,O69,O71,O74,O78,O80,O87) -> 0 | ... V89: =SUM(V35,V39,V44,V49,V51,V55,V60,V65,V69,V71,V74,V78,V80,V87) -> 0

Sheet f
