Workbook

Sheet Feuil1
A1: N° de série | B1: N° de lots | C1: Fournisseurs | D1: Date de production | E1: date de réception
A2: 594 | B2: 486 | C2: =VLOOKUP(VALUE($B2),Feuil2!$A:$D,2,0) -> Patatoes&Co | D2: =VLOOKUP(VALUE($B2),Feuil2!$A:$D,3,0) -> 42059 | E2: =VLOOKUP(VALUE($B2),Feuil2!$A:$D,4,0) -> 42061
A3: 595 | B3: 488 | C3: =VLOOKUP(VALUE($B3),Feuil2!$A:$D,2,0) -> JeanGui | D3: =VLOOKUP(VALUE($B3),Feuil2!$A:$D,3,0) -> 42060 | E3: =VLOOKUP(VALUE($B3),Feuil2!$A:$D,4,0) -> 42062
A4: 597 | B4: 486 | C4: =VLOOKUP(VALUE($B4),Feuil2!$A:$D,2,0) -> Patatoes&Co | D4: =VLOOKUP(VALUE($B4),Feuil2!$A:$D,3,0) -> 42059 | E4: =VLOOKUP(VALUE($B4),Feuil2!$A:$D,4,0) -> 42061
A5: 598 | B5: 486 | C5: =VLOOKUP(VALUE($B5),Feuil2!$A:$D,2,0) -> Patatoes&Co | D5: =VLOOKUP(VALUE($B5),Feuil2!$A:$D,3,0) -> 42059 | E5: =VLOOKUP(VALUE($B5),Feuil2!$A:$D,4,0) -> 42061
A6: 599 | B6: 486 | C6: =VLOOKUP(VALUE($B6),Feuil2!$A:$D,2,0) -> Patatoes&Co | D6: =VLOOKUP(VALUE($B6),Feuil2!$A:$D,3,0) -> 42059 | E6: =VLOOKUP(VALUE($B6),Feuil2!$A:$D,4,0) -> 42061
A7: 600 | B7: 481 | C7: =VLOOKUP(VALUE($B7),Feuil2!$A:$D,2,0) -> #N/A | D7: =VLOOKUP(VALUE($B7),Feuil2!$A:$D,3,0) -> #N/A | E7: =VLOOKUP(VALUE($B7),Feuil2!$A:$D,4,0) -> #N/A
A8: 602 | B8: 490 | C8: =VLOOKUP(VALUE($B8),Feuil2!$A:$D,2,0) -> JeanGui | D8: =VLOOKUP(VALUE($B8),Feuil2!$A:$D,3,0) -> 42061 | E8: =VLOOKUP(VALUE($B8),Feuil2!$A:$D,4,0) -> 42062
A9: 603 | B9: 485 | C9: =VLOOKUP(VALUE($B9),Feuil2!$A:$D,2,0) -> Amino | D9: =VLOOKUP(VALUE($B9),Feuil2!$A:$D,3,0) -> 42060 | E9: =VLOOKUP(VALUE($B9),Feuil2!$A:$D,4,0) -> 42061
A10: 604 | B10: 485 | C10: =VLOOKUP(VALUE($B10),Feuil2!$A:$D,2,0) -> Amino | D10: =VLOOKUP(VALUE($B10),Feuil2!$A:$D,3,0) -> 42060 | E10: =VLOOKUP(VALUE($B10),Feuil2!$A:$D,4,0) -> 42061
A11: 605 | B11: 485 | C11: =VLOOKUP(VALUE($B11),Feuil2!$A:$D,2,0) -> Amino | D11: =VLOOKUP(VALUE($B11),Feuil2!$A:$D,3,0) -> 42060 | E11: =VLOOKUP(VALUE($B11),Feuil2!$A:$D,4,0) -> 42061
A12: 605 | B12: 490 | C12: =VLOOKUP(VALUE($B12),Feuil2!$A:$D,2,0) -> JeanGui | D12: =VLOOKUP(VALUE($B12),Feuil2!$A:$D,3,0) -> 42061 | E12: =VLOOKUP(VALUE($B12),Feuil2!$A:$D,4,0) -> 42062
A13: 605 | B13: 491 | C13: =VLOOKUP(VALUE($B13),Feuil2!$A:$D,2,0) -> JeanGui | D13: =VLOOKUP(VALUE($B13),Feuil2!$A:$D,3,0) -> 42062 | E13: =VLOOKUP(VALUE($B13),Feuil2!$A:$D,4,0) -> 42065

Sheet Feuil2
A1: N° de lots | B1: Fournisseurs | C1: Date de production | D1: date de réception
A2: 483 | B2: Tartenpion | C2: 42059 | D2: 42061
A3: 484 | B3: Amino | C3: 42059 | D3: 42061
A4: 485 | B4: Amino | C4: 42060 | D4: 42061
A5: 486 | B5: Patatoes&Co | C5: 42059 | D5: 42061
A6: 487 | B6: Patatoes&Co | C6: 42059 | D6: 42061
A7: 488 | B7: JeanGui | C7: 42060 | D7: 42062
A8: 489 | B8: JeanGui | C8: 42060 | D8: 42062
A9: 490 | B9: JeanGui | C9: 42061 | D9: 42062
A10: 491 | B10: JeanGui | C10: 42062 | D10: 42065
A11: 492 | B11: Tartenpion | C11: 42062 | D11: 42065
A12: 493 | B12: Tartenpion | C12: 42062 | D12: 42065
A13: 494 | B13: Tartenpion | C13: 42062 | D13: 42065
... A18: 499 | B18: Bramos | C18: 42062 | D18: 42066

Sheet RESULTATS DESIRES
A1: N° de série | B1: N° de lots | C1: Fournisseurs | D1: Date de production | E1: date de réception
A2: 594 | B2: 486 | C2: Patatoes&Co | D2: 42059 | E2: 42061
A3: 595 | B3: 488 | C3: JeanGui | D3: 42060 | E3: 42062
A4: … | B4: … | C4: … | D4: … | E4: …
A5: 605 | B5: 485,490,491 | C5: Amino, JeanGui, JeanGui | D5: 25/02/2015, 26/02/2015, 27/02/2015 | E5: 26/02/2015, 27/02/2015, 02/03/2015
