Workbook
Name avril: 'Ventes consolidées'!$E$3:$E$7
Name Columbia: 'Ventes consolidées'!$B$6:$G$6
Name Erato: 'Ventes consolidées'!$B$7:$G$7
Name février: 'Ventes consolidées'!$C$3:$C$7
Name janvier: 'Ventes consolidées'!$B$3:$B$7
Name juin: 'Ventes consolidées'!$G$3:$G$7
Name mai: 'Ventes consolidées'!$F$3:$F$7
Name mars: 'Ventes consolidées'!$D$3:$D$7
Name Philips: 'Ventes consolidées'!$B$4:$G$4
Name Sony: 'Ventes consolidées'!$B$3:$G$3
Name Virgin: 'Ventes consolidées'!$B$5:$G$5

Sheet CD classique
A1: Vente de CD classique
A2: sociétés | B2: janvier | C2: février | D2: mars | E2: avril | F2: mai | G2: juin
A3: Sony | B3: 62 | C3: 45 | D3: 68
A4: Philips | B4: 35 | C4: 42 | D4: 49
A5: Virgin | B5: 48 | C5: 38 | D5: 25
A6: Columbia | B6: 23 | C6: 18 | D6: 33
A7: Erato | B7: 18 | C7: 21 | D7: 12
A8: Totaux | B8: =SUM(B3:B7) -> 186 | C8: =SUM(C3:C7) -> 164 | D8: =SUM(D3:D7) -> 187

Sheet CD Rock
A1: Vente de CD Rock
A2: sociétés | B2: janvier | C2: février | D2: mars | E2: avril | F2: mai | G2: juin
A3: Sony | B3: 128 | C3: 153 | D3: 148
A4: Philips | B4: 112 | C4: 125 | D4: 142
A5: Virgin | B5: 210 | C5: 221 | D5: 198
A6: Columbia | B6: 51 | C6: 66 | D6: 75
A7: Erato | B7: 42 | C7: 33 | D7: 56
A8: Totaux | B8: =SUM(B3:B7) -> 543 | C8: =SUM(C3:C7) -> 598 | D8: =SUM(D3:D7) -> 619

Sheet CD Jazz
A1: Vente de CD Jazz
A2: sociétés | B2: janvier | C2: février | D2: mars | E2: avril | F2: mai | G2: juin
A3: Sony | B3: 45 | C3: 52 | D3: 68
A4: Philips | B4: 56 | C4: 86 | D4: 72
A5: Virgin | B5: 83 | C5: 75 | D5: 70
A6: Columbia | B6: 23 | C6: 28 | D6: 15
A7: Erato | B7: 62 | C7: 43 | D7: 56
A8: Totaux | B8: =SUM(B3:B7) -> 269 | C8: =SUM(C3:C7) -> 284 | D8: =SUM(D3:D7) -> 281

Sheet Ventes consolidées
A1: Vente de CD
A2: sociétés | B2: janvier | C2: février | D2: mars | E2: avril | F2: mai | G2: juin | H2: Total
A3: Sony | B3: ='CD classique'!B3+'CD Rock'!B3+'CD Jazz'!B3 -> 235 | C3: ='CD classique'!C3+'CD Rock'!C3+'CD Jazz'!C3 -> 250 | D3: ='CD classique'!D3+'CD Rock'!D3+'CD Jazz'!D3 -> 284 | E3: ='CD classique'!E3+'CD Rock'!E3+'CD Jazz'!E3 -> 0 | F3: ='CD classique'!F3+'CD Rock'!F3+'CD Jazz'!F3 -> 0 | G3: ='CD classique'!G3+'CD Rock'!G3+'CD Jazz'!G3 -> 0 | H3: =SUM(INDIRECT(A3)) -> 769
A4: Philips | B4: ='CD classique'!B4+'CD Rock'!B4+'CD Jazz'!B4 -> 203 | C4: ='CD classique'!C4+'CD Rock'!C4+'CD Jazz'!C4 -> 253 | D4: ='CD classique'!D4+'CD Rock'!D4+'CD Jazz'!D4 -> 263 | E4: ='CD classique'!E4+'CD Rock'!E4+'CD Jazz'!E4 -> 0 | F4: ='CD classique'!F4+'CD Rock'!F4+'CD Jazz'!F4 -> 0 | G4: ='CD classique'!G4+'CD Rock'!G4+'CD Jazz'!G4 -> 0 | H4: =SUM(INDIRECT(A4)) -> 719
A5: Virgin | B5: ='CD classique'!B5+'CD Rock'!B5+'CD Jazz'!B5 -> 341 | C5: ='CD classique'!C5+'CD Rock'!C5+'CD Jazz'!C5 -> 334 | D5: ='CD classique'!D5+'CD Rock'!D5+'CD Jazz'!D5 -> 293 | E5: ='CD classique'!E5+'CD Rock'!E5+'CD Jazz'!E5 -> 0 | F5: ='CD classique'!F5+'CD Rock'!F5+'CD Jazz'!F5 -> 0 | G5: ='CD classique'!G5+'CD Rock'!G5+'CD Jazz'!G5 -> 0 | H5: =SUM(INDIRECT(A5)) -> 968
A6: Columbia | B6: ='CD classique'!B6+'CD Rock'!B6+'CD Jazz'!B6 -> 97 | C6: ='CD classique'!C6+'CD Rock'!C6+'CD Jazz'!C6 -> 112 | D6: ='CD classique'!D6+'CD Rock'!D6+'CD Jazz'!D6 -> 123 | E6: ='CD classique'!E6+'CD Rock'!E6+'CD Jazz'!E6 -> 0 | F6: ='CD classique'!F6+'CD Rock'!F6+'CD Jazz'!F6 -> 0 | G6: ='CD classique'!G6+'CD Rock'!G6+'CD Jazz'!G6 -> 0 | H6: =SUM(INDIRECT(A6)) -> 332
A7: Erato | B7: ='CD classique'!B7+'CD Rock'!B7+'CD Jazz'!B7 -> 122 | C7: ='CD classique'!C7+'CD Rock'!C7+'CD Jazz'!C7 -> 97 | D7: ='CD classique'!D7+'CD Rock'!D7+'CD Jazz'!D7 -> 124 | E7: ='CD classique'!E7+'CD Rock'!E7+'CD Jazz'!E7 -> 0 | F7: ='CD classique'!F7+'CD Rock'!F7+'CD Jazz'!F7 -> 0 | G7: ='CD classique'!G7+'CD Rock'!G7+'CD Jazz'!G7 -> 0 | H7: =SUM(INDIRECT(A7)) -> 343
A8: Totaux | B8: =SUM(INDIRECT(B2)) -> 998 | C8: =SUM(INDIRECT(C2)) -> 1046 | D8: =SUM(INDIRECT(D2)) -> 1087 | E8: =SUM(INDIRECT(E2)) -> 0 | F8: =SUM(INDIRECT(F2)) -> 0 | G8: =SUM(INDIRECT(G2)) -> 0 | H8: =SUM(B8:G8) -> 3131
