Workbook
Name Base_MP: '[1]Base Famille MP & EMB'!$A$6:$N$147
Name Hierarchie_PF: '[1]Base Famille PF'!$A$1:$K$41

Sheet Volumes
P4: Equipement
A5: TOTAL | D5: =SUM(D6:D13) -> #REF! | E5: =SUM(E6:E13) -> #REF! | F5: =SUM(F6:F13) -> #REF! | G5: =SUM(G6:G13) -> #REF! | H5: =SUM(H6:H13) -> #REF! | I5: =SUM(I6:I13) -> #REF! | J5: =SUM(J6:J13) -> #REF! | N5: Augmentation annuelle | P5: =SUM(P6:P13) -> #REF! | Q5: Ratio
A6: LAMINAGE A FROID | D6: =#REF! -> #REF! | E6: =#REF! -> #REF! | F6: =#REF! -> #REF! | G6: =#REF! -> #REF! | H6: =#REF! -> #REF! | I6: =#REF! -> #REF! | J6: =#REF! -> #REF! | N6: 0.01 | P6: =+#REF! -> #REF! | Q6: =+P6/$P$5 -> #REF!
A7: TREILLIS ANTI-FISSURATION | D7: =#REF! -> #REF! | E7: =#REF! -> #REF! | F7: =#REF! -> #REF! | G7: =#REF! -> #REF! | H7: =#REF! -> #REF! | I7: =#REF! -> #REF! | J7: =#REF! -> #REF! | P7: =+#REF! -> #REF! | Q7: =+P7/$P$5 -> #REF!
A8: TREILLIS DE STRUCTURE | D8: ='T.S. Structure'!D24 -> 0 | E8: ='T.S. Structure'!E24 -> 0 | F8: ='T.S. Structure'!F24 -> 0 | G8: ='T.S. Structure'!G24 -> 0 | H8: ='T.S. Structure'!H24 -> 0 | I8: ='T.S. Structure'!I24 -> 0 | J8: ='T.S. Structure'!J24 -> 0 | N8: 0.01 | P8: =+'T.S. Structure'!B9 -> 0 | Q8: =+P8/$P$5 -> #REF!
A9: POUTRELLES | D9: =#REF! -> #REF! | E9: =#REF! -> #REF! | F9: =#REF! -> #REF! | G9: =#REF! -> #REF! | H9: =#REF! -> #REF! | I9: =#REF! -> #REF! | J9: =#REF! -> #REF! | N9: 0.02 | P9: =#REF! -> #REF! | Q9: =+P9/$P$5 -> #REF!
A10: COUPE FACONNE | D10: ='Coupé façonné'!D24 -> 0 | E10: ='Coupé façonné'!E24 -> 0 | F10: ='Coupé façonné'!F24 -> 0 | G10: ='Coupé façonné'!G24 -> 0 | H10: ='Coupé façonné'!H24 -> 0 | I10: ='Coupé façonné'!I24 -> 0 | J10: ='Coupé façonné'!J24 -> 0 | P10: ='Coupé façonné'!B9 -> 0 | Q10: =+P10/$P$5 -> #REF!
A11: ARMATURES STANDARDS | B11: 1 | D11: =IF($B$11=1,'Armatures STD'!D24,"") -> 0 | E11: =IF($B$11=1,'Armatures STD'!E24,"") -> 0 | F11: =IF($B$11=1,'Armatures STD'!F24,"") -> 0 | G11: =IF($B$11=1,'Armatures STD'!G24,"") -> 0 | H11: =IF($B$11=1,'Armatures STD'!H24,"") -> 0 | I11: =IF($B$11=1,'Armatures STD'!I24,"") -> 0 | J11: =IF($B$11=1,'Armatures STD'!J24,"") -> 0 | N11: 0.02 | P11: =IF(B11=1,'Armatures STD'!B9,"") -> 0 | Q11: =IF(P11="",0,P11/$P$5) -> #REF!
Q12: =+P12/$P$5 -> #REF!
Q13: =+P13/$P$5 -> #REF!
B16: Laminage a Froid | D16: =+#REF! -> #REF! | E16: =+#REF! -> #REF! | F16: =+#REF! -> #REF! | G16: =+#REF! -> #REF! | H16: =+#REF! -> #REF! | I16: =+#REF! -> #REF! | J16: =+#REF! -> #REF!

Sheet Inv-Financement
C3: 1 | D3: 3.4 | H3: Surface | I3: 8000 | J3: M2
H4: P.U. | I4: 30 | J4: DT par an
A5: INFRASTRUCTURE | D5: =IF(M2=1,0,E5) -> #REF! | E5: =+#REF! -> #REF! | G5: Loyer Annuel Batiment | I5: =IF(#REF!=1,K5,0) -> #REF! | J5: DT par an | K5: =I3*I4 -> 240000
A6: EQUIPEMENT | C6: =Volumes!P5 -> #REF! | D6: =D3*C6 -> #REF!
A7: UTILITES ET INSTALLATION | D7: 1000000
A9: TOTAL INVESTISSEMENT | D9: =D5+D6+D7 -> #REF!
A12: FOND PROPRE | B12: =[2]Invest!$C$33*0.3 -> 3741975 | C12: =D9*0.3 -> #REF!
A13: PRËT | B13: =[2]Invest!$C$33-'[2]Charges Financières'!B10 -> 8731275 | C13: =D9*0.7 -> #REF!
A14: Durée | C14: 7 | D14: ans
A15: Taux d'interêt | C15: 0.1
C18: 1ère année | D18: 2ème année | E18: 3ème année | F18: 4ème année | G18: 5ème année | H18: 6ème année | I18: 7ème année | J18: 8ème année | K18: 9ème année | L18: 10ème année
A19: Frais Fixes | C19: =$C$13/$N$19 -> #REF! | D19: =$C$13/$N$19 -> #REF! | E19: =$C$13/$N$19 -> #REF! | F19: =$C$13/$N$19 -> #REF! | G19: =$C$13/$N$19 -> #REF! | H19: =$C$13/$N$19 -> #REF! | I19: =$C$13/$N$19 -> #REF! | J19: =$C$13/$N$19 -> #REF! | ... L19: =$C$13/$N$19 -> #REF! | N19: =C14 -> 7
A20: Cumul remboursement fixe | C20: =C19+B19 -> #REF! | D20: =D19+C20 -> #REF! | E20: =E19+D20 -> #REF! | F20: =F19+E20 -> #REF! | G20: =G19+F20 -> #REF! | H20: =H19+G20 -> #REF! | I20: =I19+H20 -> #REF! | J20: =J19+I20 -> #REF! | K20: =K19+J20 -> #REF! | L20: =L19+K20 -> #REF!
A21: Charges Interêt | C21: =($C$13- B20)*$N$21 -> #REF! | D21: =($C$13- C20)*$N$21 -> #REF! | E21: =($C$13- D20)*$N$21 -> #REF! | F21: =($C$13- E20)*$N$21 -> #REF! | G21: =($C$13- F20)*$N$21 -> #REF! | H21: =($C$13- G20)*$N$21 -> #REF! | I21: =($C$13- H20)*$N$21 -> #REF! | J21: =($C$13- I20)*$N$21 -> #REF! | ... L21: =($C$13- K20)*$N$21 -> #REF! | N21: =C15 -> 0.1
A22: Total Charges | C22: =C21+C19 -> #REF! | D22: =D21+D19 -> #REF! | E22: =E21+E19 -> #REF! | F22: =F21+F19 -> #REF! | G22: =G21+G19 -> #REF! | H22: =H21+H19 -> #REF! | I22: =I21+I19 -> #REF! | J22: =J21+J19 -> #REF! | ... L22: =L21+L19 -> #REF!
A25: CHARGES FINANCIERES PAR PRODUIT
A27: Bobines laminées à froid | C27: =C22*[2]Invest!$E$18/[2]Invest!$C$33 -> #REF! | D27: =D22*[2]Invest!$E$18/[2]Invest!$C$33 -> #REF! | E27: =E22*[2]Invest!$E$18/[2]Invest!$C$33 -> #REF! | F27: =F22*[2]Invest!$E$18/[2]Invest!$C$33 -> #REF! | G27: =G22*[2]Invest!$E$18/[2]Invest!$C$33 -> #REF! | H27: =H22*[2]Invest!$E$18/[2]Invest!$C$33 -> #REF! | I27: =I22*[2]Invest!$E$18/[2]Invest!$C$33 -> #REF! | J27: =J22*[2]Invest!$E$18/[2]Invest!$C$33 -> #REF! | ... L27: =L22*[2]Invest!$E$18/[2]Invest!$C$33 -> #REF!
A28: TREILLIS SOUDES | C28: =C22*[2]Invest!$E$19/[2]Invest!$C$33 -> #REF! | D28: =D22*[2]Invest!$E$19/[2]Invest!$C$33 -> #REF! | E28: =E22*[2]Invest!$E$19/[2]Invest!$C$33 -> #REF! | F28: =F22*[2]Invest!$E$19/[2]Invest!$C$33 -> #REF! | G28: =G22*[2]Invest!$E$19/[2]Invest!$C$33 -> #REF! | H28: =H22*[2]Invest!$E$19/[2]Invest!$C$33 -> #REF! | I28: =I22*[2]Invest!$E$19/[2]Invest!$C$33 -> #REF! | J28: =J22*[2]Invest!$E$19/[2]Invest!$C$33 -> #REF! | ... L28: =L22*[2]Invest!$E$19/[2]Invest!$C$33 -> #REF!
A29: POUTRELLES | C29: =C22*[2]Invest!$E$20/[2]Invest!$C$33 -> #REF! | D29: =D22*[2]Invest!$E$20/[2]Invest!$C$33 -> #REF! | E29: =E22*[2]Invest!$E$20/[2]Invest!$C$33 -> #REF! | F29: =F22*[2]Invest!$E$20/[2]Invest!$C$33 -> #REF! | G29: =G22*[2]Invest!$E$20/[2]Invest!$C$33 -> #REF! | H29: =H22*[2]Invest!$E$20/[2]Invest!$C$33 -> #REF! | I29: =I22*[2]Invest!$E$20/[2]Invest!$C$33 -> #REF! | J29: =J22*[2]Invest!$E$20/[2]Invest!$C$33 -> #REF! | ... L29: =L22*[2]Invest!$E$20/[2]Invest!$C$33 -> #REF!
A30: PRODUITS COUPES FACONNES | C30: =C22*[2]Invest!$E$21/[2]Invest!$C$33 -> #REF! | D30: =D22*[2]Invest!$E$21/[2]Invest!$C$33 -> #REF! | E30: =E22*[2]Invest!$E$21/[2]Invest!$C$33 -> #REF! | F30: =F22*[2]Invest!$E$21/[2]Invest!$C$33 -> #REF! | G30: =G22*[2]Invest!$E$21/[2]Invest!$C$33 -> #REF! | H30: =H22*[2]Invest!$E$21/[2]Invest!$C$33 -> #REF! | I30: =I22*[2]Invest!$E$21/[2]Invest!$C$33 -> #REF! | J30: =J22*[2]Invest!$E$21/[2]Invest!$C$33 -> #REF! | ... L30: =L22*[2]Invest!$E$21/[2]Invest!$C$33 -> #REF!
A31: ARMATURES STANDARDS | F31: =F22*[2]Invest!$E$41/[2]Invest!$C$33 -> #REF! | G31: =G22*[2]Invest!$E$41/[2]Invest!$C$33 -> #REF! | H31: =H22*[2]Invest!$E$41/[2]Invest!$C$33 -> #REF! | I31: =I22*[2]Invest!$E$41/[2]Invest!$C$33 -> #REF! | J31: =J22*[2]Invest!$E$41/[2]Invest!$C$33 -> #REF! | K31: =K22*[2]Invest!$E$41/[2]Invest!$C$33 -> #REF! | L31: =L22*[2]Invest!$E$41/[2]Invest!$C$33 -> #REF!
A35: REINVESTISSEMENT 2EME LIGNE DE LAMINAGE A FROID
A37: FOND PROPRE | B37: =[2]Invest!$C$33*0.3 -> 3741975 | C37: =[2]Invest!E39*0.3 -> 463434.22
A38: PRËT | B38: =[2]Invest!$C$33-'[2]Charges Financières'!B35 -> 8731275 | C38: =[2]Invest!E39*0.7 -> 1081346.5
A39: Durée | C39: 7 | D39: ans
A40: Taux d'interêt | C40: 0.07
C43: 1ère année | D43: 2ème année | E43: 3ème année | F43: 4ème année | G43: 5ème année | H43: 6ème année | I43: 7ème année | J43: 8ème année | K43: 9ème année | L43: 10ème année
A44: Frais Fixes | F44: =$C$38/$C$39 -> 154478.07 | G44: =$C$38/$C$39 -> 154478.07 | H44: =$C$38/$C$39 -> 154478.07 | I44: =$C$38/$C$39 -> 154478.07 | J44: =$C$38/$C$39 -> 154478.07 | K44: =$C$38/$C$39 -> 154478.07 | L44: =$C$38/$C$39 -> 154478.07 | N44: =C39 -> 7
A45: Cumul remboursement fixe | C45: =C44+B44 -> 0 | D45: =D44+C45 -> 0 | E45: =E44+D45 -> 0 | F45: =F44+E45 -> 154478.07 | G45: =G44+F45 -> 308956.15 | H45: =H44+G45 -> 463434.22 | I45: =I44+H45 -> 617912.3 | J45: =J44+I45 -> 772390.37 | K45: =K44+J45 -> 926868.45 | L45: =L44+K45 -> 1081346.5
A46: Frais Variables | F46: =($C$38- E45)*$C$40 -> 75694.257 | G46: =($C$38- F45)*$C$40 -> 64880.791 | H46: =($C$38- G45)*$C$40 -> 54067.326 | I46: =($C$38- H45)*$C$40 -> 43253.861 | J46: =($C$38- I45)*$C$40 -> 32440.396 | K46: =($C$38- J45)*$C$40 -> 21626.93 | L46: =($C$38- K45)*$C$40 -> 10813.465 | N46: =C40 -> 0.07
A47: Total Charges | C47: =C46+C44 -> 0 | D47: =D46+D44 -> 0 | E47: =E46+E44 -> 0 | F47: =F46+F44 -> 230172.33 | G47: =G46+G44 -> 219358.87 | H47: =H46+H44 -> 208545.4 | I47: =I46+I44 -> 197731.94 | J47: =J46+J44 -> 186918.47 | ... L47: =L46+L44 -> 165291.54
A50: REINVESTISSEMENT UNITE DE FACONNAGE D'ARMATURE STANDARD
A52: FOND PROPRE | B52: =[2]Invest!$C$33*0.3 -> 3741975 | C52: =[2]Invest!E41*0.3 -> 1164038.1
A53: PRËT | B53: =[2]Invest!$C$33-'[2]Charges Financières'!B50 -> 8731275 | C53: =[2]Invest!E41*0.7 -> 2716089
A54: Durée | C54: 7 | D54: ans
A55: Taux d'interêt | C55: 0.07
C58: 1ère année | D58: 2ème année | E58: 3ème année | F58: 4ème année | G58: 5ème année | H58: 6ème année | I58: 7ème année | J58: 8ème année | K58: 9ème année | L58: 10ème année
A59: Frais Fixes | F59: =$C$53/$C$54 -> 388012.71 | G59: =$C$53/$C$54 -> 388012.71 | H59: =$C$53/$C$54 -> 388012.71 | I59: =$C$53/$C$54 -> 388012.71 | J59: =$C$53/$C$54 -> 388012.71 | K59: =$C$53/$C$54 -> 388012.71 | L59: =$C$53/$C$54 -> 388012.71 | N59: =C54 -> 7
A60: Cumul remboursement fixe | C60: =C59+B59 -> 0 | D60: =D59+C60 -> 0 | E60: =E59+D60 -> 0 | F60: =F59+E60 -> 388012.71 | G60: =G59+F60 -> 776025.42 | H60: =H59+G60 -> 1164038.1 | I60: =I59+H60 -> 1552050.8 | J60: =J59+I60 -> 1940063.6 | K60: =K59+J60 -> 2328076.3 | L60: =L59+K60 -> 2716089
A61: Frais Variables | F61: =($C$53- E60)*$C$55 -> 190126.23 | G61: =($C$53- F60)*$C$55 -> 162965.34 | H61: =($C$53- G60)*$C$55 -> 135804.45 | I61: =($C$53- H60)*$C$55 -> 108643.56 | J61: =($C$53- I60)*$C$55 -> 81482.669 | K61: =($C$53- J60)*$C$55 -> 54321.78 | L61: =($C$53- K60)*$C$55 -> 27160.89 | N61: =C55 -> 0.07
...

Sheet Volume Local_Export
D1: SIDENOR | G1: Données Marché Local | P1: Données Marché Export
D2: BUDGET 2019
G6: Volume Marché Local | P6: Volume Export
H7: 0.2 | Q7: 0.2
F8: Volume de Vente | G8: N1 | H8: N2 | I8: N3 | J8: N4 | K8: N5 | L8: N6 | M8: N7 | N8: TOTAL | P8: N1 | Q8: N2 | R8: N3 | S8: N4 | T8: N5 | U8: N6 | V8: N7 | W8: TOTAL
F10: Tréillis Antifussuration | G10: =+Assumptions!N34-'Volume Local_Export'!P10 -> 5459.52 | H10: =+Assumptions!O34-'Volume Local_Export'!Q10 -> 8189.28 | I10: =+Assumptions!P34-'Volume Local_Export'!R10 -> 10919.04 | J10: =+Assumptions!Q34-'Volume Local_Export'!S10 -> 13648.8 | K10: =+Assumptions!R34-'Volume Local_Export'!T10 -> 16378.56 | L10: =+Assumptions!S34-'Volume Local_Export'!U10 -> 19108.32 | M10: =+Assumptions!T34-'Volume Local_Export'!V10 -> 21838.08 | P10: =+Assumptions!N34*'Volume Local_Export'!$W$10 -> 1364.88 | Q10: =+Assumptions!O34*'Volume Local_Export'!$W$10 -> 2047.32 | R10: =+Assumptions!P34*'Volume Local_Export'!$W$10 -> 2729.76 | S10: =+Assumptions!Q34*'Volume Local_Export'!$W$10 -> 3412.2 | T10: =+Assumptions!R34*'Volume Local_Export'!$W$10 -> 4094.64 | U10: =+Assumptions!S34*'Volume Local_Export'!$W$10 -> 4777.08 | V10: =+Assumptions!T34*'Volume Local_Export'!$W$10 -> 5459.52 | W10: 0.2
F11: Poutrelles | G11: =+Assumptions!N35-'Volume Local_Export'!P11 -> 0 | H11: =+Assumptions!O35-'Volume Local_Export'!Q11 -> 0 | I11: =+Assumptions!P35-'Volume Local_Export'!R11 -> 0 | J11: =+Assumptions!Q35-'Volume Local_Export'!S11 -> 0 | K11: =+Assumptions!R35-'Volume Local_Export'!T11 -> 0 | L11: =+Assumptions!S35-'Volume Local_Export'!U11 -> 0 | M11: =+Assumptions!T35-'Volume Local_Export'!V11 -> 0 | P11: =+Assumptions!N35*'Volume Local_Export'!$W$11 -> 0 | Q11: =+Assumptions!O35*'Volume Local_Export'!$W$11 -> 0 | R11: =+Assumptions!P35*'Volume Local_Export'!$W$11 -> 0 | S11: =+Assumptions!Q35*'Volume Local_Export'!$W$11 -> 0 | T11: =+Assumptions!R35*'Volume Local_Export'!$W$11 -> 0 | U11: =+Assumptions!S35*'Volume Local_Export'!$W$11 -> 0 | V11: =+Assumptions!T35*'Volume Local_Export'!$W$11 -> 0 | W11: 0.2
F12: Tréillis Soudés : Nervure | G12: =+Assumptions!N36-'Volume Local_Export'!P12 -> 2516.8 | H12: =+Assumptions!O36-'Volume Local_Export'!Q12 -> 3775.2 | I12: =+Assumptions!P36-'Volume Local_Export'!R12 -> 5033.6 | J12: =+Assumptions!Q36-'Volume Local_Export'!S12 -> 6292 | K12: =+Assumptions!R36-'Volume Local_Export'!T12 -> 7550.4 | L12: =+Assumptions!S36-'Volume Local_Export'!U12 -> 8808.8 | M12: =+Assumptions!T36-'Volume Local_Export'!V12 -> 10067.2 | P12: =+Assumptions!N36*'Volume Local_Export'!$W$12 -> 629.2 | Q12: =+Assumptions!O36*'Volume Local_Export'!$W$12 -> 943.8 | R12: =+Assumptions!P36*'Volume Local_Export'!$W$12 -> 1258.4 | S12: =+Assumptions!Q36*'Volume Local_Export'!$W$12 -> 1573 | T12: =+Assumptions!R36*'Volume Local_Export'!$W$12 -> 1887.6 | U12: =+Assumptions!S36*'Volume Local_Export'!$W$12 -> 2202.2 | V12: =+Assumptions!T36*'Volume Local_Export'!$W$12 -> 2516.8 | W12: 0.2
F13: Laminage à Froid | G13: =+Assumptions!N33-'Volume Local_Export'!P13 -> 0 | H13: =+Assumptions!O33-'Volume Local_Export'!Q13 -> 0 | I13: =+Assumptions!P33-'Volume Local_Export'!R13 -> 0 | J13: =+Assumptions!Q33-'Volume Local_Export'!S13 -> 0 | K13: =+Assumptions!R33-'Volume Local_Export'!T13 -> 0 | L13: =+Assumptions!S33-'Volume Local_Export'!U13 -> 0 | M13: =+Assumptions!T33-'Volume Local_Export'!V13 -> 0 | P13: =+Assumptions!N33*'Volume Local_Export'!$W$13 -> 0 | Q13: =+Assumptions!O33*'Volume Local_Export'!$W$13 -> 0 | R13: =+Assumptions!P33*'Volume Local_Export'!$W$13 -> 0 | S13: =+Assumptions!Q33*'Volume Local_Export'!$W$13 -> 0 | T13: =+Assumptions!R33*'Volume Local_Export'!$W$13 -> 0 | U13: =+Assumptions!S33*'Volume Local_Export'!$W$13 -> 0 | V13: =+Assumptions!T33*'Volume Local_Export'!$W$13 -> 0 | W13: 0.2
F14: Total Laminage | G14: =(G13+(G10+P10)*#REF!+('Volume Local_Export'!G11+P11)*#REF!) -> 6195.956 | H14: =(H13+(H10+Q10)*#REF!+('Volume Local_Export'!H11+Q11)*#REF!) -> 9293.934 | I14: =(I13+(I10+R10)*#REF!+('Volume Local_Export'!I11+R11)*#REF!) -> 12390.4 | J14: =(J13+(J10+S10)*#REF!+('Volume Local_Export'!J11+S11)*#REF!) -> 15489.89 | K14: =(K13+(K10+T10)*#REF!+('Volume Local_Export'!K11+T11)*#REF!) -> 18585.6 | L14: =(L13+(L10+U10)*#REF!+('Volume Local_Export'!L11+U11)*#REF!) -> 21685.846 | M14: =(M13+(M10+V10)*#REF!+('Volume Local_Export'!M11+V11)*#REF!) -> 24780.8 | P14: =+P13 -> 0 | Q14: =+Q13 -> 0 | R14: =+R13 -> 0 | S14: =+S13 -> 0 | T14: =+T13 -> 0 | U14: =+U13 -> 0 | V14: =+V13 -> 0
F16: Total Activité | G16: =SUM(G10:G12)+G14 -> 15125.044 | H16: =SUM(H10:H12)+H14 -> 22687.566 | I16: =SUM(I10:I12)+I14 -> 30294.528 | J16: =SUM(J10:J12)+J14 -> 37812.61 | K16: =SUM(K10:K12)+K14 -> 45441.792 | L16: =SUM(L10:L12)+L14 -> 52937.654 | M16: =SUM(M10:M12)+M14 -> 60589.056 | P16: =SUM(P10:P13) -> 1994.08 | Q16: =SUM(Q10:Q13) -> 2991.12 | R16: =SUM(R10:R13) -> 3988.16 | S16: =SUM(S10:S13) -> 4985.2 | T16: =SUM(T10:T13) -> 5982.24 | U16: =SUM(U10:U13) -> 6979.28 | V16: =SUM(V10:V13) -> 7976.32
G17: =+G16/Volume!G16 -> 0.87139302 | H17: =+H16/Volume!H16 -> 0.87139302 | I17: =+I16/Volume!I16 -> 0.87126949 | J17: =+J16/Volume!J16 -> 0.87139302 | K17: =+K16/Volume!K16 -> 0.87126949 | L17: =+L16/Volume!L16 -> 0.87139302 | M17: =+M16/Volume!M16 -> 0.87126949 | P17: =+P16/Volume!G16 -> 0.12860698 | Q17: =+Q16/Volume!H16 -> 0.12860698 | R17: =+R16/Volume!I16 -> 0.12873051 | S17: =+S16/Volume!J16 -> 0.12860698 | T17: =+T16/Volume!K16 -> 0.12873051 | U17: =+U16/Volume!L16 -> 0.12860698 | V17: =+V16/Volume!M16 -> 0.12873051
F19: Prix des Vente | G19: N1 | H19: N2 | I19: N3 | J19: N4 | K19: N5 | L19: N6 | M19: N7 | N19: TOTAL | P19: N1 | Q19: N2 | R19: N3 | S19: N4 | T19: N5 | U19: N6 | V19: N7 | W19: TOTAL | Y19: Prix Marché europeen
F21: Tréillis Antifussuration | G21: =+Assumptions!E34 -> 2450 | H21: =+Assumptions!F44 -> 2450 | I21: =+Assumptions!G44 -> 2450 | J21: =+Assumptions!H44 -> 2450 | K21: =+Assumptions!I44 -> 2450 | L21: =+Assumptions!J44 -> 2450 | M21: =+Assumptions!K44 -> 2450 | P21: =+$Y$21 -> 800 | Q21: =+$Y$21 -> 800 | R21: =+$Y$21 -> 800 | S21: =+$Y$21 -> 800 | T21: =+$Y$21 -> 800 | U21: =+$Y$21 -> 800 | V21: =+$Y$21 -> 800 | Y21: 800
F22: Poutrelles | G22: =+Assumptions!E35 -> 2300 | H22: =+Assumptions!F45 -> 2300 | I22: =+Assumptions!G45 -> 2300 | J22: =+Assumptions!H45 -> 2300 | K22: =+Assumptions!I45 -> 2300 | L22: =+Assumptions!J45 -> 2300 | M22: =+Assumptions!K45 -> 2300 | P22: =+$Y$22 -> 805 | Q22: =+$Y$22 -> 805 | R22: =+$Y$22 -> 805 | S22: =+$Y$22 -> 805 | T22: =+$Y$22 -> 805 | U22: =+$Y$22 -> 805 | V22: =+$Y$22 -> 805 | Y22: 805
F23: Tréillis Soudés : Nervure | G23: =+Assumptions!E36 -> 2400 | H23: =+Assumptions!F46 -> 2400 | I23: =+Assumptions!G46 -> 2400 | J23: =+Assumptions!H46 -> 2400 | K23: =+Assumptions!I46 -> 2400 | L23: =+Assumptions!J46 -> 2400 | M23: =+Assumptions!K46 -> 2400 | P23: =+$Y$23 -> 805 | Q23: =+$Y$23 -> 805 | R23: =+$Y$23 -> 805 | S23: =+$Y$23 -> 805 | T23: =+$Y$23 -> 805 | U23: =+$Y$23 -> 805 | V23: =+$Y$23 -> 805 | Y23: 805
F24: Lamilage à Froid_Prix de Revient | G24: =+#REF! -> #REF! | H24: =+#REF! -> #REF! | I24: =+#REF! -> #REF! | J24: =+#REF! -> #REF! | K24: =+#REF! -> #REF! | L24: =+#REF! -> #REF! | M24: =+#REF! -> #REF! | P24: =+G24 -> #REF! | Q24: =+H24 -> #REF! | R24: =+I24 -> #REF! | S24: =+J24 -> #REF! | T24: =+K24 -> #REF! | U24: =+L24 -> #REF! | V24: =+M24 -> #REF!
F25: Lamilage à Froid_PV SIDENOR | G25: =+Assumptions!E43 -> 2000 | H25: =+Assumptions!F43 -> 2000 | I25: =+Assumptions!G43 -> 2000 | J25: =+Assumptions!H43 -> 2000 | K25: =+Assumptions!I43 -> 2000 | L25: =+Assumptions!J43 -> 2000 | M25: =+Assumptions!K43 -> 2000 | P25: =+$Y$25 -> 615 | Q25: =+$Y$25 -> 615 | R25: =+$Y$25 -> 615 | S25: =+$Y$25 -> 615 | T25: =+$Y$25 -> 615 | U25: =+$Y$25 -> 615 | V25: =+$Y$25 -> 615 | Y25: 615
F27: Total Activité
F30: Chiffre D'affaires | G30: N1 | H30: N2 | I30: N3 | J30: N4 | K30: N5 | L30: N6 | M30: N7 | N30: TOTAL | P30: N1 | Q30: N2 | R30: N3 | S30: N4 | T30: N5 | U30: N6 | V30: N7 | W30: TOTAL
N31: Cours | P31: 3.5 | Q31: 3.5 | R31: 3.5 | S31: 3.5 | T31: 3.5 | U31: 3.5 | V31: 3.5
F32: Tréillis Antifussuration | G32: =+G21*G10 -> 13375824 | H32: =+H21*H10 -> 20063736 | I32: =+I21*I10 -> 26751648 | J32: =+J21*J10 -> 33439560 | K32: =+K21*K10 -> 40127472 | L32: =+L21*L10 -> 46815384 | M32: =+M21*M10 -> 53503296 | P32: =+P21*P10*P$31 -> 3821664 | Q32: =+Q21*Q10*Q$31 -> 5732496 | R32: =+R21*R10*R$31 -> 7643328 | S32: =+S21*S10*S$31 -> 9554160 | T32: =+T21*T10*T$31 -> 11464992 | U32: =+U21*U10*U$31 -> 13375824 | V32: =+V21*V10*V$31 -> 15286656
F33: Poutrelles | G33: =+G22*G11 -> 0 | H33: =+H22*H11 -> 0 | I33: =+I22*I11 -> 142489.6 | J33: =+J22*J11 -> 0 | K33: =+K22*K11 -> 213734.4 | L33: =+L22*L11 -> 0 | M33: =+M22*M11 -> 284979.2 | P33: =+P11*P22*P31 -> 0 | Q33: =+Q11*Q22*Q31 -> 0 | R33: =+R11*R22*R31 -> 0 | S33: =+S11*S22*S31 -> 0 | T33: =+T11*T22*T31 -> 0 | U33: =+U11*U22*U31 -> 0 | V33: =+V11*V22*V31 -> 0
F34: Tréillis Soudés : Nervure | G34: =+G23*G12 -> 6040320 | H34: =+H23*H12 -> 9060480 | I34: =+I23*I12 -> 12080640 | J34: =+J23*J12 -> 15100800 | K34: =+K23*K12 -> 18120960 | L34: =+L23*L12 -> 21141120 | M34: =+M23*M12 -> 24161280 | P34: =+P23*P12*P$31 -> 1772771 | Q34: =+Q23*Q12*Q$31 -> 2659156.5 | R34: =+R23*R12*R$31 -> 3545542 | S34: =+S23*S12*S$31 -> 4431927.5 | T34: =+T23*T12*T$31 -> 5318313 | U34: =+U23*U12*U$31 -> 6204698.5 | V34: =+V23*V12*V$31 -> 7091084
F35: Laminage à Froid | G35: =+G13*G25 -> 0 | H35: =+H13*H25 -> 0 | I35: =+I13*I25 -> 0 | J35: =+J13*J25 -> 0 | K35: =+K13*K25 -> 0 | L35: =+L13*L25 -> 0 | M35: =+M13*M25 -> 0 | P35: =+P25*P13*P$31 -> 0 | Q35: =+Q25*Q13*Q$31 -> 0 | R35: =+R25*R13*R$31 -> 0 | S35: =+S25*S13*S$31 -> 0 | T35: =+T25*T13*T$31 -> 0 | U35: =+U25*U13*U$31 -> 0 | V35: =+V25*V13*V$31 -> 0
F36: Total Laminage | G36: =G13*G25+(G14-G13)*G24 -> 12420731 | H36: =H13*H25+(H14-H13)*H24 -> 18188977 | I36: =I13*I25+(I14-I13)*I24 -> 23939014 | J36: =J13*J25+(J14-J13)*J24 -> 29808597 | K36: =K13*K25+(K14-K13)*K24 -> 35557156 | L36: =L13*L25+(L14-L13)*L24 -> 41428216 | M36: =M13*M25+(M14-M13)*M24 -> 47175297 | P36: =P13*P25*P$31+(P14-P13)*P24 -> #REF! | Q36: =Q13*Q25*Q$31+(Q14-Q13)*Q24 -> #REF! | R36: =R13*R25*R$31+(R14-R13)*R24 -> #REF! | S36: =S13*S25*S$31+(S14-S13)*S24 -> #REF! | T36: =T13*T25*T$31+(T14-T13)*T24 -> #REF! | U36: =U13*U25*U$31+(U14-U13)*U24 -> #REF! | V36: =V13*V25*V$31+(V14-V13)*V24 -> #REF!
F38: Total Chiffre d'affaire Consolidé | G38: =SUM(G32:G35) -> 21721386 | H38: =SUM(H32:H35) -> 32582078 | I38: =SUM(I32:I35) -> 43546061 | J38: =SUM(J32:J35) -> 54303464 | K38: =SUM(K32:K35) -> 65319091 | L38: =SUM(L32:L35) -> 76024850 | M38: =SUM(M32:M35) -> 87092122 | P38: =SUM(P32:P35) -> 5594435 | Q38: =SUM(Q32:Q35) -> 8391652.5 | R38: =SUM(R32:R35) -> 11188870 | S38: =SUM(S32:S35) -> 13986088 | T38: =SUM(T32:T35) -> 16783305 | U38: =SUM(U32:U35) -> 19580523 | V38: =SUM(V32:V35) -> 22377740
F39: CA laminage (Prix Vente) | G39: =+G14*G25 -> 12391912 | H39: =+H14*H25 -> 18587868 | I39: =+I14*I25 -> 24780800 | J39: =+J14*J25 -> 30979780 | K39: =+K14*K25 -> 37171200 | L39: =+L14*L25 -> 43371692 | M39: =+M14*M25 -> 49561600
F40: % Volume de Production | G40: N1 | H40: N2 | I40: N3 | J40: N4 | K40: N5 | L40: N6 | M40: N7 | P40: N1 | Q40: N2 | R40: N3 | S40: N4 | T40: N5 | U40: N6 | V40: N7
F42: Tréillis Antifussuration | G42: =+G10/Volume!G10 -> 0.8 | H42: =+H10/Volume!H10 -> 0.8 | I42: =+I10/Volume!I10 -> 0.8 | J42: =+J10/Volume!J10 -> 0.8 | K42: =+K10/Volume!K10 -> 0.8 | L42: =+L10/Volume!L10 -> 0.8 | M42: =+M10/Volume!M10 -> 0.8 | P42: =+P10/Volume!G10 -> 0.2 | Q42: =+Q10/Volume!H10 -> 0.2 | R42: =+R10/Volume!I10 -> 0.2 | S42: =+S10/Volume!J10 -> 0.2 | T42: =+T10/Volume!K10 -> 0.2 | U42: =+U10/Volume!L10 -> 0.2 | V42: =+V10/Volume!M10 -> 0.2 | Z42: =+G42+P42 -> 1 | AA42: =+H42+Q42 -> 1 | AB42: =+I42+R42 -> 1 | AC42: =+J42+S42 -> 1 | AD42: =+K42+T42 -> 1 | AE42: =+L42+U42 -> 1 | AF42: =+M42+V42 -> 1
F43: Poutrelles | G43: =IFERROR(G11/Volume!G11,"0") -> 0 | H43: =IFERROR(H11/Volume!H11,"0") -> 0 | I43: =IFERROR(I11/Volume!I11,"0") -> 0.8 | J43: =IFERROR(J11/Volume!J11,"0") -> 0 | K43: =IFERROR(K11/Volume!K11,"0") -> 0.8 | L43: =IFERROR(L11/Volume!L11,"0") -> 0 | M43: =IFERROR(M11/Volume!M11,"0") -> 0.8 | P43: =IFERROR(P11/Volume!G11,"0") -> 0 | Q43: =IFERROR(Q11/Volume!H11,"0") -> 0 | R43: =IFERROR(R11/Volume!I11,"0") -> 0.2 | S43: =IFERROR(S11/Volume!J11,"0") -> 0 | T43: =IFERROR(T11/Volume!K11,"0") -> 0.2 | U43: =IFERROR(U11/Volume!L11,"0") -> 0 | V43: =IFERROR(V11/Volume!M11,"0") -> 0.2 | Z43: =+G43+P43 -> 0 | AA43: =+H43+Q43 -> 0 | AB43: =+I43+R43 -> 1 | AC43: =+J43+S43 -> 0 | AD43: =+K43+T43 -> 1 | AE43: =+L43+U43 -> 0 | AF43: =+M43+V43 -> 1
F44: Tréillis Soudés : Nervure | G44: =IFERROR(G12/Volume!G12,"0") -> 0.8 | H44: =IFERROR(H12/Volume!H12,"0") -> 0.8 | I44: =IFERROR(I12/Volume!I12,"0") -> 0.8 | J44: =IFERROR(J12/Volume!J12,"0") -> 0.8 | K44: =IFERROR(K12/Volume!K12,"0") -> 0.8 | L44: =IFERROR(L12/Volume!L12,"0") -> 0.8 | M44: =IFERROR(M12/Volume!M12,"0") -> 0.8 | P44: =IFERROR(P12/Volume!G12,"0") -> 0.2 | Q44: =IFERROR(Q12/Volume!H12,"0") -> 0.2 | R44: =IFERROR(R12/Volume!I12,"0") -> 0.2 | S44: =IFERROR(S12/Volume!J12,"0") -> 0.2 | T44: =IFERROR(T12/Volume!K12,"0") -> 0.2 | U44: =IFERROR(U12/Volume!L12,"0") -> 0.2 | V44: =IFERROR(V12/Volume!M12,"0") -> 0.2 | Z44: =+G44+P44 -> 1 | AA44: =+H44+Q44 -> 1 | AB44: =+I44+R44 -> 1 | AC44: =+J44+S44 -> 1 | AD44: =+K44+T44 -> 1 | AE44: =+L44+U44 -> 1 | AF44: =+M44+V44 -> 1
F45: Total Laminage | G45: =+G14/Volume!G14 -> 1 | H45: =+H14/Volume!H14 -> 1 | I45: =+I14/Volume!I14 -> 1 | J45: =+J14/Volume!J14 -> 1 | K45: =+K14/Volume!K14 -> 1 | L45: =+L14/Volume!L14 -> 1 | M45: =+M14/Volume!M14 -> 1 | P45: =+P14/Volume!G14 -> 0 | Q45: =+Q14/Volume!H14 -> 0 | R45: =+R14/Volume!I14 -> 0 | S45: =+S14/Volume!J14 -> 0 | T45: =+T14/Volume!K14 -> 0 | U45: =+U14/Volume!L14 -> 0 | V45: =+V14/Volume!M14 -> 0 | Z45: =+G45+P45 -> 1 | AA45: =+H45+Q45 -> 1 | AB45: =+I45+R45 -> 1 | AC45: =+J45+S45 -> 1 | AD45: =+K45+T45 -> 1 | AE45: =+L45+U45 -> 1 | AF45: =+M45+V45 -> 1
F47: Total Activité | G47: =+G16 -> 15125.044 | H47: =+H16 -> 22687.566 | I47: =+I16 -> 30294.528 | J47: =+J16 -> 37812.61 | K47: =+K16 -> 45441.792 | L47: =+L16 -> 52937.654 | M47: =+M16 -> 60589.056 | P47: =+P16 -> 1994.08 | Q47: =+Q16 -> 2991.12 | R47: =+R16 -> 3988.16 | S47: =+S16 -> 4985.2 | T47: =+T16 -> 5982.24 | U47: =+U16 -> 6979.28 | V47: =+V16 -> 7976.32
E51: Répartition Charges de Financement | G51: N1 | H51: N2 | I51: N3 | J51: N4 | K51: N5 | L51: N6 | M51: N7 | P51: N1 | Q51: N2 | R51: N3 | S51: N4 | T51: N5 | U51: N6 | V51: N7
F53: Tréillis Antifussuration | G53: =IFERROR(G42*Volume!G61,"0") -> 234817.5 | H53: =IFERROR(H42*Volume!H61,"0") -> 234817.5 | I53: =IFERROR(I42*Volume!I61,"0") -> 234817.5 | J53: =IFERROR(J42*Volume!J61,"0") -> 234817.5 | K53: =IFERROR(K42*Volume!K61,"0") -> 234817.5 | L53: =IFERROR(L42*Volume!L61,"0") -> 234817.5 | M53: =IFERROR(M42*Volume!M61,"0") -> 234817.5 | P53: =IFERROR(P42*Volume!G61,"0") -> 58704.376 | Q53: =IFERROR(Q42*Volume!H61,"0") -> 58704.376 | R53: =IFERROR(R42*Volume!I61,"0") -> 58704.376 | S53: =IFERROR(S42*Volume!J61,"0") -> 58704.376 | T53: =IFERROR(T42*Volume!K61,"0") -> 58704.376 | U53: =IFERROR(U42*Volume!L61,"0") -> 58704.376 | V53: =IFERROR(V42*Volume!M61,"0") -> 58704.376 | Z53: =+G53+P53 -> 293521.88 | AA53: =+H53+Q53 -> 293521.88 | AB53: =+I53+R53 -> 293521.88 | AC53: =+J53+S53 -> 293521.88 | AD53: =+K53+T53 -> 293521.88 | AE53: =+L53+U53 -> 293521.88 | AF53: =+M53+V53 -> 293521.88
F54: Poutrelles | G54: =IFERROR(G43*Volume!G62,"0") -> 0 | H54: =IFERROR(H43*Volume!H62,"0") -> 0 | I54: =IFERROR(I43*Volume!I62,"0") -> 0 | J54: =IFERROR(J43*Volume!J62,"0") -> 0 | K54: =IFERROR(K43*Volume!K62,"0") -> 0 | L54: =IFERROR(L43*Volume!L62,"0") -> 0 | M54: =IFERROR(M43*Volume!M62,"0") -> 0 | P54: =IFERROR(P43*Volume!G62,"") -> 0 | Q54: =IFERROR(Q43*Volume!H62,"") -> 0 | R54: =IFERROR(R43*Volume!I62,"") -> 0 | S54: =IFERROR(S43*Volume!J62,"") -> 0 | T54: =IFERROR(T43*Volume!K62,"") -> 0 | U54: =IFERROR(U43*Volume!L62,"") -> 0 | V54: =IFERROR(V43*Volume!M62,"") -> 0 | Z54: =+G54+P54 -> 0 | AA54: =+H54+Q54 -> 0 | AB54: =+I54+R54 -> 0 | AC54: =+J54+S54 -> 0 | AD54: =+K54+T54 -> 0 | AE54: =+L54+U54 -> 0 | AF54: =+M54+V54 -> 0
F55: Tréillis Soudés : Nervure | G55: =IFERROR(G44*Volume!G63,"0") -> 64920.133 | H55: =IFERROR(H44*Volume!H63,"0") -> 64920.133 | I55: =IFERROR(I44*Volume!I63,"0") -> 64920.133 | J55: =IFERROR(J44*Volume!J63,"0") -> 64920.133 | K55: =IFERROR(K44*Volume!K63,"0") -> 64920.133 | L55: =IFERROR(L44*Volume!L63,"0") -> 64920.133 | M55: =IFERROR(M44*Volume!M63,"0") -> 64920.133 | P55: =IFERROR(P44*Volume!G63,"") -> 16230.033 | Q55: =IFERROR(Q44*Volume!H63,"") -> 16230.033 | R55: =IFERROR(R44*Volume!I63,"") -> 16230.033 | S55: =IFERROR(S44*Volume!J63,"") -> 16230.033 | T55: =IFERROR(T44*Volume!K63,"") -> 16230.033 | U55: =IFERROR(U44*Volume!L63,"") -> 16230.033 | V55: =IFERROR(V44*Volume!M63,"") -> 16230.033 | Z55: =+G55+P55 -> 81150.166 | AA55: =+H55+Q55 -> 81150.166 | AB55: =+I55+R55 -> 81150.166 | AC55: =+J55+S55 -> 81150.166 | AD55: =+K55+T55 -> 81150.166 | AE55: =+L55+U55 -> 81150.166 | AF55: =+M55+V55 -> 81150.166
F56: Lamilage à Froid | Z56: =+G56+P56 -> 0 | AA56: =+H56+Q56 -> 0 | AB56: =+I56+R56 -> 0 | AC56: =+J56+S56 -> 0 | AD56: =+K56+T56 -> 0 | AE56: =+L56+U56 -> 0 | AF56: =+M56+V56 -> 0
F57: Total Laminage | G57: =IFERROR(G45*Volume!G65,"0") -> 86329.964 | H57: =IFERROR(H45*Volume!H65,"0") -> 86329.964 | I57: =IFERROR(I45*Volume!I65,"0") -> 86329.964 | J57: =IFERROR(J45*Volume!J65,"0") -> 86329.964 | K57: =IFERROR(K45*Volume!K65,"0") -> 86329.964 | L57: =IFERROR(L45*Volume!L65,"0") -> 86329.964 | M57: =IFERROR(M45*Volume!M65,"0") -> 86329.964 | P57: =IFERROR(P45*Volume!G65,"0") -> 0 | Q57: =IFERROR(Q45*Volume!H65,"0") -> 0 | R57: =IFERROR(R45*Volume!I65,"0") -> 0 | S57: =IFERROR(S45*Volume!J65,"0") -> 0 | T57: =IFERROR(T45*Volume!K65,"0") -> 0 | U57: =IFERROR(U45*Volume!L65,"0") -> 0 | V57: =IFERROR(V45*Volume!M65,"0") -> 0 | Z57: =+G57+P57 -> 86329.964 | AA57: =+H57+Q57 -> 86329.964 | AB57: =+I57+R57 -> 86329.964 | AC57: =+J57+S57 -> 86329.964 | AD57: =+K57+T57 -> 86329.964 | AE57: =+L57+U57 -> 86329.964 | AF57: =+M57+V57 -> 86329.964
...

Sheet Assumptions
E5: Cours Devise | F5: 3.5
C6: Investissements | E6: Mt Devise | F6: Mt en Dinars | G6: Durée Vie | H6: Taux Amor
A7: Code | C7: Logiciels | D7: Activité
C8: Immobilisations corporelles Brutes | E8: =SUM(E9:E10) -> 771428.57 | F8: =SUM(F9:F10) -> 2700000
A9: =$D9&"-"&$B9 -> Communs-R021 | B9: R021 | C9: Utilités | D9: Communs | E9: =+F9/$F$5 -> 285714.29 | F9: 1000000 | G9: 7 | H9: 0.15
A10: =$D10&"-"&$B10 -> Communs-R021 | B10: R021 | C10: Infrastructure | D10: Communs | E10: =+F10/$F$5 -> 485714.29 | F10: 1700000 | G10: 10 | H10: =1/G10 -> 0.1
A11: =$D11&"-"&$B11 -> -R021 | B11: R021 | C11: Equipements Industriels | E11: =SUM(E12:E15) -> 2870000 | F11: =SUM(F12:F15) -> 10045000
A12: =$D12&"-"&$B12 -> -R021 | B12: R021 | C12: Laminage à froid | E12: 500000 | F12: =+E12*$F$5 -> 1750000 | G12: 10 | H12: =1/G12 -> 0.1
A13: =$D13&"-"&$B13 -> -R021 | B13: R021 | C13: T.S. Antifissuration | E13: 1200000 | F13: =+E13*$F$5 -> 4200000 | G13: 10 | H13: =1/G13 -> 0.1
A14: =$D14&"-"&$B14 -> -R021 | B14: R021 | C14: Poutrelles | E14: 700000 | F14: =+E14*$F$5 -> 2450000 | G14: 10 | H14: =1/G14 -> 0.1
A15: =$D15&"-"&$B15 -> -R021 | B15: R021 | C15: Tréillis Soudés : Nervure | E15: 470000 | F15: =+E15*$F$5 -> 1645000 | G15: 10 | H15: =1/G15 -> 0.1
C16: Immobilisations :Autres Investissements | E16: =SUM(E17:E22) -> 134285.71 | F16: =SUM(F17:F22) -> 470000
C17: Matériel de Laboratoire | E17: 60000 | F17: =+E17*$F$5 -> 210000 | G17: 10 | H17: =1/G17 -> 0.1
C18: Pont Bascule | E18: =+F18/F5 -> 28571.429 | F18: 100000 | G18: 10 | H18: =1/G18 -> 0.1
C19: Matériel de Manutention | E19: =+F19/$F$5 -> 22857.143 | F19: =1*80000 -> 80000 | G19: 5 | H19: =1/G19 -> 0.2
C20: Matériels de Transport | E20: =+F20/$F$5 -> 17142.857 | F20: 60000 | G20: 5 | H20: =1/G20 -> 0.2
C21: Mobiliers et Matériels de Bureau | E21: =+F21/$F$5 -> 2857.1429 | F21: 10000 | G21: 10 | H21: =1/G21 -> 0.1
C22: Matériels informatique | E22: =+F22/$F$5 -> 2857.1429 | F22: 10000 | G22: 7 | H22: 0.15
C23: Immobilisations corp. & incorp. Brutes | E23: =SUM(E11,E16,E8) -> 3775714.3 | F23: =SUM(F11,F16,F8) -> 13215000
C25: Liste des Prix Premiéres | E25: Prix de Marché | F25: Mt en Dinars | J25: Cpacité Total | N25: =+Volume!X16 -> 18674.031 | O25: =+Volume!Y16 -> 37348.062 | P25: =+Volume!Z16 -> 56022.092 | Q25: =+Volume!AA16 -> 74696.123 | R25: =+Volume!AB16 -> 0 | S25: =+Volume!AC16 -> 0 | T25: =+Volume!AD16 -> 0
C27: Bobines Compact Crantée à chaud | E27: =+F27/$F$5 -> #REF! | F27: =+#REF! -> #REF! | J27: Besoin Lamninage Tréillis | N27: =+N34*$U$27 -> 6824.4 | O27: =+O34*$U$27 -> 10236.6 | P27: =+P34*$U$27 -> 13648.8 | Q27: =+Q34*$U$27 -> 17061 | R27: =+R34*$U$27 -> 20473.2 | S27: =+S34*$U$27 -> 23885.4 | T27: =+T34*$U$27 -> 27297.6 | U27: 1
C28: Bobines laminés à Froid | E28: Coût Revient | F28: =+'Volume Local_Export'!G24 -> #REF! | J28: Besoin laminage Poutrelle | N28: =+N35*$U$28 -> 0 | O28: =+O35*$U$28 -> 0 | P28: =+P35*$U$28 -> 15.488 | Q28: =+Q35*$U$28 -> 0 | R28: =+R35*$U$28 -> 23.232 | S28: =+S35*$U$28 -> 0 | T28: =+T35*$U$28 -> 30.976 | U28: 0.25
C29: Couronnes fil machine | E29: =+F29/$F$5 -> #REF! | F29: =+#REF! -> #REF! | G29: =+F28-F29 -> #REF! | H29: =+G29/3.5 -> #REF! | J29: Capacité Max Laminage | N29: =+Volume!$X$14 -> 6814.72 | O29: =+N29*1.5 -> 10222.08 | P29: =+N29*2 -> 13629.44 | Q29: =+N29*2.5 -> 17036.8 | R29: =+N29*3 -> 20444.16 | S29: =+N29*3.5 -> 23851.52 | T29: =+N29*4 -> 27258.88
N30: Volume des Ventes locaux
C31: Prix des Ventes Local | E31: N1 | F31: N2 | G31: N3 | H31: N4 | I31: N5 | J31: N6 | K31: N7 | N31: N1 | O31: N2 | P31: N3 | Q31: N4 | R31: N5 | S31: N6 | T31: N7
C32: Prix Moyen | E32: =AVERAGE(E33:E36) -> 2287.5 | F32: =AVERAGE(F33:F36) -> 2287.5 | G32: =AVERAGE(G33:G36) -> 2287.5 | H32: =AVERAGE(H33:H36) -> 2287.5 | I32: =AVERAGE(I33:I36) -> 2287.5 | J32: =AVERAGE(J33:J36) -> 2287.5 | K32: =AVERAGE(K33:K36) -> 2287.5 | N32: =SUM(N33:N36) -> 11161.36 | O32: =SUM(O33:O36) -> 16742.04 | P32: =SUM(P33:P36) -> 22380.16 | Q32: =SUM(Q33:Q36) -> 27903.4 | R32: =SUM(R33:R36) -> 33570.24 | S32: =SUM(S33:S36) -> 39064.76 | T32: =SUM(T33:T36) -> 44760.32
C33: Laminage à froid | E33: 2000 | F33: 2000 | G33: 2000 | H33: 2000 | I33: 2000 | J33: 2000 | K33: 2000 | N33: =IF((N29-(N27+N28))>=0,N29-(N27+N28),0) -> 0 | O33: =IF((O29-(O27+O28))>=0,O29-(O27+O28),0) -> 0 | P33: =IF((P29-(P27+P28))>=0,P29-(P27+P28),0) -> 0 | Q33: =IF((Q29-(Q27+Q28))>=0,Q29-(Q27+Q28),0) -> 0 | R33: =IF((R29-(R27+R28))>=0,R29-(R27+R28),0) -> 0 | S33: =IF((S29-(S27+S28))>=0,S29-(S27+S28),0) -> 0 | T33: =IF((T29-(T27+T28))>=0,T29-(T27+T28),0) -> 0
C34: T.S. Antifissuration | E34: 2450 | F34: 2450 | G34: 2450 | H34: 2450 | I34: 2450 | J34: 2450 | K34: 2450 | N34: =+Volume!X10 -> 6824.4 | O34: =+N34*1.5 -> 10236.6 | P34: =+Volume!$Y$10 -> 13648.8 | Q34: =+N34*2.5 -> 17061 | R34: =+Volume!$Z$10 -> 20473.2 | S34: =+N34*3.5 -> 23885.4 | T34: =+Volume!$AA$10 -> 27297.6
C35: Poutrelles | E35: 2300 | F35: 2300 | G35: 2300 | H35: 2300 | I35: 2300 | J35: 2300 | K35: 2300 | N35: =IF(N35<$Y$35,0,IF(N27>=N29,0,IF(((N29-N27)/$U$28)>=Volume!$X$11,Volume!$X$11,(N29-N27)/$U$28))) -> 0 | O35: =IF(O35<$Y$35,0,IF(O27>=O29,0,IF(((O29-O27)/$U$28)>=Volume!$X$11*1.5,Volume!$X$11*1.5,(O29-O27)/$U$28))) -> 0 | P35: =IF(P35<$Y$35,0,IF(P27>=P29,0,IF(((P29-P27)/$U$28)>=Volume!$X$11*2,Volume!$X$11*2,(P29-P27)/$U$28))) -> 0 | Q35: =IF(Q35<$Y$35,0,IF(Q27>=Q29,0,IF(((Q29-Q27)/$U$28)>=Volume!$X$11*2.5,Volume!$X$11*2.5,(Q29-Q27)/$U$28))) -> 0 | R35: =IF(R35<$Y$35,0,IF(R27>=R29,0,IF(((R29-R27)/$U$28)>=Volume!$X$11*3,Volume!$X$11*3,(R29-R27)/$U$28))) -> 0 | S35: =IF(S35<$Y$35,0,IF(S27>=S29,0,IF(((S29-S27)/$U$28)>=Volume!$X$11*3.5,Volume!$X$11*3.5,(S29-S27)/$U$28))) -> 0 | T35: =IF(T35<$Y$35,0,IF(T27>=T29,0,IF(((T29-T27)/$U$28)>=Volume!$X$11*4,Volume!$X$11*4,(T29-T27)/$U$28))) -> 0 | W35: Min Poutrelle | Y35: 700
C36: Nervure | E36: 2400 | F36: 2400 | G36: 2400 | H36: 2400 | I36: 2400 | J36: 2400 | K36: 2400 | N36: =+Volume!$X$12 -> 3146 | O36: =+N36*1.5 -> 4719 | P36: =+Volume!$Y$12 -> 6292 | Q36: =+N36*2.5 -> 7865 | R36: =+Volume!$Z$12 -> 9438 | S36: =+N36*3.5 -> 11011 | T36: =+Volume!$AA$12 -> 12584
C38: Total Laminage | N38: =+'Volume Local_Export'!G14 -> 0 | O38: =+'Volume Local_Export'!H14 -> 0 | P38: =+'Volume Local_Export'!I14 -> 0 | Q38: =+'Volume Local_Export'!J14 -> 0 | R38: =+'Volume Local_Export'!K14 -> 0 | S38: =+'Volume Local_Export'!L14 -> 21685.846 | T38: =+'Volume Local_Export'!M14 -> 24780.8
C39: Total Activité | N39: =+N38+SUM(N33:N36) -> 17357.316 | O39: =+O38+SUM(O33:O36) -> 26035.974 | P39: =+P38+SUM(P33:P36) -> 34770.56 | Q39: =+Q38+SUM(Q33:Q36) -> 43393.29 | R39: =+R38+SUM(R33:R36) -> 52155.84 | S39: =+S38+SUM(S33:S36) -> 60750.606 | T39: =+T38+SUM(T33:T36) -> 69541.12
N40: Volume des Ventes Export
C41: Prix des Ventes Export | E41: N1 | F41: N2 | G41: N3 | H41: N4 | I41: N5 | J41: N6 | K41: N7 | N41: N1 | O41: N2 | P41: N3 | Q41: N4 | R41: N5 | S41: N6 | T41: N7
C42: Prix Moyen | E42: =AVERAGE(E43:E46) -> 2287.5 | F42: =AVERAGE(F43:F46) -> 2287.5 | G42: =AVERAGE(G43:G46) -> 2287.5 | H42: =AVERAGE(H43:H46) -> 2287.5 | I42: =AVERAGE(I43:I46) -> 2287.5 | J42: =AVERAGE(J43:J46) -> 2287.5 | K42: =AVERAGE(K43:K46) -> 2287.5 | N42: =SUM(N43:N46) -> 0 | O42: =SUM(O43:O46) -> 0 | P42: =SUM(P43:P46) -> 0 | Q42: =SUM(Q43:Q46) -> 0 | R42: =SUM(R43:R46) -> 0 | S42: =SUM(S43:S46) -> 0 | T42: =SUM(T43:T46) -> 0
C43: Laminage à froid | E43: 2000 | F43: 2000 | G43: 2000 | H43: 2000 | I43: 2000 | J43: 2000 | K43: 2000
C44: T.S. Antifissuration | E44: 2450 | F44: 2450 | G44: 2450 | H44: 2450 | I44: 2450 | J44: 2450 | K44: 2450
C45: Poutrelles | E45: 2300 | F45: 2300 | G45: 2300 | H45: 2300 | I45: 2300 | J45: 2300 | K45: 2300
C46: Nervure | E46: 2400 | F46: 2400 | G46: 2400 | H46: 2400 | I46: 2400 | J46: 2400 | K46: 2400
C48: Total Laminage | N48: =+'Volume Local_Export'!P14 -> 0 | O48: =+'Volume Local_Export'!Q14 -> 0 | P48: =+'Volume Local_Export'!R14 -> 0 | Q48: =+'Volume Local_Export'!S14 -> 0 | R48: =+'Volume Local_Export'!T14 -> 0 | S48: =+'Volume Local_Export'!U14 -> 0 | T48: =+'Volume Local_Export'!V14 -> 0
...

Sheet Volume
D1: SIDENOR
D2: BUDGET 2019
D3: Production R11:Moyenne jrs_ volume unités _Tonnage
P5: Capacité de Production Par Poste/an (Machine Neuf)
H7: 0.2 | S7: Capacité Machine Neuf/An | X7: Capacité Machine Retapé/An
F8: Volume de Vente | G8: N1 | H8: N2 | I8: N3 | J8: N4 | K8: N5 | L8: N6 | M8: N7 | N8: TOTAL | Q8: Rend Neuf | R8: Prod Moy/Heure | S8: 1Poste | T8: 2 Poste | U8: 3 Poste | V8: 4Poste | X8: 1 Poste | Y8: 2 Poste | Z8: 3Poste | AA8: 4 poste
F10: Tréillis Antifussuration | G10: =+'Volume Local_Export'!G10+'Volume Local_Export'!P10 -> 6824.4 | H10: =+'Volume Local_Export'!H10+'Volume Local_Export'!Q10 -> 10236.6 | I10: =+'Volume Local_Export'!I10+'Volume Local_Export'!R10 -> 13648.8 | J10: =+'Volume Local_Export'!J10+'Volume Local_Export'!S10 -> 17061 | K10: =+'Volume Local_Export'!K10+'Volume Local_Export'!T10 -> 20473.2 | L10: =+'Volume Local_Export'!L10+'Volume Local_Export'!U10 -> 23885.4 | M10: =+'Volume Local_Export'!M10+'Volume Local_Export'!V10 -> 27297.6 | Q10: 0.75 | R10: 4.7 | S10: =+$P10*$R10*S$18*(S$19*S$20) -> 0 | T10: =+$P10*$R10*T$18*(T$19*T$20) -> 0 | U10: =+$P10*$R10*U$18*(U$19*U$20) -> 0 | V10: =+$P10*$R10*V$18*(V$19*V$20) -> 0 | X10: =+$Q10*$R10*X$18*(X$19*X$20) -> 6824.4 | Y10: =+$Q10*$R10*Y$18*(Y$19*Y$20) -> 13648.8 | Z10: =+$Q10*$R10*Z$18*(Z$19*Z$20) -> 20473.2 | AA10: =+$Q10*$R10*AA$18*(AA$19*AA$20) -> 27297.6 | AC10: =+AA10*0.85 -> 23202.96 | AD10: =+AA10-AC10 -> 4094.64
F11: Poutrelles | G11: =+'Volume Local_Export'!G11+'Volume Local_Export'!P11 -> 0 | H11: =+'Volume Local_Export'!H11+'Volume Local_Export'!Q11 -> 0 | I11: =+'Volume Local_Export'!I11+'Volume Local_Export'!R11 -> 77.44 | J11: =+'Volume Local_Export'!J11+'Volume Local_Export'!S11 -> 0 | K11: =+'Volume Local_Export'!K11+'Volume Local_Export'!T11 -> 116.16 | L11: =+'Volume Local_Export'!L11+'Volume Local_Export'!U11 -> 0 | M11: =+'Volume Local_Export'!M11+'Volume Local_Export'!V11 -> 154.88 | Q11: 0.65 | R11: 1.5010417 | S11: =+$P11*$R11*S$18*(S$19*S$20) -> 0 | T11: =+$P11*$R11*T$18*(T$19*T$20) -> 0 | U11: =+$P11*$R11*U$18*(U$19*U$20) -> 0 | V11: =+$P11*$R11*V$18*(V$19*V$20) -> 0 | X11: =+$Q11*$R11*X$18*(X$19*X$20) -> 1888.9108 | Y11: =+$Q11*$R11*Y$18*(Y$19*Y$20) -> 3777.8217 | Z11: =+$Q11*$R11*Z$18*(Z$19*Z$20) -> 5666.7325 | AA11: =+$Q11*$R11*AA$18*(AA$19*AA$20) -> 7555.6433
F12: Nervure | G12: =+'Volume Local_Export'!G12+'Volume Local_Export'!P12 -> 3146 | H12: =+'Volume Local_Export'!H12+'Volume Local_Export'!Q12 -> 4719 | I12: =+'Volume Local_Export'!I12+'Volume Local_Export'!R12 -> 6292 | J12: =+'Volume Local_Export'!J12+'Volume Local_Export'!S12 -> 7865 | K12: =+'Volume Local_Export'!K12+'Volume Local_Export'!T12 -> 9438 | L12: =+'Volume Local_Export'!L12+'Volume Local_Export'!U12 -> 11011 | M12: =+'Volume Local_Export'!M12+'Volume Local_Export'!V12 -> 12584 | Q12: 0.65 | R12: 2.5 | S12: =+$P12*$R12*S$18*(S$19*S$20) -> 0 | T12: =+$P12*$R12*T$18*(T$19*T$20) -> 0 | U12: =+$P12*$R12*U$18*(U$19*U$20) -> 0 | V12: =+$P12*$R12*V$18*(V$19*V$20) -> 0 | X12: =+$Q12*$R12*X$18*(X$19*X$20) -> 3146 | Y12: =+$Q12*$R12*Y$18*(Y$19*Y$20) -> 6292 | Z12: =+$Q12*$R12*Z$18*(Z$19*Z$20) -> 9438 | AA12: =+$Q12*$R12*AA$18*(AA$19*AA$20) -> 12584
F13: Laminage à Froid | G13: =+'Volume Local_Export'!G13+'Volume Local_Export'!P13 -> 0 | H13: =+'Volume Local_Export'!H13+'Volume Local_Export'!Q13 -> 0 | I13: =+'Volume Local_Export'!I13+'Volume Local_Export'!R13 -> 0 | J13: =+'Volume Local_Export'!J13+'Volume Local_Export'!S13 -> 0 | K13: =+'Volume Local_Export'!K13+'Volume Local_Export'!T13 -> 0 | L13: =+'Volume Local_Export'!L13+'Volume Local_Export'!U13 -> 0 | M13: =+'Volume Local_Export'!M13+'Volume Local_Export'!V13 -> 0
F14: Total Laminage | G14: =+'Volume Local_Export'!G14+'Volume Local_Export'!P14 -> 6195.956 | H14: =+'Volume Local_Export'!H14+'Volume Local_Export'!Q14 -> 9293.934 | I14: =+'Volume Local_Export'!I14+'Volume Local_Export'!R14 -> 12390.4 | J14: =+'Volume Local_Export'!J14+'Volume Local_Export'!S14 -> 15489.89 | K14: =+'Volume Local_Export'!K14+'Volume Local_Export'!T14 -> 18585.6 | L14: =+'Volume Local_Export'!L14+'Volume Local_Export'!U14 -> 21685.846 | M14: =+'Volume Local_Export'!M14+'Volume Local_Export'!V14 -> 24780.8 | Q14: 0.88 | R14: 4 | S14: =+$P14*$R14*S$18*(S$19*S$20) -> 0 | T14: =+$P14*$R14*T$18*(T$19*T$20) -> 0 | U14: =+$P14*$R14*U$18*(U$19*U$20) -> 0 | V14: =+$P14*$R14*V$18*(V$19*V$20) -> 0 | X14: =+$Q14*$R14*X$18*(X$19*X$20) -> 6814.72 | Y14: =+$Q14*$R14*Y$18*(Y$19*Y$20) -> 13629.44 | Z14: =+$Q14*$R14*Z$18*(Z$19*Z$20) -> 20444.16 | AA14: =+$Q14*$R14*AA$18*(AA$19*AA$20) -> 27258.88
F16: Total Activité | G16: =SUM(G10:G12)+G14 -> 17357.316 | H16: =SUM(H10:H12)+H14 -> 26035.974 | I16: =SUM(I10:I12)+I14 -> 34770.56 | J16: =SUM(J10:J12)+J14 -> 43393.29 | K16: =SUM(K10:K12)+K14 -> 52155.84 | L16: =SUM(L10:L12)+L14 -> 60750.606 | M16: =SUM(M10:M12)+M14 -> 69541.12 | R16: Total Capacité | S16: =SUM(S10:S14) -> 0 | T16: =SUM(T10:T14) -> 0 | U16: =SUM(U10:U14) -> 0 | V16: =SUM(V10:V14) -> 0 | X16: =SUM(X10:X14) -> 18674.031 | Y16: =SUM(Y10:Y14) -> 37348.062 | Z16: =SUM(Z10:Z14) -> 56022.092 | AA16: =SUM(AA10:AA14) -> 74696.123
R18: Nbr Heure Effectif/Jrs | S18: 8 | T18: 16 | U18: 24 | V18: 32 | X18: 8 | Y18: 16 | Z18: 24 | AA18: 32
F19: Prix des Vente | G19: N1 | H19: N2 | I19: N3 | J19: N4 | K19: N5 | L19: N6 | M19: N7 | N19: TOTAL | R19: Nbre Jour/mois | S19: 22 | T19: 22 | U19: 22 | V19: 22 | X19: 22 | Y19: 22 | Z19: 22 | AA19: 22
R20: Nbre Mois/an | S20: 11 | T20: 11 | U20: 11 | V20: 11 | X20: 11 | Y20: 11 | Z20: 11 | AA20: 11
F21: Tréillis Antifussuration | G21: =+#REF! -> #REF! | H21: =+#REF! -> #REF! | I21: =+#REF! -> #REF! | J21: =+#REF! -> #REF! | K21: =+#REF! -> #REF! | L21: =+#REF! -> #REF! | M21: =+#REF! -> #REF!
F22: Poutrelles | G22: =+#REF! -> #REF! | H22: =+#REF! -> #REF! | I22: =+#REF! -> #REF! | J22: =+#REF! -> #REF! | K22: =+#REF! -> #REF! | L22: =+#REF! -> #REF! | M22: =+#REF! -> #REF!
F23: Nervure
F24: Lamilage à Froid_Prix de Revient | G24: =+#REF! -> #REF! | H24: =+#REF! -> #REF! | I24: =+#REF! -> #REF! | J24: =+#REF! -> #REF! | K24: =+#REF! -> #REF! | L24: =+#REF! -> #REF! | M24: =+#REF! -> #REF!
F25: Lamilage à Froid_PV SIDENOR | G25: =+#REF! -> #REF! | H25: =+#REF! -> #REF! | I25: =+#REF! -> #REF! | J25: =+#REF! -> #REF! | K25: =+#REF! -> #REF! | L25: =+#REF! -> #REF! | M25: =+#REF! -> #REF!
F27: Total Activité
F30: Chiffre D'affaires | G30: N1 | H30: N2 | I30: N3 | J30: N4 | K30: N5 | L30: N6 | M30: N7 | N30: TOTAL
F32: Tréillis Antifussuration | G32: =+'Volume Local_Export'!G32+'Volume Local_Export'!P32 -> 17197488 | H32: =+'Volume Local_Export'!H32+'Volume Local_Export'!Q32 -> 25796232 | I32: =+'Volume Local_Export'!I32+'Volume Local_Export'!R32 -> 34394976 | J32: =+'Volume Local_Export'!J32+'Volume Local_Export'!S32 -> 42993720 | K32: =+'Volume Local_Export'!K32+'Volume Local_Export'!T32 -> 51592464 | L32: =+'Volume Local_Export'!L32+'Volume Local_Export'!U32 -> 60191208 | M32: =+'Volume Local_Export'!M32+'Volume Local_Export'!V32 -> 68789952
F33: Poutrelles | G33: =+'Volume Local_Export'!G33+'Volume Local_Export'!P33 -> 0 | H33: =+'Volume Local_Export'!H33+'Volume Local_Export'!Q33 -> 0 | I33: =+'Volume Local_Export'!I33+'Volume Local_Export'!R33 -> 186127.04 | J33: =+'Volume Local_Export'!J33+'Volume Local_Export'!S33 -> 0 | K33: =+'Volume Local_Export'!K33+'Volume Local_Export'!T33 -> 279190.56 | L33: =+'Volume Local_Export'!L33+'Volume Local_Export'!U33 -> 0 | M33: =+'Volume Local_Export'!M33+'Volume Local_Export'!V33 -> 372254.08
F34: Nervure | G34: =+'Volume Local_Export'!G34+'Volume Local_Export'!P34 -> 7813091 | H34: =+'Volume Local_Export'!H34+'Volume Local_Export'!Q34 -> 11719636 | I34: =+'Volume Local_Export'!I34+'Volume Local_Export'!R34 -> 15626182 | J34: =+'Volume Local_Export'!J34+'Volume Local_Export'!S34 -> 19532728 | K34: =+'Volume Local_Export'!K34+'Volume Local_Export'!T34 -> 23439273 | L34: =+'Volume Local_Export'!L34+'Volume Local_Export'!U34 -> 27345818 | M34: =+'Volume Local_Export'!M34+'Volume Local_Export'!V34 -> 31252364
F35: Lamilage à Froid | G35: =+'Volume Local_Export'!G35+'Volume Local_Export'!P35 -> 0 | H35: =+'Volume Local_Export'!H35+'Volume Local_Export'!Q35 -> 0 | I35: =+'Volume Local_Export'!I35+'Volume Local_Export'!R35 -> 0 | J35: =+'Volume Local_Export'!J35+'Volume Local_Export'!S35 -> 0 | K35: =+'Volume Local_Export'!K35+'Volume Local_Export'!T35 -> 0 | L35: =+'Volume Local_Export'!L35+'Volume Local_Export'!U35 -> 0 | M35: =+'Volume Local_Export'!M35+'Volume Local_Export'!V35 -> 0
F36: Total Laminage | G36: =+'Volume Local_Export'!G36+'Volume Local_Export'!P36 -> 12420731 | H36: =+'Volume Local_Export'!H36+'Volume Local_Export'!Q36 -> 18188977 | I36: =+'Volume Local_Export'!I36+'Volume Local_Export'!R36 -> 23939014 | J36: =+'Volume Local_Export'!J36+'Volume Local_Export'!S36 -> 29808597 | K36: =+'Volume Local_Export'!K36+'Volume Local_Export'!T36 -> 35557156 | L36: =+'Volume Local_Export'!L36+'Volume Local_Export'!U36 -> 41428216 | M36: =+'Volume Local_Export'!M36+'Volume Local_Export'!V36 -> 47175297
F38: Total Chiffre d'affaire Consolidé | G38: =SUM(G32:G35) -> 27985299 | H38: =SUM(H32:H35) -> 41977949 | I38: =SUM(I32:I35) -> 56106325 | J38: =SUM(J32:J35) -> 69963248 | K38: =SUM(K32:K35) -> 84159488 | L38: =SUM(L32:L35) -> 97948547 | M38: =SUM(M32:M35) -> 1.1221265e+08
F39: CA laminage (Prix Vente) | G39: =+G14*G25 -> 12391912 | H39: =+H14*H25 -> 18587868 | I39: =+I14*I25 -> 24780800 | J39: =+J14*J25 -> 30979780 | K39: =+K14*K25 -> 37171200 | L39: =+L14*L25 -> 43371692 | M39: =+M14*M25 -> 49561600
F40: % Volume de Production | G40: N1 | H40: N2 | I40: N3 | J40: N4 | K40: N5 | L40: N6 | M40: N7
F42: Tréillis Antifussuration | G42: =+G10/G$47 -> 0.41995894 | H42: =+H10/H$47 -> 0.41995894 | I42: =+I10/I$47 -> 0.41870824 | J42: =+J10/J$47 -> 0.41995894 | K42: =+K10/K$47 -> 0.41870824 | L42: =+L10/L$47 -> 0.41995894 | M42: =+M10/M$47 -> 0.41870824
F43: Poutrelles | G43: =+G11/G$47 -> 0 | H43: =+H11/H$47 -> 0 | I43: =+I11/I$47 -> 0.0022271715 | J43: =+J11/J$47 -> 0 | K43: =+K11/K$47 -> 0.0022271715 | L43: =+L11/L$47 -> 0 | M43: =+M11/M$47 -> 0.0022271715
F44: Nervure | G44: =+G12/G$47 -> 0.22307596 | H44: =+H12/H$47 -> 0.22307596 | I44: =+I12/I$47 -> 0.22271715 | J44: =+J12/J$47 -> 0.22307596 | K44: =+K12/K$47 -> 0.22271715 | L44: =+L12/L$47 -> 0.22307596 | M44: =+M12/M$47 -> 0.22271715
F45: Total Laminage | G45: =+G14/G$47 -> 0.3569651 | H45: =+H14/H$47 -> 0.3569651 | I45: =+I14/I$47 -> 0.35634744 | J45: =+J14/J$47 -> 0.3569651 | K45: =+K14/K$47 -> 0.35634744 | L45: =+L14/L$47 -> 0.3569651 | M45: =+M14/M$47 -> 0.35634744
F47: Total Activité | G47: =+SUM(G10:G12,G14) -> 17357.316 | H47: =+SUM(H10:H12,H14) -> 26035.974 | I47: =+SUM(I10:I12,I14) -> 34770.56 | J47: =+SUM(J10:J12,J14) -> 43393.29 | K47: =+SUM(K10:K12,K14) -> 52155.84 | L47: =+SUM(L10:L12,L14) -> 60750.606 | M47: =+SUM(M10:M12,M14) -> 69541.12
F50: Nombre de Poste | G50: N1 | H50: N2 | I50: N3 | J50: N4 | K50: N5 | L50: N6 | M50: N7
F52: Tréillis Antifussuration | G52: =IF(G10>$AA$10,5,IF(G10>$Z$10,4,IF(G10<=0,0,IF(G10<=$X10,1,IF(G10>$Y10,3,2))))) -> 1 | H52: =IF(H10>$AA$10,5,IF(H10>$Z$10,4,IF(H10<=0,0,IF(H10<=$X10,1,IF(H10>$Y10,3,2))))) -> 2 | I52: =IF(I10>$AA$10,5,IF(I10>$Z$10,4,IF(I10<=0,0,IF(I10<=$X10,1,IF(I10>$Y10,3,2))))) -> 2 | J52: =IF(J10>$AA$10,5,IF(J10>$Z$10,4,IF(J10<=0,0,IF(J10<=$X10,1,IF(J10>$Y10,3,2))))) -> 3 | K52: =IF(K10>$AA$10,5,IF(K10>$Z$10,4,IF(K10<=0,0,IF(K10<=$X10,1,IF(K10>$Y10,3,2))))) -> 3 | L52: =IF(L10>$AA$10,5,IF(L10>$Z$10,4,IF(L10<=0,0,IF(L10<=$X10,1,IF(L10>$Y10,3,2))))) -> 4 | M52: =IF(M10>$AA$10,5,IF(M10>$Z$10,4,IF(M10<=0,0,IF(M10<=$X10,1,IF(M10>$Y10,3,2))))) -> 4
F53: Poutrelles | G53: =IF(G11>$AA$11,5,IF(G11>$Z$11,4,IF(G11<=0,0,IF(G11<=$X11,1,IF(G11>$Y11,3,2))))) -> 0 | H53: =IF(H11>$AA$11,5,IF(H11>$Z$11,4,IF(H11<=0,0,IF(H11<=$X11,1,IF(H11>$Y11,3,2))))) -> 0 | I53: =IF(I11>$AA$11,5,IF(I11>$Z$11,4,IF(I11<=0,0,IF(I11<=$X11,1,IF(I11>$Y11,3,2))))) -> 0 | J53: =IF(J11>$AA$11,5,IF(J11>$Z$11,4,IF(J11<=0,0,IF(J11<=$X11,1,IF(J11>$Y11,3,2))))) -> 0 | K53: =IF(K11>$AA$11,5,IF(K11>$Z$11,4,IF(K11<=0,0,IF(K11<=$X11,1,IF(K11>$Y11,3,2))))) -> 0 | L53: =IF(L11>$AA$11,5,IF(L11>$Z$11,4,IF(L11<=0,0,IF(L11<=$X11,1,IF(L11>$Y11,3,2))))) -> 0 | M53: =IF(M11>$AA$11,5,IF(M11>$Z$11,4,IF(M11<=0,0,IF(M11<=$X11,1,IF(M11>$Y11,3,2))))) -> 0
F54: Nervure | G54: =IF(G12>$AA$12,5,IF(G12>$Z$12,4,IF(G12<=0,0,IF(G12<=$X12,1,IF(G12>$Y12,3,2))))) -> 1 | H54: =IF(H12>$AA$12,5,IF(H12>$Z$12,4,IF(H12<=0,0,IF(H12<=$X12,1,IF(H12>$Y12,3,2))))) -> 2 | I54: =IF(I12>$AA$12,5,IF(I12>$Z$12,4,IF(I12<=0,0,IF(I12<=$X12,1,IF(I12>$Y12,3,2))))) -> 2 | J54: =IF(J12>$AA$12,5,IF(J12>$Z$12,4,IF(J12<=0,0,IF(J12<=$X12,1,IF(J12>$Y12,3,2))))) -> 3 | K54: =IF(K12>$AA$12,5,IF(K12>$Z$12,4,IF(K12<=0,0,IF(K12<=$X12,1,IF(K12>$Y12,3,2))))) -> 3 | L54: =IF(L12>$AA$12,5,IF(L12>$Z$12,4,IF(L12<=0,0,IF(L12<=$X12,1,IF(L12>$Y12,3,2))))) -> 4 | M54: =IF(M12>$AA$12,5,IF(M12>$Z$12,4,IF(M12<=0,0,IF(M12<=$X12,1,IF(M12>$Y12,3,2))))) -> 4
F55: Total Laminage | G55: =IF(G14>$AA$14,5,IF(G14>$Z$14,4,IF(G14<=$X14,1,IF(G14>$Y14,3,2)))) -> 2 | H55: =IF(H14>$AA$14,5,IF(H14>$Z$14,4,IF(H14<=$X14,1,IF(H14>$Y14,3,2)))) -> 2 | I55: =IF(I14>$AA$14,5,IF(I14>$Z$14,4,IF(I14<=$X14,1,IF(I14>$Y14,3,2)))) -> 2 | J55: =IF(J14>$AA$14,5,IF(J14>$Z$14,4,IF(J14<=$X14,1,IF(J14>$Y14,3,2)))) -> 3 | K55: =IF(K14>$AA$14,5,IF(K14>$Z$14,4,IF(K14<=$X14,1,IF(K14>$Y14,3,2)))) -> 3 | L55: =IF(L14>$AA$14,5,IF(L14>$Z$14,4,IF(L14<=$X14,1,IF(L14>$Y14,3,2)))) -> 4 | M55: =IF(M14>$AA$14,5,IF(M14>$Z$14,4,IF(M14<=$X14,1,IF(M14>$Y14,3,2)))) -> 4
...

Sheet Energie_ Poutrelles
B3: COUT DE L'INSTALLATION D'UNE LIGNE DE FABRICATION DE POUTRELLE (AWM)
A7: CONTRUCTIONS | E7: =([4]INVESTISSEMENT!E19+[4]INVESTISSEMENT!E21)/[4]INVESTISSEMENT!E30*('[4]P.R. T.S. Antifissuration'!E9+'[4]P.R. T.S. Antifissuration'!E10) -> 1883697.7 | F7: DT
A9: LIGNE COMPLETE DE LAMINAGE A FROID | C9: 650000 | E9: =C9*K9 -> 2080000 | F9: DT | J9: 1 EURO | K9: 3.2 | L9: DT
A10: MONTAGE, ASSISTANCE ET MISE EN SERVICE | E10: 200000 | F10: DT
A12: UTILITES: ELECTRICITE, AIR ET EAU GLACEE | E12: =[4]INVESTISSEMENT!E23*[4]INVESTISSEMENT!C41/[4]INVESTISSEMENT!C30 -> 242890.98 | F12: DT
A13: FRAIS DIVERS | E13: =[4]INVESTISSEMENT!E48*[4]INVESTISSEMENT!C41/[4]INVESTISSEMENT!C30 -> 70776.679 | F13: DT
A15: TOTAL INVESTISSEMENT EQUIPEMENTS | E15: =SUM(E9:E13) -> 2593667.7 | F15: DT
B18: PRIX DE REVIENT POUTRELLES
B19: RENDEMENT : | D19: 0.8
A22: VITESSE EN M/MIN | D22: 26 | F22: 28 | H22: 28 | J22: 20 | L22: 20 | N22: 24 | P22: =(D22+F22+H22+J22+L22+N22)/6 -> 24.333333
A23: CADENCE EN CYCLES / MINUTE | D23: 65 | F23: 70 | H23: 70 | J23: 50 | L23: 50 | N23: 60 | P23: =(D23+F23+H23+J23+L23+N23)/6 -> 60.833333
A24: CAPACITES EN T/(8xH) SELON MODELE | D24: 9.5 | F24: 10 | H24: 10 | J24: 6 | L24: 6 | N24: 8 | P24: =(D24+F24+H24+J24+L24+N24)/6 -> 8.25
A25: MODELE : Φ Long(mm) - Φ Transv(mm) - Haut(mm) | D25: 10 - 5 - 90 | F25: 10 - 6 - 120 | H25: 12 - 6 - 150 | J25: 14 - 7 - 200 | L25: 14 - 7 - 250 | N25: 12 - 6 - 300 | P25: Moyenne
B26: UNITE | C26: PRIX UNIT | D26: CONS. | E26: COUT | F26: CONS. | G26: COUT | H26: CONS. | I26: COUT | J26: CONS. | K26: COUT | L26: CONS. | M26: COUT | N26: CONS. | O26: COUT | P26: CONS. | Q26: COUT
A27: Consommation Electrique machines | B27: KWH | C27: 0.2 | D27: =(600*0.9)/4/(D24/8) -> 113.68421 | E27: =D27*$C$27 -> 22.736842 | F27: =(600*0.9)/4/(F24/8) -> 108 | G27: =F27*$C$27 -> 21.6 | H27: =(600*0.9)/4/(H24/8) -> 108 | I27: =H27*$C$27 -> 21.6 | J27: =(600*0.9)/4/(J24/8) -> 180 | K27: =J27*$C$27 -> 36 | L27: =(600*0.9)/4/(L24/8) -> 180 | M27: =L27*$C$27 -> 36 | N27: =(600*0.9)/4/(N24/8) -> 135 | O27: =N27*$C$27 -> 27 | P27: =(D27+F27+H27+J27+L27+N27)/6 -> 137.44737 | Q27: =P27*C27 -> 27.489474
A28: Eau de Refroidissement (7 m3/h ∆T 8° ) | B28: KWH | C28: 0.2 | D28: =12/(D24/8) -> 10.105263 | E28: =D28*$C$28 -> 2.0210526 | F28: =25/(F24*$D$19) -> 3.125 | G28: =F28*$C$28 -> 0.625 | H28: =25/(H24*$D$19) -> 3.125 | I28: =H28*$C$28 -> 0.625 | J28: =25/(J24*$D$19) -> 5.2083333 | K28: =J28*$C$28 -> 1.0416667 | L28: =25/(L24*$D$19) -> 5.2083333 | M28: =L28*$C$28 -> 1.0416667 | N28: =25/(N24*$D$19) -> 3.90625 | O28: =N28*$C$28 -> 0.78125 | P28: =(D28+F28+H28+J28+L28+N28)/6 -> 5.11303 | Q28: =P28*C28 -> 1.022606
A29: Air Comprimé (100Nm3 /h à 6 bars) | B29: KWH | C29: 0.2 | D29: =10/(D24/8) -> 8.4210526 | E29: =D29*$C$29 -> 1.6842105 | F29: =10/(F24*$D$19) -> 1.25 | G29: =F29*$C$29 -> 0.25 | H29: =10/(H24*$D$19) -> 1.25 | I29: =H29*$C$29 -> 0.25 | J29: =10/(J24*$D$19) -> 2.0833333 | K29: =J29*$C$29 -> 0.41666667 | L29: =10/(L24*$D$19) -> 2.0833333 | M29: =L29*$C$29 -> 0.41666667 | N29: =10/(N24*$D$19) -> 1.5625 | O29: =N29*$C$29 -> 0.3125 | P29: =(D29+F29+H29+J29+L29+N29)/6 -> 2.7750365 | Q29: =P29*C29 -> 0.55500731
A31: Consommation Galets (1 jeu de 3 : 600 € par 4000 T ) | B31: JEU | C31: =600*K9 -> 1920 | D31: =2/4000 -> 0.0005 | E31: =D31*$C$31 -> 0.96 | F31: =D31 -> 0.0005 | G31: =F31*$C$31 -> 0.96 | H31: =F31 -> 0.0005 | I31: =H31*$C$31 -> 0.96 | J31: =H31 -> 0.0005 | K31: =J31*$C$31 -> 0.96 | L31: =J31 -> 0.0005 | M31: =L31*$C$31 -> 0.96 | N31: =L31 -> 0.0005 | O31: =N31*$C$31 -> 0.96 | P31: =(D31+F31+H31+J31+L31+N31)/6 -> 0.0005 | Q31: =P31*C31 -> 0.96
A32: Autres P.R. et consommables (1% du cout sur Tonnage) | B32: LOT | D32: 0.02 | E32: =$D$32*$E$15/(D24/8*7200*$D$19) -> 7.5838236 | F32: =D32 -> 0.02 | G32: =$D$32*$E$15/(F24/8*7200*$D$19) -> 7.2046324 | H32: 0.01 | I32: =$D$32*$E$15/(H24/8*7200*$D$19) -> 7.2046324 | J32: =F32 -> 0.02 | K32: =$D$32*$E$15/(J24/8*7200*$D$19) -> 12.007721 | L32: =J32 -> 0.02 | M32: =$D$32*$E$15/(L24/8*7200*$D$19) -> 12.007721 | N32: 0.01 | O32: =$D$32*$E$15/(N24/8*7200*$D$19) -> 9.0057905 | P32: =(D32+F32+H32+J32+L32+N32)/6 -> 0.016666667 | Q32: =(E32+G32+I32+K32+M32+O32)/6 -> 9.1690534
A34: Main d'Œuvre (2 techniciens) | B34: H.TECH | C34: 8 | D34: =2/(D24/8) -> 1.6842105 | E34: =D34*$C$34 -> 13.473684 | F34: =2/(F24/8) -> 1.6 | G34: =F34*$C$34 -> 12.8 | H34: =2/(H24/8) -> 1.6 | I34: =H34*$C$34 -> 12.8 | J34: =2/(J24/8) -> 2.6666667 | K34: =J34*$C$34 -> 21.333333 | L34: =2/(L24/8) -> 2.6666667 | M34: =L34*$C$34 -> 21.333333 | N34: =2/(N24/8) -> 2 | O34: =N34*$C$34 -> 16 | P34: =(D34+F34+H34+J34+L34+N34)/6 -> 2.0362573 | Q34: =P34*C34 -> 16.290058
A36: Amortissement equipement (10 ans ) | E36: =$E$15/(7200*(D24/8)*$D$19)/10 -> 37.919118 | G36: =$E$15/(7200*(F24/8)*$D$19)/10 -> 36.023162 | I36: =$E$15/(7200*(H24/8)*$D$19)/10 -> 36.023162 | K36: =$E$15/(7200*(J24/8)*$D$19)/10 -> 60.038603 | M36: =$E$15/(7200*(L24/8)*$D$19)/10 -> 60.038603 | O36: =$E$15/(7200*(N24/8)*$D$19)/10 -> 45.028952 | Q36: =(E36+G36+I36+K36+M36+O36)/6 -> 45.845267
A37: Amortissement Construction (1 MD sur 20 ans) | E37: =$E$7/(7200*(D24/8)*$D$19)/20 -> 13.76972 | G37: =$E$7/(7200*(F24/8)*$D$19)/20 -> 13.081234 | I37: =$E$7/(7200*(H24/8)*$D$19)/20 -> 13.081234 | K37: =$E$7/(7200*(J24/8)*$D$19)/20 -> 21.802056 | M37: =$E$7/(7200*(L24/8)*$D$19)/20 -> 21.802056 | O37: =$E$7/(7200*(N24/8)*$D$19)/20 -> 16.351542 | Q37: =(E37+G37+I37+K37+M37+O37)/6 -> 16.647974
A38: Frais Divers de Gestion | E38: 5 | G38: 5 | I38: 5 | K38: 5 | M38: 5 | O38: 5 | Q38: =(E38+G38+I38+K38+M38+O38)/6 -> 5
A40: TOTAL | E40: =SUM(E27:E39) -> 105.14845 | G40: =SUM(G27:G39) -> 97.544028 | I40: =SUM(I27:I39) -> 97.544028 | K40: =SUM(K27:K39) -> 158.60005 | M40: =SUM(M27:M39) -> 158.60005 | O40: =SUM(O27:O39) -> 120.44004 | Q40: =SUM(Q27:Q39) -> 122.97944

Sheet hierarchie
A1: Code Pdts | B1: Description Produits | C1: Code Gamme | D1: Gamme de Produits | E1: Code Atelier | F1: Description Atelier_Ligne | G1: CODE Gamme | H1: Description Gamme | I1: CODE Activité | J1: Descr. Activité
A2: PF0401 | B2: Armatures Diam8 | C2: F04 | D2: Armatures Pré-Fabriqués | E2: L04 | F2: Atelier de Façonnage | I2: PFF | J2: 01-PRODUITS SID
A3: PF0402 | B3: Armatures Diam10 | C3: F04 | D3: Armatures Pré-Fabriqués | E3: L04 | F3: Atelier de Façonnage | I3: PFF | J3: 01-PRODUITS SID
A4: PF0403 | B4: Armatures Diam12 | C4: F04 | D4: Armatures Pré-Fabriqués | E4: L04 | F4: Atelier de Façonnage | I4: PFF | J4: 01-PRODUITS SID
A5: PF0404 | B5: Armatures Diam14 | C5: F04 | D5: Armatures Pré-Fabriqués | E5: L04 | F5: Atelier de Façonnage | I5: PFF | J5: 01-PRODUITS SID
A6: PF0501 | B6: D03 en Bobine | C6: F05 | D6: Fil machine Diam 3 en bobine | E6: L05 | F6: Ligne Laminage à Froid | H6: Laminage à Froid | I6: PFF | J6: 01-PRODUITS SID
A7: PF0502 | B7: D04 en Bobine | C7: F05 | D7: Fil machine Diam 4 en bobine | E7: L06 | F7: Ligne Laminage à Froid | H7: Laminage à Froid | J7: 01-PRODUITS SID
A8: PF0503 | B8: D05 en Bobine | C8: F05 | D8: Fil machine Diam 5 en bobine | E8: L07 | F8: Ligne Laminage à Froid | H8: Laminage à Froid | J8: 01-PRODUITS SID
A9: PF0504 | B9: D06 en Bobine | C9: F05 | D9: Fil machine Diam 6 en bobine | E9: L08 | F9: Ligne Laminage à Froid | H9: Laminage à Froid | J9: 01-PRODUITS SID
A10: PF0601 | B10: Produits TR_Soudé Section 3 | C10: F06 | D10: Treillis Soudé | E10: L06 | F10: Ligne Treillis Soudés | I10: PFF | J10: 01-PRODUITS SID
A11: PF0602 | B11: Produits TR_Soudé Section 4 | C11: F06 | D11: Treillis Soudé | E11: L06 | F11: Ligne Treillis Soudés | I11: PFF | J11: 01-PRODUITS SID
A12: PF0603 | B12: Produits TR_Soudé Section 6 | C12: F06 | D12: Treillis Soudé | E12: L06 | F12: Ligne Treillis Soudés | I12: PFF | J12: 01-PRODUITS SID
A13: PF0604 | B13: Produits TR_Soudé Section 8 | C13: F06 | D13: Treillis Soudé | E13: L06 | F13: Ligne Treillis Soudés | I13: PFF | J13: 01-PRODUITS SID
A14: PF0605 | B14: Produits TR_Soudé Section 10 | C14: F06 | D14: Treillis Soudé | E14: L06 | F14: Ligne Treillis Soudés | I14: PFF | J14: 01-PRODUITS SID
A15: PF0701 | B15: Produits FAS 1 | C15: F07 | D15: Amataures façconnés_Assemblé_Soudé | E15: L07 | F15: Atelier de Façonnage | I15: PFF | J15: 01-PRODUITS SID
A16: PF0702 | B16: Produits FAS 2 | C16: F07 | D16: Amataures façconnés_Assemblé_Soudé | E16: L07 | F16: Atelier de Façonnage | I16: PFF | J16: 01-PRODUITS SID
A17: PF0703 | B17: Produits FAS 3 | C17: F07 | D17: Amataures façconnés_Assemblé_Soudé | E17: L07 | F17: Atelier de Façonnage | I17: PFF | J17: 01-PRODUITS SID
A18: PF0704 | B18: Produits FAS 4 | C18: F07 | D18: Amataures façconnés_Assemblé_Soudé | E18: L07 | F18: Atelier de Façonnage | I18: PFF | J18: 01-PRODUITS SID
A19: PR0101 | B19: Barres Courtes | C19: F08 | D19: Produits résiduels | I19: PR | J19: 01-PRODUITS SID
A20: PR0102 | B20: Calamine | C20: F02 | D20: Produits résiduels | I20: PR | J20: 01-PRODUITS SID
A21: PR0103 | B21: Produits Féraille | C21: F02 | D21: Produits résiduels | I21: PR | J21: 01-PRODUITS SID

Sheet P&L
A2: Version 3
A4: Etat de résultat prévisionnel 2020-2026
B5: =+'[5]Assump. '!F18 -> 0 | C5: =+'[5]Assump. '!G18 -> 0 | D5: =+'[5]Assump. '!H18 -> 0 | E5: =+'[5]Assump. '!I18 -> 0 | F5: =+'[5]Assump. '!J18 -> 0 | G5: =+'[5]Assump. '!K18 -> 0 | H5: =+'[5]Assump. '!L18 -> 0
A6: En milliers de DT | B6: 2020 P | C6: 2021 P | D6: 2022 P | E6: 2023 P | F6: 2024 P | G6: 2025 P | H6: 2026 P | I6: CAGR (2018-2022)
A7: Revenus | B7: =ROUND('[6]P&LV3'!B7/1000,1)*1000 -> 455700 | C7: =ROUND('[6]P&LV3'!C7/1000,1)*1000 -> 520300 | D7: =ROUND('[6]P&LV3'!D7/1000,1)*1000 -> 589700 | E7: =ROUND('[6]P&LV3'!E7/1000,1)*1000 -> 670600 | F7: =ROUND('[6]P&LV3'!F7/1000,1)*1000 -> 761400 | G7: =ROUND('[6]P&LV3'!G7/1000,1)*1000 -> 866400 | H7: =ROUND('[6]P&LV3'!H7/1000,1)*1000 -> 994200 | I7: 0.18456615
