Workbook
Name top: Copie!$A$9

Sheet Copie
A5: Informations
A7: ACADEMIE DE DIJON
A8: BACCALAUREAT PROFESSIONNEL JUILLET 2017 PREMIER GROUPE
A9: Publinet
A11: * Consultez les notes d'un autre candidat
A12: Accueil résultat
A13: BACCALAUREAT PROFESSIONNEL JUILLET 2017 PREMIER GROUPE
A14: ACC.SOINS-S.PERS. OPT.A DOMICILE
A16: Résultats des examens, concours et recrutements ASS
A17: BACCALAUREAT PROFESSIONNEL : ACC.SOINS-S.PERS. OPT.A DOMICILE
A19: Notes de PERROT Marjorie né(e) le 29/06/1999.
A20: Epreuves subies | B20: Notes
A21: U11 MATHEMATIQUES | B21: 17.50/20.00
A22: U12 SCIENCES PHYSIQUES ET CHIMIQU. | B22: 12.00/20.00
A23: U13 CONDUITE PROJET ACCOMPAGNEMENT | B23: 18.50/20.00
A24: U2 ANALYSE SITUATION PROFESSION. | B24: 09.00/20.00
A25: U31 ACCOMP. ACTES VIE QUOTI. A DOM | B25: 18.50/20.00
A26: U32 ORGANIS. INTERVENT. A DOMICILE | B26: 15.50/20.00
A27: U33 AMENAG. EQUIPEM. ESPACE PRIVE | B27: 17.00/20.00
A28: U34 ECONOMIE ET GESTION | B28: 15.00/20.00
A29: U35 PREVENTION SANTE ENVIRONNEMENT | B29: 12.00/20.00
A30: U4 LANGUE VIVANTE : ANGLAIS | B30: 14.00/20.00
A31: U51 FRANCAIS | B31: 12.50/20.00
... A35: Décision | B35: ADMIS MENTION BIEN

Sheet Décodage
A1: =MID(INDEX(Copie!A:A,MATCH(Paramètres!A1,Copie!A:A,0)-1,),10,99) -> PERROT Marjorie né(e) le 29/06/1999. | B1: =INDEX(Copie!B:B,MATCH(Paramètres!A2,Copie!A:A,0),) -> ADMIS MENTION BIEN
A2: =IF(MATCH(Paramètres!A$1,Copie!A:A,0)+ROW()-2=MATCH(Paramètres!A$2,Copie!A:A,0),0,INDEX(Copie!A:A,MATCH(Paramètres!A$1,Copie!A:A,0)+ROW()-2,)) -> Epreuves subies | B2: =IF(MATCH(Paramètres!A$1,Copie!A:A,0)+ROW()-2=MATCH(Paramètres!A$2,Copie!A:A,0),0,INDEX(Copie!B:B,MATCH(Paramètres!A$1,Copie!A:A,0)+ROW()-2,)) -> Notes
A3: =IF(MATCH(Paramètres!A$1,Copie!A:A,0)+ROW()-2=MATCH(Paramètres!A$2,Copie!A:A,0),0,INDEX(Copie!A:A,MATCH(Paramètres!A$1,Copie!A:A,0)+ROW()-2,)) -> U11 MATHEMATIQUES | B3: =IF(MATCH(Paramètres!A$1,Copie!A:A,0)+ROW()-2=MATCH(Paramètres!A$2,Copie!A:A,0),0,INDEX(Copie!B:B,MATCH(Paramètres!A$1,Copie!A:A,0)+ROW()-2,)) -> 17.50/20.00 | C3: =IFERROR(SUBSTITUTE(LEFT(B3,SEARCH("/",B3)-1),".",",")*1,0) -> 17.5 | D3: =IFERROR(SUBSTITUTE(MID(B3,SEARCH("/",B3)+1,99),".",",")*1,0) -> 20
A4: =IF(MATCH(Paramètres!A$1,Copie!A:A,0)+ROW()-2=MATCH(Paramètres!A$2,Copie!A:A,0),0,INDEX(Copie!A:A,MATCH(Paramètres!A$1,Copie!A:A,0)+ROW()-2,)) -> U12 SCIENCES PHYSIQUES ET CHIMIQU. | B4: =IF(MATCH(Paramètres!A$1,Copie!A:A,0)+ROW()-2=MATCH(Paramètres!A$2,Copie!A:A,0),0,INDEX(Copie!B:B,MATCH(Paramètres!A$1,Copie!A:A,0)+ROW()-2,)) -> 12.00/20.00 | C4: =IFERROR(SUBSTITUTE(LEFT(B4,SEARCH("/",B4)-1),".",",")*1,0) -> 12 | D4: =IFERROR(SUBSTITUTE(MID(B4,SEARCH("/",B4)+1,99),".",",")*1,0) -> 20
A5: =IF(MATCH(Paramètres!A$1,Copie!A:A,0)+ROW()-2=MATCH(Paramètres!A$2,Copie!A:A,0),0,INDEX(Copie!A:A,MATCH(Paramètres!A$1,Copie!A:A,0)+ROW()-2,)) -> U13 CONDUITE PROJET ACCOMPAGNEMENT | B5: =IF(MATCH(Paramètres!A$1,Copie!A:A,0)+ROW()-2=MATCH(Paramètres!A$2,Copie!A:A,0),0,INDEX(Copie!B:B,MATCH(Paramètres!A$1,Copie!A:A,0)+ROW()-2,)) -> 18.50/20.00 | C5: =IFERROR(SUBSTITUTE(LEFT(B5,SEARCH("/",B5)-1),".",",")*1,0) -> 18.5 | D5: =IFERROR(SUBSTITUTE(MID(B5,SEARCH("/",B5)+1,99),".",",")*1,0) -> 20
A6: =IF(MATCH(Paramètres!A$1,Copie!A:A,0)+ROW()-2=MATCH(Paramètres!A$2,Copie!A:A,0),0,INDEX(Copie!A:A,MATCH(Paramètres!A$1,Copie!A:A,0)+ROW()-2,)) -> U2 ANALYSE SITUATION PROFESSION. | B6: =IF(MATCH(Paramètres!A$1,Copie!A:A,0)+ROW()-2=MATCH(Paramètres!A$2,Copie!A:A,0),0,INDEX(Copie!B:B,MATCH(Paramètres!A$1,Copie!A:A,0)+ROW()-2,)) -> 09.00/20.00 | C6: =IFERROR(SUBSTITUTE(LEFT(B6,SEARCH("/",B6)-1),".",",")*1,0) -> 9 | D6: =IFERROR(SUBSTITUTE(MID(B6,SEARCH("/",B6)+1,99),".",",")*1,0) -> 20
A7: =IF(MATCH(Paramètres!A$1,Copie!A:A,0)+ROW()-2=MATCH(Paramètres!A$2,Copie!A:A,0),0,INDEX(Copie!A:A,MATCH(Paramètres!A$1,Copie!A:A,0)+ROW()-2,)) -> U31 ACCOMP. ACTES VIE QUOTI. A DOM | B7: =IF(MATCH(Paramètres!A$1,Copie!A:A,0)+ROW()-2=MATCH(Paramètres!A$2,Copie!A:A,0),0,INDEX(Copie!B:B,MATCH(Paramètres!A$1,Copie!A:A,0)+ROW()-2,)) -> 18.50/20.00 | C7: =IFERROR(SUBSTITUTE(LEFT(B7,SEARCH("/",B7)-1),".",",")*1,0) -> 18.5 | D7: =IFERROR(SUBSTITUTE(MID(B7,SEARCH("/",B7)+1,99),".",",")*1,0) -> 20
A8: =IF(MATCH(Paramètres!A$1,Copie!A:A,0)+ROW()-2=MATCH(Paramètres!A$2,Copie!A:A,0),0,INDEX(Copie!A:A,MATCH(Paramètres!A$1,Copie!A:A,0)+ROW()-2,)) -> U32 ORGANIS. INTERVENT. A DOMICILE | B8: =IF(MATCH(Paramètres!A$1,Copie!A:A,0)+ROW()-2=MATCH(Paramètres!A$2,Copie!A:A,0),0,INDEX(Copie!B:B,MATCH(Paramètres!A$1,Copie!A:A,0)+ROW()-2,)) -> 15.50/20.00 | C8: =IFERROR(SUBSTITUTE(LEFT(B8,SEARCH("/",B8)-1),".",",")*1,0) -> 15.5 | D8: =IFERROR(SUBSTITUTE(MID(B8,SEARCH("/",B8)+1,99),".",",")*1,0) -> 20
A9: =IF(MATCH(Paramètres!A$1,Copie!A:A,0)+ROW()-2=MATCH(Paramètres!A$2,Copie!A:A,0),0,INDEX(Copie!A:A,MATCH(Paramètres!A$1,Copie!A:A,0)+ROW()-2,)) -> U33 AMENAG. EQUIPEM. ESPACE PRIVE | B9: =IF(MATCH(Paramètres!A$1,Copie!A:A,0)+ROW()-2=MATCH(Paramètres!A$2,Copie!A:A,0),0,INDEX(Copie!B:B,MATCH(Paramètres!A$1,Copie!A:A,0)+ROW()-2,)) -> 17.00/20.00 | C9: =IFERROR(SUBSTITUTE(LEFT(B9,SEARCH("/",B9)-1),".",",")*1,0) -> 17 | D9: =IFERROR(SUBSTITUTE(MID(B9,SEARCH("/",B9)+1,99),".",",")*1,0) -> 20
A10: =IF(MATCH(Paramètres!A$1,Copie!A:A,0)+ROW()-2=MATCH(Paramètres!A$2,Copie!A:A,0),0,INDEX(Copie!A:A,MATCH(Paramètres!A$1,Copie!A:A,0)+ROW()-2,)) -> U34 ECONOMIE ET GESTION | B10: =IF(MATCH(Paramètres!A$1,Copie!A:A,0)+ROW()-2=MATCH(Paramètres!A$2,Copie!A:A,0),0,INDEX(Copie!B:B,MATCH(Paramètres!A$1,Copie!A:A,0)+ROW()-2,)) -> 15.00/20.00 | C10: =IFERROR(SUBSTITUTE(LEFT(B10,SEARCH("/",B10)-1),".",",")*1,0) -> 15 | D10: =IFERROR(SUBSTITUTE(MID(B10,SEARCH("/",B10)+1,99),".",",")*1,0) -> 20
A11: =IF(MATCH(Paramètres!A$1,Copie!A:A,0)+ROW()-2=MATCH(Paramètres!A$2,Copie!A:A,0),0,INDEX(Copie!A:A,MATCH(Paramètres!A$1,Copie!A:A,0)+ROW()-2,)) -> U35 PREVENTION SANTE ENVIRONNEMENT | B11: =IF(MATCH(Paramètres!A$1,Copie!A:A,0)+ROW()-2=MATCH(Paramètres!A$2,Copie!A:A,0),0,INDEX(Copie!B:B,MATCH(Paramètres!A$1,Copie!A:A,0)+ROW()-2,)) -> 12.00/20.00 | C11: =IFERROR(SUBSTITUTE(LEFT(B11,SEARCH("/",B11)-1),".",",")*1,0) -> 12 | D11: =IFERROR(SUBSTITUTE(MID(B11,SEARCH("/",B11)+1,99),".",",")*1,0) -> 20
A12: =IF(MATCH(Paramètres!A$1,Copie!A:A,0)+ROW()-2=MATCH(Paramètres!A$2,Copie!A:A,0),0,INDEX(Copie!A:A,MATCH(Paramètres!A$1,Copie!A:A,0)+ROW()-2,)) -> U4 LANGUE VIVANTE : ANGLAIS | B12: =IF(MATCH(Paramètres!A$1,Copie!A:A,0)+ROW()-2=MATCH(Paramètres!A$2,Copie!A:A,0),0,INDEX(Copie!B:B,MATCH(Paramètres!A$1,Copie!A:A,0)+ROW()-2,)) -> 14.00/20.00 | C12: =IFERROR(SUBSTITUTE(LEFT(B12,SEARCH("/",B12)-1),".",",")*1,0) -> 14 | D12: =IFERROR(SUBSTITUTE(MID(B12,SEARCH("/",B12)+1,99),".",",")*1,0) -> 20
A13: =IF(MATCH(Paramètres!A$1,Copie!A:A,0)+ROW()-2=MATCH(Paramètres!A$2,Copie!A:A,0),0,INDEX(Copie!A:A,MATCH(Paramètres!A$1,Copie!A:A,0)+ROW()-2,)) -> U51 FRANCAIS | B13: =IF(MATCH(Paramètres!A$1,Copie!A:A,0)+ROW()-2=MATCH(Paramètres!A$2,Copie!A:A,0),0,INDEX(Copie!B:B,MATCH(Paramètres!A$1,Copie!A:A,0)+ROW()-2,)) -> 12.50/20.00 | C13: =IFERROR(SUBSTITUTE(LEFT(B13,SEARCH("/",B13)-1),".",",")*1,0) -> 12.5 | D13: =IFERROR(SUBSTITUTE(MID(B13,SEARCH("/",B13)+1,99),".",",")*1,0) -> 20
A14: =IF(MATCH(Paramètres!A$1,Copie!A:A,0)+ROW()-2=MATCH(Paramètres!A$2,Copie!A:A,0),0,INDEX(Copie!A:A,MATCH(Paramètres!A$1,Copie!A:A,0)+ROW()-2,)) -> U52 HISTOIRE-GEOGRAPHIE-ENS.MO.&CI | B14: =IF(MATCH(Paramètres!A$1,Copie!A:A,0)+ROW()-2=MATCH(Paramètres!A$2,Copie!A:A,0),0,INDEX(Copie!B:B,MATCH(Paramètres!A$1,Copie!A:A,0)+ROW()-2,)) -> 12.50/20.00 | C14: =IFERROR(SUBSTITUTE(LEFT(B14,SEARCH("/",B14)-1),".",",")*1,0) -> 12.5 | D14: =IFERROR(SUBSTITUTE(MID(B14,SEARCH("/",B14)+1,99),".",",")*1,0) -> 20
... A29: =IF(MATCH(Paramètres!A$1,Copie!A:A,0)+ROW()-2=MATCH(Paramètres!A$2,Copie!A:A,0),0,INDEX(Copie!A:A,MATCH(Paramètres!A$1,Copie!A:A,0)+ROW()-2,)) -> 0 | B29: =IF(MATCH(Paramètres!A$1,Copie!A:A,0)+ROW()-2=MATCH(Paramètres!A$2,Copie!A:A,0),0,INDEX(Copie!B:B,MATCH(Paramètres!A$1,Copie!A:A,0)+ROW()-2,)) -> 0 | C29: =IFERROR(SUBSTITUTE(LEFT(B29,SEARCH("/",B29)-1),".",",")*1,0) -> 0 | D29: =IFERROR(SUBSTITUTE(MID(B29,SEARCH("/",B29)+1,99),".",",")*1,0) -> 0

Sheet Paramètres
A1: Epreuves subies
A2: Décision
