Workbook
Name _mois: Annexe!$B$3:$B$14

Sheet Bdd 0h-0h
A1: Date0 | B1: Moyenne de Temp Out | C1: Min de Bar | D1: Moyenne de Bar | E1: Max de Bar | F1: Moyenne de Wind Speed | G1: Max de Wind Speed | H1: Max de Hi Speed
A2: 42736 | B2: 0.50833333 | C2: 1021.1 | D2: 1023.4354 | E2: 1028.1 | F2: 1.8111111 | G2: 8 | H2: 24.1
A3: 42737 | B3: 0.19097222 | C3: 1021.9 | D3: 1024.2681 | E3: 1027 | F3: 0.34444444 | G3: 3.2 | H3: 12.9
A4: 42738 | B4: -0.18194444 | C4: 1026.7 | D4: 1028.5861 | E4: 1030.1 | F4: 3.7444444 | G4: 8 | H4: 17.7
A5: 42739 | B5: -0.88402778 | C5: 1027 | D5: 1028.1889 | E5: 1029.5 | F5: 1.8 | G5: 8 | H5: 22.5
A6: 42740 | B6: 1.10625 | C6: 1028.1 | D6: 1031.5201 | E6: 1035.1 | F6: 2.5666667 | G6: 8 | H6: 16.1
A7: 42741 | B7: -1.9395833 | C7: 1034.7 | D7: 1035.8007 | E7: 1037.2 | F7: 3.2888889 | G7: 8 | H7: 20.9
A8: 42742 | B8: -1.3868056 | C8: 1034.5 | D8: 1035.4764 | E8: 1036.5 | F8: 0.52222222 | G8: 3.2 | H8: 9.7
A9: 42743 | B9: 2.4805556 | C9: 1032.2 | D9: 1033.0854 | E9: 1034.5 | F9: 0.64444444 | G9: 4.8 | H9: 17.7
A10: 42744 | B10: 3.7423611 | C10: 1018.5 | D10: 1027.3382 | E10: 1032.5 | F10: 2.5333333 | G10: 8 | H10: 24.1
A11: 42745 | B11: 4.9180556 | C11: 1011.5 | D11: 1014.6778 | E11: 1018.2 | F11: 5.8069444 | G11: 12.9 | H11: 40.2
A12: 42746 | B12: 5.9152778 | C12: 1017.5 | D12: 1019.1819 | E12: 1022.2 | F12: 6.0833333 | G12: 16.1 | H12: 38.6
A13: 42747 | B13: 6.8513889 | C13: 1004.6 | D13: 1014.4389 | E13: 1022.1 | F13: 7.6736111 | G13: 20.9 | H13: 56.3
... A367: 42735 | B367: -1.6 | C367: 1028.2 | D367: 1028.38 | E367: 1028.7 | F367: 0 | G367: 0 | H367: 3.2

Sheet Bdd 6h-6h
A1: Date6 | B1: Max de Hi Temp | C1: Somme de Rain | D1: Max de Pluie 1h
A2: 42735 | B2: -1.1 | C2: 0 | D2: 0
A3: 42736 | B3: 4.7 | C3: 0.2 | D3: 0.2
A4: 42737 | B4: 3.3 | C4: 0 | D4: 0
A5: 42738 | B5: 2.4 | C5: 0 | D5: 0
A6: 42739 | B6: 3.1 | C6: 0.8 | D6: 0.4
A7: 42740 | B7: 2.4 | C7: 0 | D7: 0
A8: 42741 | B8: 0.7 | C8: 0 | D8: 0
A9: 42742 | B9: 4.6 | C9: 0.2 | D9: 0.2
A10: 42743 | B10: 3.9 | C10: 0.2 | D10: 0.2
A11: 42744 | B11: 6.2 | C11: 8.6 | D11: 2.4
A12: 42745 | B12: 6.1 | C12: 1.2 | D12: 1.6
A13: 42746 | B13: 8.4 | C13: 0.4 | D13: 0.2
... A367: 43100 | B367: 14.6 | C367: 5.2 | D367: 2.6

Sheet Bdd 18h-18h
A1: Date18 | B1: Total
A2: 42736 | B2: -2.9
A3: 42737 | B3: -3.1
A4: 42738 | B4: -1.6
A5: 42739 | B5: -5.6
A6: 42740 | B6: 0.5
A7: 42741 | B7: -3.6
A8: 42742 | B8: -8
A9: 42743 | B9: 0.3
A10: 42744 | B10: 1.6
A11: 42745 | B11: 3.6
A12: 42746 | B12: 3.9
A13: 42747 | B13: 6.3
... A367: 43101 | B367: 7.6

Sheet Température
C1: Température
B4: ANNEE | C4: 2017 | E4: MOIS | F4: JUILLET | G4: =VLOOKUP(Température!F4,Annexe!B3:C14,2,0) -> 7 | H4: du | I4: =DATE(Température!C4,G4,1) -> 42917 | J4: au | K4: =DATE(Température!C4,G4+1,1) -> 42948
A7: Jour | B7: Tn | C7: Tx | D7: Tm | G7: Température Moyenne minimale du mois
A8: =I4 -> 42917 | B8: =IFERROR(INDEX(_T18[Total],MATCH(A8,_T18[Date18],0)),"") -> 12.4 | C8: =IFERROR(INDEX(_T6[Max de Hi Temp],MATCH(A8,_T6[Date6],0)),"") -> 16.5 | D8: =IFERROR(INDEX(_T0[Moyenne de Temp Out],MATCH(A8,_T0[Date0],0)),"") -> 14.331944 | G8: =MIN(D8:D38) -> 14.331944
A9: =A8+1 -> 42918 | B9: =IFERROR(INDEX(_T18[Total],MATCH(A9,_T18[Date18],0)),"") -> 14.3 | C9: =IFERROR(INDEX(_T6[Max de Hi Temp],MATCH(A9,_T6[Date6],0)),"") -> 17.3 | D9: =IFERROR(INDEX(_T0[Moyenne de Temp Out],MATCH(A9,_T0[Date0],0)),"") -> 16.216667 | L9: Nombre de jour avec Tn ≤ -10°C
A10: =A9+1 -> 42919 | B10: =IFERROR(INDEX(_T18[Total],MATCH(A10,_T18[Date18],0)),"") -> 16.6 | C10: =IFERROR(INDEX(_T6[Max de Hi Temp],MATCH(A10,_T6[Date6],0)),"") -> 22.9 | D10: =IFERROR(INDEX(_T0[Moyenne de Temp Out],MATCH(A10,_T0[Date0],0)),"") -> 19.074306 | G10: Température Moyenne maximale du mois | L10: =COUNTIF(B8:B38,"<=-10") -> 0
A11: =A10+1 -> 42920 | B11: =IFERROR(INDEX(_T18[Total],MATCH(A11,_T18[Date18],0)),"") -> 13 | C11: =IFERROR(INDEX(_T6[Max de Hi Temp],MATCH(A11,_T6[Date6],0)),"") -> 28.8 | D11: =IFERROR(INDEX(_T0[Moyenne de Temp Out],MATCH(A11,_T0[Date0],0)),"") -> 21.865972 | G11: =MAX(D8:D38) -> 27.214583
A12: =A11+1 -> 42921 | B12: =IFERROR(INDEX(_T18[Total],MATCH(A12,_T18[Date18],0)),"") -> 16.9 | C12: =IFERROR(INDEX(_T6[Max de Hi Temp],MATCH(A12,_T6[Date6],0)),"") -> 33.4 | D12: =IFERROR(INDEX(_T0[Moyenne de Temp Out],MATCH(A12,_T0[Date0],0)),"") -> 25.825 | L12: Nombre de jour avec Tn ≤ -5°C
A13: =A12+1 -> 42922 | B13: =IFERROR(INDEX(_T18[Total],MATCH(A13,_T18[Date18],0)),"") -> 17.5 | C13: =IFERROR(INDEX(_T6[Max de Hi Temp],MATCH(A13,_T6[Date6],0)),"") -> 32.2 | D13: =IFERROR(INDEX(_T0[Moyenne de Temp Out],MATCH(A13,_T0[Date0],0)),"") -> 24.967361 | G13: Température Moyenne du jour UTC | L13: =COUNTIF(B8:B38,"<=-5") -> 0
A14: =A13+1 -> 42923 | B14: =IFERROR(INDEX(_T18[Total],MATCH(A14,_T18[Date18],0)),"") -> 20.4 | C14: =IFERROR(INDEX(_T6[Max de Hi Temp],MATCH(A14,_T6[Date6],0)),"") -> 32.7 | D14: =IFERROR(INDEX(_T0[Moyenne de Temp Out],MATCH(A14,_T0[Date0],0)),"") -> 27.214583 | G14: =AVERAGE(D8:D38) -> 20.131228
A15: =A14+1 -> 42924 | B15: =IFERROR(INDEX(_T18[Total],MATCH(A15,_T18[Date18],0)),"") -> 19.5 | C15: =IFERROR(INDEX(_T6[Max de Hi Temp],MATCH(A15,_T6[Date6],0)),"") -> 30.2 | D15: =IFERROR(INDEX(_T0[Moyenne de Temp Out],MATCH(A15,_T0[Date0],0)),"") -> 23.386806 | L15: Nombre de jour avec Tn ≤ 0°C
A16: =A15+1 -> 42925 | B16: =IFERROR(INDEX(_T18[Total],MATCH(A16,_T18[Date18],0)),"") -> 18.4 | C16: =IFERROR(INDEX(_T6[Max de Hi Temp],MATCH(A16,_T6[Date6],0)),"") -> 26.4 | D16: =IFERROR(INDEX(_T0[Moyenne de Temp Out],MATCH(A16,_T0[Date0],0)),"") -> 20.972917 | G16: Température Minimale Extrême | L16: =COUNTIF(B8:B38,"<=-0") -> 0
A17: =A16+1 -> 42926 | B17: =IFERROR(INDEX(_T18[Total],MATCH(A17,_T18[Date18],0)),"") -> 18.1 | C17: =IFERROR(INDEX(_T6[Max de Hi Temp],MATCH(A17,_T6[Date6],0)),"") -> 21.1 | D17: =IFERROR(INDEX(_T0[Moyenne de Temp Out],MATCH(A17,_T0[Date0],0)),"") -> 19.076389 | G17: =MIN(B8:B38) -> 11.1 | I17: =INDEX($A$8:$A$38,MATCH(G17,$B$8:$B$38,0)) -> 42937
A18: =A17+1 -> 42927 | B18: =IFERROR(INDEX(_T18[Total],MATCH(A18,_T18[Date18],0)),"") -> 15.7 | C18: =IFERROR(INDEX(_T6[Max de Hi Temp],MATCH(A18,_T6[Date6],0)),"") -> 23 | D18: =IFERROR(INDEX(_T0[Moyenne de Temp Out],MATCH(A18,_T0[Date0],0)),"") -> 18.9125 | L18: Nombre de jour avec Tx ≤ 0°C
A19: =A18+1 -> 42928 | B19: =IFERROR(INDEX(_T18[Total],MATCH(A19,_T18[Date18],0)),"") -> 16.9 | C19: =IFERROR(INDEX(_T6[Max de Hi Temp],MATCH(A19,_T6[Date6],0)),"") -> 22.3 | D19: =IFERROR(INDEX(_T0[Moyenne de Temp Out],MATCH(A19,_T0[Date0],0)),"") -> 19.048611 | G19: Température Maximale Extrême | L19: =COUNTIF(C8:C38,"<=-0") -> 0
A20: =A19+1 -> 42929 | B20: =IFERROR(INDEX(_T18[Total],MATCH(A20,_T18[Date18],0)),"") -> 16.8 | C20: =IFERROR(INDEX(_T6[Max de Hi Temp],MATCH(A20,_T6[Date6],0)),"") -> 21.6 | D20: =IFERROR(INDEX(_T0[Moyenne de Temp Out],MATCH(A20,_T0[Date0],0)),"") -> 18.640972 | G20: =MAX(C8:C38) -> 33.4 | I20: =INDEX($A$8:$A$38,MATCH(G20,$C$8:$C$38,0)) -> 42921
A21: =A20+1 -> 42930 | B21: =IFERROR(INDEX(_T18[Total],MATCH(A21,_T18[Date18],0)),"") -> 15.6 | C21: =IFERROR(INDEX(_T6[Max de Hi Temp],MATCH(A21,_T6[Date6],0)),"") -> 23.4 | D21: =IFERROR(INDEX(_T0[Moyenne de Temp Out],MATCH(A21,_T0[Date0],0)),"") -> 18.934028 | L21: Nombre de jour avec Tn ≥ 20°C
A22: =A21+1 -> 42931 | B22: =IFERROR(INDEX(_T18[Total],MATCH(A22,_T18[Date18],0)),"") -> 12.9 | C22: =IFERROR(INDEX(_T6[Max de Hi Temp],MATCH(A22,_T6[Date6],0)),"") -> 24.3 | D22: =IFERROR(INDEX(_T0[Moyenne de Temp Out],MATCH(A22,_T0[Date0],0)),"") -> 19.006944 | G22: Nombre de jour sans dégel | L22: =COUNTIF(B8:B38,">=20") -> 2
A23: =A22+1 -> 42932 | B23: =IFERROR(INDEX(_T18[Total],MATCH(A23,_T18[Date18],0)),"") -> 13.2 | C23: =IFERROR(INDEX(_T6[Max de Hi Temp],MATCH(A23,_T6[Date6],0)),"") -> 27.9 | D23: =IFERROR(INDEX(_T0[Moyenne de Temp Out],MATCH(A23,_T0[Date0],0)),"") -> 21.76875 | G23: =COUNTIF(C8:C38,"<0") -> 0
A24: =A23+1 -> 42933 | B24: =IFERROR(INDEX(_T18[Total],MATCH(A24,_T18[Date18],0)),"") -> 16.2 | C24: =IFERROR(INDEX(_T6[Max de Hi Temp],MATCH(A24,_T6[Date6],0)),"") -> 30.8 | D24: =IFERROR(INDEX(_T0[Moyenne de Temp Out],MATCH(A24,_T0[Date0],0)),"") -> 24.580556 | L24: Nombre de jour avec Tx ≥ 20°C
A25: =A24+1 -> 42934 | B25: =IFERROR(INDEX(_T18[Total],MATCH(A25,_T18[Date18],0)),"") -> 18.4 | C25: =IFERROR(INDEX(_T6[Max de Hi Temp],MATCH(A25,_T6[Date6],0)),"") -> 32.9 | D25: =IFERROR(INDEX(_T0[Moyenne de Temp Out],MATCH(A25,_T0[Date0],0)),"") -> 26.116667 | G25: Nombre de nuit tropicale | L25: =COUNTIF(C8:C38,">=20") -> 27
A26: =A25+1 -> 42935 | B26: =IFERROR(INDEX(_T18[Total],MATCH(A26,_T18[Date18],0)),"") -> 21.6 | C26: =IFERROR(INDEX(_T6[Max de Hi Temp],MATCH(A26,_T6[Date6],0)),"") -> 26.4 | D26: =IFERROR(INDEX(_T0[Moyenne de Temp Out],MATCH(A26,_T0[Date0],0)),"") -> 23.25 | G26: =COUNTIF(B8:B38,">20") -> 2
A27: =A26+1 -> 42936 | B27: =IFERROR(INDEX(_T18[Total],MATCH(A27,_T18[Date18],0)),"") -> 18.2 | C27: =IFERROR(INDEX(_T6[Max de Hi Temp],MATCH(A27,_T6[Date6],0)),"") -> 21.4 | D27: =IFERROR(INDEX(_T0[Moyenne de Temp Out],MATCH(A27,_T0[Date0],0)),"") -> 18.888194 | L27: Nombre de jour avec Tx ≥ 25°C
A28: =A27+1 -> 42937 | B28: =IFERROR(INDEX(_T18[Total],MATCH(A28,_T18[Date18],0)),"") -> 11.1 | C28: =IFERROR(INDEX(_T6[Max de Hi Temp],MATCH(A28,_T6[Date6],0)),"") -> 21.6 | D28: =IFERROR(INDEX(_T0[Moyenne de Temp Out],MATCH(A28,_T0[Date0],0)),"") -> 16.996528 | L28: =COUNTIF(C8:C38,">=25") -> 12
A29: =A28+1 -> 42938 | B29: =IFERROR(INDEX(_T18[Total],MATCH(A29,_T18[Date18],0)),"") -> 14.9 | C29: =IFERROR(INDEX(_T6[Max de Hi Temp],MATCH(A29,_T6[Date6],0)),"") -> 23.1 | D29: =IFERROR(INDEX(_T0[Moyenne de Temp Out],MATCH(A29,_T0[Date0],0)),"") -> 17.708333 | G29: Informations
A30: =A29+1 -> 42939 | B30: =IFERROR(INDEX(_T18[Total],MATCH(A30,_T18[Date18],0)),"") -> 14.3 | C30: =IFERROR(INDEX(_T6[Max de Hi Temp],MATCH(A30,_T6[Date6],0)),"") -> 20.6 | D30: =IFERROR(INDEX(_T0[Moyenne de Temp Out],MATCH(A30,_T0[Date0],0)),"") -> 17.091667 | G30: Tn = Température minimale | L30: Nombre de jour avec Tx ≥ 30°C
A31: =A30+1 -> 42940 | B31: =IFERROR(INDEX(_T18[Total],MATCH(A31,_T18[Date18],0)),"") -> 14.8 | C31: =IFERROR(INDEX(_T6[Max de Hi Temp],MATCH(A31,_T6[Date6],0)),"") -> 19.1 | D31: =IFERROR(INDEX(_T0[Moyenne de Temp Out],MATCH(A31,_T0[Date0],0)),"") -> 16.690972 | G31: Tx = Température maximale | L31: =COUNTIF(C8:C38,">=30") -> 6
A32: =A31+1 -> 42941 | B32: =IFERROR(INDEX(_T18[Total],MATCH(A32,_T18[Date18],0)),"") -> 14.6 | C32: =IFERROR(INDEX(_T6[Max de Hi Temp],MATCH(A32,_T6[Date6],0)),"") -> 20.6 | D32: =IFERROR(INDEX(_T0[Moyenne de Temp Out],MATCH(A32,_T0[Date0],0)),"") -> 17.344444 | G32: Tm=Température moyenne
A33: =A32+1 -> 42942 | B33: =IFERROR(INDEX(_T18[Total],MATCH(A33,_T18[Date18],0)),"") -> 15.3 | C33: =IFERROR(INDEX(_T6[Max de Hi Temp],MATCH(A33,_T6[Date6],0)),"") -> 19.3 | D33: =IFERROR(INDEX(_T0[Moyenne de Temp Out],MATCH(A33,_T0[Date0],0)),"") -> 17.359028 | G33: Tn: de 18h UTC la veille à 18h UTC le jour J
A34: =A33+1 -> 42943 | B34: =IFERROR(INDEX(_T18[Total],MATCH(A34,_T18[Date18],0)),"") -> 16.6 | C34: =IFERROR(INDEX(_T6[Max de Hi Temp],MATCH(A34,_T6[Date6],0)),"") -> 22.3 | D34: =IFERROR(INDEX(_T0[Moyenne de Temp Out],MATCH(A34,_T0[Date0],0)),"") -> 18.759028 | G34: Tx: de 6h UTC le jour J à 6h UTC le lendemain
A35: =A34+1 -> 42944 | B35: =IFERROR(INDEX(_T18[Total],MATCH(A35,_T18[Date18],0)),"") -> 14.4 | C35: =IFERROR(INDEX(_T6[Max de Hi Temp],MATCH(A35,_T6[Date6],0)),"") -> 22.7 | D35: =IFERROR(INDEX(_T0[Moyenne de Temp Out],MATCH(A35,_T0[Date0],0)),"") -> 18.107639
A36: =IF(MONTH(A35+1)=$G$4,A35+1,"") -> 42945 | B36: =IFERROR(INDEX(_T18[Total],MATCH(A36,_T18[Date18],0)),"") -> 14.1 | C36: =IFERROR(INDEX(_T6[Max de Hi Temp],MATCH(A36,_T6[Date6],0)),"") -> 26.4 | D36: =IFERROR(INDEX(_T0[Moyenne de Temp Out],MATCH(A36,_T0[Date0],0)),"") -> 20.913194
A37: =IFERROR(IF(MONTH(A36+1)=$G$4,A36+1,""),"") -> 42946 | B37: =IFERROR(INDEX(_T18[Total],MATCH(A37,_T18[Date18],0)),"") -> 18.7 | C37: =IFERROR(INDEX(_T6[Max de Hi Temp],MATCH(A37,_T6[Date6],0)),"") -> 24.8 | D37: =IFERROR(INDEX(_T0[Moyenne de Temp Out],MATCH(A37,_T0[Date0],0)),"") -> 20.868056
A38: =IFERROR(IF(MONTH(A37+1)=$G$4,A37+1,""),"") -> 42947 | B38: =IFERROR(INDEX(_T18[Total],MATCH(A38,_T18[Date18],0)),"") -> 16.2 | C38: =IFERROR(INDEX(_T6[Max de Hi Temp],MATCH(A38,_T6[Date6],0)),"") -> 26.1 | D38: =IFERROR(INDEX(_T0[Moyenne de Temp Out],MATCH(A38,_T0[Date0],0)),"") -> 20.15

Sheet Précipitations
C1: Précipitations
B4: ANNEE | C4: 2017 | E4: MOIS | F4: JUIN | G4: =VLOOKUP(F4,Annexe!B3:C14,2,0) -> 6 | H4: du | I4: =DATE(C4,G4,1) -> 42887 | J4: au | K4: =DATE(C4,G4+1,1) -> 42917
I5: à 6:00 UTC | K5: à 6:00 UTC
A7: Jour | B7: RR 24h | C7: RR 1h | D7: RR Max
A8: =I4 -> 42887 | B8: =IFERROR(INDEX(_T6[Somme de Rain],MATCH(A8,_T6[Date6],0)),"") -> 0 | C8: =IFERROR(INDEX(_T6[Max de Pluie 1h],MATCH(A8,_T6[Date6],0)),"") -> 0 | D8: =IFERROR(INDEX(_T6[Max de Hi Temp],MATCH(A8,_T6[Date6],0)),"") -> 24.9
A9: =A8+1 -> 42888 | B9: =IFERROR(INDEX(_T6[Somme de Rain],MATCH(A9,_T6[Date6],0)),"") -> 7.2 | C9: =IFERROR(INDEX(_T6[Max de Pluie 1h],MATCH(A9,_T6[Date6],0)),"") -> 5.8 | D9: =IFERROR(INDEX(_T6[Max de Hi Temp],MATCH(A9,_T6[Date6],0)),"") -> 26.4
A10: =A9+1 -> 42889 | B10: =IFERROR(INDEX(_T6[Somme de Rain],MATCH(A10,_T6[Date6],0)),"") -> 12 | C10: =IFERROR(INDEX(_T6[Max de Pluie 1h],MATCH(A10,_T6[Date6],0)),"") -> 6.8 | D10: =IFERROR(INDEX(_T6[Max de Hi Temp],MATCH(A10,_T6[Date6],0)),"") -> 18.9 | H10: Précipitation total du mois
A11: =A10+1 -> 42890 | B11: =IFERROR(INDEX(_T6[Somme de Rain],MATCH(A11,_T6[Date6],0)),"") -> 0.2 | C11: =IFERROR(INDEX(_T6[Max de Pluie 1h],MATCH(A11,_T6[Date6],0)),"") -> 0.2 | D11: =IFERROR(INDEX(_T6[Max de Hi Temp],MATCH(A11,_T6[Date6],0)),"") -> 18.8 | H11: =SUM(B8:B38) -> 49.8
A12: =A11+1 -> 42891 | B12: =IFERROR(INDEX(_T6[Somme de Rain],MATCH(A12,_T6[Date6],0)),"") -> 5 | C12: =IFERROR(INDEX(_T6[Max de Pluie 1h],MATCH(A12,_T6[Date6],0)),"") -> 3 | D12: =IFERROR(INDEX(_T6[Max de Hi Temp],MATCH(A12,_T6[Date6],0)),"") -> 20.9
A13: =A12+1 -> 42892 | B13: =IFERROR(INDEX(_T6[Somme de Rain],MATCH(A13,_T6[Date6],0)),"") -> 0.4 | C13: =IFERROR(INDEX(_T6[Max de Pluie 1h],MATCH(A13,_T6[Date6],0)),"") -> 0.2 | D13: =IFERROR(INDEX(_T6[Max de Hi Temp],MATCH(A13,_T6[Date6],0)),"") -> 17 | H13: Précipitation maxi sur 24h
A14: =A13+1 -> 42893 | B14: =IFERROR(INDEX(_T6[Somme de Rain],MATCH(A14,_T6[Date6],0)),"") -> 0 | C14: =IFERROR(INDEX(_T6[Max de Pluie 1h],MATCH(A14,_T6[Date6],0)),"") -> 0 | D14: =IFERROR(INDEX(_T6[Max de Hi Temp],MATCH(A14,_T6[Date6],0)),"") -> 19.2 | H14: =MAX(B8:B38) -> 12 | J14: =INDEX(A8:A38,MATCH(H14,B8:B38,0)) -> 42889
A15: =A14+1 -> 42894 | B15: =IFERROR(INDEX(_T6[Somme de Rain],MATCH(A15,_T6[Date6],0)),"") -> 0.2 | C15: =IFERROR(INDEX(_T6[Max de Pluie 1h],MATCH(A15,_T6[Date6],0)),"") -> 0.2 | D15: =IFERROR(INDEX(_T6[Max de Hi Temp],MATCH(A15,_T6[Date6],0)),"") -> 29.1
A16: =A15+1 -> 42895 | B16: =IFERROR(INDEX(_T6[Somme de Rain],MATCH(A16,_T6[Date6],0)),"") -> 0 | C16: =IFERROR(INDEX(_T6[Max de Pluie 1h],MATCH(A16,_T6[Date6],0)),"") -> 0 | D16: =IFERROR(INDEX(_T6[Max de Hi Temp],MATCH(A16,_T6[Date6],0)),"") -> 21.6 | H16: Précipitation maxi sur 1h
A17: =A16+1 -> 42896 | B17: =IFERROR(INDEX(_T6[Somme de Rain],MATCH(A17,_T6[Date6],0)),"") -> 0 | C17: =IFERROR(INDEX(_T6[Max de Pluie 1h],MATCH(A17,_T6[Date6],0)),"") -> 0 | D17: =IFERROR(INDEX(_T6[Max de Hi Temp],MATCH(A17,_T6[Date6],0)),"") -> 26.8 | H17: =MAX(C8:C38) -> 6.8 | J17: =INDEX(A8:A38,MATCH(H17,C8:C38,0)) -> 42889
A18: =A17+1 -> 42897 | B18: =IFERROR(INDEX(_T6[Somme de Rain],MATCH(A18,_T6[Date6],0)),"") -> 0 | C18: =IFERROR(INDEX(_T6[Max de Pluie 1h],MATCH(A18,_T6[Date6],0)),"") -> 0 | D18: =IFERROR(INDEX(_T6[Max de Hi Temp],MATCH(A18,_T6[Date6],0)),"") -> 30.3
A19: =A18+1 -> 42898 | B19: =IFERROR(INDEX(_T6[Somme de Rain],MATCH(A19,_T6[Date6],0)),"") -> 0 | C19: =IFERROR(INDEX(_T6[Max de Pluie 1h],MATCH(A19,_T6[Date6],0)),"") -> 0 | D19: =IFERROR(INDEX(_T6[Max de Hi Temp],MATCH(A19,_T6[Date6],0)),"") -> 23.6 | H19: Intensité maximal de précipitation
A20: =A19+1 -> 42899 | B20: =IFERROR(INDEX(_T6[Somme de Rain],MATCH(A20,_T6[Date6],0)),"") -> 2 | C20: =IFERROR(INDEX(_T6[Max de Pluie 1h],MATCH(A20,_T6[Date6],0)),"") -> 0.8 | D20: =IFERROR(INDEX(_T6[Max de Hi Temp],MATCH(A20,_T6[Date6],0)),"") -> 27.6 | H20: =MAX(D8:D38) -> 34.5 | J20: =INDEX(A8:A38,MATCH(H20,D8:D38,0)) -> 42907
A21: =A20+1 -> 42900 | B21: =IFERROR(INDEX(_T6[Somme de Rain],MATCH(A21,_T6[Date6],0)),"") -> 0 | C21: =IFERROR(INDEX(_T6[Max de Pluie 1h],MATCH(A21,_T6[Date6],0)),"") -> 0 | D21: =IFERROR(INDEX(_T6[Max de Hi Temp],MATCH(A21,_T6[Date6],0)),"") -> 28.4
A22: =A21+1 -> 42901 | B22: =IFERROR(INDEX(_T6[Somme de Rain],MATCH(A22,_T6[Date6],0)),"") -> 0 | C22: =IFERROR(INDEX(_T6[Max de Pluie 1h],MATCH(A22,_T6[Date6],0)),"") -> 0 | D22: =IFERROR(INDEX(_T6[Max de Hi Temp],MATCH(A22,_T6[Date6],0)),"") -> 28.2 | H22: Nombre de jour avec cumul supérieur à 1mm
A23: =A22+1 -> 42902 | B23: =IFERROR(INDEX(_T6[Somme de Rain],MATCH(A23,_T6[Date6],0)),"") -> 0 | C23: =IFERROR(INDEX(_T6[Max de Pluie 1h],MATCH(A23,_T6[Date6],0)),"") -> 0 | D23: =IFERROR(INDEX(_T6[Max de Hi Temp],MATCH(A23,_T6[Date6],0)),"") -> 24.3 | H23: =COUNTIF(B8:B38,">=1") -> 8
A24: =A23+1 -> 42903 | B24: =IFERROR(INDEX(_T6[Somme de Rain],MATCH(A24,_T6[Date6],0)),"") -> 0 | C24: =IFERROR(INDEX(_T6[Max de Pluie 1h],MATCH(A24,_T6[Date6],0)),"") -> 0 | D24: =IFERROR(INDEX(_T6[Max de Hi Temp],MATCH(A24,_T6[Date6],0)),"") -> 24.6
A25: =A24+1 -> 42904 | B25: =IFERROR(INDEX(_T6[Somme de Rain],MATCH(A25,_T6[Date6],0)),"") -> 0 | C25: =IFERROR(INDEX(_T6[Max de Pluie 1h],MATCH(A25,_T6[Date6],0)),"") -> 0 | D25: =IFERROR(INDEX(_T6[Max de Hi Temp],MATCH(A25,_T6[Date6],0)),"") -> 28.6 | H25: Nombre de jour avec cumul supérieur à 5mm
A26: =A25+1 -> 42905 | B26: =IFERROR(INDEX(_T6[Somme de Rain],MATCH(A26,_T6[Date6],0)),"") -> 0 | C26: =IFERROR(INDEX(_T6[Max de Pluie 1h],MATCH(A26,_T6[Date6],0)),"") -> 0 | D26: =IFERROR(INDEX(_T6[Max de Hi Temp],MATCH(A26,_T6[Date6],0)),"") -> 33.3 | H26: =COUNTIF(B8:B38,">=5") -> 6
A27: =A26+1 -> 42906 | B27: =IFERROR(INDEX(_T6[Somme de Rain],MATCH(A27,_T6[Date6],0)),"") -> 0 | C27: =IFERROR(INDEX(_T6[Max de Pluie 1h],MATCH(A27,_T6[Date6],0)),"") -> 0 | D27: =IFERROR(INDEX(_T6[Max de Hi Temp],MATCH(A27,_T6[Date6],0)),"") -> 33
A28: =A27+1 -> 42907 | B28: =IFERROR(INDEX(_T6[Somme de Rain],MATCH(A28,_T6[Date6],0)),"") -> 0 | C28: =IFERROR(INDEX(_T6[Max de Pluie 1h],MATCH(A28,_T6[Date6],0)),"") -> 0 | D28: =IFERROR(INDEX(_T6[Max de Hi Temp],MATCH(A28,_T6[Date6],0)),"") -> 34.5 | H28: Nombre de jour avec cumul supérieur à 10mm
A29: =A28+1 -> 42908 | B29: =IFERROR(INDEX(_T6[Somme de Rain],MATCH(A29,_T6[Date6],0)),"") -> 0 | C29: =IFERROR(INDEX(_T6[Max de Pluie 1h],MATCH(A29,_T6[Date6],0)),"") -> 0 | D29: =IFERROR(INDEX(_T6[Max de Hi Temp],MATCH(A29,_T6[Date6],0)),"") -> 34.4 | H29: =COUNTIF(B8:B38,">=10") -> 1
A30: =A29+1 -> 42909 | B30: =IFERROR(INDEX(_T6[Somme de Rain],MATCH(A30,_T6[Date6],0)),"") -> 0 | C30: =IFERROR(INDEX(_T6[Max de Pluie 1h],MATCH(A30,_T6[Date6],0)),"") -> 0 | D30: =IFERROR(INDEX(_T6[Max de Hi Temp],MATCH(A30,_T6[Date6],0)),"") -> 23.4
A31: =A30+1 -> 42910 | B31: =IFERROR(INDEX(_T6[Somme de Rain],MATCH(A31,_T6[Date6],0)),"") -> 0 | C31: =IFERROR(INDEX(_T6[Max de Pluie 1h],MATCH(A31,_T6[Date6],0)),"") -> 0 | D31: =IFERROR(INDEX(_T6[Max de Hi Temp],MATCH(A31,_T6[Date6],0)),"") -> 24.1
A32: =A31+1 -> 42911 | B32: =IFERROR(INDEX(_T6[Somme de Rain],MATCH(A32,_T6[Date6],0)),"") -> 0 | C32: =IFERROR(INDEX(_T6[Max de Pluie 1h],MATCH(A32,_T6[Date6],0)),"") -> 0 | D32: =IFERROR(INDEX(_T6[Max de Hi Temp],MATCH(A32,_T6[Date6],0)),"") -> 25.5 | G32: Informations
A33: =A32+1 -> 42912 | B33: =IFERROR(INDEX(_T6[Somme de Rain],MATCH(A33,_T6[Date6],0)),"") -> 0.8 | C33: =IFERROR(INDEX(_T6[Max de Pluie 1h],MATCH(A33,_T6[Date6],0)),"") -> 0.4 | D33: =IFERROR(INDEX(_T6[Max de Hi Temp],MATCH(A33,_T6[Date6],0)),"") -> 22.5 | G33: Précipitations: de 6h UTC le jour J à 6h UTC le lendemain
A34: =A33+1 -> 42913 | B34: =IFERROR(INDEX(_T6[Somme de Rain],MATCH(A34,_T6[Date6],0)),"") -> 1.6 | C34: =IFERROR(INDEX(_T6[Max de Pluie 1h],MATCH(A34,_T6[Date6],0)),"") -> 1.6 | D34: =IFERROR(INDEX(_T6[Max de Hi Temp],MATCH(A34,_T6[Date6],0)),"") -> 24.6 | G34: RR 24h = Cumul de précipitation sur 24h
A35: =A34+1 -> 42914 | B35: =IFERROR(INDEX(_T6[Somme de Rain],MATCH(A35,_T6[Date6],0)),"") -> 7.6 | C35: =IFERROR(INDEX(_T6[Max de Pluie 1h],MATCH(A35,_T6[Date6],0)),"") -> 1.6 | D35: =IFERROR(INDEX(_T6[Max de Hi Temp],MATCH(A35,_T6[Date6],0)),"") -> 20.6 | G35: RR 1h = Cumul de précipitation maxi sur 1h
A36: =IF(MONTH(A35+1)=$G$4,A35+1,"") -> 42915 | B36: =IFERROR(INDEX(_T6[Somme de Rain],MATCH(A36,_T6[Date6],0)),"") -> 7.2 | C36: =IFERROR(INDEX(_T6[Max de Pluie 1h],MATCH(A36,_T6[Date6],0)),"") -> 2.6 | D36: =IFERROR(INDEX(_T6[Max de Hi Temp],MATCH(A36,_T6[Date6],0)),"") -> 17.5 | G36: RR Max = Intensité maximale de précipitation
A37: =IFERROR(IF(MONTH(A36+1)=$G$4,A36+1,""),"") -> 42916 | B37: =IFERROR(INDEX(_T6[Somme de Rain],MATCH(A37,_T6[Date6],0)),"") -> 5.6 | C37: =IFERROR(INDEX(_T6[Max de Pluie 1h],MATCH(A37,_T6[Date6],0)),"") -> 1.2 | D37: =IFERROR(INDEX(_T6[Max de Hi Temp],MATCH(A37,_T6[Date6],0)),"") -> 15.8
A38: =IFERROR(IF(MONTH(A37+1)=$G$4,A37+1,""),"") | B38: =IFERROR(INDEX(_T6[Somme de Rain],MATCH(A38,_T6[Date6],0)),"") | C38: =IFERROR(INDEX(_T6[Max de Pluie 1h],MATCH(A38,_T6[Date6],0)),"") | D38: =IFERROR(INDEX(_T6[Max de Hi Temp],MATCH(A38,_T6[Date6],0)),"")

Sheet Pression
C1: Pression atmosphérique
B4: ANNEE | C4: 2017 | E4: MOIS | F4: JUIN | G4: =VLOOKUP(F4,Annexe!B3:C14,2,0) -> 6 | H4: du | I4: =DATE(C4,G4,1) -> 42887 | J4: au | K4: =DATE(C4,G4+1,0) -> 42916
I5: à 0:00 UTC | K5: à 24:00 UTC
A7: Jour | B7: Press min | C7: Press max | D7: Press moy
A8: =I4 -> 42887 | B8: =IFERROR(INDEX(_T0[[Min de Bar ]],MATCH(A8,_T0[Date0],0)),"") -> 1016.4 | C8: =IFERROR(INDEX(_T0[[Max de Bar ]],MATCH(A8,_T0[Date0],0)),"") -> 1019.2 | D8: =IFERROR(INDEX(_T0[[Moyenne de Bar ]],MATCH(A8,_T0[Date0],0)),"") -> 1017.916
A9: =A8+1 -> 42888 | B9: =IFERROR(INDEX(_T0[[Min de Bar ]],MATCH(A9,_T0[Date0],0)),"") -> 1014.1 | C9: =IFERROR(INDEX(_T0[[Max de Bar ]],MATCH(A9,_T0[Date0],0)),"") -> 1016.5 | D9: =IFERROR(INDEX(_T0[[Moyenne de Bar ]],MATCH(A9,_T0[Date0],0)),"") -> 1015.3778
A10: =A9+1 -> 42889 | B10: =IFERROR(INDEX(_T0[[Min de Bar ]],MATCH(A10,_T0[Date0],0)),"") -> 1013.3 | C10: =IFERROR(INDEX(_T0[[Max de Bar ]],MATCH(A10,_T0[Date0],0)),"") -> 1017.9 | D10: =IFERROR(INDEX(_T0[[Moyenne de Bar ]],MATCH(A10,_T0[Date0],0)),"") -> 1014.7646
A11: =A10+1 -> 42890 | B11: =IFERROR(INDEX(_T0[[Min de Bar ]],MATCH(A11,_T0[Date0],0)),"") -> 1016.4 | C11: =IFERROR(INDEX(_T0[[Max de Bar ]],MATCH(A11,_T0[Date0],0)),"") -> 1019.7 | D11: =IFERROR(INDEX(_T0[[Moyenne de Bar ]],MATCH(A11,_T0[Date0],0)),"") -> 1018.0722
A12: =A11+1 -> 42891 | B12: =IFERROR(INDEX(_T0[[Min de Bar ]],MATCH(A12,_T0[Date0],0)),"") -> 1006 | C12: =IFERROR(INDEX(_T0[[Max de Bar ]],MATCH(A12,_T0[Date0],0)),"") -> 1016.8 | D12: =IFERROR(INDEX(_T0[[Moyenne de Bar ]],MATCH(A12,_T0[Date0],0)),"") -> 1013.1465
A13: =A12+1 -> 42892 | B13: =IFERROR(INDEX(_T0[[Min de Bar ]],MATCH(A13,_T0[Date0],0)),"") -> 1004.4 | C13: =IFERROR(INDEX(_T0[[Max de Bar ]],MATCH(A13,_T0[Date0],0)),"") -> 1018.2 | D13: =IFERROR(INDEX(_T0[[Moyenne de Bar ]],MATCH(A13,_T0[Date0],0)),"") -> 1011.7194
A14: =A13+1 -> 42893 | B14: =IFERROR(INDEX(_T0[[Min de Bar ]],MATCH(A14,_T0[Date0],0)),"") -> 1018.3 | C14: =IFERROR(INDEX(_T0[[Max de Bar ]],MATCH(A14,_T0[Date0],0)),"") -> 1022 | D14: =IFERROR(INDEX(_T0[[Moyenne de Bar ]],MATCH(A14,_T0[Date0],0)),"") -> 1020.5896 | H14: Pression moyenne mensuelle
A15: =A14+1 -> 42894 | B15: =IFERROR(INDEX(_T0[[Min de Bar ]],MATCH(A15,_T0[Date0],0)),"") -> 1010 | C15: =IFERROR(INDEX(_T0[[Max de Bar ]],MATCH(A15,_T0[Date0],0)),"") -> 1019.3 | D15: =IFERROR(INDEX(_T0[[Moyenne de Bar ]],MATCH(A15,_T0[Date0],0)),"") -> 1014.634 | H15: =AVERAGE(D8:D38) -> 1014.6304
A16: =A15+1 -> 42895 | B16: =IFERROR(INDEX(_T0[[Min de Bar ]],MATCH(A16,_T0[Date0],0)),"") -> 1011.2 | C16: =IFERROR(INDEX(_T0[[Max de Bar ]],MATCH(A16,_T0[Date0],0)),"") -> 1018.6 | D16: =IFERROR(INDEX(_T0[[Moyenne de Bar ]],MATCH(A16,_T0[Date0],0)),"") -> 1015.1486
A17: =A16+1 -> 42896 | B17: =IFERROR(INDEX(_T0[[Min de Bar ]],MATCH(A17,_T0[Date0],0)),"") -> 1017.3 | C17: =IFERROR(INDEX(_T0[[Max de Bar ]],MATCH(A17,_T0[Date0],0)),"") -> 1019.6 | D17: =IFERROR(INDEX(_T0[[Moyenne de Bar ]],MATCH(A17,_T0[Date0],0)),"") -> 1018.4833 | H17: Pression minimale
A18: =A17+1 -> 42897 | B18: =IFERROR(INDEX(_T0[[Min de Bar ]],MATCH(A18,_T0[Date0],0)),"") -> 1014.5 | C18: =IFERROR(INDEX(_T0[[Max de Bar ]],MATCH(A18,_T0[Date0],0)),"") -> 1017.2 | D18: =IFERROR(INDEX(_T0[[Moyenne de Bar ]],MATCH(A18,_T0[Date0],0)),"") -> 1015.9653 | H18: =MIN(B8:B38) -> 998.2 | J18: =INDEX(A8:A38,MATCH(H18,B8:B38,0)) -> 42915
A19: =A18+1 -> 42898 | B19: =IFERROR(INDEX(_T0[[Min de Bar ]],MATCH(A19,_T0[Date0],0)),"") -> 1016.7 | C19: =IFERROR(INDEX(_T0[[Max de Bar ]],MATCH(A19,_T0[Date0],0)),"") -> 1019.4 | D19: =IFERROR(INDEX(_T0[[Moyenne de Bar ]],MATCH(A19,_T0[Date0],0)),"") -> 1017.8063
A20: =A19+1 -> 42899 | B20: =IFERROR(INDEX(_T0[[Min de Bar ]],MATCH(A20,_T0[Date0],0)),"") -> 1012.7 | C20: =IFERROR(INDEX(_T0[[Max de Bar ]],MATCH(A20,_T0[Date0],0)),"") -> 1016.8 | D20: =IFERROR(INDEX(_T0[[Moyenne de Bar ]],MATCH(A20,_T0[Date0],0)),"") -> 1014.734 | H20: Pression maximale
A21: =A20+1 -> 42900 | B21: =IFERROR(INDEX(_T0[[Min de Bar ]],MATCH(A21,_T0[Date0],0)),"") -> 1012.2 | C21: =IFERROR(INDEX(_T0[[Max de Bar ]],MATCH(A21,_T0[Date0],0)),"") -> 1014.3 | D21: =IFERROR(INDEX(_T0[[Moyenne de Bar ]],MATCH(A21,_T0[Date0],0)),"") -> 1013.2264 | H21: =MAX(C8:C38) -> 1024.9 | J21: =INDEX(A8:A38,MATCH(H21,C8:C38,0)) -> 42903
A22: =A21+1 -> 42901 | B22: =IFERROR(INDEX(_T0[[Min de Bar ]],MATCH(A22,_T0[Date0],0)),"") -> 1014 | C22: =IFERROR(INDEX(_T0[[Max de Bar ]],MATCH(A22,_T0[Date0],0)),"") -> 1020.8 | D22: =IFERROR(INDEX(_T0[[Moyenne de Bar ]],MATCH(A22,_T0[Date0],0)),"") -> 1016.5431
A23: =A22+1 -> 42902 | B23: =IFERROR(INDEX(_T0[[Min de Bar ]],MATCH(A23,_T0[Date0],0)),"") -> 1020.7 | C23: =IFERROR(INDEX(_T0[[Max de Bar ]],MATCH(A23,_T0[Date0],0)),"") -> 1024.7 | D23: =IFERROR(INDEX(_T0[[Moyenne de Bar ]],MATCH(A23,_T0[Date0],0)),"") -> 1023.0847
A24: =A23+1 -> 42903 | B24: =IFERROR(INDEX(_T0[[Min de Bar ]],MATCH(A24,_T0[Date0],0)),"") -> 1020.6 | C24: =IFERROR(INDEX(_T0[[Max de Bar ]],MATCH(A24,_T0[Date0],0)),"") -> 1024.9 | D24: =IFERROR(INDEX(_T0[[Moyenne de Bar ]],MATCH(A24,_T0[Date0],0)),"") -> 1023.0986 | G24: Informations
A25: =A24+1 -> 42904 | B25: =IFERROR(INDEX(_T0[[Min de Bar ]],MATCH(A25,_T0[Date0],0)),"") -> 1015.7 | C25: =IFERROR(INDEX(_T0[[Max de Bar ]],MATCH(A25,_T0[Date0],0)),"") -> 1020.6 | D25: =IFERROR(INDEX(_T0[[Moyenne de Bar ]],MATCH(A25,_T0[Date0],0)),"") -> 1017.5306 | G25: Pression atmosphérique: de 00h UTC à 00h UTC le jour J
A26: =A25+1 -> 42905 | B26: =IFERROR(INDEX(_T0[[Min de Bar ]],MATCH(A26,_T0[Date0],0)),"") -> 1013.4 | C26: =IFERROR(INDEX(_T0[[Max de Bar ]],MATCH(A26,_T0[Date0],0)),"") -> 1016.1 | D26: =IFERROR(INDEX(_T0[[Moyenne de Bar ]],MATCH(A26,_T0[Date0],0)),"") -> 1014.7819 | G26: Press moy = Pression moyenne de la journée
A27: =A26+1 -> 42906 | B27: =IFERROR(INDEX(_T0[[Min de Bar ]],MATCH(A27,_T0[Date0],0)),"") -> 1012.4 | C27: =IFERROR(INDEX(_T0[[Max de Bar ]],MATCH(A27,_T0[Date0],0)),"") -> 1015 | D27: =IFERROR(INDEX(_T0[[Moyenne de Bar ]],MATCH(A27,_T0[Date0],0)),"") -> 1014.0215 | G27: Press min = Pression minimale extrême
A28: =A27+1 -> 42907 | B28: =IFERROR(INDEX(_T0[[Min de Bar ]],MATCH(A28,_T0[Date0],0)),"") -> 1012 | C28: =IFERROR(INDEX(_T0[[Max de Bar ]],MATCH(A28,_T0[Date0],0)),"") -> 1014.2 | D28: =IFERROR(INDEX(_T0[[Moyenne de Bar ]],MATCH(A28,_T0[Date0],0)),"") -> 1013.2826 | G28: Press max = Pression maximale extrême
A29: =A28+1 -> 42908 | B29: =IFERROR(INDEX(_T0[[Min de Bar ]],MATCH(A29,_T0[Date0],0)),"") -> 1013.1 | C29: =IFERROR(INDEX(_T0[[Max de Bar ]],MATCH(A29,_T0[Date0],0)),"") -> 1016.1 | D29: =IFERROR(INDEX(_T0[[Moyenne de Bar ]],MATCH(A29,_T0[Date0],0)),"") -> 1014.0701
A30: =A29+1 -> 42909 | B30: =IFERROR(INDEX(_T0[[Min de Bar ]],MATCH(A30,_T0[Date0],0)),"") -> 1016.1 | C30: =IFERROR(INDEX(_T0[[Max de Bar ]],MATCH(A30,_T0[Date0],0)),"") -> 1020.7 | D30: =IFERROR(INDEX(_T0[[Moyenne de Bar ]],MATCH(A30,_T0[Date0],0)),"") -> 1018.7181
A31: =A30+1 -> 42910 | B31: =IFERROR(INDEX(_T0[[Min de Bar ]],MATCH(A31,_T0[Date0],0)),"") -> 1017.1 | C31: =IFERROR(INDEX(_T0[[Max de Bar ]],MATCH(A31,_T0[Date0],0)),"") -> 1020.9 | D31: =IFERROR(INDEX(_T0[[Moyenne de Bar ]],MATCH(A31,_T0[Date0],0)),"") -> 1019.234
A32: =A31+1 -> 42911 | B32: =IFERROR(INDEX(_T0[[Min de Bar ]],MATCH(A32,_T0[Date0],0)),"") -> 1013.8 | C32: =IFERROR(INDEX(_T0[[Max de Bar ]],MATCH(A32,_T0[Date0],0)),"") -> 1018.7 | D32: =IFERROR(INDEX(_T0[[Moyenne de Bar ]],MATCH(A32,_T0[Date0],0)),"") -> 1016.7861
A33: =A32+1 -> 42912 | B33: =IFERROR(INDEX(_T0[[Min de Bar ]],MATCH(A33,_T0[Date0],0)),"") -> 1008.3 | C33: =IFERROR(INDEX(_T0[[Max de Bar ]],MATCH(A33,_T0[Date0],0)),"") -> 1013.7 | D33: =IFERROR(INDEX(_T0[[Moyenne de Bar ]],MATCH(A33,_T0[Date0],0)),"") -> 1009.8701
A34: =A33+1 -> 42913 | B34: =IFERROR(INDEX(_T0[[Min de Bar ]],MATCH(A34,_T0[Date0],0)),"") -> 1001.9 | C34: =IFERROR(INDEX(_T0[[Max de Bar ]],MATCH(A34,_T0[Date0],0)),"") -> 1008.8 | D34: =IFERROR(INDEX(_T0[[Moyenne de Bar ]],MATCH(A34,_T0[Date0],0)),"") -> 1005.5243
A35: =A34+1 -> 42914 | B35: =IFERROR(INDEX(_T0[[Min de Bar ]],MATCH(A35,_T0[Date0],0)),"") -> 998.7 | C35: =IFERROR(INDEX(_T0[[Max de Bar ]],MATCH(A35,_T0[Date0],0)),"") -> 1002.8 | D35: =IFERROR(INDEX(_T0[[Moyenne de Bar ]],MATCH(A35,_T0[Date0],0)),"") -> 1000.4583
A36: =IF(MONTH(A35+1)=$G$4,A35+1,"") -> 42915 | B36: =IFERROR(INDEX(_T0[[Min de Bar ]],MATCH(A36,_T0[Date0],0)),"") -> 998.2 | C36: =IFERROR(INDEX(_T0[[Max de Bar ]],MATCH(A36,_T0[Date0],0)),"") -> 1005.5 | D36: =IFERROR(INDEX(_T0[[Moyenne de Bar ]],MATCH(A36,_T0[Date0],0)),"") -> 1002.3076
A37: =IFERROR(IF(MONTH(A36+1)=$G$4,A36+1,""),"") -> 42916 | B37: =IFERROR(INDEX(_T0[[Min de Bar ]],MATCH(A37,_T0[Date0],0)),"") -> 1003.8 | C37: =IFERROR(INDEX(_T0[[Max de Bar ]],MATCH(A37,_T0[Date0],0)),"") -> 1014 | D37: =IFERROR(INDEX(_T0[[Moyenne de Bar ]],MATCH(A37,_T0[Date0],0)),"") -> 1008.0167
A38: =IFERROR(IF(MONTH(A37+1)=$G$4,A37+1,""),"") | B38: =IFERROR(INDEX(_T0[[Min de Bar ]],MATCH(A38,_T0[Date0],0)),"") | C38: =IFERROR(INDEX(_T0[[Max de Bar ]],MATCH(A38,_T0[Date0],0)),"") | D38: =IFERROR(INDEX(_T0[[Moyenne de Bar ]],MATCH(A38,_T0[Date0],0)),"")

Sheet Vent
C1: Vent
B4: ANNEE | C4: 2017 | E4: MOIS | F4: FÉVRIER | G4: =VLOOKUP(F4,Annexe!B3:C14,2,0) -> 2 | H4: du | I4: =DATE(C4,G4,1) -> 42767 | J4: au | K4: =DATE(C4,G4+1,0) -> 42794
I5: à 0:00 UTC | K5: à 24:00 UTC
A7: Jour | B7: Vmoy | C7: Vmax | D7: Rmax | E7: Direction moyenne
A8: =I4 -> 42767 | B8: =IFERROR(INDEX(_T0[Moyenne de Wind Speed],MATCH(A8,_T0[Date0],0)),"") -> 1.2451389 | C8: =IFERROR(INDEX(_T0[Max de Wind Speed],MATCH(A8,_T0[Date0],0)),"") -> 9.7 | D8: =IFERROR(INDEX(_T0[Max de Hi Speed],MATCH(A8,_T0[Date0],0)),"") -> 27.4 | F8: =IFERROR(VLOOKUP(E8,Annexe!$E$3:$G$19,3,1),"") -> N
A9: =A8+1 -> 42768 | B9: =IFERROR(INDEX(_T0[Moyenne de Wind Speed],MATCH(A9,_T0[Date0],0)),"") -> 5.8763889 | C9: =IFERROR(INDEX(_T0[Max de Wind Speed],MATCH(A9,_T0[Date0],0)),"") -> 12.9 | D9: =IFERROR(INDEX(_T0[Max de Hi Speed],MATCH(A9,_T0[Date0],0)),"") -> 46.7 | F9: =IFERROR(VLOOKUP(E9,Annexe!$E$3:$G$19,3,1),"") -> N
A10: =A9+1 -> 42769 | B10: =IFERROR(INDEX(_T0[Moyenne de Wind Speed],MATCH(A10,_T0[Date0],0)),"") -> 5.2152778 | C10: =IFERROR(INDEX(_T0[Max de Wind Speed],MATCH(A10,_T0[Date0],0)),"") -> 12.9 | D10: =IFERROR(INDEX(_T0[Max de Hi Speed],MATCH(A10,_T0[Date0],0)),"") -> 38.6 | F10: =IFERROR(VLOOKUP(E10,Annexe!$E$3:$G$19,3,1),"") -> N
A11: =A10+1 -> 42770 | B11: =IFERROR(INDEX(_T0[Moyenne de Wind Speed],MATCH(A11,_T0[Date0],0)),"") -> 13.290278 | C11: =IFERROR(INDEX(_T0[Max de Wind Speed],MATCH(A11,_T0[Date0],0)),"") -> 29 | D11: =IFERROR(INDEX(_T0[Max de Hi Speed],MATCH(A11,_T0[Date0],0)),"") -> 69.2 | F11: =IFERROR(VLOOKUP(E11,Annexe!$E$3:$G$19,3,1),"") -> N
A12: =A11+1 -> 42771 | B12: =IFERROR(INDEX(_T0[Moyenne de Wind Speed],MATCH(A12,_T0[Date0],0)),"") -> 9.6305556 | C12: =IFERROR(INDEX(_T0[Max de Wind Speed],MATCH(A12,_T0[Date0],0)),"") -> 19.3 | D12: =IFERROR(INDEX(_T0[Max de Hi Speed],MATCH(A12,_T0[Date0],0)),"") -> 51.5 | F12: =IFERROR(VLOOKUP(E12,Annexe!$E$3:$G$19,3,1),"") -> N
A13: =A12+1 -> 42772 | B13: =IFERROR(INDEX(_T0[Moyenne de Wind Speed],MATCH(A13,_T0[Date0],0)),"") -> 6.1798611 | C13: =IFERROR(INDEX(_T0[Max de Wind Speed],MATCH(A13,_T0[Date0],0)),"") -> 16.1 | D13: =IFERROR(INDEX(_T0[Max de Hi Speed],MATCH(A13,_T0[Date0],0)),"") -> 37 | F13: =IFERROR(VLOOKUP(E13,Annexe!$E$3:$G$19,3,1),"") -> N
A14: =A13+1 -> 42773 | B14: =IFERROR(INDEX(_T0[Moyenne de Wind Speed],MATCH(A14,_T0[Date0],0)),"") -> 5.1659722 | C14: =IFERROR(INDEX(_T0[Max de Wind Speed],MATCH(A14,_T0[Date0],0)),"") -> 12.9 | D14: =IFERROR(INDEX(_T0[Max de Hi Speed],MATCH(A14,_T0[Date0],0)),"") -> 35.4 | F14: =IFERROR(VLOOKUP(E14,Annexe!$E$3:$G$19,3,1),"") -> N
A15: =A14+1 -> 42774 | B15: =IFERROR(INDEX(_T0[Moyenne de Wind Speed],MATCH(A15,_T0[Date0],0)),"") -> 2.9777778 | C15: =IFERROR(INDEX(_T0[Max de Wind Speed],MATCH(A15,_T0[Date0],0)),"") -> 8 | D15: =IFERROR(INDEX(_T0[Max de Hi Speed],MATCH(A15,_T0[Date0],0)),"") -> 20.9 | F15: =IFERROR(VLOOKUP(E15,Annexe!$E$3:$G$19,3,1),"") -> N | I15: Vitesse moyenne mensuelle
A16: =A15+1 -> 42775 | B16: =IFERROR(INDEX(_T0[Moyenne de Wind Speed],MATCH(A16,_T0[Date0],0)),"") -> 2.1777778 | C16: =IFERROR(INDEX(_T0[Max de Wind Speed],MATCH(A16,_T0[Date0],0)),"") -> 6.4 | D16: =IFERROR(INDEX(_T0[Max de Hi Speed],MATCH(A16,_T0[Date0],0)),"") -> 12.9 | F16: =IFERROR(VLOOKUP(E16,Annexe!$E$3:$G$19,3,1),"") -> N | I16: =AVERAGE(B8:B38) -> 4.1720238
A17: =A16+1 -> 42776 | B17: =IFERROR(INDEX(_T0[Moyenne de Wind Speed],MATCH(A17,_T0[Date0],0)),"") -> 2.3222222 | C17: =IFERROR(INDEX(_T0[Max de Wind Speed],MATCH(A17,_T0[Date0],0)),"") -> 6.4 | D17: =IFERROR(INDEX(_T0[Max de Hi Speed],MATCH(A17,_T0[Date0],0)),"") -> 14.5 | F17: =IFERROR(VLOOKUP(E17,Annexe!$E$3:$G$19,3,1),"") -> N
A18: =A17+1 -> 42777 | B18: =IFERROR(INDEX(_T0[Moyenne de Wind Speed],MATCH(A18,_T0[Date0],0)),"") -> 1.8666667 | C18: =IFERROR(INDEX(_T0[Max de Wind Speed],MATCH(A18,_T0[Date0],0)),"") -> 4.8 | D18: =IFERROR(INDEX(_T0[Max de Hi Speed],MATCH(A18,_T0[Date0],0)),"") -> 11.3 | F18: =IFERROR(VLOOKUP(E18,Annexe!$E$3:$G$19,3,1),"") -> N | I18: Vitesse de vent maximale
A19: =A18+1 -> 42778 | B19: =IFERROR(INDEX(_T0[Moyenne de Wind Speed],MATCH(A19,_T0[Date0],0)),"") -> 2.9222222 | C19: =IFERROR(INDEX(_T0[Max de Wind Speed],MATCH(A19,_T0[Date0],0)),"") -> 8 | D19: =IFERROR(INDEX(_T0[Max de Hi Speed],MATCH(A19,_T0[Date0],0)),"") -> 22.5 | F19: =IFERROR(VLOOKUP(E19,Annexe!$E$3:$G$19,3,1),"") -> N | I19: =MAX(C8:C38) -> 29 | L19: =INDEX(A8:A38,MATCH(I19,C8:C38,0)) -> 42770
A20: =A19+1 -> 42779 | B20: =IFERROR(INDEX(_T0[Moyenne de Wind Speed],MATCH(A20,_T0[Date0],0)),"") -> 3.2777778 | C20: =IFERROR(INDEX(_T0[Max de Wind Speed],MATCH(A20,_T0[Date0],0)),"") -> 8 | D20: =IFERROR(INDEX(_T0[Max de Hi Speed],MATCH(A20,_T0[Date0],0)),"") -> 22.5 | F20: =IFERROR(VLOOKUP(E20,Annexe!$E$3:$G$19,3,1),"") -> N
A21: =A20+1 -> 42780 | B21: =IFERROR(INDEX(_T0[Moyenne de Wind Speed],MATCH(A21,_T0[Date0],0)),"") -> 4.8597222 | C21: =IFERROR(INDEX(_T0[Max de Wind Speed],MATCH(A21,_T0[Date0],0)),"") -> 14.5 | D21: =IFERROR(INDEX(_T0[Max de Hi Speed],MATCH(A21,_T0[Date0],0)),"") -> 37 | F21: =IFERROR(VLOOKUP(E21,Annexe!$E$3:$G$19,3,1),"") -> N | I21: Rafale de vent maximale
A22: =A21+1 -> 42781 | B22: =IFERROR(INDEX(_T0[Moyenne de Wind Speed],MATCH(A22,_T0[Date0],0)),"") -> 1.8368056 | C22: =IFERROR(INDEX(_T0[Max de Wind Speed],MATCH(A22,_T0[Date0],0)),"") -> 12.9 | D22: =IFERROR(INDEX(_T0[Max de Hi Speed],MATCH(A22,_T0[Date0],0)),"") -> 30.6 | F22: =IFERROR(VLOOKUP(E22,Annexe!$E$3:$G$19,3,1),"") -> N | I22: =MAX(D8:D38) -> 69.2 | L22: =INDEX(A8:A38,MATCH(I22,D8:D38,0)) -> 42770 | O22: Direction | P22: Nb de jours | Q22: %
A23: =A22+1 -> 42782 | B23: =IFERROR(INDEX(_T0[Moyenne de Wind Speed],MATCH(A23,_T0[Date0],0)),"") -> 0.54444444 | C23: =IFERROR(INDEX(_T0[Max de Wind Speed],MATCH(A23,_T0[Date0],0)),"") -> 4.8 | D23: =IFERROR(INDEX(_T0[Max de Hi Speed],MATCH(A23,_T0[Date0],0)),"") -> 11.3 | F23: =IFERROR(VLOOKUP(E23,Annexe!$E$3:$G$19,3,1),"") -> N | O23: N | P23: =COUNTIF($F$8:$F$38,O23) -> 31 | Q23: =P23/SUM($P$23:$P$38) -> 1
A24: =A23+1 -> 42783 | B24: =IFERROR(INDEX(_T0[Moyenne de Wind Speed],MATCH(A24,_T0[Date0],0)),"") -> 0.96666667 | C24: =IFERROR(INDEX(_T0[Max de Wind Speed],MATCH(A24,_T0[Date0],0)),"") -> 6.4 | D24: =IFERROR(INDEX(_T0[Max de Hi Speed],MATCH(A24,_T0[Date0],0)),"") -> 14.5 | F24: =IFERROR(VLOOKUP(E24,Annexe!$E$3:$G$19,3,1),"") -> N | I24: Vent dominant du mois | O24: NNE | P24: =COUNTIF($F$8:$F$38,O24) -> 0 | Q24: =P24/SUM($P$23:$P$38) -> 0
A25: =A24+1 -> 42784 | B25: =IFERROR(INDEX(_T0[Moyenne de Wind Speed],MATCH(A25,_T0[Date0],0)),"") -> 1.9666667 | C25: =IFERROR(INDEX(_T0[Max de Wind Speed],MATCH(A25,_T0[Date0],0)),"") -> 8 | D25: =IFERROR(INDEX(_T0[Max de Hi Speed],MATCH(A25,_T0[Date0],0)),"") -> 16.1 | F25: =IFERROR(VLOOKUP(E25,Annexe!$E$3:$G$19,3,1),"") -> N | I25: =INDEX(O23:O38,MATCH(MAX(P23:P38),P23:P38,0)) -> N | O25: NE | P25: =COUNTIF($F$8:$F$38,O25) -> 0 | Q25: =P25/SUM($P$23:$P$38) -> 0
A26: =A25+1 -> 42785 | B26: =IFERROR(INDEX(_T0[Moyenne de Wind Speed],MATCH(A26,_T0[Date0],0)),"") -> 1.2777778 | C26: =IFERROR(INDEX(_T0[Max de Wind Speed],MATCH(A26,_T0[Date0],0)),"") -> 8 | D26: =IFERROR(INDEX(_T0[Max de Hi Speed],MATCH(A26,_T0[Date0],0)),"") -> 19.3 | F26: =IFERROR(VLOOKUP(E26,Annexe!$E$3:$G$19,3,1),"") -> N | O26: ENE | P26: =COUNTIF($F$8:$F$38,O26) -> 0 | Q26: =P26/SUM($P$23:$P$38) -> 0
A27: =A26+1 -> 42786 | B27: =IFERROR(INDEX(_T0[Moyenne de Wind Speed],MATCH(A27,_T0[Date0],0)),"") -> 2.3361111 | C27: =IFERROR(INDEX(_T0[Max de Wind Speed],MATCH(A27,_T0[Date0],0)),"") -> 9.7 | D27: =IFERROR(INDEX(_T0[Max de Hi Speed],MATCH(A27,_T0[Date0],0)),"") -> 27.4 | F27: =IFERROR(VLOOKUP(E27,Annexe!$E$3:$G$19,3,1),"") -> N | I27: Nombre de jour vent ≥ 57km/h | O27: E | P27: =COUNTIF($F$8:$F$38,O27) -> 0 | Q27: =P27/SUM($P$23:$P$38) -> 0
A28: =A27+1 -> 42787 | B28: =IFERROR(INDEX(_T0[Moyenne de Wind Speed],MATCH(A28,_T0[Date0],0)),"") -> 0.42222222 | C28: =IFERROR(INDEX(_T0[Max de Wind Speed],MATCH(A28,_T0[Date0],0)),"") -> 4.8 | D28: =IFERROR(INDEX(_T0[Max de Hi Speed],MATCH(A28,_T0[Date0],0)),"") -> 17.7 | F28: =IFERROR(VLOOKUP(E28,Annexe!$E$3:$G$19,3,1),"") -> N | I28: =COUNTIF(D8:D38,">57") -> 2 | O28: ESE | P28: =COUNTIF($F$8:$F$38,O28) -> 0 | Q28: =P28/SUM($P$23:$P$38) -> 0
A29: =A28+1 -> 42788 | B29: =IFERROR(INDEX(_T0[Moyenne de Wind Speed],MATCH(A29,_T0[Date0],0)),"") -> 1.8666667 | C29: =IFERROR(INDEX(_T0[Max de Wind Speed],MATCH(A29,_T0[Date0],0)),"") -> 6.4 | D29: =IFERROR(INDEX(_T0[Max de Hi Speed],MATCH(A29,_T0[Date0],0)),"") -> 20.9 | F29: =IFERROR(VLOOKUP(E29,Annexe!$E$3:$G$19,3,1),"") -> N | O29: SE | P29: =COUNTIF($F$8:$F$38,O29) -> 0 | Q29: =P29/SUM($P$23:$P$38) -> 0
A30: =A29+1 -> 42789 | B30: =IFERROR(INDEX(_T0[Moyenne de Wind Speed],MATCH(A30,_T0[Date0],0)),"") -> 7.5555556 | C30: =IFERROR(INDEX(_T0[Max de Wind Speed],MATCH(A30,_T0[Date0],0)),"") -> 16.1 | D30: =IFERROR(INDEX(_T0[Max de Hi Speed],MATCH(A30,_T0[Date0],0)),"") -> 43.5 | F30: =IFERROR(VLOOKUP(E30,Annexe!$E$3:$G$19,3,1),"") -> N | I30: Nombre de jour vent ≥ 100km/h | O30: SSE | P30: =COUNTIF($F$8:$F$38,O30) -> 0 | Q30: =P30/SUM($P$23:$P$38) -> 0
A31: =A30+1 -> 42790 | B31: =IFERROR(INDEX(_T0[Moyenne de Wind Speed],MATCH(A31,_T0[Date0],0)),"") -> 4.1333333 | C31: =IFERROR(INDEX(_T0[Max de Wind Speed],MATCH(A31,_T0[Date0],0)),"") -> 11.3 | D31: =IFERROR(INDEX(_T0[Max de Hi Speed],MATCH(A31,_T0[Date0],0)),"") -> 25.7 | F31: =IFERROR(VLOOKUP(E31,Annexe!$E$3:$G$19,3,1),"") -> N | I31: =COUNTIF(D8:D38,">100") -> 0 | O31: S | P31: =COUNTIF($F$8:$F$38,O31) -> 0 | Q31: =P31/SUM($P$23:$P$38) -> 0
A32: =A31+1 -> 42791 | B32: =IFERROR(INDEX(_T0[Moyenne de Wind Speed],MATCH(A32,_T0[Date0],0)),"") -> 0.91111111 | C32: =IFERROR(INDEX(_T0[Max de Wind Speed],MATCH(A32,_T0[Date0],0)),"") -> 4.8 | D32: =IFERROR(INDEX(_T0[Max de Hi Speed],MATCH(A32,_T0[Date0],0)),"") -> 14.5 | F32: =IFERROR(VLOOKUP(E32,Annexe!$E$3:$G$19,3,1),"") -> N | O32: SSO | P32: =COUNTIF($F$8:$F$38,O32) -> 0 | Q32: =P32/SUM($P$23:$P$38) -> 0
A33: =A32+1 -> 42792 | B33: =IFERROR(INDEX(_T0[Moyenne de Wind Speed],MATCH(A33,_T0[Date0],0)),"") -> 4.4590278 | C33: =IFERROR(INDEX(_T0[Max de Wind Speed],MATCH(A33,_T0[Date0],0)),"") -> 11.3 | D33: =IFERROR(INDEX(_T0[Max de Hi Speed],MATCH(A33,_T0[Date0],0)),"") -> 30.6 | F33: =IFERROR(VLOOKUP(E33,Annexe!$E$3:$G$19,3,1),"") -> N | O33: SO | P33: =COUNTIF($F$8:$F$38,O33) -> 0 | Q33: =P33/SUM($P$23:$P$38) -> 0
A34: =A33+1 -> 42793 | B34: =IFERROR(INDEX(_T0[Moyenne de Wind Speed],MATCH(A34,_T0[Date0],0)),"") -> 8.7923611 | C34: =IFERROR(INDEX(_T0[Max de Wind Speed],MATCH(A34,_T0[Date0],0)),"") -> 20.9 | D34: =IFERROR(INDEX(_T0[Max de Hi Speed],MATCH(A34,_T0[Date0],0)),"") -> 57.9 | F34: =IFERROR(VLOOKUP(E34,Annexe!$E$3:$G$19,3,1),"") -> N | I34: Informations | O34: OSO | P34: =COUNTIF($F$8:$F$38,O34) -> 0 | Q34: =P34/SUM($P$23:$P$38) -> 0
A35: =A34+1 -> 42794 | B35: =IFERROR(INDEX(_T0[Moyenne de Wind Speed],MATCH(A35,_T0[Date0],0)),"") -> 12.740278 | C35: =IFERROR(INDEX(_T0[Max de Wind Speed],MATCH(A35,_T0[Date0],0)),"") -> 19.3 | D35: =IFERROR(INDEX(_T0[Max de Hi Speed],MATCH(A35,_T0[Date0],0)),"") -> 53.1 | F35: =IFERROR(VLOOKUP(E35,Annexe!$E$3:$G$19,3,1),"") -> N | I35: Vent: de 00h UTC à 00h UTC le jour J | O35: O | P35: =COUNTIF($F$8:$F$38,O35) -> 0 | Q35: =P35/SUM($P$23:$P$38) -> 0
A36: =IF(MONTH(A35+1)=$G$4,A35+1,"") | B36: =IFERROR(INDEX(_T0[Moyenne de Wind Speed],MATCH(A36,_T0[Date0],0)),"") | C36: =IFERROR(INDEX(_T0[Max de Wind Speed],MATCH(A36,_T0[Date0],0)),"") | D36: =IFERROR(INDEX(_T0[Max de Hi Speed],MATCH(A36,_T0[Date0],0)),"") | F36: =IFERROR(VLOOKUP(E36,Annexe!$E$3:$G$19,3,1),"") -> N | I36: Vmoy = Vitesse de vent moyenne de la journée | O36: ONO | P36: =COUNTIF($F$8:$F$38,O36) -> 0 | Q36: =P36/SUM($P$23:$P$38) -> 0
A37: =IFERROR(IF(MONTH(A36+1)=$G$4,A36+1,""),"") | B37: =IFERROR(INDEX(_T0[Moyenne de Wind Speed],MATCH(A37,_T0[Date0],0)),"") | C37: =IFERROR(INDEX(_T0[Max de Wind Speed],MATCH(A37,_T0[Date0],0)),"") | D37: =IFERROR(INDEX(_T0[Max de Hi Speed],MATCH(A37,_T0[Date0],0)),"") | F37: =IFERROR(VLOOKUP(E37,Annexe!$E$3:$G$19,3,1),"") -> N | I37: Vmax = Vitesse de vent maximale | O37: NO | P37: =COUNTIF($F$8:$F$38,O37) -> 0 | Q37: =P37/SUM($P$23:$P$38) -> 0
A38: =IFERROR(IF(MONTH(A37+1)=$G$4,A37+1,""),"") | B38: =IFERROR(INDEX(_T0[Moyenne de Wind Speed],MATCH(A38,_T0[Date0],0)),"") | C38: =IFERROR(INDEX(_T0[Max de Wind Speed],MATCH(A38,_T0[Date0],0)),"") | D38: =IFERROR(INDEX(_T0[Max de Hi Speed],MATCH(A38,_T0[Date0],0)),"") | F38: =IFERROR(VLOOKUP(E38,Annexe!$E$3:$G$19,3,1),"") -> N | I38: Rmax = Rafale de vent maximale | O38: NNO | P38: =COUNTIF($F$8:$F$38,O38) -> 0 | Q38: =P38/SUM($P$23:$P$38) -> 0

Sheet Annexe
E2: Rose des vents | I2: Indication | J2: Valeur
B3: JANVIER | C3: 1 | E3: 0 | F3: 11.25 | G3: N | I3: N | J3: 0
B4: FÉVRIER | C4: 2 | E4: 11.25 | F4: 33.75 | G4: NNE | I4: NNE | J4: 22.5
B5: MARS | C5: 3 | E5: 33.75 | F5: 56.25 | G5: NE | I5: NE | J5: 45
B6: AVRIL | C6: 4 | E6: 56.25 | F6: 78.75 | G6: ENE | I6: ENE | J6: 67.5
B7: MAI | C7: 5 | E7: 78.75 | F7: 101.25 | G7: E | I7: E | J7: 90
B8: JUIN | C8: 6 | E8: 101.25 | F8: 123.75 | G8: ESE | I8: ESE | J8: 112.5
B9: JUILLET | C9: 7 | E9: 123.75 | F9: 146.25 | G9: SE | I9: SE | J9: 135
B10: AOÛT | C10: 8 | E10: 146.25 | F10: 168.75 | G10: SSE | I10: SSE | J10: 157.5
B11: SEPTEMBRE | C11: 9 | E11: 168.75 | F11: 191.25 | G11: S | I11: S | J11: 180
B12: OCTOBRE | C12: 10 | E12: 191.25 | F12: 213.75 | G12: SSO | I12: SSW | J12: 202.5
B13: NOVEMBRE | C13: 11 | E13: 213.75 | F13: 236.25 | G13: SO | I13: SW | J13: 225
B14: DÉCEMBRE | C14: 12 | E14: 236.25 | F14: 258.75 | G14: OSO | I14: WSW | J14: 247.5
E15: 258.75 | F15: 281.25 | G15: O | I15: W | J15: 270
E16: 281.25 | F16: 303.75 | G16: ONO | I16: WNW | J16: 292.5
E17: 303.75 | F17: 326.25 | G17: NO | I17: NW | J17: 315
E18: 326.25 | F18: 348.75 | G18: NNO | I18: NNW | J18: 337.5
E19: 354.375 | F19: 360 | G19: N | I19: --- | J19: 360
