Workbook

Sheet Production amont
A1: N° Série | B1: Désignation | C1: Création FS | D1: Objectif (45j) | E1: Injection (1j)+1 | F1: Atelier 02 (1j)+2 | G1: Atelier 03 (1j)+3 | H1: Atelier 04 (12j)+15 | I1: Atelier 05 (1j)+16 | J1: Atelier 06 (1j)+17 | K1: Atelier 07 (1j)+18 | L1: Atelier 08 (1j)+19 | M1: Prévision sortie amont | N1: Réalisé fin amont
A2: 01AA604 | B2: Ecope 1A | C2: 43674 | D2: =WORKDAY(C2,45) -> 43735 | E2: =WORKDAY(C2,1) -> 43675 | F2: =WORKDAY(C2,2) -> 43676 | G2: =WORKDAY(C2,3) -> 43677 | H2: =WORKDAY(C2,15) -> 43693 | I2: =WORKDAY(C2,16) -> 43696 | J2: =WORKDAY(C2,17) -> 43697 | K2: =WORKDAY(C2,18) -> 43698 | L2: =WORKDAY(C2,19) -> 43699 | M2: =WORKDAY(C2,20) -> 43700
A3: 01AA605 | B3: Ecope 1A | C3: 43675 | D3: =WORKDAY(C3,45) -> 43738 | E3: =WORKDAY(C3,1) -> 43676 | F3: =WORKDAY(C3,2) -> 43677 | G3: =WORKDAY(C3,3) -> 43678 | H3: =WORKDAY(C3,15) -> 43696 | I3: =WORKDAY(C3,16) -> 43697 | J3: =WORKDAY(C3,17) -> 43698 | K3: =WORKDAY(C3,18) -> 43699 | L3: =WORKDAY(C3,19) -> 43700 | M3: =WORKDAY(C3,20) -> 43703
A4: 01AA606 | B4: Ecope 1A | C4: 43676 | D4: =WORKDAY(C4,45) -> 43739 | E4: =WORKDAY(C4,1) -> 43677 | F4: =WORKDAY(C4,2) -> 43678 | G4: =WORKDAY(C4,3) -> 43679 | H4: =WORKDAY(C4,15) -> 43697 | I4: =WORKDAY(C4,16) -> 43698 | J4: =WORKDAY(C4,17) -> 43699 | K4: =WORKDAY(C4,18) -> 43700 | L4: =WORKDAY(C4,19) -> 43703 | M4: =WORKDAY(C4,20) -> 43704
A5: 01AA607 | B5: Ecope 4B | C5: 43677 | D5: =WORKDAY(C5,45) -> 43740 | E5: =WORKDAY(C5,1) -> 43678 | F5: =WORKDAY(C5,2) -> 43679 | G5: =WORKDAY(C5,3) -> 43682 | H5: =WORKDAY(C5,15) -> 43698 | I5: =WORKDAY(C5,16) -> 43699 | J5: =WORKDAY(C5,17) -> 43700 | K5: =WORKDAY(C5,18) -> 43703 | L5: =WORKDAY(C5,19) -> 43704 | M5: =WORKDAY(C5,20) -> 43705
A6: 01AA608 | B6: Ecope 4B | C6: 43678 | D6: =WORKDAY(C6,45) -> 43741 | E6: =WORKDAY(C6,1) -> 43679 | F6: =WORKDAY(C6,2) -> 43682 | G6: =WORKDAY(C6,3) -> 43683 | H6: =WORKDAY(C6,15) -> 43699 | I6: =WORKDAY(C6,16) -> 43700 | J6: =WORKDAY(C6,17) -> 43703 | K6: =WORKDAY(C6,18) -> 43704 | L6: =WORKDAY(C6,19) -> 43705 | M6: =WORKDAY(C6,20) -> 43706
A7: 01AA609 | B7: Ecope 4B | C7: 43679 | D7: =WORKDAY(C7,45) -> 43742 | E7: =WORKDAY(C7,1) -> 43682 | F7: =WORKDAY(C7,2) -> 43683 | G7: =WORKDAY(C7,3) -> 43684 | H7: =WORKDAY(C7,15) -> 43700 | I7: =WORKDAY(C7,16) -> 43703 | J7: =WORKDAY(C7,17) -> 43704 | K7: =WORKDAY(C7,18) -> 43705 | L7: =WORKDAY(C7,19) -> 43706 | M7: =WORKDAY(C7,20) -> 43707
A8: 01AA610 | B8: Ecope 4B | C8: 43680 | D8: =WORKDAY(C8,45) -> 43742 | E8: =WORKDAY(C8,1) -> 43682 | F8: =WORKDAY(C8,2) -> 43683 | G8: =WORKDAY(C8,3) -> 43684 | H8: =WORKDAY(C8,15) -> 43700 | I8: =WORKDAY(C8,16) -> 43703 | J8: =WORKDAY(C8,17) -> 43704 | K8: =WORKDAY(C8,18) -> 43705 | L8: =WORKDAY(C8,19) -> 43706 | M8: =WORKDAY(C8,20) -> 43707
A9: 01AA611 | B9: Ecope 4B | C9: 43681 | D9: =WORKDAY(C9,45) -> 43742 | E9: =WORKDAY(C9,1) -> 43682 | F9: =WORKDAY(C9,2) -> 43683 | G9: =WORKDAY(C9,3) -> 43684 | H9: =WORKDAY(C9,15) -> 43700 | I9: =WORKDAY(C9,16) -> 43703 | J9: =WORKDAY(C9,17) -> 43704 | K9: =WORKDAY(C9,18) -> 43705 | L9: =WORKDAY(C9,19) -> 43706 | M9: =WORKDAY(C9,20) -> 43707
A10: 01AA612 | B10: Ecope 4B | C10: 43682 | D10: =WORKDAY(C10,45) -> 43745 | E10: =WORKDAY(C10,1) -> 43683 | F10: =WORKDAY(C10,2) -> 43684 | G10: =WORKDAY(C10,3) -> 43685 | H10: =WORKDAY(C10,15) -> 43703 | I10: =WORKDAY(C10,16) -> 43704 | J10: =WORKDAY(C10,17) -> 43705 | K10: =WORKDAY(C10,18) -> 43706 | L10: =WORKDAY(C10,19) -> 43707 | M10: =WORKDAY(C10,20) -> 43710
A11: 01AA613 | B11: Ecope 4B | C11: 43683 | D11: =WORKDAY(C11,45) -> 43746 | E11: =WORKDAY(C11,1) -> 43684 | F11: =WORKDAY(C11,2) -> 43685 | G11: =WORKDAY(C11,3) -> 43686 | H11: =WORKDAY(C11,15) -> 43704 | I11: =WORKDAY(C11,16) -> 43705 | J11: =WORKDAY(C11,17) -> 43706 | K11: =WORKDAY(C11,18) -> 43707 | L11: =WORKDAY(C11,19) -> 43710 | M11: =WORKDAY(C11,20) -> 43711
A12: 01AA614 | B12: Ecope 4B | C12: 43684 | D12: =WORKDAY(C12,45) -> 43747 | E12: =WORKDAY(C12,1) -> 43685 | F12: =WORKDAY(C12,2) -> 43686 | G12: =WORKDAY(C12,3) -> 43689 | H12: =WORKDAY(C12,15) -> 43705 | I12: =WORKDAY(C12,16) -> 43706 | J12: =WORKDAY(C12,17) -> 43707 | K12: =WORKDAY(C12,18) -> 43710 | L12: =WORKDAY(C12,19) -> 43711 | M12: =WORKDAY(C12,20) -> 43712
A13: 01AA615 | B13: Ecope 4B | C13: 43685 | D13: =WORKDAY(C13,45) -> 43748 | E13: =WORKDAY(C13,1) -> 43686 | F13: =WORKDAY(C13,2) -> 43689 | G13: =WORKDAY(C13,3) -> 43690 | H13: =WORKDAY(C13,15) -> 43706 | I13: =WORKDAY(C13,16) -> 43707 | J13: =WORKDAY(C13,17) -> 43710 | K13: =WORKDAY(C13,18) -> 43711 | L13: =WORKDAY(C13,19) -> 43712 | M13: =WORKDAY(C13,20) -> 43713
... A61: 01AA663 | B61: Ecope 4B | C61: 43718 | D61: =WORKDAY(C61,45) -> 43781 | E61: =WORKDAY(C61,1) -> 43719 | F61: =WORKDAY(C61,2) -> 43720 | G61: =WORKDAY(C61,3) -> 43721 | H61: =WORKDAY(C61,15) -> 43739 | I61: =WORKDAY(C61,16) -> 43740 | J61: =WORKDAY(C61,17) -> 43741 | K61: =WORKDAY(C61,18) -> 43742 | L61: =WORKDAY(C61,19) -> 43745 | M61: =WORKDAY(C61,20) -> 43746

Sheet Production aval
A1: ='Production amont'!A:A -> N° Série | B1: ='Production amont'!B:B -> Désignation | C1: ='Production amont'!N:N -> Réalisé fin amont | D1: Atelier 09 (1j) | E1: Atelier 10 (1j) | F1: Atelier 11 (0,5j) | G1: Atelier 12 (0,5j) | H1: Atelier 13 (3j) | I1: Atelier 14 (0,5j) | J1: Atelier 15 (0,5j) | K1: Prévision sortie aval | L1: Réalisé fin aval
A2: ='Production amont'!A:A -> 01AA604 | B2: ='Production amont'!B:B -> Ecope 1A | C2: ='Production amont'!N:N -> 0 | D2: =C2+1 -> 1 | E2: =D2+1 -> 2 | F2: =E2+0.5 -> 2.5 | G2: =F2+0.5 -> 3 | H2: =G2+3 -> 6 | I2: =H2+0.5 -> 6.5 | J2: =I2+0.5 -> 7 | K2: =J2+1 -> 8
A3: ='Production amont'!A:A -> 01AA605 | B3: ='Production amont'!B:B -> Ecope 1A | C3: ='Production amont'!N:N -> 0 | D3: =C3+1 -> 1 | E3: =D3+1 -> 2 | F3: =E3+0.5 -> 2.5 | G3: =F3+0.5 -> 3 | H3: =G3+3 -> 6
A4: ='Production amont'!A:A -> 01AA606 | B4: ='Production amont'!B:B -> Ecope 1A | C4: ='Production amont'!N:N -> 0 | D4: =C4+1 -> 1 | E4: =D4+1 -> 2 | F4: =E4+0.5 -> 2.5 | G4: =F4+0.5 -> 3 | H4: =G4+3 -> 6
A5: ='Production amont'!A:A -> 01AA607 | B5: ='Production amont'!B:B -> Ecope 4B | C5: ='Production amont'!N:N -> 0 | D5: =C5+1 -> 1 | E5: =D5+1 -> 2 | F5: =E5+0.5 -> 2.5 | G5: =F5+0.5 -> 3 | H5: =G5+3 -> 6
A6: ='Production amont'!A:A -> 01AA608 | B6: ='Production amont'!B:B -> Ecope 4B | C6: ='Production amont'!N:N -> 0
A7: ='Production amont'!A:A -> 01AA609 | B7: ='Production amont'!B:B -> Ecope 4B | C7: ='Production amont'!N:N -> 0
A8: ='Production amont'!A:A -> 01AA610 | B8: ='Production amont'!B:B -> Ecope 4B | C8: ='Production amont'!N:N -> 0
A9: ='Production amont'!A:A -> 01AA611 | B9: ='Production amont'!B:B -> Ecope 4B | C9: ='Production amont'!N:N -> 0
A10: ='Production amont'!A:A -> 01AA612 | B10: ='Production amont'!B:B -> Ecope 4B | C10: ='Production amont'!N:N -> 0
A11: ='Production amont'!A:A -> 01AA613 | B11: ='Production amont'!B:B -> Ecope 4B | C11: ='Production amont'!N:N -> 0
A12: ='Production amont'!A:A -> 01AA614 | B12: ='Production amont'!B:B -> Ecope 4B | C12: ='Production amont'!N:N -> 0
A13: ='Production amont'!A:A -> 01AA615 | B13: ='Production amont'!B:B -> Ecope 4B | C13: ='Production amont'!N:N -> 0
A14: ='Production amont'!A:A -> 01AA616 | B14: ='Production amont'!B:B -> Ecope 4B | C14: ='Production amont'!N:N -> 0
A15: ='Production amont'!A:A -> 01AA617 | B15: ='Production amont'!B:B -> Ecope 4B | C15: ='Production amont'!N:N -> 0
A16: ='Production amont'!A:A -> 01AA618 | B16: ='Production amont'!B:B -> Ecope 4B | C16: ='Production amont'!N:N -> 0
A17: ='Production amont'!A:A -> 01AA619 | B17: ='Production amont'!B:B -> Ecope 4B | C17: ='Production amont'!N:N -> 0
... A35: ='Production amont'!A:A -> 01AA637 | B35: ='Production amont'!B:B -> Ecope 4B | C35: ='Production amont'!N:N -> 0

Sheet Récapitulatif
A1: ='Production amont'!A:A -> N° Série | B1: ='Production amont'!B:B -> Désignation | C1: ='Production amont'!C:C -> Création FS | D1: ='Production amont'!M:M -> Prévision sortie amont | E1: ='Production amont'!N:N -> Réalisé fin amont | F1: ='Production aval'!K:K -> Prévision sortie aval | G1: ='Production aval'!L:L -> Réalisé fin aval
A2: ='Production amont'!A:A -> 01AA604 | B2: ='Production amont'!B:B -> Ecope 1A | C2: ='Production amont'!C:C -> 43674 | D2: =VLOOKUP(A2,'Production amont'!A:N,13,0) -> 43700 | E2: =VLOOKUP(A2,'Production amont'!A:N,14,0) -> 0 | F2: =VLOOKUP(A2,'Production aval'!A:L,11,0) -> 8 | G2: =VLOOKUP(A2,'Production aval'!A:L,12,0) -> 0
A3: ='Production amont'!A:A -> 01AA605 | B3: ='Production amont'!B:B -> Ecope 1A | C3: ='Production amont'!C:C -> 43675 | D3: =VLOOKUP(A3,'Production amont'!A:N,13,0) -> 43703 | E3: =VLOOKUP(A3,'Production amont'!A:N,14,0) -> 0 | F3: =VLOOKUP(A3,'Production aval'!A:L,11,0) -> 0 | G3: =VLOOKUP(A3,'Production aval'!A:L,12,0) -> 0
A4: ='Production amont'!A:A -> 01AA606 | B4: ='Production amont'!B:B -> Ecope 1A | C4: ='Production amont'!C:C -> 43676 | D4: =VLOOKUP(A4,'Production amont'!A:N,13,0) -> 43704 | E4: =VLOOKUP(A4,'Production amont'!A:N,14,0) -> 0 | F4: =VLOOKUP(A4,'Production aval'!A:L,11,0) -> 0 | G4: =VLOOKUP(A4,'Production aval'!A:L,12,0) -> 0
A5: ='Production amont'!A:A -> 01AA607 | B5: ='Production amont'!B:B -> Ecope 4B | C5: ='Production amont'!C:C -> 43677 | D5: =VLOOKUP(A5,'Production amont'!A:N,13,0) -> 43705 | E5: =VLOOKUP(A5,'Production amont'!A:N,14,0) -> 0 | F5: =VLOOKUP(A5,'Production aval'!A:L,11,0) -> 0 | G5: =VLOOKUP(A5,'Production aval'!A:L,12,0) -> 0
A6: ='Production amont'!A:A -> 01AA608 | B6: ='Production amont'!B:B -> Ecope 4B | C6: ='Production amont'!C:C -> 43678 | D6: =VLOOKUP(A6,'Production amont'!A:N,13,0) -> 43706 | E6: =VLOOKUP(A6,'Production amont'!A:N,14,0) -> 0 | F6: =VLOOKUP(A6,'Production aval'!A:L,11,0) -> 0 | G6: =VLOOKUP(A6,'Production aval'!A:L,12,0) -> 0
A7: ='Production amont'!A:A -> 01AA609 | B7: ='Production amont'!B:B -> Ecope 4B | C7: ='Production amont'!C:C -> 43679 | D7: =VLOOKUP(A7,'Production amont'!A:N,13,0) -> 43707 | E7: =VLOOKUP(A7,'Production amont'!A:N,14,0) -> 0 | F7: =VLOOKUP(A7,'Production aval'!A:L,11,0) -> 0 | G7: =VLOOKUP(A7,'Production aval'!A:L,12,0) -> 0
A8: ='Production amont'!A:A -> 01AA610 | B8: ='Production amont'!B:B -> Ecope 4B | C8: ='Production amont'!C:C -> 43680 | D8: =VLOOKUP(A8,'Production amont'!A:N,13,0) -> 43707 | E8: =VLOOKUP(A8,'Production amont'!A:N,14,0) -> 0 | F8: =VLOOKUP(A8,'Production aval'!A:L,11,0) -> 0 | G8: =VLOOKUP(A8,'Production aval'!A:L,12,0) -> 0
A9: ='Production amont'!A:A -> 01AA611 | B9: ='Production amont'!B:B -> Ecope 4B | C9: ='Production amont'!C:C -> 43681 | D9: =VLOOKUP(A9,'Production amont'!A:N,13,0) -> 43707 | E9: =VLOOKUP(A9,'Production amont'!A:N,14,0) -> 0 | F9: =VLOOKUP(A9,'Production aval'!A:L,11,0) -> 0 | G9: =VLOOKUP(A9,'Production aval'!A:L,12,0) -> 0
A10: ='Production amont'!A:A -> 01AA612 | B10: ='Production amont'!B:B -> Ecope 4B | C10: ='Production amont'!C:C -> 43682 | D10: =VLOOKUP(A10,'Production amont'!A:N,13,0) -> 43710 | E10: =VLOOKUP(A10,'Production amont'!A:N,14,0) -> 0 | F10: =VLOOKUP(A10,'Production aval'!A:L,11,0) -> 0 | G10: =VLOOKUP(A10,'Production aval'!A:L,12,0) -> 0
A11: ='Production amont'!A:A -> 01AA613 | B11: ='Production amont'!B:B -> Ecope 4B | C11: ='Production amont'!C:C -> 43683 | D11: =VLOOKUP(A11,'Production amont'!A:N,13,0) -> 43711 | E11: =VLOOKUP(A11,'Production amont'!A:N,14,0) -> 0 | F11: =VLOOKUP(A11,'Production aval'!A:L,11,0) -> 0 | G11: =VLOOKUP(A11,'Production aval'!A:L,12,0) -> 0
A12: ='Production amont'!A:A -> 01AA614 | B12: ='Production amont'!B:B -> Ecope 4B | C12: ='Production amont'!C:C -> 43684 | D12: =VLOOKUP(A12,'Production amont'!A:N,13,0) -> 43712 | E12: =VLOOKUP(A12,'Production amont'!A:N,14,0) -> 0 | F12: =VLOOKUP(A12,'Production aval'!A:L,11,0) -> 0 | G12: =VLOOKUP(A12,'Production aval'!A:L,12,0) -> 0
A13: ='Production amont'!A:A -> 01AA615 | B13: ='Production amont'!B:B -> Ecope 4B | C13: ='Production amont'!C:C -> 43685 | D13: =VLOOKUP(A13,'Production amont'!A:N,13,0) -> 43713 | E13: =VLOOKUP(A13,'Production amont'!A:N,14,0) -> 0 | F13: =VLOOKUP(A13,'Production aval'!A:L,11,0) -> 0 | G13: =VLOOKUP(A13,'Production aval'!A:L,12,0) -> 0
... A61: ='Production amont'!A:A -> 01AA663 | B61: ='Production amont'!B:B -> Ecope 4B | C61: ='Production amont'!C:C -> 43718 | D61: =VLOOKUP(A61,'Production amont'!A:N,13,0) -> 43746 | E61: =VLOOKUP(A61,'Production amont'!A:N,14,0) -> 0 | F61: =VLOOKUP(A61,'Production aval'!A:L,11,0) -> #N/A | G61: =VLOOKUP(A61,'Production aval'!A:L,12,0) -> #N/A
