Workbook
Name magasin: Stockage!$B$3:$AT$8
Name racks: Stockage!$B$2:$AT$2

Sheet Stockage
B1: 1 | E1: 2 | H1: 3 | K1: 4 | N1: 5 | Q1: 6 | T1: 7 | W1: 8 | Z1: 9 | AC1: 10 | AF1: 11 | AI1: 12 | AL1: 13 | AO1: 14 | AR1: 15
B2: A | C2: B | D2: C | E2: A | F2: B | G2: C | H2: A | I2: B | J2: C | K2: A | L2: B | M2: C | N2: A | O2: B | P2: C | Q2: A | R2: B | S2: C | T2: A | U2: B | V2: C | W2: A | X2: B | Y2: C | Z2: A | AA2: B | AB2: C | AC2: A | AD2: B | AE2: C | AF2: A | AG2: B | AH2: C | AI2: A | AJ2: B | AK2: C | AL2: A | AM2: B | AN2: C | AO2: A | AP2: B | AQ2: C | AR2: A | AS2: B | AT2: C
A3: 30 | B3: 789123 | H3: 325897 | N3: 111111
A4: 20 | B4: 458237 | C4: 102589 | E4: 854256 | J4: 128754 | AJ4: 976690
A5: 10 | B5: 102589 | G5: 124568
A6: 0 | B6: 515515 | C6: 320320 | D6: 110110 | E6: 220220 | F6: 330330 | G6: 440440 | H6: 299299 | I6: 292578 | J6: 285857 | K6: 279136 | L6: 272415 | M6: 265694 | N6: 258973 | O6: 252252 | P6: 245531 | Q6: 238810 | R6: 232089 | S6: 225368 | T6: 218647 | U6: 211926 | V6: 205205 | W6: 198484 | X6: 191763 | Y6: 185042 | Z6: 178321 | AA6: 171600 | AB6: 164879 | AC6: 158158 | AD6: 151437 | AE6: 144716 | AF6: 137995 | AG6: 131274 | AH6: 124553 | AI6: 117832 | AJ6: 111111 | AK6: 104390 | AM6: 909480 | AN6: 842270 | AO6: 775060 | AP6: 707850 | AQ6: 640640 | AR6: 573430 | AS6: 506220 | AT6: 439010
A7: -10
A8: -20 | K8: 252252 | O8: 111111 | AG8: 158158

Sheet Articles
B2: Refs | H2: 1ère position | I2: nbre de positions
B3: 102589 | C3: {=MIN(IF(magasin=B3,ROW(magasin)))} -> 4 | D3: {=MIN(IF(OFFSET(racks,C3-2,)=B3,COLUMN(OFFSET(racks,C3-2,))))} -> 3 | E3: =INDEX(Stockage!$1:$1,(INT((D3+1)/3)-1)*3+2) -> 1 | F3: =INDEX(Stockage!$2:$2,Articles!D3) -> B | G3: =INDEX(Stockage!A:A,Articles!C3) -> 20 | H3: =E3&"-"&F3&"-"&G3 -> 1-B-20 | I3: =COUNTIF(magasin,B3) -> 2
B4: 104390 | C4: {=MIN(IF(magasin=B4,ROW(magasin)))} -> 6 | D4: {=MIN(IF(OFFSET(racks,C4-2,)=B4,COLUMN(OFFSET(racks,C4-2,))))} -> 37 | E4: =INDEX(Stockage!$1:$1,(INT((D4+1)/3)-1)*3+2) -> 12 | F4: =INDEX(Stockage!$2:$2,Articles!D4) -> C | G4: =INDEX(Stockage!A:A,Articles!C4) -> 0 | H4: =E4&"-"&F4&"-"&G4 -> 12-C-0 | I4: =COUNTIF(magasin,B4) -> 1
B5: 110110 | C5: {=MIN(IF(magasin=B5,ROW(magasin)))} -> 6 | D5: {=MIN(IF(OFFSET(racks,C5-2,)=B5,COLUMN(OFFSET(racks,C5-2,))))} -> 4 | E5: =INDEX(Stockage!$1:$1,(INT((D5+1)/3)-1)*3+2) -> 1 | F5: =INDEX(Stockage!$2:$2,Articles!D5) -> C | G5: =INDEX(Stockage!A:A,Articles!C5) -> 0 | H5: =E5&"-"&F5&"-"&G5 -> 1-C-0 | I5: =COUNTIF(magasin,B5) -> 1
B6: 110110 | C6: {=MIN(IF(magasin=B6,ROW(magasin)))} -> 6 | D6: {=MIN(IF(OFFSET(racks,C6-2,)=B6,COLUMN(OFFSET(racks,C6-2,))))} -> 4 | E6: =INDEX(Stockage!$1:$1,(INT((D6+1)/3)-1)*3+2) -> 1 | F6: =INDEX(Stockage!$2:$2,Articles!D6) -> C | G6: =INDEX(Stockage!A:A,Articles!C6) -> 0 | H6: =E6&"-"&F6&"-"&G6 -> 1-C-0 | I6: =COUNTIF(magasin,B6) -> 1
B7: 299299 | C7: {=MIN(IF(magasin=B7,ROW(magasin)))} -> 6 | D7: {=MIN(IF(OFFSET(racks,C7-2,)=B7,COLUMN(OFFSET(racks,C7-2,))))} -> 8 | E7: =INDEX(Stockage!$1:$1,(INT((D7+1)/3)-1)*3+2) -> 3 | F7: =INDEX(Stockage!$2:$2,Articles!D7) -> A | G7: =INDEX(Stockage!A:A,Articles!C7) -> 0 | H7: =E7&"-"&F7&"-"&G7 -> 3-A-0 | I7: =COUNTIF(magasin,B7) -> 1
B8: 320320 | C8: {=MIN(IF(magasin=B8,ROW(magasin)))} -> 6 | D8: {=MIN(IF(OFFSET(racks,C8-2,)=B8,COLUMN(OFFSET(racks,C8-2,))))} -> 3 | E8: =INDEX(Stockage!$1:$1,(INT((D8+1)/3)-1)*3+2) -> 1 | F8: =INDEX(Stockage!$2:$2,Articles!D8) -> B | G8: =INDEX(Stockage!A:A,Articles!C8) -> 0 | H8: =E8&"-"&F8&"-"&G8 -> 1-B-0 | I8: =COUNTIF(magasin,B8) -> 1
B9: 325897 | C9: {=MIN(IF(magasin=B9,ROW(magasin)))} -> 3 | D9: {=MIN(IF(OFFSET(racks,C9-2,)=B9,COLUMN(OFFSET(racks,C9-2,))))} -> 8 | E9: =INDEX(Stockage!$1:$1,(INT((D9+1)/3)-1)*3+2) -> 3 | F9: =INDEX(Stockage!$2:$2,Articles!D9) -> A | G9: =INDEX(Stockage!A:A,Articles!C9) -> 30 | H9: =E9&"-"&F9&"-"&G9 -> 3-A-30 | I9: =COUNTIF(magasin,B9) -> 1
B10: 330330 | C10: {=MIN(IF(magasin=B10,ROW(magasin)))} -> 6 | D10: {=MIN(IF(OFFSET(racks,C10-2,)=B10,COLUMN(OFFSET(racks,C10-2,))))} -> 6 | E10: =INDEX(Stockage!$1:$1,(INT((D10+1)/3)-1)*3+2) -> 2 | F10: =INDEX(Stockage!$2:$2,Articles!D10) -> B | G10: =INDEX(Stockage!A:A,Articles!C10) -> 0 | H10: =E10&"-"&F10&"-"&G10 -> 2-B-0 | I10: =COUNTIF(magasin,B10) -> 1
B11: 439010 | C11: {=MIN(IF(magasin=B11,ROW(magasin)))} -> 6 | D11: {=MIN(IF(OFFSET(racks,C11-2,)=B11,COLUMN(OFFSET(racks,C11-2,))))} -> 46 | E11: =INDEX(Stockage!$1:$1,(INT((D11+1)/3)-1)*3+2) -> 15 | F11: =INDEX(Stockage!$2:$2,Articles!D11) -> C | G11: =INDEX(Stockage!A:A,Articles!C11) -> 0 | H11: =E11&"-"&F11&"-"&G11 -> 15-C-0 | I11: =COUNTIF(magasin,B11) -> 1
B12: 440440 | C12: {=MIN(IF(magasin=B12,ROW(magasin)))} -> 6 | D12: {=MIN(IF(OFFSET(racks,C12-2,)=B12,COLUMN(OFFSET(racks,C12-2,))))} -> 7 | E12: =INDEX(Stockage!$1:$1,(INT((D12+1)/3)-1)*3+2) -> 2 | F12: =INDEX(Stockage!$2:$2,Articles!D12) -> C | G12: =INDEX(Stockage!A:A,Articles!C12) -> 0 | H12: =E12&"-"&F12&"-"&G12 -> 2-C-0 | I12: =COUNTIF(magasin,B12) -> 1
B13: 458237 | C13: {=MIN(IF(magasin=B13,ROW(magasin)))} -> 4 | D13: {=MIN(IF(OFFSET(racks,C13-2,)=B13,COLUMN(OFFSET(racks,C13-2,))))} -> 2 | E13: =INDEX(Stockage!$1:$1,(INT((D13+1)/3)-1)*3+2) -> 1 | F13: =INDEX(Stockage!$2:$2,Articles!D13) -> A | G13: =INDEX(Stockage!A:A,Articles!C13) -> 20 | H13: =E13&"-"&F13&"-"&G13 -> 1-A-20 | I13: =COUNTIF(magasin,B13) -> 1
B14: 506220 | C14: {=MIN(IF(magasin=B14,ROW(magasin)))} -> 6 | D14: {=MIN(IF(OFFSET(racks,C14-2,)=B14,COLUMN(OFFSET(racks,C14-2,))))} -> 45 | E14: =INDEX(Stockage!$1:$1,(INT((D14+1)/3)-1)*3+2) -> 15 | F14: =INDEX(Stockage!$2:$2,Articles!D14) -> B | G14: =INDEX(Stockage!A:A,Articles!C14) -> 0 | H14: =E14&"-"&F14&"-"&G14 -> 15-B-0 | I14: =COUNTIF(magasin,B14) -> 1
... B26: 111111 | C26: {=MIN(IF(magasin=B26,ROW(magasin)))} -> 3 | D26: {=MIN(IF(OFFSET(racks,C26-2,)=B26,COLUMN(OFFSET(racks,C26-2,))))} -> 14 | E26: =INDEX(Stockage!$1:$1,(INT((D26+1)/3)-1)*3+2) -> 5 | F26: =INDEX(Stockage!$2:$2,Articles!D26) -> A | G26: =INDEX(Stockage!A:A,Articles!C26) -> 30 | H26: =E26&"-"&F26&"-"&G26 -> 5-A-30 | I26: =COUNTIF(magasin,B26) -> 3
C27: {=MIN(IF(magasin=B27,ROW(magasin)))} -> 3 | D27: {=MIN(IF(OFFSET(racks,C27-2,)=B27,COLUMN(OFFSET(racks,C27-2,))))} -> 3 | E27: =INDEX(Stockage!$1:$1,(INT((D27+1)/3)-1)*3+2) -> 1 | F27: =INDEX(Stockage!$2:$2,Articles!D27) -> B | G27: =INDEX(Stockage!A:A,Articles!C27) -> 30 | H27: =E27&"-"&F27&"-"&G27 -> 1-B-30 | I27: =COUNTIF(magasin,B27) -> 0
C28: {=MIN(IF(magasin=B28,ROW(magasin)))} -> 3 | D28: {=MIN(IF(OFFSET(racks,C28-2,)=B28,COLUMN(OFFSET(racks,C28-2,))))} -> 3 | E28: =INDEX(Stockage!$1:$1,(INT((D28+1)/3)-1)*3+2) -> 1 | F28: =INDEX(Stockage!$2:$2,Articles!D28) -> B | G28: =INDEX(Stockage!A:A,Articles!C28) -> 30 | H28: =E28&"-"&F28&"-"&G28 -> 1-B-30 | I28: =COUNTIF(magasin,B28) -> 0
C29: {=MIN(IF(magasin=B29,ROW(magasin)))} -> 3 | D29: {=MIN(IF(OFFSET(racks,C29-2,)=B29,COLUMN(OFFSET(racks,C29-2,))))} -> 3 | E29: =INDEX(Stockage!$1:$1,(INT((D29+1)/3)-1)*3+2) -> 1 | F29: =INDEX(Stockage!$2:$2,Articles!D29) -> B | G29: =INDEX(Stockage!A:A,Articles!C29) -> 30 | H29: =E29&"-"&F29&"-"&G29 -> 1-B-30 | I29: =COUNTIF(magasin,B29) -> 0
C30: {=MIN(IF(magasin=B30,ROW(magasin)))} -> 3 | D30: {=MIN(IF(OFFSET(racks,C30-2,)=B30,COLUMN(OFFSET(racks,C30-2,))))} -> 3 | E30: =INDEX(Stockage!$1:$1,(INT((D30+1)/3)-1)*3+2) -> 1 | F30: =INDEX(Stockage!$2:$2,Articles!D30) -> B | G30: =INDEX(Stockage!A:A,Articles!C30) -> 30 | H30: =E30&"-"&F30&"-"&G30 -> 1-B-30 | I30: =COUNTIF(magasin,B30) -> 0
C31: {=MIN(IF(magasin=B31,ROW(magasin)))} -> 3 | D31: {=MIN(IF(OFFSET(racks,C31-2,)=B31,COLUMN(OFFSET(racks,C31-2,))))} -> 3 | E31: =INDEX(Stockage!$1:$1,(INT((D31+1)/3)-1)*3+2) -> 1 | F31: =INDEX(Stockage!$2:$2,Articles!D31) -> B | G31: =INDEX(Stockage!A:A,Articles!C31) -> 30 | H31: =E31&"-"&F31&"-"&G31 -> 1-B-30 | I31: =COUNTIF(magasin,B31) -> 0
C32: {=MIN(IF(magasin=B32,ROW(magasin)))} -> 3 | D32: {=MIN(IF(OFFSET(racks,C32-2,)=B32,COLUMN(OFFSET(racks,C32-2,))))} -> 3 | E32: =INDEX(Stockage!$1:$1,(INT((D32+1)/3)-1)*3+2) -> 1 | F32: =INDEX(Stockage!$2:$2,Articles!D32) -> B | G32: =INDEX(Stockage!A:A,Articles!C32) -> 30 | H32: =E32&"-"&F32&"-"&G32 -> 1-B-30 | I32: =COUNTIF(magasin,B32) -> 0
C33: {=MIN(IF(magasin=B33,ROW(magasin)))} -> 3 | D33: {=MIN(IF(OFFSET(racks,C33-2,)=B33,COLUMN(OFFSET(racks,C33-2,))))} -> 3 | E33: =INDEX(Stockage!$1:$1,(INT((D33+1)/3)-1)*3+2) -> 1 | F33: =INDEX(Stockage!$2:$2,Articles!D33) -> B | G33: =INDEX(Stockage!A:A,Articles!C33) -> 30 | H33: =E33&"-"&F33&"-"&G33 -> 1-B-30 | I33: =COUNTIF(magasin,B33) -> 0
C34: {=MIN(IF(magasin=B34,ROW(magasin)))} -> 3 | D34: {=MIN(IF(OFFSET(racks,C34-2,)=B34,COLUMN(OFFSET(racks,C34-2,))))} -> 3 | E34: =INDEX(Stockage!$1:$1,(INT((D34+1)/3)-1)*3+2) -> 1 | F34: =INDEX(Stockage!$2:$2,Articles!D34) -> B | G34: =INDEX(Stockage!A:A,Articles!C34) -> 30 | H34: =E34&"-"&F34&"-"&G34 -> 1-B-30 | I34: =COUNTIF(magasin,B34) -> 0
C35: {=MIN(IF(magasin=B35,ROW(magasin)))} -> 3 | D35: {=MIN(IF(OFFSET(racks,C35-2,)=B35,COLUMN(OFFSET(racks,C35-2,))))} -> 3 | E35: =INDEX(Stockage!$1:$1,(INT((D35+1)/3)-1)*3+2) -> 1 | F35: =INDEX(Stockage!$2:$2,Articles!D35) -> B | G35: =INDEX(Stockage!A:A,Articles!C35) -> 30 | H35: =E35&"-"&F35&"-"&G35 -> 1-B-30 | I35: =COUNTIF(magasin,B35) -> 0
C36: {=MIN(IF(magasin=B36,ROW(magasin)))} -> 3 | D36: {=MIN(IF(OFFSET(racks,C36-2,)=B36,COLUMN(OFFSET(racks,C36-2,))))} -> 3 | E36: =INDEX(Stockage!$1:$1,(INT((D36+1)/3)-1)*3+2) -> 1 | F36: =INDEX(Stockage!$2:$2,Articles!D36) -> B | G36: =INDEX(Stockage!A:A,Articles!C36) -> 30 | H36: =E36&"-"&F36&"-"&G36 -> 1-B-30 | I36: =COUNTIF(magasin,B36) -> 0
C37: {=MIN(IF(magasin=B37,ROW(magasin)))} -> 3 | D37: {=MIN(IF(OFFSET(racks,C37-2,)=B37,COLUMN(OFFSET(racks,C37-2,))))} -> 3 | E37: =INDEX(Stockage!$1:$1,(INT((D37+1)/3)-1)*3+2) -> 1 | F37: =INDEX(Stockage!$2:$2,Articles!D37) -> B | G37: =INDEX(Stockage!A:A,Articles!C37) -> 30 | H37: =E37&"-"&F37&"-"&G37 -> 1-B-30 | I37: =COUNTIF(magasin,B37) -> 0
C38: {=MIN(IF(magasin=B38,ROW(magasin)))} -> 3 | D38: {=MIN(IF(OFFSET(racks,C38-2,)=B38,COLUMN(OFFSET(racks,C38-2,))))} -> 3 | E38: =INDEX(Stockage!$1:$1,(INT((D38+1)/3)-1)*3+2) -> 1 | F38: =INDEX(Stockage!$2:$2,Articles!D38) -> B | G38: =INDEX(Stockage!A:A,Articles!C38) -> 30 | H38: =E38&"-"&F38&"-"&G38 -> 1-B-30 | I38: =COUNTIF(magasin,B38) -> 0
... C300: {=MIN(IF(magasin=B300,ROW(magasin)))} -> 3 | D300: {=MIN(IF(OFFSET(racks,C300-2,)=B300,COLUMN(OFFSET(racks,C300-2,))))} -> 3 | E300: =INDEX(Stockage!$1:$1,(INT((D300+1)/3)-1)*3+2) -> 1 | F300: =INDEX(Stockage!$2:$2,Articles!D300) -> B | G300: =INDEX(Stockage!A:A,Articles!C300) -> 30 | H300: =E300&"-"&F300&"-"&G300 -> 1-B-30 | I300: =COUNTIF(magasin,B300) -> 0
