Workbook
Name Opéartion_6: '01_BDD'!$G$50:$G$53
Name Opération_1: '01_BDD'!$G$27:$G$28
Name Opération_10: '01_BDD'!$G$61:$G$64
Name Opération_11: '01_BDD'!$G$65:$G$68
Name Opération_12: '01_BDD'!$G$69:$G$71
Name Opération_2: '01_BDD'!$G$29:$G$34
Name Opération_3: '01_BDD'!$G$35:$G$40
Name Opération_4: '01_BDD'!$G$41:$G$44
Name Opération_5: '01_BDD'!$G$45:$G$49
Name Opération_7: '01_BDD'!$G$54
Name Opération_8: '01_BDD'!$G$55:$G$58
Name Opération_9: '01_BDD'!$G$59:$G$60

Sheet 01_BDD
A1: 01_BASE DE DONNÉES
A3: 1.1 Vos données
A5: Saisir dans les cases roses uniquement
A7: Votre nom ou raison sociale : | B7: REL | D7: Moyens de règlement clients :
A8: Complément raison sociale : | B8: SARL au capital de 6 000 € | D8: Chèque
A9: Adresse de votre siège : | B9: 17 CHEMIN DU SANS SOUCI | D9: Virement
A10: Code postal : | B10: 13100 AIX EN PROVENCE
A11: Ville : | B11: AIX EN PROVENCE
A12: Téléphone : | B12: 06 06 06 06 06
A13: Site internet : | B13: www.REL.com
A14: Numéro Siret : | B14: 500 500 500 RCS AIX EN PROVENCE
A15: Numéro de TVA intracommunautaire : | B15: FR 17 111 111 111
A16: Taux de TVA | B16: 0.2
A20: 1.1 DPGF
A22: Saisir dans les cases roses uniquement / Ne pas Sauter de ligne / Ne pas laisser de ligne vide / Ne pas fusionner les lignes (utiliser "=" pour éviter les problèmes de mie en forme)
A23: ATTENTION - A CHAQUE NOUVELLE OPERATION => Nommer l'ensemble des lignes créer depuis la colonne B Remplacer les " espaces" par des "_" pour que les listes fonctionnent
H25: Concertation / Réunions / Visites | J25: Production | L25: Montant HT global | N25: Commentaires
A26: Mode de facturation | B26: Nom opération | C26: Nom client | D26: Affaire suivie par | E26: Adresse facturation | F26: Référence du marché | G26: Phases | H26: Forfait jour | I26: Nb de jours | J26: Forfait jour | K26: Nb de jours | L26: Par phase | M26: Global | O26: CA Céline
B27: Opération_1 | C27: Client 1 | D27: XX1 | E27: Hihgway to Hell | F27: Ref1 | G27: PHASE 1 | H27: 800 | I27: 3.5 | J27: 650 | K27: 6 | L27: =(I27*H27)+(J27*K27) -> 6700 | M27: =SUM(L27:L28) -> 11950 | O27: =L27 -> 6700
B28: =B27 -> Opération_1 | C28: =C27 -> Client 1 | D28: =D27 -> XX1 | E28: =E27 -> Hihgway to Hell | F28: =F27 -> Ref1 | G28: PHASE 2 | H28: 800 | I28: 2.5 | J28: 650 | K28: 5 | L28: =(I28*H28)+(J28*K28) -> 5250 | O28: =L28 -> 5250
B29: Opération_2 | C29: Client 2 | D29: XX2 | E29: ZIZOU | F29: Ref2 | G29: PHASE 1 | H29: 750 | I29: 3.5 | J29: 600 | K29: 4 | L29: =(I29*H29)+(J29*K29) -> 5025 | M29: =SUM(L29:L34) -> 26325 | O29: =L29 -> 5025
B30: =B29 -> Opération_2 | C30: =C29 -> Client 2 | D30: =D29 -> XX2 | E30: =E29 -> ZIZOU | F30: =F29 -> Ref2 | G30: PHASE 2 | H30: 750 | I30: =3+1 -> 4 | J30: 600 | K30: =5+2+2+0.5 -> 9.5 | L30: =(I30*H30)+(J30*K30) -> 8700 | O30: =L30 -> 8700
B31: =B30 -> Opération_2 | C31: =C30 -> Client 2 | D31: =D30 -> XX2 | E31: =E30 -> ZIZOU | F31: =F30 -> Ref2 | G31: PHASE 3 | H31: 750 | I31: 1.5 | J31: 600 | K31: =3+1+0.5+1+0.5 -> 6 | L31: =(I31*H31)+(J31*K31) -> 4725 | O31: =L31 -> 4725
B32: =B31 -> Opération_2 | C32: =C31 -> Client 2 | D32: =D31 -> XX2 | E32: =E31 -> ZIZOU | F32: =F31 -> Ref2 | G32: PHASE 4 | H32: 750 | I32: 1 | J32: 600 | K32: 3 | L32: =(I32*H32)+(J32*K32) -> 2550 | O32: =L32 -> 2550
B33: =B32 -> Opération_2 | C33: =C32 -> Client 2 | D33: =D32 -> XX2 | E33: =E32 -> ZIZOU | F33: =F32 -> Ref2 | G33: PHASE 5 | H33: 750 | I33: 1.5 | J33: 600 | K33: 4.5 | L33: =(I33*H33)+(J33*K33) -> 3825 | O33: =L33 -> 3825
B34: =B33 -> Opération_2 | C34: =C33 -> Client 2 | D34: =D33 -> XX2 | E34: =E29 -> ZIZOU | F34: =F33 -> Ref2 | G34: PHASE 6 | H34: 750 | I34: 0 | J34: 600 | K34: 2.5 | L34: =(I34*H34)+(J34*K34) -> 1500 | O34: =L34 -> 1500
B35: Opération_3 | C35: Client 3 | D35: XX3 | E35: Saucisse | G35: PHASE 1 | H35: 750 | I35: 4 | J35: 600 | K35: 5 | L35: =(I35*H35)+(J35*K35) -> 6000 | M35: =SUM(L35:L40) -> 20475 | O35: =L35 -> 6000
B36: =B35 -> Opération_3 | C36: =C35 -> Client 3 | D36: =D35 -> XX3 | E36: =E35 -> Saucisse | G36: PHASE 2 | H36: 750 | I36: 1.5 | J36: 600 | K36: 5.5 | L36: =(I36*H36)+(J36*K36) -> 4425 | O36: =L36 -> 4425
B37: =B36 -> Opération_3 | C37: =C36 -> Client 3 | D37: =D36 -> XX3 | E37: =E36 -> Saucisse | G37: PHASE 3 | H37: 750 | I37: 1.5 | J37: 600 | K37: 4.5 | L37: =(I37*H37)+(J37*K37) -> 3825 | O37: =L37 -> 3825
B38: =B37 -> Opération_3 | C38: =C37 -> Client 3 | D38: =D37 -> XX3 | E38: =E37 -> Saucisse | G38: PHASE 4 | H38: 750 | I38: 0 | J38: 600 | K38: 3.5 | L38: =(I38*H38)+(J38*K38) -> 2100 | O38: =L38 -> 2100
B39: =B38 -> Opération_3 | C39: =C38 -> Client 3 | D39: =D38 -> XX3 | E39: =E38 -> Saucisse | G39: PHASE 5 | H39: 750 | I39: 1.5 | J39: 600 | K39: 2.5 | L39: =(I39*H39)+(J39*K39) -> 2625 | O39: =L39 -> 2625
B40: =B39 -> Opération_3 | C40: =C39 -> Client 3 | D40: =D39 -> XX3 | E40: =E39 -> Saucisse | G40: PHASE 6 | H40: 750 | I40: 0 | J40: 600 | K40: 2.5 | L40: =(I40*H40)+(J40*K40) -> 1500 | O40: =L40 -> 1500
B41: Opération_4 | C41: Client 4 | D41: XX4 | E41: Tempura | G41: PHASE 1 | H41: 750 | I41: 3 | J41: 600 | K41: 4 | L41: =(I41*H41)+(J41*K41) -> 4650 | M41: =SUM(L41:L44) -> 18900 | O41: =L41 -> 4650
B42: =B41 -> Opération_4 | C42: =C41 -> Client 4 | D42: =D41 -> XX4 | E42: =E41 -> Tempura | G42: PHASE 2 | H42: 750 | I42: 2.5 | J42: 600 | K42: 8.5 | L42: =(I42*H42)+(J42*K42) -> 6975 | O42: =L42 -> 6975
B43: =B42 -> Opération_4 | C43: =C42 -> Client 4 | D43: =D42 -> XX4 | E43: =E42 -> Tempura | G43: PHASE 3 | H43: 750 | I43: 1.5 | J43: 600 | K43: 6 | L43: =(I43*H43)+(J43*K43) -> 4725 | O43: =L43 -> 4725
B44: =B43 -> Opération_4 | C44: =C43 -> Client 4 | D44: =D43 -> XX4 | E44: =E43 -> Tempura | G44: PHASE 4 | H44: 750 | I44: 1 | J44: 600 | K44: 3 | L44: =(I44*H44)+(J44*K44) -> 2550 | O44: =L44 -> 2550
B45: Opération_5 | C45: Client 5 | D45: XX5 | E45: Cendrillon | G45: PHASE 1 | H45: 750 | I45: 3 | J45: 600 | K45: 5 | L45: =(I45*H45)+(J45*K45) -> 5250 | M45: =SUM(L45:L49) -> 23325 | O45: =L45 -> 5250
B46: =B45 -> Opération_5 | C46: =C45 -> Client 5 | D46: =D45 -> XX5 | E46: =E45 -> Cendrillon | G46: PHASE 2 | H46: 750 | I46: 2.5 | J46: 600 | K46: 8.5 | L46: =(I46*H46)+(J46*K46) -> 6975 | O46: =L46 -> 6975
B47: =B46 -> Opération_5 | C47: =C46 -> Client 5 | D47: =D46 -> XX5 | E47: =E46 -> Cendrillon | G47: PHASE 3 | H47: 750 | I47: 1.5 | J47: 600 | K47: 6 | L47: =(I47*H47)+(J47*K47) -> 4725 | O47: =L47 -> 4725
B48: =B47 -> Opération_5 | C48: =C47 -> Client 5 | D48: =D47 -> XX5 | E48: =E47 -> Cendrillon | G48: PHASE 4 | H48: 750 | I48: 1 | J48: 600 | K48: 3 | L48: =(I48*H48)+(J48*K48) -> 2550 | O48: =L48 -> 2550
...

Sheet 02_Base facturation
A1: 02_BASE FACTURATION
A6: Années | B6: Mois | C6: Numéro d'ordre facture : | D6: Sélectionner un nom d'opération: | E6: Sélectionner une phase: | F6: Saisir date facture (Ctrl + touche point virgule pour la date du jour) ; obligatoire | G6: Date échéance | H6: Choisir moyen de règlement : | I6: Déjà réglé : | J6: Montant de la Phase | K6: Avancement | L6: Adresse de facturation | M6: Affaire suivie par | N6: Référence marché | O6: CA Céline | P6: CA TOTAL FACTURE
A7: Année | B7: Mois | C7: N° facture | D7: Nom d'opération | E7: Phase | F7: Date facture | G7: Date échéance | H7: Choisir moyen de règlement : | I7: Déjà réglé : | J7: Montant | K7: Avancement | L7: Adresse de facturation | M7: Affaire suivie par | N7: Référence marché | O7: Céline | P7: Total ventes HT | Q7: Camille | R7: TVA collectée | S7: Montant TTC | T7: Date paiement | U7: Montant payé
A8: =IF(ISBLANK(F8),"",YEAR(F8)) -> 2019 | B8: =IF(ISBLANK(F8),"",MONTH(F8)) -> 1 | C8: F2020_01 | D8: Opération_1 | E8: PHASE 1 | F8: 43466 | G8: =EDATE(F8,1) -> 43497 | H8: Virement | I8: 0 | J8: =SUMIFS('01_BDD'!$L:$L,'01_BDD'!$G:$G,'02_Base facturation'!E8,'01_BDD'!$B:$B,'02_Base facturation'!D8) -> 6700 | K8: 1 | L8: {=IFERROR(INDEX('01_BDD'!$E$27:$E$71,MATCH(D8&E8,'01_BDD'!$B$27:$B$71&'01_BDD'!$G$27:$G$71,0)),"")} -> Hihgway to Hell | M8: {=IFERROR(INDEX('01_BDD'!$D$27:$D$71,MATCH(D8&E8,'01_BDD'!$B$27:$B$71&'01_BDD'!$G$27:$G$71,0)),"")} -> XX1 | N8: {=IFERROR(INDEX('01_BDD'!$F$27:$F$90,MATCH(D8&E8,'01_BDD'!$B$27:$B$71&'01_BDD'!$G$27:$G$71,0)),"")} -> Ref1 | O8: =SUMIFS('01_BDD'!$O:$O,'01_BDD'!$G:$G,'02_Base facturation'!E8,'01_BDD'!$B:$B,'02_Base facturation'!D8) -> 6700 | P8: =J8*K8-J8*I8 -> 6700
A9: =IF(ISBLANK(F9),"",YEAR(F9)) -> 2019 | B9: =IF(ISBLANK(F9),"",MONTH(F9)) -> 1 | C9: F2020_02 | D9: Opération_1 | E9: PHASE 2 | F9: 43466 | G9: =EDATE(F9,1) -> 43497 | H9: Virement | I9: 0 | J9: =SUMIFS('01_BDD'!$L:$L,'01_BDD'!$G:$G,'02_Base facturation'!E9,'01_BDD'!$B:$B,'02_Base facturation'!D9) -> 5250 | K9: 1 | L9: {=IFERROR(INDEX('01_BDD'!$E$27:$E$71,MATCH(D9&E9,'01_BDD'!$B$27:$B$71&'01_BDD'!$G$27:$G$71,0)),"")} -> Hihgway to Hell | M9: {=IFERROR(INDEX('01_BDD'!$D$27:$D$71,MATCH(D9&E9,'01_BDD'!$B$27:$B$71&'01_BDD'!$G$27:$G$71,0)),"")} -> XX1 | N9: {=IFERROR(INDEX('01_BDD'!$F$27:$F$90,MATCH(D9&E9,'01_BDD'!$B$27:$B$71&'01_BDD'!$G$27:$G$71,0)),"")} -> Ref1 | O9: =SUMIFS('01_BDD'!$O:$O,'01_BDD'!$G:$G,'02_Base facturation'!E9,'01_BDD'!$B:$B,'02_Base facturation'!D9) -> 5250 | P9: =J9*K9-J9*I9 -> 5250
A10: =IF(ISBLANK(F10),"",YEAR(F10)) -> 2020 | B10: =IF(ISBLANK(F10),"",MONTH(F10)) -> 4 | C10: F2020_03 | D10: Opération_2 | E10: PHASE 1 | F10: 43924 | G10: =EDATE(F10,1) -> 43954 | H10: Virement | I10: 0 | J10: =SUMIFS('01_BDD'!$L:$L,'01_BDD'!$G:$G,'02_Base facturation'!E10,'01_BDD'!$B:$B,'02_Base facturation'!D10) -> 5025 | K10: 1 | L10: {=IFERROR(INDEX('01_BDD'!$E$27:$E$71,MATCH(D10&E10,'01_BDD'!$B$27:$B$71&'01_BDD'!$G$27:$G$71,0)),"")} -> ZIZOU | M10: {=IFERROR(INDEX('01_BDD'!$D$27:$D$71,MATCH(D10&E10,'01_BDD'!$B$27:$B$71&'01_BDD'!$G$27:$G$71,0)),"")} -> XX2 | N10: {=IFERROR(INDEX('01_BDD'!$F$27:$F$90,MATCH(D10&E10,'01_BDD'!$B$27:$B$71&'01_BDD'!$G$27:$G$71,0)),"")} -> Ref2 | O10: =SUMIFS('01_BDD'!$O:$O,'01_BDD'!$G:$G,'02_Base facturation'!E10,'01_BDD'!$B:$B,'02_Base facturation'!D10) -> 5025 | P10: =J10*K10-J10*I10 -> 5025
A11: =IF(ISBLANK(F11),"",YEAR(F11)) -> 2020 | B11: =IF(ISBLANK(F11),"",MONTH(F11)) -> 4 | C11: F2020_04 | D11: Opération_3 | E11: PHASE 1 | F11: 43925 | G11: =EDATE(F11,1) -> 43955 | H11: Virement | I11: 0 | J11: =SUMIFS('01_BDD'!$L:$L,'01_BDD'!$G:$G,'02_Base facturation'!E11,'01_BDD'!$B:$B,'02_Base facturation'!D11) -> 6000 | K11: 1 | L11: {=IFERROR(INDEX('01_BDD'!$E$27:$E$71,MATCH(D11&E11,'01_BDD'!$B$27:$B$71&'01_BDD'!$G$27:$G$71,0)),"")} -> Saucisse | M11: {=IFERROR(INDEX('01_BDD'!$D$27:$D$71,MATCH(D11&E11,'01_BDD'!$B$27:$B$71&'01_BDD'!$G$27:$G$71,0)),"")} -> XX3 | N11: {=IFERROR(INDEX('01_BDD'!$F$27:$F$90,MATCH(D11&E11,'01_BDD'!$B$27:$B$71&'01_BDD'!$G$27:$G$71,0)),"")} -> 0 | O11: =SUMIFS('01_BDD'!$O:$O,'01_BDD'!$G:$G,'02_Base facturation'!E11,'01_BDD'!$B:$B,'02_Base facturation'!D11) -> 6000 | P11: =J11*K11-J11*I11 -> 6000
A12: =IF(ISBLANK(F12),"",YEAR(F12)) -> 2019 | B12: =IF(ISBLANK(F12),"",MONTH(F12)) -> 12 | C12: F2020_05 | D12: Opération_4 | E12: PHASE 1 | F12: 43811 | G12: =EDATE(F12,1) -> 43842 | H12: Virement | I12: 0 | J12: =SUMIFS('01_BDD'!$L:$L,'01_BDD'!$G:$G,'02_Base facturation'!E12,'01_BDD'!$B:$B,'02_Base facturation'!D12) -> 4650 | K12: 1 | L12: {=IFERROR(INDEX('01_BDD'!$E$27:$E$71,MATCH(D12&E12,'01_BDD'!$B$27:$B$71&'01_BDD'!$G$27:$G$71,0)),"")} -> Tempura | M12: {=IFERROR(INDEX('01_BDD'!$D$27:$D$71,MATCH(D12&E12,'01_BDD'!$B$27:$B$71&'01_BDD'!$G$27:$G$71,0)),"")} -> XX4 | N12: {=IFERROR(INDEX('01_BDD'!$F$27:$F$90,MATCH(D12&E12,'01_BDD'!$B$27:$B$71&'01_BDD'!$G$27:$G$71,0)),"")} -> 0 | O12: =SUMIFS('01_BDD'!$O:$O,'01_BDD'!$G:$G,'02_Base facturation'!E12,'01_BDD'!$B:$B,'02_Base facturation'!D12) -> 4650 | P12: =J12*K12-J12*I12 -> 4650
A13: =IF(ISBLANK(F13),"",YEAR(F13)) -> 2019 | B13: =IF(ISBLANK(F13),"",MONTH(F13)) -> 9 | C13: F2020_06 | D13: Opéartion_6 | E13: PHASE 1 | F13: 43728 | G13: =EDATE(F13,1) -> 43758 | H13: Virement | I13: 0 | J13: =SUMIFS('01_BDD'!$L:$L,'01_BDD'!$G:$G,'02_Base facturation'!E13,'01_BDD'!$B:$B,'02_Base facturation'!D13) -> 3250 | K13: 0.3 | L13: {=IFERROR(INDEX('01_BDD'!$E$27:$E$71,MATCH(D13&E13,'01_BDD'!$B$27:$B$71&'01_BDD'!$G$27:$G$71,0)),"")} -> Hihgway to Hell | M13: {=IFERROR(INDEX('01_BDD'!$D$27:$D$71,MATCH(D13&E13,'01_BDD'!$B$27:$B$71&'01_BDD'!$G$27:$G$71,0)),"")} -> XX6 | N13: {=IFERROR(INDEX('01_BDD'!$F$27:$F$90,MATCH(D13&E13,'01_BDD'!$B$27:$B$71&'01_BDD'!$G$27:$G$71,0)),"")} -> 0 | O13: =SUMIFS('01_BDD'!$O:$O,'01_BDD'!$G:$G,'02_Base facturation'!E13,'01_BDD'!$B:$B,'02_Base facturation'!D13) -> 3250 | P13: =J13*K13-J13*I13 -> 975
A14: =IF(ISBLANK(F14),"",YEAR(F14)) -> 2020 | B14: =IF(ISBLANK(F14),"",MONTH(F14)) -> 3 | C14: F2020_07 | D14: Opéartion_6 | E14: PHASE 1 | F14: 43893 | G14: =EDATE(F14,1) -> 43924 | H14: Virement | I14: =K13 -> 0.3 | J14: =SUMIFS('01_BDD'!$L:$L,'01_BDD'!$G:$G,'02_Base facturation'!E14,'01_BDD'!$B:$B,'02_Base facturation'!D14) -> 3250 | K14: 0.7 | L14: {=IFERROR(INDEX('01_BDD'!$E$27:$E$71,MATCH(D14&E14,'01_BDD'!$B$27:$B$71&'01_BDD'!$G$27:$G$71,0)),"")} -> Hihgway to Hell | M14: {=IFERROR(INDEX('01_BDD'!$D$27:$D$71,MATCH(D14&E14,'01_BDD'!$B$27:$B$71&'01_BDD'!$G$27:$G$71,0)),"")} -> XX6 | N14: {=IFERROR(INDEX('01_BDD'!$F$27:$F$90,MATCH(D14&E14,'01_BDD'!$B$27:$B$71&'01_BDD'!$G$27:$G$71,0)),"")} -> 0 | O14: =SUMIFS('01_BDD'!$O:$O,'01_BDD'!$G:$G,'02_Base facturation'!E14,'01_BDD'!$B:$B,'02_Base facturation'!D14) -> 3250 | P14: =J14*K14-J14*I14 -> 1300
A15: =IF(ISBLANK(F15),"",YEAR(F15)) -> 2020 | B15: =IF(ISBLANK(F15),"",MONTH(F15)) -> 4 | C15: F2020_08 | D15: Opération_9 | E15: PHASE 1 | F15: 43929 | G15: =EDATE(F15,1) -> 43959 | H15: Virement | I15: 0 | J15: =SUMIFS('01_BDD'!$L:$L,'01_BDD'!$G:$G,'02_Base facturation'!E15,'01_BDD'!$B:$B,'02_Base facturation'!D15) -> 14100 | K15: 1 | L15: {=IFERROR(INDEX('01_BDD'!$E$27:$E$71,MATCH(D15&E15,'01_BDD'!$B$27:$B$71&'01_BDD'!$G$27:$G$71,0)),"")} -> hihgway to Hell | M15: {=IFERROR(INDEX('01_BDD'!$D$27:$D$71,MATCH(D15&E15,'01_BDD'!$B$27:$B$71&'01_BDD'!$G$27:$G$71,0)),"")} -> XXX | N15: {=IFERROR(INDEX('01_BDD'!$F$27:$F$90,MATCH(D15&E15,'01_BDD'!$B$27:$B$71&'01_BDD'!$G$27:$G$71,0)),"")} -> 0 | O15: =SUMIFS('01_BDD'!$O:$O,'01_BDD'!$G:$G,'02_Base facturation'!E15,'01_BDD'!$B:$B,'02_Base facturation'!D15) -> 14100 | P15: =J15*K15-J15*I15 -> 14100
A16: =IF(ISBLANK(F16),"",YEAR(F16)) -> 2020 | B16: =IF(ISBLANK(F16),"",MONTH(F16)) -> 4 | C16: F2020_09 | D16: Opération_10 | E16: PHASE 1 | F16: 43930 | G16: =EDATE(F16,1) -> 43960 | H16: Virement | I16: 0 | J16: =SUMIFS('01_BDD'!$L:$L,'01_BDD'!$G:$G,'02_Base facturation'!E16,'01_BDD'!$B:$B,'02_Base facturation'!D16) -> 6200 | K16: 1 | L16: {=IFERROR(INDEX('01_BDD'!$E$27:$E$71,MATCH(D16&E16,'01_BDD'!$B$27:$B$71&'01_BDD'!$G$27:$G$71,0)),"")} -> hihgway to Hell | M16: {=IFERROR(INDEX('01_BDD'!$D$27:$D$71,MATCH(D16&E16,'01_BDD'!$B$27:$B$71&'01_BDD'!$G$27:$G$71,0)),"")} -> XXX | N16: {=IFERROR(INDEX('01_BDD'!$F$27:$F$90,MATCH(D16&E16,'01_BDD'!$B$27:$B$71&'01_BDD'!$G$27:$G$71,0)),"")} -> 0 | O16: =SUMIFS('01_BDD'!$O:$O,'01_BDD'!$G:$G,'02_Base facturation'!E16,'01_BDD'!$B:$B,'02_Base facturation'!D16) -> 6200 | P16: =J16*K16-J16*I16 -> 6200
A17: =IF(ISBLANK(F17),"",YEAR(F17)) | B17: =IF(ISBLANK(F17),"",MONTH(F17)) | C17: F2020_10 | G17: =EDATE(F17,1) -> 31 | J17: =SUMIFS('01_BDD'!$L:$L,'01_BDD'!$G:$G,'02_Base facturation'!E17,'01_BDD'!$B:$B,'02_Base facturation'!D17) -> 0 | L17: {=IFERROR(INDEX('01_BDD'!$E$27:$E$71,MATCH(D17&E17,'01_BDD'!$B$27:$B$71&'01_BDD'!$G$27:$G$71,0)),"")} | M17: {=IFERROR(INDEX('01_BDD'!$D$27:$D$71,MATCH(D17&E17,'01_BDD'!$B$27:$B$71&'01_BDD'!$G$27:$G$71,0)),"")} | N17: {=IFERROR(INDEX('01_BDD'!$F$27:$F$90,MATCH(D17&E17,'01_BDD'!$B$27:$B$71&'01_BDD'!$G$27:$G$71,0)),"")} | O17: =SUMIFS('01_BDD'!$O:$O,'01_BDD'!$G:$G,'02_Base facturation'!E17,'01_BDD'!$B:$B,'02_Base facturation'!D17) -> 0 | P17: =J17*K17-J17*I17 -> 0
A18: =IF(ISBLANK(F18),"",YEAR(F18)) | B18: =IF(ISBLANK(F18),"",MONTH(F18)) | C18: F2020_11 | G18: =EDATE(F18,1) -> 31 | J18: =SUMIFS('01_BDD'!$L:$L,'01_BDD'!$G:$G,'02_Base facturation'!E18,'01_BDD'!$B:$B,'02_Base facturation'!D18) -> 0 | L18: {=IFERROR(INDEX('01_BDD'!$E$27:$E$71,MATCH(D18&E18,'01_BDD'!$B$27:$B$71&'01_BDD'!$G$27:$G$71,0)),"")} | M18: {=IFERROR(INDEX('01_BDD'!$D$27:$D$71,MATCH(D18&E18,'01_BDD'!$B$27:$B$71&'01_BDD'!$G$27:$G$71,0)),"")} | N18: {=IFERROR(INDEX('01_BDD'!$F$27:$F$90,MATCH(D18&E18,'01_BDD'!$B$27:$B$71&'01_BDD'!$G$27:$G$71,0)),"")} | O18: =SUMIFS('01_BDD'!$O:$O,'01_BDD'!$G:$G,'02_Base facturation'!E18,'01_BDD'!$B:$B,'02_Base facturation'!D18) -> 0 | P18: =J18*K18-J18*I18 -> 0
A19: =IF(ISBLANK(F19),"",YEAR(F19)) | B19: =IF(ISBLANK(F19),"",MONTH(F19)) | C19: F2020_12 | G19: =EDATE(F19,1) -> 31 | J19: =SUMIFS('01_BDD'!$L:$L,'01_BDD'!$G:$G,'02_Base facturation'!E19,'01_BDD'!$B:$B,'02_Base facturation'!D19) -> 0 | L19: {=IFERROR(INDEX('01_BDD'!$E$27:$E$71,MATCH(D19&E19,'01_BDD'!$B$27:$B$71&'01_BDD'!$G$27:$G$71,0)),"")} | M19: {=IFERROR(INDEX('01_BDD'!$D$27:$D$71,MATCH(D19&E19,'01_BDD'!$B$27:$B$71&'01_BDD'!$G$27:$G$71,0)),"")} | N19: {=IFERROR(INDEX('01_BDD'!$F$27:$F$90,MATCH(D19&E19,'01_BDD'!$B$27:$B$71&'01_BDD'!$G$27:$G$71,0)),"")} | O19: =SUMIFS('01_BDD'!$O:$O,'01_BDD'!$G:$G,'02_Base facturation'!E19,'01_BDD'!$B:$B,'02_Base facturation'!D19) -> 0 | P19: =J19*K19-J19*I19 -> 0
A20: =IF(ISBLANK(F20),"",YEAR(F20)) | B20: =IF(ISBLANK(F20),"",MONTH(F20)) | C20: F2020_13 | G20: =EDATE(F20,1) -> 31 | J20: =SUMIFS('01_BDD'!$L:$L,'01_BDD'!$G:$G,'02_Base facturation'!E20,'01_BDD'!$B:$B,'02_Base facturation'!D20) -> 0 | L20: {=IFERROR(INDEX('01_BDD'!$E$27:$E$71,MATCH(D20&E20,'01_BDD'!$B$27:$B$71&'01_BDD'!$G$27:$G$71,0)),"")} | M20: {=IFERROR(INDEX('01_BDD'!$D$27:$D$71,MATCH(D20&E20,'01_BDD'!$B$27:$B$71&'01_BDD'!$G$27:$G$71,0)),"")} | N20: {=IFERROR(INDEX('01_BDD'!$F$27:$F$90,MATCH(D20&E20,'01_BDD'!$B$27:$B$71&'01_BDD'!$G$27:$G$71,0)),"")} | O20: =SUMIFS('01_BDD'!$O:$O,'01_BDD'!$G:$G,'02_Base facturation'!E20,'01_BDD'!$B:$B,'02_Base facturation'!D20) -> 0 | P20: =J20*K20-J20*I20 -> 0
A21: =IF(ISBLANK(F21),"",YEAR(F21)) | B21: =IF(ISBLANK(F21),"",MONTH(F21)) | C21: F2020_14 | G21: =EDATE(F21,1) -> 31 | J21: =SUMIFS('01_BDD'!$L:$L,'01_BDD'!$G:$G,'02_Base facturation'!E21,'01_BDD'!$B:$B,'02_Base facturation'!D21) -> 0 | L21: {=IFERROR(INDEX('01_BDD'!$E$27:$E$71,MATCH(D21&E21,'01_BDD'!$B$27:$B$71&'01_BDD'!$G$27:$G$71,0)),"")} | M21: {=IFERROR(INDEX('01_BDD'!$D$27:$D$71,MATCH(D21&E21,'01_BDD'!$B$27:$B$71&'01_BDD'!$G$27:$G$71,0)),"")} | N21: {=IFERROR(INDEX('01_BDD'!$F$27:$F$90,MATCH(D21&E21,'01_BDD'!$B$27:$B$71&'01_BDD'!$G$27:$G$71,0)),"")} | O21: =SUMIFS('01_BDD'!$O:$O,'01_BDD'!$G:$G,'02_Base facturation'!E21,'01_BDD'!$B:$B,'02_Base facturation'!D21) -> 0 | P21: =J21*K21-J21*I21 -> 0
A22: =IF(ISBLANK(F22),"",YEAR(F22)) | B22: =IF(ISBLANK(F22),"",MONTH(F22)) | C22: F2020_15 | G22: =EDATE(F22,1) -> 31 | J22: =SUMIFS('01_BDD'!$L:$L,'01_BDD'!$G:$G,'02_Base facturation'!E22,'01_BDD'!$B:$B,'02_Base facturation'!D22) -> 0 | L22: {=IFERROR(INDEX('01_BDD'!$E$27:$E$71,MATCH(D22&E22,'01_BDD'!$B$27:$B$71&'01_BDD'!$G$27:$G$71,0)),"")} | M22: {=IFERROR(INDEX('01_BDD'!$D$27:$D$71,MATCH(D22&E22,'01_BDD'!$B$27:$B$71&'01_BDD'!$G$27:$G$71,0)),"")} | N22: {=IFERROR(INDEX('01_BDD'!$F$27:$F$90,MATCH(D22&E22,'01_BDD'!$B$27:$B$71&'01_BDD'!$G$27:$G$71,0)),"")} | O22: =SUMIFS('01_BDD'!$O:$O,'01_BDD'!$G:$G,'02_Base facturation'!E22,'01_BDD'!$B:$B,'02_Base facturation'!D22) -> 0 | P22: =J22*K22-J22*I22 -> 0
A23: =IF(ISBLANK(F23),"",YEAR(F23)) | B23: =IF(ISBLANK(F23),"",MONTH(F23)) | C23: F2020_16 | G23: =EDATE(F23,1) -> 31 | J23: =SUMIFS('01_BDD'!$L:$L,'01_BDD'!$G:$G,'02_Base facturation'!E23,'01_BDD'!$B:$B,'02_Base facturation'!D23) -> 0 | L23: {=IFERROR(INDEX('01_BDD'!$E$27:$E$71,MATCH(D23&E23,'01_BDD'!$B$27:$B$71&'01_BDD'!$G$27:$G$71,0)),"")} | M23: {=IFERROR(INDEX('01_BDD'!$D$27:$D$71,MATCH(D23&E23,'01_BDD'!$B$27:$B$71&'01_BDD'!$G$27:$G$71,0)),"")} | N23: {=IFERROR(INDEX('01_BDD'!$F$27:$F$90,MATCH(D23&E23,'01_BDD'!$B$27:$B$71&'01_BDD'!$G$27:$G$71,0)),"")} | O23: =SUMIFS('01_BDD'!$O:$O,'01_BDD'!$G:$G,'02_Base facturation'!E23,'01_BDD'!$B:$B,'02_Base facturation'!D23) -> 0 | P23: =J23*K23-J23*I23 -> 0
A24: =IF(ISBLANK(F24),"",YEAR(F24)) | B24: =IF(ISBLANK(F24),"",MONTH(F24)) | C24: F2020_17 | G24: =EDATE(F24,1) -> 31 | J24: =SUMIFS('01_BDD'!$L:$L,'01_BDD'!$G:$G,'02_Base facturation'!E24,'01_BDD'!$B:$B,'02_Base facturation'!D24) -> 0 | L24: {=IFERROR(INDEX('01_BDD'!$E$27:$E$71,MATCH(D24&E24,'01_BDD'!$B$27:$B$71&'01_BDD'!$G$27:$G$71,0)),"")} | M24: {=IFERROR(INDEX('01_BDD'!$D$27:$D$71,MATCH(D24&E24,'01_BDD'!$B$27:$B$71&'01_BDD'!$G$27:$G$71,0)),"")} | N24: {=IFERROR(INDEX('01_BDD'!$F$27:$F$90,MATCH(D24&E24,'01_BDD'!$B$27:$B$71&'01_BDD'!$G$27:$G$71,0)),"")} | O24: =SUMIFS('01_BDD'!$O:$O,'01_BDD'!$G:$G,'02_Base facturation'!E24,'01_BDD'!$B:$B,'02_Base facturation'!D24) -> 0 | P24: =J24*K24-J24*I24 -> 0
A25: =IF(ISBLANK(F25),"",YEAR(F25)) | B25: =IF(ISBLANK(F25),"",MONTH(F25)) | C25: F2020_18 | G25: =EDATE(F25,1) -> 31 | J25: =SUMIFS('01_BDD'!$L:$L,'01_BDD'!$G:$G,'02_Base facturation'!E25,'01_BDD'!$B:$B,'02_Base facturation'!D25) -> 0 | L25: {=IFERROR(INDEX('01_BDD'!$E$27:$E$71,MATCH(D25&E25,'01_BDD'!$B$27:$B$71&'01_BDD'!$G$27:$G$71,0)),"")} | M25: {=IFERROR(INDEX('01_BDD'!$D$27:$D$71,MATCH(D25&E25,'01_BDD'!$B$27:$B$71&'01_BDD'!$G$27:$G$71,0)),"")} | N25: {=IFERROR(INDEX('01_BDD'!$F$27:$F$90,MATCH(D25&E25,'01_BDD'!$B$27:$B$71&'01_BDD'!$G$27:$G$71,0)),"")} | O25: =SUMIFS('01_BDD'!$O:$O,'01_BDD'!$G:$G,'02_Base facturation'!E25,'01_BDD'!$B:$B,'02_Base facturation'!D25) -> 0 | P25: =J25*K25-J25*I25 -> 0
A26: =IF(ISBLANK(F26),"",YEAR(F26)) | B26: =IF(ISBLANK(F26),"",MONTH(F26)) | C26: F2020_19 | G26: =EDATE(F26,1) -> 31 | J26: =SUMIFS('01_BDD'!$L:$L,'01_BDD'!$G:$G,'02_Base facturation'!E26,'01_BDD'!$B:$B,'02_Base facturation'!D26) -> 0 | L26: {=IFERROR(INDEX('01_BDD'!$E$27:$E$71,MATCH(D26&E26,'01_BDD'!$B$27:$B$71&'01_BDD'!$G$27:$G$71,0)),"")} | M26: {=IFERROR(INDEX('01_BDD'!$D$27:$D$71,MATCH(D26&E26,'01_BDD'!$B$27:$B$71&'01_BDD'!$G$27:$G$71,0)),"")} | N26: {=IFERROR(INDEX('01_BDD'!$F$27:$F$90,MATCH(D26&E26,'01_BDD'!$B$27:$B$71&'01_BDD'!$G$27:$G$71,0)),"")} | O26: =SUMIFS('01_BDD'!$O:$O,'01_BDD'!$G:$G,'02_Base facturation'!E26,'01_BDD'!$B:$B,'02_Base facturation'!D26) -> 0 | P26: =J26*K26-J26*I26 -> 0
A27: =IF(ISBLANK(F27),"",YEAR(F27)) | B27: =IF(ISBLANK(F27),"",MONTH(F27)) | C27: F2020_20 | G27: =EDATE(F27,1) -> 31 | J27: =SUMIFS('01_BDD'!$L:$L,'01_BDD'!$G:$G,'02_Base facturation'!E27,'01_BDD'!$B:$B,'02_Base facturation'!D27) -> 0 | L27: {=IFERROR(INDEX('01_BDD'!$E$27:$E$71,MATCH(D27&E27,'01_BDD'!$B$27:$B$71&'01_BDD'!$G$27:$G$71,0)),"")} | M27: {=IFERROR(INDEX('01_BDD'!$D$27:$D$71,MATCH(D27&E27,'01_BDD'!$B$27:$B$71&'01_BDD'!$G$27:$G$71,0)),"")} | N27: {=IFERROR(INDEX('01_BDD'!$F$27:$F$90,MATCH(D27&E27,'01_BDD'!$B$27:$B$71&'01_BDD'!$G$27:$G$71,0)),"")} | O27: =SUMIFS('01_BDD'!$O:$O,'01_BDD'!$G:$G,'02_Base facturation'!E27,'01_BDD'!$B:$B,'02_Base facturation'!D27) -> 0 | P27: =J27*K27-J27*I27 -> 0
A28: =IF(ISBLANK(F28),"",YEAR(F28)) | B28: =IF(ISBLANK(F28),"",MONTH(F28)) | C28: F2020_21 | G28: =EDATE(F28,1) -> 31 | J28: =SUMIFS('01_BDD'!$L:$L,'01_BDD'!$G:$G,'02_Base facturation'!E28,'01_BDD'!$B:$B,'02_Base facturation'!D28) -> 0 | L28: {=IFERROR(INDEX('01_BDD'!$E$27:$E$71,MATCH(D28&E28,'01_BDD'!$B$27:$B$71&'01_BDD'!$G$27:$G$71,0)),"")} | M28: {=IFERROR(INDEX('01_BDD'!$D$27:$D$71,MATCH(D28&E28,'01_BDD'!$B$27:$B$71&'01_BDD'!$G$27:$G$71,0)),"")} | N28: {=IFERROR(INDEX('01_BDD'!$F$27:$F$90,MATCH(D28&E28,'01_BDD'!$B$27:$B$71&'01_BDD'!$G$27:$G$71,0)),"")} | O28: =SUMIFS('01_BDD'!$O:$O,'01_BDD'!$G:$G,'02_Base facturation'!E28,'01_BDD'!$B:$B,'02_Base facturation'!D28) -> 0 | P28: =J28*K28-J28*I28 -> 0
... A57: =IF(ISBLANK(F57),"",YEAR(F57)) | B57: =IF(ISBLANK(F57),"",MONTH(F57)) | C57: F2020_50 | G57: =EDATE(F57,1) -> 31 | J57: =SUMIFS('01_BDD'!$L:$L,'01_BDD'!$G:$G,'02_Base facturation'!E57,'01_BDD'!$B:$B,'02_Base facturation'!D57) -> 0 | L57: {=IFERROR(INDEX('01_BDD'!$E$27:$E$71,MATCH(D57&E57,'01_BDD'!$B$27:$B$71&'01_BDD'!$G$27:$G$71,0)),"")} | M57: {=IFERROR(INDEX('01_BDD'!$D$27:$D$71,MATCH(D57&E57,'01_BDD'!$B$27:$B$71&'01_BDD'!$G$27:$G$71,0)),"")} | N57: {=IFERROR(INDEX('01_BDD'!$F$27:$F$90,MATCH(D57&E57,'01_BDD'!$B$27:$B$71&'01_BDD'!$G$27:$G$71,0)),"")} | O57: =SUMIFS('01_BDD'!$O:$O,'01_BDD'!$G:$G,'02_Base facturation'!E57,'01_BDD'!$B:$B,'02_Base facturation'!D57) -> 0 | P57: =J57*K57-J57*I57 -> 0

Sheet 03_Générateur_FACTURE
B1: 03_GÉNÉRATEUR DE FACTURE
E3: Sélectionnez le numéro de facture : | H3: F2020_01
E7: FACTURE N° | G7: =H3 -> F2020_01 | MJ7: A FAIRE | MK7: CHAQUE FACTURE DOIT REPRENDRE TOUT LE MARCHÉ EN 01_BDD
C8: LOGO | F8: Date : | G8: =VLOOKUP($H$3,'02_Base facturation'!C8:O57,4,0) -> 43466
C11: =IF(ISBLANK('01_BDD'!B7),"",'01_BDD'!B7) -> REL | F11: =VLOOKUP($H$3,'02_Base facturation'!C8:O57,10,0) -> Hihgway to Hell
C12: =IF(ISBLANK('01_BDD'!B8),"",'01_BDD'!B8) -> SARL au capital de 6 000 €
C13: =IF(ISBLANK('01_BDD'!B9),"",'01_BDD'!B9) -> 17 CHEMIN DU SANS SOUCI
C14: =IF(ISBLANK('01_BDD'!B10),"",'01_BDD'!B10) -> 13100 AIX EN PROVENCE
C15: ="Téléphone : "&IF(ISBLANK('01_BDD'!B12),"",'01_BDD'!B12) -> Téléphone : 06 06 06 06 06
C16: ="Site : "&IF(ISBLANK('01_BDD'!B13),"",'01_BDD'!B13) -> Site : www.REL.com
C17: =IF(ISBLANK('01_BDD'!B14),"","N° TVA : "&'01_BDD'!B14) -> N° TVA : 500 500 500 RCS AIX EN PROVENCE | E17: Votre ref: | F17: =VLOOKUP($H$3,'02_Base facturation'!C8:O57,11,0) -> XX1
E18: Notre ref: | F18: =H3 -> F2020_01
C21: Objet du contrat: | D21: =VLOOKUP($H$3,'02_Base facturation'!C8:O57,2,0) -> Opération_1
A23: 5 | C23: DPGF
C25: A FAIRE | D25: REPRENDRE TOUT LE MARCHÉ 01_BDD
C26: INDIQUER LES ACOMPTES DÉJÀ FACTURÉS
C32: Phase | E32: Coût de la phase H.T | F32: Avancement | G32: Coût de la phase ajusté H.T | H32: TVA
C34: =VLOOKUP($H$3,'02_Base facturation'!C8:O57,3,0) -> PHASE 1 | E34: =VLOOKUP($H$3,'02_Base facturation'!C8:O57,8,0) -> 6700 | F34: =VLOOKUP($H$3,'02_Base facturation'!C8:O57,9,0) -> 1 | G34: =E34*F34 -> 6700 | H34: ='01_BDD'!B16 -> 0.2
F36: € HT | G36: =SUM(G26:G34) -> 6700
F38: =IF(ISBLANK(HLOOKUP($H$3,#REF!,7,0)),"","Déjà réglé :") -> Déjà réglé : | G38: =VLOOKUP($H$3,'02_Base facturation'!C8:O57,6,0) -> Virement
C40: Échéance : | D40: =VLOOKUP($H$3,'02_Base facturation'!C8:O57,5,0) -> 43497 | E40: TOTAL € | F40: HT | G40: =IF(ISERROR(G36-G38*G36),G36,(G36-G38*G36)) -> 6700
C41: Règlement : | D41: =VLOOKUP($H$3,'02_Base facturation'!C8:O57,6,0) -> Virement | F41: TTC | G41: =G40+G43 -> 8040
F43: Total TVA : | G43: =G36*$H$34 -> 1340
C53: RIB
C59: =IF(ISERROR(VLOOKUP($U59,$P$23:$T$75,2,0)),"",VLOOKUP($U59,$P$23:$T$75,2,0)) | E59: =IF(ISERROR(VLOOKUP(C59,#REF!,3,0)),"",VLOOKUP(C59,#REF!,3,0)) | F59: =IF(ISERROR(VLOOKUP($U59,$P$23:$T$75,3,0)),"",VLOOKUP($U59,$P$23:$T$75,3,0)) | G59: =IF(ISERROR(E59*F59),"",E59*F59) | H59: =IF(ISERROR(VLOOKUP($U59,$P$23:$T$75,4,0)),"",VLOOKUP($U59,$P$23:$T$75,4,0))
C60: =IF(ISERROR(VLOOKUP($U60,$P$23:$T$75,2,0)),"",VLOOKUP($U60,$P$23:$T$75,2,0)) | E60: =IF(ISERROR(VLOOKUP(C60,#REF!,3,0)),"",VLOOKUP(C60,#REF!,3,0)) | F60: =IF(ISERROR(VLOOKUP($U60,$P$23:$T$75,3,0)),"",VLOOKUP($U60,$P$23:$T$75,3,0)) | G60: =IF(ISERROR(E60*F60),"",E60*F60) | H60: =IF(ISERROR(VLOOKUP($U60,$P$23:$T$75,4,0)),"",VLOOKUP($U60,$P$23:$T$75,4,0))
C61: =IF(ISERROR(VLOOKUP($U61,$P$23:$T$75,2,0)),"",VLOOKUP($U61,$P$23:$T$75,2,0)) | E61: =IF(ISERROR(VLOOKUP(C61,#REF!,3,0)),"",VLOOKUP(C61,#REF!,3,0)) | F61: =IF(ISERROR(VLOOKUP($U61,$P$23:$T$75,3,0)),"",VLOOKUP($U61,$P$23:$T$75,3,0)) | G61: =IF(ISERROR(E61*F61),"",E61*F61) | H61: =IF(ISERROR(VLOOKUP($U61,$P$23:$T$75,4,0)),"",VLOOKUP($U61,$P$23:$T$75,4,0))
D63: A votre aimable règlement
C74: contrôle : | D74: =IF(G40=HLOOKUP(H3,#REF!,20,0),"ok","erreur") -> #REF!

Sheet Chiffre affaires
A1: =#REF! -> #REF! | B1: =#REF! -> #REF! | C1: =#REF! -> #REF! | D1: =#REF! -> #REF! | E1: =#REF! -> #REF! | F1: =#REF! -> #REF! | G1: =#REF! -> #REF! | H1: =#REF! -> #REF! | ... ALL1: =#REF! -> #REF!
A2: =#REF! -> #REF! | B2: =#REF! -> #REF! | C2: =#REF! -> #REF! | D2: =#REF! -> #REF! | E2: =#REF! -> #REF! | F2: =#REF! -> #REF! | G2: =#REF! -> #REF! | H2: =#REF! -> #REF! | ... ALL2: =#REF! -> #REF!
B3: Chiffre d'affaires
B4: Ceci est un onglet de consultation, pas de modification possible
C6: Chiffre d'affaires
A7: 1 | B7: JANVIER | C7: =SUMIF($A$1:$ALL$2,A7,$A$2:$ALL$2) -> 0
A8: 2 | B8: FÉVRIER | C8: =SUMIF($A$1:$ALL$2,A8,$A$2:$ALL$2) -> 0
A9: 3 | B9: MARS | C9: =SUMIF($A$1:$ALL$2,A9,$A$2:$ALL$2) -> 0
A10: 4 | B10: AVRIL | C10: =SUMIF($A$1:$ALL$2,A10,$A$2:$ALL$2) -> 0
A11: 5 | B11: MAI | C11: =SUMIF($A$1:$ALL$2,A11,$A$2:$ALL$2) -> 0
A12: 6 | B12: JUIN | C12: =SUMIF($A$1:$ALL$2,A12,$A$2:$ALL$2) -> 0
A13: 7 | B13: JUILLET | C13: =SUMIF($A$1:$ALL$2,A13,$A$2:$ALL$2) -> 0
A14: 8 | B14: AOÛT | C14: =SUMIF($A$1:$ALL$2,A14,$A$2:$ALL$2) -> 0
A15: 9 | B15: SEPTEMBRE | C15: =SUMIF($A$1:$ALL$2,A15,$A$2:$ALL$2) -> 0
A16: 10 | B16: OCTOBRE | C16: =SUMIF($A$1:$ALL$2,A16,$A$2:$ALL$2) -> 0
A17: 11 | B17: NOVEMBRE | C17: =SUMIF($A$1:$ALL$2,A17,$A$2:$ALL$2) -> 0
A18: 12 | B18: DÉCEMBRE | C18: =SUMIF($A$1:$ALL$2,A18,$A$2:$ALL$2) -> 0
B20: TOTAL | C20: =SUM(C7:C18) -> 0

Sheet 04_Journal des Ventes
A1: 04_JOURNAL DES VENTES
B3: Année N-1: | C3: =C4-1 -> 2019 | P3: Pour chaque tableau de chaque mois de chaque année, aller chercher l'information dans 02_Base de facturation en recherchant le mois et l'année et faire en sorte que les informations se succèdent ligne / ligne (incrémentation)
B4: Année N: | C4: 2020
B5: Année N+1: | C5: =C4+1 -> 2021
V6: Année | W6: Mois
B7: Année: | C7: 2019 | P7: Année: | Q7: =C3 -> 2019 | S7: Période début | T7: =DATE(Q7,1,1) -> 43466 | V7: =Q7 -> 2019 | W7: =R8 -> 1 | AD7: Année: | AE7: =Q7 -> 2019 | AG7: Période début | AH7: =EDATE(T7,1) -> 43497 | AR7: Année: | AS7: =AE7 -> 2019 | AU7: Période début | AV7: =EDATE(AH7,1) -> 43525 | BF7: Année: | BG7: =AS7 -> 2019 | BI7: Période début | BJ7: =EDATE(AV7,1) -> 43556 | BT7: Année: | BU7: =BG7 -> 2019 | BW7: Période début | BX7: =EDATE(BJ7,1) -> 43586 | CH7: Année: | CI7: =BU7 -> 2019 | CK7: Période début | CL7: =EDATE(BX7,1) -> 43617 | CV7: Année: | CW7: =CI7 -> 2019 | CY7: Période début | CZ7: =EDATE(CL7,1) -> 43647 | DJ7: Année: | DK7: =CW7 -> 2019 | DM7: Période début | DN7: =EDATE(CZ7,1) -> 43678 | DX7: Année: | DY7: =DK7 -> 2019 | EA7: Période début | EB7: =EDATE(DN7,1) -> 43709 | EL7: Année: | EM7: =DY7 -> 2019 | EO7: Période début | EP7: =EDATE(EB7,1) -> 43739 | EZ7: Année: | FA7: =EM7 -> 2019 | FC7: Période début | FD7: =EDATE(EP7,1) -> 43770 | FN7: Année: | FO7: =FA7 -> 2019 | FQ7: Période début | FR7: =EDATE(FD7,1) -> 43800 | GB7: Année: | GD7: =FO7 -> 2019
B8: Mois: | C8: Janvier | P8: Mois: | Q8: =TEXT(T7,"mmmm") -> janvier | R8: 1 | S8: Période fin | T8: =T7+30 -> 43496 | AD8: Mois: | AE8: =TEXT(AH7,"mmmm") -> février | AF8: =R8+1 -> 2 | AG8: Période fin | AH8: =EDATE($T$8,R8) -> 43524 | AR8: Mois: | AS8: =TEXT(AV7,"mmmm") -> mars | AT8: =AF8+1 -> 3 | AU8: Période fin | AV8: =EDATE($T$8,AF8) -> 43555 | BF8: Mois: | BG8: =TEXT(BJ7,"mmmm") -> avril | BH8: =AT8+1 -> 4 | BI8: Période fin | BJ8: =EDATE($T$8,AT8) -> 43585 | BT8: Mois: | BU8: =TEXT(BX7,"mmmm") -> mai | BV8: =BH8+1 -> 5 | BW8: Période fin | BX8: =EDATE($T$8,BH8) -> 43616 | CH8: Mois: | CI8: =TEXT(CL7,"mmmm") -> juin | CJ8: =BV8+1 -> 6 | CK8: Période fin | CL8: =EDATE($T$8,BV8) -> 43646 | CV8: Mois: | CW8: =TEXT(CZ7,"mmmm") -> juillet | CX8: =CJ8+1 -> 7 | CY8: Période fin | CZ8: =EDATE($T$8,CJ8) -> 43677 | DJ8: Mois: | DK8: =TEXT(DN7,"mmmm") -> août | DL8: =CX8+1 -> 8 | DM8: Période fin | DN8: =EDATE($T$8,CX8) -> 43708 | DX8: Mois: | DY8: =TEXT(EB7,"mmmm") -> septembre | DZ8: =DL8+1 -> 9 | EA8: Période fin | EB8: =EDATE($T$8,DL8) -> 43738 | EL8: Mois: | EM8: =TEXT(EP7,"mmmm") -> octobre | EN8: =DZ8+1 -> 10 | EO8: Période fin | EP8: =EDATE($T$8,DZ8) -> 43769 | EZ8: Mois: | FA8: =TEXT(FD7,"mmmm") -> novembre | FB8: =EN8+1 -> 11 | FC8: Période fin | FD8: =EDATE($T$8,EN8) -> 43799 | FN8: Mois: | FO8: =TEXT(FR7,"mmmm") -> décembre | FP8: =FB8+1 -> 12 | FQ8: Période fin | FR8: =EDATE($T$8,FB8) -> 43830 | GB8: Mois: | GD8: Global | GE8: =FP8+1 -> 13
H9: Répartition des ventes HT | V9: Répartition des ventes HT | AD9: Date facture | AE9: Nom d'opération | AF9: Phase | AG9: Montant | AH9: N° facture | AI9: Total ventes HT | AJ9: Répartition des ventes HT | AL9: TVA collectée | AM9: Montant TTC | AN9: Date échéance | AO9: Date paiement | AP9: Montant payé | AR9: Date facture | AS9: Nom d'opération | AT9: Phase | AU9: Montant | AV9: N° facture | AW9: Total ventes HT | AX9: Répartition des ventes HT | AZ9: TVA collectée | BA9: Montant TTC | BB9: Date échéance | BC9: Date paiement | BD9: Montant payé | BF9: Date facture | BG9: Nom d'opération | BH9: Phase | BI9: Montant | BJ9: N° facture | BK9: Total ventes HT | BL9: Répartition des ventes HT | BN9: TVA collectée | BO9: Montant TTC | BP9: Date échéance | BQ9: Date paiement | BR9: Montant payé | BT9: Date facture | BU9: Nom d'opération | BV9: Phase | BW9: Montant | BX9: N° facture | BY9: Total ventes HT | BZ9: Répartition des ventes HT | CB9: TVA collectée | CC9: Montant TTC | CD9: Date échéance | CE9: Date paiement | CF9: Montant payé | CH9: Date facture | CI9: Nom d'opération | CJ9: Phase | CK9: Montant | CL9: N° facture | CM9: Total ventes HT | CN9: Répartition des ventes HT | CP9: TVA collectée | CQ9: Montant TTC | CR9: Date échéance | CS9: Date paiement | CT9: Montant payé | CV9: Date facture | CW9: Nom d'opération | CX9: Phase | CY9: Montant | CZ9: N° facture | DA9: Total ventes HT | DB9: Répartition des ventes HT | DD9: TVA collectée | DE9: Montant TTC | DF9: Date échéance | DG9: Date paiement | DH9: Montant payé | DJ9: Date facture | DK9: Nom d'opération | DL9: Phase | DM9: Montant | DN9: N° facture | DO9: Total ventes HT | DP9: Répartition des ventes HT | DR9: TVA collectée | DS9: Montant TTC | DT9: Date échéance | DU9: Date paiement | DV9: Montant payé | DX9: Date facture | DY9: Nom d'opération | DZ9: Phase | EA9: Montant | EB9: N° facture | EC9: Total ventes HT | ED9: Répartition des ventes HT | EF9: TVA collectée | EG9: Montant TTC | EH9: Date échéance | EI9: Date paiement | EJ9: Montant payé | EL9: Date facture | EM9: Nom d'opération | EN9: Phase | EO9: Montant | EP9: N° facture | EQ9: Total ventes HT | ER9: Répartition des ventes HT | ET9: TVA collectée | EU9: Montant TTC | EV9: Date échéance | EW9: Date paiement | EX9: Montant payé | EZ9: Date facture | FA9: Nom d'opération | FB9: Phase | FC9: Montant | FD9: N° facture | FE9: Total ventes HT | FF9: Répartition des ventes HT | FH9: TVA collectée | FI9: Montant TTC | FJ9: Date échéance | FK9: Date paiement | FL9: Montant payé | FN9: Date facture | FO9: Nom d'opération | FP9: Phase | FQ9: Montant | FR9: N° facture | FS9: Total ventes HT | FT9: Répartition des ventes HT | FV9: TVA collectée | FW9: Montant TTC | FX9: Date échéance | FY9: Date paiement | FZ9: Montant payé | GB9: Mois: | GC9: Nom d'opération | GD9: Montant | GE9: N° facture | GF9: Total ventes HT | GG9: Répartition des ventes HT | GI9: TVA collectée | GJ9: Montant TTC | GK9: Date échéance | GL9: Date paiement | GM9: Montant payé
B10: Date facture | C10: Nom d'opération | D10: Phase | E10: Montant | F10: N° facture | G10: Total ventes HT | H10: Céline | I10: Camille | J10: TVA collectée | K10: Montant TTC | L10: Date échéance | M10: Date paiement | N10: Montant payé | P10: Date facture | Q10: Nom d'opération | R10: Phase | S10: Montant | T10: N° facture | U10: Total ventes HT | V10: Céline | W10: Camille | X10: TVA collectée | Y10: Montant TTC | Z10: Date échéance | AA10: Date paiement | AB10: Montant payé | AJ10: Céline | AK10: Camille | AX10: Céline | AY10: Camille | BL10: Céline | BM10: Camille | BZ10: Céline | CA10: Camille | CN10: Céline | CO10: Camille | DB10: Céline | DC10: Camille | DP10: Céline | DQ10: Camille | ED10: Céline | EE10: Camille | ER10: Céline | ES10: Camille | FF10: Céline | FG10: Camille | FT10: Céline | FU10: Camille | GG10: Céline | GH10: Camille
P11: 43466 | Q11: Opération_1 | R11: PHASE 1 | S11: 6700 | T11: F2020_01 | U11: 6700 | V11: 6700 | Z11: 43497 | GB11: =Q8 -> janvier | GF11: =U26 -> 0 | GG11: =V26 -> 0 | GH11: =W26 -> 0 | GI11: =X26 -> 0 | GJ11: =Y26 -> 0 | GM11: =AB26 -> 0
P12: 43466 | Q12: Opération_1 | R12: PHASE 2 | S12: 5250 | T12: F2020_02 | U12: 5250 | V12: 5250 | Z12: 43497 | GB12: =AE8 -> février | GF12: =AI26 -> 0 | GG12: =AJ26 -> 0 | GH12: =AK26 -> 0 | GI12: =AL26 -> 0 | GJ12: =AM26 -> 0 | GM12: =AP26 -> 0
GB13: =AS8 -> mars | GF13: =AW26 -> 0 | GG13: =AX26 -> 0 | GH13: =AY26 -> 0 | GI13: =AZ26 -> 0 | GJ13: =BA26 -> 0 | GM13: =BD26 -> 0
GB14: =BG8 -> avril | GF14: =BK26 -> 0 | GG14: =BL26 -> 0 | GH14: =BM26 -> 0 | GI14: =BN26 -> 0 | GJ14: =BO26 -> 0 | GM14: =BR26 -> 0
GB15: =BU8 -> mai | GF15: =BY26 -> 0 | GG15: =BZ26 -> 0 | GH15: =CA26 -> 0 | GI15: =CB26 -> 0 | GJ15: =CC26 -> 0 | GM15: =CF26 -> 0
GB16: =CI8 -> juin | GF16: =CM26 -> 0 | GG16: =CN26 -> 0 | GH16: =CO26 -> 0 | GI16: =CP26 -> 0 | GJ16: =CQ26 -> 0 | GM16: =CT26 -> 0
GB17: =CW8 -> juillet | GF17: =DA26 -> 0 | GG17: =DB26 -> 0 | GH17: =DC26 -> 0 | GI17: =DD26 -> 0 | GJ17: =DE26 -> 0 | GM17: =DH26 -> 0
GB18: =DK8 -> août | GF18: =DO26 -> 0 | GG18: =DP26 -> 0 | GH18: =DQ26 -> 0 | GI18: =DR26 -> 0 | GJ18: =DS26 -> 0 | GM18: =DV26 -> 0
GB19: =DY8 -> septembre | GF19: =EC26 -> 0 | GG19: =ED26 -> 0 | GH19: =EE26 -> 0 | GI19: =EF26 -> 0 | GJ19: =EG26 -> 0 | GM19: =EJ26 -> 0
GB20: =EM8 -> octobre | GF20: =EQ26 -> 0 | GG20: =ER26 -> 0 | GH20: =ES26 -> 0 | GI20: =ET26 -> 0 | GJ20: =EU26 -> 0 | GM20: =EX26 -> 0
GB21: =FA8 -> novembre | GF21: =FE26 -> 0 | GG21: =FF$26 -> 0 | GH21: =FG26 -> 0 | GI21: =FH26 -> 0 | GJ21: =FI26 -> 0 | GM21: =FL26 -> 0
GB22: =FO8 -> décembre | GF22: =FS26 -> 0 | GG22: =FT26 -> 0 | GH22: =FU26 -> 0 | GI22: =FV26 -> 0 | GJ22: =FW26 -> 0 | GM22: =FZ26 -> 0
B26: TOTAL PÉRIODE | G26: =SUM(G11:G25) -> 0 | H26: =SUM(H11:H25) -> 0 | I26: =SUM(I11:I25) -> 0 | J26: =SUM(J11:J25) -> 0 | K26: =SUM(K11:K25) -> 0 | N26: =SUM(N11:N25) -> 0 | AD26: TOTAL PÉRIODE | AI26: =SUM(AI11:AI25) -> 0 | AJ26: =SUM(AJ11:AJ25) -> 0 | AK26: =SUM(AK11:AK25) -> 0 | AL26: =SUM(AL11:AL25) -> 0 | AM26: =SUM(AM11:AM25) -> 0 | AP26: =SUM(AP11:AP25) -> 0 | AR26: TOTAL PÉRIODE | AW26: =SUM(AW11:AW25) -> 0 | AX26: =SUM(AX11:AX25) -> 0 | AY26: =SUM(AY11:AY25) -> 0 | AZ26: =SUM(AZ11:AZ25) -> 0 | BA26: =SUM(BA11:BA25) -> 0 | BD26: =SUM(BD11:BD25) -> 0 | BF26: TOTAL PÉRIODE | BK26: =SUM(BK11:BK25) -> 0 | BL26: =SUM(BL11:BL25) -> 0 | BM26: =SUM(BM11:BM25) -> 0 | BN26: =SUM(BN11:BN25) -> 0 | BO26: =SUM(BO11:BO25) -> 0 | BR26: =SUM(BR11:BR25) -> 0 | BT26: TOTAL PÉRIODE | BY26: =SUM(BY11:BY25) -> 0 | BZ26: =SUM(BZ11:BZ25) -> 0 | CA26: =SUM(CA11:CA25) -> 0 | CB26: =SUM(CB11:CB25) -> 0 | CC26: =SUM(CC11:CC25) -> 0 | CF26: =SUM(CF11:CF25) -> 0 | CH26: TOTAL PÉRIODE | CM26: =SUM(CM11:CM25) -> 0 | CN26: =SUM(CN11:CN25) -> 0 | CO26: =SUM(CO11:CO25) -> 0 | CP26: =SUM(CP11:CP25) -> 0 | CQ26: =SUM(CQ11:CQ25) -> 0 | CT26: =SUM(CT11:CT25) -> 0 | CV26: TOTAL PÉRIODE | DA26: =SUM(DA11:DA25) -> 0 | DB26: =SUM(DB11:DB25) -> 0 | DC26: =SUM(DC11:DC25) -> 0 | DD26: =SUM(DD11:DD25) -> 0 | DE26: =SUM(DE11:DE25) -> 0 | DH26: =SUM(DH11:DH25) -> 0 | DJ26: TOTAL PÉRIODE | DO26: =SUM(DO11:DO25) -> 0 | DP26: =SUM(DP11:DP25) -> 0 | DQ26: =SUM(DQ11:DQ25) -> 0 | DR26: =SUM(DR11:DR25) -> 0 | DS26: =SUM(DS11:DS25) -> 0 | DV26: =SUM(DV11:DV25) -> 0 | DX26: TOTAL PÉRIODE | EC26: =SUM(EC11:EC25) -> 0 | ED26: =SUM(ED11:ED25) -> 0 | EE26: =SUM(EE11:EE25) -> 0 | EF26: =SUM(EF11:EF25) -> 0 | EG26: =SUM(EG11:EG25) -> 0 | EJ26: =SUM(EJ11:EJ25) -> 0 | EL26: TOTAL PÉRIODE | EQ26: =SUM(EQ11:EQ25) -> 0 | ER26: =SUM(ER11:ER25) -> 0 | ES26: =SUM(ES11:ES25) -> 0 | ET26: =SUM(ET11:ET25) -> 0 | EU26: =SUM(EU11:EU25) -> 0 | EX26: =SUM(EX11:EX25) -> 0 | EZ26: TOTAL PÉRIODE | FE26: =SUM(FE11:FE25) -> 0 | FF26: =SUM(FF11:FF25) -> 0 | FG26: =SUM(FG11:FG25) -> 0 | FH26: =SUM(FH11:FH25) -> 0 | FI26: =SUM(FI11:FI25) -> 0 | FL26: =SUM(FL11:FL25) -> 0 | FN26: TOTAL PÉRIODE | FS26: =SUM(FS11:FS25) -> 0 | FT26: =SUM(FT11:FT25) -> 0 | FU26: =SUM(FU11:FU25) -> 0 | FV26: =SUM(FV11:FV25) -> 0 | FW26: =SUM(FW11:FW25) -> 0 | FZ26: =SUM(FZ11:FZ25) -> 0 | GB26: TOTAL PÉRIODE | GF26: =SUM(GF11:GF25) -> 0 | GG26: =SUM(GG11:GG25) -> 0 | GH26: =SUM(GH11:GH25) -> 0 | GI26: =SUM(GI11:GI25) -> 0 | GJ26: =SUM(GJ11:GJ25) -> 0 | GM26: =SUM(GM11:GM25) -> 0
B28: CA CUMULÉ EXERCICE COMPTABLE | AD28: CA CUMULÉ EXERCICE COMPTABLE | AI28: =$GF$28 -> 0 | AJ28: =$GG$28 -> 0 | AK28: =$GH$28 -> 0 | AL28: =$GI$28 -> 0 | AM28: =$GJ$28 -> 0 | AP28: =$GM$28 -> 0 | AR28: CA CUMULÉ EXERCICE COMPTABLE | AW28: =$GF$28 -> 0 | AX28: =$GG$28 -> 0 | AY28: =$GH$28 -> 0 | AZ28: =$GI$28 -> 0 | BA28: =$GJ$28 -> 0 | BD28: =$GM$28 -> 0 | BF28: CA CUMULÉ EXERCICE COMPTABLE | BK28: =$GF$28 -> 0 | BL28: =$GG$28 -> 0 | BM28: =$GH$28 -> 0 | BN28: =$GI$28 -> 0 | BO28: =$GJ$28 -> 0 | BR28: =$GM$28 -> 0 | BT28: CA CUMULÉ EXERCICE COMPTABLE | BY28: =$GF$28 -> 0 | BZ28: =$GG$28 -> 0 | CA28: =$GH$28 -> 0 | CB28: =$GI$28 -> 0 | CC28: =$GJ$28 -> 0 | CF28: =$GM$28 -> 0 | CH28: CA CUMULÉ EXERCICE COMPTABLE | CM28: =$GF$28 -> 0 | CN28: =$GG$28 -> 0 | CO28: =$GH$28 -> 0 | CP28: =$GI$28 -> 0 | CQ28: =$GJ$28 -> 0 | CT28: =$GM$28 -> 0 | CV28: CA CUMULÉ EXERCICE COMPTABLE | DA28: =$GF$28 -> 0 | DB28: =$GG$28 -> 0 | DC28: =$GH$28 -> 0 | DD28: =$GI$28 -> 0 | DE28: =$GJ$28 -> 0 | DH28: =$GM$28 -> 0 | DJ28: CA CUMULÉ EXERCICE COMPTABLE | DO28: =$GF$28 -> 0 | DP28: =$GG$28 -> 0 | DQ28: =$GH$28 -> 0 | DR28: =$GI$28 -> 0 | DS28: =$GJ$28 -> 0 | DV28: =$GM$28 -> 0 | DX28: CA CUMULÉ EXERCICE COMPTABLE | EC28: =$GF$28 -> 0 | ED28: =$GG$28 -> 0 | EE28: =$GH$28 -> 0 | EF28: =$GI$28 -> 0 | EG28: =$GJ$28 -> 0 | EJ28: =$GM$28 -> 0 | EL28: CA CUMULÉ EXERCICE COMPTABLE | EQ28: =$GF$28 -> 0 | ER28: =$GG$28 -> 0 | ES28: =$GH$28 -> 0 | ET28: =$GI$28 -> 0 | EU28: =$GJ$28 -> 0 | EX28: =$GM$28 -> 0 | EZ28: CA CUMULÉ EXERCICE COMPTABLE | FE28: =$GF$28 -> 0 | FF28: =$GG$28 -> 0 | FG28: =$GH$28 -> 0 | FH28: =$GI$28 -> 0 | FI28: =$GJ$28 -> 0 | FL28: =$GM$28 -> 0 | FN28: CA CUMULÉ EXERCICE COMPTABLE | FS28: =$GF$28 -> 0 | FT28: =$GG$28 -> 0 | FU28: =$GH$28 -> 0 | FV28: =$GI$28 -> 0 | FW28: =$GJ$28 -> 0 | FZ28: =$GM$28 -> 0 | GB28: CA CUMULÉ EXERCICE COMPTABLE | GF28: =GF26 -> 0 | GG28: =GG26 -> 0 | GH28: =GH26 -> 0 | GI28: =GI26 -> 0 | GJ28: =GJ26 -> 0 | GM28: =GM26 -> 0
AD30: Année: | AE30: =Q30 -> 0 | AG30: Période début | AH30: =EDATE(T30,1) -> 31 | AR30: Année: | AS30: =AE30 -> 0 | AU30: Période début | AV30: =EDATE(AH30,1) -> 59 | BF30: Année: | BG30: =AS30 -> 0 | BI30: Période début | BJ30: =EDATE(AV30,1) -> 88 | BT30: Année: | BU30: =BG30 -> 0 | BW30: Période début | BX30: =EDATE(BJ30,1) -> 119 | CH30: Année: | CI30: =BU30 -> 0 | CK30: Période début | CL30: =EDATE(BX30,1) -> 149 | CV30: Année: | CW30: =CI30 -> 0 | CY30: Période début | CZ30: =EDATE(CL30,1) -> 180 | DJ30: Année: | DK30: =CW30 -> 0 | DM30: Période début | DN30: =EDATE(CZ30,1) -> 210 | DX30: Année: | DY30: =DK30 -> 0 | EA30: Période début | EB30: =EDATE(DN30,1) -> 241 | EL30: Année: | EM30: =DY30 -> 0 | EO30: Période début | EP30: =EDATE(EB30,1) -> 272 | EZ30: Année: | FA30: =EM30 -> 0 | FC30: Période début | FD30: =EDATE(EP30,1) -> 302 | FN30: Année: | FO30: =FA30 -> 0 | FQ30: Période début | FR30: =EDATE(FD30,1) -> 333 | GB30: Année: | GD30: =FO30 -> 0 | GF30: Période début | GG30: =EDATE(FR30,1) -> 363
B31: Tableau de synthèse doit permettre via liste déroulante Année / puis Mois, d'afficher les infos correspondantes sur la base des tableaux mensuels de droite | AD31: Mois: | AE31: =TEXT(AH30,"mmmm") -> janvier | AF31: =R31+1 -> 1 | AG31: Période fin | AH31: =EDATE($T$31,R31) -> 0 | AR31: Mois: | AS31: =TEXT(AV30,"mmmm") -> février | AT31: =AF31+1 -> 2 | AU31: Période fin | AV31: =EDATE($T$31,AF31) -> 31 | BF31: Mois: | BG31: =TEXT(BJ30,"mmmm") -> mars | BH31: =AT31+1 -> 3 | BI31: Période fin | BJ31: =EDATE($T$31,AT31) -> 60 | BT31: Mois: | BU31: =TEXT(BX30,"mmmm") -> avril | BV31: =BH31+1 -> 4 | BW31: Période fin | BX31: =EDATE($T$31,BH31) -> 91 | CH31: Mois: | CI31: =TEXT(CL30,"mmmm") -> mai | CJ31: =BV31+1 -> 5 | CK31: Période fin | CL31: =EDATE($T$31,BV31) -> 121 | CV31: Mois: | CW31: =TEXT(CZ30,"mmmm") -> juin | CX31: =CJ31+1 -> 6 | CY31: Période fin | CZ31: =EDATE($T$31,CJ31) -> 152 | DJ31: Mois: | DK31: =TEXT(DN30,"mmmm") -> juillet | DL31: =CX31+1 -> 7 | DM31: Période fin | DN31: =EDATE($T$31,CX31) -> 182 | DX31: Mois: | DY31: =TEXT(EB30,"mmmm") -> août | DZ31: =DL31+1 -> 8 | EA31: Période fin | EB31: =EDATE($T$31,DL31) -> 213 | EL31: Mois: | EM31: =TEXT(EP30,"mmmm") -> septembre | EN31: =DZ31+1 -> 9 | EO31: Période fin | EP31: =EDATE($T$31,DZ31) -> 244 | EZ31: Mois: | FA31: =TEXT(FD30,"mmmm") -> octobre | FB31: =EN31+1 -> 10 | FC31: Période fin | FD31: =EDATE($T$31,EN31) -> 274 | FN31: Mois: | FO31: =TEXT(FR30,"mmmm") -> novembre | FP31: =FB31+1 -> 11 | FQ31: Période fin | FR31: =EDATE($T$31,FB31) -> 305 | GB31: Mois: | GD31: Global | GE31: =FP31+1 -> 12 | GF31: Période fin | GG31: =EDATE($T$31,FP31) -> 335
AD32: Date facture | AE32: Nom d'opération | AF32: Phase | AG32: Montant | AH32: N° facture | AI32: Total ventes HT | AJ32: Répartition des ventes HT | AL32: TVA collectée | AM32: Montant TTC | AN32: Date échéance | AO32: Date paiement | AP32: Montant payé | AR32: Date facture | AS32: Nom d'opération | AT32: Phase | AU32: Montant | AV32: N° facture | AW32: Total ventes HT | AX32: Répartition des ventes HT | AZ32: TVA collectée | BA32: Montant TTC | BB32: Date échéance | BC32: Date paiement | BD32: Montant payé | BF32: Date facture | BG32: Nom d'opération | BH32: Phase | BI32: Montant | BJ32: N° facture | BK32: Total ventes HT | BL32: Répartition des ventes HT | BN32: TVA collectée | BO32: Montant TTC | BP32: Date échéance | BQ32: Date paiement | BR32: Montant payé | BT32: Date facture | BU32: Nom d'opération | BV32: Phase | BW32: Montant | BX32: N° facture | BY32: Total ventes HT | BZ32: Répartition des ventes HT | CB32: TVA collectée | CC32: Montant TTC | CD32: Date échéance | CE32: Date paiement | CF32: Montant payé | CH32: Date facture | CI32: Nom d'opération | CJ32: Phase | CK32: Montant | CL32: N° facture | CM32: Total ventes HT | CN32: Répartition des ventes HT | CP32: TVA collectée | CQ32: Montant TTC | CR32: Date échéance | CS32: Date paiement | CT32: Montant payé | CV32: Date facture | CW32: Nom d'opération | CX32: Phase | CY32: Montant | CZ32: N° facture | DA32: Total ventes HT | DB32: Répartition des ventes HT | DD32: TVA collectée | DE32: Montant TTC | DF32: Date échéance | DG32: Date paiement | DH32: Montant payé | DJ32: Date facture | DK32: Nom d'opération | DL32: Phase | DM32: Montant | DN32: N° facture | DO32: Total ventes HT | DP32: Répartition des ventes HT | DR32: TVA collectée | DS32: Montant TTC | DT32: Date échéance | DU32: Date paiement | DV32: Montant payé | DX32: Date facture | DY32: Nom d'opération | DZ32: Phase | EA32: Montant | EB32: N° facture | EC32: Total ventes HT | ED32: Répartition des ventes HT | EF32: TVA collectée | EG32: Montant TTC | EH32: Date échéance | EI32: Date paiement | EJ32: Montant payé | EL32: Date facture | EM32: Nom d'opération | EN32: Phase | EO32: Montant | EP32: N° facture | EQ32: Total ventes HT | ER32: Répartition des ventes HT | ET32: TVA collectée | EU32: Montant TTC | EV32: Date échéance | EW32: Date paiement | EX32: Montant payé | EZ32: Date facture | FA32: Nom d'opération | FB32: Phase | FC32: Montant | FD32: N° facture | FE32: Total ventes HT | FF32: Répartition des ventes HT | FH32: TVA collectée | FI32: Montant TTC | FJ32: Date échéance | FK32: Date paiement | FL32: Montant payé | FN32: Date facture | FO32: Nom d'opération | FP32: Phase | FQ32: Montant | FR32: N° facture | FS32: Total ventes HT | FT32: Répartition des ventes HT | FV32: TVA collectée | FW32: Montant TTC | FX32: Date échéance | FY32: Date paiement | FZ32: Montant payé | GB32: Mois: | GC32: Nom d'opération | GD32: Montant | GE32: N° facture | GF32: Total ventes HT | GG32: Répartition des ventes HT | GI32: TVA collectée | GJ32: Montant TTC | GK32: Date échéance | GL32: Date paiement | GM32: Montant payé
AJ33: Céline | AK33: Camille | AX33: Céline | AY33: Camille | BL33: Céline | BM33: Camille | BZ33: Céline | CA33: Camille | CN33: Céline | CO33: Camille | DB33: Céline | DC33: Camille | DP33: Céline | DQ33: Camille | ED33: Céline | EE33: Camille | ER33: Céline | ES33: Camille | FF33: Céline | FG33: Camille | FT33: Céline | FU33: Camille | GG33: Céline | GH33: Camille
GB34: =Q31 -> 0 | GF34: =U49 -> 0 | GG34: =V49 -> 0 | GH34: =W49 -> 0 | GI34: =X49 -> 0 | GJ34: =Y49 -> 0 | GM34: =AB49 -> 0
GB35: =AE31 -> janvier | GF35: =AI49 -> 0 | GG35: =AJ49 -> 0 | GH35: =AK49 -> 0 | GI35: =AL49 -> 0 | GJ35: =AM49 -> 0 | GM35: =AP49 -> 0
GB36: =AS31 -> février | GF36: =AW49 -> 0 | GG36: =AX49 -> 0 | GH36: =AY49 -> 0 | GI36: =AZ49 -> 0 | GJ36: =BA49 -> 0 | GM36: =BD49 -> 0
GB37: =BG31 -> mars | GF37: =BK49 -> 0 | GG37: =BL49 -> 0 | GH37: =BM49 -> 0 | GI37: =BN49 -> 0 | GJ37: =BO49 -> 0 | GM37: =BR49 -> 0
GB38: =BU31 -> avril | GF38: =BY49 -> 0 | GG38: =BZ49 -> 0 | GH38: =CA49 -> 0 | GI38: =CB49 -> 0 | GJ38: =CC49 -> 0 | GM38: =CF49 -> 0
GB39: =CI31 -> mai | GF39: =CM49 -> 0 | GG39: =CN49 -> 0 | GH39: =CO49 -> 0 | GI39: =CP49 -> 0 | GJ39: =CQ49 -> 0 | GM39: =CT49 -> 0
GB40: =CW31 -> juin | GF40: =DA49 -> 0 | GG40: =DB49 -> 0 | GH40: =DC49 -> 0 | GI40: =DD49 -> 0 | GJ40: =DE49 -> 0 | GM40: =DH49 -> 0
GB41: =DK31 -> juillet | GF41: =DO49 -> 0 | GG41: =DP49 -> 0 | GH41: =DQ49 -> 0 | GI41: =DR49 -> 0 | GJ41: =DS49 -> 0 | GM41: =DV49 -> 0
GB42: =DY31 -> août | GF42: =EC49 -> 0 | GG42: =ED49 -> 0 | GH42: =EE49 -> 0 | GI42: =EF49 -> 0 | GJ42: =EG49 -> 0 | GM42: =EJ49 -> 0
GB43: =EM31 -> septembre | GF43: =EQ49 -> 0 | GG43: =ER49 -> 0 | GH43: =ES49 -> 0 | GI43: =ET49 -> 0 | GJ43: =EU49 -> 0 | GM43: =EX49 -> 0
GB44: =FA31 -> octobre | GF44: =FE49 -> 0 | GG44: =FF$26 -> 0 | GH44: =FG49 -> 0 | GI44: =FH49 -> 0 | GJ44: =FI49 -> 0 | GM44: =FL49 -> 0
GB45: =FO31 -> novembre | GF45: =FS49 -> 0 | GG45: =FT49 -> 0 | GH45: =FU49 -> 0 | GI45: =FV49 -> 0 | GJ45: =FW49 -> 0 | GM45: =FZ49 -> 0
AD49: TOTAL PÉRIODE | AI49: =SUM(AI34:AI48) -> 0 | AJ49: =SUM(AJ34:AJ48) -> 0 | AK49: =SUM(AK34:AK48) -> 0 | AL49: =SUM(AL34:AL48) -> 0 | AM49: =SUM(AM34:AM48) -> 0 | AP49: =SUM(AP34:AP48) -> 0 | AR49: TOTAL PÉRIODE | AW49: =SUM(AW34:AW48) -> 0 | AX49: =SUM(AX34:AX48) -> 0 | AY49: =SUM(AY34:AY48) -> 0 | AZ49: =SUM(AZ34:AZ48) -> 0 | BA49: =SUM(BA34:BA48) -> 0 | BD49: =SUM(BD34:BD48) -> 0 | BF49: TOTAL PÉRIODE | BK49: =SUM(BK34:BK48) -> 0 | BL49: =SUM(BL34:BL48) -> 0 | BM49: =SUM(BM34:BM48) -> 0 | BN49: =SUM(BN34:BN48) -> 0 | BO49: =SUM(BO34:BO48) -> 0 | BR49: =SUM(BR34:BR48) -> 0 | BT49: TOTAL PÉRIODE | BY49: =SUM(BY34:BY48) -> 0 | BZ49: =SUM(BZ34:BZ48) -> 0 | CA49: =SUM(CA34:CA48) -> 0 | CB49: =SUM(CB34:CB48) -> 0 | CC49: =SUM(CC34:CC48) -> 0 | CF49: =SUM(CF34:CF48) -> 0 | CH49: TOTAL PÉRIODE | CM49: =SUM(CM34:CM48) -> 0 | CN49: =SUM(CN34:CN48) -> 0 | CO49: =SUM(CO34:CO48) -> 0 | CP49: =SUM(CP34:CP48) -> 0 | CQ49: =SUM(CQ34:CQ48) -> 0 | CT49: =SUM(CT34:CT48) -> 0 | CV49: TOTAL PÉRIODE | DA49: =SUM(DA34:DA48) -> 0 | DB49: =SUM(DB34:DB48) -> 0 | DC49: =SUM(DC34:DC48) -> 0 | DD49: =SUM(DD34:DD48) -> 0 | DE49: =SUM(DE34:DE48) -> 0 | DH49: =SUM(DH34:DH48) -> 0 | DJ49: TOTAL PÉRIODE | DO49: =SUM(DO34:DO48) -> 0 | DP49: =SUM(DP34:DP48) -> 0 | DQ49: =SUM(DQ34:DQ48) -> 0 | DR49: =SUM(DR34:DR48) -> 0 | DS49: =SUM(DS34:DS48) -> 0 | DV49: =SUM(DV34:DV48) -> 0 | DX49: TOTAL PÉRIODE | EC49: =SUM(EC34:EC48) -> 0 | ED49: =SUM(ED34:ED48) -> 0 | EE49: =SUM(EE34:EE48) -> 0 | EF49: =SUM(EF34:EF48) -> 0 | EG49: =SUM(EG34:EG48) -> 0 | EJ49: =SUM(EJ34:EJ48) -> 0 | EL49: TOTAL PÉRIODE | EQ49: =SUM(EQ34:EQ48) -> 0 | ER49: =SUM(ER34:ER48) -> 0 | ES49: =SUM(ES34:ES48) -> 0 | ET49: =SUM(ET34:ET48) -> 0 | EU49: =SUM(EU34:EU48) -> 0 | EX49: =SUM(EX34:EX48) -> 0 | EZ49: TOTAL PÉRIODE | FE49: =SUM(FE34:FE48) -> 0 | FF49: =SUM(FF34:FF48) -> 0 | FG49: =SUM(FG34:FG48) -> 0 | FH49: =SUM(FH34:FH48) -> 0 | FI49: =SUM(FI34:FI48) -> 0 | FL49: =SUM(FL34:FL48) -> 0 | FN49: TOTAL PÉRIODE | FS49: =SUM(FS34:FS48) -> 0 | FT49: =SUM(FT34:FT48) -> 0 | FU49: =SUM(FU34:FU48) -> 0 | FV49: =SUM(FV34:FV48) -> 0 | FW49: =SUM(FW34:FW48) -> 0 | FZ49: =SUM(FZ34:FZ48) -> 0 | GB49: TOTAL PÉRIODE | GF49: =SUM(GF34:GF48) -> 0 | GG49: =SUM(GG34:GG48) -> 0 | GH49: =SUM(GH34:GH48) -> 0 | GI49: =SUM(GI34:GI48) -> 0 | GJ49: =SUM(GJ34:GJ48) -> 0 | GM49: =SUM(GM34:GM48) -> 0
...

Sheet Feuil2
B3: COMPTEUR TEMPS Rémy | D3: 10 | E3: heures | F3: 1 | G3: jour
B5: 1 | C5: Réunion démarrage | D5: 2 | E5: Heures | F5: =D5/$D$3 -> 0.2 | G5: jours
B6: 2 | C6: CR | D6: 0.5 | E6: Heures | F6: =D6/$D$3 -> 0.05 | G6: jours
B7: 3 | C7: Outil Matrice simulation CA | D7: 10 | E7: Heures | F7: =D7/$D$3 -> 1 | G7: jours
B8: 4 | C8: Outil gestion partie 1 - V1 | D8: 20 | E8: Heures | F8: =D8/$D$3 -> 2 | G8: jours
B9: 5 | C9: Outil de gestion partie -V2 (Générateur de facture) | D9: 30 | E9: Heures | F9: =D9/$D$3 -> 3 | G9: jours
B10: 6 | C10: Outil de gestion partie -V3 (Journal des ventes) | D10: 6 | E10: Heures | F10: =D10/$D$3 -> 0.6 | G10: jours
B11: 4 | C11: Outil de gestion partie -V3 (CA Prev) | D11: 10 | E11: Heures | F11: =D11/$D$3 -> 1 | G11: jours
B12: 5 | C12: Outil de gestion partie -V4 (MAJ Factu) | D12: 20 | E12: Heures | F12: =D12/$D$3 -> 2 | G12: jours
C13: Rem | D13: =SUM(D5:D12) -> 98.5 | E13: Heures | F13: =D13/$D$3 -> 9.85 | G13: jours
C14: 2000 | D14: =C14/D13 -> 20.304569 | F14: =C14/F13 -> 203.04569
