Workbook

Sheet tableau
A1: Nom | B1: Ville | C1: Produit | D1: Couleur | E1: Date de signature | F1: Fournisseur | G1: Montant | H1: Date de livraison | I1: Date de pose | J1: Date de paiement | K1: Montant HT | L1: Montant vente
A2: Martin | F2: Boulanger | G2: 200 | I2: S38 | J2: S38
A3: Dumon | F3: Boucher | G3: 3099 | I3: S37 | J3: S38
A4: Tartapion | F4: Patissier | G4: 100 | I4: S37 | J4: S39
A5: Francois | F5: Patissier | G5: 80 | I5: S38 | J5: S38
A6: Arthur | F6: Boulanger | G6: 40 | I6: S36 | J6: S40
A7: Pascal | F7: Boucher | G7: 120 | I7: S36 | J7: S39
A8: Dupon | F8: Boucher | G8: 80 | I8: S36 | J8: S40

Sheet calendrier
A1: S36 | B1: S37 | C1: S38 | D1: S39 | E1: S40
A2: {=IFERROR(INDEX(tableau!$A$2:$A$8,SMALL(IF(tableau!$I$2:$I$8=A$1,ROW(tableau!$I$2:$I$8)-1,9^9),ROW()-1)),"")} -> Arthur | B2: {=IFERROR(INDEX(tableau!$A$2:$A$8,SMALL(IF(tableau!$I$2:$I$8=B$1,ROW(tableau!$I$2:$I$8)-1,9^9),ROW()-1)),"")} -> Dumon | C2: {=IFERROR(INDEX(tableau!$A$2:$A$8,SMALL(IF(tableau!$I$2:$I$8=C$1,ROW(tableau!$I$2:$I$8)-1,9^9),ROW()-1)),"")} -> Martin | D2: {=IFERROR(INDEX(tableau!$A$2:$A$8,SMALL(IF(tableau!$I$2:$I$8=D$1,ROW(tableau!$I$2:$I$8)-1,9^9),ROW()-1)),"")} | E2: {=IFERROR(INDEX(tableau!$A$2:$A$8,SMALL(IF(tableau!$I$2:$I$8=E$1,ROW(tableau!$I$2:$I$8)-1,9^9),ROW()-1)),"")}
A3: {=IFERROR(INDEX(tableau!$A$2:$A$8,SMALL(IF(tableau!$I$2:$I$8=A$1,ROW(tableau!$I$2:$I$8)-1,9^9),ROW()-1)),"")} -> Pascal | B3: {=IFERROR(INDEX(tableau!$A$2:$A$8,SMALL(IF(tableau!$I$2:$I$8=B$1,ROW(tableau!$I$2:$I$8)-1,9^9),ROW()-1)),"")} -> Tartapion | C3: {=IFERROR(INDEX(tableau!$A$2:$A$8,SMALL(IF(tableau!$I$2:$I$8=C$1,ROW(tableau!$I$2:$I$8)-1,9^9),ROW()-1)),"")} -> Francois | D3: {=IFERROR(INDEX(tableau!$A$2:$A$8,SMALL(IF(tableau!$I$2:$I$8=D$1,ROW(tableau!$I$2:$I$8)-1,9^9),ROW()-1)),"")} | E3: {=IFERROR(INDEX(tableau!$A$2:$A$8,SMALL(IF(tableau!$I$2:$I$8=E$1,ROW(tableau!$I$2:$I$8)-1,9^9),ROW()-1)),"")}
A4: {=IFERROR(INDEX(tableau!$A$2:$A$8,SMALL(IF(tableau!$I$2:$I$8=A$1,ROW(tableau!$I$2:$I$8)-1,9^9),ROW()-1)),"")} -> Dupon | B4: {=IFERROR(INDEX(tableau!$A$2:$A$8,SMALL(IF(tableau!$I$2:$I$8=B$1,ROW(tableau!$I$2:$I$8)-1,9^9),ROW()-1)),"")} | C4: {=IFERROR(INDEX(tableau!$A$2:$A$8,SMALL(IF(tableau!$I$2:$I$8=C$1,ROW(tableau!$I$2:$I$8)-1,9^9),ROW()-1)),"")} | D4: {=IFERROR(INDEX(tableau!$A$2:$A$8,SMALL(IF(tableau!$I$2:$I$8=D$1,ROW(tableau!$I$2:$I$8)-1,9^9),ROW()-1)),"")} | E4: {=IFERROR(INDEX(tableau!$A$2:$A$8,SMALL(IF(tableau!$I$2:$I$8=E$1,ROW(tableau!$I$2:$I$8)-1,9^9),ROW()-1)),"")}
A5: {=IFERROR(INDEX(tableau!$A$2:$A$8,SMALL(IF(tableau!$I$2:$I$8=A$1,ROW(tableau!$I$2:$I$8)-1,9^9),ROW()-1)),"")} | B5: {=IFERROR(INDEX(tableau!$A$2:$A$8,SMALL(IF(tableau!$I$2:$I$8=B$1,ROW(tableau!$I$2:$I$8)-1,9^9),ROW()-1)),"")} | C5: {=IFERROR(INDEX(tableau!$A$2:$A$8,SMALL(IF(tableau!$I$2:$I$8=C$1,ROW(tableau!$I$2:$I$8)-1,9^9),ROW()-1)),"")} | D5: {=IFERROR(INDEX(tableau!$A$2:$A$8,SMALL(IF(tableau!$I$2:$I$8=D$1,ROW(tableau!$I$2:$I$8)-1,9^9),ROW()-1)),"")} | E5: {=IFERROR(INDEX(tableau!$A$2:$A$8,SMALL(IF(tableau!$I$2:$I$8=E$1,ROW(tableau!$I$2:$I$8)-1,9^9),ROW()-1)),"")}
A6: {=IFERROR(INDEX(tableau!$A$2:$A$8,SMALL(IF(tableau!$I$2:$I$8=A$1,ROW(tableau!$I$2:$I$8)-1,9^9),ROW()-1)),"")} | B6: {=IFERROR(INDEX(tableau!$A$2:$A$8,SMALL(IF(tableau!$I$2:$I$8=B$1,ROW(tableau!$I$2:$I$8)-1,9^9),ROW()-1)),"")} | C6: {=IFERROR(INDEX(tableau!$A$2:$A$8,SMALL(IF(tableau!$I$2:$I$8=C$1,ROW(tableau!$I$2:$I$8)-1,9^9),ROW()-1)),"")} | D6: {=IFERROR(INDEX(tableau!$A$2:$A$8,SMALL(IF(tableau!$I$2:$I$8=D$1,ROW(tableau!$I$2:$I$8)-1,9^9),ROW()-1)),"")} | E6: {=IFERROR(INDEX(tableau!$A$2:$A$8,SMALL(IF(tableau!$I$2:$I$8=E$1,ROW(tableau!$I$2:$I$8)-1,9^9),ROW()-1)),"")}
A7: {=IFERROR(INDEX(tableau!$A$2:$A$8,SMALL(IF(tableau!$I$2:$I$8=A$1,ROW(tableau!$I$2:$I$8)-1,9^9),ROW()-1)),"")} | B7: {=IFERROR(INDEX(tableau!$A$2:$A$8,SMALL(IF(tableau!$I$2:$I$8=B$1,ROW(tableau!$I$2:$I$8)-1,9^9),ROW()-1)),"")} | C7: {=IFERROR(INDEX(tableau!$A$2:$A$8,SMALL(IF(tableau!$I$2:$I$8=C$1,ROW(tableau!$I$2:$I$8)-1,9^9),ROW()-1)),"")} | D7: {=IFERROR(INDEX(tableau!$A$2:$A$8,SMALL(IF(tableau!$I$2:$I$8=D$1,ROW(tableau!$I$2:$I$8)-1,9^9),ROW()-1)),"")} | E7: {=IFERROR(INDEX(tableau!$A$2:$A$8,SMALL(IF(tableau!$I$2:$I$8=E$1,ROW(tableau!$I$2:$I$8)-1,9^9),ROW()-1)),"")}

Sheet fournisseur paiement
B1: Nom | C1: Montant HT | D1: Nom | E1: Montant HT | F1: Nom | G1: Montant HT | H1: Nom | I1: Montant HT
B2: S36 | C2: S36 | D2: S37 | E2: S37 | F2: S38 | G2: S38 | H2: S39 | I2: S39
A3: Boulanger | B3: {=IFERROR(INDEX(tableau!$A$2:$A$8,SMALL(IF(tableau!$J$2:$J$8=B$2,IF(tableau!$F$2:$F$8=$A$3,ROW(tableau!$A$2:$A$8)-1,9^9),9^9),ROW()-ROW($A$3)+1)),"")} | C3: {=IFERROR(INDEX(tableau!$G$2:$G$8,MATCH(B3&$A$3,tableau!$A$2:$A$8&tableau!$F$2:$F$8,0)),0)} -> 0 | D3: {=IFERROR(INDEX(tableau!$A$2:$A$8,SMALL(IF(tableau!$J$2:$J$8=D$2,IF(tableau!$F$2:$F$8=$A$3,ROW(tableau!$A$2:$A$8)-1,9^9),9^9),ROW()-ROW($A$3)+1)),"")} | E3: {=IFERROR(INDEX(tableau!$G$2:$G$8,MATCH(D3&$A$3,tableau!$A$2:$A$8&tableau!$F$2:$F$8,0)),0)} -> 0 | F3: {=IFERROR(INDEX(tableau!$A$2:$A$8,SMALL(IF(tableau!$J$2:$J$8=F$2,IF(tableau!$F$2:$F$8=$A$3,ROW(tableau!$A$2:$A$8)-1,9^9),9^9),ROW()-ROW($A$3)+1)),"")} -> Martin | G3: {=IFERROR(INDEX(tableau!$G$2:$G$8,MATCH(F3&$A$3,tableau!$A$2:$A$8&tableau!$F$2:$F$8,0)),0)} -> 200 | H3: {=IFERROR(INDEX(tableau!$A$2:$A$8,SMALL(IF(tableau!$J$2:$J$8=H$2,IF(tableau!$F$2:$F$8=$A$3,ROW(tableau!$A$2:$A$8)-1,9^9),9^9),ROW()-ROW($A$3)+1)),"")} | I3: {=IFERROR(INDEX(tableau!$G$2:$G$8,MATCH(H3&$A$3,tableau!$A$2:$A$8&tableau!$F$2:$F$8,0)),0)} -> 0
B4: {=IFERROR(INDEX(tableau!$A$2:$A$8,SMALL(IF(tableau!$J$2:$J$8=B$2,IF(tableau!$F$2:$F$8=$A$3,ROW(tableau!$A$2:$A$8)-1,9^9),9^9),ROW()-ROW($A$3)+1)),"")} | C4: {=IFERROR(INDEX(tableau!$G$2:$G$8,MATCH(B4&$A$3,tableau!$A$2:$A$8&tableau!$F$2:$F$8,0)),0)} -> 0 | D4: {=IFERROR(INDEX(tableau!$A$2:$A$8,SMALL(IF(tableau!$J$2:$J$8=D$2,IF(tableau!$F$2:$F$8=$A$3,ROW(tableau!$A$2:$A$8)-1,9^9),9^9),ROW()-ROW($A$3)+1)),"")} | E4: {=IFERROR(INDEX(tableau!$G$2:$G$8,MATCH(D4&$A$3,tableau!$A$2:$A$8&tableau!$F$2:$F$8,0)),0)} -> 0 | F4: {=IFERROR(INDEX(tableau!$A$2:$A$8,SMALL(IF(tableau!$J$2:$J$8=F$2,IF(tableau!$F$2:$F$8=$A$3,ROW(tableau!$A$2:$A$8)-1,9^9),9^9),ROW()-ROW($A$3)+1)),"")} | G4: {=IFERROR(INDEX(tableau!$G$2:$G$8,MATCH(F4&$A$3,tableau!$A$2:$A$8&tableau!$F$2:$F$8,0)),0)} -> 0 | H4: {=IFERROR(INDEX(tableau!$A$2:$A$8,SMALL(IF(tableau!$J$2:$J$8=H$2,IF(tableau!$F$2:$F$8=$A$3,ROW(tableau!$A$2:$A$8)-1,9^9),9^9),ROW()-ROW($A$3)+1)),"")} | I4: {=IFERROR(INDEX(tableau!$G$2:$G$8,MATCH(H4&$A$3,tableau!$A$2:$A$8&tableau!$F$2:$F$8,0)),0)} -> 0
B5: {=IFERROR(INDEX(tableau!$A$2:$A$8,SMALL(IF(tableau!$J$2:$J$8=B$2,IF(tableau!$F$2:$F$8=$A$3,ROW(tableau!$A$2:$A$8)-1,9^9),9^9),ROW()-ROW($A$3)+1)),"")} | C5: {=IFERROR(INDEX(tableau!$G$2:$G$8,MATCH(B5&$A$3,tableau!$A$2:$A$8&tableau!$F$2:$F$8,0)),0)} -> 0 | D5: {=IFERROR(INDEX(tableau!$A$2:$A$8,SMALL(IF(tableau!$J$2:$J$8=D$2,IF(tableau!$F$2:$F$8=$A$3,ROW(tableau!$A$2:$A$8)-1,9^9),9^9),ROW()-ROW($A$3)+1)),"")} | E5: {=IFERROR(INDEX(tableau!$G$2:$G$8,MATCH(D5&$A$3,tableau!$A$2:$A$8&tableau!$F$2:$F$8,0)),0)} -> 0 | F5: {=IFERROR(INDEX(tableau!$A$2:$A$8,SMALL(IF(tableau!$J$2:$J$8=F$2,IF(tableau!$F$2:$F$8=$A$3,ROW(tableau!$A$2:$A$8)-1,9^9),9^9),ROW()-ROW($A$3)+1)),"")} | G5: {=IFERROR(INDEX(tableau!$G$2:$G$8,MATCH(F5&$A$3,tableau!$A$2:$A$8&tableau!$F$2:$F$8,0)),0)} -> 0 | H5: {=IFERROR(INDEX(tableau!$A$2:$A$8,SMALL(IF(tableau!$J$2:$J$8=H$2,IF(tableau!$F$2:$F$8=$A$3,ROW(tableau!$A$2:$A$8)-1,9^9),9^9),ROW()-ROW($A$3)+1)),"")} | I5: {=IFERROR(INDEX(tableau!$G$2:$G$8,MATCH(H5&$A$3,tableau!$A$2:$A$8&tableau!$F$2:$F$8,0)),0)} -> 0
B6: {=IFERROR(INDEX(tableau!$A$2:$A$8,SMALL(IF(tableau!$J$2:$J$8=B$2,IF(tableau!$F$2:$F$8=$A$3,ROW(tableau!$A$2:$A$8)-1,9^9),9^9),ROW()-ROW($A$3)+1)),"")} | C6: {=IFERROR(INDEX(tableau!$G$2:$G$8,MATCH(B6&$A$3,tableau!$A$2:$A$8&tableau!$F$2:$F$8,0)),0)} -> 0 | D6: {=IFERROR(INDEX(tableau!$A$2:$A$8,SMALL(IF(tableau!$J$2:$J$8=D$2,IF(tableau!$F$2:$F$8=$A$3,ROW(tableau!$A$2:$A$8)-1,9^9),9^9),ROW()-ROW($A$3)+1)),"")} | E6: {=IFERROR(INDEX(tableau!$G$2:$G$8,MATCH(D6&$A$3,tableau!$A$2:$A$8&tableau!$F$2:$F$8,0)),0)} -> 0 | F6: {=IFERROR(INDEX(tableau!$A$2:$A$8,SMALL(IF(tableau!$J$2:$J$8=F$2,IF(tableau!$F$2:$F$8=$A$3,ROW(tableau!$A$2:$A$8)-1,9^9),9^9),ROW()-ROW($A$3)+1)),"")} | G6: {=IFERROR(INDEX(tableau!$G$2:$G$8,MATCH(F6&$A$3,tableau!$A$2:$A$8&tableau!$F$2:$F$8,0)),0)} -> 0 | H6: {=IFERROR(INDEX(tableau!$A$2:$A$8,SMALL(IF(tableau!$J$2:$J$8=H$2,IF(tableau!$F$2:$F$8=$A$3,ROW(tableau!$A$2:$A$8)-1,9^9),9^9),ROW()-ROW($A$3)+1)),"")} | I6: {=IFERROR(INDEX(tableau!$G$2:$G$8,MATCH(H6&$A$3,tableau!$A$2:$A$8&tableau!$F$2:$F$8,0)),0)} -> 0
B7: {=IFERROR(INDEX(tableau!$A$2:$A$8,SMALL(IF(tableau!$J$2:$J$8=B$2,IF(tableau!$F$2:$F$8=$A$3,ROW(tableau!$A$2:$A$8)-1,9^9),9^9),ROW()-ROW($A$3)+1)),"")} | C7: {=IFERROR(INDEX(tableau!$G$2:$G$8,MATCH(B7&$A$3,tableau!$A$2:$A$8&tableau!$F$2:$F$8,0)),0)} -> 0 | D7: {=IFERROR(INDEX(tableau!$A$2:$A$8,SMALL(IF(tableau!$J$2:$J$8=D$2,IF(tableau!$F$2:$F$8=$A$3,ROW(tableau!$A$2:$A$8)-1,9^9),9^9),ROW()-ROW($A$3)+1)),"")} | E7: {=IFERROR(INDEX(tableau!$G$2:$G$8,MATCH(D7&$A$3,tableau!$A$2:$A$8&tableau!$F$2:$F$8,0)),0)} -> 0 | F7: {=IFERROR(INDEX(tableau!$A$2:$A$8,SMALL(IF(tableau!$J$2:$J$8=F$2,IF(tableau!$F$2:$F$8=$A$3,ROW(tableau!$A$2:$A$8)-1,9^9),9^9),ROW()-ROW($A$3)+1)),"")} | G7: {=IFERROR(INDEX(tableau!$G$2:$G$8,MATCH(F7&$A$3,tableau!$A$2:$A$8&tableau!$F$2:$F$8,0)),0)} -> 0 | H7: {=IFERROR(INDEX(tableau!$A$2:$A$8,SMALL(IF(tableau!$J$2:$J$8=H$2,IF(tableau!$F$2:$F$8=$A$3,ROW(tableau!$A$2:$A$8)-1,9^9),9^9),ROW()-ROW($A$3)+1)),"")} | I7: {=IFERROR(INDEX(tableau!$G$2:$G$8,MATCH(H7&$A$3,tableau!$A$2:$A$8&tableau!$F$2:$F$8,0)),0)} -> 0
B8: {=IFERROR(INDEX(tableau!$A$2:$A$8,(IF(tableau!$J$2:$J$8=B$2,IF(tableau!$F$2:$F$8=$A8,ROW(tableau!$A$2:$A$8)-1,9^9),9^9))),"")} | D8: {=IFERROR(INDEX(tableau!$A$2:$A$8,(IF(tableau!$J$2:$J$8=D$2,IF(tableau!$F$2:$F$8=$A8,ROW(tableau!$A$2:$A$8)-1,9^9),9^9))),"")} | F8: {=IFERROR(INDEX(tableau!$A$2:$A$8,(IF(tableau!$J$2:$J$8=F$2,IF(tableau!$F$2:$F$8=$A8,ROW(tableau!$A$2:$A$8)-1,9^9),9^9))),"")} | H8: {=IFERROR(INDEX(tableau!$A$2:$A$8,(IF(tableau!$J$2:$J$8=H$2,IF(tableau!$F$2:$F$8=$A8,ROW(tableau!$A$2:$A$8)-1,9^9),9^9))),"")}
A9: Boucher | B9: {=IFERROR(INDEX(tableau!$A$2:$A$8,SMALL(IF(tableau!$J$2:$J$8=B$2,IF(tableau!$F$2:$F$8=$A$9,ROW(tableau!$A$2:$A$8)-1,9^9),9^9),ROW()-ROW($A$9)+1)),"")} | C9: {=IFERROR(INDEX(tableau!$G$2:$G$8,MATCH(B9&$A$9,tableau!$A$2:$A$8&tableau!$F$2:$F$8,0)),0)} -> 0 | D9: {=IFERROR(INDEX(tableau!$A$2:$A$8,SMALL(IF(tableau!$J$2:$J$8=D$2,IF(tableau!$F$2:$F$8=$A$9,ROW(tableau!$A$2:$A$8)-1,9^9),9^9),ROW()-ROW($A$9)+1)),"")} | E9: {=IFERROR(INDEX(tableau!$G$2:$G$8,MATCH(D9&$A$9,tableau!$A$2:$A$8&tableau!$F$2:$F$8,0)),0)} -> 0 | F9: {=IFERROR(INDEX(tableau!$A$2:$A$8,SMALL(IF(tableau!$J$2:$J$8=F$2,IF(tableau!$F$2:$F$8=$A$9,ROW(tableau!$A$2:$A$8)-1,9^9),9^9),ROW()-ROW($A$9)+1)),"")} -> Dumon | G9: {=IFERROR(INDEX(tableau!$G$2:$G$8,MATCH(F9&$A$9,tableau!$A$2:$A$8&tableau!$F$2:$F$8,0)),0)} -> 3099 | H9: {=IFERROR(INDEX(tableau!$A$2:$A$8,SMALL(IF(tableau!$J$2:$J$8=H$2,IF(tableau!$F$2:$F$8=$A$9,ROW(tableau!$A$2:$A$8)-1,9^9),9^9),ROW()-ROW($A$9)+1)),"")} -> Pascal | I9: {=IFERROR(INDEX(tableau!$G$2:$G$8,MATCH(H9&$A$9,tableau!$A$2:$A$8&tableau!$F$2:$F$8,0)),0)} -> 120
B10: {=IFERROR(INDEX(tableau!$A$2:$A$8,SMALL(IF(tableau!$J$2:$J$8=B$2,IF(tableau!$F$2:$F$8=$A$9,ROW(tableau!$A$2:$A$8)-1,9^9),9^9),ROW()-ROW($A$9)+1)),"")} | C10: {=IFERROR(INDEX(tableau!$G$2:$G$8,MATCH(B10&$A$9,tableau!$A$2:$A$8&tableau!$F$2:$F$8,0)),0)} -> 0 | D10: {=IFERROR(INDEX(tableau!$A$2:$A$8,SMALL(IF(tableau!$J$2:$J$8=D$2,IF(tableau!$F$2:$F$8=$A$9,ROW(tableau!$A$2:$A$8)-1,9^9),9^9),ROW()-ROW($A$9)+1)),"")} | E10: {=IFERROR(INDEX(tableau!$G$2:$G$8,MATCH(D10&$A$9,tableau!$A$2:$A$8&tableau!$F$2:$F$8,0)),0)} -> 0 | F10: {=IFERROR(INDEX(tableau!$A$2:$A$8,SMALL(IF(tableau!$J$2:$J$8=F$2,IF(tableau!$F$2:$F$8=$A$9,ROW(tableau!$A$2:$A$8)-1,9^9),9^9),ROW()-ROW($A$9)+1)),"")} | G10: {=IFERROR(INDEX(tableau!$G$2:$G$8,MATCH(F10&$A$9,tableau!$A$2:$A$8&tableau!$F$2:$F$8,0)),0)} -> 0 | H10: {=IFERROR(INDEX(tableau!$A$2:$A$8,SMALL(IF(tableau!$J$2:$J$8=H$2,IF(tableau!$F$2:$F$8=$A$9,ROW(tableau!$A$2:$A$8)-1,9^9),9^9),ROW()-ROW($A$9)+1)),"")} | I10: {=IFERROR(INDEX(tableau!$G$2:$G$8,MATCH(H10&$A$9,tableau!$A$2:$A$8&tableau!$F$2:$F$8,0)),0)} -> 0
B11: {=IFERROR(INDEX(tableau!$A$2:$A$8,SMALL(IF(tableau!$J$2:$J$8=B$2,IF(tableau!$F$2:$F$8=$A$9,ROW(tableau!$A$2:$A$8)-1,9^9),9^9),ROW()-ROW($A$9)+1)),"")} | C11: {=IFERROR(INDEX(tableau!$G$2:$G$8,MATCH(B11&$A$9,tableau!$A$2:$A$8&tableau!$F$2:$F$8,0)),0)} -> 0 | D11: {=IFERROR(INDEX(tableau!$A$2:$A$8,SMALL(IF(tableau!$J$2:$J$8=D$2,IF(tableau!$F$2:$F$8=$A$9,ROW(tableau!$A$2:$A$8)-1,9^9),9^9),ROW()-ROW($A$9)+1)),"")} | E11: {=IFERROR(INDEX(tableau!$G$2:$G$8,MATCH(D11&$A$9,tableau!$A$2:$A$8&tableau!$F$2:$F$8,0)),0)} -> 0 | F11: {=IFERROR(INDEX(tableau!$A$2:$A$8,SMALL(IF(tableau!$J$2:$J$8=F$2,IF(tableau!$F$2:$F$8=$A$9,ROW(tableau!$A$2:$A$8)-1,9^9),9^9),ROW()-ROW($A$9)+1)),"")} | G11: {=IFERROR(INDEX(tableau!$G$2:$G$8,MATCH(F11&$A$9,tableau!$A$2:$A$8&tableau!$F$2:$F$8,0)),0)} -> 0 | H11: {=IFERROR(INDEX(tableau!$A$2:$A$8,SMALL(IF(tableau!$J$2:$J$8=H$2,IF(tableau!$F$2:$F$8=$A$9,ROW(tableau!$A$2:$A$8)-1,9^9),9^9),ROW()-ROW($A$9)+1)),"")} | I11: {=IFERROR(INDEX(tableau!$G$2:$G$8,MATCH(H11&$A$9,tableau!$A$2:$A$8&tableau!$F$2:$F$8,0)),0)} -> 0
B12: {=IFERROR(INDEX(tableau!$A$2:$A$8,SMALL(IF(tableau!$J$2:$J$8=B$2,IF(tableau!$F$2:$F$8=$A$9,ROW(tableau!$A$2:$A$8)-1,9^9),9^9),ROW()-ROW($A$9)+1)),"")} | C12: {=IFERROR(INDEX(tableau!$G$2:$G$8,MATCH(B12&$A$9,tableau!$A$2:$A$8&tableau!$F$2:$F$8,0)),0)} -> 0 | D12: {=IFERROR(INDEX(tableau!$A$2:$A$8,SMALL(IF(tableau!$J$2:$J$8=D$2,IF(tableau!$F$2:$F$8=$A$9,ROW(tableau!$A$2:$A$8)-1,9^9),9^9),ROW()-ROW($A$9)+1)),"")} | E12: {=IFERROR(INDEX(tableau!$G$2:$G$8,MATCH(D12&$A$9,tableau!$A$2:$A$8&tableau!$F$2:$F$8,0)),0)} -> 0 | F12: {=IFERROR(INDEX(tableau!$A$2:$A$8,SMALL(IF(tableau!$J$2:$J$8=F$2,IF(tableau!$F$2:$F$8=$A$9,ROW(tableau!$A$2:$A$8)-1,9^9),9^9),ROW()-ROW($A$9)+1)),"")} | G12: {=IFERROR(INDEX(tableau!$G$2:$G$8,MATCH(F12&$A$9,tableau!$A$2:$A$8&tableau!$F$2:$F$8,0)),0)} -> 0 | H12: {=IFERROR(INDEX(tableau!$A$2:$A$8,SMALL(IF(tableau!$J$2:$J$8=H$2,IF(tableau!$F$2:$F$8=$A$9,ROW(tableau!$A$2:$A$8)-1,9^9),9^9),ROW()-ROW($A$9)+1)),"")} | I12: {=IFERROR(INDEX(tableau!$G$2:$G$8,MATCH(H12&$A$9,tableau!$A$2:$A$8&tableau!$F$2:$F$8,0)),0)} -> 0
B13: {=IFERROR(INDEX(tableau!$A$2:$A$8,SMALL(IF(tableau!$J$2:$J$8=B$2,IF(tableau!$F$2:$F$8=$A$9,ROW(tableau!$A$2:$A$8)-1,9^9),9^9),ROW()-ROW($A$9)+1)),"")} | C13: {=IFERROR(INDEX(tableau!$G$2:$G$8,MATCH(B13&$A$9,tableau!$A$2:$A$8&tableau!$F$2:$F$8,0)),0)} -> 0 | D13: {=IFERROR(INDEX(tableau!$A$2:$A$8,SMALL(IF(tableau!$J$2:$J$8=D$2,IF(tableau!$F$2:$F$8=$A$9,ROW(tableau!$A$2:$A$8)-1,9^9),9^9),ROW()-ROW($A$9)+1)),"")} | E13: {=IFERROR(INDEX(tableau!$G$2:$G$8,MATCH(D13&$A$9,tableau!$A$2:$A$8&tableau!$F$2:$F$8,0)),0)} -> 0 | F13: {=IFERROR(INDEX(tableau!$A$2:$A$8,SMALL(IF(tableau!$J$2:$J$8=F$2,IF(tableau!$F$2:$F$8=$A$9,ROW(tableau!$A$2:$A$8)-1,9^9),9^9),ROW()-ROW($A$9)+1)),"")} | G13: {=IFERROR(INDEX(tableau!$G$2:$G$8,MATCH(F13&$A$9,tableau!$A$2:$A$8&tableau!$F$2:$F$8,0)),0)} -> 0 | H13: {=IFERROR(INDEX(tableau!$A$2:$A$8,SMALL(IF(tableau!$J$2:$J$8=H$2,IF(tableau!$F$2:$F$8=$A$9,ROW(tableau!$A$2:$A$8)-1,9^9),9^9),ROW()-ROW($A$9)+1)),"")} | I13: {=IFERROR(INDEX(tableau!$G$2:$G$8,MATCH(H13&$A$9,tableau!$A$2:$A$8&tableau!$F$2:$F$8,0)),0)} -> 0
B14: {=IFERROR(INDEX(tableau!$A$2:$A$8,(IF(tableau!$J$2:$J$8=B$2,IF(tableau!$F$2:$F$8=$A14,ROW(tableau!$A$2:$A$8)-1,9^9),9^9))),"")} | D14: {=IFERROR(INDEX(tableau!$A$2:$A$8,(IF(tableau!$J$2:$J$8=D$2,IF(tableau!$F$2:$F$8=$A14,ROW(tableau!$A$2:$A$8)-1,9^9),9^9))),"")} | F14: {=IFERROR(INDEX(tableau!$A$2:$A$8,(IF(tableau!$J$2:$J$8=F$2,IF(tableau!$F$2:$F$8=$A14,ROW(tableau!$A$2:$A$8)-1,9^9),9^9))),"")} | H14: {=IFERROR(INDEX(tableau!$A$2:$A$8,(IF(tableau!$J$2:$J$8=H$2,IF(tableau!$F$2:$F$8=$A14,ROW(tableau!$A$2:$A$8)-1,9^9),9^9))),"")}
A15: Patissier | B15: {=IFERROR(INDEX(tableau!$A$2:$A$8,SMALL(IF(tableau!$J$2:$J$8=B$2,IF(tableau!$F$2:$F$8=$A$15,ROW(tableau!$A$2:$A$8)-1,9^9),9^9),ROW()-ROW($A$15)+1)),"")} | C15: {=IFERROR(INDEX(tableau!$G$2:$G$8,MATCH(B15&$A$15,tableau!$A$2:$A$8&tableau!$F$2:$F$8,0)),0)} -> 0 | D15: {=IFERROR(INDEX(tableau!$A$2:$A$8,SMALL(IF(tableau!$J$2:$J$8=D$2,IF(tableau!$F$2:$F$8=$A$15,ROW(tableau!$A$2:$A$8)-1,9^9),9^9),ROW()-ROW($A$15)+1)),"")} | E15: {=IFERROR(INDEX(tableau!$G$2:$G$8,MATCH(D15&$A$15,tableau!$A$2:$A$8&tableau!$F$2:$F$8,0)),0)} -> 0 | F15: {=IFERROR(INDEX(tableau!$A$2:$A$8,SMALL(IF(tableau!$J$2:$J$8=F$2,IF(tableau!$F$2:$F$8=$A$15,ROW(tableau!$A$2:$A$8)-1,9^9),9^9),ROW()-ROW($A$15)+1)),"")} -> Francois | G15: {=IFERROR(INDEX(tableau!$G$2:$G$8,MATCH(F15&$A$15,tableau!$A$2:$A$8&tableau!$F$2:$F$8,0)),0)} -> 80 | H15: {=IFERROR(INDEX(tableau!$A$2:$A$8,SMALL(IF(tableau!$J$2:$J$8=H$2,IF(tableau!$F$2:$F$8=$A$15,ROW(tableau!$A$2:$A$8)-1,9^9),9^9),ROW()-ROW($A$15)+1)),"")} -> Tartapion | I15: {=IFERROR(INDEX(tableau!$G$2:$G$8,MATCH(H15&$A$15,tableau!$A$2:$A$8&tableau!$F$2:$F$8,0)),0)} -> 100
B16: {=IFERROR(INDEX(tableau!$A$2:$A$8,SMALL(IF(tableau!$J$2:$J$8=B$2,IF(tableau!$F$2:$F$8=$A$15,ROW(tableau!$A$2:$A$8)-1,9^9),9^9),ROW()-ROW($A$15)+1)),"")} | C16: {=IFERROR(INDEX(tableau!$G$2:$G$8,MATCH(B16&$A$15,tableau!$A$2:$A$8&tableau!$F$2:$F$8,0)),0)} -> 0 | D16: {=IFERROR(INDEX(tableau!$A$2:$A$8,SMALL(IF(tableau!$J$2:$J$8=D$2,IF(tableau!$F$2:$F$8=$A$15,ROW(tableau!$A$2:$A$8)-1,9^9),9^9),ROW()-ROW($A$15)+1)),"")} | E16: {=IFERROR(INDEX(tableau!$G$2:$G$8,MATCH(D16&$A$15,tableau!$A$2:$A$8&tableau!$F$2:$F$8,0)),0)} -> 0 | F16: {=IFERROR(INDEX(tableau!$A$2:$A$8,SMALL(IF(tableau!$J$2:$J$8=F$2,IF(tableau!$F$2:$F$8=$A$15,ROW(tableau!$A$2:$A$8)-1,9^9),9^9),ROW()-ROW($A$15)+1)),"")} | G16: {=IFERROR(INDEX(tableau!$G$2:$G$8,MATCH(F16&$A$15,tableau!$A$2:$A$8&tableau!$F$2:$F$8,0)),0)} -> 0 | H16: {=IFERROR(INDEX(tableau!$A$2:$A$8,SMALL(IF(tableau!$J$2:$J$8=H$2,IF(tableau!$F$2:$F$8=$A$15,ROW(tableau!$A$2:$A$8)-1,9^9),9^9),ROW()-ROW($A$15)+1)),"")} | I16: {=IFERROR(INDEX(tableau!$G$2:$G$8,MATCH(H16&$A$15,tableau!$A$2:$A$8&tableau!$F$2:$F$8,0)),0)} -> 0
B17: {=IFERROR(INDEX(tableau!$A$2:$A$8,SMALL(IF(tableau!$J$2:$J$8=B$2,IF(tableau!$F$2:$F$8=$A$15,ROW(tableau!$A$2:$A$8)-1,9^9),9^9),ROW()-ROW($A$15)+1)),"")} | C17: {=IFERROR(INDEX(tableau!$G$2:$G$8,MATCH(B17&$A$15,tableau!$A$2:$A$8&tableau!$F$2:$F$8,0)),0)} -> 0 | D17: {=IFERROR(INDEX(tableau!$A$2:$A$8,SMALL(IF(tableau!$J$2:$J$8=D$2,IF(tableau!$F$2:$F$8=$A$15,ROW(tableau!$A$2:$A$8)-1,9^9),9^9),ROW()-ROW($A$15)+1)),"")} | E17: {=IFERROR(INDEX(tableau!$G$2:$G$8,MATCH(D17&$A$15,tableau!$A$2:$A$8&tableau!$F$2:$F$8,0)),0)} -> 0 | F17: {=IFERROR(INDEX(tableau!$A$2:$A$8,SMALL(IF(tableau!$J$2:$J$8=F$2,IF(tableau!$F$2:$F$8=$A$15,ROW(tableau!$A$2:$A$8)-1,9^9),9^9),ROW()-ROW($A$15)+1)),"")} | G17: {=IFERROR(INDEX(tableau!$G$2:$G$8,MATCH(F17&$A$15,tableau!$A$2:$A$8&tableau!$F$2:$F$8,0)),0)} -> 0 | H17: {=IFERROR(INDEX(tableau!$A$2:$A$8,SMALL(IF(tableau!$J$2:$J$8=H$2,IF(tableau!$F$2:$F$8=$A$15,ROW(tableau!$A$2:$A$8)-1,9^9),9^9),ROW()-ROW($A$15)+1)),"")} | I17: {=IFERROR(INDEX(tableau!$G$2:$G$8,MATCH(H17&$A$15,tableau!$A$2:$A$8&tableau!$F$2:$F$8,0)),0)} -> 0
B18: {=IFERROR(INDEX(tableau!$A$2:$A$8,SMALL(IF(tableau!$J$2:$J$8=B$2,IF(tableau!$F$2:$F$8=$A$15,ROW(tableau!$A$2:$A$8)-1,9^9),9^9),ROW()-ROW($A$15)+1)),"")} | C18: {=IFERROR(INDEX(tableau!$G$2:$G$8,MATCH(B18&$A$15,tableau!$A$2:$A$8&tableau!$F$2:$F$8,0)),0)} -> 0 | D18: {=IFERROR(INDEX(tableau!$A$2:$A$8,SMALL(IF(tableau!$J$2:$J$8=D$2,IF(tableau!$F$2:$F$8=$A$15,ROW(tableau!$A$2:$A$8)-1,9^9),9^9),ROW()-ROW($A$15)+1)),"")} | E18: {=IFERROR(INDEX(tableau!$G$2:$G$8,MATCH(D18&$A$15,tableau!$A$2:$A$8&tableau!$F$2:$F$8,0)),0)} -> 0 | F18: {=IFERROR(INDEX(tableau!$A$2:$A$8,SMALL(IF(tableau!$J$2:$J$8=F$2,IF(tableau!$F$2:$F$8=$A$15,ROW(tableau!$A$2:$A$8)-1,9^9),9^9),ROW()-ROW($A$15)+1)),"")} | G18: {=IFERROR(INDEX(tableau!$G$2:$G$8,MATCH(F18&$A$15,tableau!$A$2:$A$8&tableau!$F$2:$F$8,0)),0)} -> 0 | H18: {=IFERROR(INDEX(tableau!$A$2:$A$8,SMALL(IF(tableau!$J$2:$J$8=H$2,IF(tableau!$F$2:$F$8=$A$15,ROW(tableau!$A$2:$A$8)-1,9^9),9^9),ROW()-ROW($A$15)+1)),"")} | I18: {=IFERROR(INDEX(tableau!$G$2:$G$8,MATCH(H18&$A$15,tableau!$A$2:$A$8&tableau!$F$2:$F$8,0)),0)} -> 0
B19: {=IFERROR(INDEX(tableau!$A$2:$A$8,SMALL(IF(tableau!$J$2:$J$8=B$2,IF(tableau!$F$2:$F$8=$A$15,ROW(tableau!$A$2:$A$8)-1,9^9),9^9),ROW()-ROW($A$15)+1)),"")} | C19: {=IFERROR(INDEX(tableau!$G$2:$G$8,MATCH(B19&$A$15,tableau!$A$2:$A$8&tableau!$F$2:$F$8,0)),0)} -> 0 | D19: {=IFERROR(INDEX(tableau!$A$2:$A$8,SMALL(IF(tableau!$J$2:$J$8=D$2,IF(tableau!$F$2:$F$8=$A$15,ROW(tableau!$A$2:$A$8)-1,9^9),9^9),ROW()-ROW($A$15)+1)),"")} | E19: {=IFERROR(INDEX(tableau!$G$2:$G$8,MATCH(D19&$A$15,tableau!$A$2:$A$8&tableau!$F$2:$F$8,0)),0)} -> 0 | F19: {=IFERROR(INDEX(tableau!$A$2:$A$8,SMALL(IF(tableau!$J$2:$J$8=F$2,IF(tableau!$F$2:$F$8=$A$15,ROW(tableau!$A$2:$A$8)-1,9^9),9^9),ROW()-ROW($A$15)+1)),"")} | G19: {=IFERROR(INDEX(tableau!$G$2:$G$8,MATCH(F19&$A$15,tableau!$A$2:$A$8&tableau!$F$2:$F$8,0)),0)} -> 0 | H19: {=IFERROR(INDEX(tableau!$A$2:$A$8,SMALL(IF(tableau!$J$2:$J$8=H$2,IF(tableau!$F$2:$F$8=$A$15,ROW(tableau!$A$2:$A$8)-1,9^9),9^9),ROW()-ROW($A$15)+1)),"")} | I19: {=IFERROR(INDEX(tableau!$G$2:$G$8,MATCH(H19&$A$15,tableau!$A$2:$A$8&tableau!$F$2:$F$8,0)),0)} -> 0

Sheet version TCD
A3: Somme de Montant | C3: Date de paiement
A4: Fournisseur | B4: Nom | C4: S38 | D4: S39 | E4: S40 | F4: Total général
A5: Boucher | B5: Dumon | C5: 3099 | F5: 3099
B6: Dupon | E6: 80 | F6: 80
B7: Pascal | D7: 120 | F7: 120
A8: Total Boucher | C8: 3099 | D8: 120 | E8: 80 | F8: 3299
A9: Boulanger | B9: Arthur | E9: 40 | F9: 40
B10: Martin | C10: 200 | F10: 200
A11: Total Boulanger | C11: 200 | E11: 40 | F11: 240
A12: Patissier | B12: Francois | C12: 80 | F12: 80
B13: Tartapion | D13: 100 | F13: 100
A14: Total Patissier | C14: 80 | D14: 100 | F14: 180
A15: Total général | C15: 3379 | D15: 220 | E15: 120 | F15: 3719
