Workbook

Sheet Calcul
B1: Code direction | C1: 65411000 | D1: 65412000 | E1: 65421000 | F1: 65431000
A2: 2 | B2: A0 | C2: {=SUMPRODUCT( OFFSET('Valeur inducteurs'!$B$2:$J$2,MATCH($B2,'Valeur inducteurs'!$A$3:$A$18,0),), TRANSPOSE(OFFSET(Data!$A$2:$A$10,,MATCH(C$1,Data!$B$1:$E$1,0))))} -> 2000 | D2: {=SUMPRODUCT( OFFSET('Valeur inducteurs'!$B$2:$J$2,MATCH($B2,'Valeur inducteurs'!$A$3:$A$18,0),), TRANSPOSE(OFFSET(Data!$A$2:$A$10,,MATCH(D$1,Data!$B$1:$E$1,0))))} -> 0 | E2: {=SUMPRODUCT( OFFSET('Valeur inducteurs'!$B$2:$J$2,MATCH($B2,'Valeur inducteurs'!$A$3:$A$18,0),), TRANSPOSE(OFFSET(Data!$A$2:$A$10,,MATCH(E$1,Data!$B$1:$E$1,0))))} -> 9380.86 | F2: {=SUMPRODUCT( OFFSET('Valeur inducteurs'!$B$2:$J$2,MATCH($B2,'Valeur inducteurs'!$A$3:$A$18,0),), TRANSPOSE(OFFSET(Data!$A$2:$A$10,,MATCH(F$1,Data!$B$1:$E$1,0))))} -> 0
A3: 3 | B3: B0 | C3: {=SUMPRODUCT( OFFSET('Valeur inducteurs'!$B$2:$J$2,MATCH($B3,'Valeur inducteurs'!$A$3:$A$18,0),), TRANSPOSE(OFFSET(Data!$A$2:$A$10,,MATCH(C$1,Data!$B$1:$E$1,0))))} -> 0 | D3: {=SUMPRODUCT( OFFSET('Valeur inducteurs'!$B$2:$J$2,MATCH($B3,'Valeur inducteurs'!$A$3:$A$18,0),), TRANSPOSE(OFFSET(Data!$A$2:$A$10,,MATCH(D$1,Data!$B$1:$E$1,0))))} -> 0 | E3: {=SUMPRODUCT( OFFSET('Valeur inducteurs'!$B$2:$J$2,MATCH($B3,'Valeur inducteurs'!$A$3:$A$18,0),), TRANSPOSE(OFFSET(Data!$A$2:$A$10,,MATCH(E$1,Data!$B$1:$E$1,0))))} -> 0 | F3: {=SUMPRODUCT( OFFSET('Valeur inducteurs'!$B$2:$J$2,MATCH($B3,'Valeur inducteurs'!$A$3:$A$18,0),), TRANSPOSE(OFFSET(Data!$A$2:$A$10,,MATCH(F$1,Data!$B$1:$E$1,0))))} -> 0
A4: 4 | B4: C0 | C4: {=SUMPRODUCT( OFFSET('Valeur inducteurs'!$B$2:$J$2,MATCH($B4,'Valeur inducteurs'!$A$3:$A$18,0),), TRANSPOSE(OFFSET(Data!$A$2:$A$10,,MATCH(C$1,Data!$B$1:$E$1,0))))} -> 8550.585 | D4: {=SUMPRODUCT( OFFSET('Valeur inducteurs'!$B$2:$J$2,MATCH($B4,'Valeur inducteurs'!$A$3:$A$18,0),), TRANSPOSE(OFFSET(Data!$A$2:$A$10,,MATCH(D$1,Data!$B$1:$E$1,0))))} -> 38800 | E4: {=SUMPRODUCT( OFFSET('Valeur inducteurs'!$B$2:$J$2,MATCH($B4,'Valeur inducteurs'!$A$3:$A$18,0),), TRANSPOSE(OFFSET(Data!$A$2:$A$10,,MATCH(E$1,Data!$B$1:$E$1,0))))} -> 96234.245 | F4: {=SUMPRODUCT( OFFSET('Valeur inducteurs'!$B$2:$J$2,MATCH($B4,'Valeur inducteurs'!$A$3:$A$18,0),), TRANSPOSE(OFFSET(Data!$A$2:$A$10,,MATCH(F$1,Data!$B$1:$E$1,0))))} -> 10272.5
A5: 5 | B5: D0 | C5: {=SUMPRODUCT( OFFSET('Valeur inducteurs'!$B$2:$J$2,MATCH($B5,'Valeur inducteurs'!$A$3:$A$18,0),), TRANSPOSE(OFFSET(Data!$A$2:$A$10,,MATCH(C$1,Data!$B$1:$E$1,0))))} -> 0 | D5: {=SUMPRODUCT( OFFSET('Valeur inducteurs'!$B$2:$J$2,MATCH($B5,'Valeur inducteurs'!$A$3:$A$18,0),), TRANSPOSE(OFFSET(Data!$A$2:$A$10,,MATCH(D$1,Data!$B$1:$E$1,0))))} -> 0 | E5: {=SUMPRODUCT( OFFSET('Valeur inducteurs'!$B$2:$J$2,MATCH($B5,'Valeur inducteurs'!$A$3:$A$18,0),), TRANSPOSE(OFFSET(Data!$A$2:$A$10,,MATCH(E$1,Data!$B$1:$E$1,0))))} -> 0 | F5: {=SUMPRODUCT( OFFSET('Valeur inducteurs'!$B$2:$J$2,MATCH($B5,'Valeur inducteurs'!$A$3:$A$18,0),), TRANSPOSE(OFFSET(Data!$A$2:$A$10,,MATCH(F$1,Data!$B$1:$E$1,0))))} -> 0
A6: 6 | B6: E0 | C6: {=SUMPRODUCT( OFFSET('Valeur inducteurs'!$B$2:$J$2,MATCH($B6,'Valeur inducteurs'!$A$3:$A$18,0),), TRANSPOSE(OFFSET(Data!$A$2:$A$10,,MATCH(C$1,Data!$B$1:$E$1,0))))} -> 8250.585 | D6: {=SUMPRODUCT( OFFSET('Valeur inducteurs'!$B$2:$J$2,MATCH($B6,'Valeur inducteurs'!$A$3:$A$18,0),), TRANSPOSE(OFFSET(Data!$A$2:$A$10,,MATCH(D$1,Data!$B$1:$E$1,0))))} -> 29100 | E6: {=SUMPRODUCT( OFFSET('Valeur inducteurs'!$B$2:$J$2,MATCH($B6,'Valeur inducteurs'!$A$3:$A$18,0),), TRANSPOSE(OFFSET(Data!$A$2:$A$10,,MATCH(E$1,Data!$B$1:$E$1,0))))} -> 92734.245 | F6: {=SUMPRODUCT( OFFSET('Valeur inducteurs'!$B$2:$J$2,MATCH($B6,'Valeur inducteurs'!$A$3:$A$18,0),), TRANSPOSE(OFFSET(Data!$A$2:$A$10,,MATCH(F$1,Data!$B$1:$E$1,0))))} -> 7932.5
A7: 7 | B7: G0 | C7: {=SUMPRODUCT( OFFSET('Valeur inducteurs'!$B$2:$J$2,MATCH($B7,'Valeur inducteurs'!$A$3:$A$18,0),), TRANSPOSE(OFFSET(Data!$A$2:$A$10,,MATCH(C$1,Data!$B$1:$E$1,0))))} -> 0 | D7: {=SUMPRODUCT( OFFSET('Valeur inducteurs'!$B$2:$J$2,MATCH($B7,'Valeur inducteurs'!$A$3:$A$18,0),), TRANSPOSE(OFFSET(Data!$A$2:$A$10,,MATCH(D$1,Data!$B$1:$E$1,0))))} -> 0 | E7: {=SUMPRODUCT( OFFSET('Valeur inducteurs'!$B$2:$J$2,MATCH($B7,'Valeur inducteurs'!$A$3:$A$18,0),), TRANSPOSE(OFFSET(Data!$A$2:$A$10,,MATCH(E$1,Data!$B$1:$E$1,0))))} -> 0 | F7: {=SUMPRODUCT( OFFSET('Valeur inducteurs'!$B$2:$J$2,MATCH($B7,'Valeur inducteurs'!$A$3:$A$18,0),), TRANSPOSE(OFFSET(Data!$A$2:$A$10,,MATCH(F$1,Data!$B$1:$E$1,0))))} -> 0
A8: 8 | B8: H0 | C8: {=SUMPRODUCT( OFFSET('Valeur inducteurs'!$B$2:$J$2,MATCH($B8,'Valeur inducteurs'!$A$3:$A$18,0),), TRANSPOSE(OFFSET(Data!$A$2:$A$10,,MATCH(C$1,Data!$B$1:$E$1,0))))} -> 0 | D8: {=SUMPRODUCT( OFFSET('Valeur inducteurs'!$B$2:$J$2,MATCH($B8,'Valeur inducteurs'!$A$3:$A$18,0),), TRANSPOSE(OFFSET(Data!$A$2:$A$10,,MATCH(D$1,Data!$B$1:$E$1,0))))} -> 0 | E8: {=SUMPRODUCT( OFFSET('Valeur inducteurs'!$B$2:$J$2,MATCH($B8,'Valeur inducteurs'!$A$3:$A$18,0),), TRANSPOSE(OFFSET(Data!$A$2:$A$10,,MATCH(E$1,Data!$B$1:$E$1,0))))} -> 0 | F8: {=SUMPRODUCT( OFFSET('Valeur inducteurs'!$B$2:$J$2,MATCH($B8,'Valeur inducteurs'!$A$3:$A$18,0),), TRANSPOSE(OFFSET(Data!$A$2:$A$10,,MATCH(F$1,Data!$B$1:$E$1,0))))} -> 0
A9: 9 | B9: J0 | C9: {=SUMPRODUCT( OFFSET('Valeur inducteurs'!$B$2:$J$2,MATCH($B9,'Valeur inducteurs'!$A$3:$A$18,0),), TRANSPOSE(OFFSET(Data!$A$2:$A$10,,MATCH(C$1,Data!$B$1:$E$1,0))))} -> 0 | D9: {=SUMPRODUCT( OFFSET('Valeur inducteurs'!$B$2:$J$2,MATCH($B9,'Valeur inducteurs'!$A$3:$A$18,0),), TRANSPOSE(OFFSET(Data!$A$2:$A$10,,MATCH(D$1,Data!$B$1:$E$1,0))))} -> 0 | E9: {=SUMPRODUCT( OFFSET('Valeur inducteurs'!$B$2:$J$2,MATCH($B9,'Valeur inducteurs'!$A$3:$A$18,0),), TRANSPOSE(OFFSET(Data!$A$2:$A$10,,MATCH(E$1,Data!$B$1:$E$1,0))))} -> 0 | F9: {=SUMPRODUCT( OFFSET('Valeur inducteurs'!$B$2:$J$2,MATCH($B9,'Valeur inducteurs'!$A$3:$A$18,0),), TRANSPOSE(OFFSET(Data!$A$2:$A$10,,MATCH(F$1,Data!$B$1:$E$1,0))))} -> 0
A10: 10 | B10: K0 | C10: {=SUMPRODUCT( OFFSET('Valeur inducteurs'!$B$2:$J$2,MATCH($B10,'Valeur inducteurs'!$A$3:$A$18,0),), TRANSPOSE(OFFSET(Data!$A$2:$A$10,,MATCH(C$1,Data!$B$1:$E$1,0))))} -> 900 | D10: {=SUMPRODUCT( OFFSET('Valeur inducteurs'!$B$2:$J$2,MATCH($B10,'Valeur inducteurs'!$A$3:$A$18,0),), TRANSPOSE(OFFSET(Data!$A$2:$A$10,,MATCH(D$1,Data!$B$1:$E$1,0))))} -> 29100 | E10: {=SUMPRODUCT( OFFSET('Valeur inducteurs'!$B$2:$J$2,MATCH($B10,'Valeur inducteurs'!$A$3:$A$18,0),), TRANSPOSE(OFFSET(Data!$A$2:$A$10,,MATCH(E$1,Data!$B$1:$E$1,0))))} -> 10500 | F10: {=SUMPRODUCT( OFFSET('Valeur inducteurs'!$B$2:$J$2,MATCH($B10,'Valeur inducteurs'!$A$3:$A$18,0),), TRANSPOSE(OFFSET(Data!$A$2:$A$10,,MATCH(F$1,Data!$B$1:$E$1,0))))} -> 7020
A11: 11 | B11: L0 | C11: {=SUMPRODUCT( OFFSET('Valeur inducteurs'!$B$2:$J$2,MATCH($B11,'Valeur inducteurs'!$A$3:$A$18,0),), TRANSPOSE(OFFSET(Data!$A$2:$A$10,,MATCH(C$1,Data!$B$1:$E$1,0))))} -> 0 | D11: {=SUMPRODUCT( OFFSET('Valeur inducteurs'!$B$2:$J$2,MATCH($B11,'Valeur inducteurs'!$A$3:$A$18,0),), TRANSPOSE(OFFSET(Data!$A$2:$A$10,,MATCH(D$1,Data!$B$1:$E$1,0))))} -> 0 | E11: {=SUMPRODUCT( OFFSET('Valeur inducteurs'!$B$2:$J$2,MATCH($B11,'Valeur inducteurs'!$A$3:$A$18,0),), TRANSPOSE(OFFSET(Data!$A$2:$A$10,,MATCH(E$1,Data!$B$1:$E$1,0))))} -> 0 | F11: {=SUMPRODUCT( OFFSET('Valeur inducteurs'!$B$2:$J$2,MATCH($B11,'Valeur inducteurs'!$A$3:$A$18,0),), TRANSPOSE(OFFSET(Data!$A$2:$A$10,,MATCH(F$1,Data!$B$1:$E$1,0))))} -> 0
A12: 12 | B12: R0 | C12: {=SUMPRODUCT( OFFSET('Valeur inducteurs'!$B$2:$J$2,MATCH($B12,'Valeur inducteurs'!$A$3:$A$18,0),), TRANSPOSE(OFFSET(Data!$A$2:$A$10,,MATCH(C$1,Data!$B$1:$E$1,0))))} -> 0 | D12: {=SUMPRODUCT( OFFSET('Valeur inducteurs'!$B$2:$J$2,MATCH($B12,'Valeur inducteurs'!$A$3:$A$18,0),), TRANSPOSE(OFFSET(Data!$A$2:$A$10,,MATCH(D$1,Data!$B$1:$E$1,0))))} -> 0 | E12: {=SUMPRODUCT( OFFSET('Valeur inducteurs'!$B$2:$J$2,MATCH($B12,'Valeur inducteurs'!$A$3:$A$18,0),), TRANSPOSE(OFFSET(Data!$A$2:$A$10,,MATCH(E$1,Data!$B$1:$E$1,0))))} -> 0 | F12: {=SUMPRODUCT( OFFSET('Valeur inducteurs'!$B$2:$J$2,MATCH($B12,'Valeur inducteurs'!$A$3:$A$18,0),), TRANSPOSE(OFFSET(Data!$A$2:$A$10,,MATCH(F$1,Data!$B$1:$E$1,0))))} -> 0
A13: 13 | B13: N0 | C13: {=SUMPRODUCT( OFFSET('Valeur inducteurs'!$B$2:$J$2,MATCH($B13,'Valeur inducteurs'!$A$3:$A$18,0),), TRANSPOSE(OFFSET(Data!$A$2:$A$10,,MATCH(C$1,Data!$B$1:$E$1,0))))} -> 0 | D13: {=SUMPRODUCT( OFFSET('Valeur inducteurs'!$B$2:$J$2,MATCH($B13,'Valeur inducteurs'!$A$3:$A$18,0),), TRANSPOSE(OFFSET(Data!$A$2:$A$10,,MATCH(D$1,Data!$B$1:$E$1,0))))} -> 0 | E13: {=SUMPRODUCT( OFFSET('Valeur inducteurs'!$B$2:$J$2,MATCH($B13,'Valeur inducteurs'!$A$3:$A$18,0),), TRANSPOSE(OFFSET(Data!$A$2:$A$10,,MATCH(E$1,Data!$B$1:$E$1,0))))} -> 0 | F13: {=SUMPRODUCT( OFFSET('Valeur inducteurs'!$B$2:$J$2,MATCH($B13,'Valeur inducteurs'!$A$3:$A$18,0),), TRANSPOSE(OFFSET(Data!$A$2:$A$10,,MATCH(F$1,Data!$B$1:$E$1,0))))} -> 0
... A17: 17 | B17: V0 | C17: {=SUMPRODUCT( OFFSET('Valeur inducteurs'!$B$2:$J$2,MATCH($B17,'Valeur inducteurs'!$A$3:$A$18,0),), TRANSPOSE(OFFSET(Data!$A$2:$A$10,,MATCH(C$1,Data!$B$1:$E$1,0))))} -> 0 | D17: {=SUMPRODUCT( OFFSET('Valeur inducteurs'!$B$2:$J$2,MATCH($B17,'Valeur inducteurs'!$A$3:$A$18,0),), TRANSPOSE(OFFSET(Data!$A$2:$A$10,,MATCH(D$1,Data!$B$1:$E$1,0))))} -> 0 | E17: {=SUMPRODUCT( OFFSET('Valeur inducteurs'!$B$2:$J$2,MATCH($B17,'Valeur inducteurs'!$A$3:$A$18,0),), TRANSPOSE(OFFSET(Data!$A$2:$A$10,,MATCH(E$1,Data!$B$1:$E$1,0))))} -> 0 | F17: {=SUMPRODUCT( OFFSET('Valeur inducteurs'!$B$2:$J$2,MATCH($B17,'Valeur inducteurs'!$A$3:$A$18,0),), TRANSPOSE(OFFSET(Data!$A$2:$A$10,,MATCH(F$1,Data!$B$1:$E$1,0))))} -> 0

Sheet Data
B1: 65411000 | C1: 65412000 | D1: 65421000 | E1: 65431000
A2: Inducteur 1 | B2: 2000 | D2: 9380.86
A3: Inducteur 2 | B3: 9000 | D3: 27000
A4: Inducteur 3 | C4: 47000
A5: Inducteur 4
A6: Inducteur 5 | B6: 1701.17 | D6: 84068.49 | E6: 1825
A7: Inducteur 6 | B7: 3000 | D7: 35000
A8: Inducteur 7
A9: Inducteur 8 | B9: 4000 | D9: 53400
A10: Inducteur 9 | C10: 50000 | E10: 23400

Sheet Valeur inducteurs
B2: Inducteur 1 | C2: Inducteur 2 | D2: Inducteur 3 | E2: Inducteur 4 | F2: Inducteur 5 | G2: Inducteur 6 | H2: Inducteur 7 | I2: Inducteur 8 | J2: Inducteur 9
A3: A0 | B3: 1 | E3: 1 | H3: 1
A4: B0
A5: C0 | C5: 0.5 | D5: 0.4 | F5: 0.5 | G5: 0.4 | I5: 0.5 | J5: 0.4
A6: D0
A7: E0 | C7: 0.5 | D7: 0.3 | F7: 0.5 | G7: 0.3 | I7: 0.5 | J7: 0.3
A8: G0
A9: H0
A10: J0
A11: K0 | D11: 0.3 | G11: 0.3 | J11: 0.3
A12: L0
A13: R0
A14: N0
A15: S0
A16: I0
A17: U0
A18: V0
